{"text_format":"1","workbook":"xlsx","n_sheets":22,"sheets":["Home","Players","Fixture","Table","Weekly","Cup","Predictions","Diary","Match","Picks","Results","3of3","TopPicks","Images","PizzaRace","CupDraw","Prizelist","Prizes","Odds","Perms","FAQ","Sample"],"not_rendered":{"charts":0,"images":7,"macros":1,"external_links":0,"defined_names":42,"comments":3,"pivot_tables":3},"unopened":[],"bounds":{"document_bytes":16777216,"sheet_cells":100000,"rows_first":2000,"rows_last":500,"rows_between":2000,"halvings":0,"cell_chars":16384,"cell_head_chars":4096},"cells_cut":0,"cells_raw":0,"read":"whole","date_system":"1900"}

{"sheet":"Home","index":0,"n_rows":8,"n_cols":5,"rows_kept":8,"cut":false,"hidden":false,"merged":[]}
[null,"Click the top left cell in any tab to return Home"]
[null,"Weekly Reports","Useful Info","Admin (Weekly)","Admin (Other)"]
[null,"League Table","Pics for Publication","Add Matches","Calculations"]
[null,"Weekly Results","Prizes - Summary","Add Predictions","Entrants"]
[null,"Cup Draw","Prizes - Divisional Splits","Add Predictions (double-week)","Last Season Places"]
[null,"Season Diary","FAQ","1-2-3 Pivot","Brought Forward"]
[null,"Current Week Fixtures","Sample Bets","Top Picks","End of Season Finance"]
[null,"Current Week Predictions",null,"Cup Draw Raw","Mini Leagues "]

{"sheet":"Players","index":1,"n_rows":65,"n_cols":9,"rows_kept":65,"cut":false,"hidden":false,"merged":[]}
["Prev/Final\nPos","Prev/Final\nDiv","Players","Resigned?","Next\nDiv","Closing \nBalance"]
[1,"A","Kevin Carter","N","A",null,null,"Row Labels","Count of Players"]
[2,"A","Mark Saunders","N","A",null,null,"A",16]
[3,"A","Alick Rocca","N","A",null,null,"B",16]
[4,"A","Alfie Davies","N","A",null,null,"C",16]
[5,"A","Steve Carter","N","A",null,null,"D",14]
[6,"A","Mo Sudell","N","A",null,null,"E",2]
[7,"A","Stephen Troop","N","A",null,null,"(blank)"]
[8,"A","Paul Fiddler","N","A",null,null,"Grand Total",64]
[9,"A","Stephen Barr","N","A"]
[10,"A","Lennie Bow","N","A"]
[1,"B","Mike Penk","N","A"]
[2,"B","Alan Rogers","N","A"]
[3,"B","Oscar Jackson","N","A"]
[4,"B","Gerard Ventom","N","A"]
[5,"B","Rob England","N","A"]
[6,"B","Chris Luck","N","A"]
[11,"A","Steve Baxter","N","B"]
[12,"A","Andy White","N","B"]
[13,"A","Tom Robinson","N","B"]
[15,"A","Phil Miller","N","B"]
[16,"A","Gareth Powell","N","B"]
[7,"B","Barry Birchall","N","B"]
[8,"B","Nigel Heyes","N","B"]
[9,"B","Pete Baron","N","B"]
[1,"C","Dave Bell","N","B"]
[2,"C","John Evans","N","B"]
[3,"C","Paul Allen","N","B"]
[4,"C","Kei Lok Ma","N","B"]
[5,"C","Vinny Topping","N","B"]
[6,"C","Mark Bunn","N","B"]
[7,"C","James Bell","N","B"]
[8,"C","Martin Molyneux","N","B"]
[10,"B","Andy Charleston","N","C"]
[11,"B","Gareth Fallows","N","C"]
[12,"B","Chris Townsend","N","C"]
[13,"B","Paul Fairhurst","N","C"]
[14,"B","Paul Ridgeway","N","C"]
[15,"B","David Dunn","N","C"]
[16,"B","Mal Stott","N","C"]
[9,"C","Chris Griffin","N","C"]
[10,"C","Ian Davies","N","C"]
[1,"D","Sally Williams","N","C"]
[2,"D","Gareth McGuire","N","C"]
[3,"D","Charlie Griffiths","N","C"]
[5,"D","Alan White","N","C"]
[6,"D","Liam Wah","N","C"]
[7,"D","Chris Bow","N","C"]
[8,"D","Jack Walsh","N","C"]
[11,"C","Joel Bent","N","D"]
[12,"C","Ashley Houghton","N","D"]
[13,"C","Dave Orrell","N","D"]
[14,"C","Graham Miller","N","D"]
[15,"C","Nick Blocksidge","N","D"]
[16,"C","Howard Bradley","N","D"]
[9,"D","Simon Greenhalgh","N","D"]
[10,"D","John Ronan","N","D"]
[11,"D","Ben Rosser","N","D"]
[12,"D","Martin Tarbuck","N","D"]
[13,"D","Paul Adderley","N","D"]
[14,"D","Dan Baxter","N","D"]
[15,"D","Lewis Buckley","N","D"]
[16,"D","Paul Barnes","N","D"]
[14,"A","Ste Bentley","Y","E"]
[4,"D","Sophie Bentley","Y","E"]

{"sheet":"Fixture","index":2,"n_rows":47,"n_cols":4,"rows_kept":47,"cut":false,"hidden":false,"merged":[]}
["Date","Competition","Odds","Result"]
[{"$f":"IF(Match!A2=\"\",\"\",Match!A2)","v":"2020-09-18"},{"$f":"IF(Match!C2=\"\",\"\",Match!C2)","v":"Champ"},{"$f":"IF(Match!S2=\"\",\"\",Match!S2)","v":"Coventry  v  QPR   6/4  9/4  19/10"},{"$f":"IF(Match!T2=\"\",\"\",Match!T2)","v":"Coventry 3-2 QPR "}]
[{"$f":"IF(Match!A3=\"\",\"\",Match!A3)","v":"2020-09-19"},{"$f":"IF(Match!C3=\"\",\"\",Match!C3)","v":"Premier"},{"$f":"IF(Match!S3=\"\",\"\",Match!S3)","v":"Arsenal  v  West Ham   1/2  17/5  5/1"},{"$f":"IF(Match!T3=\"\",\"\",Match!T3)","v":"Arsenal 2-1 West Ham "}]
[{"$f":"IF(Match!A4=\"\",\"\",Match!A4)","v":"2020-09-19"},{"$f":"IF(Match!C4=\"\",\"\",Match!C4)","v":"Premier"},{"$f":"IF(Match!S4=\"\",\"\",Match!S4)","v":"Everton  v  West Brom   11/20  16/5  5/1"},{"$f":"IF(Match!T4=\"\",\"\",Match!T4)","v":"Everton 5-2 West Brom "}]
[{"$f":"IF(Match!A5=\"\",\"\",Match!A5)","v":"2020-09-19"},{"$f":"IF(Match!C5=\"\",\"\",Match!C5)","v":"Premier"},{"$f":"IF(Match!S5=\"\",\"\",Match!S5)","v":"Leeds  v  Fulham   8/13  3/1  9/2"},{"$f":"IF(Match!T5=\"\",\"\",Match!T5)","v":"Leeds 4-3 Fulham "}]
[{"$f":"IF(Match!A6=\"\",\"\",Match!A6)","v":"2020-09-19"},{"$f":"IF(Match!C6=\"\",\"\",Match!C6)","v":"Premier"},{"$f":"IF(Match!S6=\"\",\"\",Match!S6)","v":"Man U  v  Palace   2/7  9/2  10/1"},{"$f":"IF(Match!T6=\"\",\"\",Match!T6)","v":"Man U 1-3 Palace "}]
[{"$f":"IF(Match!A7=\"\",\"\",Match!A7)","v":"2020-09-19"},{"$f":"IF(Match!C7=\"\",\"\",Match!C7)","v":"Champ"},{"$f":"IF(Match!S7=\"\",\"\",Match!S7)","v":"Blackburn  v  Wycombe   4/7  3/1  5/1"},{"$f":"IF(Match!T7=\"\",\"\",Match!T7)","v":"Blackburn 5-0 Wycombe "}]
[{"$f":"IF(Match!A8=\"\",\"\",Match!A8)","v":"2020-09-19"},{"$f":"IF(Match!C8=\"\",\"\",Match!C8)","v":"Champ"},{"$f":"IF(Match!S8=\"\",\"\",Match!S8)","v":"Brentford  v  Huddersfield   11/20  14/5  6/1"},{"$f":"IF(Match!T8=\"\",\"\",Match!T8)","v":"Brentford 3-0 Huddersfield "}]
[{"$f":"IF(Match!A9=\"\",\"\",Match!A9)","v":"2020-09-19"},{"$f":"IF(Match!C9=\"\",\"\",Match!C9)","v":"Champ"},{"$f":"IF(Match!S9=\"\",\"\",Match!S9)","v":"Forest  v  Cardiff   29/20  11/5  2/1"},{"$f":"IF(Match!T9=\"\",\"\",Match!T9)","v":"Forest 0-2 Cardiff "}]
[{"$f":"IF(Match!A10=\"\",\"\",Match!A10)","v":"2020-09-19"},{"$f":"IF(Match!C10=\"\",\"\",Match!C10)","v":"Champ"},{"$f":"IF(Match!S10=\"\",\"\",Match!S10)","v":"Luton  v  Derby   15/8  9/4  31/20"},{"$f":"IF(Match!T10=\"\",\"\",Match!T10)","v":"Luton 2-1 Derby "}]
[{"$f":"IF(Match!A11=\"\",\"\",Match!A11)","v":"2020-09-19"},{"$f":"IF(Match!C11=\"\",\"\",Match!C11)","v":"Champ"},{"$f":"IF(Match!S11=\"\",\"\",Match!S11)","v":"Middlesbro  v  Bournemouth   17/10  11/5  17/10"},{"$f":"IF(Match!T11=\"\",\"\",Match!T11)","v":"Middlesbro 1-1 Bournemouth "}]
[{"$f":"IF(Match!A12=\"\",\"\",Match!A12)","v":"2020-09-19"},{"$f":"IF(Match!C12=\"\",\"\",Match!C12)","v":"Champ"},{"$f":"IF(Match!S12=\"\",\"\",Match!S12)","v":"Norwich  v  Preston   4/5  5/2  19/5"},{"$f":"IF(Match!T12=\"\",\"\",Match!T12)","v":"Norwich 2-2 Preston "}]
[{"$f":"IF(Match!A13=\"\",\"\",Match!A13)","v":"2020-09-19"},{"$f":"IF(Match!C13=\"\",\"\",Match!C13)","v":"Champ"},{"$f":"IF(Match!S13=\"\",\"\",Match!S13)","v":"Reading  v  Barnsley   7/5  23/10  2/1"},{"$f":"IF(Match!T13=\"\",\"\",Match!T13)","v":"Reading 2-0 Barnsley "}]
[{"$f":"IF(Match!A14=\"\",\"\",Match!A14)","v":"2020-09-19"},{"$f":"IF(Match!C14=\"\",\"\",Match!C14)","v":"Champ"},{"$f":"IF(Match!S14=\"\",\"\",Match!S14)","v":"Rotherham  v  Millwall   9/5  21/10  17/10"},{"$f":"IF(Match!T14=\"\",\"\",Match!T14)","v":"Rotherham 0-1 Millwall "}]
[{"$f":"IF(Match!A15=\"\",\"\",Match!A15)","v":"2020-09-19"},{"$f":"IF(Match!C15=\"\",\"\",Match!C15)","v":"Champ"},{"$f":"IF(Match!S15=\"\",\"\",Match!S15)","v":"Sheff W  v  Watford   19/10  11/5  31/20"},{"$f":"IF(Match!T15=\"\",\"\",Match!T15)","v":"Sheff W 0-0 Watford "}]
[{"$f":"IF(Match!A16=\"\",\"\",Match!A16)","v":"2020-09-19"},{"$f":"IF(Match!C16=\"\",\"\",Match!C16)","v":"Champ"},{"$f":"IF(Match!S16=\"\",\"\",Match!S16)","v":"Swansea  v  Birmingham   11/10  11/5  14/5"},{"$f":"IF(Match!T16=\"\",\"\",Match!T16)","v":"Swansea 0-0 Birmingham "}]
[{"$f":"IF(Match!A17=\"\",\"\",Match!A17)","v":"2020-09-19"},{"$f":"IF(Match!C17=\"\",\"\",Match!C17)","v":"League 1"},{"$f":"IF(Match!S17=\"\",\"\",Match!S17)","v":"Blackpool  v  Swindon   23/20  23/10  5/2"},{"$f":"IF(Match!T17=\"\",\"\",Match!T17)","v":"Blackpool 2-0 Swindon "}]
[{"$f":"IF(Match!A18=\"\",\"\",Match!A18)","v":"2020-09-19"},{"$f":"IF(Match!C18=\"\",\"\",Match!C18)","v":"League 1"},{"$f":"IF(Match!S18=\"\",\"\",Match!S18)","v":"Bristol R  v  Ipswich   17/10  23/10  8/5"},{"$f":"IF(Match!T18=\"\",\"\",Match!T18)","v":"Bristol R 0-2 Ipswich "}]
[{"$f":"IF(Match!A19=\"\",\"\",Match!A19)","v":"2020-09-19"},{"$f":"IF(Match!C19=\"\",\"\",Match!C19)","v":"League 1"},{"$f":"IF(Match!S19=\"\",\"\",Match!S19)","v":"Burton  v  Accrington   27/20  23/10  2/1"},{"$f":"IF(Match!T19=\"\",\"\",Match!T19)","v":"Burton 2-1 Accrington "}]
[{"$f":"IF(Match!A20=\"\",\"\",Match!A20)","v":"2020-09-19"},{"$f":"IF(Match!C20=\"\",\"\",Match!C20)","v":"League 1"},{"$f":"IF(Match!S20=\"\",\"\",Match!S20)","v":"Charlton  v  Doncaster   1/1  12/5  27/10"},{"$f":"IF(Match!T20=\"\",\"\",Match!T20)","v":"Charlton 1-3 Doncaster "}]
[{"$f":"IF(Match!A21=\"\",\"\",Match!A21)","v":"2020-09-19"},{"$f":"IF(Match!C21=\"\",\"\",Match!C21)","v":"League 1"},{"$f":"IF(Match!S21=\"\",\"\",Match!S21)","v":"Hull  v  Crewe   19/20  13/5  11/4"},{"$f":"IF(Match!T21=\"\",\"\",Match!T21)","v":"Hull 1-0 Crewe "}]
[{"$f":"IF(Match!A22=\"\",\"\",Match!A22)","v":"2020-09-19"},{"$f":"IF(Match!C22=\"\",\"\",Match!C22)","v":"League 1"},{"$f":"IF(Match!S22=\"\",\"\",Match!S22)","v":"MK Dons  v  Lincoln   17/10  21/10  7/4"},{"$f":"IF(Match!T22=\"\",\"\",Match!T22)","v":"MK Dons 1-2 Lincoln "}]
[{"$f":"IF(Match!A23=\"\",\"\",Match!A23)","v":"2020-09-19"},{"$f":"IF(Match!C23=\"\",\"\",Match!C23)","v":"League 1"},{"$f":"IF(Match!S23=\"\",\"\",Match!S23)","v":"Oxford  v  Sunderland   31/20  11/5  9/5"},{"$f":"IF(Match!T23=\"\",\"\",Match!T23)","v":"Oxford 0-2 Sunderland "}]
[{"$f":"IF(Match!A24=\"\",\"\",Match!A24)","v":"2020-09-19"},{"$f":"IF(Match!C24=\"\",\"\",Match!C24)","v":"League 1"},{"$f":"IF(Match!S24=\"\",\"\",Match!S24)","v":"Peterborough  v  Fleetwood   6/5  9/4  12/5"},{"$f":"IF(Match!T24=\"\",\"\",Match!T24)","v":"Peterborough 2-1 Fleetwood "}]
[{"$f":"IF(Match!A25=\"\",\"\",Match!A25)","v":"2020-09-19"},{"$f":"IF(Match!C25=\"\",\"\",Match!C25)","v":"League 1"},{"$f":"IF(Match!S25=\"\",\"\",Match!S25)","v":"Shrewsbury  v  Northampton   6/5  11/5  12/5"},{"$f":"IF(Match!T25=\"\",\"\",Match!T25)","v":"Shrewsbury 1-2 Northampton "}]
[{"$f":"IF(Match!A26=\"\",\"\",Match!A26)","v":"2020-09-19"},{"$f":"IF(Match!C26=\"\",\"\",Match!C26)","v":"League 1"},{"$f":"IF(Match!S26=\"\",\"\",Match!S26)","v":"Wimbledon  v  Plymouth   8/5  23/10  17/10"},{"$f":"IF(Match!T26=\"\",\"\",Match!T26)","v":"Wimbledon 4-4 Plymouth "}]
[{"$f":"IF(Match!A27=\"\",\"\",Match!A27)","v":"2020-09-19"},{"$f":"IF(Match!C27=\"\",\"\",Match!C27)","v":"League 2"},{"$f":"IF(Match!S27=\"\",\"\",Match!S27)","v":"Carlisle  v  Southend   21/20  12/5  13/5"},{"$f":"IF(Match!T27=\"\",\"\",Match!T27)","v":"Carlisle 2-0 Southend "}]
[{"$f":"IF(Match!A28=\"\",\"\",Match!A28)","v":"2020-09-19"},{"$f":"IF(Match!C28=\"\",\"\",Match!C28)","v":"League 2"},{"$f":"IF(Match!S28=\"\",\"\",Match!S28)","v":"Colchester  v  Bolton   13/8  23/10  17/10"},{"$f":"IF(Match!T28=\"\",\"\",Match!T28)","v":"Colchester 2-0 Bolton "}]
[{"$f":"IF(Match!A29=\"\",\"\",Match!A29)","v":"2020-09-19"},{"$f":"IF(Match!C29=\"\",\"\",Match!C29)","v":"League 2"},{"$f":"IF(Match!S29=\"\",\"\",Match!S29)","v":"Crawley  v  Scunthorpe   13/10  23/10  21/10"},{"$f":"IF(Match!T29=\"\",\"\",Match!T29)","v":"Crawley 1-0 Scunthorpe "}]
[{"$f":"IF(Match!A30=\"\",\"\",Match!A30)","v":"2020-09-19"},{"$f":"IF(Match!C30=\"\",\"\",Match!C30)","v":"League 2"},{"$f":"IF(Match!S30=\"\",\"\",Match!S30)","v":"Exeter  v  Port Vale   5/4  11/5  9/4"},{"$f":"IF(Match!T30=\"\",\"\",Match!T30)","v":"Exeter 0-2 Port Vale "}]
[{"$f":"IF(Match!A31=\"\",\"\",Match!A31)","v":"2020-09-19"},{"$f":"IF(Match!C31=\"\",\"\",Match!C31)","v":"League 2"},{"$f":"IF(Match!S31=\"\",\"\",Match!S31)","v":"Forest Green  v  Bradford   13/10  9/4  11/5"},{"$f":"IF(Match!T31=\"\",\"\",Match!T31)","v":"Forest Green 2-2 Bradford "}]
[{"$f":"IF(Match!A32=\"\",\"\",Match!A32)","v":"2020-09-19"},{"$f":"IF(Match!C32=\"\",\"\",Match!C32)","v":"League 2"},{"$f":"IF(Match!S32=\"\",\"\",Match!S32)","v":"Grimsby  v  Salford   21/10  23/10  13/10"},{"$f":"IF(Match!T32=\"\",\"\",Match!T32)","v":"Grimsby 0-4 Salford "}]
[{"$f":"IF(Match!A33=\"\",\"\",Match!A33)","v":"2020-09-19"},{"$f":"IF(Match!C33=\"\",\"\",Match!C33)","v":"League 2"},{"$f":"IF(Match!S33=\"\",\"\",Match!S33)","v":"Harrogate  v  Walsall   6/5  23/10  23/10"},{"$f":"IF(Match!T33=\"\",\"\",Match!T33)","v":"Harrogate 2-2 Walsall "}]
[{"$f":"IF(Match!A34=\"\",\"\",Match!A34)","v":"2020-09-19"},{"$f":"IF(Match!C34=\"\",\"\",Match!C34)","v":"League 2"},{"$f":"IF(Match!S34=\"\",\"\",Match!S34)","v":"Morecambe  v  Cambridge   27/20  9/4  21/10"},{"$f":"IF(Match!T34=\"\",\"\",Match!T34)","v":"Morecambe 0-5 Cambridge "}]
[{"$f":"IF(Match!A35=\"\",\"\",Match!A35)","v":"2020-09-19"},{"$f":"IF(Match!C35=\"\",\"\",Match!C35)","v":"League 2"},{"$f":"IF(Match!S35=\"\",\"\",Match!S35)","v":"Newport  v  Barrow   5/4  11/5  23/10"},{"$f":"IF(Match!T35=\"\",\"\",Match!T35)","v":"Newport 2-1 Barrow "}]
[{"$f":"IF(Match!A36=\"\",\"\",Match!A36)","v":"2020-09-19"},{"$f":"IF(Match!C36=\"\",\"\",Match!C36)","v":"League 2"},{"$f":"IF(Match!S36=\"\",\"\",Match!S36)","v":"Orient  v  Mansfield   9/5  12/5  29/20"},{"$f":"IF(Match!T36=\"\",\"\",Match!T36)","v":"Orient 2-2 Mansfield "}]
[{"$f":"IF(Match!A37=\"\",\"\",Match!A37)","v":"2020-09-19"},{"$f":"IF(Match!C37=\"\",\"\",Match!C37)","v":"League 2"},{"$f":"IF(Match!S37=\"\",\"\",Match!S37)","v":"Stevenage  v  Oldham   7/5  11/5  2/1"},{"$f":"IF(Match!T37=\"\",\"\",Match!T37)","v":"Stevenage 3-0 Oldham "}]
[{"$f":"IF(Match!A38=\"\",\"\",Match!A38)","v":"2020-09-19"},{"$f":"IF(Match!C38=\"\",\"\",Match!C38)","v":"League 2"},{"$f":"IF(Match!S38=\"\",\"\",Match!S38)","v":"Tranmere  v  Cheltenham   13/10  23/10  21/10"},{"$f":"IF(Match!T38=\"\",\"\",Match!T38)","v":"Tranmere 0-3 Cheltenham "}]
[{"$f":"IF(Match!A39=\"\",\"\",Match!A39)","v":"2020-09-20"},{"$f":"IF(Match!C39=\"\",\"\",Match!C39)","v":"Premier"},{"$f":"IF(Match!S39=\"\",\"\",Match!S39)","v":"Chelsea  v  Liverpool   21/10  27/10  6/5"},{"$f":"IF(Match!T39=\"\",\"\",Match!T39)","v":"Chelsea 0-2 Liverpool "}]
[{"$f":"IF(Match!A40=\"\",\"\",Match!A40)","v":"2020-09-20"},{"$f":"IF(Match!C40=\"\",\"\",Match!C40)","v":"Premier"},{"$f":"IF(Match!S40=\"\",\"\",Match!S40)","v":"Leicester  v  Burnley   13/20  14/5  9/2"},{"$f":"IF(Match!T40=\"\",\"\",Match!T40)","v":"Leicester 4-2 Burnley "}]
[{"$f":"IF(Match!A41=\"\",\"\",Match!A41)","v":"2020-09-20"},{"$f":"IF(Match!C41=\"\",\"\",Match!C41)","v":"Premier"},{"$f":"IF(Match!S41=\"\",\"\",Match!S41)","v":"Newcastle  v  Brighton   31/20  11/5  19/10"},{"$f":"IF(Match!T41=\"\",\"\",Match!T41)","v":"Newcastle 0-3 Brighton "}]
[{"$f":"IF(Match!A42=\"\",\"\",Match!A42)","v":"2020-09-20"},{"$f":"IF(Match!C42=\"\",\"\",Match!C42)","v":"Premier"},{"$f":"IF(Match!S42=\"\",\"\",Match!S42)","v":"Southampton  v  Spurs   2/1  9/4  29/20"},{"$f":"IF(Match!T42=\"\",\"\",Match!T42)","v":"Southampton 2-5 Spurs "}]
[{"$f":"IF(Match!A43=\"\",\"\",Match!A43)","v":"2020-09-20"},{"$f":"IF(Match!C43=\"\",\"\",Match!C43)","v":"Champ"},{"$f":"IF(Match!S43=\"\",\"\",Match!S43)","v":"Stoke  v  Bristol C   11/10  12/5  13/5"},{"$f":"IF(Match!T43=\"\",\"\",Match!T43)","v":"Stoke 0-2 Bristol C "}]
[{"$f":"IF(Match!A44=\"\",\"\",Match!A44)","v":"2020-09-20"},{"$f":"IF(Match!C44=\"\",\"\",Match!C44)","v":"League 1"},{"$f":"IF(Match!S44=\"\",\"\",Match!S44)","v":"Rochdale  v  Portsmouth   15/4  13/5  3/4"},{"$f":"IF(Match!T44=\"\",\"\",Match!T44)","v":"Rochdale 0-0 Portsmouth "}]
[{"$f":"IF(Match!A45=\"\",\"\",Match!A45)","v":""},{"$f":"IF(Match!C45=\"\",\"\",Match!C45)","v":""},{"$f":"IF(Match!S45=\"\",\"\",Match!S45)","v":""},{"$f":"IF(Match!T45=\"\",\"\",Match!T45)","v":" -  "}]
[{"$f":"IF(Match!A46=\"\",\"\",Match!A46)","v":""},{"$f":"IF(Match!C46=\"\",\"\",Match!C46)","v":""},{"$f":"IF(Match!S46=\"\",\"\",Match!S46)","v":""},{"$f":"IF(Match!T46=\"\",\"\",Match!T46)","v":" -  "}]
[{"$f":"IF(Match!A47=\"\",\"\",Match!A47)","v":""},{"$f":"IF(Match!C47=\"\",\"\",Match!C47)","v":""},{"$f":"IF(Match!S47=\"\",\"\",Match!S47)","v":""},{"$f":"IF(Match!T47=\"\",\"\",Match!T47)","v":" - "}]

{"sheet":"Table","index":3,"n_rows":72,"n_cols":19,"rows_kept":72,"cut":false,"hidden":false,"merged":[[1,0,16,0],[17,0,32,0],[33,0,48,0],[49,0,69,0]]}
["PL35","Place Prize","Promotion/\nRelegation","Pos","Div","Player","Total\nScore","Total\ncorrect","Week\nScore","Week\nCorrect","Brought\nForward","League\nPlace\nPrize","Weekly\nPrizes","Cup\nPrize","Total\nPrize","Season\nBalance"]
["Division A",{"$f":"CONCATENATE(E2,D2)","v":"A1"},null,1,"A","Gerard Ventom",{"$f":"INDEX(Weekly!F:F,MATCH($F2,Weekly!$E:$E,0))","v":172.3},{"$f":"INDEX(Weekly!G:G,MATCH($F2,Weekly!$E:$E,0))","v":5},{"$f":"INDEX(Weekly!H:H,MATCH($F2,Weekly!$E:$E,0))","v":164.8},{"$f":"INDEX(Weekly!I:I,MATCH($F2,Weekly!$E:$E,0))","v":3},{"$f":"INDEX(Players!F:F,MATCH($F2,Players!#REF!,0))","v":{"$error":"#REF!"}},{"$f":"INDEX(Prizes!F:F,MATCH($B2,Prizes!A:A,0))","v":108.675},{"$f":"INDEX(Weekly!J:J,MATCH($F2,Weekly!$E:$E,0))","v":5},{"$f":"INDEX(Weekly!K:K,MATCH($F2,Weekly!$E:$E,0))","v":0},{"$f":"INDEX(Weekly!M:M,MATCH($F2,Weekly!$E:$E,0))","v":113.675},{"$f":"O2+K2","v":{"$error":"#REF!"}}]
[null,{"$f":"CONCATENATE(E3,D3)","v":"A2"},null,2,"A","Steve Carter",{"$f":"INDEX(Weekly!F:F,MATCH($F3,Weekly!$E:$E,0))","v":16.222499999999997},{"$f":"INDEX(Weekly!G:G,MATCH($F3,Weekly!$E:$E,0))","v":4},{"$f":"INDEX(Weekly!H:H,MATCH($F3,Weekly!$E:$E,0))","v":-4.5999999999999996},{"$f":"INDEX(Weekly!I:I,MATCH($F3,Weekly!$E:$E,0))","v":1},{"$f":"INDEX(Players!F:F,MATCH($F3,Players!#REF!,0))","v":{"$error":"#REF!"}},{"$f":"INDEX(Prizes!F:F,MATCH($B3,Prizes!A:A,0))","v":77.625},{"$f":"INDEX(Weekly!J:J,MATCH($F3,Weekly!$E:$E,0))","v":5},{"$f":"INDEX(Weekly!K:K,MATCH($F3,Weekly!$E:$E,0))","v":0},{"$f":"INDEX(Weekly!M:M,MATCH($F3,Weekly!$E:$E,0))","v":82.625},{"$f":"O3+K3","v":{"$error":"#REF!"}}]
[null,"A3",null,3,"A","Mark Saunders",{"$f":"INDEX(Weekly!F:F,MATCH($F4,Weekly!$E:$E,0))","v":7.5450000000000017},{"$f":"INDEX(Weekly!G:G,MATCH($F4,Weekly!$E:$E,0))","v":4},{"$f":"INDEX(Weekly!H:H,MATCH($F4,Weekly!$E:$E,0))","v":-5.5},{"$f":"INDEX(Weekly!I:I,MATCH($F4,Weekly!$E:$E,0))","v":1},{"$f":"INDEX(Players!F:F,MATCH($F4,Players!#REF!,0))","v":{"$error":"#REF!"}},{"$f":"INDEX(Prizes!F:F,MATCH($B4,Prizes!A:A,0))","v":55.89},{"$f":"INDEX(Weekly!J:J,MATCH($F4,Weekly!$E:$E,0))","v":5},{"$f":"INDEX(Weekly!K:K,MATCH($F4,Weekly!$E:$E,0))","v":0},{"$f":"INDEX(Weekly!M:M,MATCH($F4,Weekly!$E:$E,0))","v":60.89},{"$f":"O4+K4","v":{"$error":"#REF!"}},null,null,"Promotion and Relegation Key"]
[null,"A4",null,4,"A","Alick Rocca",{"$f":"INDEX(Weekly!F:F,MATCH($F5,Weekly!$E:$E,0))","v":3.8062500000000021},{"$f":"INDEX(Weekly!G:G,MATCH($F5,Weekly!$E:$E,0))","v":3},{"$f":"INDEX(Weekly!H:H,MATCH($F5,Weekly!$E:$E,0))","v":10.806250000000002},{"$f":"INDEX(Weekly!I:I,MATCH($F5,Weekly!$E:$E,0))","v":3},{"$f":"INDEX(Players!F:F,MATCH($F5,Players!#REF!,0))","v":{"$error":"#REF!"}},{"$f":"INDEX(Prizes!F:F,MATCH($B5,Prizes!A:A,0))","v":37.26},{"$f":"INDEX(Weekly!J:J,MATCH($F5,Weekly!$E:$E,0))","v":0},{"$f":"INDEX(Weekly!K:K,MATCH($F5,Weekly!$E:$E,0))","v":0},{"$f":"INDEX(Weekly!M:M,MATCH($F5,Weekly!$E:$E,0))","v":37.26},{"$f":"O5+K5","v":{"$error":"#REF!"}},null,null,"No change"]
[null,"A5",null,5,"A","Stephen Barr",{"$f":"INDEX(Weekly!F:F,MATCH($F6,Weekly!$E:$E,0))","v":1.8700000000000028},{"$f":"INDEX(Weekly!G:G,MATCH($F6,Weekly!$E:$E,0))","v":3},{"$f":"INDEX(Weekly!H:H,MATCH($F6,Weekly!$E:$E,0))","v":6.7200000000000024},{"$f":"INDEX(Weekly!I:I,MATCH($F6,Weekly!$E:$E,0))","v":2},{"$f":"INDEX(Players!F:F,MATCH($F6,Players!#REF!,0))","v":{"$error":"#REF!"}},{"$f":"INDEX(Prizes!F:F,MATCH($B6,Prizes!A:A,0))","v":21.734999999999999},{"$f":"INDEX(Weekly!J:J,MATCH($F6,Weekly!$E:$E,0))","v":0},{"$f":"INDEX(Weekly!K:K,MATCH($F6,Weekly!$E:$E,0))","v":0},{"$f":"INDEX(Weekly!M:M,MATCH($F6,Weekly!$E:$E,0))","v":21.734999999999999},{"$f":"O6+K6","v":{"$error":"#REF!"}},null,null,"Promoted to Division above"]
[null,"A6",null,6,"A","Kevin Carter",{"$f":"INDEX(Weekly!F:F,MATCH($F7,Weekly!$E:$E,0))","v":1.6730769230769234},{"$f":"INDEX(Weekly!G:G,MATCH($F7,Weekly!$E:$E,0))","v":3},{"$f":"INDEX(Weekly!H:H,MATCH($F7,Weekly!$E:$E,0))","v":8.6730769230769234},{"$f":"INDEX(Weekly!I:I,MATCH($F7,Weekly!$E:$E,0))","v":3},{"$f":"INDEX(Players!F:F,MATCH($F7,Players!#REF!,0))","v":{"$error":"#REF!"}},{"$f":"INDEX(Prizes!F:F,MATCH($B7,Prizes!A:A,0))","v":9.3149999999999995},{"$f":"INDEX(Weekly!J:J,MATCH($F7,Weekly!$E:$E,0))","v":0},{"$f":"INDEX(Weekly!K:K,MATCH($F7,Weekly!$E:$E,0))","v":0},{"$f":"INDEX(Weekly!M:M,MATCH($F7,Weekly!$E:$E,0))","v":9.3149999999999995},{"$f":"O7+K7","v":{"$error":"#REF!"}},null,null,"Relegated to Division below"]
[null,"A7",null,7,"A","Paul Fiddler",{"$f":"INDEX(Weekly!F:F,MATCH($F8,Weekly!$E:$E,0))","v":0.30750000000000011},{"$f":"INDEX(Weekly!G:G,MATCH($F8,Weekly!$E:$E,0))","v":4},{"$f":"INDEX(Weekly!H:H,MATCH($F8,Weekly!$E:$E,0))","v":1.2925000000000004},{"$f":"INDEX(Weekly!I:I,MATCH($F8,Weekly!$E:$E,0))","v":2},{"$f":"INDEX(Players!F:F,MATCH($F8,Players!#REF!,0))","v":{"$error":"#REF!"}},{"$f":"INDEX(Prizes!F:F,MATCH($B8,Prizes!A:A,0))","v":0},{"$f":"INDEX(Weekly!J:J,MATCH($F8,Weekly!$E:$E,0))","v":0},{"$f":"INDEX(Weekly!K:K,MATCH($F8,Weekly!$E:$E,0))","v":0},{"$f":"INDEX(Weekly!M:M,MATCH($F8,Weekly!$E:$E,0))","v":0},{"$f":"O8+K8","v":{"$error":"#REF!"}},null,null,"Best two up to Div A, Worst two down to Div B"]
[null,"A8",null,8,"A","Alan Rogers",{"$f":"INDEX(Weekly!F:F,MATCH($F9,Weekly!$E:$E,0))","v":-3.9999999999999147E-2},{"$f":"INDEX(Weekly!G:G,MATCH($F9,Weekly!$E:$E,0))","v":2},{"$f":"INDEX(Weekly!H:H,MATCH($F9,Weekly!$E:$E,0))","v":-7},{"$f":"INDEX(Weekly!I:I,MATCH($F9,Weekly!$E:$E,0))","v":0},{"$f":"INDEX(Players!F:F,MATCH($F9,Players!#REF!,0))","v":{"$error":"#REF!"}},{"$f":"INDEX(Prizes!F:F,MATCH($B9,Prizes!A:A,0))","v":0},{"$f":"INDEX(Weekly!J:J,MATCH($F9,Weekly!$E:$E,0))","v":0},{"$f":"INDEX(Weekly!K:K,MATCH($F9,Weekly!$E:$E,0))","v":0},{"$f":"INDEX(Weekly!M:M,MATCH($F9,Weekly!$E:$E,0))","v":0},{"$f":"O9+K9","v":{"$error":"#REF!"}},null,null,"Best two up to Div B, Worst two down to Div C"]
[null,"A9","Play-off",9,"A","Chris Luck",{"$f":"INDEX(Weekly!F:F,MATCH($F10,Weekly!$E:$E,0))","v":-1.8249999999999993},{"$f":"INDEX(Weekly!G:G,MATCH($F10,Weekly!$E:$E,0))","v":2},{"$f":"INDEX(Weekly!H:H,MATCH($F10,Weekly!$E:$E,0))","v":5.1750000000000007},{"$f":"INDEX(Weekly!I:I,MATCH($F10,Weekly!$E:$E,0))","v":2},{"$f":"INDEX(Players!F:F,MATCH($F10,Players!#REF!,0))","v":{"$error":"#REF!"}},{"$f":"INDEX(Prizes!F:F,MATCH($B10,Prizes!A:A,0))","v":0},{"$f":"INDEX(Weekly!J:J,MATCH($F10,Weekly!$E:$E,0))","v":0},{"$f":"INDEX(Weekly!K:K,MATCH($F10,Weekly!$E:$E,0))","v":0},{"$f":"INDEX(Weekly!M:M,MATCH($F10,Weekly!$E:$E,0))","v":0},{"$f":"O10+K10","v":{"$error":"#REF!"}},null,null,"Best two up to Div C, Worst two down to Div D"]
[null,"A10","Play-off",10,"A","Lennie Bow",{"$f":"INDEX(Weekly!F:F,MATCH($F11,Weekly!$E:$E,0))","v":-3.1687500000000002},{"$f":"INDEX(Weekly!G:G,MATCH($F11,Weekly!$E:$E,0))","v":3},{"$f":"INDEX(Weekly!H:H,MATCH($F11,Weekly!$E:$E,0))","v":1.8812499999999996},{"$f":"INDEX(Weekly!I:I,MATCH($F11,Weekly!$E:$E,0))","v":2},{"$f":"INDEX(Players!F:F,MATCH($F11,Players!#REF!,0))","v":{"$error":"#REF!"}},{"$f":"INDEX(Prizes!F:F,MATCH($B11,Prizes!A:A,0))","v":0},{"$f":"INDEX(Weekly!J:J,MATCH($F11,Weekly!$E:$E,0))","v":0},{"$f":"INDEX(Weekly!K:K,MATCH($F11,Weekly!$E:$E,0))","v":0},{"$f":"INDEX(Weekly!M:M,MATCH($F11,Weekly!$E:$E,0))","v":0},{"$f":"O11+K11","v":{"$error":"#REF!"}}]
[null,"A11","↓",11,"A","Stephen Troop",{"$f":"INDEX(Weekly!F:F,MATCH($F12,Weekly!$E:$E,0))","v":-6.2807692307692307},{"$f":"INDEX(Weekly!G:G,MATCH($F12,Weekly!$E:$E,0))","v":3},{"$f":"INDEX(Weekly!H:H,MATCH($F12,Weekly!$E:$E,0))","v":-1.3307692307692305},{"$f":"INDEX(Weekly!I:I,MATCH($F12,Weekly!$E:$E,0))","v":2},{"$f":"INDEX(Players!F:F,MATCH($F12,Players!#REF!,0))","v":{"$error":"#REF!"}},{"$f":"INDEX(Prizes!F:F,MATCH($B12,Prizes!A:A,0))","v":0},{"$f":"INDEX(Weekly!J:J,MATCH($F12,Weekly!$E:$E,0))","v":0},{"$f":"INDEX(Weekly!K:K,MATCH($F12,Weekly!$E:$E,0))","v":0},{"$f":"INDEX(Weekly!M:M,MATCH($F12,Weekly!$E:$E,0))","v":0},{"$f":"O12+K12","v":{"$error":"#REF!"}}]
[null,"A12","↓",12,"A","Mo Sudell",{"$f":"INDEX(Weekly!F:F,MATCH($F13,Weekly!$E:$E,0))","v":-6.3928571428571432},{"$f":"INDEX(Weekly!G:G,MATCH($F13,Weekly!$E:$E,0))","v":3},{"$f":"INDEX(Weekly!H:H,MATCH($F13,Weekly!$E:$E,0))","v":-1.4428571428571431},{"$f":"INDEX(Weekly!I:I,MATCH($F13,Weekly!$E:$E,0))","v":2},{"$f":"INDEX(Players!F:F,MATCH($F13,Players!#REF!,0))","v":{"$error":"#REF!"}},{"$f":"INDEX(Prizes!F:F,MATCH($B13,Prizes!A:A,0))","v":0},{"$f":"INDEX(Weekly!J:J,MATCH($F13,Weekly!$E:$E,0))","v":0},{"$f":"INDEX(Weekly!K:K,MATCH($F13,Weekly!$E:$E,0))","v":0},{"$f":"INDEX(Weekly!M:M,MATCH($F13,Weekly!$E:$E,0))","v":0},{"$f":"O13+K13","v":{"$error":"#REF!"}}]
[null,"A13","↓",13,"A","Oscar Jackson",{"$f":"INDEX(Weekly!F:F,MATCH($F14,Weekly!$E:$E,0))","v":-10.55},{"$f":"INDEX(Weekly!G:G,MATCH($F14,Weekly!$E:$E,0))","v":2},{"$f":"INDEX(Weekly!H:H,MATCH($F14,Weekly!$E:$E,0))","v":-5.5},{"$f":"INDEX(Weekly!I:I,MATCH($F14,Weekly!$E:$E,0))","v":1},{"$f":"INDEX(Players!F:F,MATCH($F14,Players!#REF!,0))","v":{"$error":"#REF!"}},{"$f":"INDEX(Prizes!F:F,MATCH($B14,Prizes!A:A,0))","v":0},{"$f":"INDEX(Weekly!J:J,MATCH($F14,Weekly!$E:$E,0))","v":0},{"$f":"INDEX(Weekly!K:K,MATCH($F14,Weekly!$E:$E,0))","v":0},{"$f":"INDEX(Weekly!M:M,MATCH($F14,Weekly!$E:$E,0))","v":0},{"$f":"O14+K14","v":{"$error":"#REF!"}}]
[null,"A14","↓",14,"A","Alfie Davies",{"$f":"INDEX(Weekly!F:F,MATCH($F15,Weekly!$E:$E,0))","v":-10.75},{"$f":"INDEX(Weekly!G:G,MATCH($F15,Weekly!$E:$E,0))","v":1},{"$f":"INDEX(Weekly!H:H,MATCH($F15,Weekly!$E:$E,0))","v":-7},{"$f":"INDEX(Weekly!I:I,MATCH($F15,Weekly!$E:$E,0))","v":0},{"$f":"INDEX(Players!F:F,MATCH($F15,Players!#REF!,0))","v":{"$error":"#REF!"}},{"$f":"INDEX(Prizes!F:F,MATCH($B15,Prizes!A:A,0))","v":0},{"$f":"INDEX(Weekly!J:J,MATCH($F15,Weekly!$E:$E,0))","v":0},{"$f":"INDEX(Weekly!K:K,MATCH($F15,Weekly!$E:$E,0))","v":0},{"$f":"INDEX(Weekly!M:M,MATCH($F15,Weekly!$E:$E,0))","v":0},{"$f":"O15+K15","v":{"$error":"#REF!"}}]
[null,"A15","↓",15,"A","Mike Penk",{"$f":"INDEX(Weekly!F:F,MATCH($F16,Weekly!$E:$E,0))","v":-11.3},{"$f":"INDEX(Weekly!G:G,MATCH($F16,Weekly!$E:$E,0))","v":1},{"$f":"INDEX(Weekly!H:H,MATCH($F16,Weekly!$E:$E,0))","v":-4.3},{"$f":"INDEX(Weekly!I:I,MATCH($F16,Weekly!$E:$E,0))","v":1},{"$f":"INDEX(Players!F:F,MATCH($F16,Players!#REF!,0))","v":{"$error":"#REF!"}},{"$f":"INDEX(Prizes!F:F,MATCH($B16,Prizes!A:A,0))","v":0},{"$f":"INDEX(Weekly!J:J,MATCH($F16,Weekly!$E:$E,0))","v":0},{"$f":"INDEX(Weekly!K:K,MATCH($F16,Weekly!$E:$E,0))","v":0},{"$f":"INDEX(Weekly!M:M,MATCH($F16,Weekly!$E:$E,0))","v":0},{"$f":"O16+K16","v":{"$error":"#REF!"}}]
[null,"A16","↓",16,"A","Rob England",{"$f":"INDEX(Weekly!F:F,MATCH($F17,Weekly!$E:$E,0))","v":-11.375},{"$f":"INDEX(Weekly!G:G,MATCH($F17,Weekly!$E:$E,0))","v":1},{"$f":"INDEX(Weekly!H:H,MATCH($F17,Weekly!$E:$E,0))","v":-4.375},{"$f":"INDEX(Weekly!I:I,MATCH($F17,Weekly!$E:$E,0))","v":1},{"$f":"INDEX(Players!F:F,MATCH($F17,Players!#REF!,0))","v":{"$error":"#REF!"}},{"$f":"INDEX(Prizes!F:F,MATCH($B17,Prizes!A:A,0))","v":0},{"$f":"INDEX(Weekly!J:J,MATCH($F17,Weekly!$E:$E,0))","v":0},{"$f":"INDEX(Weekly!K:K,MATCH($F17,Weekly!$E:$E,0))","v":0},{"$f":"INDEX(Weekly!M:M,MATCH($F17,Weekly!$E:$E,0))","v":0},{"$f":"O17+K17","v":{"$error":"#REF!"}}]
["Division B","B1","↑",1,"B","Steve Baxter",{"$f":"INDEX(Weekly!F:F,MATCH($F18,Weekly!$E:$E,0))","v":10.03857142857143},{"$f":"INDEX(Weekly!G:G,MATCH($F18,Weekly!$E:$E,0))","v":5},{"$f":"INDEX(Weekly!H:H,MATCH($F18,Weekly!$E:$E,0))","v":0},{"$f":"INDEX(Weekly!I:I,MATCH($F18,Weekly!$E:$E,0))","v":2},{"$f":"INDEX(Players!F:F,MATCH($F18,Players!#REF!,0))","v":{"$error":"#REF!"}},{"$f":"INDEX(Prizes!F:F,MATCH($B18,Prizes!A:A,0))","v":72.45},{"$f":"INDEX(Weekly!J:J,MATCH($F18,Weekly!$E:$E,0))","v":0},{"$f":"INDEX(Weekly!K:K,MATCH($F18,Weekly!$E:$E,0))","v":0},{"$f":"INDEX(Weekly!M:M,MATCH($F18,Weekly!$E:$E,0))","v":72.45},{"$f":"O18+K18","v":{"$error":"#REF!"}}]
[null,"B2","↑",2,"B","Vinny Topping",{"$f":"INDEX(Weekly!F:F,MATCH($F19,Weekly!$E:$E,0))","v":6.6875},{"$f":"INDEX(Weekly!G:G,MATCH($F19,Weekly!$E:$E,0))","v":4},{"$f":"INDEX(Weekly!H:H,MATCH($F19,Weekly!$E:$E,0))","v":3.0625},{"$f":"INDEX(Weekly!I:I,MATCH($F19,Weekly!$E:$E,0))","v":2},{"$f":"INDEX(Players!F:F,MATCH($F19,Players!#REF!,0))","v":{"$error":"#REF!"}},{"$f":"INDEX(Prizes!F:F,MATCH($B19,Prizes!A:A,0))","v":51.75},{"$f":"INDEX(Weekly!J:J,MATCH($F19,Weekly!$E:$E,0))","v":0},{"$f":"INDEX(Weekly!K:K,MATCH($F19,Weekly!$E:$E,0))","v":0},{"$f":"INDEX(Weekly!M:M,MATCH($F19,Weekly!$E:$E,0))","v":51.75},{"$f":"O19+K19","v":{"$error":"#REF!"}}]
[null,"B3","↑",3,"B","Pete Baron",{"$f":"INDEX(Weekly!F:F,MATCH($F20,Weekly!$E:$E,0))","v":5},{"$f":"INDEX(Weekly!G:G,MATCH($F20,Weekly!$E:$E,0))","v":2},{"$f":"INDEX(Weekly!H:H,MATCH($F20,Weekly!$E:$E,0))","v":-7},{"$f":"INDEX(Weekly!I:I,MATCH($F20,Weekly!$E:$E,0))","v":0},{"$f":"INDEX(Players!F:F,MATCH($F20,Players!#REF!,0))","v":{"$error":"#REF!"}},{"$f":"INDEX(Prizes!F:F,MATCH($B20,Prizes!A:A,0))","v":37.26},{"$f":"INDEX(Weekly!J:J,MATCH($F20,Weekly!$E:$E,0))","v":5},{"$f":"INDEX(Weekly!K:K,MATCH($F20,Weekly!$E:$E,0))","v":0},{"$f":"INDEX(Weekly!M:M,MATCH($F20,Weekly!$E:$E,0))","v":42.26},{"$f":"O20+K20","v":{"$error":"#REF!"}}]
[null,"B4","↑",4,"B","Andy White",{"$f":"INDEX(Weekly!F:F,MATCH($F21,Weekly!$E:$E,0))","v":-0.73125000000000195},{"$f":"INDEX(Weekly!G:G,MATCH($F21,Weekly!$E:$E,0))","v":3},{"$f":"INDEX(Weekly!H:H,MATCH($F21,Weekly!$E:$E,0))","v":-4.55},{"$f":"INDEX(Weekly!I:I,MATCH($F21,Weekly!$E:$E,0))","v":1},{"$f":"INDEX(Players!F:F,MATCH($F21,Players!#REF!,0))","v":{"$error":"#REF!"}},{"$f":"INDEX(Prizes!F:F,MATCH($B21,Prizes!A:A,0))","v":24.84},{"$f":"INDEX(Weekly!J:J,MATCH($F21,Weekly!$E:$E,0))","v":0},{"$f":"INDEX(Weekly!K:K,MATCH($F21,Weekly!$E:$E,0))","v":0},{"$f":"INDEX(Weekly!M:M,MATCH($F21,Weekly!$E:$E,0))","v":24.84},{"$f":"O21+K21","v":{"$error":"#REF!"}}]
[null,"B5","↑",5,"B","Phil Miller",{"$f":"INDEX(Weekly!F:F,MATCH($F22,Weekly!$E:$E,0))","v":-1.6428571428571432},{"$f":"INDEX(Weekly!G:G,MATCH($F22,Weekly!$E:$E,0))","v":3},{"$f":"INDEX(Weekly!H:H,MATCH($F22,Weekly!$E:$E,0))","v":-4.7},{"$f":"INDEX(Weekly!I:I,MATCH($F22,Weekly!$E:$E,0))","v":1},{"$f":"INDEX(Players!F:F,MATCH($F22,Players!#REF!,0))","v":{"$error":"#REF!"}},{"$f":"INDEX(Prizes!F:F,MATCH($B22,Prizes!A:A,0))","v":14.49},{"$f":"INDEX(Weekly!J:J,MATCH($F22,Weekly!$E:$E,0))","v":0},{"$f":"INDEX(Weekly!K:K,MATCH($F22,Weekly!$E:$E,0))","v":0},{"$f":"INDEX(Weekly!M:M,MATCH($F22,Weekly!$E:$E,0))","v":14.49},{"$f":"O22+K22","v":{"$error":"#REF!"}}]
[null,"B6","↑",6,"B","Nigel Heyes",{"$f":"INDEX(Weekly!F:F,MATCH($F23,Weekly!$E:$E,0))","v":-2.8200000000000003},{"$f":"INDEX(Weekly!G:G,MATCH($F23,Weekly!$E:$E,0))","v":3},{"$f":"INDEX(Weekly!H:H,MATCH($F23,Weekly!$E:$E,0))","v":2.0299999999999994},{"$f":"INDEX(Weekly!I:I,MATCH($F23,Weekly!$E:$E,0))","v":2},{"$f":"INDEX(Players!F:F,MATCH($F23,Players!#REF!,0))","v":{"$error":"#REF!"}},{"$f":"INDEX(Prizes!F:F,MATCH($B23,Prizes!A:A,0))","v":6.21},{"$f":"INDEX(Weekly!J:J,MATCH($F23,Weekly!$E:$E,0))","v":0},{"$f":"INDEX(Weekly!K:K,MATCH($F23,Weekly!$E:$E,0))","v":0},{"$f":"INDEX(Weekly!M:M,MATCH($F23,Weekly!$E:$E,0))","v":6.21},{"$f":"O23+K23","v":{"$error":"#REF!"}}]
[null,"B7","Play-off",7,"B","Dave Bell",{"$f":"INDEX(Weekly!F:F,MATCH($F24,Weekly!$E:$E,0))","v":-3},{"$f":"INDEX(Weekly!G:G,MATCH($F24,Weekly!$E:$E,0))","v":1},{"$f":"INDEX(Weekly!H:H,MATCH($F24,Weekly!$E:$E,0))","v":4},{"$f":"INDEX(Weekly!I:I,MATCH($F24,Weekly!$E:$E,0))","v":1},{"$f":"INDEX(Players!F:F,MATCH($F24,Players!#REF!,0))","v":{"$error":"#REF!"}},{"$f":"INDEX(Prizes!F:F,MATCH($B24,Prizes!A:A,0))","v":0},{"$f":"INDEX(Weekly!J:J,MATCH($F24,Weekly!$E:$E,0))","v":0},{"$f":"INDEX(Weekly!K:K,MATCH($F24,Weekly!$E:$E,0))","v":0},{"$f":"INDEX(Weekly!M:M,MATCH($F24,Weekly!$E:$E,0))","v":0},{"$f":"O24+K24","v":{"$error":"#REF!"}}]
[null,"B8","Play-off",8,"B","Gareth Powell",{"$f":"INDEX(Weekly!F:F,MATCH($F25,Weekly!$E:$E,0))","v":-4.4807692307692299},{"$f":"INDEX(Weekly!G:G,MATCH($F25,Weekly!$E:$E,0))","v":3},{"$f":"INDEX(Weekly!H:H,MATCH($F25,Weekly!$E:$E,0))","v":0.3692307692307697},{"$f":"INDEX(Weekly!I:I,MATCH($F25,Weekly!$E:$E,0))","v":2},{"$f":"INDEX(Players!F:F,MATCH($F25,Players!#REF!,0))","v":{"$error":"#REF!"}},{"$f":"INDEX(Prizes!F:F,MATCH($B25,Prizes!A:A,0))","v":0},{"$f":"INDEX(Weekly!J:J,MATCH($F25,Weekly!$E:$E,0))","v":0},{"$f":"INDEX(Weekly!K:K,MATCH($F25,Weekly!$E:$E,0))","v":0},{"$f":"INDEX(Weekly!M:M,MATCH($F25,Weekly!$E:$E,0))","v":0},{"$f":"O25+K25","v":{"$error":"#REF!"}}]
[null,"B9","Play-off",9,"B","Kei Lok Ma",{"$f":"INDEX(Weekly!F:F,MATCH($F26,Weekly!$E:$E,0))","v":-5.3925000000000018},{"$f":"INDEX(Weekly!G:G,MATCH($F26,Weekly!$E:$E,0))","v":2},{"$f":"INDEX(Weekly!H:H,MATCH($F26,Weekly!$E:$E,0))","v":-7},{"$f":"INDEX(Weekly!I:I,MATCH($F26,Weekly!$E:$E,0))","v":0},{"$f":"INDEX(Players!F:F,MATCH($F26,Players!#REF!,0))","v":{"$error":"#REF!"}},{"$f":"INDEX(Prizes!F:F,MATCH($B26,Prizes!A:A,0))","v":0},{"$f":"INDEX(Weekly!J:J,MATCH($F26,Weekly!$E:$E,0))","v":0},{"$f":"INDEX(Weekly!K:K,MATCH($F26,Weekly!$E:$E,0))","v":0},{"$f":"INDEX(Weekly!M:M,MATCH($F26,Weekly!$E:$E,0))","v":0},{"$f":"O26+K26","v":{"$error":"#REF!"}}]
[null,"B10","Play-off",10,"B","Martin Molyneux",{"$f":"INDEX(Weekly!F:F,MATCH($F27,Weekly!$E:$E,0))","v":-6.3250000000000002},{"$f":"INDEX(Weekly!G:G,MATCH($F27,Weekly!$E:$E,0))","v":3},{"$f":"INDEX(Weekly!H:H,MATCH($F27,Weekly!$E:$E,0))","v":-1.375},{"$f":"INDEX(Weekly!I:I,MATCH($F27,Weekly!$E:$E,0))","v":2},{"$f":"INDEX(Players!F:F,MATCH($F27,Players!#REF!,0))","v":{"$error":"#REF!"}},{"$f":"INDEX(Prizes!F:F,MATCH($B27,Prizes!A:A,0))","v":0},{"$f":"INDEX(Weekly!J:J,MATCH($F27,Weekly!$E:$E,0))","v":0},{"$f":"INDEX(Weekly!K:K,MATCH($F27,Weekly!$E:$E,0))","v":0},{"$f":"INDEX(Weekly!M:M,MATCH($F27,Weekly!$E:$E,0))","v":0},{"$f":"O27+K27","v":{"$error":"#REF!"}}]
[null,"B11","↓",11,"B","John Evans",{"$f":"INDEX(Weekly!F:F,MATCH($F28,Weekly!$E:$E,0))","v":-8.125},{"$f":"INDEX(Weekly!G:G,MATCH($F28,Weekly!$E:$E,0))","v":2},{"$f":"INDEX(Weekly!H:H,MATCH($F28,Weekly!$E:$E,0))","v":-4.375},{"$f":"INDEX(Weekly!I:I,MATCH($F28,Weekly!$E:$E,0))","v":1},{"$f":"INDEX(Players!F:F,MATCH($F28,Players!#REF!,0))","v":{"$error":"#REF!"}},{"$f":"INDEX(Prizes!F:F,MATCH($B28,Prizes!A:A,0))","v":0},{"$f":"INDEX(Weekly!J:J,MATCH($F28,Weekly!$E:$E,0))","v":0},{"$f":"INDEX(Weekly!K:K,MATCH($F28,Weekly!$E:$E,0))","v":0},{"$f":"INDEX(Weekly!M:M,MATCH($F28,Weekly!$E:$E,0))","v":0},{"$f":"O28+K28","v":{"$error":"#REF!"}}]
[null,"B12","↓",12,"B","Barry Birchall",{"$f":"INDEX(Weekly!F:F,MATCH($F29,Weekly!$E:$E,0))","v":-8.4428571428571431},{"$f":"INDEX(Weekly!G:G,MATCH($F29,Weekly!$E:$E,0))","v":2},{"$f":"INDEX(Weekly!H:H,MATCH($F29,Weekly!$E:$E,0))","v":-1.4428571428571431},{"$f":"INDEX(Weekly!I:I,MATCH($F29,Weekly!$E:$E,0))","v":2},{"$f":"INDEX(Players!F:F,MATCH($F29,Players!#REF!,0))","v":{"$error":"#REF!"}},{"$f":"INDEX(Prizes!F:F,MATCH($B29,Prizes!A:A,0))","v":0},{"$f":"INDEX(Weekly!J:J,MATCH($F29,Weekly!$E:$E,0))","v":0},{"$f":"INDEX(Weekly!K:K,MATCH($F29,Weekly!$E:$E,0))","v":0},{"$f":"INDEX(Weekly!M:M,MATCH($F29,Weekly!$E:$E,0))","v":0},{"$f":"O29+K29","v":{"$error":"#REF!"}}]
[null,"B13","↓",13,"B","Paul Allen",{"$f":"INDEX(Weekly!F:F,MATCH($F30,Weekly!$E:$E,0))","v":-9.3999999999999986},{"$f":"INDEX(Weekly!G:G,MATCH($F30,Weekly!$E:$E,0))","v":2},{"$f":"INDEX(Weekly!H:H,MATCH($F30,Weekly!$E:$E,0))","v":-4.55},{"$f":"INDEX(Weekly!I:I,MATCH($F30,Weekly!$E:$E,0))","v":1},{"$f":"INDEX(Players!F:F,MATCH($F30,Players!#REF!,0))","v":{"$error":"#REF!"}},{"$f":"INDEX(Prizes!F:F,MATCH($B30,Prizes!A:A,0))","v":0},{"$f":"INDEX(Weekly!J:J,MATCH($F30,Weekly!$E:$E,0))","v":0},{"$f":"INDEX(Weekly!K:K,MATCH($F30,Weekly!$E:$E,0))","v":0},{"$f":"INDEX(Weekly!M:M,MATCH($F30,Weekly!$E:$E,0))","v":0},{"$f":"O30+K30","v":{"$error":"#REF!"}}]
[null,"B14","↓",14,"B","Mark Bunn",{"$f":"INDEX(Weekly!F:F,MATCH($F31,Weekly!$E:$E,0))","v":-9.4499999999999993},{"$f":"INDEX(Weekly!G:G,MATCH($F31,Weekly!$E:$E,0))","v":2},{"$f":"INDEX(Weekly!H:H,MATCH($F31,Weekly!$E:$E,0))","v":-4.5999999999999996},{"$f":"INDEX(Weekly!I:I,MATCH($F31,Weekly!$E:$E,0))","v":1},{"$f":"INDEX(Players!F:F,MATCH($F31,Players!#REF!,0))","v":{"$error":"#REF!"}},{"$f":"INDEX(Prizes!F:F,MATCH($B31,Prizes!A:A,0))","v":0},{"$f":"INDEX(Weekly!J:J,MATCH($F31,Weekly!$E:$E,0))","v":0},{"$f":"INDEX(Weekly!K:K,MATCH($F31,Weekly!$E:$E,0))","v":0},{"$f":"INDEX(Weekly!M:M,MATCH($F31,Weekly!$E:$E,0))","v":0},{"$f":"O31+K31","v":{"$error":"#REF!"}}]
[null,"B15","↓",15,"B","Tom Robinson",{"$f":"INDEX(Weekly!F:F,MATCH($F32,Weekly!$E:$E,0))","v":-14},{"$f":"INDEX(Weekly!G:G,MATCH($F32,Weekly!$E:$E,0))","v":0},{"$f":"INDEX(Weekly!H:H,MATCH($F32,Weekly!$E:$E,0))","v":-7},{"$f":"INDEX(Weekly!I:I,MATCH($F32,Weekly!$E:$E,0))","v":0},{"$f":"INDEX(Players!F:F,MATCH($F32,Players!#REF!,0))","v":{"$error":"#REF!"}},{"$f":"INDEX(Prizes!F:F,MATCH($B32,Prizes!A:A,0))","v":0},{"$f":"INDEX(Weekly!J:J,MATCH($F32,Weekly!$E:$E,0))","v":0},{"$f":"INDEX(Weekly!K:K,MATCH($F32,Weekly!$E:$E,0))","v":0},{"$f":"INDEX(Weekly!M:M,MATCH($F32,Weekly!$E:$E,0))","v":0},{"$f":"O32+K32","v":{"$error":"#REF!"}}]
[null,"B16","↓",16,"B","James Bell",{"$f":"INDEX(Weekly!F:F,MATCH($F33,Weekly!$E:$E,0))","v":-14},{"$f":"INDEX(Weekly!G:G,MATCH($F33,Weekly!$E:$E,0))","v":0},{"$f":"INDEX(Weekly!H:H,MATCH($F33,Weekly!$E:$E,0))","v":-7},{"$f":"INDEX(Weekly!I:I,MATCH($F33,Weekly!$E:$E,0))","v":0},{"$f":"INDEX(Players!F:F,MATCH($F33,Players!#REF!,0))","v":{"$error":"#REF!"}},{"$f":"INDEX(Prizes!F:F,MATCH($B33,Prizes!A:A,0))","v":0},{"$f":"INDEX(Weekly!J:J,MATCH($F33,Weekly!$E:$E,0))","v":0},{"$f":"INDEX(Weekly!K:K,MATCH($F33,Weekly!$E:$E,0))","v":0},{"$f":"INDEX(Weekly!M:M,MATCH($F33,Weekly!$E:$E,0))","v":0},{"$f":"O33+K33","v":{"$error":"#REF!"}}]
["Division C","C1","↑",1,"C","Paul Fairhurst",{"$f":"INDEX(Weekly!F:F,MATCH($F34,Weekly!$E:$E,0))","v":203.72},{"$f":"INDEX(Weekly!G:G,MATCH($F34,Weekly!$E:$E,0))","v":4},{"$f":"INDEX(Weekly!H:H,MATCH($F34,Weekly!$E:$E,0))","v":208.72},{"$f":"INDEX(Weekly!I:I,MATCH($F34,Weekly!$E:$E,0))","v":3},{"$f":"INDEX(Players!F:F,MATCH($F34,Players!#REF!,0))","v":{"$error":"#REF!"}},{"$f":"INDEX(Prizes!F:F,MATCH($B34,Prizes!A:A,0))","v":36.225000000000001},{"$f":"INDEX(Weekly!J:J,MATCH($F34,Weekly!$E:$E,0))","v":10},{"$f":"INDEX(Weekly!K:K,MATCH($F34,Weekly!$E:$E,0))","v":0},{"$f":"INDEX(Weekly!M:M,MATCH($F34,Weekly!$E:$E,0))","v":46.225000000000001},{"$f":"O34+K34","v":{"$error":"#REF!"}}]
[null,"C2","↑",2,"C","Chris Bow",{"$f":"INDEX(Weekly!F:F,MATCH($F35,Weekly!$E:$E,0))","v":193.13},{"$f":"INDEX(Weekly!G:G,MATCH($F35,Weekly!$E:$E,0))","v":6},{"$f":"INDEX(Weekly!H:H,MATCH($F35,Weekly!$E:$E,0))","v":150.1},{"$f":"INDEX(Weekly!I:I,MATCH($F35,Weekly!$E:$E,0))","v":3},{"$f":"INDEX(Players!F:F,MATCH($F35,Players!#REF!,0))","v":{"$error":"#REF!"}},{"$f":"INDEX(Prizes!F:F,MATCH($B35,Prizes!A:A,0))","v":25.875},{"$f":"INDEX(Weekly!J:J,MATCH($F35,Weekly!$E:$E,0))","v":15},{"$f":"INDEX(Weekly!K:K,MATCH($F35,Weekly!$E:$E,0))","v":0},{"$f":"INDEX(Weekly!M:M,MATCH($F35,Weekly!$E:$E,0))","v":40.875},{"$f":"O35+K35","v":{"$error":"#REF!"}}]
[null,"C3","↑",3,"C","Chris Townsend",{"$f":"INDEX(Weekly!F:F,MATCH($F36,Weekly!$E:$E,0))","v":15.375},{"$f":"INDEX(Weekly!G:G,MATCH($F36,Weekly!$E:$E,0))","v":3},{"$f":"INDEX(Weekly!H:H,MATCH($F36,Weekly!$E:$E,0))","v":4},{"$f":"INDEX(Weekly!I:I,MATCH($F36,Weekly!$E:$E,0))","v":1},{"$f":"INDEX(Players!F:F,MATCH($F36,Players!#REF!,0))","v":{"$error":"#REF!"}},{"$f":"INDEX(Prizes!F:F,MATCH($B36,Prizes!A:A,0))","v":18.63},{"$f":"INDEX(Weekly!J:J,MATCH($F36,Weekly!$E:$E,0))","v":0},{"$f":"INDEX(Weekly!K:K,MATCH($F36,Weekly!$E:$E,0))","v":0},{"$f":"INDEX(Weekly!M:M,MATCH($F36,Weekly!$E:$E,0))","v":18.63},{"$f":"O36+K36","v":{"$error":"#REF!"}}]
[null,"C4","↑",4,"C","Mal Stott",{"$f":"INDEX(Weekly!F:F,MATCH($F37,Weekly!$E:$E,0))","v":8.5024999999999995},{"$f":"INDEX(Weekly!G:G,MATCH($F37,Weekly!$E:$E,0))","v":4},{"$f":"INDEX(Weekly!H:H,MATCH($F37,Weekly!$E:$E,0))","v":5.9499999999999993},{"$f":"INDEX(Weekly!I:I,MATCH($F37,Weekly!$E:$E,0))","v":2},{"$f":"INDEX(Players!F:F,MATCH($F37,Players!#REF!,0))","v":{"$error":"#REF!"}},{"$f":"INDEX(Prizes!F:F,MATCH($B37,Prizes!A:A,0))","v":12.42},{"$f":"INDEX(Weekly!J:J,MATCH($F37,Weekly!$E:$E,0))","v":0},{"$f":"INDEX(Weekly!K:K,MATCH($F37,Weekly!$E:$E,0))","v":0},{"$f":"INDEX(Weekly!M:M,MATCH($F37,Weekly!$E:$E,0))","v":12.42},{"$f":"O37+K37","v":{"$error":"#REF!"}}]
[null,"C5","↑",5,"C","Charlie Griffiths",{"$f":"INDEX(Weekly!F:F,MATCH($F38,Weekly!$E:$E,0))","v":7.3199999999999985},{"$f":"INDEX(Weekly!G:G,MATCH($F38,Weekly!$E:$E,0))","v":3},{"$f":"INDEX(Weekly!H:H,MATCH($F38,Weekly!$E:$E,0))","v":10.919999999999998},{"$f":"INDEX(Weekly!I:I,MATCH($F38,Weekly!$E:$E,0))","v":2},{"$f":"INDEX(Players!F:F,MATCH($F38,Players!#REF!,0))","v":{"$error":"#REF!"}},{"$f":"INDEX(Prizes!F:F,MATCH($B38,Prizes!A:A,0))","v":7.2450000000000001},{"$f":"INDEX(Weekly!J:J,MATCH($F38,Weekly!$E:$E,0))","v":0},{"$f":"INDEX(Weekly!K:K,MATCH($F38,Weekly!$E:$E,0))","v":0},{"$f":"INDEX(Weekly!M:M,MATCH($F38,Weekly!$E:$E,0))","v":7.2450000000000001},{"$f":"O38+K38","v":{"$error":"#REF!"}}]
[null,"C6","↑",6,"C","Paul Ridgeway",{"$f":"INDEX(Weekly!F:F,MATCH($F39,Weekly!$E:$E,0))","v":4.3507692307692292},{"$f":"INDEX(Weekly!G:G,MATCH($F39,Weekly!$E:$E,0))","v":4},{"$f":"INDEX(Weekly!H:H,MATCH($F39,Weekly!$E:$E,0))","v":-1.069230769230769},{"$f":"INDEX(Weekly!I:I,MATCH($F39,Weekly!$E:$E,0))","v":2},{"$f":"INDEX(Players!F:F,MATCH($F39,Players!#REF!,0))","v":{"$error":"#REF!"}},{"$f":"INDEX(Prizes!F:F,MATCH($B39,Prizes!A:A,0))","v":3.105},{"$f":"INDEX(Weekly!J:J,MATCH($F39,Weekly!$E:$E,0))","v":0},{"$f":"INDEX(Weekly!K:K,MATCH($F39,Weekly!$E:$E,0))","v":0},{"$f":"INDEX(Weekly!M:M,MATCH($F39,Weekly!$E:$E,0))","v":3.105},{"$f":"O39+K39","v":{"$error":"#REF!"}}]
[null,"C7","Play-off",7,"C","Sally Williams",{"$f":"INDEX(Weekly!F:F,MATCH($F40,Weekly!$E:$E,0))","v":1.46875},{"$f":"INDEX(Weekly!G:G,MATCH($F40,Weekly!$E:$E,0))","v":2},{"$f":"INDEX(Weekly!H:H,MATCH($F40,Weekly!$E:$E,0))","v":-7},{"$f":"INDEX(Weekly!I:I,MATCH($F40,Weekly!$E:$E,0))","v":0},{"$f":"INDEX(Players!F:F,MATCH($F40,Players!#REF!,0))","v":{"$error":"#REF!"}},{"$f":"INDEX(Prizes!F:F,MATCH($B40,Prizes!A:A,0))","v":0},{"$f":"INDEX(Weekly!J:J,MATCH($F40,Weekly!$E:$E,0))","v":0},{"$f":"INDEX(Weekly!K:K,MATCH($F40,Weekly!$E:$E,0))","v":0},{"$f":"INDEX(Weekly!M:M,MATCH($F40,Weekly!$E:$E,0))","v":0},{"$f":"O40+K40","v":{"$error":"#REF!"}}]
[null,"C8","Play-off",8,"C","Liam Wah",{"$f":"INDEX(Weekly!F:F,MATCH($F41,Weekly!$E:$E,0))","v":9.9999999999998757E-2},{"$f":"INDEX(Weekly!G:G,MATCH($F41,Weekly!$E:$E,0))","v":3},{"$f":"INDEX(Weekly!H:H,MATCH($F41,Weekly!$E:$E,0))","v":-4.8},{"$f":"INDEX(Weekly!I:I,MATCH($F41,Weekly!$E:$E,0))","v":1},{"$f":"INDEX(Players!F:F,MATCH($F41,Players!#REF!,0))","v":{"$error":"#REF!"}},{"$f":"INDEX(Prizes!F:F,MATCH($B41,Prizes!A:A,0))","v":0},{"$f":"INDEX(Weekly!J:J,MATCH($F41,Weekly!$E:$E,0))","v":0},{"$f":"INDEX(Weekly!K:K,MATCH($F41,Weekly!$E:$E,0))","v":0},{"$f":"INDEX(Weekly!M:M,MATCH($F41,Weekly!$E:$E,0))","v":0},{"$f":"O41+K41","v":{"$error":"#REF!"}}]
[null,"C9","Play-off",9,"C","David Dunn",{"$f":"INDEX(Weekly!F:F,MATCH($F42,Weekly!$E:$E,0))","v":-1.61868131868132},{"$f":"INDEX(Weekly!G:G,MATCH($F42,Weekly!$E:$E,0))","v":4},{"$f":"INDEX(Weekly!H:H,MATCH($F42,Weekly!$E:$E,0))","v":-1.4615384615384617},{"$f":"INDEX(Weekly!I:I,MATCH($F42,Weekly!$E:$E,0))","v":2},{"$f":"INDEX(Players!F:F,MATCH($F42,Players!#REF!,0))","v":{"$error":"#REF!"}},{"$f":"INDEX(Prizes!F:F,MATCH($B42,Prizes!A:A,0))","v":0},{"$f":"INDEX(Weekly!J:J,MATCH($F42,Weekly!$E:$E,0))","v":0},{"$f":"INDEX(Weekly!K:K,MATCH($F42,Weekly!$E:$E,0))","v":0},{"$f":"INDEX(Weekly!M:M,MATCH($F42,Weekly!$E:$E,0))","v":0},{"$f":"O42+K42","v":{"$error":"#REF!"}}]
[null,"C10","Play-off",10,"C","Andy Charleston",{"$f":"INDEX(Weekly!F:F,MATCH($F43,Weekly!$E:$E,0))","v":-3.1000000000000005},{"$f":"INDEX(Weekly!G:G,MATCH($F43,Weekly!$E:$E,0))","v":3},{"$f":"INDEX(Weekly!H:H,MATCH($F43,Weekly!$E:$E,0))","v":-4.55},{"$f":"INDEX(Weekly!I:I,MATCH($F43,Weekly!$E:$E,0))","v":1},{"$f":"INDEX(Players!F:F,MATCH($F43,Players!#REF!,0))","v":{"$error":"#REF!"}},{"$f":"INDEX(Prizes!F:F,MATCH($B43,Prizes!A:A,0))","v":0},{"$f":"INDEX(Weekly!J:J,MATCH($F43,Weekly!$E:$E,0))","v":0},{"$f":"INDEX(Weekly!K:K,MATCH($F43,Weekly!$E:$E,0))","v":0},{"$f":"INDEX(Weekly!M:M,MATCH($F43,Weekly!$E:$E,0))","v":0},{"$f":"O43+K43","v":{"$error":"#REF!"}}]
[null,"C11","↓",11,"C","Chris Griffin",{"$f":"INDEX(Weekly!F:F,MATCH($F44,Weekly!$E:$E,0))","v":-5.2846153846153854},{"$f":"INDEX(Weekly!G:G,MATCH($F44,Weekly!$E:$E,0))","v":3},{"$f":"INDEX(Weekly!H:H,MATCH($F44,Weekly!$E:$E,0))","v":-0.28461538461538538},{"$f":"INDEX(Weekly!I:I,MATCH($F44,Weekly!$E:$E,0))","v":2},{"$f":"INDEX(Players!F:F,MATCH($F44,Players!#REF!,0))","v":{"$error":"#REF!"}},{"$f":"INDEX(Prizes!F:F,MATCH($B44,Prizes!A:A,0))","v":0},{"$f":"INDEX(Weekly!J:J,MATCH($F44,Weekly!$E:$E,0))","v":0},{"$f":"INDEX(Weekly!K:K,MATCH($F44,Weekly!$E:$E,0))","v":0},{"$f":"INDEX(Weekly!M:M,MATCH($F44,Weekly!$E:$E,0))","v":0},{"$f":"O44+K44","v":{"$error":"#REF!"}}]
[null,"C12","↓",12,"C","Jack Walsh",{"$f":"INDEX(Weekly!F:F,MATCH($F45,Weekly!$E:$E,0))","v":-6.3692307692307697},{"$f":"INDEX(Weekly!G:G,MATCH($F45,Weekly!$E:$E,0))","v":2},{"$f":"INDEX(Weekly!H:H,MATCH($F45,Weekly!$E:$E,0))","v":0.6307692307692303},{"$f":"INDEX(Weekly!I:I,MATCH($F45,Weekly!$E:$E,0))","v":2},{"$f":"INDEX(Players!F:F,MATCH($F45,Players!#REF!,0))","v":{"$error":"#REF!"}},{"$f":"INDEX(Prizes!F:F,MATCH($B45,Prizes!A:A,0))","v":0},{"$f":"INDEX(Weekly!J:J,MATCH($F45,Weekly!$E:$E,0))","v":0},{"$f":"INDEX(Weekly!K:K,MATCH($F45,Weekly!$E:$E,0))","v":0},{"$f":"INDEX(Weekly!M:M,MATCH($F45,Weekly!$E:$E,0))","v":0},{"$f":"O45+K45","v":{"$error":"#REF!"}}]
[null,"C13","↓",13,"C","Alan White",{"$f":"INDEX(Weekly!F:F,MATCH($F46,Weekly!$E:$E,0))","v":-6.5750000000000002},{"$f":"INDEX(Weekly!G:G,MATCH($F46,Weekly!$E:$E,0))","v":3},{"$f":"INDEX(Weekly!H:H,MATCH($F46,Weekly!$E:$E,0))","v":-1.625},{"$f":"INDEX(Weekly!I:I,MATCH($F46,Weekly!$E:$E,0))","v":2},{"$f":"INDEX(Players!F:F,MATCH($F46,Players!#REF!,0))","v":{"$error":"#REF!"}},{"$f":"INDEX(Prizes!F:F,MATCH($B46,Prizes!A:A,0))","v":0},{"$f":"INDEX(Weekly!J:J,MATCH($F46,Weekly!$E:$E,0))","v":0},{"$f":"INDEX(Weekly!K:K,MATCH($F46,Weekly!$E:$E,0))","v":0},{"$f":"INDEX(Weekly!M:M,MATCH($F46,Weekly!$E:$E,0))","v":0},{"$f":"O46+K46","v":{"$error":"#REF!"}}]
[null,"C14","↓",14,"C","Gareth McGuire",{"$f":"INDEX(Weekly!F:F,MATCH($F47,Weekly!$E:$E,0))","v":-9.8999999999999986},{"$f":"INDEX(Weekly!G:G,MATCH($F47,Weekly!$E:$E,0))","v":2},{"$f":"INDEX(Weekly!H:H,MATCH($F47,Weekly!$E:$E,0))","v":-5.05},{"$f":"INDEX(Weekly!I:I,MATCH($F47,Weekly!$E:$E,0))","v":1},{"$f":"INDEX(Players!F:F,MATCH($F47,Players!#REF!,0))","v":{"$error":"#REF!"}},{"$f":"INDEX(Prizes!F:F,MATCH($B47,Prizes!A:A,0))","v":0},{"$f":"INDEX(Weekly!J:J,MATCH($F47,Weekly!$E:$E,0))","v":0},{"$f":"INDEX(Weekly!K:K,MATCH($F47,Weekly!$E:$E,0))","v":0},{"$f":"INDEX(Weekly!M:M,MATCH($F47,Weekly!$E:$E,0))","v":0},{"$f":"O47+K47","v":{"$error":"#REF!"}}]
[null,"C15","↓",15,"C","Ian Davies",{"$f":"INDEX(Weekly!F:F,MATCH($F48,Weekly!$E:$E,0))","v":-11.125},{"$f":"INDEX(Weekly!G:G,MATCH($F48,Weekly!$E:$E,0))","v":1},{"$f":"INDEX(Weekly!H:H,MATCH($F48,Weekly!$E:$E,0))","v":-4.125},{"$f":"INDEX(Weekly!I:I,MATCH($F48,Weekly!$E:$E,0))","v":1},{"$f":"INDEX(Players!F:F,MATCH($F48,Players!#REF!,0))","v":{"$error":"#REF!"}},{"$f":"INDEX(Prizes!F:F,MATCH($B48,Prizes!A:A,0))","v":0},{"$f":"INDEX(Weekly!J:J,MATCH($F48,Weekly!$E:$E,0))","v":0},{"$f":"INDEX(Weekly!K:K,MATCH($F48,Weekly!$E:$E,0))","v":0},{"$f":"INDEX(Weekly!M:M,MATCH($F48,Weekly!$E:$E,0))","v":0},{"$f":"O48+K48","v":{"$error":"#REF!"}}]
[null,"C16","↓",16,"C","Gareth Fallows",{"$f":"INDEX(Weekly!F:F,MATCH($F49,Weekly!$E:$E,0))","v":-14},{"$f":"INDEX(Weekly!G:G,MATCH($F49,Weekly!$E:$E,0))","v":0},{"$f":"INDEX(Weekly!H:H,MATCH($F49,Weekly!$E:$E,0))","v":-7},{"$f":"INDEX(Weekly!I:I,MATCH($F49,Weekly!$E:$E,0))","v":0},{"$f":"INDEX(Players!F:F,MATCH($F49,Players!#REF!,0))","v":{"$error":"#REF!"}},{"$f":"INDEX(Prizes!F:F,MATCH($B49,Prizes!A:A,0))","v":0},{"$f":"INDEX(Weekly!J:J,MATCH($F49,Weekly!$E:$E,0))","v":0},{"$f":"INDEX(Weekly!K:K,MATCH($F49,Weekly!$E:$E,0))","v":0},{"$f":"INDEX(Weekly!M:M,MATCH($F49,Weekly!$E:$E,0))","v":0},{"$f":"O49+K49","v":{"$error":"#REF!"}}]
["Division D","D1","↑",1,"D","Dave Orrell",{"$f":"INDEX(Weekly!F:F,MATCH($F50,Weekly!$E:$E,0))","v":23.606249999999996},{"$f":"INDEX(Weekly!G:G,MATCH($F50,Weekly!$E:$E,0))","v":4},{"$f":"INDEX(Weekly!H:H,MATCH($F50,Weekly!$E:$E,0))","v":28.506249999999994},{"$f":"INDEX(Weekly!I:I,MATCH($F50,Weekly!$E:$E,0))","v":3},{"$f":"INDEX(Players!F:F,MATCH($F50,Players!#REF!,0))","v":{"$error":"#REF!"}},{"$f":"INDEX(Prizes!F:F,MATCH($B50,Prizes!A:A,0))","v":24.15},{"$f":"INDEX(Weekly!J:J,MATCH($F50,Weekly!$E:$E,0))","v":5},{"$f":"INDEX(Weekly!K:K,MATCH($F50,Weekly!$E:$E,0))","v":0},{"$f":"INDEX(Weekly!M:M,MATCH($F50,Weekly!$E:$E,0))","v":29.15},{"$f":"O50+K50","v":{"$error":"#REF!"}}]
[null,"D2","↑",2,"D","Paul Barnes",{"$f":"INDEX(Weekly!F:F,MATCH($F51,Weekly!$E:$E,0))","v":1.6730769230769234},{"$f":"INDEX(Weekly!G:G,MATCH($F51,Weekly!$E:$E,0))","v":3},{"$f":"INDEX(Weekly!H:H,MATCH($F51,Weekly!$E:$E,0))","v":8.6730769230769234},{"$f":"INDEX(Weekly!I:I,MATCH($F51,Weekly!$E:$E,0))","v":3},{"$f":"INDEX(Players!F:F,MATCH($F51,Players!#REF!,0))","v":{"$error":"#REF!"}},{"$f":"INDEX(Prizes!F:F,MATCH($B51,Prizes!A:A,0))","v":17.25},{"$f":"INDEX(Weekly!J:J,MATCH($F51,Weekly!$E:$E,0))","v":0},{"$f":"INDEX(Weekly!K:K,MATCH($F51,Weekly!$E:$E,0))","v":0},{"$f":"INDEX(Weekly!M:M,MATCH($F51,Weekly!$E:$E,0))","v":17.25},{"$f":"O51+K51","v":{"$error":"#REF!"}}]
[null,"D3","↑",3,"D","Lewis Buckley",{"$f":"INDEX(Weekly!F:F,MATCH($F52,Weekly!$E:$E,0))","v":-0.23500000000000121},{"$f":"INDEX(Weekly!G:G,MATCH($F52,Weekly!$E:$E,0))","v":3},{"$f":"INDEX(Weekly!H:H,MATCH($F52,Weekly!$E:$E,0))","v":-5.35},{"$f":"INDEX(Weekly!I:I,MATCH($F52,Weekly!$E:$E,0))","v":1},{"$f":"INDEX(Players!F:F,MATCH($F52,Players!#REF!,0))","v":{"$error":"#REF!"}},{"$f":"INDEX(Prizes!F:F,MATCH($B52,Prizes!A:A,0))","v":12.42},{"$f":"INDEX(Weekly!J:J,MATCH($F52,Weekly!$E:$E,0))","v":0},{"$f":"INDEX(Weekly!K:K,MATCH($F52,Weekly!$E:$E,0))","v":0},{"$f":"INDEX(Weekly!M:M,MATCH($F52,Weekly!$E:$E,0))","v":12.42},{"$f":"O52+K52","v":{"$error":"#REF!"}}]
[null,"D4","↑",4,"D","Ashley Houghton",{"$f":"INDEX(Weekly!F:F,MATCH($F53,Weekly!$E:$E,0))","v":-0.34499999999999886},{"$f":"INDEX(Weekly!G:G,MATCH($F53,Weekly!$E:$E,0))","v":4},{"$f":"INDEX(Weekly!H:H,MATCH($F53,Weekly!$E:$E,0))","v":-0.625},{"$f":"INDEX(Weekly!I:I,MATCH($F53,Weekly!$E:$E,0))","v":2},{"$f":"INDEX(Players!F:F,MATCH($F53,Players!#REF!,0))","v":{"$error":"#REF!"}},{"$f":"INDEX(Prizes!F:F,MATCH($B53,Prizes!A:A,0))","v":8.2799999999999994},{"$f":"INDEX(Weekly!J:J,MATCH($F53,Weekly!$E:$E,0))","v":0},{"$f":"INDEX(Weekly!K:K,MATCH($F53,Weekly!$E:$E,0))","v":0},{"$f":"INDEX(Weekly!M:M,MATCH($F53,Weekly!$E:$E,0))","v":8.2799999999999994},{"$f":"O53+K53","v":{"$error":"#REF!"}}]
[null,"D5","↑",5,"D","Graham Miller",{"$f":"INDEX(Weekly!F:F,MATCH($F54,Weekly!$E:$E,0))","v":-3.4425000000000017},{"$f":"INDEX(Weekly!G:G,MATCH($F54,Weekly!$E:$E,0))","v":3},{"$f":"INDEX(Weekly!H:H,MATCH($F54,Weekly!$E:$E,0))","v":-5.05},{"$f":"INDEX(Weekly!I:I,MATCH($F54,Weekly!$E:$E,0))","v":1},{"$f":"INDEX(Players!F:F,MATCH($F54,Players!#REF!,0))","v":{"$error":"#REF!"}},{"$f":"INDEX(Prizes!F:F,MATCH($B54,Prizes!A:A,0))","v":4.83},{"$f":"INDEX(Weekly!J:J,MATCH($F54,Weekly!$E:$E,0))","v":0},{"$f":"INDEX(Weekly!K:K,MATCH($F54,Weekly!$E:$E,0))","v":0},{"$f":"INDEX(Weekly!M:M,MATCH($F54,Weekly!$E:$E,0))","v":4.83},{"$f":"O54+K54","v":{"$error":"#REF!"}}]
[null,"D6","↑",6,"D","Martin Tarbuck",{"$f":"INDEX(Weekly!F:F,MATCH($F55,Weekly!$E:$E,0))","v":-4.6000000000000005},{"$f":"INDEX(Weekly!G:G,MATCH($F55,Weekly!$E:$E,0))","v":3},{"$f":"INDEX(Weekly!H:H,MATCH($F55,Weekly!$E:$E,0))","v":-4.7},{"$f":"INDEX(Weekly!I:I,MATCH($F55,Weekly!$E:$E,0))","v":1},{"$f":"INDEX(Players!F:F,MATCH($F55,Players!#REF!,0))","v":{"$error":"#REF!"}},{"$f":"INDEX(Prizes!F:F,MATCH($B55,Prizes!A:A,0))","v":2.0699999999999998},{"$f":"INDEX(Weekly!J:J,MATCH($F55,Weekly!$E:$E,0))","v":0},{"$f":"INDEX(Weekly!K:K,MATCH($F55,Weekly!$E:$E,0))","v":0},{"$f":"INDEX(Weekly!M:M,MATCH($F55,Weekly!$E:$E,0))","v":2.0699999999999998},{"$f":"O55+K55","v":{"$error":"#REF!"}}]
[null,"D7","Play-off",7,"D","Nick Blocksidge",{"$f":"INDEX(Weekly!F:F,MATCH($F56,Weekly!$E:$E,0))","v":-6.2928571428571427},{"$f":"INDEX(Weekly!G:G,MATCH($F56,Weekly!$E:$E,0))","v":3},{"$f":"INDEX(Weekly!H:H,MATCH($F56,Weekly!$E:$E,0))","v":-1.4428571428571431},{"$f":"INDEX(Weekly!I:I,MATCH($F56,Weekly!$E:$E,0))","v":2},{"$f":"INDEX(Players!F:F,MATCH($F56,Players!#REF!,0))","v":{"$error":"#REF!"}},{"$f":"INDEX(Prizes!F:F,MATCH($B56,Prizes!A:A,0))","v":0},{"$f":"INDEX(Weekly!J:J,MATCH($F56,Weekly!$E:$E,0))","v":0},{"$f":"INDEX(Weekly!K:K,MATCH($F56,Weekly!$E:$E,0))","v":0},{"$f":"INDEX(Weekly!M:M,MATCH($F56,Weekly!$E:$E,0))","v":0},{"$f":"O56+K56","v":{"$error":"#REF!"}}]
[null,"D8","Play-off",8,"D","Paul Adderley",{"$f":"INDEX(Weekly!F:F,MATCH($F57,Weekly!$E:$E,0))","v":-6.4615384615384617},{"$f":"INDEX(Weekly!G:G,MATCH($F57,Weekly!$E:$E,0))","v":3},{"$f":"INDEX(Weekly!H:H,MATCH($F57,Weekly!$E:$E,0))","v":-1.4615384615384617},{"$f":"INDEX(Weekly!I:I,MATCH($F57,Weekly!$E:$E,0))","v":2},{"$f":"INDEX(Players!F:F,MATCH($F57,Players!#REF!,0))","v":{"$error":"#REF!"}},{"$f":"INDEX(Prizes!F:F,MATCH($B57,Prizes!A:A,0))","v":0},{"$f":"INDEX(Weekly!J:J,MATCH($F57,Weekly!$E:$E,0))","v":0},{"$f":"INDEX(Weekly!K:K,MATCH($F57,Weekly!$E:$E,0))","v":0},{"$f":"INDEX(Weekly!M:M,MATCH($F57,Weekly!$E:$E,0))","v":0},{"$f":"O57+K57","v":{"$error":"#REF!"}}]
[null,"D9",null,9,"D","John Ronan",{"$f":"INDEX(Weekly!F:F,MATCH($F58,Weekly!$E:$E,0))","v":-9.6999999999999993},{"$f":"INDEX(Weekly!G:G,MATCH($F58,Weekly!$E:$E,0))","v":2},{"$f":"INDEX(Weekly!H:H,MATCH($F58,Weekly!$E:$E,0))","v":-4.8499999999999996},{"$f":"INDEX(Weekly!I:I,MATCH($F58,Weekly!$E:$E,0))","v":1},{"$f":"INDEX(Players!F:F,MATCH($F58,Players!#REF!,0))","v":{"$error":"#REF!"}},{"$f":"INDEX(Prizes!F:F,MATCH($B58,Prizes!A:A,0))","v":0},{"$f":"INDEX(Weekly!J:J,MATCH($F58,Weekly!$E:$E,0))","v":0},{"$f":"INDEX(Weekly!K:K,MATCH($F58,Weekly!$E:$E,0))","v":0},{"$f":"INDEX(Weekly!M:M,MATCH($F58,Weekly!$E:$E,0))","v":0},{"$f":"O58+K58","v":{"$error":"#REF!"}}]
[null,"D10",null,10,"D","Joel Bent",{"$f":"INDEX(Weekly!F:F,MATCH($F59,Weekly!$E:$E,0))","v":-10.778571428571428},{"$f":"INDEX(Weekly!G:G,MATCH($F59,Weekly!$E:$E,0))","v":2},{"$f":"INDEX(Weekly!H:H,MATCH($F59,Weekly!$E:$E,0))","v":-5.35},{"$f":"INDEX(Weekly!I:I,MATCH($F59,Weekly!$E:$E,0))","v":1},{"$f":"INDEX(Players!F:F,MATCH($F59,Players!#REF!,0))","v":{"$error":"#REF!"}},{"$f":"INDEX(Prizes!F:F,MATCH($B59,Prizes!A:A,0))","v":0},{"$f":"INDEX(Weekly!J:J,MATCH($F59,Weekly!$E:$E,0))","v":0},{"$f":"INDEX(Weekly!K:K,MATCH($F59,Weekly!$E:$E,0))","v":0},{"$f":"INDEX(Weekly!M:M,MATCH($F59,Weekly!$E:$E,0))","v":0},{"$f":"O59+K59","v":{"$error":"#REF!"}}]
[null,"D11",null,11,"D","Ben Rosser",{"$f":"INDEX(Weekly!F:F,MATCH($F60,Weekly!$E:$E,0))","v":-11.95},{"$f":"INDEX(Weekly!G:G,MATCH($F60,Weekly!$E:$E,0))","v":1},{"$f":"INDEX(Weekly!H:H,MATCH($F60,Weekly!$E:$E,0))","v":-7},{"$f":"INDEX(Weekly!I:I,MATCH($F60,Weekly!$E:$E,0))","v":0},{"$f":"INDEX(Players!F:F,MATCH($F60,Players!#REF!,0))","v":{"$error":"#REF!"}},{"$f":"INDEX(Prizes!F:F,MATCH($B60,Prizes!A:A,0))","v":0},{"$f":"INDEX(Weekly!J:J,MATCH($F60,Weekly!$E:$E,0))","v":0},{"$f":"INDEX(Weekly!K:K,MATCH($F60,Weekly!$E:$E,0))","v":0},{"$f":"INDEX(Weekly!M:M,MATCH($F60,Weekly!$E:$E,0))","v":0},{"$f":"O60+K60","v":{"$error":"#REF!"}}]
[null,"D12",null,12,"D","Howard Bradley",{"$f":"INDEX(Weekly!F:F,MATCH($F61,Weekly!$E:$E,0))","v":-12.428571428571429},{"$f":"INDEX(Weekly!G:G,MATCH($F61,Weekly!$E:$E,0))","v":1},{"$f":"INDEX(Weekly!H:H,MATCH($F61,Weekly!$E:$E,0))","v":-5.4285714285714288},{"$f":"INDEX(Weekly!I:I,MATCH($F61,Weekly!$E:$E,0))","v":1},{"$f":"INDEX(Players!F:F,MATCH($F61,Players!#REF!,0))","v":{"$error":"#REF!"}},{"$f":"INDEX(Prizes!F:F,MATCH($B61,Prizes!A:A,0))","v":0},{"$f":"INDEX(Weekly!J:J,MATCH($F61,Weekly!$E:$E,0))","v":0},{"$f":"INDEX(Weekly!K:K,MATCH($F61,Weekly!$E:$E,0))","v":0},{"$f":"INDEX(Weekly!M:M,MATCH($F61,Weekly!$E:$E,0))","v":0},{"$f":"O61+K61","v":{"$error":"#REF!"}}]
[null,"D13",null,13,"D","Simon Greenhalgh",{"$f":"INDEX(Weekly!F:F,MATCH($F62,Weekly!$E:$E,0))","v":-12.5},{"$f":"INDEX(Weekly!G:G,MATCH($F62,Weekly!$E:$E,0))","v":1},{"$f":"INDEX(Weekly!H:H,MATCH($F62,Weekly!$E:$E,0))","v":-5.5},{"$f":"INDEX(Weekly!I:I,MATCH($F62,Weekly!$E:$E,0))","v":1},{"$f":"INDEX(Players!F:F,MATCH($F62,Players!#REF!,0))","v":{"$error":"#REF!"}},{"$f":"INDEX(Prizes!F:F,MATCH($B62,Prizes!A:A,0))","v":0},{"$f":"INDEX(Weekly!J:J,MATCH($F62,Weekly!$E:$E,0))","v":0},{"$f":"INDEX(Weekly!K:K,MATCH($F62,Weekly!$E:$E,0))","v":0},{"$f":"INDEX(Weekly!M:M,MATCH($F62,Weekly!$E:$E,0))","v":0},{"$f":"O62+K62","v":{"$error":"#REF!"}}]
[null,"D14",null,14,"D","Dan Baxter",{"$f":"INDEX(Weekly!F:F,MATCH($F63,Weekly!$E:$E,0))","v":-14},{"$f":"INDEX(Weekly!G:G,MATCH($F63,Weekly!$E:$E,0))","v":0},{"$f":"INDEX(Weekly!H:H,MATCH($F63,Weekly!$E:$E,0))","v":-7},{"$f":"INDEX(Weekly!I:I,MATCH($F63,Weekly!$E:$E,0))","v":0},{"$f":"INDEX(Players!F:F,MATCH($F63,Players!#REF!,0))","v":{"$error":"#REF!"}},{"$f":"INDEX(Prizes!F:F,MATCH($B63,Prizes!A:A,0))","v":0},{"$f":"INDEX(Weekly!J:J,MATCH($F63,Weekly!$E:$E,0))","v":0},{"$f":"INDEX(Weekly!K:K,MATCH($F63,Weekly!$E:$E,0))","v":0},{"$f":"INDEX(Weekly!M:M,MATCH($F63,Weekly!$E:$E,0))","v":0},{"$f":"O63+K63","v":{"$error":"#REF!"}}]
[]
[]
[null,"",null,null,null,null,null,null,null,null,{"$f":"INDEX(Players!F:F,MATCH($F66,Players!#REF!,0))","v":{"$error":"#REF!"}}]
[null,{"$f":"CONCATENATE(E67,D67)","v":""},null,null,null,null,null,null,null,null,{"$f":"INDEX(Players!F:F,MATCH($F67,Players!#REF!,0))","v":{"$error":"#REF!"}}]
[null,{"$f":"CONCATENATE(E68,D68)","v":""},null,null,null,null,null,null,null,null,{"$f":"INDEX(Players!F:F,MATCH($F68,Players!#REF!,0))","v":{"$error":"#REF!"}}]
[null,{"$f":"CONCATENATE(E69,D69)","v":""},null,null,null,null,null,null,null,null,{"$f":"INDEX(Players!F:F,MATCH($F69,Players!#REF!,0))","v":{"$error":"#REF!"}}]
[]
[]
[null,null,null,null,null,null,null,null,null,null,null,{"$f":"SUM(L2:L70)","v":690},{"$f":"SUM(M2:M70)","v":50},{"$f":"SUM(N2:N70)","v":0},{"$f":"SUM(O2:O70)","v":740},{"$f":"SUM(P2:P70)","v":{"$error":"#REF!"}}]

{"sheet":"Weekly","index":4,"n_rows":65,"n_cols":76,"rows_kept":65,"cut":false,"hidden":false,"merged":[]}
["Rank Seas","Rank Wk","Pos L/W","Div","Player","Season\nScore","Season\nCorrect","Week\nScore","Week\n? of 3","Weekly\nPrizes","Cup\nPrize","League\nPlace Prize","Total\nPrize","W1","W1Q","W1P","W2","W2Q","W2P","W3","W3Q","W3P","W4","W4Q","W4P","W5","W5Q","W5P","W6","W6Q","W6P","W7","W7Q","W7P","W8","W8Q","W8P","W9","W9Q","W9P","W10","W10Q","W10P","W11","W11Q","W11P","W12","W12Q","W12P","W13","W13Q","W13P","W14","W14Q","W14P","W15","W15Q","W15P","W16","W16Q","W16P","W17","W17Q","W17P","W18","W18Q","W18P","W19","W19Q","W19P","W20","W20Q","W20P","Seas","SeasQ","SeasP"]
[{"$f":"_xlfn.RANK.EQ(F2,totalscores,0)","v":21},{"$f":"_xlfn.RANK.EQ(H2,thisweekscore,0)","v":53},9,{"$f":"INDEX(Table!E:E,MATCH(E2,Table!F:F,0))","v":"A"},"Alan Rogers",{"$f":"+N2+Q2+T2+W2+Z2+AC2+AF2+AI2+AL2+AO2+AR2+AU2+AX2+BA2+BD2+BG2+BJ2+BM2+BP2+BS2","v":-3.9999999999999147E-2},{"$f":"+O2+R2+U2+X2+AA2+AD2+AG2+AJ2+AM2+AP2+AS2+AV2+AY2+BB2+BE2+BH2+BK2+BN2+BQ2+BT2","v":2},-7,0,{"$f":"P2+S2+V2+Y2+AB2+AE2+AH2+AK2+AN2+AQ2+AT2+AW2+AZ2+BC2+BF2+BI2+BL2+BO2+BR2+BU2","v":0},null,{"$f":"INDEX(Table!L:L,MATCH(E2,Table!F:F,0))","v":0},{"$f":"K2+J2+L2","v":0},6.9600000000000009,2,null,-7,0,null,null,null,null,null,null,null,null,null,null,null,null,null,null,null,null,null,null,null,null,null,null,null,null,null,null,null,null,null,null,null,null,null,null,null,null,null,null,null,null,null,null,null,null,null,null,null,null,null,null,null,null,null,null,null,{"$f":"BS2+BP2+BM2+BJ2+BG2+BD2+BA2+AX2+AU2+AR2+AO2+AL2+AI2+AF2+AC2+Z2+W2+T2+Q2+N2","v":-3.9999999999999147E-2},{"$f":"BT2+BQ2+BN2+BK2+BH2+BE2+BB2+AY2+AV2+AS2+AP2+AM2+AJ2+AG2+AD2+AA2+X2+U2+R2+O2","v":2},{"$f":"BU2+BR2+BO2+BL2+BI2+BF2+BC2+AZ2+AW2+AT2+AQ2+AN2+AK2+AH2+AE2+AB2+Y2+V2+S2+P2","v":0}]
[43,31,36,{"$f":"INDEX(Table!E:E,MATCH(E3,Table!F:F,0))","v":"C"},"Alan White",-6.5750000000000002,3,-1.625,2,{"$f":"P3+S3+V3+Y3+AB3+AE3+AH3+AK3+AN3+AQ3+AT3+AW3+AZ3+BC3+BF3+BI3+BL3+BO3+BR3+BU3","v":0},null,{"$f":"INDEX(Table!L:L,MATCH(E3,Table!F:F,0))","v":0},{"$f":"K3+J3+L3","v":0},-4.95,1,null,-1.625,2,null,null,null,null,null,null,null,null,null,null,null,null,null,null,null,null,null,null,null,null,null,null,null,null,null,null,null,null,null,null,null,null,null,null,null,null,null,null,null,null,null,null,null,null,null,null,null,null,null,null,null,null,null,null,null,-6.5750000000000002,3,0]
[51,53,25,{"$f":"INDEX(Table!E:E,MATCH(E4,Table!F:F,0))","v":"A"},"Alfie Davies",-10.75,1,-7,0,0,null,{"$f":"INDEX(Table!L:L,MATCH(E4,Table!F:F,0))","v":0},0,-3.75,1,null,-7,0,null,null,null,null,null,null,null,null,null,null,null,null,null,null,null,null,null,null,null,null,null,null,null,null,null,null,null,null,null,null,null,null,null,null,null,null,null,null,null,null,null,null,null,null,null,null,null,null,null,null,null,null,null,null,null,-10.75,1,0]
[14,6,47,{"$f":"INDEX(Table!E:E,MATCH(E5,Table!F:F,0))","v":"A"},"Alick Rocca",3.8062500000000021,3,10.806250000000002,3,0,null,{"$f":"INDEX(Table!L:L,MATCH(E5,Table!F:F,0))","v":37.26},37.26,-7,0,null,10.806250000000002,3,null,null,null,null,null,null,null,null,null,null,null,null,null,null,null,null,null,null,null,null,null,null,null,null,null,null,null,null,null,null,null,null,null,null,null,null,null,null,null,null,null,null,null,null,null,null,null,null,null,null,null,null,null,null,null,3.8062500000000021,3,0]
[30,36,19,{"$f":"INDEX(Table!E:E,MATCH(E6,Table!F:F,0))","v":"C"},"Andy Charleston",-3.1000000000000005,3,-4.55,1,0,null,{"$f":"INDEX(Table!L:L,MATCH(E6,Table!F:F,0))","v":0},0,1.4499999999999993,2,null,-4.55,1,null,null,null,null,null,null,null,null,null,null,null,null,null,null,null,null,null,null,null,null,null,null,null,null,null,null,null,null,null,null,null,null,null,null,null,null,null,null,null,null,null,null,null,null,null,null,null,null,null,null,null,null,null,null,null,-3.1000000000000005,3,0]
[24,36,13,{"$f":"INDEX(Table!E:E,MATCH(E7,Table!F:F,0))","v":"B"},"Andy White",-0.73125000000000195,3,-4.55,1,0,null,{"$f":"INDEX(Table!L:L,MATCH(E7,Table!F:F,0))","v":24.84},24.84,3.8187499999999979,2,null,-4.55,1,null,null,null,null,null,null,null,null,null,null,null,null,null,null,null,null,null,null,null,null,null,null,null,null,null,null,null,null,null,null,null,null,null,null,null,null,null,null,null,null,null,null,null,null,null,null,null,null,null,null,null,null,null,null,null,-0.73125000000000195,3,0]
[23,22,20,{"$f":"INDEX(Table!E:E,MATCH(E8,Table!F:F,0))","v":"D"},"Ashley Houghton",-0.34499999999999886,4,-0.625,2,0,null,{"$f":"INDEX(Table!L:L,MATCH(E8,Table!F:F,0))","v":8.2799999999999994},8.2799999999999994,0.28000000000000114,2,null,-0.625,2,null,null,null,null,null,null,null,null,null,null,null,null,null,null,null,null,null,null,null,null,null,null,null,null,null,null,null,null,null,null,null,null,null,null,null,null,null,null,null,null,null,null,null,null,null,null,null,null,null,null,null,null,null,null,null,-0.34499999999999886,4,0]
[45,26,47,{"$f":"INDEX(Table!E:E,MATCH(E9,Table!F:F,0))","v":"B"},"Barry Birchall",-8.4428571428571431,2,-1.4428571428571431,2,0,null,{"$f":"INDEX(Table!L:L,MATCH(E9,Table!F:F,0))","v":0},0,-7,0,null,-1.4428571428571431,2,null,null,null,null,null,null,null,null,null,null,null,null,null,null,null,null,null,null,null,null,null,null,null,null,null,null,null,null,null,null,null,null,null,null,null,null,null,null,null,null,null,null,null,null,null,null,null,null,null,null,null,null,null,null,null,-8.4428571428571431,2,0]
[56,53,36,{"$f":"INDEX(Table!E:E,MATCH(E10,Table!F:F,0))","v":"D"},"Ben Rosser",-11.95,1,-7,0,0,null,{"$f":"INDEX(Table!L:L,MATCH(E10,Table!F:F,0))","v":0},0,-4.95,1,null,-7,0,null,null,null,null,null,null,null,null,null,null,null,null,null,null,null,null,null,null,null,null,null,null,null,null,null,null,null,null,null,null,null,null,null,null,null,null,null,null,null,null,null,null,null,null,null,null,null,null,null,null,null,null,null,null,null,-11.95,1,0]
[10,5,24,{"$f":"INDEX(Table!E:E,MATCH(E11,Table!F:F,0))","v":"C"},"Charlie Griffiths",7.3199999999999985,3,10.919999999999998,2,0,null,{"$f":"INDEX(Table!L:L,MATCH(E11,Table!F:F,0))","v":7.2450000000000001},7.2450000000000001,-3.6,1,null,10.919999999999998,2,null,null,null,null,null,null,null,null,null,null,null,null,null,null,null,null,null,null,null,null,null,null,null,null,null,null,null,null,null,null,null,null,null,null,null,null,null,null,null,null,null,null,null,null,null,null,null,null,null,null,null,null,null,null,null,7.3199999999999985,3,0]
[2,3,1,{"$f":"INDEX(Table!E:E,MATCH(E12,Table!F:F,0))","v":"C"},"Chris Bow",193.13,6,150.1,3,15,null,{"$f":"INDEX(Table!L:L,MATCH(E12,Table!F:F,0))","v":25.875},40.875,43.03,3,10,150.1,3,5,null,null,null,null,null,null,null,null,null,null,null,null,null,null,null,null,null,null,null,null,null,null,null,null,null,null,null,null,null,null,null,null,null,null,null,null,null,null,null,null,null,null,null,null,null,null,null,null,null,null,null,null,null,null,193.13,6,15]
[35,21,41,{"$f":"INDEX(Table!E:E,MATCH(E13,Table!F:F,0))","v":"C"},"Chris Griffin",-5.2846153846153854,3,-0.28461538461538538,2,0,null,{"$f":"INDEX(Table!L:L,MATCH(E13,Table!F:F,0))","v":0},0,-5,1,null,-0.28461538461538538,2,null,null,null,null,null,null,null,null,null,null,null,null,null,null,null,null,null,null,null,null,null,null,null,null,null,null,null,null,null,null,null,null,null,null,null,null,null,null,null,null,null,null,null,null,null,null,null,null,null,null,null,null,null,null,null,-5.2846153846153854,3,0]
[27,11,47,{"$f":"INDEX(Table!E:E,MATCH(E14,Table!F:F,0))","v":"A"},"Chris Luck",-1.8249999999999993,2,5.1750000000000007,2,0,null,{"$f":"INDEX(Table!L:L,MATCH(E14,Table!F:F,0))","v":0},0,-7,0,null,5.1750000000000007,2,null,null,null,null,null,null,null,null,null,null,null,null,null,null,null,null,null,null,null,null,null,null,null,null,null,null,null,null,null,null,null,null,null,null,null,null,null,null,null,null,null,null,null,null,null,null,null,null,null,null,null,null,null,null,null,-1.8249999999999993,2,0]
[6,12,5,{"$f":"INDEX(Table!E:E,MATCH(E15,Table!F:F,0))","v":"C"},"Chris Townsend",15.375,3,4,1,0,null,{"$f":"INDEX(Table!L:L,MATCH(E15,Table!F:F,0))","v":18.63},18.63,11.375,2,null,4,1,null,null,null,null,null,null,null,null,null,null,null,null,null,null,null,null,null,null,null,null,null,null,null,null,null,null,null,null,null,null,null,null,null,null,null,null,null,null,null,null,null,null,null,null,null,null,null,null,null,null,null,null,null,null,null,15.375,3,0]
[59,53,47,{"$f":"INDEX(Table!E:E,MATCH(E16,Table!F:F,0))","v":"D"},"Dan Baxter",-14,0,-7,0,0,null,{"$f":"INDEX(Table!L:L,MATCH(E16,Table!F:F,0))","v":0},0,-7,0,null,-7,0,null,null,null,null,null,null,null,null,null,null,null,null,null,null,null,null,null,null,null,null,null,null,null,null,null,null,null,null,null,null,null,null,null,null,null,null,null,null,null,null,null,null,null,null,null,null,null,null,null,null,null,null,null,null,null,-14,0,0]
[29,12,47,{"$f":"INDEX(Table!E:E,MATCH(E17,Table!F:F,0))","v":"B"},"Dave Bell",-3,1,4,1,0,null,{"$f":"INDEX(Table!L:L,MATCH(E17,Table!F:F,0))","v":0},0,-7,0,null,4,1,null,null,null,null,null,null,null,null,null,null,null,null,null,null,null,null,null,null,null,null,null,null,null,null,null,null,null,null,null,null,null,null,null,null,null,null,null,null,null,null,null,null,null,null,null,null,null,null,null,null,null,null,null,null,null,-3,1,0]
[4,4,35,{"$f":"INDEX(Table!E:E,MATCH(E18,Table!F:F,0))","v":"D"},"Dave Orrell",23.606249999999996,4,28.506249999999994,3,5,null,{"$f":"INDEX(Table!L:L,MATCH(E18,Table!F:F,0))","v":24.15},29.15,-4.9000000000000004,1,null,28.506249999999994,3,5,null,null,null,null,null,null,null,null,null,null,null,null,null,null,null,null,null,null,null,null,null,null,null,null,null,null,null,null,null,null,null,null,null,null,null,null,null,null,null,null,null,null,null,null,null,null,null,null,null,null,null,null,null,null,23.606249999999996,4,5]
[25,29,22,{"$f":"INDEX(Table!E:E,MATCH(E19,Table!F:F,0))","v":"C"},"David Dunn",-1.61868131868132,4,-1.4615384615384617,2,0,null,{"$f":"INDEX(Table!L:L,MATCH(E19,Table!F:F,0))","v":0},0,-0.15714285714285836,2,null,-1.4615384615384617,2,null,null,null,null,null,null,null,null,null,null,null,null,null,null,null,null,null,null,null,null,null,null,null,null,null,null,null,null,null,null,null,null,null,null,null,null,null,null,null,null,null,null,null,null,null,null,null,null,null,null,null,null,null,null,null,-1.61868131868132,4,0]
[59,53,47,{"$f":"INDEX(Table!E:E,MATCH(E20,Table!F:F,0))","v":"C"},"Gareth Fallows",-14,0,-7,0,0,null,{"$f":"INDEX(Table!L:L,MATCH(E20,Table!F:F,0))","v":0},0,-7,0,null,-7,0,null,null,null,null,null,null,null,null,null,null,null,null,null,null,null,null,null,null,null,null,null,null,null,null,null,null,null,null,null,null,null,null,null,null,null,null,null,null,null,null,null,null,null,null,null,null,null,null,null,null,null,null,null,null,null,-14,0,0]
[49,45,27,{"$f":"INDEX(Table!E:E,MATCH(E21,Table!F:F,0))","v":"C"},"Gareth McGuire",-9.8999999999999986,2,-5.05,1,0,null,{"$f":"INDEX(Table!L:L,MATCH(E21,Table!F:F,0))","v":0},0,-4.8499999999999996,1,null,-5.05,1,null,null,null,null,null,null,null,null,null,null,null,null,null,null,null,null,null,null,null,null,null,null,null,null,null,null,null,null,null,null,null,null,null,null,null,null,null,null,null,null,null,null,null,null,null,null,null,null,null,null,null,null,null,null,null,-9.8999999999999986,2,0]
[33,19,27,{"$f":"INDEX(Table!E:E,MATCH(E22,Table!F:F,0))","v":"B"},"Gareth Powell",-4.4807692307692299,3,0.3692307692307697,2,0,null,{"$f":"INDEX(Table!L:L,MATCH(E22,Table!F:F,0))","v":0},0,-4.8499999999999996,1,null,0.3692307692307697,2,null,null,null,null,null,null,null,null,null,null,null,null,null,null,null,null,null,null,null,null,null,null,null,null,null,null,null,null,null,null,null,null,null,null,null,null,null,null,null,null,null,null,null,null,null,null,null,null,null,null,null,null,null,null,null,-4.4807692307692299,3,0]
[3,2,8,{"$f":"INDEX(Table!E:E,MATCH(E23,Table!F:F,0))","v":"A"},"Gerard Ventom",172.3,5,164.8,3,5,null,{"$f":"INDEX(Table!L:L,MATCH(E23,Table!F:F,0))","v":108.675},113.675,7.5,2,null,164.8,3,5,null,null,null,null,null,null,null,null,null,null,null,null,null,null,null,null,null,null,null,null,null,null,null,null,null,null,null,null,null,null,null,null,null,null,null,null,null,null,null,null,null,null,null,null,null,null,null,null,null,null,null,null,null,null,172.3,5,5]
[32,45,17,{"$f":"INDEX(Table!E:E,MATCH(E24,Table!F:F,0))","v":"D"},"Graham Miller",-3.4425000000000017,3,-5.05,1,0,null,{"$f":"INDEX(Table!L:L,MATCH(E24,Table!F:F,0))","v":4.83},4.83,1.6074999999999982,2,null,-5.05,1,null,null,null,null,null,null,null,null,null,null,null,null,null,null,null,null,null,null,null,null,null,null,null,null,null,null,null,null,null,null,null,null,null,null,null,null,null,null,null,null,null,null,null,null,null,null,null,null,null,null,null,null,null,null,null,-3.4425000000000017,3,0]
[57,49,47,{"$f":"INDEX(Table!E:E,MATCH(E25,Table!F:F,0))","v":"D"},"Howard Bradley",-12.428571428571429,1,-5.4285714285714288,1,0,null,{"$f":"INDEX(Table!L:L,MATCH(E25,Table!F:F,0))","v":0},0,-7,0,null,-5.4285714285714288,1,null,null,null,null,null,null,null,null,null,null,null,null,null,null,null,null,null,null,null,null,null,null,null,null,null,null,null,null,null,null,null,null,null,null,null,null,null,null,null,null,null,null,null,null,null,null,null,null,null,null,null,null,null,null,null,-12.428571428571429,1,0]
[53,32,47,{"$f":"INDEX(Table!E:E,MATCH(E26,Table!F:F,0))","v":"C"},"Ian Davies",-11.125,1,-4.125,1,0,null,{"$f":"INDEX(Table!L:L,MATCH(E26,Table!F:F,0))","v":0},0,-7,0,null,-4.125,1,null,null,null,null,null,null,null,null,null,null,null,null,null,null,null,null,null,null,null,null,null,null,null,null,null,null,null,null,null,null,null,null,null,null,null,null,null,null,null,null,null,null,null,null,null,null,null,null,null,null,null,null,null,null,null,-11.125,1,0]
[40,18,47,{"$f":"INDEX(Table!E:E,MATCH(E27,Table!F:F,0))","v":"C"},"Jack Walsh",-6.3692307692307697,2,0.6307692307692303,2,0,null,{"$f":"INDEX(Table!L:L,MATCH(E27,Table!F:F,0))","v":0},0,-7,0,null,0.6307692307692303,2,null,null,null,null,null,null,null,null,null,null,null,null,null,null,null,null,null,null,null,null,null,null,null,null,null,null,null,null,null,null,null,null,null,null,null,null,null,null,null,null,null,null,null,null,null,null,null,null,null,null,null,null,null,null,null,-6.3692307692307697,2,0]
[59,53,47,{"$f":"INDEX(Table!E:E,MATCH(E28,Table!F:F,0))","v":"B"},"James Bell",-14,0,-7,0,0,null,{"$f":"INDEX(Table!L:L,MATCH(E28,Table!F:F,0))","v":0},0,-7,0,null,-7,0,null,null,null,null,null,null,null,null,null,null,null,null,null,null,null,null,null,null,null,null,null,null,null,null,null,null,null,null,null,null,null,null,null,null,null,null,null,null,null,null,null,null,null,null,null,null,null,null,null,null,null,null,null,null,null,-14,0,0]
[52,47,46,{"$f":"INDEX(Table!E:E,MATCH(E29,Table!F:F,0))","v":"D"},"Joel Bent",-10.778571428571428,2,-5.35,1,0,null,{"$f":"INDEX(Table!L:L,MATCH(E29,Table!F:F,0))","v":0},0,-5.4285714285714288,1,null,-5.35,1,null,null,null,null,null,null,null,null,null,null,null,null,null,null,null,null,null,null,null,null,null,null,null,null,null,null,null,null,null,null,null,null,null,null,null,null,null,null,null,null,null,null,null,null,null,null,null,null,null,null,null,null,null,null,null,-10.778571428571428,2,0]
[44,34,25,{"$f":"INDEX(Table!E:E,MATCH(E30,Table!F:F,0))","v":"B"},"John Evans",-8.125,2,-4.375,1,0,null,{"$f":"INDEX(Table!L:L,MATCH(E30,Table!F:F,0))","v":0},0,-3.75,1,null,-4.375,1,null,null,null,null,null,null,null,null,null,null,null,null,null,null,null,null,null,null,null,null,null,null,null,null,null,null,null,null,null,null,null,null,null,null,null,null,null,null,null,null,null,null,null,null,null,null,null,null,null,null,null,null,null,null,null,-8.125,2,0]
[48,44,27,{"$f":"INDEX(Table!E:E,MATCH(E31,Table!F:F,0))","v":"D"},"John Ronan",-9.6999999999999993,2,-4.8499999999999996,1,0,null,{"$f":"INDEX(Table!L:L,MATCH(E31,Table!F:F,0))","v":0},0,-4.8499999999999996,1,null,-4.8499999999999996,1,null,null,null,null,null,null,null,null,null,null,null,null,null,null,null,null,null,null,null,null,null,null,null,null,null,null,null,null,null,null,null,null,null,null,null,null,null,null,null,null,null,null,null,null,null,null,null,null,null,null,null,null,null,null,null,-9.6999999999999993,2,0]
[36,53,17,{"$f":"INDEX(Table!E:E,MATCH(E32,Table!F:F,0))","v":"B"},"Kei Lok Ma",-5.3925000000000018,2,-7,0,0,null,{"$f":"INDEX(Table!L:L,MATCH(E32,Table!F:F,0))","v":0},0,1.6074999999999982,2,null,-7,0,null,null,null,null,null,null,null,null,null,null,null,null,null,null,null,null,null,null,null,null,null,null,null,null,null,null,null,null,null,null,null,null,null,null,null,null,null,null,null,null,null,null,null,null,null,null,null,null,null,null,null,null,null,null,null,-5.3925000000000018,2,0]
[16,7,47,{"$f":"INDEX(Table!E:E,MATCH(E33,Table!F:F,0))","v":"A"},"Kevin Carter",1.6730769230769234,3,8.6730769230769234,3,0,null,{"$f":"INDEX(Table!L:L,MATCH(E33,Table!F:F,0))","v":9.3149999999999995},9.3149999999999995,-7,0,null,8.6730769230769234,3,null,null,null,null,null,null,null,null,null,null,null,null,null,null,null,null,null,null,null,null,null,null,null,null,null,null,null,null,null,null,null,null,null,null,null,null,null,null,null,null,null,null,null,null,null,null,null,null,null,null,null,null,null,null,null,1.6730769230769234,3,0]
[{"$f":"_xlfn.RANK.EQ(F34,totalscores,0)","v":31},16,44,{"$f":"INDEX(Table!E:E,MATCH(E34,Table!F:F,0))","v":"A"},"Lennie Bow",{"$f":"+N34+Q34+T34+W34+Z34+AC34+AF34+AI34+AL34+AO34+AR34+AU34+AX34+BA34+BD34+BG34+BJ34+BM34+BP34+BS34","v":-3.1687500000000002},{"$f":"+O34+R34+U34+X34+AA34+AD34+AG34+AJ34+AM34+AP34+AS34+AV34+AY34+BB34+BE34+BH34+BK34+BN34+BQ34+BT34","v":3},1.8812499999999996,2,0,null,{"$f":"INDEX(Table!L:L,MATCH(E34,Table!F:F,0))","v":0},0,-5.05,1,null,1.8812499999999996,2,null,null,null,null,null,null,null,null,null,null,null,null,null,null,null,null,null,null,null,null,null,null,null,null,null,null,null,null,null,null,null,null,null,null,null,null,null,null,null,null,null,null,null,null,null,null,null,null,null,null,null,null,null,null,null,{"$f":"BS34+BP34+BM34+BJ34+BG34+BD34+BA34+AX34+AU34+AR34+AO34+AL34+AI34+AF34+AC34+Z34+W34+T34+Q34+N34","v":-3.1687500000000002},{"$f":"BT34+BQ34+BN34+BK34+BH34+BE34+BB34+AY34+AV34+AS34+AP34+AM34+AJ34+AG34+AD34+AA34+X34+U34+R34+O34","v":3},{"$f":"BU34+BR34+BO34+BL34+BI34+BF34+BC34+AZ34+AW34+AT34+AQ34+AN34+AK34+AH34+AE34+AB34+Y34+V34+S34+P34","v":0}]
[22,47,11,{"$f":"INDEX(Table!E:E,MATCH(E35,Table!F:F,0))","v":"D"},"Lewis Buckley",-0.23500000000000121,3,-5.35,1,0,null,{"$f":"INDEX(Table!L:L,MATCH(E35,Table!F:F,0))","v":12.42},12.42,5.1149999999999984,2,null,-5.35,1,null,null,null,null,null,null,null,null,null,null,null,null,null,null,null,null,null,null,null,null,null,null,null,null,null,null,null,null,null,null,null,null,null,null,null,null,null,null,null,null,null,null,null,null,null,null,null,null,null,null,null,null,null,null,null,-0.23500000000000121,3,0]
[20,43,12,{"$f":"INDEX(Table!E:E,MATCH(E36,Table!F:F,0))","v":"C"},"Liam Wah",9.9999999999998757E-2,3,-4.8,1,0,null,{"$f":"INDEX(Table!L:L,MATCH(E36,Table!F:F,0))","v":0},0,4.8999999999999986,2,null,-4.8,1,null,null,null,null,null,null,null,null,null,null,null,null,null,null,null,null,null,null,null,null,null,null,null,null,null,null,null,null,null,null,null,null,null,null,null,null,null,null,null,null,null,null,null,null,null,null,null,null,null,null,null,null,null,null,null,9.9999999999998757E-2,3,0]
[8,10,16,{"$f":"INDEX(Table!E:E,MATCH(E37,Table!F:F,0))","v":"C"},"Mal Stott",8.5024999999999995,4,5.9499999999999993,2,0,null,{"$f":"INDEX(Table!L:L,MATCH(E37,Table!F:F,0))","v":12.42},12.42,2.5525000000000002,2,null,5.9499999999999993,2,null,null,null,null,null,null,null,null,null,null,null,null,null,null,null,null,null,null,null,null,null,null,null,null,null,null,null,null,null,null,null,null,null,null,null,null,null,null,null,null,null,null,null,null,null,null,null,null,null,null,null,null,null,null,null,8.5024999999999995,4,0]
[47,39,27,{"$f":"INDEX(Table!E:E,MATCH(E38,Table!F:F,0))","v":"B"},"Mark Bunn",-9.4499999999999993,2,-4.5999999999999996,1,0,null,{"$f":"INDEX(Table!L:L,MATCH(E38,Table!F:F,0))","v":0},0,-4.8499999999999996,1,null,-4.5999999999999996,1,null,null,null,null,null,null,null,null,null,null,null,null,null,null,null,null,null,null,null,null,null,null,null,null,null,null,null,null,null,null,null,null,null,null,null,null,null,null,null,null,null,null,null,null,null,null,null,null,null,null,null,null,null,null,null,-9.4499999999999993,2,0]
[9,50,3,{"$f":"INDEX(Table!E:E,MATCH(E39,Table!F:F,0))","v":"A"},"Mark Saunders",7.5450000000000017,4,-5.5,1,5,null,{"$f":"INDEX(Table!L:L,MATCH(E39,Table!F:F,0))","v":55.89},60.89,13.045000000000002,3,5,-5.5,1,null,null,null,null,null,null,null,null,null,null,null,null,null,null,null,null,null,null,null,null,null,null,null,null,null,null,null,null,null,null,null,null,null,null,null,null,null,null,null,null,null,null,null,null,null,null,null,null,null,null,null,null,null,null,null,7.5450000000000017,4,5]
[39,25,36,{"$f":"INDEX(Table!E:E,MATCH(E40,Table!F:F,0))","v":"B"},"Martin Molyneux",-6.3250000000000002,3,-1.375,2,0,null,{"$f":"INDEX(Table!L:L,MATCH(E40,Table!F:F,0))","v":0},0,-4.95,1,null,-1.375,2,null,null,null,null,null,null,null,null,null,null,null,null,null,null,null,null,null,null,null,null,null,null,null,null,null,null,null,null,null,null,null,null,null,null,null,null,null,null,null,null,null,null,null,null,null,null,null,null,null,null,null,null,null,null,null,-6.3250000000000002,3,0]
[34,41,21,{"$f":"INDEX(Table!E:E,MATCH(E41,Table!F:F,0))","v":"D"},"Martin Tarbuck",-4.6000000000000005,3,-4.7,1,0,null,{"$f":"INDEX(Table!L:L,MATCH(E41,Table!F:F,0))","v":2.0699999999999998},2.0699999999999998,9.9999999999999645E-2,2,null,-4.7,1,null,null,null,null,null,null,null,null,null,null,null,null,null,null,null,null,null,null,null,null,null,null,null,null,null,null,null,null,null,null,null,null,null,null,null,null,null,null,null,null,null,null,null,null,null,null,null,null,null,null,null,null,null,null,null,-4.6000000000000005,3,0]
[54,33,47,{"$f":"INDEX(Table!E:E,MATCH(E42,Table!F:F,0))","v":"A"},"Mike Penk",-11.3,1,-4.3,1,0,null,{"$f":"INDEX(Table!L:L,MATCH(E42,Table!F:F,0))","v":0},0,-7,0,null,-4.3,1,null,null,null,null,null,null,null,null,null,null,null,null,null,null,null,null,null,null,null,null,null,null,null,null,null,null,null,null,null,null,null,null,null,null,null,null,null,null,null,null,null,null,null,null,null,null,null,null,null,null,null,null,null,null,null,-11.3,1,0]
[41,26,36,{"$f":"INDEX(Table!E:E,MATCH(E43,Table!F:F,0))","v":"A"},"Mo Sudell",-6.3928571428571432,3,-1.4428571428571431,2,0,null,{"$f":"INDEX(Table!L:L,MATCH(E43,Table!F:F,0))","v":0},0,-4.95,1,null,-1.4428571428571431,2,null,null,null,null,null,null,null,null,null,null,null,null,null,null,null,null,null,null,null,null,null,null,null,null,null,null,null,null,null,null,null,null,null,null,null,null,null,null,null,null,null,null,null,null,null,null,null,null,null,null,null,null,null,null,null,-6.3928571428571432,3,0]
[38,26,27,{"$f":"INDEX(Table!E:E,MATCH(E44,Table!F:F,0))","v":"D"},"Nick Blocksidge",-6.2928571428571427,3,-1.4428571428571431,2,0,null,{"$f":"INDEX(Table!L:L,MATCH(E44,Table!F:F,0))","v":0},0,-4.8499999999999996,1,null,-1.4428571428571431,2,null,null,null,null,null,null,null,null,null,null,null,null,null,null,null,null,null,null,null,null,null,null,null,null,null,null,null,null,null,null,null,null,null,null,null,null,null,null,null,null,null,null,null,null,null,null,null,null,null,null,null,null,null,null,null,-6.2928571428571427,3,0]
[28,15,27,{"$f":"INDEX(Table!E:E,MATCH(E45,Table!F:F,0))","v":"B"},"Nigel Heyes",-2.8200000000000003,3,2.0299999999999994,2,0,null,{"$f":"INDEX(Table!L:L,MATCH(E45,Table!F:F,0))","v":6.21},6.21,-4.8499999999999996,1,null,2.0299999999999994,2,null,null,null,null,null,null,null,null,null,null,null,null,null,null,null,null,null,null,null,null,null,null,null,null,null,null,null,null,null,null,null,null,null,null,null,null,null,null,null,null,null,null,null,null,null,null,null,null,null,null,null,null,null,null,null,-2.8200000000000003,3,0]
[50,50,44,{"$f":"INDEX(Table!E:E,MATCH(E46,Table!F:F,0))","v":"A"},"Oscar Jackson",-10.55,2,-5.5,1,0,null,{"$f":"INDEX(Table!L:L,MATCH(E46,Table!F:F,0))","v":0},0,-5.05,1,null,-5.5,1,null,null,null,null,null,null,null,null,null,null,null,null,null,null,null,null,null,null,null,null,null,null,null,null,null,null,null,null,null,null,null,null,null,null,null,null,null,null,null,null,null,null,null,null,null,null,null,null,null,null,null,null,null,null,null,-10.55,2,0]
[42,29,41,{"$f":"INDEX(Table!E:E,MATCH(E47,Table!F:F,0))","v":"D"},"Paul Adderley",-6.4615384615384617,3,-1.4615384615384617,2,0,null,{"$f":"INDEX(Table!L:L,MATCH(E47,Table!F:F,0))","v":0},0,-5,1,null,-1.4615384615384617,2,null,null,null,null,null,null,null,null,null,null,null,null,null,null,null,null,null,null,null,null,null,null,null,null,null,null,null,null,null,null,null,null,null,null,null,null,null,null,null,null,null,null,null,null,null,null,null,null,null,null,null,null,null,null,null,-6.4615384615384617,3,0]
[46,36,27,{"$f":"INDEX(Table!E:E,MATCH(E48,Table!F:F,0))","v":"B"},"Paul Allen",-9.3999999999999986,2,-4.55,1,0,null,{"$f":"INDEX(Table!L:L,MATCH(E48,Table!F:F,0))","v":0},0,-4.8499999999999996,1,null,-4.55,1,null,null,null,null,null,null,null,null,null,null,null,null,null,null,null,null,null,null,null,null,null,null,null,null,null,null,null,null,null,null,null,null,null,null,null,null,null,null,null,null,null,null,null,null,null,null,null,null,null,null,null,null,null,null,null,-9.3999999999999986,2,0]
[16,7,47,{"$f":"INDEX(Table!E:E,MATCH(E49,Table!F:F,0))","v":"D"},"Paul Barnes",1.6730769230769234,3,8.6730769230769234,3,0,null,{"$f":"INDEX(Table!L:L,MATCH(E49,Table!F:F,0))","v":17.25},17.25,-7,0,null,8.6730769230769234,3,null,null,null,null,null,null,null,null,null,null,null,null,null,null,null,null,null,null,null,null,null,null,null,null,null,null,null,null,null,null,null,null,null,null,null,null,null,null,null,null,null,null,null,null,null,null,null,null,null,null,null,null,null,null,null,1.6730769230769234,3,0]
[1,1,41,{"$f":"INDEX(Table!E:E,MATCH(E50,Table!F:F,0))","v":"C"},"Paul Fairhurst",203.72,4,208.72,3,10,null,{"$f":"INDEX(Table!L:L,MATCH(E50,Table!F:F,0))","v":36.225000000000001},46.225000000000001,-5,1,null,208.72,3,10,null,null,null,null,null,null,null,null,null,null,null,null,null,null,null,null,null,null,null,null,null,null,null,null,null,null,null,null,null,null,null,null,null,null,null,null,null,null,null,null,null,null,null,null,null,null,null,null,null,null,null,null,null,null,203.72,4,10]
[19,17,23,{"$f":"INDEX(Table!E:E,MATCH(E51,Table!F:F,0))","v":"A"},"Paul Fiddler",0.30750000000000011,4,1.2925000000000004,2,0,null,{"$f":"INDEX(Table!L:L,MATCH(E51,Table!F:F,0))","v":0},0,-0.98500000000000032,2,null,1.2925000000000004,2,null,null,null,null,null,null,null,null,null,null,null,null,null,null,null,null,null,null,null,null,null,null,null,null,null,null,null,null,null,null,null,null,null,null,null,null,null,null,null,null,null,null,null,null,null,null,null,null,null,null,null,null,null,null,null,0.30750000000000011,4,0]
[13,23,10,{"$f":"INDEX(Table!E:E,MATCH(E52,Table!F:F,0))","v":"C"},"Paul Ridgeway",4.3507692307692292,4,-1.069230769230769,2,0,null,{"$f":"INDEX(Table!L:L,MATCH(E52,Table!F:F,0))","v":3.105},3.105,5.4199999999999982,2,null,-1.069230769230769,2,null,null,null,null,null,null,null,null,null,null,null,null,null,null,null,null,null,null,null,null,null,null,null,null,null,null,null,null,null,null,null,null,null,null,null,null,null,null,null,null,null,null,null,null,null,null,null,null,null,null,null,null,null,null,null,4.3507692307692292,4,0]
[12,53,4,{"$f":"INDEX(Table!E:E,MATCH(E53,Table!F:F,0))","v":"B"},"Pete Baron",5,2,-7,0,5,null,{"$f":"INDEX(Table!L:L,MATCH(E53,Table!F:F,0))","v":37.26},42.26,12,2,5,-7,0,null,null,null,null,null,null,null,null,null,null,null,null,null,null,null,null,null,null,null,null,null,null,null,null,null,null,null,null,null,null,null,null,null,null,null,null,null,null,null,null,null,null,null,null,null,null,null,null,null,null,null,null,null,null,null,5,2,5]
[26,41,15,{"$f":"INDEX(Table!E:E,MATCH(E54,Table!F:F,0))","v":"B"},"Phil Miller",-1.6428571428571432,3,-4.7,1,0,null,{"$f":"INDEX(Table!L:L,MATCH(E54,Table!F:F,0))","v":14.49},14.49,3.0571428571428569,2,null,-4.7,1,null,null,null,null,null,null,null,null,null,null,null,null,null,null,null,null,null,null,null,null,null,null,null,null,null,null,null,null,null,null,null,null,null,null,null,null,null,null,null,null,null,null,null,null,null,null,null,null,null,null,null,null,null,null,null,-1.6428571428571432,3,0]
[55,34,47,{"$f":"INDEX(Table!E:E,MATCH(E55,Table!F:F,0))","v":"A"},"Rob England",-11.375,1,-4.375,1,0,null,{"$f":"INDEX(Table!L:L,MATCH(E55,Table!F:F,0))","v":0},0,-7,0,null,-4.375,1,null,null,null,null,null,null,null,null,null,null,null,null,null,null,null,null,null,null,null,null,null,null,null,null,null,null,null,null,null,null,null,null,null,null,null,null,null,null,null,null,null,null,null,null,null,null,null,null,null,null,null,null,null,null,null,-11.375,1,0]
[18,53,7,{"$f":"INDEX(Table!E:E,MATCH(E56,Table!F:F,0))","v":"C"},"Sally Williams",1.46875,2,-7,0,0,null,{"$f":"INDEX(Table!L:L,MATCH(E56,Table!F:F,0))","v":0},0,8.46875,2,null,-7,0,null,null,null,null,null,null,null,null,null,null,null,null,null,null,null,null,null,null,null,null,null,null,null,null,null,null,null,null,null,null,null,null,null,null,null,null,null,null,null,null,null,null,null,null,null,null,null,null,null,null,null,null,null,null,null,1.46875,2,0]
[58,50,47,{"$f":"INDEX(Table!E:E,MATCH(E57,Table!F:F,0))","v":"D"},"Simon Greenhalgh",-12.5,1,-5.5,1,0,null,{"$f":"INDEX(Table!L:L,MATCH(E57,Table!F:F,0))","v":0},0,-7,0,null,-5.5,1,null,null,null,null,null,null,null,null,null,null,null,null,null,null,null,null,null,null,null,null,null,null,null,null,null,null,null,null,null,null,null,null,null,null,null,null,null,null,null,null,null,null,null,null,null,null,null,null,null,null,null,null,null,null,null,-12.5,1,0]
[15,9,27,{"$f":"INDEX(Table!E:E,MATCH(E58,Table!F:F,0))","v":"A"},"Stephen Barr",1.8700000000000028,3,6.7200000000000024,2,0,null,{"$f":"INDEX(Table!L:L,MATCH(E58,Table!F:F,0))","v":21.734999999999999},21.734999999999999,-4.8499999999999996,1,null,6.7200000000000024,2,null,null,null,null,null,null,null,null,null,null,null,null,null,null,null,null,null,null,null,null,null,null,null,null,null,null,null,null,null,null,null,null,null,null,null,null,null,null,null,null,null,null,null,null,null,null,null,null,null,null,null,null,null,null,null,1.8700000000000028,3,0]
[37,24,36,{"$f":"INDEX(Table!E:E,MATCH(E59,Table!F:F,0))","v":"A"},"Stephen Troop",-6.2807692307692307,3,-1.3307692307692305,2,0,null,{"$f":"INDEX(Table!L:L,MATCH(E59,Table!F:F,0))","v":0},0,-4.95,1,null,-1.3307692307692305,2,null,null,null,null,null,null,null,null,null,null,null,null,null,null,null,null,null,null,null,null,null,null,null,null,null,null,null,null,null,null,null,null,null,null,null,null,null,null,null,null,null,null,null,null,null,null,null,null,null,null,null,null,null,null,null,-6.2807692307692307,3,0]
[7,20,6,{"$f":"INDEX(Table!E:E,MATCH(E60,Table!F:F,0))","v":"B"},"Steve Baxter",10.03857142857143,5,0,2,0,null,{"$f":"INDEX(Table!L:L,MATCH(E60,Table!F:F,0))","v":72.45},72.45,10.03857142857143,3,null,0,2,null,null,null,null,null,null,null,null,null,null,null,null,null,null,null,null,null,null,null,null,null,null,null,null,null,null,null,null,null,null,null,null,null,null,null,null,null,null,null,null,null,null,null,null,null,null,null,null,null,null,null,null,null,null,null,10.03857142857143,5,0]
[5,39,2,{"$f":"INDEX(Table!E:E,MATCH(E61,Table!F:F,0))","v":"A"},"Steve Carter",16.222499999999997,4,-4.5999999999999996,1,5,null,{"$f":"INDEX(Table!L:L,MATCH(E61,Table!F:F,0))","v":77.625},82.625,20.822499999999994,3,5,-4.5999999999999996,1,null,null,null,null,null,null,null,null,null,null,null,null,null,null,null,null,null,null,null,null,null,null,null,null,null,null,null,null,null,null,null,null,null,null,null,null,null,null,null,null,null,null,null,null,null,null,null,null,null,null,null,null,null,null,null,16.222499999999997,4,5]
[59,53,47,{"$f":"INDEX(Table!E:E,MATCH(E62,Table!F:F,0))","v":"B"},"Tom Robinson",{"$f":"+N62+Q62+T62+W62+Z62+AC62+AF62+AI62+AL62+AO62+AR62+AU62+AX62+BA62+BD62+BG62+BJ62+BM62+BP62+BS62","v":-14},0,-7,0,{"$f":"P62+S62+V62+Y62+AB62+AE62+AH62+AK62+AN62+AQ62+AT62+AW62+AZ62+BC62+BF62+BI62+BL62+BO62+BR62+BU62","v":0},null,{"$f":"INDEX(Table!L:L,MATCH(E62,Table!F:F,0))","v":0},{"$f":"K62+J62+L62","v":0},-7,0,null,-7,0,null,null,null,null,null,null,null,null,null,null,null,null,null,null,null,null,null,null,null,null,null,null,null,null,null,null,null,null,null,null,null,null,null,null,null,null,null,null,null,null,null,null,null,null,null,null,null,null,null,null,null,null,null,null,null,{"$f":"BS62+BP62+BM62+BJ62+BG62+BD62+BA62+AX62+AU62+AR62+AO62+AL62+AI62+AF62+AC62+Z62+W62+T62+Q62+N62","v":-14},0,0]
[11,14,14,{"$f":"INDEX(Table!E:E,MATCH(E63,Table!F:F,0))","v":"B"},"Vinny Topping",6.6875,4,3.0625,2,{"$f":"P63+S63+V63+Y63+AB63+AE63+AH63+AK63+AN63+AQ63+AT63+AW63+AZ63+BC63+BF63+BI63+BL63+BO63+BR63+BU63","v":0},null,{"$f":"INDEX(Table!L:L,MATCH(E63,Table!F:F,0))","v":51.75},{"$f":"K63+J63+L63","v":51.75},3.625,2,null,3.0625,2,null,null,null,null,null,null,null,null,null,null,null,null,null,null,null,null,null,null,null,null,null,null,null,null,null,null,null,null,null,null,null,null,null,null,null,null,null,null,null,null,null,null,null,null,null,null,null,null,null,null,null,null,null,null,null,6.6875,4,0]
[]
[null,null,null,null,null,null,null,null,null,{"$f":"SUM(J2:J63)","v":50},{"$f":"SUM(K2:K63)","v":0},null,null,null,null,{"$f":"SUM(P2:P63)","v":25},null,null,{"$f":"SUM(S2:S63)","v":25},null,null,{"$f":"SUM(V2:V63)","v":0},null,null,{"$f":"SUM(Y2:Y63)","v":0},null,null,{"$f":"SUM(AB2:AB63)","v":0},null,null,{"$f":"SUM(AE2:AE63)","v":0},null,null,{"$f":"SUM(AH2:AH63)","v":0},null,null,{"$f":"SUM(AK2:AK63)","v":0},null,null,{"$f":"SUM(AN2:AN63)","v":0},null,null,{"$f":"SUM(AQ2:AQ63)","v":0},null,null,{"$f":"SUM(AT2:AT63)","v":0},null,null,{"$f":"SUM(AW2:AW63)","v":0},null,null,{"$f":"SUM(AZ2:AZ63)","v":0},null,null,{"$f":"SUM(BC2:BC63)","v":0},null,null,{"$f":"SUM(BF2:BF63)","v":0},null,null,{"$f":"SUM(BI2:BI63)","v":0},null,null,{"$f":"SUM(BL2:BL63)","v":0},null,null,{"$f":"SUM(BO2:BO63)","v":0},null,null,{"$f":"SUM(BR2:BR63)","v":0},null,null,{"$f":"SUM(BU2:BU63)","v":0},null,null,{"$f":"SUM(BX2:BX63)","v":50}]

{"sheet":"Cup","index":5,"n_rows":94,"n_cols":23,"rows_kept":94,"cut":false,"hidden":false,"merged":[[2,7,3,7],[87,1,88,1],[91,1,92,1],[69,7,70,7],[91,7,92,7],[89,4,90,4],[91,4,92,4],[77,4,78,4],[79,4,80,4],[81,4,82,4],[83,4,84,4],[85,4,86,4],[87,4,88,4],[88,19,89,19],[89,7,90,7],[70,19,71,19],[73,7,74,7],[77,7,78,7],[81,7,82,7],[85,7,86,7],[86,19,87,19],[71,7,72,7],[75,7,76,7],[79,7,80,7],[83,7,84,7],[87,7,88,7]]}
["Menu!A1"]
[null,"Prelim",{"$f":"IF(CupDraw!J1=\"\",\"\",CupDraw!J1)","v":""},null,null,null,null,{"$f":"CupDraw!O1","v":"R1 (64)"},{"$f":"CupDraw!P1","v":"2020-09-26"},null,null,null,null,{"$f":"CupDraw!U1","v":"R2 (32)"},{"$f":"CupDraw!V1","v":"2020-10-17"},null,null,null,null,{"$f":"CupDraw!AA1","v":"R3 (16)"},{"$f":"CupDraw!AB1","v":"2020-11-07"}]
[null,{"$f":"CupDraw!I2","v":1},{"$f":"IF(CupDraw!J2=\"\",\"\",CupDraw!J2)","v":""},{"$f":"IF(CupDraw!K2=\"\",\"\",CupDraw!K2)","v":""},{"$f":"IF(CupDraw!L2=\"\",\"\",CupDraw!L2)","v":""},null,null,{"$f":"CupDraw!O2","v":1},{"$f":"IF(CupDraw!P2=\"\",\"\",CupDraw!P2)","v":"Gerard Ventom"},{"$f":"IF(CupDraw!Q2=\"\",\"\",CupDraw!Q2)","v":""},{"$f":"IF(CupDraw!R2=\"\",\"\",CupDraw!R2)","v":""},null,null,{"$f":"CupDraw!U2","v":1},{"$f":"CupDraw!V2","v":"Await earlier tie"},{"$f":"IF(CupDraw!W2=\"\",\"\",CupDraw!W2)","v":""},{"$f":"IF(CupDraw!X2=\"\",\"\",CupDraw!X2)","v":""},null,null,{"$f":"CupDraw!AA2","v":1},{"$f":"CupDraw!AB2","v":"Await earlier tie"},{"$f":"IF(CupDraw!AC2=\"\",\"\",CupDraw!AC2)","v":""},{"$f":"CupDraw!AD2","v":""}]
[null,null,{"$f":"IF(CupDraw!J3=\"\",\"\",CupDraw!J3)","v":""},{"$f":"IF(CupDraw!K3=\"\",\"\",CupDraw!K3)","v":""},{"$f":"IF(CupDraw!L3=\"\",\"\",CupDraw!L3)","v":""},null,null,{"$f":"CupDraw!O3","v":0},{"$f":"IF(CupDraw!P3=\"\",\"\",CupDraw!P3)","v":"Rob England"},{"$f":"IF(CupDraw!Q3=\"\",\"\",CupDraw!Q3)","v":""},{"$f":"IF(CupDraw!R3=\"\",\"\",CupDraw!R3)","v":""},null,null,null,{"$f":"CupDraw!V3","v":"Await earlier tie"},{"$f":"IF(CupDraw!W3=\"\",\"\",CupDraw!W3)","v":""},{"$f":"IF(CupDraw!X3=\"\",\"\",CupDraw!X3)","v":""},null,null,null,{"$f":"CupDraw!AB3","v":"Await earlier tie"},{"$f":"IF(CupDraw!AC3=\"\",\"\",CupDraw!AC3)","v":""}]
[null,{"$f":"CupDraw!I4","v":2},{"$f":"IF(CupDraw!J4=\"\",\"\",CupDraw!J4)","v":""},{"$f":"IF(CupDraw!K4=\"\",\"\",CupDraw!K4)","v":""},{"$f":"IF(CupDraw!L4=\"\",\"\",CupDraw!L4)","v":""},null,null,{"$f":"CupDraw!O4","v":2},{"$f":"IF(CupDraw!P4=\"\",\"\",CupDraw!P4)","v":"Pete Baron"},{"$f":"IF(CupDraw!Q4=\"\",\"\",CupDraw!Q4)","v":""},{"$f":"IF(CupDraw!R4=\"\",\"\",CupDraw!R4)","v":""},null,null,{"$f":"CupDraw!U4","v":2},{"$f":"CupDraw!V4","v":"Await earlier tie"},{"$f":"IF(CupDraw!W4=\"\",\"\",CupDraw!W4)","v":""},{"$f":"IF(CupDraw!X4=\"\",\"\",CupDraw!X4)","v":""},null,null,{"$f":"CupDraw!AA4","v":2},{"$f":"CupDraw!AB4","v":"Await earlier tie"},{"$f":"IF(CupDraw!AC4=\"\",\"\",CupDraw!AC4)","v":""},{"$f":"CupDraw!AD4","v":""}]
[null,null,{"$f":"IF(CupDraw!J5=\"\",\"\",CupDraw!J5)","v":""},{"$f":"IF(CupDraw!K5=\"\",\"\",CupDraw!K5)","v":""},{"$f":"IF(CupDraw!L5=\"\",\"\",CupDraw!L5)","v":""},null,null,null,{"$f":"IF(CupDraw!P5=\"\",\"\",CupDraw!P5)","v":"Mark Saunders"},{"$f":"IF(CupDraw!Q5=\"\",\"\",CupDraw!Q5)","v":""},{"$f":"IF(CupDraw!R5=\"\",\"\",CupDraw!R5)","v":""},null,null,null,{"$f":"CupDraw!V5","v":"Await earlier tie"},{"$f":"IF(CupDraw!W5=\"\",\"\",CupDraw!W5)","v":""},{"$f":"IF(CupDraw!X5=\"\",\"\",CupDraw!X5)","v":""},null,null,null,{"$f":"CupDraw!AB5","v":"Await earlier tie"},{"$f":"IF(CupDraw!AC5=\"\",\"\",CupDraw!AC5)","v":""}]
[null,{"$f":"CupDraw!I6","v":3},{"$f":"IF(CupDraw!J6=\"\",\"\",CupDraw!J6)","v":""},{"$f":"IF(CupDraw!K6=\"\",\"\",CupDraw!K6)","v":""},{"$f":"IF(CupDraw!L6=\"\",\"\",CupDraw!L6)","v":""},null,null,{"$f":"CupDraw!O6","v":3},{"$f":"IF(CupDraw!P6=\"\",\"\",CupDraw!P6)","v":"Dan Baxter"},{"$f":"IF(CupDraw!Q6=\"\",\"\",CupDraw!Q6)","v":""},{"$f":"IF(CupDraw!R6=\"\",\"\",CupDraw!R6)","v":""},null,null,{"$f":"CupDraw!U6","v":3},{"$f":"CupDraw!V6","v":"Await earlier tie"},{"$f":"IF(CupDraw!W6=\"\",\"\",CupDraw!W6)","v":""},{"$f":"IF(CupDraw!X6=\"\",\"\",CupDraw!X6)","v":""},null,null,{"$f":"CupDraw!AA6","v":3},{"$f":"CupDraw!AB6","v":"Await earlier tie"},{"$f":"IF(CupDraw!AC6=\"\",\"\",CupDraw!AC6)","v":""},{"$f":"CupDraw!AD6","v":""}]
[null,null,{"$f":"IF(CupDraw!J7=\"\",\"\",CupDraw!J7)","v":""},{"$f":"IF(CupDraw!K7=\"\",\"\",CupDraw!K7)","v":""},{"$f":"IF(CupDraw!L7=\"\",\"\",CupDraw!L7)","v":""},null,null,null,{"$f":"IF(CupDraw!P7=\"\",\"\",CupDraw!P7)","v":"Ian Davies"},{"$f":"IF(CupDraw!Q7=\"\",\"\",CupDraw!Q7)","v":""},{"$f":"IF(CupDraw!R7=\"\",\"\",CupDraw!R7)","v":""},null,null,null,{"$f":"CupDraw!V7","v":"Await earlier tie"},{"$f":"IF(CupDraw!W7=\"\",\"\",CupDraw!W7)","v":""},{"$f":"IF(CupDraw!X7=\"\",\"\",CupDraw!X7)","v":""},null,null,null,{"$f":"CupDraw!AB7","v":"Await earlier tie"},{"$f":"IF(CupDraw!AC7=\"\",\"\",CupDraw!AC7)","v":""}]
[null,{"$f":"CupDraw!I8","v":4},{"$f":"IF(CupDraw!J8=\"\",\"\",CupDraw!J8)","v":""},{"$f":"IF(CupDraw!K8=\"\",\"\",CupDraw!K8)","v":""},{"$f":"IF(CupDraw!L8=\"\",\"\",CupDraw!L8)","v":""},null,null,{"$f":"CupDraw!O8","v":4},{"$f":"IF(CupDraw!P8=\"\",\"\",CupDraw!P8)","v":"Nick Blocksidge"},{"$f":"IF(CupDraw!Q8=\"\",\"\",CupDraw!Q8)","v":""},{"$f":"IF(CupDraw!R8=\"\",\"\",CupDraw!R8)","v":""},null,null,{"$f":"CupDraw!U8","v":4},{"$f":"CupDraw!V8","v":"Await earlier tie"},{"$f":"IF(CupDraw!W8=\"\",\"\",CupDraw!W8)","v":""},{"$f":"IF(CupDraw!X8=\"\",\"\",CupDraw!X8)","v":""},null,null,{"$f":"CupDraw!AA8","v":4},{"$f":"CupDraw!AB8","v":"Await earlier tie"},{"$f":"IF(CupDraw!AC8=\"\",\"\",CupDraw!AC8)","v":""},{"$f":"CupDraw!AD8","v":""}]
[null,null,{"$f":"IF(CupDraw!J9=\"\",\"\",CupDraw!J9)","v":""},{"$f":"IF(CupDraw!K9=\"\",\"\",CupDraw!K9)","v":""},{"$f":"IF(CupDraw!L9=\"\",\"\",CupDraw!L9)","v":""},null,null,null,{"$f":"IF(CupDraw!P9=\"\",\"\",CupDraw!P9)","v":"Ben Rosser"},{"$f":"IF(CupDraw!Q9=\"\",\"\",CupDraw!Q9)","v":""},{"$f":"IF(CupDraw!R9=\"\",\"\",CupDraw!R9)","v":""},null,null,null,{"$f":"CupDraw!V9","v":"Await earlier tie"},{"$f":"IF(CupDraw!W9=\"\",\"\",CupDraw!W9)","v":""},{"$f":"IF(CupDraw!X9=\"\",\"\",CupDraw!X9)","v":""},null,null,null,{"$f":"CupDraw!AB9","v":"Await earlier tie"},{"$f":"IF(CupDraw!AC9=\"\",\"\",CupDraw!AC9)","v":""}]
[null,{"$f":"CupDraw!I10","v":5},{"$f":"IF(CupDraw!J10=\"\",\"\",CupDraw!J10)","v":""},{"$f":"IF(CupDraw!K10=\"\",\"\",CupDraw!K10)","v":""},{"$f":"IF(CupDraw!L10=\"\",\"\",CupDraw!L10)","v":""},null,null,{"$f":"CupDraw!O10","v":5},{"$f":"IF(CupDraw!P10=\"\",\"\",CupDraw!P10)","v":"Phil Miller"},{"$f":"IF(CupDraw!Q10=\"\",\"\",CupDraw!Q10)","v":""},{"$f":"IF(CupDraw!R10=\"\",\"\",CupDraw!R10)","v":""},null,null,{"$f":"CupDraw!U10","v":5},{"$f":"CupDraw!V10","v":"Await earlier tie"},{"$f":"IF(CupDraw!W10=\"\",\"\",CupDraw!W10)","v":""},{"$f":"IF(CupDraw!X10=\"\",\"\",CupDraw!X10)","v":""},null,null,{"$f":"CupDraw!AA10","v":5},{"$f":"CupDraw!AB10","v":"Await earlier tie"},{"$f":"IF(CupDraw!AC10=\"\",\"\",CupDraw!AC10)","v":""},{"$f":"CupDraw!AD10","v":""}]
[null,null,{"$f":"IF(CupDraw!J11=\"\",\"\",CupDraw!J11)","v":""},{"$f":"IF(CupDraw!K11=\"\",\"\",CupDraw!K11)","v":""},{"$f":"IF(CupDraw!L11=\"\",\"\",CupDraw!L11)","v":""},null,null,null,{"$f":"IF(CupDraw!P11=\"\",\"\",CupDraw!P11)","v":"Ashley Houghton"},{"$f":"IF(CupDraw!Q11=\"\",\"\",CupDraw!Q11)","v":""},{"$f":"IF(CupDraw!R11=\"\",\"\",CupDraw!R11)","v":""},null,null,null,{"$f":"CupDraw!V11","v":"Await earlier tie"},{"$f":"IF(CupDraw!W11=\"\",\"\",CupDraw!W11)","v":""},{"$f":"IF(CupDraw!X11=\"\",\"\",CupDraw!X11)","v":""},null,null,null,{"$f":"CupDraw!AB11","v":"Await earlier tie"},{"$f":"IF(CupDraw!AC11=\"\",\"\",CupDraw!AC11)","v":""}]
[null,{"$f":"CupDraw!I12","v":6},{"$f":"IF(CupDraw!J12=\"\",\"\",CupDraw!J12)","v":""},{"$f":"IF(CupDraw!K12=\"\",\"\",CupDraw!K12)","v":""},{"$f":"IF(CupDraw!L12=\"\",\"\",CupDraw!L12)","v":""},null,null,{"$f":"CupDraw!O12","v":6},{"$f":"IF(CupDraw!P12=\"\",\"\",CupDraw!P12)","v":"Chris Griffin"},{"$f":"IF(CupDraw!Q12=\"\",\"\",CupDraw!Q12)","v":""},{"$f":"IF(CupDraw!R12=\"\",\"\",CupDraw!R12)","v":""},null,null,{"$f":"CupDraw!U12","v":6},{"$f":"CupDraw!V12","v":"Await earlier tie"},{"$f":"IF(CupDraw!W12=\"\",\"\",CupDraw!W12)","v":""},{"$f":"IF(CupDraw!X12=\"\",\"\",CupDraw!X12)","v":""},null,null,{"$f":"CupDraw!AA12","v":6},{"$f":"CupDraw!AB12","v":"Await earlier tie"},{"$f":"IF(CupDraw!AC12=\"\",\"\",CupDraw!AC12)","v":""},{"$f":"CupDraw!AD12","v":""}]
[null,null,{"$f":"IF(CupDraw!J13=\"\",\"\",CupDraw!J13)","v":""},{"$f":"IF(CupDraw!K13=\"\",\"\",CupDraw!K13)","v":""},{"$f":"IF(CupDraw!L13=\"\",\"\",CupDraw!L13)","v":""},null,null,null,{"$f":"IF(CupDraw!P13=\"\",\"\",CupDraw!P13)","v":"Dave Orrell"},{"$f":"IF(CupDraw!Q13=\"\",\"\",CupDraw!Q13)","v":""},{"$f":"IF(CupDraw!R13=\"\",\"\",CupDraw!R13)","v":""},null,null,null,{"$f":"CupDraw!V13","v":"Await earlier tie"},{"$f":"IF(CupDraw!W13=\"\",\"\",CupDraw!W13)","v":""},{"$f":"IF(CupDraw!X13=\"\",\"\",CupDraw!X13)","v":""},null,null,null,{"$f":"CupDraw!AB13","v":"Await earlier tie"},{"$f":"IF(CupDraw!AC13=\"\",\"\",CupDraw!AC13)","v":""}]
[null,{"$f":"CupDraw!I14","v":7},{"$f":"IF(CupDraw!J14=\"\",\"\",CupDraw!J14)","v":""},{"$f":"IF(CupDraw!K14=\"\",\"\",CupDraw!K14)","v":""},{"$f":"IF(CupDraw!L14=\"\",\"\",CupDraw!L14)","v":""},null,null,{"$f":"CupDraw!O14","v":7},{"$f":"IF(CupDraw!P14=\"\",\"\",CupDraw!P14)","v":"Alick Rocca"},{"$f":"IF(CupDraw!Q14=\"\",\"\",CupDraw!Q14)","v":""},{"$f":"IF(CupDraw!R14=\"\",\"\",CupDraw!R14)","v":""},null,null,{"$f":"CupDraw!U14","v":7},{"$f":"CupDraw!V14","v":"Await earlier tie"},{"$f":"IF(CupDraw!W14=\"\",\"\",CupDraw!W14)","v":""},{"$f":"IF(CupDraw!X14=\"\",\"\",CupDraw!X14)","v":""},null,null,{"$f":"CupDraw!AA14","v":7},{"$f":"CupDraw!AB14","v":"Await earlier tie"},{"$f":"IF(CupDraw!AC14=\"\",\"\",CupDraw!AC14)","v":""},{"$f":"CupDraw!AD14","v":""}]
[null,null,{"$f":"IF(CupDraw!J15=\"\",\"\",CupDraw!J15)","v":""},{"$f":"IF(CupDraw!K15=\"\",\"\",CupDraw!K15)","v":""},{"$f":"IF(CupDraw!L15=\"\",\"\",CupDraw!L15)","v":""},null,null,null,{"$f":"IF(CupDraw!P15=\"\",\"\",CupDraw!P15)","v":"Joel Bent"},{"$f":"IF(CupDraw!Q15=\"\",\"\",CupDraw!Q15)","v":""},{"$f":"IF(CupDraw!R15=\"\",\"\",CupDraw!R15)","v":""},null,null,null,{"$f":"CupDraw!V15","v":"Await earlier tie"},{"$f":"IF(CupDraw!W15=\"\",\"\",CupDraw!W15)","v":""},{"$f":"IF(CupDraw!X15=\"\",\"\",CupDraw!X15)","v":""},null,null,null,{"$f":"CupDraw!AB15","v":"Await earlier tie"},{"$f":"IF(CupDraw!AC15=\"\",\"\",CupDraw!AC15)","v":""}]
[null,{"$f":"CupDraw!I16","v":8},{"$f":"IF(CupDraw!J16=\"\",\"\",CupDraw!J16)","v":""},{"$f":"IF(CupDraw!K16=\"\",\"\",CupDraw!K16)","v":""},{"$f":"IF(CupDraw!L16=\"\",\"\",CupDraw!L16)","v":""},null,null,{"$f":"CupDraw!O16","v":8},{"$f":"IF(CupDraw!P16=\"\",\"\",CupDraw!P16)","v":"Oscar Jackson"},{"$f":"IF(CupDraw!Q16=\"\",\"\",CupDraw!Q16)","v":""},{"$f":"IF(CupDraw!R16=\"\",\"\",CupDraw!R16)","v":""},null,null,{"$f":"CupDraw!U16","v":8},{"$f":"CupDraw!V16","v":"Await earlier tie"},{"$f":"IF(CupDraw!W16=\"\",\"\",CupDraw!W16)","v":""},{"$f":"IF(CupDraw!X16=\"\",\"\",CupDraw!X16)","v":""},null,null,{"$f":"CupDraw!AA16","v":8},{"$f":"CupDraw!AB16","v":"Await earlier tie"},{"$f":"IF(CupDraw!AC16=\"\",\"\",CupDraw!AC16)","v":""},{"$f":"CupDraw!AD16","v":""}]
[null,null,{"$f":"IF(CupDraw!J17=\"\",\"\",CupDraw!J17)","v":""},{"$f":"IF(CupDraw!K17=\"\",\"\",CupDraw!K17)","v":""},{"$f":"IF(CupDraw!L17=\"\",\"\",CupDraw!L17)","v":""},null,null,null,{"$f":"IF(CupDraw!P17=\"\",\"\",CupDraw!P17)","v":"Lennie Bow"},{"$f":"IF(CupDraw!Q17=\"\",\"\",CupDraw!Q17)","v":""},{"$f":"IF(CupDraw!R17=\"\",\"\",CupDraw!R17)","v":""},null,null,null,{"$f":"CupDraw!V17","v":"Await earlier tie"},{"$f":"IF(CupDraw!W17=\"\",\"\",CupDraw!W17)","v":""},{"$f":"IF(CupDraw!X17=\"\",\"\",CupDraw!X17)","v":""},null,null,null,{"$f":"CupDraw!AB17","v":"Await earlier tie"},{"$f":"IF(CupDraw!AC17=\"\",\"\",CupDraw!AC17)","v":""}]
[null,{"$f":"CupDraw!I18","v":9},{"$f":"IF(CupDraw!J18=\"\",\"\",CupDraw!J18)","v":""},{"$f":"IF(CupDraw!K18=\"\",\"\",CupDraw!K18)","v":""},{"$f":"IF(CupDraw!L18=\"\",\"\",CupDraw!L18)","v":""},null,null,{"$f":"CupDraw!O18","v":9},{"$f":"IF(CupDraw!P18=\"\",\"\",CupDraw!P18)","v":"Alan Rogers"},{"$f":"IF(CupDraw!Q18=\"\",\"\",CupDraw!Q18)","v":""},{"$f":"IF(CupDraw!R18=\"\",\"\",CupDraw!R18)","v":""},null,null,{"$f":"CupDraw!U18","v":9},{"$f":"CupDraw!V18","v":"Await earlier tie"},{"$f":"IF(CupDraw!W18=\"\",\"\",CupDraw!W18)","v":""},{"$f":"IF(CupDraw!X18=\"\",\"\",CupDraw!X18)","v":""}]
[null,null,{"$f":"IF(CupDraw!J19=\"\",\"\",CupDraw!J19)","v":""},{"$f":"IF(CupDraw!K19=\"\",\"\",CupDraw!K19)","v":""},{"$f":"IF(CupDraw!L19=\"\",\"\",CupDraw!L19)","v":""},null,null,null,{"$f":"IF(CupDraw!P19=\"\",\"\",CupDraw!P19)","v":"James Bell"},{"$f":"IF(CupDraw!Q19=\"\",\"\",CupDraw!Q19)","v":""},{"$f":"IF(CupDraw!R19=\"\",\"\",CupDraw!R19)","v":""},null,null,null,{"$f":"CupDraw!V19","v":"Await earlier tie"},{"$f":"IF(CupDraw!W19=\"\",\"\",CupDraw!W19)","v":""},{"$f":"IF(CupDraw!X19=\"\",\"\",CupDraw!X19)","v":""}]
[null,{"$f":"CupDraw!I20","v":10},{"$f":"IF(CupDraw!J20=\"\",\"\",CupDraw!J20)","v":""},{"$f":"IF(CupDraw!K20=\"\",\"\",CupDraw!K20)","v":""},{"$f":"IF(CupDraw!L20=\"\",\"\",CupDraw!L20)","v":""},null,null,{"$f":"CupDraw!O20","v":10},{"$f":"IF(CupDraw!P20=\"\",\"\",CupDraw!P20)","v":"Mike Penk"},{"$f":"IF(CupDraw!Q20=\"\",\"\",CupDraw!Q20)","v":""},{"$f":"IF(CupDraw!R20=\"\",\"\",CupDraw!R20)","v":""},null,null,{"$f":"CupDraw!U20","v":10},{"$f":"CupDraw!V20","v":"Await earlier tie"},{"$f":"IF(CupDraw!W20=\"\",\"\",CupDraw!W20)","v":""},{"$f":"IF(CupDraw!X20=\"\",\"\",CupDraw!X20)","v":""}]
[null,null,{"$f":"IF(CupDraw!J21=\"\",\"\",CupDraw!J21)","v":""},{"$f":"IF(CupDraw!K21=\"\",\"\",CupDraw!K21)","v":""},{"$f":"IF(CupDraw!L21=\"\",\"\",CupDraw!L21)","v":""},null,null,null,{"$f":"IF(CupDraw!P21=\"\",\"\",CupDraw!P21)","v":"Sally Williams"},{"$f":"IF(CupDraw!Q21=\"\",\"\",CupDraw!Q21)","v":""},{"$f":"IF(CupDraw!R21=\"\",\"\",CupDraw!R21)","v":""},null,null,null,{"$f":"CupDraw!V21","v":"Await earlier tie"},{"$f":"IF(CupDraw!W21=\"\",\"\",CupDraw!W21)","v":""},{"$f":"IF(CupDraw!X21=\"\",\"\",CupDraw!X21)","v":""},null,null,{"$f":"CupDraw!AA21","v":"Earlier Ties"}]
[null,{"$f":"CupDraw!I22","v":11},{"$f":"IF(CupDraw!J22=\"\",\"\",CupDraw!J22)","v":""},{"$f":"IF(CupDraw!K22=\"\",\"\",CupDraw!K22)","v":""},{"$f":"IF(CupDraw!L22=\"\",\"\",CupDraw!L22)","v":""},null,null,{"$f":"CupDraw!O22","v":11},{"$f":"IF(CupDraw!P22=\"\",\"\",CupDraw!P22)","v":"John Evans"},{"$f":"IF(CupDraw!Q22=\"\",\"\",CupDraw!Q22)","v":""},{"$f":"IF(CupDraw!R22=\"\",\"\",CupDraw!R22)","v":""},null,null,{"$f":"CupDraw!U22","v":11},{"$f":"CupDraw!V22","v":"Await earlier tie"},{"$f":"IF(CupDraw!W22=\"\",\"\",CupDraw!W22)","v":""},{"$f":"IF(CupDraw!X22=\"\",\"\",CupDraw!X22)","v":""}]
[null,null,{"$f":"IF(CupDraw!J23=\"\",\"\",CupDraw!J23)","v":""},{"$f":"IF(CupDraw!K23=\"\",\"\",CupDraw!K23)","v":""},{"$f":"IF(CupDraw!L23=\"\",\"\",CupDraw!L23)","v":""},null,null,null,{"$f":"IF(CupDraw!P23=\"\",\"\",CupDraw!P23)","v":"Stephen Barr"},{"$f":"IF(CupDraw!Q23=\"\",\"\",CupDraw!Q23)","v":""},{"$f":"IF(CupDraw!R23=\"\",\"\",CupDraw!R23)","v":""},null,null,null,{"$f":"CupDraw!V23","v":"Await earlier tie"},{"$f":"IF(CupDraw!W23=\"\",\"\",CupDraw!W23)","v":""},{"$f":"IF(CupDraw!X23=\"\",\"\",CupDraw!X23)","v":""}]
[null,{"$f":"CupDraw!I24","v":12},{"$f":"IF(CupDraw!J24=\"\",\"\",CupDraw!J24)","v":""},{"$f":"IF(CupDraw!K24=\"\",\"\",CupDraw!K24)","v":""},{"$f":"IF(CupDraw!L24=\"\",\"\",CupDraw!L24)","v":""},null,null,{"$f":"CupDraw!O24","v":12},{"$f":"IF(CupDraw!P24=\"\",\"\",CupDraw!P24)","v":"Andy Charleston"},{"$f":"IF(CupDraw!Q24=\"\",\"\",CupDraw!Q24)","v":""},{"$f":"IF(CupDraw!R24=\"\",\"\",CupDraw!R24)","v":""},null,null,{"$f":"CupDraw!U24","v":12},{"$f":"CupDraw!V24","v":"Await earlier tie"},{"$f":"IF(CupDraw!W24=\"\",\"\",CupDraw!W24)","v":""},{"$f":"IF(CupDraw!X24=\"\",\"\",CupDraw!X24)","v":""},null,null,null,{"$f":"IF(CupDraw!AB24=\"\",\"\",CupDraw!AB24)","v":""},{"$f":"IF(CupDraw!AC24=\"\",\"\",CupDraw!AC24)","v":""}]
[null,null,{"$f":"IF(CupDraw!J25=\"\",\"\",CupDraw!J25)","v":""},{"$f":"IF(CupDraw!K25=\"\",\"\",CupDraw!K25)","v":""},{"$f":"IF(CupDraw!L25=\"\",\"\",CupDraw!L25)","v":""},null,null,null,{"$f":"IF(CupDraw!P25=\"\",\"\",CupDraw!P25)","v":"Martin Tarbuck"},{"$f":"IF(CupDraw!Q25=\"\",\"\",CupDraw!Q25)","v":""},{"$f":"IF(CupDraw!R25=\"\",\"\",CupDraw!R25)","v":""},null,null,null,{"$f":"CupDraw!V25","v":"Await earlier tie"},{"$f":"IF(CupDraw!W25=\"\",\"\",CupDraw!W25)","v":""},{"$f":"IF(CupDraw!X25=\"\",\"\",CupDraw!X25)","v":""},null,null,null,{"$f":"IF(CupDraw!AB25=\"\",\"\",CupDraw!AB25)","v":""},{"$f":"IF(CupDraw!AC25=\"\",\"\",CupDraw!AC25)","v":""}]
[null,{"$f":"CupDraw!I26","v":13},{"$f":"IF(CupDraw!J26=\"\",\"\",CupDraw!J26)","v":""},{"$f":"IF(CupDraw!K26=\"\",\"\",CupDraw!K26)","v":""},{"$f":"IF(CupDraw!L26=\"\",\"\",CupDraw!L26)","v":""},null,null,{"$f":"CupDraw!O26","v":13},{"$f":"IF(CupDraw!P26=\"\",\"\",CupDraw!P26)","v":"David Dunn"},{"$f":"IF(CupDraw!Q26=\"\",\"\",CupDraw!Q26)","v":""},{"$f":"IF(CupDraw!R26=\"\",\"\",CupDraw!R26)","v":""},null,null,{"$f":"CupDraw!U26","v":13},{"$f":"CupDraw!V26","v":"Await earlier tie"},{"$f":"IF(CupDraw!W26=\"\",\"\",CupDraw!W26)","v":""},{"$f":"IF(CupDraw!X26=\"\",\"\",CupDraw!X26)","v":""},null,null,null,{"$f":"IF(CupDraw!AB26=\"\",\"\",CupDraw!AB26)","v":""},{"$f":"IF(CupDraw!AC26=\"\",\"\",CupDraw!AC26)","v":""},{"$f":"CupDraw!AD26","v":""}]
[null,null,{"$f":"IF(CupDraw!J27=\"\",\"\",CupDraw!J27)","v":""},{"$f":"IF(CupDraw!K27=\"\",\"\",CupDraw!K27)","v":""},{"$f":"IF(CupDraw!L27=\"\",\"\",CupDraw!L27)","v":""},null,null,null,{"$f":"IF(CupDraw!P27=\"\",\"\",CupDraw!P27)","v":"Simon Greenhalgh"},{"$f":"IF(CupDraw!Q27=\"\",\"\",CupDraw!Q27)","v":""},{"$f":"IF(CupDraw!R27=\"\",\"\",CupDraw!R27)","v":""},null,null,null,{"$f":"CupDraw!V27","v":"Await earlier tie"},{"$f":"IF(CupDraw!W27=\"\",\"\",CupDraw!W27)","v":""},{"$f":"IF(CupDraw!X27=\"\",\"\",CupDraw!X27)","v":""},null,null,null,{"$f":"IF(CupDraw!AB27=\"\",\"\",CupDraw!AB27)","v":""},{"$f":"IF(CupDraw!AC27=\"\",\"\",CupDraw!AC27)","v":""}]
[null,{"$f":"CupDraw!I28","v":14},{"$f":"IF(CupDraw!J28=\"\",\"\",CupDraw!J28)","v":""},{"$f":"IF(CupDraw!K28=\"\",\"\",CupDraw!K28)","v":""},{"$f":"IF(CupDraw!L28=\"\",\"\",CupDraw!L28)","v":""},null,null,{"$f":"CupDraw!O28","v":14},{"$f":"IF(CupDraw!P28=\"\",\"\",CupDraw!P28)","v":"Graham Miller"},{"$f":"IF(CupDraw!Q28=\"\",\"\",CupDraw!Q28)","v":""},{"$f":"IF(CupDraw!R28=\"\",\"\",CupDraw!R28)","v":""},null,null,{"$f":"CupDraw!U28","v":14},{"$f":"CupDraw!V28","v":"Await earlier tie"},{"$f":"IF(CupDraw!W28=\"\",\"\",CupDraw!W28)","v":""},{"$f":"IF(CupDraw!X28=\"\",\"\",CupDraw!X28)","v":""},null,null,null,{"$f":"IF(CupDraw!AB28=\"\",\"\",CupDraw!AB28)","v":""},{"$f":"IF(CupDraw!AC28=\"\",\"\",CupDraw!AC28)","v":""},{"$f":"CupDraw!AD28","v":""}]
[null,null,{"$f":"IF(CupDraw!J29=\"\",\"\",CupDraw!J29)","v":""},{"$f":"IF(CupDraw!K29=\"\",\"\",CupDraw!K29)","v":""},{"$f":"IF(CupDraw!L29=\"\",\"\",CupDraw!L29)","v":""},null,null,null,{"$f":"IF(CupDraw!P29=\"\",\"\",CupDraw!P29)","v":"Gareth Fallows"},{"$f":"IF(CupDraw!Q29=\"\",\"\",CupDraw!Q29)","v":""},{"$f":"IF(CupDraw!R29=\"\",\"\",CupDraw!R29)","v":""},null,null,null,{"$f":"CupDraw!V29","v":"Await earlier tie"},{"$f":"IF(CupDraw!W29=\"\",\"\",CupDraw!W29)","v":""},{"$f":"IF(CupDraw!X29=\"\",\"\",CupDraw!X29)","v":""},null,null,null,{"$f":"IF(CupDraw!AB29=\"\",\"\",CupDraw!AB29)","v":""},{"$f":"IF(CupDraw!AC29=\"\",\"\",CupDraw!AC29)","v":""}]
[null,{"$f":"CupDraw!I30","v":15},{"$f":"IF(CupDraw!J30=\"\",\"\",CupDraw!J30)","v":""},{"$f":"IF(CupDraw!K30=\"\",\"\",CupDraw!K30)","v":""},{"$f":"IF(CupDraw!L30=\"\",\"\",CupDraw!L30)","v":""},null,null,{"$f":"CupDraw!O30","v":15},{"$f":"IF(CupDraw!P30=\"\",\"\",CupDraw!P30)","v":"Tom Robinson"},{"$f":"IF(CupDraw!Q30=\"\",\"\",CupDraw!Q30)","v":""},{"$f":"IF(CupDraw!R30=\"\",\"\",CupDraw!R30)","v":""},null,null,{"$f":"CupDraw!U30","v":15},{"$f":"CupDraw!V30","v":"Await earlier tie"},{"$f":"IF(CupDraw!W30=\"\",\"\",CupDraw!W30)","v":""},{"$f":"IF(CupDraw!X30=\"\",\"\",CupDraw!X30)","v":""}]
[null,null,{"$f":"IF(CupDraw!J31=\"\",\"\",CupDraw!J31)","v":""},{"$f":"IF(CupDraw!K31=\"\",\"\",CupDraw!K31)","v":""},{"$f":"IF(CupDraw!L31=\"\",\"\",CupDraw!L31)","v":""},null,null,null,{"$f":"IF(CupDraw!P31=\"\",\"\",CupDraw!P31)","v":"Mo Sudell"},{"$f":"IF(CupDraw!Q31=\"\",\"\",CupDraw!Q31)","v":""},{"$f":"IF(CupDraw!R31=\"\",\"\",CupDraw!R31)","v":""},null,null,null,{"$f":"CupDraw!V31","v":"Await earlier tie"},{"$f":"IF(CupDraw!W31=\"\",\"\",CupDraw!W31)","v":""},{"$f":"IF(CupDraw!X31=\"\",\"\",CupDraw!X31)","v":""}]
[null,{"$f":"CupDraw!I32","v":16},{"$f":"IF(CupDraw!J32=\"\",\"\",CupDraw!J32)","v":""},{"$f":"IF(CupDraw!K32=\"\",\"\",CupDraw!K32)","v":""},{"$f":"IF(CupDraw!L32=\"\",\"\",CupDraw!L32)","v":""},null,null,{"$f":"CupDraw!O32","v":16},{"$f":"IF(CupDraw!P32=\"\",\"\",CupDraw!P32)","v":"Paul Fairhurst"},{"$f":"IF(CupDraw!Q32=\"\",\"\",CupDraw!Q32)","v":""},{"$f":"IF(CupDraw!R32=\"\",\"\",CupDraw!R32)","v":""},null,null,{"$f":"CupDraw!U32","v":16},{"$f":"CupDraw!V32","v":"Await earlier tie"},{"$f":"IF(CupDraw!W32=\"\",\"\",CupDraw!W32)","v":""},{"$f":"IF(CupDraw!X32=\"\",\"\",CupDraw!X32)","v":""}]
[null,null,{"$f":"IF(CupDraw!J33=\"\",\"\",CupDraw!J33)","v":""},{"$f":"IF(CupDraw!K33=\"\",\"\",CupDraw!K33)","v":""},{"$f":"IF(CupDraw!L33=\"\",\"\",CupDraw!L33)","v":""},null,null,null,{"$f":"IF(CupDraw!P33=\"\",\"\",CupDraw!P33)","v":"Dave Bell"},{"$f":"IF(CupDraw!Q33=\"\",\"\",CupDraw!Q33)","v":""},{"$f":"IF(CupDraw!R33=\"\",\"\",CupDraw!R33)","v":""},null,null,null,{"$f":"CupDraw!V33","v":"Await earlier tie"},{"$f":"IF(CupDraw!W33=\"\",\"\",CupDraw!W33)","v":""},{"$f":"IF(CupDraw!X33=\"\",\"\",CupDraw!X33)","v":""}]
[null,{"$f":"CupDraw!I34","v":17},{"$f":"IF(CupDraw!J34=\"\",\"\",CupDraw!J34)","v":""},{"$f":"IF(CupDraw!K34=\"\",\"\",CupDraw!K34)","v":""},{"$f":"IF(CupDraw!L34=\"\",\"\",CupDraw!L34)","v":""},null,null,{"$f":"CupDraw!O34","v":17},{"$f":"IF(CupDraw!P34=\"\",\"\",CupDraw!P34)","v":"Barry Birchall"},{"$f":"IF(CupDraw!Q34=\"\",\"\",CupDraw!Q34)","v":""},{"$f":"IF(CupDraw!R34=\"\",\"\",CupDraw!R34)","v":""},null,null,null,null,null,{"$f":"IF(CupDraw!X34=\"\",\"\",CupDraw!X34)","v":""}]
[null,null,{"$f":"IF(CupDraw!J35=\"\",\"\",CupDraw!J35)","v":""},{"$f":"IF(CupDraw!K35=\"\",\"\",CupDraw!K35)","v":""},{"$f":"IF(CupDraw!L35=\"\",\"\",CupDraw!L35)","v":""},null,null,null,{"$f":"IF(CupDraw!P35=\"\",\"\",CupDraw!P35)","v":"Martin Molyneux"},{"$f":"IF(CupDraw!Q35=\"\",\"\",CupDraw!Q35)","v":""},{"$f":"IF(CupDraw!R35=\"\",\"\",CupDraw!R35)","v":""},null,null,null,null,null,{"$f":"IF(CupDraw!X35=\"\",\"\",CupDraw!X35)","v":""}]
[null,{"$f":"CupDraw!I36","v":18},{"$f":"IF(CupDraw!J36=\"\",\"\",CupDraw!J36)","v":""},{"$f":"IF(CupDraw!K36=\"\",\"\",CupDraw!K36)","v":""},{"$f":"IF(CupDraw!L36=\"\",\"\",CupDraw!L36)","v":""},null,null,{"$f":"CupDraw!O36","v":18},{"$f":"IF(CupDraw!P36=\"\",\"\",CupDraw!P36)","v":"Mal Stott"},{"$f":"IF(CupDraw!Q36=\"\",\"\",CupDraw!Q36)","v":""},{"$f":"IF(CupDraw!R36=\"\",\"\",CupDraw!R36)","v":""},null,null,null,null,null,{"$f":"IF(CupDraw!X36=\"\",\"\",CupDraw!X36)","v":""}]
[null,null,{"$f":"IF(CupDraw!J37=\"\",\"\",CupDraw!J37)","v":""},{"$f":"IF(CupDraw!K37=\"\",\"\",CupDraw!K37)","v":""},{"$f":"IF(CupDraw!L37=\"\",\"\",CupDraw!L37)","v":""},null,null,null,{"$f":"IF(CupDraw!P37=\"\",\"\",CupDraw!P37)","v":"Nigel Heyes"},{"$f":"IF(CupDraw!Q37=\"\",\"\",CupDraw!Q37)","v":""},{"$f":"IF(CupDraw!R37=\"\",\"\",CupDraw!R37)","v":""},null,null,{"$f":"CupDraw!U37","v":"Replay"},null,null,{"$f":"IF(CupDraw!X37=\"\",\"\",CupDraw!X37)","v":""}]
[null,{"$f":"CupDraw!I38","v":19},{"$f":"IF(CupDraw!J38=\"\",\"\",CupDraw!J38)","v":""},{"$f":"IF(CupDraw!K38=\"\",\"\",CupDraw!K38)","v":""},{"$f":"IF(CupDraw!L38=\"\",\"\",CupDraw!L38)","v":""},null,null,{"$f":"CupDraw!O38","v":19},{"$f":"IF(CupDraw!P38=\"\",\"\",CupDraw!P38)","v":"Charlie Griffiths"},{"$f":"IF(CupDraw!Q38=\"\",\"\",CupDraw!Q38)","v":""},{"$f":"IF(CupDraw!R38=\"\",\"\",CupDraw!R38)","v":""},null,null,null,{"$f":"IF(CupDraw!V38=\"\",\"\",CupDraw!V38)","v":""},{"$f":"IF(CupDraw!W38=\"\",\"\",CupDraw!W38)","v":""},{"$f":"IF(CupDraw!X38=\"\",\"\",CupDraw!X38)","v":""},null,null,{"$f":"CupDraw!AA38","v":"QF"},{"$f":"CupDraw!AB38","v":"2020-11-21"}]
[null,null,{"$f":"IF(CupDraw!J39=\"\",\"\",CupDraw!J39)","v":""},{"$f":"IF(CupDraw!K39=\"\",\"\",CupDraw!K39)","v":""},{"$f":"IF(CupDraw!L39=\"\",\"\",CupDraw!L39)","v":""},null,null,null,{"$f":"IF(CupDraw!P39=\"\",\"\",CupDraw!P39)","v":"Andy White"},{"$f":"IF(CupDraw!Q39=\"\",\"\",CupDraw!Q39)","v":""},{"$f":"IF(CupDraw!R39=\"\",\"\",CupDraw!R39)","v":""},null,null,null,{"$f":"IF(CupDraw!V39=\"\",\"\",CupDraw!V39)","v":""},{"$f":"IF(CupDraw!W39=\"\",\"\",CupDraw!W39)","v":""},{"$f":"IF(CupDraw!X39=\"\",\"\",CupDraw!X39)","v":""},null,null,{"$f":"CupDraw!AA39","v":1},{"$f":"CupDraw!AB39","v":"Await earlier tie"},{"$f":"IF(CupDraw!AC39=\"\",\"\",CupDraw!AC39)","v":""},{"$f":"IF(CupDraw!AD39=\"\",\"\",CupDraw!AD39)","v":""}]
[null,{"$f":"CupDraw!I40","v":20},{"$f":"IF(CupDraw!J40=\"\",\"\",CupDraw!J40)","v":""},{"$f":"IF(CupDraw!K40=\"\",\"\",CupDraw!K40)","v":""},{"$f":"IF(CupDraw!L40=\"\",\"\",CupDraw!L40)","v":""},null,null,{"$f":"CupDraw!O40","v":20},{"$f":"IF(CupDraw!P40=\"\",\"\",CupDraw!P40)","v":"Vinny Topping"},{"$f":"IF(CupDraw!Q40=\"\",\"\",CupDraw!Q40)","v":""},{"$f":"IF(CupDraw!R40=\"\",\"\",CupDraw!R40)","v":""},null,null,null,{"$f":"IF(CupDraw!V40=\"\",\"\",CupDraw!V40)","v":""},{"$f":"IF(CupDraw!W40=\"\",\"\",CupDraw!W40)","v":""},{"$f":"IF(CupDraw!X40=\"\",\"\",CupDraw!X40)","v":""},null,null,null,{"$f":"CupDraw!AB40","v":"Await earlier tie"},{"$f":"IF(CupDraw!AC40=\"\",\"\",CupDraw!AC40)","v":""},{"$f":"IF(CupDraw!AD40=\"\",\"\",CupDraw!AD40)","v":""}]
[null,null,{"$f":"IF(CupDraw!J41=\"\",\"\",CupDraw!J41)","v":""},{"$f":"IF(CupDraw!K41=\"\",\"\",CupDraw!K41)","v":""},{"$f":"IF(CupDraw!L41=\"\",\"\",CupDraw!L41)","v":""},null,null,null,{"$f":"IF(CupDraw!P41=\"\",\"\",CupDraw!P41)","v":"Howard Bradley"},{"$f":"IF(CupDraw!Q41=\"\",\"\",CupDraw!Q41)","v":""},{"$f":"IF(CupDraw!R41=\"\",\"\",CupDraw!R41)","v":""},null,null,null,{"$f":"IF(CupDraw!V41=\"\",\"\",CupDraw!V41)","v":""},{"$f":"IF(CupDraw!W41=\"\",\"\",CupDraw!W41)","v":""},{"$f":"IF(CupDraw!X41=\"\",\"\",CupDraw!X41)","v":""},null,null,{"$f":"CupDraw!AA41","v":2},{"$f":"CupDraw!AB41","v":"Await earlier tie"},{"$f":"IF(CupDraw!AC41=\"\",\"\",CupDraw!AC41)","v":""},{"$f":"IF(CupDraw!AD41=\"\",\"\",CupDraw!AD41)","v":""}]
[null,{"$f":"CupDraw!I42","v":21},{"$f":"IF(CupDraw!J42=\"\",\"\",CupDraw!J42)","v":""},{"$f":"IF(CupDraw!K42=\"\",\"\",CupDraw!K42)","v":""},{"$f":"IF(CupDraw!L42=\"\",\"\",CupDraw!L42)","v":""},null,null,{"$f":"CupDraw!O42","v":21},{"$f":"IF(CupDraw!P42=\"\",\"\",CupDraw!P42)","v":"Kevin Carter"},{"$f":"IF(CupDraw!Q42=\"\",\"\",CupDraw!Q42)","v":""},{"$f":"IF(CupDraw!R42=\"\",\"\",CupDraw!R42)","v":""},null,null,null,{"$f":"IF(CupDraw!V42=\"\",\"\",CupDraw!V42)","v":""},{"$f":"IF(CupDraw!W42=\"\",\"\",CupDraw!W42)","v":""},{"$f":"IF(CupDraw!X42=\"\",\"\",CupDraw!X42)","v":""},null,null,null,{"$f":"CupDraw!AB42","v":"Await earlier tie"},{"$f":"IF(CupDraw!AC42=\"\",\"\",CupDraw!AC42)","v":""},{"$f":"IF(CupDraw!AD42=\"\",\"\",CupDraw!AD42)","v":""}]
[null,null,{"$f":"IF(CupDraw!J43=\"\",\"\",CupDraw!J43)","v":""},{"$f":"IF(CupDraw!K43=\"\",\"\",CupDraw!K43)","v":""},{"$f":"IF(CupDraw!L43=\"\",\"\",CupDraw!L43)","v":""},null,null,null,{"$f":"IF(CupDraw!P43=\"\",\"\",CupDraw!P43)","v":"Gareth McGuire"},{"$f":"IF(CupDraw!Q43=\"\",\"\",CupDraw!Q43)","v":""},{"$f":"IF(CupDraw!R43=\"\",\"\",CupDraw!R43)","v":""},null,null,null,{"$f":"IF(CupDraw!V43=\"\",\"\",CupDraw!V43)","v":""},{"$f":"IF(CupDraw!W43=\"\",\"\",CupDraw!W43)","v":""},{"$f":"IF(CupDraw!X43=\"\",\"\",CupDraw!X43)","v":""},null,null,{"$f":"CupDraw!AA43","v":3},{"$f":"CupDraw!AB43","v":"Await earlier tie"},{"$f":"IF(CupDraw!AC43=\"\",\"\",CupDraw!AC43)","v":""},{"$f":"IF(CupDraw!AD43=\"\",\"\",CupDraw!AD43)","v":""}]
[null,{"$f":"CupDraw!I44","v":22},{"$f":"IF(CupDraw!J44=\"\",\"\",CupDraw!J44)","v":""},{"$f":"IF(CupDraw!K44=\"\",\"\",CupDraw!K44)","v":""},{"$f":"IF(CupDraw!L44=\"\",\"\",CupDraw!L44)","v":""},null,null,{"$f":"CupDraw!O44","v":22},{"$f":"IF(CupDraw!P44=\"\",\"\",CupDraw!P44)","v":"Alfie Davies"},{"$f":"IF(CupDraw!Q44=\"\",\"\",CupDraw!Q44)","v":""},{"$f":"IF(CupDraw!R44=\"\",\"\",CupDraw!R44)","v":""},null,null,null,{"$f":"IF(CupDraw!V44=\"\",\"\",CupDraw!V44)","v":""},{"$f":"IF(CupDraw!W44=\"\",\"\",CupDraw!W44)","v":""},{"$f":"IF(CupDraw!X44=\"\",\"\",CupDraw!X44)","v":""},null,null,null,{"$f":"CupDraw!AB44","v":"Await earlier tie"},{"$f":"IF(CupDraw!AC44=\"\",\"\",CupDraw!AC44)","v":""},{"$f":"IF(CupDraw!AD44=\"\",\"\",CupDraw!AD44)","v":""}]
[null,null,{"$f":"IF(CupDraw!J45=\"\",\"\",CupDraw!J45)","v":""},{"$f":"IF(CupDraw!K45=\"\",\"\",CupDraw!K45)","v":""},{"$f":"IF(CupDraw!L45=\"\",\"\",CupDraw!L45)","v":""},null,null,null,{"$f":"IF(CupDraw!P45=\"\",\"\",CupDraw!P45)","v":"John Ronan"},{"$f":"IF(CupDraw!Q45=\"\",\"\",CupDraw!Q45)","v":""},{"$f":"IF(CupDraw!R45=\"\",\"\",CupDraw!R45)","v":""},null,null,null,{"$f":"IF(CupDraw!V45=\"\",\"\",CupDraw!V45)","v":""},{"$f":"IF(CupDraw!W45=\"\",\"\",CupDraw!W45)","v":""},{"$f":"IF(CupDraw!X45=\"\",\"\",CupDraw!X45)","v":""},null,null,{"$f":"CupDraw!AA45","v":4},{"$f":"CupDraw!AB45","v":"Await earlier tie"},{"$f":"IF(CupDraw!AC45=\"\",\"\",CupDraw!AC45)","v":""},{"$f":"IF(CupDraw!AD45=\"\",\"\",CupDraw!AD45)","v":""}]
[null,{"$f":"CupDraw!I46","v":23},{"$f":"IF(CupDraw!J46=\"\",\"\",CupDraw!J46)","v":""},{"$f":"IF(CupDraw!K46=\"\",\"\",CupDraw!K46)","v":""},{"$f":"IF(CupDraw!L46=\"\",\"\",CupDraw!L46)","v":""},null,null,{"$f":"CupDraw!O46","v":23},{"$f":"IF(CupDraw!P46=\"\",\"\",CupDraw!P46)","v":"Jack Walsh"},{"$f":"IF(CupDraw!Q46=\"\",\"\",CupDraw!Q46)","v":""},{"$f":"IF(CupDraw!R46=\"\",\"\",CupDraw!R46)","v":""},null,null,null,{"$f":"IF(CupDraw!V46=\"\",\"\",CupDraw!V46)","v":""},{"$f":"IF(CupDraw!W46=\"\",\"\",CupDraw!W46)","v":""},{"$f":"IF(CupDraw!X46=\"\",\"\",CupDraw!X46)","v":""},null,null,null,{"$f":"CupDraw!AB46","v":"Await earlier tie"},{"$f":"IF(CupDraw!AC46=\"\",\"\",CupDraw!AC46)","v":""},{"$f":"IF(CupDraw!AD46=\"\",\"\",CupDraw!AD46)","v":""}]
[null,null,{"$f":"IF(CupDraw!J47=\"\",\"\",CupDraw!J47)","v":""},{"$f":"IF(CupDraw!K47=\"\",\"\",CupDraw!K47)","v":""},{"$f":"IF(CupDraw!L47=\"\",\"\",CupDraw!L47)","v":""},null,null,null,{"$f":"IF(CupDraw!P47=\"\",\"\",CupDraw!P47)","v":"Paul Adderley"},{"$f":"IF(CupDraw!Q47=\"\",\"\",CupDraw!Q47)","v":""},{"$f":"IF(CupDraw!R47=\"\",\"\",CupDraw!R47)","v":""},null,null,null,{"$f":"IF(CupDraw!V47=\"\",\"\",CupDraw!V47)","v":""},{"$f":"IF(CupDraw!W47=\"\",\"\",CupDraw!W47)","v":""},{"$f":"IF(CupDraw!X47=\"\",\"\",CupDraw!X47)","v":""}]
[null,{"$f":"CupDraw!I48","v":24},{"$f":"IF(CupDraw!J48=\"\",\"\",CupDraw!J48)","v":""},{"$f":"IF(CupDraw!K48=\"\",\"\",CupDraw!K48)","v":""},{"$f":"IF(CupDraw!L48=\"\",\"\",CupDraw!L48)","v":""},null,null,{"$f":"CupDraw!O48","v":24},{"$f":"IF(CupDraw!P48=\"\",\"\",CupDraw!P48)","v":"Paul Fiddler"},{"$f":"IF(CupDraw!Q48=\"\",\"\",CupDraw!Q48)","v":""},{"$f":"IF(CupDraw!R48=\"\",\"\",CupDraw!R48)","v":""}]
[null,null,{"$f":"IF(CupDraw!J49=\"\",\"\",CupDraw!J49)","v":""},{"$f":"IF(CupDraw!K49=\"\",\"\",CupDraw!K49)","v":""},{"$f":"IF(CupDraw!L49=\"\",\"\",CupDraw!L49)","v":""},null,null,null,{"$f":"IF(CupDraw!P49=\"\",\"\",CupDraw!P49)","v":"Chris Townsend"},{"$f":"IF(CupDraw!Q49=\"\",\"\",CupDraw!Q49)","v":""},{"$f":"IF(CupDraw!R49=\"\",\"\",CupDraw!R49)","v":""},null,null,null,null,null,null,null,null,{"$f":"CupDraw!AA49","v":"Earlier Ties"}]
[null,{"$f":"CupDraw!I50","v":25},{"$f":"IF(CupDraw!J50=\"\",\"\",CupDraw!J50)","v":""},{"$f":"IF(CupDraw!K50=\"\",\"\",CupDraw!K50)","v":""},{"$f":"IF(CupDraw!L50=\"\",\"\",CupDraw!L50)","v":""},null,null,{"$f":"CupDraw!O50","v":25},{"$f":"IF(CupDraw!P50=\"\",\"\",CupDraw!P50)","v":"Mark Bunn"},{"$f":"IF(CupDraw!Q50=\"\",\"\",CupDraw!Q50)","v":""},{"$f":"IF(CupDraw!R50=\"\",\"\",CupDraw!R50)","v":""},null,null,null,null,null,null,null,null,null,{"$f":"IF(CupDraw!AB50=\"\",\"\",CupDraw!AB50)","v":""},{"$f":"IF(CupDraw!AC50=\"\",\"\",CupDraw!AC50)","v":""},{"$f":"IF(CupDraw!AD50=\"\",\"\",CupDraw!AD50)","v":""}]
[null,null,{"$f":"IF(CupDraw!J51=\"\",\"\",CupDraw!J51)","v":""},{"$f":"IF(CupDraw!K51=\"\",\"\",CupDraw!K51)","v":""},{"$f":"IF(CupDraw!L51=\"\",\"\",CupDraw!L51)","v":""},null,null,null,{"$f":"IF(CupDraw!P51=\"\",\"\",CupDraw!P51)","v":"Stephen Troop"},{"$f":"IF(CupDraw!Q51=\"\",\"\",CupDraw!Q51)","v":""},{"$f":"IF(CupDraw!R51=\"\",\"\",CupDraw!R51)","v":""},null,null,null,null,null,null,null,null,null,{"$f":"IF(CupDraw!AB51=\"\",\"\",CupDraw!AB51)","v":""},{"$f":"IF(CupDraw!AC51=\"\",\"\",CupDraw!AC51)","v":""},{"$f":"IF(CupDraw!AD51=\"\",\"\",CupDraw!AD51)","v":""}]
[null,{"$f":"CupDraw!I52","v":26},{"$f":"IF(CupDraw!J52=\"\",\"\",CupDraw!J52)","v":""},{"$f":"IF(CupDraw!K52=\"\",\"\",CupDraw!K52)","v":""},{"$f":"IF(CupDraw!L52=\"\",\"\",CupDraw!L52)","v":""},null,null,{"$f":"CupDraw!O52","v":26},{"$f":"IF(CupDraw!P52=\"\",\"\",CupDraw!P52)","v":"Steve Carter"},{"$f":"IF(CupDraw!Q52=\"\",\"\",CupDraw!Q52)","v":""},{"$f":"IF(CupDraw!R52=\"\",\"\",CupDraw!R52)","v":""},null,null,null,null,null,null,null,null,null,{"$f":"IF(CupDraw!AB52=\"\",\"\",CupDraw!AB52)","v":""},{"$f":"IF(CupDraw!AC52=\"\",\"\",CupDraw!AC52)","v":""},{"$f":"IF(CupDraw!AD52=\"\",\"\",CupDraw!AD52)","v":""}]
[null,null,{"$f":"IF(CupDraw!J53=\"\",\"\",CupDraw!J53)","v":""},{"$f":"IF(CupDraw!K53=\"\",\"\",CupDraw!K53)","v":""},{"$f":"IF(CupDraw!L53=\"\",\"\",CupDraw!L53)","v":""},null,null,null,{"$f":"IF(CupDraw!P53=\"\",\"\",CupDraw!P53)","v":"Liam Wah"},{"$f":"IF(CupDraw!Q53=\"\",\"\",CupDraw!Q53)","v":""},{"$f":"IF(CupDraw!R53=\"\",\"\",CupDraw!R53)","v":""},null,null,null,null,null,null,null,null,null,{"$f":"IF(CupDraw!AB53=\"\",\"\",CupDraw!AB53)","v":""},{"$f":"IF(CupDraw!AC53=\"\",\"\",CupDraw!AC53)","v":""},{"$f":"IF(CupDraw!AD53=\"\",\"\",CupDraw!AD53)","v":""}]
[null,{"$f":"CupDraw!I54","v":27},{"$f":"IF(CupDraw!J54=\"\",\"\",CupDraw!J54)","v":""},{"$f":"IF(CupDraw!K54=\"\",\"\",CupDraw!K54)","v":""},{"$f":"IF(CupDraw!L54=\"\",\"\",CupDraw!L54)","v":""},null,null,{"$f":"CupDraw!O54","v":27},{"$f":"IF(CupDraw!P54=\"\",\"\",CupDraw!P54)","v":"Paul Allen"},{"$f":"IF(CupDraw!Q54=\"\",\"\",CupDraw!Q54)","v":""},{"$f":"IF(CupDraw!R54=\"\",\"\",CupDraw!R54)","v":""},null,null,null,null,null,null,null,null,null,{"$f":"IF(CupDraw!AB54=\"\",\"\",CupDraw!AB54)","v":""},{"$f":"IF(CupDraw!AC54=\"\",\"\",CupDraw!AC54)","v":""},{"$f":"IF(CupDraw!AD54=\"\",\"\",CupDraw!AD54)","v":""}]
[null,null,{"$f":"IF(CupDraw!J55=\"\",\"\",CupDraw!J55)","v":""},{"$f":"IF(CupDraw!K55=\"\",\"\",CupDraw!K55)","v":""},{"$f":"IF(CupDraw!L55=\"\",\"\",CupDraw!L55)","v":""},null,null,null,{"$f":"IF(CupDraw!P55=\"\",\"\",CupDraw!P55)","v":"Kei Lok Ma"},{"$f":"IF(CupDraw!Q55=\"\",\"\",CupDraw!Q55)","v":""},{"$f":"IF(CupDraw!R55=\"\",\"\",CupDraw!R55)","v":""},null,null,null,null,null,null,null,null,null,{"$f":"IF(CupDraw!AB55=\"\",\"\",CupDraw!AB55)","v":""},{"$f":"IF(CupDraw!AC55=\"\",\"\",CupDraw!AC55)","v":""},{"$f":"IF(CupDraw!AD55=\"\",\"\",CupDraw!AD55)","v":""}]
[null,{"$f":"CupDraw!I56","v":28},{"$f":"IF(CupDraw!J56=\"\",\"\",CupDraw!J56)","v":""},{"$f":"IF(CupDraw!K56=\"\",\"\",CupDraw!K56)","v":""},{"$f":"IF(CupDraw!L56=\"\",\"\",CupDraw!L56)","v":""},null,null,{"$f":"CupDraw!O56","v":28},{"$f":"IF(CupDraw!P56=\"\",\"\",CupDraw!P56)","v":"Steve Baxter"},{"$f":"IF(CupDraw!Q56=\"\",\"\",CupDraw!Q56)","v":""},{"$f":"IF(CupDraw!R56=\"\",\"\",CupDraw!R56)","v":""},null,null,null,null,null,null,null,null,null,{"$f":"IF(CupDraw!AB56=\"\",\"\",CupDraw!AB56)","v":""},{"$f":"IF(CupDraw!AC56=\"\",\"\",CupDraw!AC56)","v":""},{"$f":"IF(CupDraw!AD56=\"\",\"\",CupDraw!AD56)","v":""}]
[null,null,{"$f":"IF(CupDraw!J57=\"\",\"\",CupDraw!J57)","v":""},{"$f":"IF(CupDraw!K57=\"\",\"\",CupDraw!K57)","v":""},{"$f":"IF(CupDraw!L57=\"\",\"\",CupDraw!L57)","v":""},null,null,null,{"$f":"IF(CupDraw!P57=\"\",\"\",CupDraw!P57)","v":"Chris Luck"},{"$f":"IF(CupDraw!Q57=\"\",\"\",CupDraw!Q57)","v":""},{"$f":"IF(CupDraw!R57=\"\",\"\",CupDraw!R57)","v":""},null,null,null,null,null,null,null,null,null,{"$f":"IF(CupDraw!AB57=\"\",\"\",CupDraw!AB57)","v":""},{"$f":"IF(CupDraw!AC57=\"\",\"\",CupDraw!AC57)","v":""},{"$f":"IF(CupDraw!AD57=\"\",\"\",CupDraw!AD57)","v":""}]
[null,{"$f":"CupDraw!I58","v":29},{"$f":"IF(CupDraw!J58=\"\",\"\",CupDraw!J58)","v":""},{"$f":"IF(CupDraw!K58=\"\",\"\",CupDraw!K58)","v":""},{"$f":"IF(CupDraw!L58=\"\",\"\",CupDraw!L58)","v":""},null,null,{"$f":"CupDraw!O58","v":29},{"$f":"IF(CupDraw!P58=\"\",\"\",CupDraw!P58)","v":"Paul Barnes"},{"$f":"IF(CupDraw!Q58=\"\",\"\",CupDraw!Q58)","v":""},{"$f":"IF(CupDraw!R58=\"\",\"\",CupDraw!R58)","v":""}]
[null,null,{"$f":"IF(CupDraw!J59=\"\",\"\",CupDraw!J59)","v":""},{"$f":"IF(CupDraw!K59=\"\",\"\",CupDraw!K59)","v":""},{"$f":"IF(CupDraw!L59=\"\",\"\",CupDraw!L59)","v":""},null,null,null,{"$f":"IF(CupDraw!P59=\"\",\"\",CupDraw!P59)","v":"Alan White"},{"$f":"IF(CupDraw!Q59=\"\",\"\",CupDraw!Q59)","v":""},{"$f":"IF(CupDraw!R59=\"\",\"\",CupDraw!R59)","v":""}]
[null,{"$f":"CupDraw!I60","v":30},{"$f":"IF(CupDraw!J60=\"\",\"\",CupDraw!J60)","v":""},{"$f":"IF(CupDraw!K60=\"\",\"\",CupDraw!K60)","v":""},{"$f":"IF(CupDraw!L60=\"\",\"\",CupDraw!L60)","v":""},null,null,{"$f":"CupDraw!O60","v":30},{"$f":"IF(CupDraw!P60=\"\",\"\",CupDraw!P60)","v":"Chris Bow"},{"$f":"IF(CupDraw!Q60=\"\",\"\",CupDraw!Q60)","v":""},{"$f":"IF(CupDraw!R60=\"\",\"\",CupDraw!R60)","v":""}]
[null,null,{"$f":"IF(CupDraw!J61=\"\",\"\",CupDraw!J61)","v":""},{"$f":"IF(CupDraw!K61=\"\",\"\",CupDraw!K61)","v":""},{"$f":"IF(CupDraw!L61=\"\",\"\",CupDraw!L61)","v":""},null,null,null,{"$f":"IF(CupDraw!P61=\"\",\"\",CupDraw!P61)","v":"Lewis Buckley"},{"$f":"IF(CupDraw!Q61=\"\",\"\",CupDraw!Q61)","v":""},{"$f":"IF(CupDraw!R61=\"\",\"\",CupDraw!R61)","v":""}]
[null,{"$f":"CupDraw!I62","v":31},{"$f":"IF(CupDraw!J62=\"\",\"\",CupDraw!J62)","v":""},{"$f":"IF(CupDraw!K62=\"\",\"\",CupDraw!K62)","v":""},{"$f":"IF(CupDraw!L62=\"\",\"\",CupDraw!L62)","v":""},null,null,{"$f":"CupDraw!O62","v":31},{"$f":"IF(CupDraw!P62=\"\",\"\",CupDraw!P62)","v":"Paul Ridgeway"},{"$f":"IF(CupDraw!Q62=\"\",\"\",CupDraw!Q62)","v":""},{"$f":"IF(CupDraw!R62=\"\",\"\",CupDraw!R62)","v":""}]
[null,null,{"$f":"IF(CupDraw!J63=\"\",\"\",CupDraw!J63)","v":""},{"$f":"IF(CupDraw!K63=\"\",\"\",CupDraw!K63)","v":""},{"$f":"IF(CupDraw!L63=\"\",\"\",CupDraw!L63)","v":""},null,null,null,{"$f":"IF(CupDraw!P63=\"\",\"\",CupDraw!P63)","v":"Bye"},{"$f":"IF(CupDraw!Q63=\"\",\"\",CupDraw!Q63)","v":""},{"$f":"IF(CupDraw!R63=\"\",\"\",CupDraw!R63)","v":""},null,null,null,null,null,null,null,null,{"$f":"CupDraw!AA63","v":"SF"},{"$f":"CupDraw!AB63","v":"2020-12-05"}]
[null,{"$f":"CupDraw!I64","v":32},{"$f":"IF(CupDraw!J64=\"\",\"\",CupDraw!J64)","v":""},{"$f":"IF(CupDraw!K64=\"\",\"\",CupDraw!K64)","v":""},{"$f":"IF(CupDraw!L64=\"\",\"\",CupDraw!L64)","v":""},null,null,{"$f":"CupDraw!O64","v":32},{"$f":"IF(CupDraw!P64=\"\",\"\",CupDraw!P64)","v":"Gareth Powell"},{"$f":"IF(CupDraw!Q64=\"\",\"\",CupDraw!Q64)","v":""},{"$f":"IF(CupDraw!R64=\"\",\"\",CupDraw!R64)","v":""},null,null,null,null,null,null,null,null,{"$f":"CupDraw!AA64","v":1},{"$f":"IF(CupDraw!AB64=\"\",\"\",CupDraw!AB64)","v":"Await earlier tie"},{"$f":"IF(CupDraw!AC64=\"\",\"\",CupDraw!AC64)","v":""},{"$f":"CupDraw!AD64","v":""}]
[null,null,{"$f":"IF(CupDraw!J65=\"\",\"\",CupDraw!J65)","v":""},{"$f":"IF(CupDraw!K65=\"\",\"\",CupDraw!K65)","v":""},{"$f":"IF(CupDraw!L65=\"\",\"\",CupDraw!L65)","v":""},null,null,null,{"$f":"IF(CupDraw!P65=\"\",\"\",CupDraw!P65)","v":"Bye"},{"$f":"IF(CupDraw!Q65=\"\",\"\",CupDraw!Q65)","v":""},{"$f":"IF(CupDraw!R65=\"\",\"\",CupDraw!R65)","v":""},null,null,null,null,null,null,null,null,null,{"$f":"CupDraw!AB65","v":"Await earlier tie"},{"$f":"IF(CupDraw!AC65=\"\",\"\",CupDraw!AC65)","v":""}]
[null,{"$f":"CupDraw!I66","v":33},{"$f":"IF(CupDraw!J66=\"\",\"\",CupDraw!J66)","v":""},{"$f":"IF(CupDraw!K66=\"\",\"\",CupDraw!K66)","v":""},{"$f":"IF(CupDraw!L66=\"\",\"\",CupDraw!L66)","v":""},null,null,null,null,null,null,null,null,null,null,null,null,null,null,{"$f":"CupDraw!AA66","v":2},{"$f":"CupDraw!AB66","v":"Await earlier tie"},{"$f":"IF(CupDraw!AC66=\"\",\"\",CupDraw!AC66)","v":""},{"$f":"CupDraw!AD66","v":""}]
[null,null,{"$f":"IF(CupDraw!J67=\"\",\"\",CupDraw!J67)","v":""},{"$f":"IF(CupDraw!K67=\"\",\"\",CupDraw!K67)","v":""},{"$f":"IF(CupDraw!L67=\"\",\"\",CupDraw!L67)","v":""},null,null,null,null,null,null,null,null,null,null,null,null,null,null,null,{"$f":"CupDraw!AB67","v":"Await earlier tie"},{"$f":"IF(CupDraw!AC67=\"\",\"\",CupDraw!AC67)","v":""}]
[null,{"$f":"CupDraw!I68","v":34},{"$f":"IF(CupDraw!J68=\"\",\"\",CupDraw!J68)","v":""},{"$f":"IF(CupDraw!K68=\"\",\"\",CupDraw!K68)","v":""},{"$f":"IF(CupDraw!L68=\"\",\"\",CupDraw!L68)","v":""},null,null,{"$f":"CupDraw!O68","v":"Earlier ties"}]
[null,null,{"$f":"IF(CupDraw!J69=\"\",\"\",CupDraw!J69)","v":""},{"$f":"IF(CupDraw!K69=\"\",\"\",CupDraw!K69)","v":""},{"$f":"IF(CupDraw!L69=\"\",\"\",CupDraw!L69)","v":""},null,null,{"$f":"IF(CupDraw!O69=\"\",\"\",CupDraw!O69)","v":5},{"$f":"IF(CupDraw!P69=\"\",\"\",CupDraw!P69)","v":""},{"$f":"IF(CupDraw!Q69=\"\",\"\",CupDraw!Q69)","v":-7},{"$f":"IF(CupDraw!R69=\"\",\"\",CupDraw!R69)","v":"R"},null,null,null,null,null,null,null,null,{"$f":"CupDraw!AA69","v":"Earlier ties"}]
[null,{"$f":"CupDraw!I70","v":35},{"$f":"IF(CupDraw!J70=\"\",\"\",CupDraw!J70)","v":""},{"$f":"IF(CupDraw!K70=\"\",\"\",CupDraw!K70)","v":""},{"$f":"IF(CupDraw!L70=\"\",\"\",CupDraw!L70)","v":""},null,null,{"$f":"CupDraw!O70","v":0},{"$f":"IF(CupDraw!P70=\"\",\"\",CupDraw!P70)","v":""},{"$f":"IF(CupDraw!Q70=\"\",\"\",CupDraw!Q70)","v":-7},{"$f":"IF(CupDraw!R70=\"\",\"\",CupDraw!R70)","v":""},null,null,null,null,null,null,null,null,null,{"$f":"IF(CupDraw!AB70=\"\",\"\",CupDraw!AB70)","v":""},{"$f":"IF(CupDraw!AC70=\"\",\"\",CupDraw!AC70)","v":""},{"$f":"CupDraw!AD70","v":""}]
[null,null,{"$f":"IF(CupDraw!J71=\"\",\"\",CupDraw!J71)","v":""},{"$f":"IF(CupDraw!K71=\"\",\"\",CupDraw!K71)","v":""},{"$f":"IF(CupDraw!L71=\"\",\"\",CupDraw!L71)","v":""},null,null,{"$f":"IF(CupDraw!O71=\"\",\"\",CupDraw!O71)","v":""},{"$f":"IF(CupDraw!P71=\"\",\"\",CupDraw!P71)","v":""},{"$f":"IF(CupDraw!Q71=\"\",\"\",CupDraw!Q71)","v":""},{"$f":"IF(CupDraw!R71=\"\",\"\",CupDraw!R71)","v":""},null,null,null,null,null,null,null,null,null,{"$f":"IF(CupDraw!AB71=\"\",\"\",CupDraw!AB71)","v":""},{"$f":"IF(CupDraw!AC71=\"\",\"\",CupDraw!AC71)","v":""}]
[null,{"$f":"CupDraw!I72","v":36},{"$f":"IF(CupDraw!J72=\"\",\"\",CupDraw!J72)","v":""},{"$f":"IF(CupDraw!K72=\"\",\"\",CupDraw!K72)","v":""},{"$f":"IF(CupDraw!L72=\"\",\"\",CupDraw!L72)","v":""},null,null,{"$f":"CupDraw!O72","v":0},{"$f":"IF(CupDraw!P72=\"\",\"\",CupDraw!P72)","v":""},{"$f":"IF(CupDraw!Q72=\"\",\"\",CupDraw!Q72)","v":""},{"$f":"IF(CupDraw!R72=\"\",\"\",CupDraw!R72)","v":""},null,null,null,null,null,null,null,null,null,{"$f":"IF(CupDraw!AB72=\"\",\"\",CupDraw!AB72)","v":""},{"$f":"IF(CupDraw!AC72=\"\",\"\",CupDraw!AC72)","v":""},{"$f":"CupDraw!AD72","v":""}]
[null,null,{"$f":"IF(CupDraw!J73=\"\",\"\",CupDraw!J73)","v":""},{"$f":"IF(CupDraw!K73=\"\",\"\",CupDraw!K73)","v":""},{"$f":"IF(CupDraw!L73=\"\",\"\",CupDraw!L73)","v":""},null,null,{"$f":"IF(CupDraw!O73=\"\",\"\",CupDraw!O73)","v":""},{"$f":"IF(CupDraw!P73=\"\",\"\",CupDraw!P73)","v":""},{"$f":"IF(CupDraw!Q73=\"\",\"\",CupDraw!Q73)","v":""},{"$f":"IF(CupDraw!R73=\"\",\"\",CupDraw!R73)","v":""},null,null,null,null,null,null,null,null,null,{"$f":"IF(CupDraw!AB73=\"\",\"\",CupDraw!AB73)","v":""},{"$f":"IF(CupDraw!AC73=\"\",\"\",CupDraw!AC73)","v":""}]
[null,null,null,null,null,null,null,{"$f":"CupDraw!O74","v":0},{"$f":"IF(CupDraw!P74=\"\",\"\",CupDraw!P74)","v":""},{"$f":"IF(CupDraw!Q74=\"\",\"\",CupDraw!Q74)","v":""},{"$f":"IF(CupDraw!R74=\"\",\"\",CupDraw!R74)","v":""}]
[null,null,null,null,null,null,null,{"$f":"IF(CupDraw!O75=\"\",\"\",CupDraw!O75)","v":""},{"$f":"IF(CupDraw!P75=\"\",\"\",CupDraw!P75)","v":""},{"$f":"IF(CupDraw!Q75=\"\",\"\",CupDraw!Q75)","v":""},{"$f":"IF(CupDraw!R75=\"\",\"\",CupDraw!R75)","v":""}]
[null,"Earlier ties",null,null,null,null,null,{"$f":"CupDraw!O76","v":0},{"$f":"IF(CupDraw!P76=\"\",\"\",CupDraw!P76)","v":""},{"$f":"IF(CupDraw!Q76=\"\",\"\",CupDraw!Q76)","v":""},{"$f":"IF(CupDraw!R76=\"\",\"\",CupDraw!R76)","v":""}]
[null,null,{"$f":"IF(CupDraw!J79=\"\",\"\",CupDraw!J79)","v":"Pete Baron"},{"$f":"IF(CupDraw!K79=\"\",\"\",CupDraw!K79)","v":""},{"$f":"IF(CupDraw!L79=\"\",\"\",CupDraw!L79)","v":"R"},null,null,{"$f":"IF(CupDraw!O77=\"\",\"\",CupDraw!O77)","v":""},{"$f":"IF(CupDraw!P77=\"\",\"\",CupDraw!P77)","v":""},{"$f":"IF(CupDraw!Q77=\"\",\"\",CupDraw!Q77)","v":""},{"$f":"IF(CupDraw!R77=\"\",\"\",CupDraw!R77)","v":""}]
[null,null,{"$f":"IF(CupDraw!J80=\"\",\"\",CupDraw!J80)","v":"Chris Townsend"},{"$f":"IF(CupDraw!K80=\"\",\"\",CupDraw!K80)","v":""},null,null,null,{"$f":"CupDraw!O78","v":0},{"$f":"IF(CupDraw!P78=\"\",\"\",CupDraw!P78)","v":""},{"$f":"IF(CupDraw!Q78=\"\",\"\",CupDraw!Q78)","v":""},{"$f":"IF(CupDraw!R78=\"\",\"\",CupDraw!R78)","v":""}]
[null,null,{"$f":"IF(CupDraw!J81=\"\",\"\",CupDraw!J81)","v":""},{"$f":"IF(CupDraw!K81=\"\",\"\",CupDraw!K81)","v":""},{"$f":"IF(CupDraw!L81=\"\",\"\",CupDraw!L81)","v":""},null,null,{"$f":"IF(CupDraw!O79=\"\",\"\",CupDraw!O79)","v":""},{"$f":"IF(CupDraw!P79=\"\",\"\",CupDraw!P79)","v":""},{"$f":"IF(CupDraw!Q79=\"\",\"\",CupDraw!Q79)","v":""},{"$f":"IF(CupDraw!R79=\"\",\"\",CupDraw!R79)","v":""}]
[null,null,{"$f":"IF(CupDraw!J82=\"\",\"\",CupDraw!J82)","v":""},{"$f":"IF(CupDraw!K82=\"\",\"\",CupDraw!K82)","v":""},null,null,null,{"$f":"CupDraw!O80","v":0},{"$f":"IF(CupDraw!P80=\"\",\"\",CupDraw!P80)","v":""},{"$f":"IF(CupDraw!Q80=\"\",\"\",CupDraw!Q80)","v":""},{"$f":"IF(CupDraw!R80=\"\",\"\",CupDraw!R80)","v":""},null,null,null,null,null,null,null,null,{"$f":"CupDraw!AA80","v":"Final"},{"$f":"CupDraw!AB80","v":"2020-12-16"}]
[null,null,{"$f":"IF(CupDraw!J83=\"\",\"\",CupDraw!J83)","v":""},{"$f":"IF(CupDraw!K83=\"\",\"\",CupDraw!K83)","v":""},{"$f":"IF(CupDraw!L83=\"\",\"\",CupDraw!L83)","v":""},null,null,{"$f":"IF(CupDraw!O81=\"\",\"\",CupDraw!O81)","v":""},{"$f":"IF(CupDraw!P81=\"\",\"\",CupDraw!P81)","v":""},{"$f":"IF(CupDraw!Q81=\"\",\"\",CupDraw!Q81)","v":""},{"$f":"IF(CupDraw!R81=\"\",\"\",CupDraw!R81)","v":""},null,null,null,null,null,null,null,null,{"$f":"CupDraw!AA81","v":1},{"$f":"CupDraw!AB81","v":"Await earlier tie"},{"$f":"IF(CupDraw!AC81=\"\",\"\",CupDraw!AC81)","v":""},{"$f":"CupDraw!AD81","v":""}]
[null,null,{"$f":"IF(CupDraw!J84=\"\",\"\",CupDraw!J84)","v":""},{"$f":"IF(CupDraw!K84=\"\",\"\",CupDraw!K84)","v":""},{"$f":"IF(CupDraw!L84=\"\",\"\",CupDraw!L84)","v":""},null,null,{"$f":"CupDraw!O82","v":0},{"$f":"IF(CupDraw!P82=\"\",\"\",CupDraw!P82)","v":""},{"$f":"IF(CupDraw!Q82=\"\",\"\",CupDraw!Q82)","v":""},{"$f":"IF(CupDraw!R82=\"\",\"\",CupDraw!R82)","v":""},null,null,null,null,null,null,null,null,null,{"$f":"CupDraw!AB82","v":"Await earlier tie"},{"$f":"IF(CupDraw!AC82=\"\",\"\",CupDraw!AC82)","v":""}]
[null,null,{"$f":"IF(CupDraw!J85=\"\",\"\",CupDraw!J85)","v":""},{"$f":"IF(CupDraw!K85=\"\",\"\",CupDraw!K85)","v":""},{"$f":"IF(CupDraw!L85=\"\",\"\",CupDraw!L85)","v":""},null,null,{"$f":"IF(CupDraw!O83=\"\",\"\",CupDraw!O83)","v":""},{"$f":"IF(CupDraw!P83=\"\",\"\",CupDraw!P83)","v":""},{"$f":"IF(CupDraw!Q83=\"\",\"\",CupDraw!Q83)","v":""},{"$f":"IF(CupDraw!R83=\"\",\"\",CupDraw!R83)","v":""}]
[null,null,{"$f":"IF(CupDraw!J86=\"\",\"\",CupDraw!J86)","v":""},{"$f":"IF(CupDraw!K86=\"\",\"\",CupDraw!K86)","v":""},{"$f":"IF(CupDraw!L86=\"\",\"\",CupDraw!L86)","v":""},null,null,{"$f":"CupDraw!O84","v":0},{"$f":"IF(CupDraw!P84=\"\",\"\",CupDraw!P84)","v":""},{"$f":"IF(CupDraw!Q84=\"\",\"\",CupDraw!Q84)","v":""},{"$f":"IF(CupDraw!R84=\"\",\"\",CupDraw!R84)","v":""}]
[null,null,{"$f":"IF(CupDraw!J87=\"\",\"\",CupDraw!J87)","v":""},{"$f":"IF(CupDraw!K87=\"\",\"\",CupDraw!K87)","v":""},{"$f":"IF(CupDraw!L87=\"\",\"\",CupDraw!L87)","v":""},null,null,{"$f":"IF(CupDraw!O85=\"\",\"\",CupDraw!O85)","v":""},{"$f":"IF(CupDraw!P85=\"\",\"\",CupDraw!P85)","v":""},{"$f":"IF(CupDraw!Q85=\"\",\"\",CupDraw!Q85)","v":""},{"$f":"IF(CupDraw!R85=\"\",\"\",CupDraw!R85)","v":""},null,null,null,null,null,null,null,null,{"$f":"CupDraw!AA85","v":"Earlier ties"}]
[null,null,{"$f":"IF(CupDraw!J88=\"\",\"\",CupDraw!J88)","v":""},{"$f":"IF(CupDraw!K88=\"\",\"\",CupDraw!K88)","v":""},{"$f":"IF(CupDraw!L88=\"\",\"\",CupDraw!L88)","v":""},null,null,{"$f":"CupDraw!O86","v":0},{"$f":"IF(CupDraw!P86=\"\",\"\",CupDraw!P86)","v":""},{"$f":"IF(CupDraw!Q86=\"\",\"\",CupDraw!Q86)","v":""},{"$f":"IF(CupDraw!R86=\"\",\"\",CupDraw!R86)","v":""},null,null,null,null,null,null,null,null,null,{"$f":"IF(CupDraw!AB86=\"\",\"\",CupDraw!AB86)","v":""},{"$f":"IF(CupDraw!AC86=\"\",\"\",CupDraw!AC86)","v":""},{"$f":"IF(CupDraw!AD86=\"\",\"\",CupDraw!AD86)","v":""}]
[null,null,{"$f":"IF(CupDraw!J89=\"\",\"\",CupDraw!J89)","v":""},{"$f":"IF(CupDraw!K89=\"\",\"\",CupDraw!K89)","v":""},{"$f":"IF(CupDraw!L89=\"\",\"\",CupDraw!L89)","v":""},null,null,{"$f":"IF(CupDraw!O87=\"\",\"\",CupDraw!O87)","v":""},{"$f":"IF(CupDraw!P87=\"\",\"\",CupDraw!P87)","v":""},{"$f":"IF(CupDraw!Q87=\"\",\"\",CupDraw!Q87)","v":""},{"$f":"IF(CupDraw!R87=\"\",\"\",CupDraw!R87)","v":""},null,null,null,null,null,null,null,null,null,{"$f":"IF(CupDraw!AB87=\"\",\"\",CupDraw!AB87)","v":""},{"$f":"IF(CupDraw!AC87=\"\",\"\",CupDraw!AC87)","v":""},{"$f":"IF(CupDraw!AD87=\"\",\"\",CupDraw!AD87)","v":""}]
[null,null,{"$f":"IF(CupDraw!J90=\"\",\"\",CupDraw!J90)","v":""},{"$f":"IF(CupDraw!K90=\"\",\"\",CupDraw!K90)","v":""},{"$f":"IF(CupDraw!L90=\"\",\"\",CupDraw!L90)","v":""},null,null,{"$f":"CupDraw!O88","v":0},{"$f":"IF(CupDraw!P88=\"\",\"\",CupDraw!P88)","v":""},{"$f":"IF(CupDraw!Q88=\"\",\"\",CupDraw!Q88)","v":""},{"$f":"IF(CupDraw!R88=\"\",\"\",CupDraw!R88)","v":""},null,null,null,null,null,null,null,null,null,{"$f":"IF(CupDraw!AB88=\"\",\"\",CupDraw!AB88)","v":""},{"$f":"IF(CupDraw!AC88=\"\",\"\",CupDraw!AC88)","v":""},{"$f":"IF(CupDraw!AD88=\"\",\"\",CupDraw!AD88)","v":""}]
[null,null,{"$f":"IF(CupDraw!J91=\"\",\"\",CupDraw!J91)","v":""},{"$f":"IF(CupDraw!K91=\"\",\"\",CupDraw!K91)","v":""},{"$f":"IF(CupDraw!L91=\"\",\"\",CupDraw!L91)","v":""},null,null,{"$f":"IF(CupDraw!O89=\"\",\"\",CupDraw!O89)","v":""},{"$f":"IF(CupDraw!P89=\"\",\"\",CupDraw!P89)","v":""},{"$f":"IF(CupDraw!Q89=\"\",\"\",CupDraw!Q89)","v":""},{"$f":"IF(CupDraw!R89=\"\",\"\",CupDraw!R89)","v":""},null,null,null,null,null,null,null,null,null,{"$f":"IF(CupDraw!AB89=\"\",\"\",CupDraw!AB89)","v":""},{"$f":"IF(CupDraw!AC89=\"\",\"\",CupDraw!AC89)","v":""},{"$f":"IF(CupDraw!AD89=\"\",\"\",CupDraw!AD89)","v":""}]
[null,null,{"$f":"IF(CupDraw!J92=\"\",\"\",CupDraw!J92)","v":""},{"$f":"IF(CupDraw!K92=\"\",\"\",CupDraw!K92)","v":""},{"$f":"IF(CupDraw!L92=\"\",\"\",CupDraw!L92)","v":""},null,null,{"$f":"CupDraw!O90","v":0},{"$f":"IF(CupDraw!P90=\"\",\"\",CupDraw!P90)","v":""},{"$f":"IF(CupDraw!Q90=\"\",\"\",CupDraw!Q90)","v":""},{"$f":"IF(CupDraw!R90=\"\",\"\",CupDraw!R90)","v":""}]
[null,null,{"$f":"IF(CupDraw!J93=\"\",\"\",CupDraw!J93)","v":""},{"$f":"IF(CupDraw!K93=\"\",\"\",CupDraw!K93)","v":""},{"$f":"IF(CupDraw!L93=\"\",\"\",CupDraw!L93)","v":""},null,null,{"$f":"IF(CupDraw!O91=\"\",\"\",CupDraw!O91)","v":""},{"$f":"IF(CupDraw!P91=\"\",\"\",CupDraw!P91)","v":""},{"$f":"IF(CupDraw!Q91=\"\",\"\",CupDraw!Q91)","v":""},{"$f":"IF(CupDraw!R91=\"\",\"\",CupDraw!R91)","v":""}]
[null,null,{"$f":"IF(CupDraw!J94=\"\",\"\",CupDraw!J94)","v":""},{"$f":"IF(CupDraw!K94=\"\",\"\",CupDraw!K94)","v":""},{"$f":"IF(CupDraw!L94=\"\",\"\",CupDraw!L94)","v":""},null,null,{"$f":"CupDraw!O92","v":0},{"$f":"IF(CupDraw!P92=\"\",\"\",CupDraw!P92)","v":""},{"$f":"IF(CupDraw!Q92=\"\",\"\",CupDraw!Q92)","v":""},{"$f":"IF(CupDraw!R92=\"\",\"\",CupDraw!R92)","v":""}]
[null,null,{"$f":"IF(CupDraw!J95=\"\",\"\",CupDraw!J95)","v":""}]

{"sheet":"Predictions","index":6,"n_rows":187,"n_cols":7,"rows_kept":187,"cut":false,"hidden":false,"merged":[]}
[{"$f":"IF(Picks!A1=\"\",\"\",Picks!A1)","v":"Player"},{"$f":"IF(Picks!B1=\"\",\"\",Picks!B1)","v":"Prediction"},{"$f":"IF(Picks!C1=\"\",\"\",Picks!C1)","v":"Match Day"},{"$f":"IF(Picks!D1=\"\",\"\",Picks!D1)","v":"Decimal"},{"$f":"IF(Picks!E1=\"\",\"\",Picks!E1)","v":"Bet in?"},{"$f":"IF(Picks!F1=\"\",\"\",Picks!F1)","v":"Score"},{"$f":"IF(Picks!G1=\"\",\"\",Picks!G1)","v":"Max"}]
[{"$f":"IF(Picks!A2=\"\",\"\",Picks!A2)","v":"Alan Rogers"},{"$f":"IF(Picks!B2=\"\",\"\",Picks!B2)","v":"Harrogate"},{"$f":"IF(Picks!C2=\"\",\"\",Picks!C2)","v":7},{"$f":"IF(Picks!D2=\"\",\"\",Picks!D2)","v":2.2000000000000002},{"$f":"IF(Picks!E2=\"\",\"\",Picks!E2)","v":"x"},{"$f":"IF(Picks!F2=\"\",\"\",Picks!F2)","v":-7},{"$f":"IF(Picks!G2=\"\",\"\",Picks!G2)","v":43.072000000000003}]
[null,{"$f":"IF(Picks!B3=\"\",\"\",Picks!B3)","v":"Orient"},{"$f":"IF(Picks!C3=\"\",\"\",Picks!C3)","v":7},{"$f":"IF(Picks!D3=\"\",\"\",Picks!D3)","v":2.8},{"$f":"IF(Picks!E3=\"\",\"\",Picks!E3)","v":"x"},{"$f":"IF(Picks!F3=\"\",\"\",Picks!F3)","v":""},{"$f":"IF(Picks!G3=\"\",\"\",Picks!G3)","v":""}]
[null,{"$f":"IF(Picks!B4=\"\",\"\",Picks!B4)","v":"Stevenage draw"},{"$f":"IF(Picks!C4=\"\",\"\",Picks!C4)","v":7},{"$f":"IF(Picks!D4=\"\",\"\",Picks!D4)","v":3.2},{"$f":"IF(Picks!E4=\"\",\"\",Picks!E4)","v":"x"},{"$f":"IF(Picks!F4=\"\",\"\",Picks!F4)","v":""},{"$f":"IF(Picks!G4=\"\",\"\",Picks!G4)","v":""}]
[{"$f":"IF(Picks!A5=\"\",\"\",Picks!A5)","v":"Alan White"},{"$f":"IF(Picks!B5=\"\",\"\",Picks!B5)","v":"Arsenal"},{"$f":"IF(Picks!C5=\"\",\"\",Picks!C5)","v":7},{"$f":"IF(Picks!D5=\"\",\"\",Picks!D5)","v":1.5},{"$f":"IF(Picks!E5=\"\",\"\",Picks!E5)","v":"√"},{"$f":"IF(Picks!F5=\"\",\"\",Picks!F5)","v":-1.625},{"$f":"IF(Picks!G5=\"\",\"\",Picks!G5)","v":14.631249999999998}]
[null,{"$f":"IF(Picks!B6=\"\",\"\",Picks!B6)","v":"Everton"},{"$f":"IF(Picks!C6=\"\",\"\",Picks!C6)","v":7},{"$f":"IF(Picks!D6=\"\",\"\",Picks!D6)","v":1.55},{"$f":"IF(Picks!E6=\"\",\"\",Picks!E6)","v":"√"},{"$f":"IF(Picks!F6=\"\",\"\",Picks!F6)","v":""},{"$f":"IF(Picks!G6=\"\",\"\",Picks!G6)","v":""}]
[null,{"$f":"IF(Picks!B7=\"\",\"\",Picks!B7)","v":"Newcastle"},{"$f":"IF(Picks!C7=\"\",\"\",Picks!C7)","v":1},{"$f":"IF(Picks!D7=\"\",\"\",Picks!D7)","v":2.5499999999999998},{"$f":"IF(Picks!E7=\"\",\"\",Picks!E7)","v":"x"},{"$f":"IF(Picks!F7=\"\",\"\",Picks!F7)","v":""},{"$f":"IF(Picks!G7=\"\",\"\",Picks!G7)","v":""}]
[{"$f":"IF(Picks!A8=\"\",\"\",Picks!A8)","v":"Alfie Davies"},{"$f":"IF(Picks!B8=\"\",\"\",Picks!B8)","v":"Everton Draw"},{"$f":"IF(Picks!C8=\"\",\"\",Picks!C8)","v":7},{"$f":"IF(Picks!D8=\"\",\"\",Picks!D8)","v":4.2},{"$f":"IF(Picks!E8=\"\",\"\",Picks!E8)","v":"x"},{"$f":"IF(Picks!F8=\"\",\"\",Picks!F8)","v":-7},{"$f":"IF(Picks!G8=\"\",\"\",Picks!G8)","v":84.820000000000007}]
[null,{"$f":"IF(Picks!B9=\"\",\"\",Picks!B9)","v":"Newcastle Draw"},{"$f":"IF(Picks!C9=\"\",\"\",Picks!C9)","v":1},{"$f":"IF(Picks!D9=\"\",\"\",Picks!D9)","v":3.2},{"$f":"IF(Picks!E9=\"\",\"\",Picks!E9)","v":"x"},{"$f":"IF(Picks!F9=\"\",\"\",Picks!F9)","v":""},{"$f":"IF(Picks!G9=\"\",\"\",Picks!G9)","v":""}]
[null,{"$f":"IF(Picks!B10=\"\",\"\",Picks!B10)","v":"Southampton Draw"},{"$f":"IF(Picks!C10=\"\",\"\",Picks!C10)","v":1},{"$f":"IF(Picks!D10=\"\",\"\",Picks!D10)","v":3.25},{"$f":"IF(Picks!E10=\"\",\"\",Picks!E10)","v":"x"},{"$f":"IF(Picks!F10=\"\",\"\",Picks!F10)","v":""},{"$f":"IF(Picks!G10=\"\",\"\",Picks!G10)","v":""}]
[{"$f":"IF(Picks!A11=\"\",\"\",Picks!A11)","v":"Alick Rocca"},{"$f":"IF(Picks!B11=\"\",\"\",Picks!B11)","v":"Arsenal"},{"$f":"IF(Picks!C11=\"\",\"\",Picks!C11)","v":7},{"$f":"IF(Picks!D11=\"\",\"\",Picks!D11)","v":1.5},{"$f":"IF(Picks!E11=\"\",\"\",Picks!E11)","v":"√"},{"$f":"IF(Picks!F11=\"\",\"\",Picks!F11)","v":10.806250000000002},{"$f":"IF(Picks!G11=\"\",\"\",Picks!G11)","v":10.806250000000002}]
[null,{"$f":"IF(Picks!B12=\"\",\"\",Picks!B12)","v":"Everton"},{"$f":"IF(Picks!C12=\"\",\"\",Picks!C12)","v":7},{"$f":"IF(Picks!D12=\"\",\"\",Picks!D12)","v":1.55},{"$f":"IF(Picks!E12=\"\",\"\",Picks!E12)","v":"√"},{"$f":"IF(Picks!F12=\"\",\"\",Picks!F12)","v":""},{"$f":"IF(Picks!G12=\"\",\"\",Picks!G12)","v":""}]
[null,{"$f":"IF(Picks!B13=\"\",\"\",Picks!B13)","v":"Hull"},{"$f":"IF(Picks!C13=\"\",\"\",Picks!C13)","v":7},{"$f":"IF(Picks!D13=\"\",\"\",Picks!D13)","v":1.95},{"$f":"IF(Picks!E13=\"\",\"\",Picks!E13)","v":"√"},{"$f":"IF(Picks!F13=\"\",\"\",Picks!F13)","v":""},{"$f":"IF(Picks!G13=\"\",\"\",Picks!G13)","v":""}]
[{"$f":"IF(Picks!A14=\"\",\"\",Picks!A14)","v":"Andy Charleston"},{"$f":"IF(Picks!B14=\"\",\"\",Picks!B14)","v":"Newcastle"},{"$f":"IF(Picks!C14=\"\",\"\",Picks!C14)","v":1},{"$f":"IF(Picks!D14=\"\",\"\",Picks!D14)","v":2.5499999999999998},{"$f":"IF(Picks!E14=\"\",\"\",Picks!E14)","v":"x"},{"$f":"IF(Picks!F14=\"\",\"\",Picks!F14)","v":-4.55},{"$f":"IF(Picks!G14=\"\",\"\",Picks!G14)","v":29.96725}]
[null,{"$f":"IF(Picks!B15=\"\",\"\",Picks!B15)","v":"Spurs"},{"$f":"IF(Picks!C15=\"\",\"\",Picks!C15)","v":1},{"$f":"IF(Picks!D15=\"\",\"\",Picks!D15)","v":2.4500000000000002},{"$f":"IF(Picks!E15=\"\",\"\",Picks!E15)","v":"√"},{"$f":"IF(Picks!F15=\"\",\"\",Picks!F15)","v":""},{"$f":"IF(Picks!G15=\"\",\"\",Picks!G15)","v":""}]
[null,{"$f":"IF(Picks!B16=\"\",\"\",Picks!B16)","v":"Stoke"},{"$f":"IF(Picks!C16=\"\",\"\",Picks!C16)","v":1},{"$f":"IF(Picks!D16=\"\",\"\",Picks!D16)","v":2.1},{"$f":"IF(Picks!E16=\"\",\"\",Picks!E16)","v":"x"},{"$f":"IF(Picks!F16=\"\",\"\",Picks!F16)","v":""},{"$f":"IF(Picks!G16=\"\",\"\",Picks!G16)","v":""}]
[{"$f":"IF(Picks!A17=\"\",\"\",Picks!A17)","v":"Andy White"},{"$f":"IF(Picks!B17=\"\",\"\",Picks!B17)","v":"Spurs"},{"$f":"IF(Picks!C17=\"\",\"\",Picks!C17)","v":1},{"$f":"IF(Picks!D17=\"\",\"\",Picks!D17)","v":2.4500000000000002},{"$f":"IF(Picks!E17=\"\",\"\",Picks!E17)","v":"√"},{"$f":"IF(Picks!F17=\"\",\"\",Picks!F17)","v":-4.55},{"$f":"IF(Picks!G17=\"\",\"\",Picks!G17)","v":49.563250000000011}]
[null,{"$f":"IF(Picks!B18=\"\",\"\",Picks!B18)","v":"Newcastle"},{"$f":"IF(Picks!C18=\"\",\"\",Picks!C18)","v":1},{"$f":"IF(Picks!D18=\"\",\"\",Picks!D18)","v":2.5499999999999998},{"$f":"IF(Picks!E18=\"\",\"\",Picks!E18)","v":"x"},{"$f":"IF(Picks!F18=\"\",\"\",Picks!F18)","v":""},{"$f":"IF(Picks!G18=\"\",\"\",Picks!G18)","v":""}]
[null,{"$f":"IF(Picks!B19=\"\",\"\",Picks!B19)","v":"Chelsea draw"},{"$f":"IF(Picks!C19=\"\",\"\",Picks!C19)","v":1},{"$f":"IF(Picks!D19=\"\",\"\",Picks!D19)","v":3.7},{"$f":"IF(Picks!E19=\"\",\"\",Picks!E19)","v":"x"},{"$f":"IF(Picks!F19=\"\",\"\",Picks!F19)","v":""},{"$f":"IF(Picks!G19=\"\",\"\",Picks!G19)","v":""}]
[{"$f":"IF(Picks!A20=\"\",\"\",Picks!A20)","v":"Ashley Houghton"},{"$f":"IF(Picks!B20=\"\",\"\",Picks!B20)","v":"Arsenal"},{"$f":"IF(Picks!C20=\"\",\"\",Picks!C20)","v":7},{"$f":"IF(Picks!D20=\"\",\"\",Picks!D20)","v":1.5},{"$f":"IF(Picks!E20=\"\",\"\",Picks!E20)","v":"√"},{"$f":"IF(Picks!F20=\"\",\"\",Picks!F20)","v":-0.625},{"$f":"IF(Picks!G20=\"\",\"\",Picks!G20)","v":14.862500000000001}]
[null,{"$f":"IF(Picks!B21=\"\",\"\",Picks!B21)","v":"Hull"},{"$f":"IF(Picks!C21=\"\",\"\",Picks!C21)","v":7},{"$f":"IF(Picks!D21=\"\",\"\",Picks!D21)","v":1.95},{"$f":"IF(Picks!E21=\"\",\"\",Picks!E21)","v":"√"},{"$f":"IF(Picks!F21=\"\",\"\",Picks!F21)","v":""},{"$f":"IF(Picks!G21=\"\",\"\",Picks!G21)","v":""}]
[null,{"$f":"IF(Picks!B22=\"\",\"\",Picks!B22)","v":"Swansea"},{"$f":"IF(Picks!C22=\"\",\"\",Picks!C22)","v":7},{"$f":"IF(Picks!D22=\"\",\"\",Picks!D22)","v":2.1},{"$f":"IF(Picks!E22=\"\",\"\",Picks!E22)","v":"x"},{"$f":"IF(Picks!F22=\"\",\"\",Picks!F22)","v":""},{"$f":"IF(Picks!G22=\"\",\"\",Picks!G22)","v":""}]
[{"$f":"IF(Picks!A23=\"\",\"\",Picks!A23)","v":"Barry Birchall"},{"$f":"IF(Picks!B23=\"\",\"\",Picks!B23)","v":"Blackburn"},{"$f":"IF(Picks!C23=\"\",\"\",Picks!C23)","v":7},{"$f":"IF(Picks!D23=\"\",\"\",Picks!D23)","v":1.5714285714285714},{"$f":"IF(Picks!E23=\"\",\"\",Picks!E23)","v":"√"},{"$f":"IF(Picks!F23=\"\",\"\",Picks!F23)","v":-1.4428571428571431},{"$f":"IF(Picks!G23=\"\",\"\",Picks!G23)","v":20.195714285714285}]
[null,{"$f":"IF(Picks!B24=\"\",\"\",Picks!B24)","v":"Brentford"},{"$f":"IF(Picks!C24=\"\",\"\",Picks!C24)","v":7},{"$f":"IF(Picks!D24=\"\",\"\",Picks!D24)","v":1.55},{"$f":"IF(Picks!E24=\"\",\"\",Picks!E24)","v":"√"},{"$f":"IF(Picks!F24=\"\",\"\",Picks!F24)","v":""},{"$f":"IF(Picks!G24=\"\",\"\",Picks!G24)","v":""}]
[null,{"$f":"IF(Picks!B25=\"\",\"\",Picks!B25)","v":"Walsall"},{"$f":"IF(Picks!C25=\"\",\"\",Picks!C25)","v":7},{"$f":"IF(Picks!D25=\"\",\"\",Picks!D25)","v":3.3},{"$f":"IF(Picks!E25=\"\",\"\",Picks!E25)","v":"x"},{"$f":"IF(Picks!F25=\"\",\"\",Picks!F25)","v":""},{"$f":"IF(Picks!G25=\"\",\"\",Picks!G25)","v":""}]
[{"$f":"IF(Picks!A26=\"\",\"\",Picks!A26)","v":"Ben Rosser"},{"$f":"IF(Picks!B26=\"\",\"\",Picks!B26)","v":"Arsenal draw"},{"$f":"IF(Picks!C26=\"\",\"\",Picks!C26)","v":7},{"$f":"IF(Picks!D26=\"\",\"\",Picks!D26)","v":4.4000000000000004},{"$f":"IF(Picks!E26=\"\",\"\",Picks!E26)","v":"x"},{"$f":"IF(Picks!F26=\"\",\"\",Picks!F26)","v":-7},{"$f":"IF(Picks!G26=\"\",\"\",Picks!G26)","v":35.817142857142855}]
[null,{"$f":"IF(Picks!B27=\"\",\"\",Picks!B27)","v":"Man U"},{"$f":"IF(Picks!C27=\"\",\"\",Picks!C27)","v":7},{"$f":"IF(Picks!D27=\"\",\"\",Picks!D27)","v":1.2857142857142856},{"$f":"IF(Picks!E27=\"\",\"\",Picks!E27)","v":"x"},{"$f":"IF(Picks!F27=\"\",\"\",Picks!F27)","v":""},{"$f":"IF(Picks!G27=\"\",\"\",Picks!G27)","v":""}]
[null,{"$f":"IF(Picks!B28=\"\",\"\",Picks!B28)","v":"Newcastle"},{"$f":"IF(Picks!C28=\"\",\"\",Picks!C28)","v":1},{"$f":"IF(Picks!D28=\"\",\"\",Picks!D28)","v":2.5499999999999998},{"$f":"IF(Picks!E28=\"\",\"\",Picks!E28)","v":"x"},{"$f":"IF(Picks!F28=\"\",\"\",Picks!F28)","v":""},{"$f":"IF(Picks!G28=\"\",\"\",Picks!G28)","v":""}]
[{"$f":"IF(Picks!A29=\"\",\"\",Picks!A29)","v":"Charlie Griffiths"},{"$f":"IF(Picks!B29=\"\",\"\",Picks!B29)","v":"Wimbledon draw"},{"$f":"IF(Picks!C29=\"\",\"\",Picks!C29)","v":7},{"$f":"IF(Picks!D29=\"\",\"\",Picks!D29)","v":3.3},{"$f":"IF(Picks!E29=\"\",\"\",Picks!E29)","v":"√"},{"$f":"IF(Picks!F29=\"\",\"\",Picks!F29)","v":10.919999999999998},{"$f":"IF(Picks!G29=\"\",\"\",Picks!G29)","v":73.355999999999995}]
[null,{"$f":"IF(Picks!B30=\"\",\"\",Picks!B30)","v":"Northampton"},{"$f":"IF(Picks!C30=\"\",\"\",Picks!C30)","v":7},{"$f":"IF(Picks!D30=\"\",\"\",Picks!D30)","v":3.4},{"$f":"IF(Picks!E30=\"\",\"\",Picks!E30)","v":"√"},{"$f":"IF(Picks!F30=\"\",\"\",Picks!F30)","v":""},{"$f":"IF(Picks!G30=\"\",\"\",Picks!G30)","v":""}]
[null,{"$f":"IF(Picks!B31=\"\",\"\",Picks!B31)","v":"Walsall"},{"$f":"IF(Picks!C31=\"\",\"\",Picks!C31)","v":7},{"$f":"IF(Picks!D31=\"\",\"\",Picks!D31)","v":3.3},{"$f":"IF(Picks!E31=\"\",\"\",Picks!E31)","v":"x"},{"$f":"IF(Picks!F31=\"\",\"\",Picks!F31)","v":""},{"$f":"IF(Picks!G31=\"\",\"\",Picks!G31)","v":""}]
[{"$f":"IF(Picks!A32=\"\",\"\",Picks!A32)","v":"Chris Bow"},{"$f":"IF(Picks!B32=\"\",\"\",Picks!B32)","v":"Palace"},{"$f":"IF(Picks!C32=\"\",\"\",Picks!C32)","v":7},{"$f":"IF(Picks!D32=\"\",\"\",Picks!D32)","v":11},{"$f":"IF(Picks!E32=\"\",\"\",Picks!E32)","v":"√"},{"$f":"IF(Picks!F32=\"\",\"\",Picks!F32)","v":150.1},{"$f":"IF(Picks!G32=\"\",\"\",Picks!G32)","v":150.1}]
[null,{"$f":"IF(Picks!B33=\"\",\"\",Picks!B33)","v":"Luton"},{"$f":"IF(Picks!C33=\"\",\"\",Picks!C33)","v":7},{"$f":"IF(Picks!D33=\"\",\"\",Picks!D33)","v":2.875},{"$f":"IF(Picks!E33=\"\",\"\",Picks!E33)","v":"√"},{"$f":"IF(Picks!F33=\"\",\"\",Picks!F33)","v":""},{"$f":"IF(Picks!G33=\"\",\"\",Picks!G33)","v":""}]
[null,{"$f":"IF(Picks!B34=\"\",\"\",Picks!B34)","v":"Reading"},{"$f":"IF(Picks!C34=\"\",\"\",Picks!C34)","v":7},{"$f":"IF(Picks!D34=\"\",\"\",Picks!D34)","v":2.4},{"$f":"IF(Picks!E34=\"\",\"\",Picks!E34)","v":"√"},{"$f":"IF(Picks!F34=\"\",\"\",Picks!F34)","v":""},{"$f":"IF(Picks!G34=\"\",\"\",Picks!G34)","v":""}]
[{"$f":"IF(Picks!A35=\"\",\"\",Picks!A35)","v":"Chris Griffin"},{"$f":"IF(Picks!B35=\"\",\"\",Picks!B35)","v":"Hull"},{"$f":"IF(Picks!C35=\"\",\"\",Picks!C35)","v":7},{"$f":"IF(Picks!D35=\"\",\"\",Picks!D35)","v":1.95},{"$f":"IF(Picks!E35=\"\",\"\",Picks!E35)","v":"√"},{"$f":"IF(Picks!F35=\"\",\"\",Picks!F35)","v":-0.28461538461538538},{"$f":"IF(Picks!G35=\"\",\"\",Picks!G35)","v":13.603076923076923}]
[null,{"$f":"IF(Picks!B36=\"\",\"\",Picks!B36)","v":"Norwich"},{"$f":"IF(Picks!C36=\"\",\"\",Picks!C36)","v":7},{"$f":"IF(Picks!D36=\"\",\"\",Picks!D36)","v":1.8},{"$f":"IF(Picks!E36=\"\",\"\",Picks!E36)","v":"x"},{"$f":"IF(Picks!F36=\"\",\"\",Picks!F36)","v":""},{"$f":"IF(Picks!G36=\"\",\"\",Picks!G36)","v":""}]
[null,{"$f":"IF(Picks!B37=\"\",\"\",Picks!B37)","v":"Leeds"},{"$f":"IF(Picks!C37=\"\",\"\",Picks!C37)","v":7},{"$f":"IF(Picks!D37=\"\",\"\",Picks!D37)","v":1.6153846153846154},{"$f":"IF(Picks!E37=\"\",\"\",Picks!E37)","v":"√"},{"$f":"IF(Picks!F37=\"\",\"\",Picks!F37)","v":""},{"$f":"IF(Picks!G37=\"\",\"\",Picks!G37)","v":""}]
[{"$f":"IF(Picks!A38=\"\",\"\",Picks!A38)","v":"Chris Luck"},{"$f":"IF(Picks!B38=\"\",\"\",Picks!B38)","v":"Forest"},{"$f":"IF(Picks!C38=\"\",\"\",Picks!C38)","v":7},{"$f":"IF(Picks!D38=\"\",\"\",Picks!D38)","v":2.4500000000000002},{"$f":"IF(Picks!E38=\"\",\"\",Picks!E38)","v":"x"},{"$f":"IF(Picks!F38=\"\",\"\",Picks!F38)","v":5.1750000000000007},{"$f":"IF(Picks!G38=\"\",\"\",Picks!G38)","v":37.453749999999999}]
[null,{"$f":"IF(Picks!B39=\"\",\"\",Picks!B39)","v":"Luton"},{"$f":"IF(Picks!C39=\"\",\"\",Picks!C39)","v":7},{"$f":"IF(Picks!D39=\"\",\"\",Picks!D39)","v":2.875},{"$f":"IF(Picks!E39=\"\",\"\",Picks!E39)","v":"√"},{"$f":"IF(Picks!F39=\"\",\"\",Picks!F39)","v":""},{"$f":"IF(Picks!G39=\"\",\"\",Picks!G39)","v":""}]
[null,{"$f":"IF(Picks!B40=\"\",\"\",Picks!B40)","v":"Reading"},{"$f":"IF(Picks!C40=\"\",\"\",Picks!C40)","v":7},{"$f":"IF(Picks!D40=\"\",\"\",Picks!D40)","v":2.4},{"$f":"IF(Picks!E40=\"\",\"\",Picks!E40)","v":"√"},{"$f":"IF(Picks!F40=\"\",\"\",Picks!F40)","v":""},{"$f":"IF(Picks!G40=\"\",\"\",Picks!G40)","v":""}]
[{"$f":"IF(Picks!A41=\"\",\"\",Picks!A41)","v":"Chris Townsend"},{"$f":"IF(Picks!B41=\"\",\"\",Picks!B41)","v":"Burnley"},{"$f":"IF(Picks!C41=\"\",\"\",Picks!C41)","v":1},{"$f":"IF(Picks!D41=\"\",\"\",Picks!D41)","v":5.5},{"$f":"IF(Picks!E41=\"\",\"\",Picks!E41)","v":"x"},{"$f":"IF(Picks!F41=\"\",\"\",Picks!F41)","v":4},{"$f":"IF(Picks!G41=\"\",\"\",Picks!G41)","v":538}]
[null,{"$f":"IF(Picks!B42=\"\",\"\",Picks!B42)","v":"Palace"},{"$f":"IF(Picks!C42=\"\",\"\",Picks!C42)","v":7},{"$f":"IF(Picks!D42=\"\",\"\",Picks!D42)","v":11},{"$f":"IF(Picks!E42=\"\",\"\",Picks!E42)","v":"√"},{"$f":"IF(Picks!F42=\"\",\"\",Picks!F42)","v":""},{"$f":"IF(Picks!G42=\"\",\"\",Picks!G42)","v":""}]
[null,{"$f":"IF(Picks!B43=\"\",\"\",Picks!B43)","v":"West Brom"},{"$f":"IF(Picks!C43=\"\",\"\",Picks!C43)","v":7},{"$f":"IF(Picks!D43=\"\",\"\",Picks!D43)","v":6},{"$f":"IF(Picks!E43=\"\",\"\",Picks!E43)","v":"x"},{"$f":"IF(Picks!F43=\"\",\"\",Picks!F43)","v":""},{"$f":"IF(Picks!G43=\"\",\"\",Picks!G43)","v":""}]
[{"$f":"IF(Picks!A44=\"\",\"\",Picks!A44)","v":"Dan Baxter"},{"$f":"IF(Picks!B44=\"\",\"\",Picks!B44)","v":"Arsenal draw"},{"$f":"IF(Picks!C44=\"\",\"\",Picks!C44)","v":7},{"$f":"IF(Picks!D44=\"\",\"\",Picks!D44)","v":4.4000000000000004},{"$f":"IF(Picks!E44=\"\",\"\",Picks!E44)","v":"x"},{"$f":"IF(Picks!F44=\"\",\"\",Picks!F44)","v":-7},{"$f":"IF(Picks!G44=\"\",\"\",Picks!G44)","v":60.040000000000006}]
[null,{"$f":"IF(Picks!B45=\"\",\"\",Picks!B45)","v":"Norwich"},{"$f":"IF(Picks!C45=\"\",\"\",Picks!C45)","v":7},{"$f":"IF(Picks!D45=\"\",\"\",Picks!D45)","v":1.8},{"$f":"IF(Picks!E45=\"\",\"\",Picks!E45)","v":"x"},{"$f":"IF(Picks!F45=\"\",\"\",Picks!F45)","v":""},{"$f":"IF(Picks!G45=\"\",\"\",Picks!G45)","v":""}]
[null,{"$f":"IF(Picks!B46=\"\",\"\",Picks!B46)","v":"Swindon"},{"$f":"IF(Picks!C46=\"\",\"\",Picks!C46)","v":7},{"$f":"IF(Picks!D46=\"\",\"\",Picks!D46)","v":3.5},{"$f":"IF(Picks!E46=\"\",\"\",Picks!E46)","v":"x"},{"$f":"IF(Picks!F46=\"\",\"\",Picks!F46)","v":""},{"$f":"IF(Picks!G46=\"\",\"\",Picks!G46)","v":""}]
[{"$f":"IF(Picks!A47=\"\",\"\",Picks!A47)","v":"Dave Bell"},{"$f":"IF(Picks!B47=\"\",\"\",Picks!B47)","v":"West Brom"},{"$f":"IF(Picks!C47=\"\",\"\",Picks!C47)","v":7},{"$f":"IF(Picks!D47=\"\",\"\",Picks!D47)","v":6},{"$f":"IF(Picks!E47=\"\",\"\",Picks!E47)","v":"x"},{"$f":"IF(Picks!F47=\"\",\"\",Picks!F47)","v":4},{"$f":"IF(Picks!G47=\"\",\"\",Picks!G47)","v":538}]
[null,{"$f":"IF(Picks!B48=\"\",\"\",Picks!B48)","v":"Palace"},{"$f":"IF(Picks!C48=\"\",\"\",Picks!C48)","v":7},{"$f":"IF(Picks!D48=\"\",\"\",Picks!D48)","v":11},{"$f":"IF(Picks!E48=\"\",\"\",Picks!E48)","v":"√"},{"$f":"IF(Picks!F48=\"\",\"\",Picks!F48)","v":""},{"$f":"IF(Picks!G48=\"\",\"\",Picks!G48)","v":""}]
[null,{"$f":"IF(Picks!B49=\"\",\"\",Picks!B49)","v":"Fulham"},{"$f":"IF(Picks!C49=\"\",\"\",Picks!C49)","v":7},{"$f":"IF(Picks!D49=\"\",\"\",Picks!D49)","v":5.5},{"$f":"IF(Picks!E49=\"\",\"\",Picks!E49)","v":"x"},{"$f":"IF(Picks!F49=\"\",\"\",Picks!F49)","v":""},{"$f":"IF(Picks!G49=\"\",\"\",Picks!G49)","v":""}]
[{"$f":"IF(Picks!A50=\"\",\"\",Picks!A50)","v":"Dave Orrell"},{"$f":"IF(Picks!B50=\"\",\"\",Picks!B50)","v":"Hull"},{"$f":"IF(Picks!C50=\"\",\"\",Picks!C50)","v":7},{"$f":"IF(Picks!D50=\"\",\"\",Picks!D50)","v":1.95},{"$f":"IF(Picks!E50=\"\",\"\",Picks!E50)","v":"√"},{"$f":"IF(Picks!F50=\"\",\"\",Picks!F50)","v":28.506249999999994},{"$f":"IF(Picks!G50=\"\",\"\",Picks!G50)","v":28.506249999999994}]
[null,{"$f":"IF(Picks!B51=\"\",\"\",Picks!B51)","v":"Lincoln"},{"$f":"IF(Picks!C51=\"\",\"\",Picks!C51)","v":7},{"$f":"IF(Picks!D51=\"\",\"\",Picks!D51)","v":2.75},{"$f":"IF(Picks!E51=\"\",\"\",Picks!E51)","v":"√"},{"$f":"IF(Picks!F51=\"\",\"\",Picks!F51)","v":""},{"$f":"IF(Picks!G51=\"\",\"\",Picks!G51)","v":""}]
[null,{"$f":"IF(Picks!B52=\"\",\"\",Picks!B52)","v":"Salford"},{"$f":"IF(Picks!C52=\"\",\"\",Picks!C52)","v":7},{"$f":"IF(Picks!D52=\"\",\"\",Picks!D52)","v":2.2999999999999998},{"$f":"IF(Picks!E52=\"\",\"\",Picks!E52)","v":"√"},{"$f":"IF(Picks!F52=\"\",\"\",Picks!F52)","v":""},{"$f":"IF(Picks!G52=\"\",\"\",Picks!G52)","v":""}]
[{"$f":"IF(Picks!A53=\"\",\"\",Picks!A53)","v":"David Dunn"},{"$f":"IF(Picks!B53=\"\",\"\",Picks!B53)","v":"QPR"},{"$f":"IF(Picks!C53=\"\",\"\",Picks!C53)","v":6},{"$f":"IF(Picks!D53=\"\",\"\",Picks!D53)","v":2.9},{"$f":"IF(Picks!E53=\"\",\"\",Picks!E53)","v":"x"},{"$f":"IF(Picks!F53=\"\",\"\",Picks!F53)","v":-1.4615384615384617},{"$f":"IF(Picks!G53=\"\",\"\",Picks!G53)","v":17.5}]
[null,{"$f":"IF(Picks!B54=\"\",\"\",Picks!B54)","v":"Arsenal"},{"$f":"IF(Picks!C54=\"\",\"\",Picks!C54)","v":7},{"$f":"IF(Picks!D54=\"\",\"\",Picks!D54)","v":1.5},{"$f":"IF(Picks!E54=\"\",\"\",Picks!E54)","v":"√"},{"$f":"IF(Picks!F54=\"\",\"\",Picks!F54)","v":""},{"$f":"IF(Picks!G54=\"\",\"\",Picks!G54)","v":""}]
[null,{"$f":"IF(Picks!B55=\"\",\"\",Picks!B55)","v":"Leeds"},{"$f":"IF(Picks!C55=\"\",\"\",Picks!C55)","v":7},{"$f":"IF(Picks!D55=\"\",\"\",Picks!D55)","v":1.6153846153846154},{"$f":"IF(Picks!E55=\"\",\"\",Picks!E55)","v":"√"},{"$f":"IF(Picks!F55=\"\",\"\",Picks!F55)","v":""},{"$f":"IF(Picks!G55=\"\",\"\",Picks!G55)","v":""}]
[{"$f":"IF(Picks!A56=\"\",\"\",Picks!A56)","v":"Gareth Fallows"},{"$f":"IF(Picks!B56=\"\",\"\",Picks!B56)","v":""},{"$f":"IF(Picks!C56=\"\",\"\",Picks!C56)","v":""},{"$f":"IF(Picks!D56=\"\",\"\",Picks!D56)","v":""},{"$f":"IF(Picks!E56=\"\",\"\",Picks!E56)","v":""},{"$f":"IF(Picks!F56=\"\",\"\",Picks!F56)","v":-10},{"$f":"IF(Picks!G56=\"\",\"\",Picks!G56)","v":""}]
[null,{"$f":"IF(Picks!B57=\"\",\"\",Picks!B57)","v":""},{"$f":"IF(Picks!C57=\"\",\"\",Picks!C57)","v":""},{"$f":"IF(Picks!D57=\"\",\"\",Picks!D57)","v":""},{"$f":"IF(Picks!E57=\"\",\"\",Picks!E57)","v":""},{"$f":"IF(Picks!F57=\"\",\"\",Picks!F57)","v":""},{"$f":"IF(Picks!G57=\"\",\"\",Picks!G57)","v":""}]
[null,{"$f":"IF(Picks!B58=\"\",\"\",Picks!B58)","v":""},{"$f":"IF(Picks!C58=\"\",\"\",Picks!C58)","v":""},{"$f":"IF(Picks!D58=\"\",\"\",Picks!D58)","v":""},{"$f":"IF(Picks!E58=\"\",\"\",Picks!E58)","v":""},{"$f":"IF(Picks!F58=\"\",\"\",Picks!F58)","v":""},{"$f":"IF(Picks!G58=\"\",\"\",Picks!G58)","v":""}]
[{"$f":"IF(Picks!A59=\"\",\"\",Picks!A59)","v":"Gareth McGuire"},{"$f":"IF(Picks!B59=\"\",\"\",Picks!B59)","v":"Bournemouth"},{"$f":"IF(Picks!C59=\"\",\"\",Picks!C59)","v":7},{"$f":"IF(Picks!D59=\"\",\"\",Picks!D59)","v":2.7},{"$f":"IF(Picks!E59=\"\",\"\",Picks!E59)","v":"x"},{"$f":"IF(Picks!F59=\"\",\"\",Picks!F59)","v":-5.05},{"$f":"IF(Picks!G59=\"\",\"\",Picks!G59)","v":30.748249999999999}]
[null,{"$f":"IF(Picks!B60=\"\",\"\",Picks!B60)","v":"Watford"},{"$f":"IF(Picks!C60=\"\",\"\",Picks!C60)","v":7},{"$f":"IF(Picks!D60=\"\",\"\",Picks!D60)","v":2.5499999999999998},{"$f":"IF(Picks!E60=\"\",\"\",Picks!E60)","v":"x"},{"$f":"IF(Picks!F60=\"\",\"\",Picks!F60)","v":""},{"$f":"IF(Picks!G60=\"\",\"\",Picks!G60)","v":""}]
[null,{"$f":"IF(Picks!B61=\"\",\"\",Picks!B61)","v":"Hull"},{"$f":"IF(Picks!C61=\"\",\"\",Picks!C61)","v":7},{"$f":"IF(Picks!D61=\"\",\"\",Picks!D61)","v":1.95},{"$f":"IF(Picks!E61=\"\",\"\",Picks!E61)","v":"√"},{"$f":"IF(Picks!F61=\"\",\"\",Picks!F61)","v":""},{"$f":"IF(Picks!G61=\"\",\"\",Picks!G61)","v":""}]
[{"$f":"IF(Picks!A62=\"\",\"\",Picks!A62)","v":"Gareth Powell"},{"$f":"IF(Picks!B62=\"\",\"\",Picks!B62)","v":"Leeds"},{"$f":"IF(Picks!C62=\"\",\"\",Picks!C62)","v":7},{"$f":"IF(Picks!D62=\"\",\"\",Picks!D62)","v":1.6153846153846154},{"$f":"IF(Picks!E62=\"\",\"\",Picks!E62)","v":"√"},{"$f":"IF(Picks!F62=\"\",\"\",Picks!F62)","v":0.3692307692307697},{"$f":"IF(Picks!G62=\"\",\"\",Picks!G62)","v":17.944615384615389}]
[null,{"$f":"IF(Picks!B63=\"\",\"\",Picks!B63)","v":"Swansea"},{"$f":"IF(Picks!C63=\"\",\"\",Picks!C63)","v":7},{"$f":"IF(Picks!D63=\"\",\"\",Picks!D63)","v":2.1},{"$f":"IF(Picks!E63=\"\",\"\",Picks!E63)","v":"x"},{"$f":"IF(Picks!F63=\"\",\"\",Picks!F63)","v":""},{"$f":"IF(Picks!G63=\"\",\"\",Picks!G63)","v":""}]
[null,{"$f":"IF(Picks!B64=\"\",\"\",Picks!B64)","v":"Liverpool"},{"$f":"IF(Picks!C64=\"\",\"\",Picks!C64)","v":1},{"$f":"IF(Picks!D64=\"\",\"\",Picks!D64)","v":2.2000000000000002},{"$f":"IF(Picks!E64=\"\",\"\",Picks!E64)","v":"√"},{"$f":"IF(Picks!F64=\"\",\"\",Picks!F64)","v":""},{"$f":"IF(Picks!G64=\"\",\"\",Picks!G64)","v":""}]
[{"$f":"IF(Picks!A65=\"\",\"\",Picks!A65)","v":"Gerard Ventom"},{"$f":"IF(Picks!B65=\"\",\"\",Picks!B65)","v":"Palace"},{"$f":"IF(Picks!C65=\"\",\"\",Picks!C65)","v":7},{"$f":"IF(Picks!D65=\"\",\"\",Picks!D65)","v":11},{"$f":"IF(Picks!E65=\"\",\"\",Picks!E65)","v":"√"},{"$f":"IF(Picks!F65=\"\",\"\",Picks!F65)","v":164.8},{"$f":"IF(Picks!G65=\"\",\"\",Picks!G65)","v":164.8}]
[null,{"$f":"IF(Picks!B66=\"\",\"\",Picks!B66)","v":"Cardiff"},{"$f":"IF(Picks!C66=\"\",\"\",Picks!C66)","v":7},{"$f":"IF(Picks!D66=\"\",\"\",Picks!D66)","v":3},{"$f":"IF(Picks!E66=\"\",\"\",Picks!E66)","v":"√"},{"$f":"IF(Picks!F66=\"\",\"\",Picks!F66)","v":""},{"$f":"IF(Picks!G66=\"\",\"\",Picks!G66)","v":""}]
[null,{"$f":"IF(Picks!B67=\"\",\"\",Picks!B67)","v":"Ipswich"},{"$f":"IF(Picks!C67=\"\",\"\",Picks!C67)","v":7},{"$f":"IF(Picks!D67=\"\",\"\",Picks!D67)","v":2.6},{"$f":"IF(Picks!E67=\"\",\"\",Picks!E67)","v":"√"},{"$f":"IF(Picks!F67=\"\",\"\",Picks!F67)","v":""},{"$f":"IF(Picks!G67=\"\",\"\",Picks!G67)","v":""}]
[{"$f":"IF(Picks!A68=\"\",\"\",Picks!A68)","v":"Graham Miller"},{"$f":"IF(Picks!B68=\"\",\"\",Picks!B68)","v":"Newcastle"},{"$f":"IF(Picks!C68=\"\",\"\",Picks!C68)","v":1},{"$f":"IF(Picks!D68=\"\",\"\",Picks!D68)","v":2.5499999999999998},{"$f":"IF(Picks!E68=\"\",\"\",Picks!E68)","v":"x"},{"$f":"IF(Picks!F68=\"\",\"\",Picks!F68)","v":-5.05},{"$f":"IF(Picks!G68=\"\",\"\",Picks!G68)","v":23.4175}]
[null,{"$f":"IF(Picks!B69=\"\",\"\",Picks!B69)","v":"Hull"},{"$f":"IF(Picks!C69=\"\",\"\",Picks!C69)","v":7},{"$f":"IF(Picks!D69=\"\",\"\",Picks!D69)","v":1.95},{"$f":"IF(Picks!E69=\"\",\"\",Picks!E69)","v":"√"},{"$f":"IF(Picks!F69=\"\",\"\",Picks!F69)","v":""},{"$f":"IF(Picks!G69=\"\",\"\",Picks!G69)","v":""}]
[null,{"$f":"IF(Picks!B70=\"\",\"\",Picks!B70)","v":"Charlton"},{"$f":"IF(Picks!C70=\"\",\"\",Picks!C70)","v":7},{"$f":"IF(Picks!D70=\"\",\"\",Picks!D70)","v":2},{"$f":"IF(Picks!E70=\"\",\"\",Picks!E70)","v":"x"},{"$f":"IF(Picks!F70=\"\",\"\",Picks!F70)","v":""},{"$f":"IF(Picks!G70=\"\",\"\",Picks!G70)","v":""}]
[{"$f":"IF(Picks!A71=\"\",\"\",Picks!A71)","v":"Howard Bradley"},{"$f":"IF(Picks!B71=\"\",\"\",Picks!B71)","v":"Blackburn"},{"$f":"IF(Picks!C71=\"\",\"\",Picks!C71)","v":7},{"$f":"IF(Picks!D71=\"\",\"\",Picks!D71)","v":1.5714285714285714},{"$f":"IF(Picks!E71=\"\",\"\",Picks!E71)","v":"√"},{"$f":"IF(Picks!F71=\"\",\"\",Picks!F71)","v":-5.4285714285714288},{"$f":"IF(Picks!G71=\"\",\"\",Picks!G71)","v":17.103571428571424}]
[null,{"$f":"IF(Picks!B72=\"\",\"\",Picks!B72)","v":"Portsmouth"},{"$f":"IF(Picks!C72=\"\",\"\",Picks!C72)","v":1},{"$f":"IF(Picks!D72=\"\",\"\",Picks!D72)","v":1.75},{"$f":"IF(Picks!E72=\"\",\"\",Picks!E72)","v":"x"},{"$f":"IF(Picks!F72=\"\",\"\",Picks!F72)","v":""},{"$f":"IF(Picks!G72=\"\",\"\",Picks!G72)","v":""}]
[null,{"$f":"IF(Picks!B73=\"\",\"\",Picks!B73)","v":"Derby"},{"$f":"IF(Picks!C73=\"\",\"\",Picks!C73)","v":7},{"$f":"IF(Picks!D73=\"\",\"\",Picks!D73)","v":2.5499999999999998},{"$f":"IF(Picks!E73=\"\",\"\",Picks!E73)","v":"x"},{"$f":"IF(Picks!F73=\"\",\"\",Picks!F73)","v":""},{"$f":"IF(Picks!G73=\"\",\"\",Picks!G73)","v":""}]
[{"$f":"IF(Picks!A74=\"\",\"\",Picks!A74)","v":"Ian Davies"},{"$f":"IF(Picks!B74=\"\",\"\",Picks!B74)","v":"Luton"},{"$f":"IF(Picks!C74=\"\",\"\",Picks!C74)","v":7},{"$f":"IF(Picks!D74=\"\",\"\",Picks!D74)","v":2.875},{"$f":"IF(Picks!E74=\"\",\"\",Picks!E74)","v":"√"},{"$f":"IF(Picks!F74=\"\",\"\",Picks!F74)","v":-4.125},{"$f":"IF(Picks!G74=\"\",\"\",Picks!G74)","v":63.028750000000002}]
[null,{"$f":"IF(Picks!B75=\"\",\"\",Picks!B75)","v":"Sheff W"},{"$f":"IF(Picks!C75=\"\",\"\",Picks!C75)","v":7},{"$f":"IF(Picks!D75=\"\",\"\",Picks!D75)","v":2.9},{"$f":"IF(Picks!E75=\"\",\"\",Picks!E75)","v":"x"},{"$f":"IF(Picks!F75=\"\",\"\",Picks!F75)","v":""},{"$f":"IF(Picks!G75=\"\",\"\",Picks!G75)","v":""}]
[null,{"$f":"IF(Picks!B76=\"\",\"\",Picks!B76)","v":"Chelsea draw"},{"$f":"IF(Picks!C76=\"\",\"\",Picks!C76)","v":1},{"$f":"IF(Picks!D76=\"\",\"\",Picks!D76)","v":3.7},{"$f":"IF(Picks!E76=\"\",\"\",Picks!E76)","v":"x"},{"$f":"IF(Picks!F76=\"\",\"\",Picks!F76)","v":""},{"$f":"IF(Picks!G76=\"\",\"\",Picks!G76)","v":""}]
[{"$f":"IF(Picks!A77=\"\",\"\",Picks!A77)","v":"Jack Walsh"},{"$f":"IF(Picks!B77=\"\",\"\",Picks!B77)","v":"Chelsea"},{"$f":"IF(Picks!C77=\"\",\"\",Picks!C77)","v":1},{"$f":"IF(Picks!D77=\"\",\"\",Picks!D77)","v":3.1},{"$f":"IF(Picks!E77=\"\",\"\",Picks!E77)","v":"x"},{"$f":"IF(Picks!F77=\"\",\"\",Picks!F77)","v":0.6307692307692303},{"$f":"IF(Picks!G77=\"\",\"\",Picks!G77)","v":27.386153846153846}]
[null,{"$f":"IF(Picks!B78=\"\",\"\",Picks!B78)","v":"Leeds"},{"$f":"IF(Picks!C78=\"\",\"\",Picks!C78)","v":7},{"$f":"IF(Picks!D78=\"\",\"\",Picks!D78)","v":1.6153846153846154},{"$f":"IF(Picks!E78=\"\",\"\",Picks!E78)","v":"√"},{"$f":"IF(Picks!F78=\"\",\"\",Picks!F78)","v":""},{"$f":"IF(Picks!G78=\"\",\"\",Picks!G78)","v":""}]
[null,{"$f":"IF(Picks!B79=\"\",\"\",Picks!B79)","v":"Salford"},{"$f":"IF(Picks!C79=\"\",\"\",Picks!C79)","v":7},{"$f":"IF(Picks!D79=\"\",\"\",Picks!D79)","v":2.2999999999999998},{"$f":"IF(Picks!E79=\"\",\"\",Picks!E79)","v":"√"},{"$f":"IF(Picks!F79=\"\",\"\",Picks!F79)","v":""},{"$f":"IF(Picks!G79=\"\",\"\",Picks!G79)","v":""}]
[{"$f":"IF(Picks!A80=\"\",\"\",Picks!A80)","v":"James Bell"},{"$f":"IF(Picks!B80=\"\",\"\",Picks!B80)","v":"Leeds draw"},{"$f":"IF(Picks!C80=\"\",\"\",Picks!C80)","v":7},{"$f":"IF(Picks!D80=\"\",\"\",Picks!D80)","v":4},{"$f":"IF(Picks!E80=\"\",\"\",Picks!E80)","v":"x"},{"$f":"IF(Picks!F80=\"\",\"\",Picks!F80)","v":-7},{"$f":"IF(Picks!G80=\"\",\"\",Picks!G80)","v":140}]
[null,{"$f":"IF(Picks!B81=\"\",\"\",Picks!B81)","v":"Huddersfield"},{"$f":"IF(Picks!C81=\"\",\"\",Picks!C81)","v":7},{"$f":"IF(Picks!D81=\"\",\"\",Picks!D81)","v":7},{"$f":"IF(Picks!E81=\"\",\"\",Picks!E81)","v":"x"},{"$f":"IF(Picks!F81=\"\",\"\",Picks!F81)","v":""},{"$f":"IF(Picks!G81=\"\",\"\",Picks!G81)","v":""}]
[null,{"$f":"IF(Picks!B82=\"\",\"\",Picks!B82)","v":"MK Dons"},{"$f":"IF(Picks!C82=\"\",\"\",Picks!C82)","v":7},{"$f":"IF(Picks!D82=\"\",\"\",Picks!D82)","v":2.7},{"$f":"IF(Picks!E82=\"\",\"\",Picks!E82)","v":"x"},{"$f":"IF(Picks!F82=\"\",\"\",Picks!F82)","v":""},{"$f":"IF(Picks!G82=\"\",\"\",Picks!G82)","v":""}]
[{"$f":"IF(Picks!A83=\"\",\"\",Picks!A83)","v":"Joel Bent"},{"$f":"IF(Picks!B83=\"\",\"\",Picks!B83)","v":"Bournemouth"},{"$f":"IF(Picks!C83=\"\",\"\",Picks!C83)","v":7},{"$f":"IF(Picks!D83=\"\",\"\",Picks!D83)","v":2.7},{"$f":"IF(Picks!E83=\"\",\"\",Picks!E83)","v":"x"},{"$f":"IF(Picks!F83=\"\",\"\",Picks!F83)","v":-5.35},{"$f":"IF(Picks!G83=\"\",\"\",Picks!G83)","v":34.161500000000004}]
[null,{"$f":"IF(Picks!B84=\"\",\"\",Picks!B84)","v":"Bristol R draw"},{"$f":"IF(Picks!C84=\"\",\"\",Picks!C84)","v":7},{"$f":"IF(Picks!D84=\"\",\"\",Picks!D84)","v":3.3},{"$f":"IF(Picks!E84=\"\",\"\",Picks!E84)","v":"x"},{"$f":"IF(Picks!F84=\"\",\"\",Picks!F84)","v":""},{"$f":"IF(Picks!G84=\"\",\"\",Picks!G84)","v":""}]
[null,{"$f":"IF(Picks!B85=\"\",\"\",Picks!B85)","v":"Leicester"},{"$f":"IF(Picks!C85=\"\",\"\",Picks!C85)","v":1},{"$f":"IF(Picks!D85=\"\",\"\",Picks!D85)","v":1.65},{"$f":"IF(Picks!E85=\"\",\"\",Picks!E85)","v":"√"},{"$f":"IF(Picks!F85=\"\",\"\",Picks!F85)","v":""},{"$f":"IF(Picks!G85=\"\",\"\",Picks!G85)","v":""}]
[{"$f":"IF(Picks!A86=\"\",\"\",Picks!A86)","v":"John Evans"},{"$f":"IF(Picks!B86=\"\",\"\",Picks!B86)","v":"Derby"},{"$f":"IF(Picks!C86=\"\",\"\",Picks!C86)","v":7},{"$f":"IF(Picks!D86=\"\",\"\",Picks!D86)","v":2.5499999999999998},{"$f":"IF(Picks!E86=\"\",\"\",Picks!E86)","v":"x"},{"$f":"IF(Picks!F86=\"\",\"\",Picks!F86)","v":-4.375},{"$f":"IF(Picks!G86=\"\",\"\",Picks!G86)","v":34.466874999999995}]
[null,{"$f":"IF(Picks!B87=\"\",\"\",Picks!B87)","v":"Colchester"},{"$f":"IF(Picks!C87=\"\",\"\",Picks!C87)","v":7},{"$f":"IF(Picks!D87=\"\",\"\",Picks!D87)","v":2.625},{"$f":"IF(Picks!E87=\"\",\"\",Picks!E87)","v":"√"},{"$f":"IF(Picks!F87=\"\",\"\",Picks!F87)","v":""},{"$f":"IF(Picks!G87=\"\",\"\",Picks!G87)","v":""}]
[null,{"$f":"IF(Picks!B88=\"\",\"\",Picks!B88)","v":"Forest Green"},{"$f":"IF(Picks!C88=\"\",\"\",Picks!C88)","v":7},{"$f":"IF(Picks!D88=\"\",\"\",Picks!D88)","v":2.2999999999999998},{"$f":"IF(Picks!E88=\"\",\"\",Picks!E88)","v":"x"},{"$f":"IF(Picks!F88=\"\",\"\",Picks!F88)","v":""},{"$f":"IF(Picks!G88=\"\",\"\",Picks!G88)","v":""}]
[{"$f":"IF(Picks!A89=\"\",\"\",Picks!A89)","v":"John Ronan"},{"$f":"IF(Picks!B89=\"\",\"\",Picks!B89)","v":"Derby"},{"$f":"IF(Picks!C89=\"\",\"\",Picks!C89)","v":7},{"$f":"IF(Picks!D89=\"\",\"\",Picks!D89)","v":2.5499999999999998},{"$f":"IF(Picks!E89=\"\",\"\",Picks!E89)","v":"x"},{"$f":"IF(Picks!F89=\"\",\"\",Picks!F89)","v":-4.8499999999999996},{"$f":"IF(Picks!G89=\"\",\"\",Picks!G89)","v":26.665750000000003}]
[null,{"$f":"IF(Picks!B90=\"\",\"\",Picks!B90)","v":"Swansea"},{"$f":"IF(Picks!C90=\"\",\"\",Picks!C90)","v":7},{"$f":"IF(Picks!D90=\"\",\"\",Picks!D90)","v":2.1},{"$f":"IF(Picks!E90=\"\",\"\",Picks!E90)","v":"x"},{"$f":"IF(Picks!F90=\"\",\"\",Picks!F90)","v":""},{"$f":"IF(Picks!G90=\"\",\"\",Picks!G90)","v":""}]
[null,{"$f":"IF(Picks!B91=\"\",\"\",Picks!B91)","v":"Blackpool"},{"$f":"IF(Picks!C91=\"\",\"\",Picks!C91)","v":7},{"$f":"IF(Picks!D91=\"\",\"\",Picks!D91)","v":2.15},{"$f":"IF(Picks!E91=\"\",\"\",Picks!E91)","v":"√"},{"$f":"IF(Picks!F91=\"\",\"\",Picks!F91)","v":""},{"$f":"IF(Picks!G91=\"\",\"\",Picks!G91)","v":""}]
[{"$f":"IF(Picks!A92=\"\",\"\",Picks!A92)","v":"Kei Lok Ma"},{"$f":"IF(Picks!B92=\"\",\"\",Picks!B92)","v":"Newcastle"},{"$f":"IF(Picks!C92=\"\",\"\",Picks!C92)","v":1},{"$f":"IF(Picks!D92=\"\",\"\",Picks!D92)","v":2.5499999999999998},{"$f":"IF(Picks!E92=\"\",\"\",Picks!E92)","v":"x"},{"$f":"IF(Picks!F92=\"\",\"\",Picks!F92)","v":-7},{"$f":"IF(Picks!G92=\"\",\"\",Picks!G92)","v":47.823749999999997}]
[null,{"$f":"IF(Picks!B93=\"\",\"\",Picks!B93)","v":"Southampton draw"},{"$f":"IF(Picks!C93=\"\",\"\",Picks!C93)","v":1},{"$f":"IF(Picks!D93=\"\",\"\",Picks!D93)","v":3.25},{"$f":"IF(Picks!E93=\"\",\"\",Picks!E93)","v":"x"},{"$f":"IF(Picks!F93=\"\",\"\",Picks!F93)","v":""},{"$f":"IF(Picks!G93=\"\",\"\",Picks!G93)","v":""}]
[null,{"$f":"IF(Picks!B94=\"\",\"\",Picks!B94)","v":"Bournemouth"},{"$f":"IF(Picks!C94=\"\",\"\",Picks!C94)","v":7},{"$f":"IF(Picks!D94=\"\",\"\",Picks!D94)","v":2.7},{"$f":"IF(Picks!E94=\"\",\"\",Picks!E94)","v":"x"},{"$f":"IF(Picks!F94=\"\",\"\",Picks!F94)","v":""},{"$f":"IF(Picks!G94=\"\",\"\",Picks!G94)","v":""}]
[{"$f":"IF(Picks!A95=\"\",\"\",Picks!A95)","v":"Kevin Carter"},{"$f":"IF(Picks!B95=\"\",\"\",Picks!B95)","v":"Arsenal"},{"$f":"IF(Picks!C95=\"\",\"\",Picks!C95)","v":7},{"$f":"IF(Picks!D95=\"\",\"\",Picks!D95)","v":1.5},{"$f":"IF(Picks!E95=\"\",\"\",Picks!E95)","v":"√"},{"$f":"IF(Picks!F95=\"\",\"\",Picks!F95)","v":8.6730769230769234},{"$f":"IF(Picks!G95=\"\",\"\",Picks!G95)","v":8.6730769230769234}]
[null,{"$f":"IF(Picks!B96=\"\",\"\",Picks!B96)","v":"Everton"},{"$f":"IF(Picks!C96=\"\",\"\",Picks!C96)","v":7},{"$f":"IF(Picks!D96=\"\",\"\",Picks!D96)","v":1.55},{"$f":"IF(Picks!E96=\"\",\"\",Picks!E96)","v":"√"},{"$f":"IF(Picks!F96=\"\",\"\",Picks!F96)","v":""},{"$f":"IF(Picks!G96=\"\",\"\",Picks!G96)","v":""}]
[null,{"$f":"IF(Picks!B97=\"\",\"\",Picks!B97)","v":"Leeds"},{"$f":"IF(Picks!C97=\"\",\"\",Picks!C97)","v":7},{"$f":"IF(Picks!D97=\"\",\"\",Picks!D97)","v":1.6153846153846154},{"$f":"IF(Picks!E97=\"\",\"\",Picks!E97)","v":"√"},{"$f":"IF(Picks!F97=\"\",\"\",Picks!F97)","v":""},{"$f":"IF(Picks!G97=\"\",\"\",Picks!G97)","v":""}]
[{"$f":"IF(Picks!A98=\"\",\"\",Picks!A98)","v":"Lennie Bow"},{"$f":"IF(Picks!B98=\"\",\"\",Picks!B98)","v":"Brentford"},{"$f":"IF(Picks!C98=\"\",\"\",Picks!C98)","v":7},{"$f":"IF(Picks!D98=\"\",\"\",Picks!D98)","v":1.55},{"$f":"IF(Picks!E98=\"\",\"\",Picks!E98)","v":"√"},{"$f":"IF(Picks!F98=\"\",\"\",Picks!F98)","v":1.8812499999999996},{"$f":"IF(Picks!G98=\"\",\"\",Picks!G98)","v":29.548749999999998}]
[null,{"$f":"IF(Picks!B99=\"\",\"\",Picks!B99)","v":"Luton"},{"$f":"IF(Picks!C99=\"\",\"\",Picks!C99)","v":7},{"$f":"IF(Picks!D99=\"\",\"\",Picks!D99)","v":2.875},{"$f":"IF(Picks!E99=\"\",\"\",Picks!E99)","v":"√"},{"$f":"IF(Picks!F99=\"\",\"\",Picks!F99)","v":""},{"$f":"IF(Picks!G99=\"\",\"\",Picks!G99)","v":""}]
[null,{"$f":"IF(Picks!B100=\"\",\"\",Picks!B100)","v":"Orient"},{"$f":"IF(Picks!C100=\"\",\"\",Picks!C100)","v":7},{"$f":"IF(Picks!D100=\"\",\"\",Picks!D100)","v":2.8},{"$f":"IF(Picks!E100=\"\",\"\",Picks!E100)","v":"x"},{"$f":"IF(Picks!F100=\"\",\"\",Picks!F100)","v":""},{"$f":"IF(Picks!G100=\"\",\"\",Picks!G100)","v":""}]
[{"$f":"IF(Picks!A101=\"\",\"\",Picks!A101)","v":"Lewis Buckley"},{"$f":"IF(Picks!B101=\"\",\"\",Picks!B101)","v":"Chelsea draw"},{"$f":"IF(Picks!C101=\"\",\"\",Picks!C101)","v":1},{"$f":"IF(Picks!D101=\"\",\"\",Picks!D101)","v":3.7},{"$f":"IF(Picks!E101=\"\",\"\",Picks!E101)","v":"x"},{"$f":"IF(Picks!F101=\"\",\"\",Picks!F101)","v":-5.35},{"$f":"IF(Picks!G101=\"\",\"\",Picks!G101)","v":36.215249999999997}]
[null,{"$f":"IF(Picks!B102=\"\",\"\",Picks!B102)","v":"Newcastle"},{"$f":"IF(Picks!C102=\"\",\"\",Picks!C102)","v":1},{"$f":"IF(Picks!D102=\"\",\"\",Picks!D102)","v":2.5499999999999998},{"$f":"IF(Picks!E102=\"\",\"\",Picks!E102)","v":"x"},{"$f":"IF(Picks!F102=\"\",\"\",Picks!F102)","v":""},{"$f":"IF(Picks!G102=\"\",\"\",Picks!G102)","v":""}]
[null,{"$f":"IF(Picks!B103=\"\",\"\",Picks!B103)","v":"Leicester"},{"$f":"IF(Picks!C103=\"\",\"\",Picks!C103)","v":1},{"$f":"IF(Picks!D103=\"\",\"\",Picks!D103)","v":1.65},{"$f":"IF(Picks!E103=\"\",\"\",Picks!E103)","v":"√"},{"$f":"IF(Picks!F103=\"\",\"\",Picks!F103)","v":""},{"$f":"IF(Picks!G103=\"\",\"\",Picks!G103)","v":""}]
[{"$f":"IF(Picks!A104=\"\",\"\",Picks!A104)","v":"Liam Wah"},{"$f":"IF(Picks!B104=\"\",\"\",Picks!B104)","v":"Man U draw"},{"$f":"IF(Picks!C104=\"\",\"\",Picks!C104)","v":7},{"$f":"IF(Picks!D104=\"\",\"\",Picks!D104)","v":5.5},{"$f":"IF(Picks!E104=\"\",\"\",Picks!E104)","v":"x"},{"$f":"IF(Picks!F104=\"\",\"\",Picks!F104)","v":-4.8},{"$f":"IF(Picks!G104=\"\",\"\",Picks!G104)","v":65.84}]
[null,{"$f":"IF(Picks!B105=\"\",\"\",Picks!B105)","v":"Liverpool"},{"$f":"IF(Picks!C105=\"\",\"\",Picks!C105)","v":1},{"$f":"IF(Picks!D105=\"\",\"\",Picks!D105)","v":2.2000000000000002},{"$f":"IF(Picks!E105=\"\",\"\",Picks!E105)","v":"√"},{"$f":"IF(Picks!F105=\"\",\"\",Picks!F105)","v":""},{"$f":"IF(Picks!G105=\"\",\"\",Picks!G105)","v":""}]
[null,{"$f":"IF(Picks!B106=\"\",\"\",Picks!B106)","v":"Newcastle"},{"$f":"IF(Picks!C106=\"\",\"\",Picks!C106)","v":1},{"$f":"IF(Picks!D106=\"\",\"\",Picks!D106)","v":2.5499999999999998},{"$f":"IF(Picks!E106=\"\",\"\",Picks!E106)","v":"x"},{"$f":"IF(Picks!F106=\"\",\"\",Picks!F106)","v":""},{"$f":"IF(Picks!G106=\"\",\"\",Picks!G106)","v":""}]
[{"$f":"IF(Picks!A107=\"\",\"\",Picks!A107)","v":"Mal Stott"},{"$f":"IF(Picks!B107=\"\",\"\",Picks!B107)","v":"Luton"},{"$f":"IF(Picks!C107=\"\",\"\",Picks!C107)","v":7},{"$f":"IF(Picks!D107=\"\",\"\",Picks!D107)","v":2.875},{"$f":"IF(Picks!E107=\"\",\"\",Picks!E107)","v":"√"},{"$f":"IF(Picks!F107=\"\",\"\",Picks!F107)","v":5.9499999999999993},{"$f":"IF(Picks!G107=\"\",\"\",Picks!G107)","v":35.244999999999997}]
[null,{"$f":"IF(Picks!B108=\"\",\"\",Picks!B108)","v":"Swansea"},{"$f":"IF(Picks!C108=\"\",\"\",Picks!C108)","v":7},{"$f":"IF(Picks!D108=\"\",\"\",Picks!D108)","v":2.1},{"$f":"IF(Picks!E108=\"\",\"\",Picks!E108)","v":"x"},{"$f":"IF(Picks!F108=\"\",\"\",Picks!F108)","v":""},{"$f":"IF(Picks!G108=\"\",\"\",Picks!G108)","v":""}]
[null,{"$f":"IF(Picks!B109=\"\",\"\",Picks!B109)","v":"Ipswich"},{"$f":"IF(Picks!C109=\"\",\"\",Picks!C109)","v":7},{"$f":"IF(Picks!D109=\"\",\"\",Picks!D109)","v":2.6},{"$f":"IF(Picks!E109=\"\",\"\",Picks!E109)","v":"√"},{"$f":"IF(Picks!F109=\"\",\"\",Picks!F109)","v":""},{"$f":"IF(Picks!G109=\"\",\"\",Picks!G109)","v":""}]
[{"$f":"IF(Picks!A110=\"\",\"\",Picks!A110)","v":"Mark Bunn"},{"$f":"IF(Picks!B110=\"\",\"\",Picks!B110)","v":"QPR"},{"$f":"IF(Picks!C110=\"\",\"\",Picks!C110)","v":6},{"$f":"IF(Picks!D110=\"\",\"\",Picks!D110)","v":2.9},{"$f":"IF(Picks!E110=\"\",\"\",Picks!E110)","v":"x"},{"$f":"IF(Picks!F110=\"\",\"\",Picks!F110)","v":-4.5999999999999996},{"$f":"IF(Picks!G110=\"\",\"\",Picks!G110)","v":55.647999999999996}]
[null,{"$f":"IF(Picks!B111=\"\",\"\",Picks!B111)","v":"Reading"},{"$f":"IF(Picks!C111=\"\",\"\",Picks!C111)","v":7},{"$f":"IF(Picks!D111=\"\",\"\",Picks!D111)","v":2.4},{"$f":"IF(Picks!E111=\"\",\"\",Picks!E111)","v":"√"},{"$f":"IF(Picks!F111=\"\",\"\",Picks!F111)","v":""},{"$f":"IF(Picks!G111=\"\",\"\",Picks!G111)","v":""}]
[null,{"$f":"IF(Picks!B112=\"\",\"\",Picks!B112)","v":"Birmingham"},{"$f":"IF(Picks!C112=\"\",\"\",Picks!C112)","v":7},{"$f":"IF(Picks!D112=\"\",\"\",Picks!D112)","v":3.8},{"$f":"IF(Picks!E112=\"\",\"\",Picks!E112)","v":"x"},{"$f":"IF(Picks!F112=\"\",\"\",Picks!F112)","v":""},{"$f":"IF(Picks!G112=\"\",\"\",Picks!G112)","v":""}]
[{"$f":"IF(Picks!A113=\"\",\"\",Picks!A113)","v":"Mark Saunders"},{"$f":"IF(Picks!B113=\"\",\"\",Picks!B113)","v":"Norwich"},{"$f":"IF(Picks!C113=\"\",\"\",Picks!C113)","v":7},{"$f":"IF(Picks!D113=\"\",\"\",Picks!D113)","v":1.8},{"$f":"IF(Picks!E113=\"\",\"\",Picks!E113)","v":"x"},{"$f":"IF(Picks!F113=\"\",\"\",Picks!F113)","v":-5.5},{"$f":"IF(Picks!G113=\"\",\"\",Picks!G113)","v":16.850000000000001}]
[null,{"$f":"IF(Picks!B114=\"\",\"\",Picks!B114)","v":"Newcastle"},{"$f":"IF(Picks!C114=\"\",\"\",Picks!C114)","v":1},{"$f":"IF(Picks!D114=\"\",\"\",Picks!D114)","v":2.5499999999999998},{"$f":"IF(Picks!E114=\"\",\"\",Picks!E114)","v":"x"},{"$f":"IF(Picks!F114=\"\",\"\",Picks!F114)","v":""},{"$f":"IF(Picks!G114=\"\",\"\",Picks!G114)","v":""}]
[null,{"$f":"IF(Picks!B115=\"\",\"\",Picks!B115)","v":"Arsenal"},{"$f":"IF(Picks!C115=\"\",\"\",Picks!C115)","v":7},{"$f":"IF(Picks!D115=\"\",\"\",Picks!D115)","v":1.5},{"$f":"IF(Picks!E115=\"\",\"\",Picks!E115)","v":"√"},{"$f":"IF(Picks!F115=\"\",\"\",Picks!F115)","v":""},{"$f":"IF(Picks!G115=\"\",\"\",Picks!G115)","v":""}]
[{"$f":"IF(Picks!A116=\"\",\"\",Picks!A116)","v":"Martin Molyneux"},{"$f":"IF(Picks!B116=\"\",\"\",Picks!B116)","v":"Arsenal"},{"$f":"IF(Picks!C116=\"\",\"\",Picks!C116)","v":7},{"$f":"IF(Picks!D116=\"\",\"\",Picks!D116)","v":1.5},{"$f":"IF(Picks!E116=\"\",\"\",Picks!E116)","v":"√"},{"$f":"IF(Picks!F116=\"\",\"\",Picks!F116)","v":-1.375},{"$f":"IF(Picks!G116=\"\",\"\",Picks!G116)","v":23.137499999999999}]
[null,{"$f":"IF(Picks!B117=\"\",\"\",Picks!B117)","v":"Leicester"},{"$f":"IF(Picks!C117=\"\",\"\",Picks!C117)","v":1},{"$f":"IF(Picks!D117=\"\",\"\",Picks!D117)","v":1.65},{"$f":"IF(Picks!E117=\"\",\"\",Picks!E117)","v":"√"},{"$f":"IF(Picks!F117=\"\",\"\",Picks!F117)","v":""},{"$f":"IF(Picks!G117=\"\",\"\",Picks!G117)","v":""}]
[null,{"$f":"IF(Picks!B118=\"\",\"\",Picks!B118)","v":"Chelsea Draw"},{"$f":"IF(Picks!C118=\"\",\"\",Picks!C118)","v":1},{"$f":"IF(Picks!D118=\"\",\"\",Picks!D118)","v":3.7},{"$f":"IF(Picks!E118=\"\",\"\",Picks!E118)","v":"x"},{"$f":"IF(Picks!F118=\"\",\"\",Picks!F118)","v":""},{"$f":"IF(Picks!G118=\"\",\"\",Picks!G118)","v":""}]
[{"$f":"IF(Picks!A119=\"\",\"\",Picks!A119)","v":"Martin Tarbuck"},{"$f":"IF(Picks!B119=\"\",\"\",Picks!B119)","v":"Harrogate"},{"$f":"IF(Picks!C119=\"\",\"\",Picks!C119)","v":7},{"$f":"IF(Picks!D119=\"\",\"\",Picks!D119)","v":2.2000000000000002},{"$f":"IF(Picks!E119=\"\",\"\",Picks!E119)","v":"x"},{"$f":"IF(Picks!F119=\"\",\"\",Picks!F119)","v":-4.7},{"$f":"IF(Picks!G119=\"\",\"\",Picks!G119)","v":29.488}]
[null,{"$f":"IF(Picks!B120=\"\",\"\",Picks!B120)","v":"Salford"},{"$f":"IF(Picks!C120=\"\",\"\",Picks!C120)","v":7},{"$f":"IF(Picks!D120=\"\",\"\",Picks!D120)","v":2.2999999999999998},{"$f":"IF(Picks!E120=\"\",\"\",Picks!E120)","v":"√"},{"$f":"IF(Picks!F120=\"\",\"\",Picks!F120)","v":""},{"$f":"IF(Picks!G120=\"\",\"\",Picks!G120)","v":""}]
[null,{"$f":"IF(Picks!B121=\"\",\"\",Picks!B121)","v":"Derby"},{"$f":"IF(Picks!C121=\"\",\"\",Picks!C121)","v":7},{"$f":"IF(Picks!D121=\"\",\"\",Picks!D121)","v":2.5499999999999998},{"$f":"IF(Picks!E121=\"\",\"\",Picks!E121)","v":"x"},{"$f":"IF(Picks!F121=\"\",\"\",Picks!F121)","v":""},{"$f":"IF(Picks!G121=\"\",\"\",Picks!G121)","v":""}]
[{"$f":"IF(Picks!A122=\"\",\"\",Picks!A122)","v":"Mike Penk"},{"$f":"IF(Picks!B122=\"\",\"\",Picks!B122)","v":"Millwall"},{"$f":"IF(Picks!C122=\"\",\"\",Picks!C122)","v":7},{"$f":"IF(Picks!D122=\"\",\"\",Picks!D122)","v":2.7},{"$f":"IF(Picks!E122=\"\",\"\",Picks!E122)","v":"√"},{"$f":"IF(Picks!F122=\"\",\"\",Picks!F122)","v":-4.3},{"$f":"IF(Picks!G122=\"\",\"\",Picks!G122)","v":44.540000000000006}]
[null,{"$f":"IF(Picks!B123=\"\",\"\",Picks!B123)","v":"Newcastle"},{"$f":"IF(Picks!C123=\"\",\"\",Picks!C123)","v":1},{"$f":"IF(Picks!D123=\"\",\"\",Picks!D123)","v":2.5499999999999998},{"$f":"IF(Picks!E123=\"\",\"\",Picks!E123)","v":"x"},{"$f":"IF(Picks!F123=\"\",\"\",Picks!F123)","v":""},{"$f":"IF(Picks!G123=\"\",\"\",Picks!G123)","v":""}]
[null,{"$f":"IF(Picks!B124=\"\",\"\",Picks!B124)","v":"Southampton"},{"$f":"IF(Picks!C124=\"\",\"\",Picks!C124)","v":1},{"$f":"IF(Picks!D124=\"\",\"\",Picks!D124)","v":3},{"$f":"IF(Picks!E124=\"\",\"\",Picks!E124)","v":"x"},{"$f":"IF(Picks!F124=\"\",\"\",Picks!F124)","v":""},{"$f":"IF(Picks!G124=\"\",\"\",Picks!G124)","v":""}]
[{"$f":"IF(Picks!A125=\"\",\"\",Picks!A125)","v":"Mo Sudell"},{"$f":"IF(Picks!B125=\"\",\"\",Picks!B125)","v":"Everton"},{"$f":"IF(Picks!C125=\"\",\"\",Picks!C125)","v":7},{"$f":"IF(Picks!D125=\"\",\"\",Picks!D125)","v":1.55},{"$f":"IF(Picks!E125=\"\",\"\",Picks!E125)","v":"√"},{"$f":"IF(Picks!F125=\"\",\"\",Picks!F125)","v":-1.4428571428571431},{"$f":"IF(Picks!G125=\"\",\"\",Picks!G125)","v":10.032142857142858}]
[null,{"$f":"IF(Picks!B126=\"\",\"\",Picks!B126)","v":"Blackburn"},{"$f":"IF(Picks!C126=\"\",\"\",Picks!C126)","v":7},{"$f":"IF(Picks!D126=\"\",\"\",Picks!D126)","v":1.5714285714285714},{"$f":"IF(Picks!E126=\"\",\"\",Picks!E126)","v":"√"},{"$f":"IF(Picks!F126=\"\",\"\",Picks!F126)","v":""},{"$f":"IF(Picks!G126=\"\",\"\",Picks!G126)","v":""}]
[null,{"$f":"IF(Picks!B127=\"\",\"\",Picks!B127)","v":"Portsmouth"},{"$f":"IF(Picks!C127=\"\",\"\",Picks!C127)","v":1},{"$f":"IF(Picks!D127=\"\",\"\",Picks!D127)","v":1.75},{"$f":"IF(Picks!E127=\"\",\"\",Picks!E127)","v":"x"},{"$f":"IF(Picks!F127=\"\",\"\",Picks!F127)","v":""},{"$f":"IF(Picks!G127=\"\",\"\",Picks!G127)","v":""}]
[{"$f":"IF(Picks!A128=\"\",\"\",Picks!A128)","v":"Nick Blocksidge"},{"$f":"IF(Picks!B128=\"\",\"\",Picks!B128)","v":"Blackburn"},{"$f":"IF(Picks!C128=\"\",\"\",Picks!C128)","v":7},{"$f":"IF(Picks!D128=\"\",\"\",Picks!D128)","v":1.5714285714285714},{"$f":"IF(Picks!E128=\"\",\"\",Picks!E128)","v":"√"},{"$f":"IF(Picks!F128=\"\",\"\",Picks!F128)","v":-1.4428571428571431},{"$f":"IF(Picks!G128=\"\",\"\",Picks!G128)","v":24.785714285714285}]
[null,{"$f":"IF(Picks!B129=\"\",\"\",Picks!B129)","v":"Everton"},{"$f":"IF(Picks!C129=\"\",\"\",Picks!C129)","v":7},{"$f":"IF(Picks!D129=\"\",\"\",Picks!D129)","v":1.55},{"$f":"IF(Picks!E129=\"\",\"\",Picks!E129)","v":"√"},{"$f":"IF(Picks!F129=\"\",\"\",Picks!F129)","v":""},{"$f":"IF(Picks!G129=\"\",\"\",Picks!G129)","v":""}]
[null,{"$f":"IF(Picks!B130=\"\",\"\",Picks!B130)","v":"Leeds draw"},{"$f":"IF(Picks!C130=\"\",\"\",Picks!C130)","v":7},{"$f":"IF(Picks!D130=\"\",\"\",Picks!D130)","v":4},{"$f":"IF(Picks!E130=\"\",\"\",Picks!E130)","v":"x"},{"$f":"IF(Picks!F130=\"\",\"\",Picks!F130)","v":""},{"$f":"IF(Picks!G130=\"\",\"\",Picks!G130)","v":""}]
[{"$f":"IF(Picks!A131=\"\",\"\",Picks!A131)","v":"Nigel Heyes"},{"$f":"IF(Picks!B131=\"\",\"\",Picks!B131)","v":"Reading"},{"$f":"IF(Picks!C131=\"\",\"\",Picks!C131)","v":7},{"$f":"IF(Picks!D131=\"\",\"\",Picks!D131)","v":2.4},{"$f":"IF(Picks!E131=\"\",\"\",Picks!E131)","v":"√"},{"$f":"IF(Picks!F131=\"\",\"\",Picks!F131)","v":2.0299999999999994},{"$f":"IF(Picks!G131=\"\",\"\",Picks!G131)","v":22.09}]
[null,{"$f":"IF(Picks!B132=\"\",\"\",Picks!B132)","v":"Charlton"},{"$f":"IF(Picks!C132=\"\",\"\",Picks!C132)","v":7},{"$f":"IF(Picks!D132=\"\",\"\",Picks!D132)","v":2},{"$f":"IF(Picks!E132=\"\",\"\",Picks!E132)","v":"x"},{"$f":"IF(Picks!F132=\"\",\"\",Picks!F132)","v":""},{"$f":"IF(Picks!G132=\"\",\"\",Picks!G132)","v":""}]
[null,{"$f":"IF(Picks!B133=\"\",\"\",Picks!B133)","v":"Hull"},{"$f":"IF(Picks!C133=\"\",\"\",Picks!C133)","v":7},{"$f":"IF(Picks!D133=\"\",\"\",Picks!D133)","v":1.95},{"$f":"IF(Picks!E133=\"\",\"\",Picks!E133)","v":"√"},{"$f":"IF(Picks!F133=\"\",\"\",Picks!F133)","v":""},{"$f":"IF(Picks!G133=\"\",\"\",Picks!G133)","v":""}]
[{"$f":"IF(Picks!A134=\"\",\"\",Picks!A134)","v":"Oscar Jackson"},{"$f":"IF(Picks!B134=\"\",\"\",Picks!B134)","v":"Arsenal"},{"$f":"IF(Picks!C134=\"\",\"\",Picks!C134)","v":7},{"$f":"IF(Picks!D134=\"\",\"\",Picks!D134)","v":1.5},{"$f":"IF(Picks!E134=\"\",\"\",Picks!E134)","v":"√"},{"$f":"IF(Picks!F134=\"\",\"\",Picks!F134)","v":-5.5},{"$f":"IF(Picks!G134=\"\",\"\",Picks!G134)","v":25.825000000000003}]
[null,{"$f":"IF(Picks!B135=\"\",\"\",Picks!B135)","v":"Forest Green"},{"$f":"IF(Picks!C135=\"\",\"\",Picks!C135)","v":7},{"$f":"IF(Picks!D135=\"\",\"\",Picks!D135)","v":2.2999999999999998},{"$f":"IF(Picks!E135=\"\",\"\",Picks!E135)","v":"x"},{"$f":"IF(Picks!F135=\"\",\"\",Picks!F135)","v":""},{"$f":"IF(Picks!G135=\"\",\"\",Picks!G135)","v":""}]
[null,{"$f":"IF(Picks!B136=\"\",\"\",Picks!B136)","v":"Chelsea"},{"$f":"IF(Picks!C136=\"\",\"\",Picks!C136)","v":1},{"$f":"IF(Picks!D136=\"\",\"\",Picks!D136)","v":3.1},{"$f":"IF(Picks!E136=\"\",\"\",Picks!E136)","v":"x"},{"$f":"IF(Picks!F136=\"\",\"\",Picks!F136)","v":""},{"$f":"IF(Picks!G136=\"\",\"\",Picks!G136)","v":""}]
[{"$f":"IF(Picks!A137=\"\",\"\",Picks!A137)","v":"Paul Adderley"},{"$f":"IF(Picks!B137=\"\",\"\",Picks!B137)","v":"Arsenal"},{"$f":"IF(Picks!C137=\"\",\"\",Picks!C137)","v":7},{"$f":"IF(Picks!D137=\"\",\"\",Picks!D137)","v":1.5},{"$f":"IF(Picks!E137=\"\",\"\",Picks!E137)","v":"√"},{"$f":"IF(Picks!F137=\"\",\"\",Picks!F137)","v":-1.4615384615384617},{"$f":"IF(Picks!G137=\"\",\"\",Picks!G137)","v":6.9450549450549453}]
[null,{"$f":"IF(Picks!B138=\"\",\"\",Picks!B138)","v":"Man U"},{"$f":"IF(Picks!C138=\"\",\"\",Picks!C138)","v":7},{"$f":"IF(Picks!D138=\"\",\"\",Picks!D138)","v":1.2857142857142856},{"$f":"IF(Picks!E138=\"\",\"\",Picks!E138)","v":"x"},{"$f":"IF(Picks!F138=\"\",\"\",Picks!F138)","v":""},{"$f":"IF(Picks!G138=\"\",\"\",Picks!G138)","v":""}]
[null,{"$f":"IF(Picks!B139=\"\",\"\",Picks!B139)","v":"Leeds"},{"$f":"IF(Picks!C139=\"\",\"\",Picks!C139)","v":7},{"$f":"IF(Picks!D139=\"\",\"\",Picks!D139)","v":1.6153846153846154},{"$f":"IF(Picks!E139=\"\",\"\",Picks!E139)","v":"√"},{"$f":"IF(Picks!F139=\"\",\"\",Picks!F139)","v":""},{"$f":"IF(Picks!G139=\"\",\"\",Picks!G139)","v":""}]
[{"$f":"IF(Picks!A140=\"\",\"\",Picks!A140)","v":"Paul Allen"},{"$f":"IF(Picks!B140=\"\",\"\",Picks!B140)","v":"Bristol R"},{"$f":"IF(Picks!C140=\"\",\"\",Picks!C140)","v":7},{"$f":"IF(Picks!D140=\"\",\"\",Picks!D140)","v":2.7},{"$f":"IF(Picks!E140=\"\",\"\",Picks!E140)","v":"x"},{"$f":"IF(Picks!F140=\"\",\"\",Picks!F140)","v":-4.55},{"$f":"IF(Picks!G140=\"\",\"\",Picks!G140)","v":37.315750000000008}]
[null,{"$f":"IF(Picks!B141=\"\",\"\",Picks!B141)","v":"Newcastle"},{"$f":"IF(Picks!C141=\"\",\"\",Picks!C141)","v":1},{"$f":"IF(Picks!D141=\"\",\"\",Picks!D141)","v":2.5499999999999998},{"$f":"IF(Picks!E141=\"\",\"\",Picks!E141)","v":"x"},{"$f":"IF(Picks!F141=\"\",\"\",Picks!F141)","v":""},{"$f":"IF(Picks!G141=\"\",\"\",Picks!G141)","v":""}]
[null,{"$f":"IF(Picks!B142=\"\",\"\",Picks!B142)","v":"Spurs"},{"$f":"IF(Picks!C142=\"\",\"\",Picks!C142)","v":1},{"$f":"IF(Picks!D142=\"\",\"\",Picks!D142)","v":2.4500000000000002},{"$f":"IF(Picks!E142=\"\",\"\",Picks!E142)","v":"√"},{"$f":"IF(Picks!F142=\"\",\"\",Picks!F142)","v":""},{"$f":"IF(Picks!G142=\"\",\"\",Picks!G142)","v":""}]
[{"$f":"IF(Picks!A143=\"\",\"\",Picks!A143)","v":"Paul Barnes"},{"$f":"IF(Picks!B143=\"\",\"\",Picks!B143)","v":"Arsenal"},{"$f":"IF(Picks!C143=\"\",\"\",Picks!C143)","v":7},{"$f":"IF(Picks!D143=\"\",\"\",Picks!D143)","v":1.5},{"$f":"IF(Picks!E143=\"\",\"\",Picks!E143)","v":"√"},{"$f":"IF(Picks!F143=\"\",\"\",Picks!F143)","v":8.6730769230769234},{"$f":"IF(Picks!G143=\"\",\"\",Picks!G143)","v":8.6730769230769234}]
[null,{"$f":"IF(Picks!B144=\"\",\"\",Picks!B144)","v":"Everton"},{"$f":"IF(Picks!C144=\"\",\"\",Picks!C144)","v":7},{"$f":"IF(Picks!D144=\"\",\"\",Picks!D144)","v":1.55},{"$f":"IF(Picks!E144=\"\",\"\",Picks!E144)","v":"√"},{"$f":"IF(Picks!F144=\"\",\"\",Picks!F144)","v":""},{"$f":"IF(Picks!G144=\"\",\"\",Picks!G144)","v":""}]
[null,{"$f":"IF(Picks!B145=\"\",\"\",Picks!B145)","v":"Leeds"},{"$f":"IF(Picks!C145=\"\",\"\",Picks!C145)","v":7},{"$f":"IF(Picks!D145=\"\",\"\",Picks!D145)","v":1.6153846153846154},{"$f":"IF(Picks!E145=\"\",\"\",Picks!E145)","v":"√"},{"$f":"IF(Picks!F145=\"\",\"\",Picks!F145)","v":""},{"$f":"IF(Picks!G145=\"\",\"\",Picks!G145)","v":""}]
[{"$f":"IF(Picks!A146=\"\",\"\",Picks!A146)","v":"Paul Fairhurst"},{"$f":"IF(Picks!B146=\"\",\"\",Picks!B146)","v":"Palace"},{"$f":"IF(Picks!C146=\"\",\"\",Picks!C146)","v":7},{"$f":"IF(Picks!D146=\"\",\"\",Picks!D146)","v":11},{"$f":"IF(Picks!E146=\"\",\"\",Picks!E146)","v":"√"},{"$f":"IF(Picks!F146=\"\",\"\",Picks!F146)","v":208.72},{"$f":"IF(Picks!G146=\"\",\"\",Picks!G146)","v":208.72}]
[null,{"$f":"IF(Picks!B147=\"\",\"\",Picks!B147)","v":"Middlesbro draw"},{"$f":"IF(Picks!C147=\"\",\"\",Picks!C147)","v":7},{"$f":"IF(Picks!D147=\"\",\"\",Picks!D147)","v":3.2},{"$f":"IF(Picks!E147=\"\",\"\",Picks!E147)","v":"√"},{"$f":"IF(Picks!F147=\"\",\"\",Picks!F147)","v":""},{"$f":"IF(Picks!G147=\"\",\"\",Picks!G147)","v":""}]
[null,{"$f":"IF(Picks!B148=\"\",\"\",Picks!B148)","v":"Harrogate draw"},{"$f":"IF(Picks!C148=\"\",\"\",Picks!C148)","v":7},{"$f":"IF(Picks!D148=\"\",\"\",Picks!D148)","v":3.3},{"$f":"IF(Picks!E148=\"\",\"\",Picks!E148)","v":"√"},{"$f":"IF(Picks!F148=\"\",\"\",Picks!F148)","v":""},{"$f":"IF(Picks!G148=\"\",\"\",Picks!G148)","v":""}]
[{"$f":"IF(Picks!A149=\"\",\"\",Picks!A149)","v":"Paul Fiddler"},{"$f":"IF(Picks!B149=\"\",\"\",Picks!B149)","v":"Blackpool"},{"$f":"IF(Picks!C149=\"\",\"\",Picks!C149)","v":7},{"$f":"IF(Picks!D149=\"\",\"\",Picks!D149)","v":2.15},{"$f":"IF(Picks!E149=\"\",\"\",Picks!E149)","v":"√"},{"$f":"IF(Picks!F149=\"\",\"\",Picks!F149)","v":1.2925000000000004},{"$f":"IF(Picks!G149=\"\",\"\",Picks!G149)","v":28.240749999999991}]
[null,{"$f":"IF(Picks!B150=\"\",\"\",Picks!B150)","v":"Hull"},{"$f":"IF(Picks!C150=\"\",\"\",Picks!C150)","v":7},{"$f":"IF(Picks!D150=\"\",\"\",Picks!D150)","v":1.95},{"$f":"IF(Picks!E150=\"\",\"\",Picks!E150)","v":"√"},{"$f":"IF(Picks!F150=\"\",\"\",Picks!F150)","v":""},{"$f":"IF(Picks!G150=\"\",\"\",Picks!G150)","v":""}]
[null,{"$f":"IF(Picks!B151=\"\",\"\",Picks!B151)","v":"QPR"},{"$f":"IF(Picks!C151=\"\",\"\",Picks!C151)","v":6},{"$f":"IF(Picks!D151=\"\",\"\",Picks!D151)","v":2.9},{"$f":"IF(Picks!E151=\"\",\"\",Picks!E151)","v":"x"},{"$f":"IF(Picks!F151=\"\",\"\",Picks!F151)","v":""},{"$f":"IF(Picks!G151=\"\",\"\",Picks!G151)","v":""}]
[{"$f":"IF(Picks!A152=\"\",\"\",Picks!A152)","v":"Paul Ridgeway"},{"$f":"IF(Picks!B152=\"\",\"\",Picks!B152)","v":"Leeds"},{"$f":"IF(Picks!C152=\"\",\"\",Picks!C152)","v":7},{"$f":"IF(Picks!D152=\"\",\"\",Picks!D152)","v":1.6153846153846154},{"$f":"IF(Picks!E152=\"\",\"\",Picks!E152)","v":"√"},{"$f":"IF(Picks!F152=\"\",\"\",Picks!F152)","v":-1.069230769230769},{"$f":"IF(Picks!G152=\"\",\"\",Picks!G152)","v":17.643846153846155}]
[null,{"$f":"IF(Picks!B153=\"\",\"\",Picks!B153)","v":"Bournemouth"},{"$f":"IF(Picks!C153=\"\",\"\",Picks!C153)","v":7},{"$f":"IF(Picks!D153=\"\",\"\",Picks!D153)","v":2.7},{"$f":"IF(Picks!E153=\"\",\"\",Picks!E153)","v":"x"},{"$f":"IF(Picks!F153=\"\",\"\",Picks!F153)","v":""},{"$f":"IF(Picks!G153=\"\",\"\",Picks!G153)","v":""}]
[null,{"$f":"IF(Picks!B154=\"\",\"\",Picks!B154)","v":"Leicester"},{"$f":"IF(Picks!C154=\"\",\"\",Picks!C154)","v":1},{"$f":"IF(Picks!D154=\"\",\"\",Picks!D154)","v":1.65},{"$f":"IF(Picks!E154=\"\",\"\",Picks!E154)","v":"√"},{"$f":"IF(Picks!F154=\"\",\"\",Picks!F154)","v":""},{"$f":"IF(Picks!G154=\"\",\"\",Picks!G154)","v":""}]
[{"$f":"IF(Picks!A155=\"\",\"\",Picks!A155)","v":"Pete Baron"},{"$f":"IF(Picks!B155=\"\",\"\",Picks!B155)","v":"Newcastle"},{"$f":"IF(Picks!C155=\"\",\"\",Picks!C155)","v":1},{"$f":"IF(Picks!D155=\"\",\"\",Picks!D155)","v":2.5499999999999998},{"$f":"IF(Picks!E155=\"\",\"\",Picks!E155)","v":"x"},{"$f":"IF(Picks!F155=\"\",\"\",Picks!F155)","v":-7},{"$f":"IF(Picks!G155=\"\",\"\",Picks!G155)","v":36.738874999999993}]
[null,{"$f":"IF(Picks!B156=\"\",\"\",Picks!B156)","v":"Watford"},{"$f":"IF(Picks!C156=\"\",\"\",Picks!C156)","v":7},{"$f":"IF(Picks!D156=\"\",\"\",Picks!D156)","v":2.5499999999999998},{"$f":"IF(Picks!E156=\"\",\"\",Picks!E156)","v":"x"},{"$f":"IF(Picks!F156=\"\",\"\",Picks!F156)","v":""},{"$f":"IF(Picks!G156=\"\",\"\",Picks!G156)","v":""}]
[null,{"$f":"IF(Picks!B157=\"\",\"\",Picks!B157)","v":"Derby"},{"$f":"IF(Picks!C157=\"\",\"\",Picks!C157)","v":7},{"$f":"IF(Picks!D157=\"\",\"\",Picks!D157)","v":2.5499999999999998},{"$f":"IF(Picks!E157=\"\",\"\",Picks!E157)","v":"x"},{"$f":"IF(Picks!F157=\"\",\"\",Picks!F157)","v":""},{"$f":"IF(Picks!G157=\"\",\"\",Picks!G157)","v":""}]
[{"$f":"IF(Picks!A158=\"\",\"\",Picks!A158)","v":"Phil Miller"},{"$f":"IF(Picks!B158=\"\",\"\",Picks!B158)","v":"Man U"},{"$f":"IF(Picks!C158=\"\",\"\",Picks!C158)","v":7},{"$f":"IF(Picks!D158=\"\",\"\",Picks!D158)","v":1.2857142857142856},{"$f":"IF(Picks!E158=\"\",\"\",Picks!E158)","v":"x"},{"$f":"IF(Picks!F158=\"\",\"\",Picks!F158)","v":-4.7},{"$f":"IF(Picks!G158=\"\",\"\",Picks!G158)","v":18.777142857142852}]
[null,{"$f":"IF(Picks!B159=\"\",\"\",Picks!B159)","v":"Derby"},{"$f":"IF(Picks!C159=\"\",\"\",Picks!C159)","v":7},{"$f":"IF(Picks!D159=\"\",\"\",Picks!D159)","v":2.5499999999999998},{"$f":"IF(Picks!E159=\"\",\"\",Picks!E159)","v":"x"},{"$f":"IF(Picks!F159=\"\",\"\",Picks!F159)","v":""},{"$f":"IF(Picks!G159=\"\",\"\",Picks!G159)","v":""}]
[null,{"$f":"IF(Picks!B160=\"\",\"\",Picks!B160)","v":"Salford"},{"$f":"IF(Picks!C160=\"\",\"\",Picks!C160)","v":7},{"$f":"IF(Picks!D160=\"\",\"\",Picks!D160)","v":2.2999999999999998},{"$f":"IF(Picks!E160=\"\",\"\",Picks!E160)","v":"√"},{"$f":"IF(Picks!F160=\"\",\"\",Picks!F160)","v":""},{"$f":"IF(Picks!G160=\"\",\"\",Picks!G160)","v":""}]
[{"$f":"IF(Picks!A161=\"\",\"\",Picks!A161)","v":"Rob England"},{"$f":"IF(Picks!B161=\"\",\"\",Picks!B161)","v":"Norwich"},{"$f":"IF(Picks!C161=\"\",\"\",Picks!C161)","v":7},{"$f":"IF(Picks!D161=\"\",\"\",Picks!D161)","v":1.8},{"$f":"IF(Picks!E161=\"\",\"\",Picks!E161)","v":"x"},{"$f":"IF(Picks!F161=\"\",\"\",Picks!F161)","v":-4.375},{"$f":"IF(Picks!G161=\"\",\"\",Picks!G161)","v":29.555}]
[null,{"$f":"IF(Picks!B162=\"\",\"\",Picks!B162)","v":"Plymouth"},{"$f":"IF(Picks!C162=\"\",\"\",Picks!C162)","v":7},{"$f":"IF(Picks!D162=\"\",\"\",Picks!D162)","v":2.7},{"$f":"IF(Picks!E162=\"\",\"\",Picks!E162)","v":"x"},{"$f":"IF(Picks!F162=\"\",\"\",Picks!F162)","v":""},{"$f":"IF(Picks!G162=\"\",\"\",Picks!G162)","v":""}]
[null,{"$f":"IF(Picks!B163=\"\",\"\",Picks!B163)","v":"Colchester"},{"$f":"IF(Picks!C163=\"\",\"\",Picks!C163)","v":7},{"$f":"IF(Picks!D163=\"\",\"\",Picks!D163)","v":2.625},{"$f":"IF(Picks!E163=\"\",\"\",Picks!E163)","v":"√"},{"$f":"IF(Picks!F163=\"\",\"\",Picks!F163)","v":""},{"$f":"IF(Picks!G163=\"\",\"\",Picks!G163)","v":""}]
[{"$f":"IF(Picks!A164=\"\",\"\",Picks!A164)","v":"Sally Williams"},{"$f":"IF(Picks!B164=\"\",\"\",Picks!B164)","v":"Grimsby"},{"$f":"IF(Picks!C164=\"\",\"\",Picks!C164)","v":7},{"$f":"IF(Picks!D164=\"\",\"\",Picks!D164)","v":3.1},{"$f":"IF(Picks!E164=\"\",\"\",Picks!E164)","v":"x"},{"$f":"IF(Picks!F164=\"\",\"\",Picks!F164)","v":-7},{"$f":"IF(Picks!G164=\"\",\"\",Picks!G164)","v":58.215000000000003}]
[null,{"$f":"IF(Picks!B165=\"\",\"\",Picks!B165)","v":"Morecambe draw"},{"$f":"IF(Picks!C165=\"\",\"\",Picks!C165)","v":7},{"$f":"IF(Picks!D165=\"\",\"\",Picks!D165)","v":3.25},{"$f":"IF(Picks!E165=\"\",\"\",Picks!E165)","v":"x"},{"$f":"IF(Picks!F165=\"\",\"\",Picks!F165)","v":""},{"$f":"IF(Picks!G165=\"\",\"\",Picks!G165)","v":""}]
[null,{"$f":"IF(Picks!B166=\"\",\"\",Picks!B166)","v":"Orient"},{"$f":"IF(Picks!C166=\"\",\"\",Picks!C166)","v":7},{"$f":"IF(Picks!D166=\"\",\"\",Picks!D166)","v":2.8},{"$f":"IF(Picks!E166=\"\",\"\",Picks!E166)","v":"x"},{"$f":"IF(Picks!F166=\"\",\"\",Picks!F166)","v":""},{"$f":"IF(Picks!G166=\"\",\"\",Picks!G166)","v":""}]
[{"$f":"IF(Picks!A167=\"\",\"\",Picks!A167)","v":"Simon Greenhalgh"},{"$f":"IF(Picks!B167=\"\",\"\",Picks!B167)","v":"Arsenal"},{"$f":"IF(Picks!C167=\"\",\"\",Picks!C167)","v":7},{"$f":"IF(Picks!D167=\"\",\"\",Picks!D167)","v":1.5},{"$f":"IF(Picks!E167=\"\",\"\",Picks!E167)","v":"√"},{"$f":"IF(Picks!F167=\"\",\"\",Picks!F167)","v":-5.5},{"$f":"IF(Picks!G167=\"\",\"\",Picks!G167)","v":15.100000000000001}]
[null,{"$f":"IF(Picks!B168=\"\",\"\",Picks!B168)","v":"Norwich"},{"$f":"IF(Picks!C168=\"\",\"\",Picks!C168)","v":7},{"$f":"IF(Picks!D168=\"\",\"\",Picks!D168)","v":1.8},{"$f":"IF(Picks!E168=\"\",\"\",Picks!E168)","v":"x"},{"$f":"IF(Picks!F168=\"\",\"\",Picks!F168)","v":""},{"$f":"IF(Picks!G168=\"\",\"\",Picks!G168)","v":""}]
[null,{"$f":"IF(Picks!B169=\"\",\"\",Picks!B169)","v":"Forest Green"},{"$f":"IF(Picks!C169=\"\",\"\",Picks!C169)","v":7},{"$f":"IF(Picks!D169=\"\",\"\",Picks!D169)","v":2.2999999999999998},{"$f":"IF(Picks!E169=\"\",\"\",Picks!E169)","v":"x"},{"$f":"IF(Picks!F169=\"\",\"\",Picks!F169)","v":""},{"$f":"IF(Picks!G169=\"\",\"\",Picks!G169)","v":""}]
[{"$f":"IF(Picks!A170=\"\",\"\",Picks!A170)","v":"Stephen Barr"},{"$f":"IF(Picks!B170=\"\",\"\",Picks!B170)","v":"Newcastle"},{"$f":"IF(Picks!C170=\"\",\"\",Picks!C170)","v":1},{"$f":"IF(Picks!D170=\"\",\"\",Picks!D170)","v":2.5499999999999998},{"$f":"IF(Picks!E170=\"\",\"\",Picks!E170)","v":"x"},{"$f":"IF(Picks!F170=\"\",\"\",Picks!F170)","v":6.7200000000000024},{"$f":"IF(Picks!G170=\"\",\"\",Picks!G170)","v":44.256}]
[null,{"$f":"IF(Picks!B171=\"\",\"\",Picks!B171)","v":"Liverpool"},{"$f":"IF(Picks!C171=\"\",\"\",Picks!C171)","v":1},{"$f":"IF(Picks!D171=\"\",\"\",Picks!D171)","v":2.2000000000000002},{"$f":"IF(Picks!E171=\"\",\"\",Picks!E171)","v":"√"},{"$f":"IF(Picks!F171=\"\",\"\",Picks!F171)","v":""},{"$f":"IF(Picks!G171=\"\",\"\",Picks!G171)","v":""}]
[null,{"$f":"IF(Picks!B172=\"\",\"\",Picks!B172)","v":"Bristol c"},{"$f":"IF(Picks!C172=\"\",\"\",Picks!C172)","v":1},{"$f":"IF(Picks!D172=\"\",\"\",Picks!D172)","v":3.6},{"$f":"IF(Picks!E172=\"\",\"\",Picks!E172)","v":"√"},{"$f":"IF(Picks!F172=\"\",\"\",Picks!F172)","v":""},{"$f":"IF(Picks!G172=\"\",\"\",Picks!G172)","v":""}]
[{"$f":"IF(Picks!A173=\"\",\"\",Picks!A173)","v":"Stephen Troop"},{"$f":"IF(Picks!B173=\"\",\"\",Picks!B173)","v":"Man U"},{"$f":"IF(Picks!C173=\"\",\"\",Picks!C173)","v":7},{"$f":"IF(Picks!D173=\"\",\"\",Picks!D173)","v":1.2857142857142856},{"$f":"IF(Picks!E173=\"\",\"\",Picks!E173)","v":"x"},{"$f":"IF(Picks!F173=\"\",\"\",Picks!F173)","v":-1.3307692307692305},{"$f":"IF(Picks!G173=\"\",\"\",Picks!G173)","v":7.2439560439560431}]
[null,{"$f":"IF(Picks!B174=\"\",\"\",Picks!B174)","v":"Leeds"},{"$f":"IF(Picks!C174=\"\",\"\",Picks!C174)","v":7},{"$f":"IF(Picks!D174=\"\",\"\",Picks!D174)","v":1.6153846153846154},{"$f":"IF(Picks!E174=\"\",\"\",Picks!E174)","v":"√"},{"$f":"IF(Picks!F174=\"\",\"\",Picks!F174)","v":""},{"$f":"IF(Picks!G174=\"\",\"\",Picks!G174)","v":""}]
[null,{"$f":"IF(Picks!B175=\"\",\"\",Picks!B175)","v":"Everton"},{"$f":"IF(Picks!C175=\"\",\"\",Picks!C175)","v":7},{"$f":"IF(Picks!D175=\"\",\"\",Picks!D175)","v":1.55},{"$f":"IF(Picks!E175=\"\",\"\",Picks!E175)","v":"√"},{"$f":"IF(Picks!F175=\"\",\"\",Picks!F175)","v":""},{"$f":"IF(Picks!G175=\"\",\"\",Picks!G175)","v":""}]
[{"$f":"IF(Picks!A176=\"\",\"\",Picks!A176)","v":"Steve Baxter"},{"$f":"IF(Picks!B176=\"\",\"\",Picks!B176)","v":"Arsenal"},{"$f":"IF(Picks!C176=\"\",\"\",Picks!C176)","v":7},{"$f":"IF(Picks!D176=\"\",\"\",Picks!D176)","v":1.5},{"$f":"IF(Picks!E176=\"\",\"\",Picks!E176)","v":"√"},{"$f":"IF(Picks!F176=\"\",\"\",Picks!F176)","v":0},{"$f":"IF(Picks!G176=\"\",\"\",Picks!G176)","v":10.285714285714288}]
[null,{"$f":"IF(Picks!B177=\"\",\"\",Picks!B177)","v":"Man U"},{"$f":"IF(Picks!C177=\"\",\"\",Picks!C177)","v":7},{"$f":"IF(Picks!D177=\"\",\"\",Picks!D177)","v":1.2857142857142856},{"$f":"IF(Picks!E177=\"\",\"\",Picks!E177)","v":"x"},{"$f":"IF(Picks!F177=\"\",\"\",Picks!F177)","v":""},{"$f":"IF(Picks!G177=\"\",\"\",Picks!G177)","v":""}]
[null,{"$f":"IF(Picks!B178=\"\",\"\",Picks!B178)","v":"Liverpool"},{"$f":"IF(Picks!C178=\"\",\"\",Picks!C178)","v":1},{"$f":"IF(Picks!D178=\"\",\"\",Picks!D178)","v":2.2000000000000002},{"$f":"IF(Picks!E178=\"\",\"\",Picks!E178)","v":"√"},{"$f":"IF(Picks!F178=\"\",\"\",Picks!F178)","v":""},{"$f":"IF(Picks!G178=\"\",\"\",Picks!G178)","v":""}]
[{"$f":"IF(Picks!A179=\"\",\"\",Picks!A179)","v":"Steve Carter"},{"$f":"IF(Picks!B179=\"\",\"\",Picks!B179)","v":"Norwich"},{"$f":"IF(Picks!C179=\"\",\"\",Picks!C179)","v":7},{"$f":"IF(Picks!D179=\"\",\"\",Picks!D179)","v":1.8},{"$f":"IF(Picks!E179=\"\",\"\",Picks!E179)","v":"x"},{"$f":"IF(Picks!F179=\"\",\"\",Picks!F179)","v":-4.5999999999999996},{"$f":"IF(Picks!G179=\"\",\"\",Picks!G179)","v":25.795999999999999}]
[null,{"$f":"IF(Picks!B180=\"\",\"\",Picks!B180)","v":"Reading"},{"$f":"IF(Picks!C180=\"\",\"\",Picks!C180)","v":7},{"$f":"IF(Picks!D180=\"\",\"\",Picks!D180)","v":2.4},{"$f":"IF(Picks!E180=\"\",\"\",Picks!E180)","v":"√"},{"$f":"IF(Picks!F180=\"\",\"\",Picks!F180)","v":""},{"$f":"IF(Picks!G180=\"\",\"\",Picks!G180)","v":""}]
[null,{"$f":"IF(Picks!B181=\"\",\"\",Picks!B181)","v":"Newcastle"},{"$f":"IF(Picks!C181=\"\",\"\",Picks!C181)","v":1},{"$f":"IF(Picks!D181=\"\",\"\",Picks!D181)","v":2.5499999999999998},{"$f":"IF(Picks!E181=\"\",\"\",Picks!E181)","v":"x"},{"$f":"IF(Picks!F181=\"\",\"\",Picks!F181)","v":""},{"$f":"IF(Picks!G181=\"\",\"\",Picks!G181)","v":""}]
[{"$f":"IF(Picks!A182=\"\",\"\",Picks!A182)","v":"Tom Robinson"},{"$f":"IF(Picks!B182=\"\",\"\",Picks!B182)","v":""},{"$f":"IF(Picks!C182=\"\",\"\",Picks!C182)","v":""},{"$f":"IF(Picks!D182=\"\",\"\",Picks!D182)","v":""},{"$f":"IF(Picks!E182=\"\",\"\",Picks!E182)","v":""},{"$f":"IF(Picks!F182=\"\",\"\",Picks!F182)","v":-10},{"$f":"IF(Picks!G182=\"\",\"\",Picks!G182)","v":""}]
[null,{"$f":"IF(Picks!B183=\"\",\"\",Picks!B183)","v":""},{"$f":"IF(Picks!C183=\"\",\"\",Picks!C183)","v":""},{"$f":"IF(Picks!D183=\"\",\"\",Picks!D183)","v":""},{"$f":"IF(Picks!E183=\"\",\"\",Picks!E183)","v":""},{"$f":"IF(Picks!F183=\"\",\"\",Picks!F183)","v":""},{"$f":"IF(Picks!G183=\"\",\"\",Picks!G183)","v":""}]
[null,{"$f":"IF(Picks!B184=\"\",\"\",Picks!B184)","v":""},{"$f":"IF(Picks!C184=\"\",\"\",Picks!C184)","v":""},{"$f":"IF(Picks!D184=\"\",\"\",Picks!D184)","v":""},{"$f":"IF(Picks!E184=\"\",\"\",Picks!E184)","v":""},{"$f":"IF(Picks!F184=\"\",\"\",Picks!F184)","v":""},{"$f":"IF(Picks!G184=\"\",\"\",Picks!G184)","v":""}]
[{"$f":"IF(Picks!A185=\"\",\"\",Picks!A185)","v":"Vinny Topping"},{"$f":"IF(Picks!B185=\"\",\"\",Picks!B185)","v":"Harrogate"},{"$f":"IF(Picks!C185=\"\",\"\",Picks!C185)","v":7},{"$f":"IF(Picks!D185=\"\",\"\",Picks!D185)","v":2.2000000000000002},{"$f":"IF(Picks!E185=\"\",\"\",Picks!E185)","v":"x"},{"$f":"IF(Picks!F185=\"\",\"\",Picks!F185)","v":3.0625},{"$f":"IF(Picks!G185=\"\",\"\",Picks!G185)","v":27.400000000000006}]
[null,{"$f":"IF(Picks!B186=\"\",\"\",Picks!B186)","v":"Hull"},{"$f":"IF(Picks!C186=\"\",\"\",Picks!C186)","v":7},{"$f":"IF(Picks!D186=\"\",\"\",Picks!D186)","v":1.95},{"$f":"IF(Picks!E186=\"\",\"\",Picks!E186)","v":"√"},{"$f":"IF(Picks!F186=\"\",\"\",Picks!F186)","v":""},{"$f":"IF(Picks!G186=\"\",\"\",Picks!G186)","v":""}]
[null,{"$f":"IF(Picks!B187=\"\",\"\",Picks!B187)","v":"Lincoln"},{"$f":"IF(Picks!C187=\"\",\"\",Picks!C187)","v":7},{"$f":"IF(Picks!D187=\"\",\"\",Picks!D187)","v":2.75},{"$f":"IF(Picks!E187=\"\",\"\",Picks!E187)","v":"√"},{"$f":"IF(Picks!F187=\"\",\"\",Picks!F187)","v":""},{"$f":"IF(Picks!G187=\"\",\"\",Picks!G187)","v":""}]

{"sheet":"Diary","index":7,"n_rows":24,"n_cols":11,"rows_kept":24,"cut":false,"hidden":false,"merged":[[2,1,2,5]]}
[36,2020,"Autumn"]
[]
[null,{"$f":"CONCATENATE(\"Season PL\",$A$1,\" (\",$C$1,\" \",$B$1,\")\")","v":"Season PL36 (Autumn 2020)"},null,null,null,null,null,null,"Weekly actions"]
[null,"Midweek\\\nWeekend of…","3in! PL\nWeek No.","Double/Midweek Fixtures?","Qualifying\nFixtures","PL Cup\nRound",null,null,"Scrape Odds","Issue Odds","Issue Results"]
[null,"2020-09-12",1,null,"Prm\\Chp\\FL1\\FL2",null,null,"FAC\\FL1\\FL2",{"$f":"IF($B5=\"\",\"\",$B5-5)","v":"2020-09-07"},{"$f":"IF($B5=\"\",\"\",$B5-3)","v":"2020-09-09"},{"$f":"IF($B5=\"\",\"\",$B5+2)","v":"2020-09-14"}]
[null,"2020-09-19",2,null,"Prm\\Chp\\FL1\\FL2",null,null,"Prm\\Chp\\FL1\\FL2",{"$f":"IF($B6=\"\",\"\",$B6-5)","v":"2020-09-14"},{"$f":"IF($B6=\"\",\"\",$B6-3)","v":"2020-09-16"},{"$f":"IF($B6=\"\",\"\",$B6+2)","v":"2020-09-21"}]
[null,"2020-09-26",3,"D","Prm\\Chp\\FL1\\FL2",null,null,"INT\\FL1\\FL2\\NL","2020-09-21","2020-09-23","2020-09-28"]
[null,"2020-09-26",4,"D","Prm\\Chp\\FL1\\FL2","Round 1 ",null,"Prm\\Chp\\FAC","2020-09-21","2020-09-23","2020-09-28"]
[null,"2020-10-03",5,null,"Prm\\Chp\\FL1\\FL2","Round 1 Rep",null,null,"2020-09-28","2020-09-30","2020-10-05"]
[null,"2020-10-10",6,null,"INT\\FL1\\FL2\\NL",null,null,null,"2020-10-05","2020-10-07","2020-10-12"]
[null,"2020-10-17",7,null,"Prm\\Chp\\FL1\\FL2","Round 2",null,null,"2020-10-12","2020-10-14","2020-10-19"]
[null,"2020-10-24",8,null,"Prm\\Chp\\FL1\\FL2","Round 2 Rep",null,null,"2020-10-19","2020-10-21","2020-10-26"]
[null,"2020-10-31",9,null,"Prm\\Chp\\FL1\\FL2",null,null,null,"2020-10-26","2020-10-28","2020-11-02"]
[null,"2020-11-07",10,null,"Prm\\Chp\\FAC","Round 3 ",null,null,"2020-11-02","2020-11-04","2020-11-09"]
[null,"2020-11-07",11,null,"Prm\\Chp\\FAC","Round 3 Rep",null,null,"2020-11-02","2020-11-04","2020-11-09"]
[null,"2020-11-14",12,null,"INT\\FL1\\FL2\\NL",null,null,null,"2020-11-09","2020-11-11","2020-11-16"]
[null,"2020-11-21",13,null,"Prm\\Chp\\FL1\\FL2","Quarter-Final ",null,null,"2020-11-16","2020-11-18","2020-11-23"]
[null,"2020-11-28",14,null,"Prm\\Chp\\FAC","Quarter-Final Rep",null,null,"2020-11-23","2020-11-25","2020-11-30"]
[null,"2020-12-05",15,"D","Prm\\Chp\\FL1\\FL2",null,null,null,"2020-11-30","2020-12-02","2020-12-07"]
[null,"2020-12-05",16,"D","Prm\\Chp\\FL1\\FL2","Semi-Final",null,null,"2020-11-30","2020-12-02","2020-12-07"]
[null,"2020-12-12",17,null,"Prm\\Chp\\FL1\\FL2","Semi-Final Rep",null,null,"2020-12-07","2020-12-09","2020-12-14"]
[null,"2020-12-16",18,"M","Prm\\Chp\\FL1\\FL2","Final",null,null,"2020-12-11","2020-12-13","2020-12-18"]
[null,"2020-12-19",19,null,"Prm\\Chp\\FL1\\FL2","Final Rep",null,null,"2020-12-14","2020-12-16","2020-12-21"]
[null,"2020-12-26",20,null,"Prm\\Chp\\FL1\\FL2",null,null,null,"2020-12-21","2020-12-23","2020-12-28"]

{"sheet":"Match","index":8,"n_rows":47,"n_cols":27,"rows_kept":47,"cut":false,"hidden":false,"merged":[]}
["Date","Sequence","Comp","Home","Away","Home\nscore","Away\nscore","H1","H2","D1","D2","A1","A2","Off","Home Trim","Away Trim","HS Trim ","AS Trim","Match Odds","Results","Odds","Home odds","Draw Odds","Away Odds","Home Dec","Draw Dec","Away Dec"]
["2020-09-18",11,"Champ","Coventry","QPR",3,2,6,4,9,4,19,10,null,{"$f":"TRIM(D2)","v":"Coventry"},{"$f":"TRIM(E2)","v":"QPR"},{"$f":"TRIM(F2)","v":"3"},{"$f":"TRIM(G2)","v":"2"},{"$f":"IF(A2=\"\",\"\",O2&\"  v  \"&P2&\"   \"&U2)","v":"Coventry  v  QPR   6/4  9/4  19/10"},{"$f":"O2&\" \"&Q2&\"-\"&R2&\" \"&P2&\" \"&N2","v":"Coventry 3-2 QPR "},{"$f":"V2&\"  \"&W2&\"  \"&X2","v":"6/4  9/4  19/10"},{"$f":"CONCATENATE(H2,\"/\",I2)","v":"6/4"},{"$f":"CONCATENATE(J2,\"/\",K2)","v":"9/4"},{"$f":"CONCATENATE(L2,\"/\",M2)","v":"19/10"},{"$f":"IF(A2=\"\",\"\",1+(H2/I2))","v":2.5},{"$f":"IF(C2=\"\",\"\",1+(J2/K2))","v":3.25},{"$f":"IF(D2=\"\",\"\",1+(L2/M2))","v":2.9}]
["2020-09-19",10,"Premier","Arsenal","West Ham",2,1,1,2,17,5,5,1,null,"Arsenal","West Ham","2","1","Arsenal  v  West Ham   1/2  17/5  5/1","Arsenal 2-1 West Ham ",{"$f":"V3&\"  \"&W3&\"  \"&X3","v":"1/2  17/5  5/1"},"1/2","17/5","5/1",{"$f":"IF(A3=\"\",\"\",1+(H3/I3))","v":1.5},{"$f":"IF(C3=\"\",\"\",1+(J3/K3))","v":4.4000000000000004},{"$f":"IF(D3=\"\",\"\",1+(L3/M3))","v":6}]
["2020-09-19",10,"Premier","Everton","West Brom",5,2,11,20,16,5,5,1,null,"Everton","West Brom","5","2","Everton  v  West Brom   11/20  16/5  5/1","Everton 5-2 West Brom ","11/20  16/5  5/1","11/20","16/5","5/1",1.55,4.2,6]
["2020-09-19",10,"Premier","Leeds","Fulham",4,3,8,13,3,1,9,2,null,"Leeds","Fulham","4","3","Leeds  v  Fulham   8/13  3/1  9/2","Leeds 4-3 Fulham ","8/13  3/1  9/2","8/13","3/1","9/2",1.6153846153846154,4,5.5]
["2020-09-19",10,"Premier","Man U","Palace",1,3,2,7,9,2,10,1,null,"Man U","Palace","1","3","Man U  v  Palace   2/7  9/2  10/1","Man U 1-3 Palace ","2/7  9/2  10/1","2/7","9/2","10/1",1.2857142857142856,5.5,11]
["2020-09-19",11,"Champ","Blackburn","Wycombe",5,0,4,7,3,1,5,1,null,{"$f":"TRIM(D7)","v":"Blackburn"},"Wycombe","5","0","Blackburn  v  Wycombe   4/7  3/1  5/1","Blackburn 5-0 Wycombe ","4/7  3/1  5/1","4/7","3/1","5/1",1.5714285714285714,4,6]
["2020-09-19",11,"Champ","Brentford","Huddersfield",3,0,11,20,14,5,6,1,null,"Brentford","Huddersfield","3","0","Brentford  v  Huddersfield   11/20  14/5  6/1","Brentford 3-0 Huddersfield ","11/20  14/5  6/1","11/20","14/5","6/1",1.55,3.8,7]
["2020-09-19",11,"Champ","Forest","Cardiff",0,2,29,20,11,5,2,1,null,"Forest","Cardiff","0","2","Forest  v  Cardiff   29/20  11/5  2/1","Forest 0-2 Cardiff ","29/20  11/5  2/1","29/20","11/5","2/1",2.4500000000000002,3.2,3]
["2020-09-19",11,"Champ","Luton","Derby",2,1,15,8,9,4,31,20,null,"Luton","Derby","2","1","Luton  v  Derby   15/8  9/4  31/20","Luton 2-1 Derby ","15/8  9/4  31/20","15/8","9/4","31/20",2.875,3.25,2.5499999999999998]
["2020-09-19",11,"Champ","Middlesbro","Bournemouth",1,1,17,10,11,5,17,10,null,"Middlesbro","Bournemouth","1","1","Middlesbro  v  Bournemouth   17/10  11/5  17/10","Middlesbro 1-1 Bournemouth ","17/10  11/5  17/10","17/10","11/5","17/10",2.7,3.2,2.7]
["2020-09-19",11,"Champ","Norwich","Preston",2,2,4,5,5,2,19,5,null,"Norwich","Preston","2","2","Norwich  v  Preston   4/5  5/2  19/5","Norwich 2-2 Preston ","4/5  5/2  19/5","4/5","5/2","19/5",1.8,3.5,4.8]
["2020-09-19",11,"Champ","Reading","Barnsley",2,0,7,5,23,10,2,1,null,"Reading","Barnsley","2","0","Reading  v  Barnsley   7/5  23/10  2/1","Reading 2-0 Barnsley ","7/5  23/10  2/1","7/5","23/10","2/1",2.4,3.3,3]
["2020-09-19",11,"Champ","Rotherham","Millwall",0,1,9,5,21,10,17,10,null,"Rotherham","Millwall","0","1","Rotherham  v  Millwall   9/5  21/10  17/10","Rotherham 0-1 Millwall ","9/5  21/10  17/10","9/5","21/10","17/10",2.8,3.1,2.7]
["2020-09-19",11,"Champ","Sheff W","Watford",0,0,19,10,11,5,31,20,null,"Sheff W","Watford","0","0","Sheff W  v  Watford   19/10  11/5  31/20","Sheff W 0-0 Watford ","19/10  11/5  31/20","19/10","11/5","31/20",2.9,3.2,2.5499999999999998]
["2020-09-19",11,"Champ","Swansea","Birmingham",0,0,11,10,11,5,14,5,null,"Swansea","Birmingham","0","0","Swansea  v  Birmingham   11/10  11/5  14/5","Swansea 0-0 Birmingham ","11/10  11/5  14/5","11/10","11/5","14/5",2.1,3.2,3.8]
["2020-09-19",12,"League 1","Blackpool","Swindon",2,0,23,20,23,10,5,2,null,"Blackpool","Swindon","2","0","Blackpool  v  Swindon   23/20  23/10  5/2","Blackpool 2-0 Swindon ","23/20  23/10  5/2","23/20","23/10","5/2",2.15,3.3,3.5]
["2020-09-19",12,"League 1","Bristol R","Ipswich",0,2,17,10,23,10,8,5,null,"Bristol R","Ipswich","0","2","Bristol R  v  Ipswich   17/10  23/10  8/5","Bristol R 0-2 Ipswich ","17/10  23/10  8/5","17/10","23/10","8/5",2.7,3.3,2.6]
["2020-09-19",12,"League 1","Burton","Accrington",2,1,27,20,23,10,2,1,null,"Burton","Accrington","2","1","Burton  v  Accrington   27/20  23/10  2/1","Burton 2-1 Accrington ","27/20  23/10  2/1","27/20","23/10","2/1",2.35,3.3,3]
["2020-09-19",12,"League 1","Charlton","Doncaster",1,3,1,1,12,5,27,10,null,"Charlton","Doncaster","1","3","Charlton  v  Doncaster   1/1  12/5  27/10","Charlton 1-3 Doncaster ","1/1  12/5  27/10","1/1","12/5","27/10",2,3.4,3.7]
["2020-09-19",12,"League 1","Hull","Crewe",1,0,19,20,13,5,11,4,null,"Hull","Crewe","1","0","Hull  v  Crewe   19/20  13/5  11/4","Hull 1-0 Crewe ","19/20  13/5  11/4","19/20","13/5","11/4",1.95,3.6,3.75]
["2020-09-19",12,"League 1","MK Dons","Lincoln",1,2,17,10,21,10,7,4,null,"MK Dons","Lincoln","1","2","MK Dons  v  Lincoln   17/10  21/10  7/4","MK Dons 1-2 Lincoln ","17/10  21/10  7/4","17/10","21/10","7/4",2.7,3.1,2.75]
["2020-09-19",12,"League 1","Oxford","Sunderland",0,2,31,20,11,5,9,5,null,"Oxford","Sunderland","0","2","Oxford  v  Sunderland   31/20  11/5  9/5","Oxford 0-2 Sunderland ","31/20  11/5  9/5","31/20","11/5","9/5",2.5499999999999998,3.2,2.8]
["2020-09-19",12,"League 1","Peterborough","Fleetwood",2,1,6,5,9,4,12,5,null,"Peterborough","Fleetwood","2","1","Peterborough  v  Fleetwood   6/5  9/4  12/5","Peterborough 2-1 Fleetwood ","6/5  9/4  12/5","6/5","9/4","12/5",2.2000000000000002,3.25,3.4]
["2020-09-19",12,"League 1","Shrewsbury","Northampton",1,2,6,5,11,5,12,5,null,"Shrewsbury","Northampton","1","2","Shrewsbury  v  Northampton   6/5  11/5  12/5","Shrewsbury 1-2 Northampton ","6/5  11/5  12/5","6/5","11/5","12/5",2.2000000000000002,3.2,3.4]
["2020-09-19",12,"League 1","Wimbledon","Plymouth",4,4,8,5,23,10,17,10,null,"Wimbledon","Plymouth","4","4","Wimbledon  v  Plymouth   8/5  23/10  17/10","Wimbledon 4-4 Plymouth ","8/5  23/10  17/10","8/5","23/10","17/10",2.6,3.3,2.7]
["2020-09-19",13,"League 2","Carlisle","Southend",2,0,21,20,12,5,13,5,null,"Carlisle","Southend","2","0","Carlisle  v  Southend   21/20  12/5  13/5","Carlisle 2-0 Southend ","21/20  12/5  13/5","21/20","12/5","13/5",2.0499999999999998,3.4,3.6]
["2020-09-19",13,"League 2","Colchester","Bolton",2,0,13,8,23,10,17,10,null,"Colchester","Bolton","2","0","Colchester  v  Bolton   13/8  23/10  17/10","Colchester 2-0 Bolton ","13/8  23/10  17/10","13/8","23/10","17/10",2.625,3.3,2.7]
["2020-09-19",13,"League 2","Crawley","Scunthorpe",1,0,13,10,23,10,21,10,null,"Crawley","Scunthorpe","1","0","Crawley  v  Scunthorpe   13/10  23/10  21/10","Crawley 1-0 Scunthorpe ","13/10  23/10  21/10","13/10","23/10","21/10",2.2999999999999998,3.3,3.1]
["2020-09-19",13,"League 2","Exeter","Port Vale",0,2,5,4,11,5,9,4,null,"Exeter","Port Vale","0","2","Exeter  v  Port Vale   5/4  11/5  9/4","Exeter 0-2 Port Vale ","5/4  11/5  9/4","5/4","11/5","9/4",2.25,3.2,3.25]
["2020-09-19",13,"League 2","Forest Green","Bradford",2,2,13,10,9,4,11,5,null,"Forest Green","Bradford","2","2","Forest Green  v  Bradford   13/10  9/4  11/5","Forest Green 2-2 Bradford ","13/10  9/4  11/5","13/10","9/4","11/5",2.2999999999999998,3.25,3.2]
["2020-09-19",13,"League 2","Grimsby","Salford",0,4,21,10,23,10,13,10,null,"Grimsby","Salford","0","4","Grimsby  v  Salford   21/10  23/10  13/10","Grimsby 0-4 Salford ","21/10  23/10  13/10","21/10","23/10","13/10",3.1,3.3,2.2999999999999998]
["2020-09-19",13,"League 2","Harrogate","Walsall",2,2,6,5,23,10,23,10,null,{"$f":"TRIM(D33)","v":"Harrogate"},{"$f":"TRIM(E33)","v":"Walsall"},{"$f":"TRIM(F33)","v":"2"},{"$f":"TRIM(G33)","v":"2"},"Harrogate  v  Walsall   6/5  23/10  23/10","Harrogate 2-2 Walsall ","6/5  23/10  23/10",{"$f":"CONCATENATE(H33,\"/\",I33)","v":"6/5"},{"$f":"CONCATENATE(J33,\"/\",K33)","v":"23/10"},{"$f":"CONCATENATE(L33,\"/\",M33)","v":"23/10"},2.2000000000000002,3.3,3.3]
["2020-09-19",13,"League 2","Morecambe","Cambridge",0,5,27,20,9,4,21,10,null,"Morecambe","Cambridge","0","5","Morecambe  v  Cambridge   27/20  9/4  21/10","Morecambe 0-5 Cambridge ","27/20  9/4  21/10","27/20","9/4","21/10",2.35,3.25,3.1]
["2020-09-19",13,"League 2","Newport","Barrow",2,1,5,4,11,5,23,10,null,"Newport","Barrow","2","1","Newport  v  Barrow   5/4  11/5  23/10","Newport 2-1 Barrow ","5/4  11/5  23/10","5/4","11/5","23/10",2.25,3.2,3.3]
["2020-09-19",13,"League 2","Orient","Mansfield",2,2,9,5,12,5,29,20,null,"Orient","Mansfield","2","2","Orient  v  Mansfield   9/5  12/5  29/20","Orient 2-2 Mansfield ","9/5  12/5  29/20","9/5","12/5","29/20",2.8,3.4,2.4500000000000002]
["2020-09-19",13,"League 2","Stevenage","Oldham",3,0,7,5,11,5,2,1,null,"Stevenage","Oldham","3","0","Stevenage  v  Oldham   7/5  11/5  2/1","Stevenage 3-0 Oldham ","7/5  11/5  2/1","7/5","11/5","2/1",2.4,3.2,3]
["2020-09-19",13,"League 2","Tranmere","Cheltenham",0,3,13,10,23,10,21,10,null,"Tranmere","Cheltenham","0","3","Tranmere  v  Cheltenham   13/10  23/10  21/10","Tranmere 0-3 Cheltenham ","13/10  23/10  21/10","13/10","23/10","21/10",2.2999999999999998,3.3,3.1]
["2020-09-20",10,"Premier","Chelsea","Liverpool",0,2,21,10,27,10,6,5,null,"Chelsea","Liverpool","0","2","Chelsea  v  Liverpool   21/10  27/10  6/5","Chelsea 0-2 Liverpool ","21/10  27/10  6/5","21/10","27/10","6/5",3.1,3.7,2.2000000000000002]
["2020-09-20",10,"Premier","Leicester","Burnley",4,2,13,20,14,5,9,2,null,"Leicester","Burnley","4","2","Leicester  v  Burnley   13/20  14/5  9/2","Leicester 4-2 Burnley ","13/20  14/5  9/2","13/20","14/5","9/2",1.65,3.8,5.5]
["2020-09-20",10,"Premier","Newcastle","Brighton",0,3,31,20,11,5,19,10,null,"Newcastle","Brighton","0","3","Newcastle  v  Brighton   31/20  11/5  19/10","Newcastle 0-3 Brighton ","31/20  11/5  19/10","31/20","11/5","19/10",2.5499999999999998,3.2,2.9]
["2020-09-20",10,"Premier","Southampton","Spurs",2,5,2,1,9,4,29,20,null,"Southampton","Spurs","2","5","Southampton  v  Spurs   2/1  9/4  29/20","Southampton 2-5 Spurs ","2/1  9/4  29/20","2/1","9/4","29/20",3,3.25,2.4500000000000002]
["2020-09-20",11,"Champ","Stoke","Bristol C",0,2,11,10,12,5,13,5,null,"Stoke","Bristol C","0","2","Stoke  v  Bristol C   11/10  12/5  13/5","Stoke 0-2 Bristol C ","11/10  12/5  13/5","11/10","12/5","13/5",2.1,3.4,3.6]
["2020-09-20",12,"League 1","Rochdale","Portsmouth",0,0,15,4,13,5,3,4,null,"Rochdale","Portsmouth","0","0","Rochdale  v  Portsmouth   15/4  13/5  3/4","Rochdale 0-0 Portsmouth ","15/4  13/5  3/4","15/4","13/5","3/4",4.75,3.6,1.75]
[null,null,null,null,null,null,null,null,null,null,null,null,null,null,"","","","",""," -  ",{"$f":"V45&\"  \"&W45&\"  \"&X45","v":"/  /  /"},"/","/","/","","",""]
[null,null,null,null,null,null,null,null,null,null,null,null,null,null,"","","","",""," -  ",{"$f":"V46&\"  \"&W46&\"  \"&X46","v":"/  /  /"},"/","/","/","","",""]
[null,null,null,null,null,null,null,null,null,null,null,null,null,null,"","","","","",{"$f":"O47&\" \"&Q47&\"-\"&R47&\" \"&P47","v":" - "},{"$f":"V47&\"  \"&W47&\"  \"&X47","v":"/  /  /"},"/","/","/","","",""]

{"sheet":"Picks","index":9,"n_rows":187,"n_cols":37,"rows_kept":187,"cut":false,"hidden":false,"merged":[]}
["Player","Prediction","Match Day","Decimal","Bet in?","Score","Max",{"$f":"entrants-SUM(H2:H187)","v":2},"Week\nRank","Wk1","Frac","Dec","Bet up ","Points","Wk2","Results",null,"Choices","Odds","Up","Home team","H Score","Away team","A Score",null,null,null,null,"`","This Week\nActual Score","This Week\nCorrect","Rank",null,"Player","This Week\nMax Score","This Week\nCorrect","Rank"]
[{"$f":"Results!B2","v":"Alan Rogers"},{"$f":"IF(J2=\"\",\"\",TRIM(CLEAN(J2)))","v":"Harrogate"},{"$f":"IF(J2=\"\",\"\",INDEX(Odds!B:B,MATCH(J2,Odds!F:F,0)))","v":"1900-01-07"},{"$f":"IF(J2=\"\",\"\",L2)","v":2.2000000000000002},{"$f":"IF(J2=\"\",\"\",IF(M2=1,\"√\",\"x\"))","v":"x"},{"$f":"IF(J2=\"\",-10,INDEX(Results!T:T,MATCH(A2,Results!V:V,0)))","v":-7},{"$f":"IF(J2=\"\",\"\",INDEX(Results!AI:AI,MATCH(A2,Results!V:V,0)))","v":43.072000000000003},{"$f":"IF(G2=\"\",0,1)","v":1},{"$f":"INDEX(Picks!AF:AF,MATCH(A2,Picks!AC:AC,0))","v":53},"Harrogate",{"$f":"INDEX(Odds!G:G,MATCH(J2,Odds!F:F,0))","v":"6/5"},{"$f":"INDEX(Odds!H:H,MATCH(J2,Odds!F:F,0))","v":2.2000000000000002},{"$f":"INDEX(Odds!I:I,MATCH(J2,Odds!F:F,0))","v":0},{"$f":"L2*M2","v":0},null,{"$f":"IF(Match!A2=\"\",\"\",Match!T2)","v":"Coventry 3-2 QPR "},null,{"$f":"IF(Odds!F2=\"\",\"\",Odds!F2)","v":"Coventry"},{"$f":"INDEX(Odds!G:G,MATCH(R2,Odds!F:F,0))","v":"6/4"},{"$f":"IF(V2>X2,1,0)","v":1},{"$f":"INDEX(Match!O:O,MATCH(P2,Match!T:T,0))","v":"Coventry"},{"$f":"INDEX(Match!F:F,MATCH(P2,Match!T:T,0))","v":3},{"$f":"INDEX(Match!P:P,MATCH(P2,Match!T:T,0))","v":"QPR"},{"$f":"INDEX(Match!G:G,MATCH(P2,Match!T:T,0))","v":2},null,null,null,null,"Paul Fairhurst",{"$f":"INDEX(Picks!F:F,MATCH(AC2,Picks!A:A,0))","v":208.72},{"$f":"INDEX(Weekly!I:I,MATCH(AC2,Weekly!E:E,0))","v":3},{"$f":"IF(AD2=\"\",\"\",_xlfn.RANK.EQ(AD2,TopScores,0))","v":1},null,"Gareth Fallows",{"$f":"INDEX(Picks!G:G,MATCH(AH2,Picks!A:A,0))","v":""},{"$f":"INDEX(Weekly!I:I,MATCH(AH2,Weekly!E:E,0))","v":0},{"$f":"IF(AI2=\"\",\"\",_xlfn.RANK.EQ(AI2,TopMaxScores,0))","v":""}]
[{"$f":"A2","v":"Alan Rogers"},{"$f":"IF(J3=\"\",\"\",J3)","v":"Orient"},{"$f":"IF(J3=\"\",\"\",INDEX(Odds!B:B,MATCH(J3,Odds!F:F,0)))","v":"1900-01-07"},{"$f":"IF(J3=\"\",\"\",L3)","v":2.8},{"$f":"IF(J3=\"\",\"\",IF(M3=1,\"√\",\"x\"))","v":"x"},null,null,null,null,"Orient",{"$f":"INDEX(Odds!G:G,MATCH(J3,Odds!F:F,0))","v":"9/5"},{"$f":"INDEX(Odds!H:H,MATCH(J3,Odds!F:F,0))","v":2.8},{"$f":"INDEX(Odds!I:I,MATCH(J3,Odds!F:F,0))","v":0},{"$f":"L3*M3","v":0},null,{"$f":"IF(Match!A3=\"\",\"\",Match!T3)","v":"Arsenal 2-1 West Ham "},null,{"$f":"IF(Odds!F3=\"\",\"\",Odds!F3)","v":"Arsenal"},{"$f":"INDEX(Odds!G:G,MATCH(R3,Odds!F:F,0))","v":"1/2"},1,{"$f":"INDEX(Match!O:O,MATCH(P3,Match!T:T,0))","v":"Arsenal"},{"$f":"INDEX(Match!F:F,MATCH(P3,Match!T:T,0))","v":2},{"$f":"INDEX(Match!P:P,MATCH(P3,Match!T:T,0))","v":"West Ham"},{"$f":"INDEX(Match!G:G,MATCH(P3,Match!T:T,0))","v":1},null,null,null,null,"Gerard Ventom",{"$f":"INDEX(Picks!F:F,MATCH(AC3,Picks!A:A,0))","v":164.8},{"$f":"INDEX(Weekly!I:I,MATCH(AC3,Weekly!E:E,0))","v":3},{"$f":"IF(AD3=\"\",\"\",_xlfn.RANK.EQ(AD3,TopScores,0))","v":2},null,"Tom Robinson",{"$f":"INDEX(Picks!G:G,MATCH(AH3,Picks!A:A,0))","v":""},{"$f":"INDEX(Weekly!I:I,MATCH(AH3,Weekly!E:E,0))","v":0},{"$f":"IF(AI3=\"\",\"\",_xlfn.RANK.EQ(AI3,TopMaxScores,0))","v":""}]
[{"$f":"A2","v":"Alan Rogers"},"Stevenage draw",{"$f":"IF(J4=\"\",\"\",INDEX(Odds!B:B,MATCH(J4,Odds!F:F,0)))","v":"1900-01-07"},3.2,"x",null,null,null,null,"Stevenage draw",{"$f":"INDEX(Odds!G:G,MATCH(J4,Odds!F:F,0))","v":"11/5"},{"$f":"INDEX(Odds!H:H,MATCH(J4,Odds!F:F,0))","v":3.2},{"$f":"INDEX(Odds!I:I,MATCH(J4,Odds!F:F,0))","v":0},{"$f":"L4*M4","v":0},null,{"$f":"IF(Match!A4=\"\",\"\",Match!T4)","v":"Everton 5-2 West Brom "},null,{"$f":"IF(Odds!F4=\"\",\"\",Odds!F4)","v":"Everton"},{"$f":"INDEX(Odds!G:G,MATCH(R4,Odds!F:F,0))","v":"11/20"},1,{"$f":"INDEX(Match!O:O,MATCH(P4,Match!T:T,0))","v":"Everton"},{"$f":"INDEX(Match!F:F,MATCH(P4,Match!T:T,0))","v":5},{"$f":"INDEX(Match!P:P,MATCH(P4,Match!T:T,0))","v":"West Brom"},{"$f":"INDEX(Match!G:G,MATCH(P4,Match!T:T,0))","v":2},null,null,null,null,"Chris Bow",{"$f":"INDEX(Picks!F:F,MATCH(AC4,Picks!A:A,0))","v":150.1},{"$f":"INDEX(Weekly!I:I,MATCH(AC4,Weekly!E:E,0))","v":3},{"$f":"IF(AD4=\"\",\"\",_xlfn.RANK.EQ(AD4,TopScores,0))","v":3},null,"Dave Bell",{"$f":"INDEX(Picks!G:G,MATCH(AH4,Picks!A:A,0))","v":538},{"$f":"INDEX(Weekly!I:I,MATCH(AH4,Weekly!E:E,0))","v":1},{"$f":"IF(AI4=\"\",\"\",_xlfn.RANK.EQ(AI4,TopMaxScores,0))","v":1}]
[{"$f":"Results!B5","v":"Alan White"},{"$f":"IF(J5=\"\",\"\",J5)","v":"Arsenal"},{"$f":"IF(J5=\"\",\"\",INDEX(Odds!B:B,MATCH(J5,Odds!F:F,0)))","v":"1900-01-07"},1.5,"√",{"$f":"IF(J5=\"\",-10,INDEX(Results!T:T,MATCH(A5,Results!V:V,0)))","v":-1.625},{"$f":"IF(J5=\"\",\"\",INDEX(Results!AI:AI,MATCH(A5,Results!V:V,0)))","v":14.631249999999998},{"$f":"IF(G5=\"\",0,1)","v":1},{"$f":"INDEX(Picks!AF:AF,MATCH(A5,Picks!AC:AC,0))","v":31},"Arsenal",{"$f":"INDEX(Odds!G:G,MATCH(J5,Odds!F:F,0))","v":"1/2"},{"$f":"INDEX(Odds!H:H,MATCH(J5,Odds!F:F,0))","v":1.5},{"$f":"INDEX(Odds!I:I,MATCH(J5,Odds!F:F,0))","v":1},{"$f":"L5*M5","v":1.5},null,{"$f":"IF(Match!A5=\"\",\"\",Match!T5)","v":"Leeds 4-3 Fulham "},null,{"$f":"IF(Odds!F5=\"\",\"\",Odds!F5)","v":"Leeds"},{"$f":"INDEX(Odds!G:G,MATCH(R5,Odds!F:F,0))","v":"8/13"},1,{"$f":"INDEX(Match!O:O,MATCH(P5,Match!T:T,0))","v":"Leeds"},{"$f":"INDEX(Match!F:F,MATCH(P5,Match!T:T,0))","v":4},{"$f":"INDEX(Match!P:P,MATCH(P5,Match!T:T,0))","v":"Fulham"},{"$f":"INDEX(Match!G:G,MATCH(P5,Match!T:T,0))","v":3},null,null,null,null,"Dave Orrell",{"$f":"INDEX(Picks!F:F,MATCH(AC5,Picks!A:A,0))","v":28.506249999999994},{"$f":"INDEX(Weekly!I:I,MATCH(AC5,Weekly!E:E,0))","v":3},{"$f":"IF(AD5=\"\",\"\",_xlfn.RANK.EQ(AD5,TopScores,0))","v":4},null,"Chris Townsend",{"$f":"INDEX(Picks!G:G,MATCH(AH5,Picks!A:A,0))","v":538},{"$f":"INDEX(Weekly!I:I,MATCH(AH5,Weekly!E:E,0))","v":1},{"$f":"IF(AI5=\"\",\"\",_xlfn.RANK.EQ(AI5,TopMaxScores,0))","v":1}]
[{"$f":"A5","v":"Alan White"},"Everton",{"$f":"IF(J6=\"\",\"\",INDEX(Odds!B:B,MATCH(J6,Odds!F:F,0)))","v":"1900-01-07"},1.55,"√",null,null,null,null,"Everton",{"$f":"INDEX(Odds!G:G,MATCH(J6,Odds!F:F,0))","v":"11/20"},{"$f":"INDEX(Odds!H:H,MATCH(J6,Odds!F:F,0))","v":1.55},{"$f":"INDEX(Odds!I:I,MATCH(J6,Odds!F:F,0))","v":1},1.55,null,{"$f":"IF(Match!A6=\"\",\"\",Match!T6)","v":"Man U 1-3 Palace "},null,{"$f":"IF(Odds!F6=\"\",\"\",Odds!F6)","v":"Man U"},{"$f":"INDEX(Odds!G:G,MATCH(R6,Odds!F:F,0))","v":"2/7"},0,{"$f":"INDEX(Match!O:O,MATCH(P6,Match!T:T,0))","v":"Man U"},{"$f":"INDEX(Match!F:F,MATCH(P6,Match!T:T,0))","v":1},{"$f":"INDEX(Match!P:P,MATCH(P6,Match!T:T,0))","v":"Palace"},{"$f":"INDEX(Match!G:G,MATCH(P6,Match!T:T,0))","v":3},null,null,null,null,"Charlie Griffiths",{"$f":"INDEX(Picks!F:F,MATCH(AC6,Picks!A:A,0))","v":10.919999999999998},{"$f":"INDEX(Weekly!I:I,MATCH(AC6,Weekly!E:E,0))","v":2},{"$f":"IF(AD6=\"\",\"\",_xlfn.RANK.EQ(AD6,TopScores,0))","v":5},null,"Paul Fairhurst",{"$f":"INDEX(Picks!G:G,MATCH(AH6,Picks!A:A,0))","v":208.72},{"$f":"INDEX(Weekly!I:I,MATCH(AH6,Weekly!E:E,0))","v":3},{"$f":"IF(AI6=\"\",\"\",_xlfn.RANK.EQ(AI6,TopMaxScores,0))","v":3}]
[{"$f":"A5","v":"Alan White"},"Newcastle",{"$f":"IF(J7=\"\",\"\",INDEX(Odds!B:B,MATCH(J7,Odds!F:F,0)))","v":"1900-01-01"},2.5499999999999998,"x",null,null,null,null,"Newcastle",{"$f":"INDEX(Odds!G:G,MATCH(J7,Odds!F:F,0))","v":"31/20"},{"$f":"INDEX(Odds!H:H,MATCH(J7,Odds!F:F,0))","v":2.5499999999999998},{"$f":"INDEX(Odds!I:I,MATCH(J7,Odds!F:F,0))","v":0},0,null,{"$f":"IF(Match!A7=\"\",\"\",Match!T7)","v":"Blackburn 5-0 Wycombe "},null,{"$f":"IF(Odds!F7=\"\",\"\",Odds!F7)","v":"Blackburn"},{"$f":"INDEX(Odds!G:G,MATCH(R7,Odds!F:F,0))","v":"4/7"},1,{"$f":"INDEX(Match!O:O,MATCH(P7,Match!T:T,0))","v":"Blackburn"},{"$f":"INDEX(Match!F:F,MATCH(P7,Match!T:T,0))","v":5},{"$f":"INDEX(Match!P:P,MATCH(P7,Match!T:T,0))","v":"Wycombe"},{"$f":"INDEX(Match!G:G,MATCH(P7,Match!T:T,0))","v":0},null,null,null,null,"Alick Rocca",{"$f":"INDEX(Picks!F:F,MATCH(AC7,Picks!A:A,0))","v":10.806250000000002},{"$f":"INDEX(Weekly!I:I,MATCH(AC7,Weekly!E:E,0))","v":3},{"$f":"IF(AD7=\"\",\"\",_xlfn.RANK.EQ(AD7,TopScores,0))","v":6},null,"Gerard Ventom",{"$f":"INDEX(Picks!G:G,MATCH(AH7,Picks!A:A,0))","v":164.8},{"$f":"INDEX(Weekly!I:I,MATCH(AH7,Weekly!E:E,0))","v":3},{"$f":"IF(AI7=\"\",\"\",_xlfn.RANK.EQ(AI7,TopMaxScores,0))","v":4}]
[{"$f":"Results!B8","v":"Alfie Davies"},"Everton Draw",{"$f":"IF(J8=\"\",\"\",INDEX(Odds!B:B,MATCH(J8,Odds!F:F,0)))","v":"1900-01-07"},4.2,"x",{"$f":"IF(J8=\"\",-10,INDEX(Results!T:T,MATCH(A8,Results!V:V,0)))","v":-7},{"$f":"IF(J8=\"\",\"\",INDEX(Results!AI:AI,MATCH(A8,Results!V:V,0)))","v":84.820000000000007},{"$f":"IF(G8=\"\",0,1)","v":1},{"$f":"INDEX(Picks!AF:AF,MATCH(A8,Picks!AC:AC,0))","v":53},"Everton Draw",{"$f":"INDEX(Odds!G:G,MATCH(J8,Odds!F:F,0))","v":"16/5"},{"$f":"INDEX(Odds!H:H,MATCH(J8,Odds!F:F,0))","v":4.2},{"$f":"INDEX(Odds!I:I,MATCH(J8,Odds!F:F,0))","v":0},0,null,{"$f":"IF(Match!A8=\"\",\"\",Match!T8)","v":"Brentford 3-0 Huddersfield "},null,{"$f":"IF(Odds!F8=\"\",\"\",Odds!F8)","v":"Brentford"},{"$f":"INDEX(Odds!G:G,MATCH(R8,Odds!F:F,0))","v":"11/20"},1,{"$f":"INDEX(Match!O:O,MATCH(P8,Match!T:T,0))","v":"Brentford"},{"$f":"INDEX(Match!F:F,MATCH(P8,Match!T:T,0))","v":3},{"$f":"INDEX(Match!P:P,MATCH(P8,Match!T:T,0))","v":"Huddersfield"},{"$f":"INDEX(Match!G:G,MATCH(P8,Match!T:T,0))","v":0},null,null,null,null,"Kevin Carter",{"$f":"INDEX(Picks!F:F,MATCH(AC8,Picks!A:A,0))","v":8.6730769230769234},{"$f":"INDEX(Weekly!I:I,MATCH(AC8,Weekly!E:E,0))","v":3},{"$f":"IF(AD8=\"\",\"\",_xlfn.RANK.EQ(AD8,TopScores,0))","v":7},null,"Chris Bow",{"$f":"INDEX(Picks!G:G,MATCH(AH8,Picks!A:A,0))","v":150.1},{"$f":"INDEX(Weekly!I:I,MATCH(AH8,Weekly!E:E,0))","v":3},{"$f":"IF(AI8=\"\",\"\",_xlfn.RANK.EQ(AI8,TopMaxScores,0))","v":5}]
[{"$f":"A8","v":"Alfie Davies"},"Newcastle Draw",{"$f":"IF(J9=\"\",\"\",INDEX(Odds!B:B,MATCH(J9,Odds!F:F,0)))","v":"1900-01-01"},3.2,"x",null,null,null,null,"Newcastle Draw",{"$f":"INDEX(Odds!G:G,MATCH(J9,Odds!F:F,0))","v":"11/5"},{"$f":"INDEX(Odds!H:H,MATCH(J9,Odds!F:F,0))","v":3.2},{"$f":"INDEX(Odds!I:I,MATCH(J9,Odds!F:F,0))","v":0},0,null,{"$f":"IF(Match!A9=\"\",\"\",Match!T9)","v":"Forest 0-2 Cardiff "},null,{"$f":"IF(Odds!F9=\"\",\"\",Odds!F9)","v":"Forest"},{"$f":"INDEX(Odds!G:G,MATCH(R9,Odds!F:F,0))","v":"29/20"},0,{"$f":"INDEX(Match!O:O,MATCH(P9,Match!T:T,0))","v":"Forest"},{"$f":"INDEX(Match!F:F,MATCH(P9,Match!T:T,0))","v":0},{"$f":"INDEX(Match!P:P,MATCH(P9,Match!T:T,0))","v":"Cardiff"},{"$f":"INDEX(Match!G:G,MATCH(P9,Match!T:T,0))","v":2},null,null,null,null,"Paul Barnes",{"$f":"INDEX(Picks!F:F,MATCH(AC9,Picks!A:A,0))","v":8.6730769230769234},{"$f":"INDEX(Weekly!I:I,MATCH(AC9,Weekly!E:E,0))","v":3},{"$f":"IF(AD9=\"\",\"\",_xlfn.RANK.EQ(AD9,TopScores,0))","v":7},null,"James Bell",{"$f":"INDEX(Picks!G:G,MATCH(AH9,Picks!A:A,0))","v":140},{"$f":"INDEX(Weekly!I:I,MATCH(AH9,Weekly!E:E,0))","v":0},{"$f":"IF(AI9=\"\",\"\",_xlfn.RANK.EQ(AI9,TopMaxScores,0))","v":6}]
[{"$f":"A8","v":"Alfie Davies"},"Southampton Draw",{"$f":"IF(J10=\"\",\"\",INDEX(Odds!B:B,MATCH(J10,Odds!F:F,0)))","v":"1900-01-01"},3.25,"x",null,null,null,null,"Southampton Draw",{"$f":"INDEX(Odds!G:G,MATCH(J10,Odds!F:F,0))","v":"9/4"},{"$f":"INDEX(Odds!H:H,MATCH(J10,Odds!F:F,0))","v":3.25},{"$f":"INDEX(Odds!I:I,MATCH(J10,Odds!F:F,0))","v":0},0,null,{"$f":"IF(Match!A10=\"\",\"\",Match!T10)","v":"Luton 2-1 Derby "},null,{"$f":"IF(Odds!F10=\"\",\"\",Odds!F10)","v":"Luton"},{"$f":"INDEX(Odds!G:G,MATCH(R10,Odds!F:F,0))","v":"15/8"},1,{"$f":"INDEX(Match!O:O,MATCH(P10,Match!T:T,0))","v":"Luton"},{"$f":"INDEX(Match!F:F,MATCH(P10,Match!T:T,0))","v":2},{"$f":"INDEX(Match!P:P,MATCH(P10,Match!T:T,0))","v":"Derby"},{"$f":"INDEX(Match!G:G,MATCH(P10,Match!T:T,0))","v":1},null,null,null,null,"Stephen Barr",{"$f":"INDEX(Picks!F:F,MATCH(AC10,Picks!A:A,0))","v":6.7200000000000024},{"$f":"INDEX(Weekly!I:I,MATCH(AC10,Weekly!E:E,0))","v":2},{"$f":"IF(AD10=\"\",\"\",_xlfn.RANK.EQ(AD10,TopScores,0))","v":9},null,"Alfie Davies",{"$f":"INDEX(Picks!G:G,MATCH(AH10,Picks!A:A,0))","v":84.820000000000007},{"$f":"INDEX(Weekly!I:I,MATCH(AH10,Weekly!E:E,0))","v":0},{"$f":"IF(AI10=\"\",\"\",_xlfn.RANK.EQ(AI10,TopMaxScores,0))","v":7}]
[{"$f":"Results!B11","v":"Alick Rocca"},"Arsenal",{"$f":"IF(J11=\"\",\"\",INDEX(Odds!B:B,MATCH(J11,Odds!F:F,0)))","v":"1900-01-07"},1.5,"√",{"$f":"IF(J11=\"\",-10,INDEX(Results!T:T,MATCH(A11,Results!V:V,0)))","v":10.806250000000002},{"$f":"IF(J11=\"\",\"\",INDEX(Results!AI:AI,MATCH(A11,Results!V:V,0)))","v":10.806250000000002},{"$f":"IF(G11=\"\",0,1)","v":1},{"$f":"INDEX(Picks!AF:AF,MATCH(A11,Picks!AC:AC,0))","v":6},"Arsenal",{"$f":"INDEX(Odds!G:G,MATCH(J11,Odds!F:F,0))","v":"1/2"},{"$f":"INDEX(Odds!H:H,MATCH(J11,Odds!F:F,0))","v":1.5},{"$f":"INDEX(Odds!I:I,MATCH(J11,Odds!F:F,0))","v":1},1.5,null,{"$f":"IF(Match!A11=\"\",\"\",Match!T11)","v":"Middlesbro 1-1 Bournemouth "},null,{"$f":"IF(Odds!F11=\"\",\"\",Odds!F11)","v":"Middlesbro"},{"$f":"INDEX(Odds!G:G,MATCH(R11,Odds!F:F,0))","v":"17/10"},0,{"$f":"INDEX(Match!O:O,MATCH(P11,Match!T:T,0))","v":"Middlesbro"},{"$f":"INDEX(Match!F:F,MATCH(P11,Match!T:T,0))","v":1},{"$f":"INDEX(Match!P:P,MATCH(P11,Match!T:T,0))","v":"Bournemouth"},{"$f":"INDEX(Match!G:G,MATCH(P11,Match!T:T,0))","v":1},null,null,null,null,"Mal Stott",{"$f":"INDEX(Picks!F:F,MATCH(AC11,Picks!A:A,0))","v":5.9499999999999993},{"$f":"INDEX(Weekly!I:I,MATCH(AC11,Weekly!E:E,0))","v":2},{"$f":"IF(AD11=\"\",\"\",_xlfn.RANK.EQ(AD11,TopScores,0))","v":10},null,"Charlie Griffiths",{"$f":"INDEX(Picks!G:G,MATCH(AH11,Picks!A:A,0))","v":73.355999999999995},{"$f":"INDEX(Weekly!I:I,MATCH(AH11,Weekly!E:E,0))","v":2},{"$f":"IF(AI11=\"\",\"\",_xlfn.RANK.EQ(AI11,TopMaxScores,0))","v":8}]
[{"$f":"A11","v":"Alick Rocca"},"Everton",{"$f":"IF(J12=\"\",\"\",INDEX(Odds!B:B,MATCH(J12,Odds!F:F,0)))","v":"1900-01-07"},1.55,"√",null,null,null,null,"Everton",{"$f":"INDEX(Odds!G:G,MATCH(J12,Odds!F:F,0))","v":"11/20"},{"$f":"INDEX(Odds!H:H,MATCH(J12,Odds!F:F,0))","v":1.55},{"$f":"INDEX(Odds!I:I,MATCH(J12,Odds!F:F,0))","v":1},1.55,null,{"$f":"IF(Match!A12=\"\",\"\",Match!T12)","v":"Norwich 2-2 Preston "},null,{"$f":"IF(Odds!F12=\"\",\"\",Odds!F12)","v":"Norwich"},{"$f":"INDEX(Odds!G:G,MATCH(R12,Odds!F:F,0))","v":"4/5"},0,{"$f":"INDEX(Match!O:O,MATCH(P12,Match!T:T,0))","v":"Norwich"},{"$f":"INDEX(Match!F:F,MATCH(P12,Match!T:T,0))","v":2},{"$f":"INDEX(Match!P:P,MATCH(P12,Match!T:T,0))","v":"Preston"},{"$f":"INDEX(Match!G:G,MATCH(P12,Match!T:T,0))","v":2},null,null,null,null,"Chris Luck",{"$f":"INDEX(Picks!F:F,MATCH(AC12,Picks!A:A,0))","v":5.1750000000000007},{"$f":"INDEX(Weekly!I:I,MATCH(AC12,Weekly!E:E,0))","v":2},{"$f":"IF(AD12=\"\",\"\",_xlfn.RANK.EQ(AD12,TopScores,0))","v":11},null,"Liam Wah",{"$f":"INDEX(Picks!G:G,MATCH(AH12,Picks!A:A,0))","v":65.84},{"$f":"INDEX(Weekly!I:I,MATCH(AH12,Weekly!E:E,0))","v":1},{"$f":"IF(AI12=\"\",\"\",_xlfn.RANK.EQ(AI12,TopMaxScores,0))","v":9}]
[{"$f":"A11","v":"Alick Rocca"},{"$f":"IF(J13=\"\",\"\",J13)","v":"Hull"},{"$f":"IF(J13=\"\",\"\",INDEX(Odds!B:B,MATCH(J13,Odds!F:F,0)))","v":"1900-01-07"},1.95,"√",null,null,null,null,"Hull",{"$f":"INDEX(Odds!G:G,MATCH(J13,Odds!F:F,0))","v":"19/20"},{"$f":"INDEX(Odds!H:H,MATCH(J13,Odds!F:F,0))","v":1.95},{"$f":"INDEX(Odds!I:I,MATCH(J13,Odds!F:F,0))","v":1},1.95,null,{"$f":"IF(Match!A13=\"\",\"\",Match!T13)","v":"Reading 2-0 Barnsley "},null,{"$f":"IF(Odds!F13=\"\",\"\",Odds!F13)","v":"Reading"},{"$f":"INDEX(Odds!G:G,MATCH(R13,Odds!F:F,0))","v":"7/5"},1,{"$f":"INDEX(Match!O:O,MATCH(P13,Match!T:T,0))","v":"Reading"},{"$f":"INDEX(Match!F:F,MATCH(P13,Match!T:T,0))","v":2},{"$f":"INDEX(Match!P:P,MATCH(P13,Match!T:T,0))","v":"Barnsley"},{"$f":"INDEX(Match!G:G,MATCH(P13,Match!T:T,0))","v":0},null,null,null,null,"Chris Townsend",{"$f":"INDEX(Picks!F:F,MATCH(AC13,Picks!A:A,0))","v":4},{"$f":"INDEX(Weekly!I:I,MATCH(AC13,Weekly!E:E,0))","v":1},{"$f":"IF(AD13=\"\",\"\",_xlfn.RANK.EQ(AD13,TopScores,0))","v":12},null,"Ian Davies",{"$f":"INDEX(Picks!G:G,MATCH(AH13,Picks!A:A,0))","v":63.028750000000002},{"$f":"INDEX(Weekly!I:I,MATCH(AH13,Weekly!E:E,0))","v":1},{"$f":"IF(AI13=\"\",\"\",_xlfn.RANK.EQ(AI13,TopMaxScores,0))","v":10}]
[{"$f":"Results!B14","v":"Andy Charleston"},"Newcastle",{"$f":"IF(J14=\"\",\"\",INDEX(Odds!B:B,MATCH(J14,Odds!F:F,0)))","v":"1900-01-01"},2.5499999999999998,"x",{"$f":"IF(J14=\"\",-10,INDEX(Results!T:T,MATCH(A14,Results!V:V,0)))","v":-4.55},{"$f":"IF(J14=\"\",\"\",INDEX(Results!AI:AI,MATCH(A14,Results!V:V,0)))","v":29.96725},{"$f":"IF(G14=\"\",0,1)","v":1},{"$f":"INDEX(Picks!AF:AF,MATCH(A14,Picks!AC:AC,0))","v":36},"Newcastle",{"$f":"INDEX(Odds!G:G,MATCH(J14,Odds!F:F,0))","v":"31/20"},{"$f":"INDEX(Odds!H:H,MATCH(J14,Odds!F:F,0))","v":2.5499999999999998},{"$f":"INDEX(Odds!I:I,MATCH(J14,Odds!F:F,0))","v":0},0,null,{"$f":"IF(Match!A14=\"\",\"\",Match!T14)","v":"Rotherham 0-1 Millwall "},null,{"$f":"IF(Odds!F14=\"\",\"\",Odds!F14)","v":"Rotherham"},{"$f":"INDEX(Odds!G:G,MATCH(R14,Odds!F:F,0))","v":"9/5"},0,{"$f":"INDEX(Match!O:O,MATCH(P14,Match!T:T,0))","v":"Rotherham"},{"$f":"INDEX(Match!F:F,MATCH(P14,Match!T:T,0))","v":0},{"$f":"INDEX(Match!P:P,MATCH(P14,Match!T:T,0))","v":"Millwall"},{"$f":"INDEX(Match!G:G,MATCH(P14,Match!T:T,0))","v":1},null,null,null,null,"Dave Bell",{"$f":"INDEX(Picks!F:F,MATCH(AC14,Picks!A:A,0))","v":4},{"$f":"INDEX(Weekly!I:I,MATCH(AC14,Weekly!E:E,0))","v":1},{"$f":"IF(AD14=\"\",\"\",_xlfn.RANK.EQ(AD14,TopScores,0))","v":12},null,"Dan Baxter",{"$f":"INDEX(Picks!G:G,MATCH(AH14,Picks!A:A,0))","v":60.040000000000006},{"$f":"INDEX(Weekly!I:I,MATCH(AH14,Weekly!E:E,0))","v":0},{"$f":"IF(AI14=\"\",\"\",_xlfn.RANK.EQ(AI14,TopMaxScores,0))","v":11}]
[{"$f":"A14","v":"Andy Charleston"},"Spurs",{"$f":"IF(J15=\"\",\"\",INDEX(Odds!B:B,MATCH(J15,Odds!F:F,0)))","v":"1900-01-01"},2.4500000000000002,"√",null,null,null,null,"Spurs",{"$f":"INDEX(Odds!G:G,MATCH(J15,Odds!F:F,0))","v":"29/20"},{"$f":"INDEX(Odds!H:H,MATCH(J15,Odds!F:F,0))","v":2.4500000000000002},{"$f":"INDEX(Odds!I:I,MATCH(J15,Odds!F:F,0))","v":1},2.4500000000000002,null,{"$f":"IF(Match!A15=\"\",\"\",Match!T15)","v":"Sheff W 0-0 Watford "},null,{"$f":"IF(Odds!F15=\"\",\"\",Odds!F15)","v":"Sheff W"},{"$f":"INDEX(Odds!G:G,MATCH(R15,Odds!F:F,0))","v":"19/10"},0,{"$f":"INDEX(Match!O:O,MATCH(P15,Match!T:T,0))","v":"Sheff W"},{"$f":"INDEX(Match!F:F,MATCH(P15,Match!T:T,0))","v":0},{"$f":"INDEX(Match!P:P,MATCH(P15,Match!T:T,0))","v":"Watford"},{"$f":"INDEX(Match!G:G,MATCH(P15,Match!T:T,0))","v":0},null,null,null,null,"Vinny Topping",{"$f":"INDEX(Picks!F:F,MATCH(AC15,Picks!A:A,0))","v":3.0625},{"$f":"INDEX(Weekly!I:I,MATCH(AC15,Weekly!E:E,0))","v":2},{"$f":"IF(AD15=\"\",\"\",_xlfn.RANK.EQ(AD15,TopScores,0))","v":14},null,"Sally Williams",{"$f":"INDEX(Picks!G:G,MATCH(AH15,Picks!A:A,0))","v":58.215000000000003},{"$f":"INDEX(Weekly!I:I,MATCH(AH15,Weekly!E:E,0))","v":0},{"$f":"IF(AI15=\"\",\"\",_xlfn.RANK.EQ(AI15,TopMaxScores,0))","v":12}]
[{"$f":"A14","v":"Andy Charleston"},"Stoke",{"$f":"IF(J16=\"\",\"\",INDEX(Odds!B:B,MATCH(J16,Odds!F:F,0)))","v":"1900-01-01"},2.1,"x",null,null,null,null,"Stoke",{"$f":"INDEX(Odds!G:G,MATCH(J16,Odds!F:F,0))","v":"11/10"},{"$f":"INDEX(Odds!H:H,MATCH(J16,Odds!F:F,0))","v":2.1},{"$f":"INDEX(Odds!I:I,MATCH(J16,Odds!F:F,0))","v":0},0,null,{"$f":"IF(Match!A16=\"\",\"\",Match!T16)","v":"Swansea 0-0 Birmingham "},null,{"$f":"IF(Odds!F16=\"\",\"\",Odds!F16)","v":"Swansea"},{"$f":"INDEX(Odds!G:G,MATCH(R16,Odds!F:F,0))","v":"11/10"},0,{"$f":"INDEX(Match!O:O,MATCH(P16,Match!T:T,0))","v":"Swansea"},{"$f":"INDEX(Match!F:F,MATCH(P16,Match!T:T,0))","v":0},{"$f":"INDEX(Match!P:P,MATCH(P16,Match!T:T,0))","v":"Birmingham"},{"$f":"INDEX(Match!G:G,MATCH(P16,Match!T:T,0))","v":0},null,null,null,null,"Nigel Heyes",{"$f":"INDEX(Picks!F:F,MATCH(AC16,Picks!A:A,0))","v":2.0299999999999994},{"$f":"INDEX(Weekly!I:I,MATCH(AC16,Weekly!E:E,0))","v":2},{"$f":"IF(AD16=\"\",\"\",_xlfn.RANK.EQ(AD16,TopScores,0))","v":15},null,"Mark Bunn",{"$f":"INDEX(Picks!G:G,MATCH(AH16,Picks!A:A,0))","v":55.647999999999996},{"$f":"INDEX(Weekly!I:I,MATCH(AH16,Weekly!E:E,0))","v":1},{"$f":"IF(AI16=\"\",\"\",_xlfn.RANK.EQ(AI16,TopMaxScores,0))","v":13}]
[{"$f":"Results!B17","v":"Andy White"},"Spurs",{"$f":"IF(J17=\"\",\"\",INDEX(Odds!B:B,MATCH(J17,Odds!F:F,0)))","v":"1900-01-01"},2.4500000000000002,"√",{"$f":"IF(J17=\"\",-10,INDEX(Results!T:T,MATCH(A17,Results!V:V,0)))","v":-4.55},{"$f":"IF(J17=\"\",\"\",INDEX(Results!AI:AI,MATCH(A17,Results!V:V,0)))","v":49.563250000000011},{"$f":"IF(G17=\"\",0,1)","v":1},{"$f":"INDEX(Picks!AF:AF,MATCH(A17,Picks!AC:AC,0))","v":36},"Spurs",{"$f":"INDEX(Odds!G:G,MATCH(J17,Odds!F:F,0))","v":"29/20"},{"$f":"INDEX(Odds!H:H,MATCH(J17,Odds!F:F,0))","v":2.4500000000000002},{"$f":"INDEX(Odds!I:I,MATCH(J17,Odds!F:F,0))","v":1},2.4500000000000002,null,{"$f":"IF(Match!A17=\"\",\"\",Match!T17)","v":"Blackpool 2-0 Swindon "},null,{"$f":"IF(Odds!F17=\"\",\"\",Odds!F17)","v":"Blackpool"},{"$f":"INDEX(Odds!G:G,MATCH(R17,Odds!F:F,0))","v":"23/20"},1,{"$f":"INDEX(Match!O:O,MATCH(P17,Match!T:T,0))","v":"Blackpool"},{"$f":"INDEX(Match!F:F,MATCH(P17,Match!T:T,0))","v":2},{"$f":"INDEX(Match!P:P,MATCH(P17,Match!T:T,0))","v":"Swindon"},{"$f":"INDEX(Match!G:G,MATCH(P17,Match!T:T,0))","v":0},null,null,null,null,"Lennie Bow",{"$f":"INDEX(Picks!F:F,MATCH(AC17,Picks!A:A,0))","v":1.8812499999999996},{"$f":"INDEX(Weekly!I:I,MATCH(AC17,Weekly!E:E,0))","v":2},{"$f":"IF(AD17=\"\",\"\",_xlfn.RANK.EQ(AD17,TopScores,0))","v":16},null,"Andy White",{"$f":"INDEX(Picks!G:G,MATCH(AH17,Picks!A:A,0))","v":49.563250000000011},{"$f":"INDEX(Weekly!I:I,MATCH(AH17,Weekly!E:E,0))","v":1},{"$f":"IF(AI17=\"\",\"\",_xlfn.RANK.EQ(AI17,TopMaxScores,0))","v":14}]
[{"$f":"A17","v":"Andy White"},{"$f":"IF(J18=\"\",\"\",J18)","v":"Newcastle"},{"$f":"IF(J18=\"\",\"\",INDEX(Odds!B:B,MATCH(J18,Odds!F:F,0)))","v":"1900-01-01"},2.5499999999999998,"x",null,null,null,null,"Newcastle",{"$f":"INDEX(Odds!G:G,MATCH(J18,Odds!F:F,0))","v":"31/20"},{"$f":"INDEX(Odds!H:H,MATCH(J18,Odds!F:F,0))","v":2.5499999999999998},{"$f":"INDEX(Odds!I:I,MATCH(J18,Odds!F:F,0))","v":0},0,null,{"$f":"IF(Match!A18=\"\",\"\",Match!T18)","v":"Bristol R 0-2 Ipswich "},null,{"$f":"IF(Odds!F18=\"\",\"\",Odds!F18)","v":"Bristol R"},{"$f":"INDEX(Odds!G:G,MATCH(R18,Odds!F:F,0))","v":"17/10"},0,{"$f":"INDEX(Match!O:O,MATCH(P18,Match!T:T,0))","v":"Bristol R"},{"$f":"INDEX(Match!F:F,MATCH(P18,Match!T:T,0))","v":0},{"$f":"INDEX(Match!P:P,MATCH(P18,Match!T:T,0))","v":"Ipswich"},{"$f":"INDEX(Match!G:G,MATCH(P18,Match!T:T,0))","v":2},null,null,null,null,"Paul Fiddler",{"$f":"INDEX(Picks!F:F,MATCH(AC18,Picks!A:A,0))","v":1.2925000000000004},{"$f":"INDEX(Weekly!I:I,MATCH(AC18,Weekly!E:E,0))","v":2},{"$f":"IF(AD18=\"\",\"\",_xlfn.RANK.EQ(AD18,TopScores,0))","v":17},null,"Kei Lok Ma",{"$f":"INDEX(Picks!G:G,MATCH(AH18,Picks!A:A,0))","v":47.823749999999997},{"$f":"INDEX(Weekly!I:I,MATCH(AH18,Weekly!E:E,0))","v":0},{"$f":"IF(AI18=\"\",\"\",_xlfn.RANK.EQ(AI18,TopMaxScores,0))","v":15}]
[{"$f":"A17","v":"Andy White"},"Chelsea draw",{"$f":"IF(J19=\"\",\"\",INDEX(Odds!B:B,MATCH(J19,Odds!F:F,0)))","v":"1900-01-01"},3.7,"x",null,null,null,null,"Chelsea draw",{"$f":"INDEX(Odds!G:G,MATCH(J19,Odds!F:F,0))","v":"27/10"},{"$f":"INDEX(Odds!H:H,MATCH(J19,Odds!F:F,0))","v":3.7},{"$f":"INDEX(Odds!I:I,MATCH(J19,Odds!F:F,0))","v":0},0,null,{"$f":"IF(Match!A19=\"\",\"\",Match!T19)","v":"Burton 2-1 Accrington "},null,{"$f":"IF(Odds!F19=\"\",\"\",Odds!F19)","v":"Burton"},{"$f":"INDEX(Odds!G:G,MATCH(R19,Odds!F:F,0))","v":"27/20"},1,{"$f":"INDEX(Match!O:O,MATCH(P19,Match!T:T,0))","v":"Burton"},{"$f":"INDEX(Match!F:F,MATCH(P19,Match!T:T,0))","v":2},{"$f":"INDEX(Match!P:P,MATCH(P19,Match!T:T,0))","v":"Accrington"},{"$f":"INDEX(Match!G:G,MATCH(P19,Match!T:T,0))","v":1},null,null,null,null,"Jack Walsh",{"$f":"INDEX(Picks!F:F,MATCH(AC19,Picks!A:A,0))","v":0.6307692307692303},{"$f":"INDEX(Weekly!I:I,MATCH(AC19,Weekly!E:E,0))","v":2},{"$f":"IF(AD19=\"\",\"\",_xlfn.RANK.EQ(AD19,TopScores,0))","v":18},null,"Mike Penk",{"$f":"INDEX(Picks!G:G,MATCH(AH19,Picks!A:A,0))","v":44.540000000000006},{"$f":"INDEX(Weekly!I:I,MATCH(AH19,Weekly!E:E,0))","v":1},{"$f":"IF(AI19=\"\",\"\",_xlfn.RANK.EQ(AI19,TopMaxScores,0))","v":16}]
[{"$f":"Results!B20","v":"Ashley Houghton"},"Arsenal",{"$f":"IF(J20=\"\",\"\",INDEX(Odds!B:B,MATCH(J20,Odds!F:F,0)))","v":"1900-01-07"},1.5,"√",{"$f":"IF(J20=\"\",-10,INDEX(Results!T:T,MATCH(A20,Results!V:V,0)))","v":-0.625},{"$f":"IF(J20=\"\",\"\",INDEX(Results!AI:AI,MATCH(A20,Results!V:V,0)))","v":14.862500000000001},{"$f":"IF(G20=\"\",0,1)","v":1},{"$f":"INDEX(Picks!AF:AF,MATCH(A20,Picks!AC:AC,0))","v":22},"Arsenal",{"$f":"INDEX(Odds!G:G,MATCH(J20,Odds!F:F,0))","v":"1/2"},{"$f":"INDEX(Odds!H:H,MATCH(J20,Odds!F:F,0))","v":1.5},{"$f":"INDEX(Odds!I:I,MATCH(J20,Odds!F:F,0))","v":1},1.5,null,{"$f":"IF(Match!A20=\"\",\"\",Match!T20)","v":"Charlton 1-3 Doncaster "},null,{"$f":"IF(Odds!F20=\"\",\"\",Odds!F20)","v":"Charlton"},{"$f":"INDEX(Odds!G:G,MATCH(R20,Odds!F:F,0))","v":"1/1"},0,{"$f":"INDEX(Match!O:O,MATCH(P20,Match!T:T,0))","v":"Charlton"},{"$f":"INDEX(Match!F:F,MATCH(P20,Match!T:T,0))","v":1},{"$f":"INDEX(Match!P:P,MATCH(P20,Match!T:T,0))","v":"Doncaster"},{"$f":"INDEX(Match!G:G,MATCH(P20,Match!T:T,0))","v":3},null,null,null,null,"Gareth Powell",{"$f":"INDEX(Picks!F:F,MATCH(AC20,Picks!A:A,0))","v":0.3692307692307697},{"$f":"INDEX(Weekly!I:I,MATCH(AC20,Weekly!E:E,0))","v":2},{"$f":"IF(AD20=\"\",\"\",_xlfn.RANK.EQ(AD20,TopScores,0))","v":19},null,"Stephen Barr",{"$f":"INDEX(Picks!G:G,MATCH(AH20,Picks!A:A,0))","v":44.256},{"$f":"INDEX(Weekly!I:I,MATCH(AH20,Weekly!E:E,0))","v":2},{"$f":"IF(AI20=\"\",\"\",_xlfn.RANK.EQ(AI20,TopMaxScores,0))","v":17}]
[{"$f":"A20","v":"Ashley Houghton"},"Hull",{"$f":"IF(J21=\"\",\"\",INDEX(Odds!B:B,MATCH(J21,Odds!F:F,0)))","v":"1900-01-07"},1.95,"√",null,null,null,null,"Hull",{"$f":"INDEX(Odds!G:G,MATCH(J21,Odds!F:F,0))","v":"19/20"},{"$f":"INDEX(Odds!H:H,MATCH(J21,Odds!F:F,0))","v":1.95},{"$f":"INDEX(Odds!I:I,MATCH(J21,Odds!F:F,0))","v":1},1.95,null,{"$f":"IF(Match!A21=\"\",\"\",Match!T21)","v":"Hull 1-0 Crewe "},null,{"$f":"IF(Odds!F21=\"\",\"\",Odds!F21)","v":"Hull"},{"$f":"INDEX(Odds!G:G,MATCH(R21,Odds!F:F,0))","v":"19/20"},1,{"$f":"INDEX(Match!O:O,MATCH(P21,Match!T:T,0))","v":"Hull"},{"$f":"INDEX(Match!F:F,MATCH(P21,Match!T:T,0))","v":1},{"$f":"INDEX(Match!P:P,MATCH(P21,Match!T:T,0))","v":"Crewe"},{"$f":"INDEX(Match!G:G,MATCH(P21,Match!T:T,0))","v":0},null,null,null,null,"Steve Baxter",{"$f":"INDEX(Picks!F:F,MATCH(AC21,Picks!A:A,0))","v":0},{"$f":"INDEX(Weekly!I:I,MATCH(AC21,Weekly!E:E,0))","v":2},{"$f":"IF(AD21=\"\",\"\",_xlfn.RANK.EQ(AD21,TopScores,0))","v":20},null,"Alan Rogers",{"$f":"INDEX(Picks!G:G,MATCH(AH21,Picks!A:A,0))","v":43.072000000000003},{"$f":"INDEX(Weekly!I:I,MATCH(AH21,Weekly!E:E,0))","v":0},{"$f":"IF(AI21=\"\",\"\",_xlfn.RANK.EQ(AI21,TopMaxScores,0))","v":18}]
[{"$f":"A20","v":"Ashley Houghton"},"Swansea",{"$f":"IF(J22=\"\",\"\",INDEX(Odds!B:B,MATCH(J22,Odds!F:F,0)))","v":"1900-01-07"},2.1,"x",null,null,null,null,"Swansea",{"$f":"INDEX(Odds!G:G,MATCH(J22,Odds!F:F,0))","v":"11/10"},{"$f":"INDEX(Odds!H:H,MATCH(J22,Odds!F:F,0))","v":2.1},{"$f":"INDEX(Odds!I:I,MATCH(J22,Odds!F:F,0))","v":0},0,null,{"$f":"IF(Match!A22=\"\",\"\",Match!T22)","v":"MK Dons 1-2 Lincoln "},null,{"$f":"IF(Odds!F22=\"\",\"\",Odds!F22)","v":"MK Dons"},{"$f":"INDEX(Odds!G:G,MATCH(R22,Odds!F:F,0))","v":"17/10"},0,{"$f":"INDEX(Match!O:O,MATCH(P22,Match!T:T,0))","v":"MK Dons"},{"$f":"INDEX(Match!F:F,MATCH(P22,Match!T:T,0))","v":1},{"$f":"INDEX(Match!P:P,MATCH(P22,Match!T:T,0))","v":"Lincoln"},{"$f":"INDEX(Match!G:G,MATCH(P22,Match!T:T,0))","v":2},null,null,null,null,"Chris Griffin",{"$f":"INDEX(Picks!F:F,MATCH(AC22,Picks!A:A,0))","v":-0.28461538461538538},{"$f":"INDEX(Weekly!I:I,MATCH(AC22,Weekly!E:E,0))","v":2},{"$f":"IF(AD22=\"\",\"\",_xlfn.RANK.EQ(AD22,TopScores,0))","v":21},null,"Chris Luck",{"$f":"INDEX(Picks!G:G,MATCH(AH22,Picks!A:A,0))","v":37.453749999999999},{"$f":"INDEX(Weekly!I:I,MATCH(AH22,Weekly!E:E,0))","v":2},{"$f":"IF(AI22=\"\",\"\",_xlfn.RANK.EQ(AI22,TopMaxScores,0))","v":19}]
[{"$f":"Results!B23","v":"Barry Birchall"},"Blackburn",{"$f":"IF(J23=\"\",\"\",INDEX(Odds!B:B,MATCH(J23,Odds!F:F,0)))","v":"1900-01-07"},1.5714285714285714,"√",{"$f":"IF(J23=\"\",-10,INDEX(Results!T:T,MATCH(A23,Results!V:V,0)))","v":-1.4428571428571431},{"$f":"IF(J23=\"\",\"\",INDEX(Results!AI:AI,MATCH(A23,Results!V:V,0)))","v":20.195714285714285},{"$f":"IF(G23=\"\",0,1)","v":1},{"$f":"INDEX(Picks!AF:AF,MATCH(A23,Picks!AC:AC,0))","v":26},"Blackburn",{"$f":"INDEX(Odds!G:G,MATCH(J23,Odds!F:F,0))","v":"4/7"},{"$f":"INDEX(Odds!H:H,MATCH(J23,Odds!F:F,0))","v":1.5714285714285714},{"$f":"INDEX(Odds!I:I,MATCH(J23,Odds!F:F,0))","v":1},1.5714285714285714,null,{"$f":"IF(Match!A23=\"\",\"\",Match!T23)","v":"Oxford 0-2 Sunderland "},null,{"$f":"IF(Odds!F23=\"\",\"\",Odds!F23)","v":"Oxford"},{"$f":"INDEX(Odds!G:G,MATCH(R23,Odds!F:F,0))","v":"31/20"},0,{"$f":"INDEX(Match!O:O,MATCH(P23,Match!T:T,0))","v":"Oxford"},{"$f":"INDEX(Match!F:F,MATCH(P23,Match!T:T,0))","v":0},{"$f":"INDEX(Match!P:P,MATCH(P23,Match!T:T,0))","v":"Sunderland"},{"$f":"INDEX(Match!G:G,MATCH(P23,Match!T:T,0))","v":2},null,null,null,null,"Ashley Houghton",{"$f":"INDEX(Picks!F:F,MATCH(AC23,Picks!A:A,0))","v":-0.625},{"$f":"INDEX(Weekly!I:I,MATCH(AC23,Weekly!E:E,0))","v":2},{"$f":"IF(AD23=\"\",\"\",_xlfn.RANK.EQ(AD23,TopScores,0))","v":22},null,"Paul Allen",{"$f":"INDEX(Picks!G:G,MATCH(AH23,Picks!A:A,0))","v":37.315750000000008},{"$f":"INDEX(Weekly!I:I,MATCH(AH23,Weekly!E:E,0))","v":1},{"$f":"IF(AI23=\"\",\"\",_xlfn.RANK.EQ(AI23,TopMaxScores,0))","v":20}]
[{"$f":"A23","v":"Barry Birchall"},"Brentford",{"$f":"IF(J24=\"\",\"\",INDEX(Odds!B:B,MATCH(J24,Odds!F:F,0)))","v":"1900-01-07"},1.55,"√",null,null,null,null,"Brentford",{"$f":"INDEX(Odds!G:G,MATCH(J24,Odds!F:F,0))","v":"11/20"},{"$f":"INDEX(Odds!H:H,MATCH(J24,Odds!F:F,0))","v":1.55},{"$f":"INDEX(Odds!I:I,MATCH(J24,Odds!F:F,0))","v":1},1.55,null,{"$f":"IF(Match!A24=\"\",\"\",Match!T24)","v":"Peterborough 2-1 Fleetwood "},null,{"$f":"IF(Odds!F24=\"\",\"\",Odds!F24)","v":"Peterborough"},{"$f":"INDEX(Odds!G:G,MATCH(R24,Odds!F:F,0))","v":"6/5"},1,{"$f":"INDEX(Match!O:O,MATCH(P24,Match!T:T,0))","v":"Peterborough"},{"$f":"INDEX(Match!F:F,MATCH(P24,Match!T:T,0))","v":2},{"$f":"INDEX(Match!P:P,MATCH(P24,Match!T:T,0))","v":"Fleetwood"},{"$f":"INDEX(Match!G:G,MATCH(P24,Match!T:T,0))","v":1},null,null,null,null,"Paul Ridgeway",{"$f":"INDEX(Picks!F:F,MATCH(AC24,Picks!A:A,0))","v":-1.069230769230769},{"$f":"INDEX(Weekly!I:I,MATCH(AC24,Weekly!E:E,0))","v":2},{"$f":"IF(AD24=\"\",\"\",_xlfn.RANK.EQ(AD24,TopScores,0))","v":23},null,"Pete Baron",{"$f":"INDEX(Picks!G:G,MATCH(AH24,Picks!A:A,0))","v":36.738874999999993},{"$f":"INDEX(Weekly!I:I,MATCH(AH24,Weekly!E:E,0))","v":0},{"$f":"IF(AI24=\"\",\"\",_xlfn.RANK.EQ(AI24,TopMaxScores,0))","v":21}]
[{"$f":"A23","v":"Barry Birchall"},"Walsall",{"$f":"IF(J25=\"\",\"\",INDEX(Odds!B:B,MATCH(J25,Odds!F:F,0)))","v":"1900-01-07"},3.3,"x",null,null,null,null,"Walsall",{"$f":"INDEX(Odds!G:G,MATCH(J25,Odds!F:F,0))","v":"23/10"},{"$f":"INDEX(Odds!H:H,MATCH(J25,Odds!F:F,0))","v":3.3},{"$f":"INDEX(Odds!I:I,MATCH(J25,Odds!F:F,0))","v":0},0,null,{"$f":"IF(Match!A25=\"\",\"\",Match!T25)","v":"Shrewsbury 1-2 Northampton "},null,{"$f":"IF(Odds!F25=\"\",\"\",Odds!F25)","v":"Shrewsbury"},{"$f":"INDEX(Odds!G:G,MATCH(R25,Odds!F:F,0))","v":"6/5"},0,{"$f":"INDEX(Match!O:O,MATCH(P25,Match!T:T,0))","v":"Shrewsbury"},{"$f":"INDEX(Match!F:F,MATCH(P25,Match!T:T,0))","v":1},{"$f":"INDEX(Match!P:P,MATCH(P25,Match!T:T,0))","v":"Northampton"},{"$f":"INDEX(Match!G:G,MATCH(P25,Match!T:T,0))","v":2},null,null,null,null,"Stephen Troop",{"$f":"INDEX(Picks!F:F,MATCH(AC25,Picks!A:A,0))","v":-1.3307692307692305},{"$f":"INDEX(Weekly!I:I,MATCH(AC25,Weekly!E:E,0))","v":2},{"$f":"IF(AD25=\"\",\"\",_xlfn.RANK.EQ(AD25,TopScores,0))","v":24},null,"Lewis Buckley",{"$f":"INDEX(Picks!G:G,MATCH(AH25,Picks!A:A,0))","v":36.215249999999997},{"$f":"INDEX(Weekly!I:I,MATCH(AH25,Weekly!E:E,0))","v":1},{"$f":"IF(AI25=\"\",\"\",_xlfn.RANK.EQ(AI25,TopMaxScores,0))","v":22}]
[{"$f":"Results!B26","v":"Ben Rosser"},"Arsenal draw",{"$f":"IF(J26=\"\",\"\",INDEX(Odds!B:B,MATCH(J26,Odds!F:F,0)))","v":"1900-01-07"},4.4000000000000004,"x",{"$f":"IF(J26=\"\",-10,INDEX(Results!T:T,MATCH(A26,Results!V:V,0)))","v":-7},{"$f":"IF(J26=\"\",\"\",INDEX(Results!AI:AI,MATCH(A26,Results!V:V,0)))","v":35.817142857142855},{"$f":"IF(G26=\"\",0,1)","v":1},{"$f":"INDEX(Picks!AF:AF,MATCH(A26,Picks!AC:AC,0))","v":53},"Arsenal draw",{"$f":"INDEX(Odds!G:G,MATCH(J26,Odds!F:F,0))","v":"17/5"},{"$f":"INDEX(Odds!H:H,MATCH(J26,Odds!F:F,0))","v":4.4000000000000004},{"$f":"INDEX(Odds!I:I,MATCH(J26,Odds!F:F,0))","v":0},0,null,{"$f":"IF(Match!A26=\"\",\"\",Match!T26)","v":"Wimbledon 4-4 Plymouth "},null,{"$f":"IF(Odds!F26=\"\",\"\",Odds!F26)","v":"Wimbledon"},{"$f":"INDEX(Odds!G:G,MATCH(R26,Odds!F:F,0))","v":"8/5"},0,{"$f":"INDEX(Match!O:O,MATCH(P26,Match!T:T,0))","v":"Wimbledon"},{"$f":"INDEX(Match!F:F,MATCH(P26,Match!T:T,0))","v":4},{"$f":"INDEX(Match!P:P,MATCH(P26,Match!T:T,0))","v":"Plymouth"},{"$f":"INDEX(Match!G:G,MATCH(P26,Match!T:T,0))","v":4},null,null,null,null,"Martin Molyneux",{"$f":"INDEX(Picks!F:F,MATCH(AC26,Picks!A:A,0))","v":-1.375},{"$f":"INDEX(Weekly!I:I,MATCH(AC26,Weekly!E:E,0))","v":2},{"$f":"IF(AD26=\"\",\"\",_xlfn.RANK.EQ(AD26,TopScores,0))","v":25},null,"Ben Rosser",{"$f":"INDEX(Picks!G:G,MATCH(AH26,Picks!A:A,0))","v":35.817142857142855},{"$f":"INDEX(Weekly!I:I,MATCH(AH26,Weekly!E:E,0))","v":0},{"$f":"IF(AI26=\"\",\"\",_xlfn.RANK.EQ(AI26,TopMaxScores,0))","v":23}]
[{"$f":"A26","v":"Ben Rosser"},"Man U",{"$f":"IF(J27=\"\",\"\",INDEX(Odds!B:B,MATCH(J27,Odds!F:F,0)))","v":"1900-01-07"},1.2857142857142856,"x",null,null,null,null,"Man U",{"$f":"INDEX(Odds!G:G,MATCH(J27,Odds!F:F,0))","v":"2/7"},{"$f":"INDEX(Odds!H:H,MATCH(J27,Odds!F:F,0))","v":1.2857142857142856},{"$f":"INDEX(Odds!I:I,MATCH(J27,Odds!F:F,0))","v":0},0,null,{"$f":"IF(Match!A27=\"\",\"\",Match!T27)","v":"Carlisle 2-0 Southend "},null,{"$f":"IF(Odds!F27=\"\",\"\",Odds!F27)","v":"Carlisle"},{"$f":"INDEX(Odds!G:G,MATCH(R27,Odds!F:F,0))","v":"21/20"},1,{"$f":"INDEX(Match!O:O,MATCH(P27,Match!T:T,0))","v":"Carlisle"},{"$f":"INDEX(Match!F:F,MATCH(P27,Match!T:T,0))","v":2},{"$f":"INDEX(Match!P:P,MATCH(P27,Match!T:T,0))","v":"Southend"},{"$f":"INDEX(Match!G:G,MATCH(P27,Match!T:T,0))","v":0},null,null,null,null,"Nick Blocksidge",{"$f":"INDEX(Picks!F:F,MATCH(AC27,Picks!A:A,0))","v":-1.4428571428571431},{"$f":"INDEX(Weekly!I:I,MATCH(AC27,Weekly!E:E,0))","v":2},{"$f":"IF(AD27=\"\",\"\",_xlfn.RANK.EQ(AD27,TopScores,0))","v":26},null,"Mal Stott",{"$f":"INDEX(Picks!G:G,MATCH(AH27,Picks!A:A,0))","v":35.244999999999997},{"$f":"INDEX(Weekly!I:I,MATCH(AH27,Weekly!E:E,0))","v":2},{"$f":"IF(AI27=\"\",\"\",_xlfn.RANK.EQ(AI27,TopMaxScores,0))","v":24}]
[{"$f":"A26","v":"Ben Rosser"},"Newcastle",{"$f":"IF(J28=\"\",\"\",INDEX(Odds!B:B,MATCH(J28,Odds!F:F,0)))","v":"1900-01-01"},2.5499999999999998,"x",null,null,null,null,"Newcastle",{"$f":"INDEX(Odds!G:G,MATCH(J28,Odds!F:F,0))","v":"31/20"},{"$f":"INDEX(Odds!H:H,MATCH(J28,Odds!F:F,0))","v":2.5499999999999998},{"$f":"INDEX(Odds!I:I,MATCH(J28,Odds!F:F,0))","v":0},0,null,{"$f":"IF(Match!A28=\"\",\"\",Match!T28)","v":"Colchester 2-0 Bolton "},null,{"$f":"IF(Odds!F28=\"\",\"\",Odds!F28)","v":"Colchester"},{"$f":"INDEX(Odds!G:G,MATCH(R28,Odds!F:F,0))","v":"13/8"},1,{"$f":"INDEX(Match!O:O,MATCH(P28,Match!T:T,0))","v":"Colchester"},{"$f":"INDEX(Match!F:F,MATCH(P28,Match!T:T,0))","v":2},{"$f":"INDEX(Match!P:P,MATCH(P28,Match!T:T,0))","v":"Bolton"},{"$f":"INDEX(Match!G:G,MATCH(P28,Match!T:T,0))","v":0},null,null,null,null,"Mo Sudell",{"$f":"INDEX(Picks!F:F,MATCH(AC28,Picks!A:A,0))","v":-1.4428571428571431},{"$f":"INDEX(Weekly!I:I,MATCH(AC28,Weekly!E:E,0))","v":2},{"$f":"IF(AD28=\"\",\"\",_xlfn.RANK.EQ(AD28,TopScores,0))","v":26},null,"John Evans",{"$f":"INDEX(Picks!G:G,MATCH(AH28,Picks!A:A,0))","v":34.466874999999995},{"$f":"INDEX(Weekly!I:I,MATCH(AH28,Weekly!E:E,0))","v":1},{"$f":"IF(AI28=\"\",\"\",_xlfn.RANK.EQ(AI28,TopMaxScores,0))","v":25}]
[{"$f":"Results!B29","v":"Charlie Griffiths"},"Wimbledon draw",{"$f":"IF(J29=\"\",\"\",INDEX(Odds!B:B,MATCH(J29,Odds!F:F,0)))","v":"1900-01-07"},3.3,"√",{"$f":"IF(J29=\"\",-10,INDEX(Results!T:T,MATCH(A29,Results!V:V,0)))","v":10.919999999999998},{"$f":"IF(J29=\"\",\"\",INDEX(Results!AI:AI,MATCH(A29,Results!V:V,0)))","v":73.355999999999995},{"$f":"IF(G29=\"\",0,1)","v":1},{"$f":"INDEX(Picks!AF:AF,MATCH(A29,Picks!AC:AC,0))","v":5},"Wimbledon draw",{"$f":"INDEX(Odds!G:G,MATCH(J29,Odds!F:F,0))","v":"23/10"},{"$f":"INDEX(Odds!H:H,MATCH(J29,Odds!F:F,0))","v":3.3},{"$f":"INDEX(Odds!I:I,MATCH(J29,Odds!F:F,0))","v":1},3.3,null,{"$f":"IF(Match!A29=\"\",\"\",Match!T29)","v":"Crawley 1-0 Scunthorpe "},null,{"$f":"IF(Odds!F29=\"\",\"\",Odds!F29)","v":"Crawley"},{"$f":"INDEX(Odds!G:G,MATCH(R29,Odds!F:F,0))","v":"13/10"},1,{"$f":"INDEX(Match!O:O,MATCH(P29,Match!T:T,0))","v":"Crawley"},{"$f":"INDEX(Match!F:F,MATCH(P29,Match!T:T,0))","v":1},{"$f":"INDEX(Match!P:P,MATCH(P29,Match!T:T,0))","v":"Scunthorpe"},{"$f":"INDEX(Match!G:G,MATCH(P29,Match!T:T,0))","v":0},null,null,null,null,"Barry Birchall",{"$f":"INDEX(Picks!F:F,MATCH(AC29,Picks!A:A,0))","v":-1.4428571428571431},{"$f":"INDEX(Weekly!I:I,MATCH(AC29,Weekly!E:E,0))","v":2},{"$f":"IF(AD29=\"\",\"\",_xlfn.RANK.EQ(AD29,TopScores,0))","v":26},null,"Joel Bent",{"$f":"INDEX(Picks!G:G,MATCH(AH29,Picks!A:A,0))","v":34.161500000000004},{"$f":"INDEX(Weekly!I:I,MATCH(AH29,Weekly!E:E,0))","v":1},{"$f":"IF(AI29=\"\",\"\",_xlfn.RANK.EQ(AI29,TopMaxScores,0))","v":26}]
[{"$f":"A29","v":"Charlie Griffiths"},"Northampton",{"$f":"IF(J30=\"\",\"\",INDEX(Odds!B:B,MATCH(J30,Odds!F:F,0)))","v":"1900-01-07"},3.4,"√",null,null,null,null,"Northampton",{"$f":"INDEX(Odds!G:G,MATCH(J30,Odds!F:F,0))","v":"12/5"},{"$f":"INDEX(Odds!H:H,MATCH(J30,Odds!F:F,0))","v":3.4},{"$f":"INDEX(Odds!I:I,MATCH(J30,Odds!F:F,0))","v":1},3.4,null,{"$f":"IF(Match!A30=\"\",\"\",Match!T30)","v":"Exeter 0-2 Port Vale "},null,{"$f":"IF(Odds!F30=\"\",\"\",Odds!F30)","v":"Exeter"},{"$f":"INDEX(Odds!G:G,MATCH(R30,Odds!F:F,0))","v":"5/4"},0,{"$f":"INDEX(Match!O:O,MATCH(P30,Match!T:T,0))","v":"Exeter"},{"$f":"INDEX(Match!F:F,MATCH(P30,Match!T:T,0))","v":0},{"$f":"INDEX(Match!P:P,MATCH(P30,Match!T:T,0))","v":"Port Vale"},{"$f":"INDEX(Match!G:G,MATCH(P30,Match!T:T,0))","v":2},null,null,null,null,"David Dunn",{"$f":"INDEX(Picks!F:F,MATCH(AC30,Picks!A:A,0))","v":-1.4615384615384617},{"$f":"INDEX(Weekly!I:I,MATCH(AC30,Weekly!E:E,0))","v":2},{"$f":"IF(AD30=\"\",\"\",_xlfn.RANK.EQ(AD30,TopScores,0))","v":29},null,"Gareth McGuire",{"$f":"INDEX(Picks!G:G,MATCH(AH30,Picks!A:A,0))","v":30.748249999999999},{"$f":"INDEX(Weekly!I:I,MATCH(AH30,Weekly!E:E,0))","v":1},{"$f":"IF(AI30=\"\",\"\",_xlfn.RANK.EQ(AI30,TopMaxScores,0))","v":27}]
[{"$f":"A29","v":"Charlie Griffiths"},"Walsall",{"$f":"IF(J31=\"\",\"\",INDEX(Odds!B:B,MATCH(J31,Odds!F:F,0)))","v":"1900-01-07"},3.3,"x",null,null,null,null,"Walsall",{"$f":"INDEX(Odds!G:G,MATCH(J31,Odds!F:F,0))","v":"23/10"},{"$f":"INDEX(Odds!H:H,MATCH(J31,Odds!F:F,0))","v":3.3},{"$f":"INDEX(Odds!I:I,MATCH(J31,Odds!F:F,0))","v":0},0,null,{"$f":"IF(Match!A31=\"\",\"\",Match!T31)","v":"Forest Green 2-2 Bradford "},null,{"$f":"IF(Odds!F31=\"\",\"\",Odds!F31)","v":"Forest Green"},{"$f":"INDEX(Odds!G:G,MATCH(R31,Odds!F:F,0))","v":"13/10"},0,{"$f":"INDEX(Match!O:O,MATCH(P31,Match!T:T,0))","v":"Forest Green"},{"$f":"INDEX(Match!F:F,MATCH(P31,Match!T:T,0))","v":2},{"$f":"INDEX(Match!P:P,MATCH(P31,Match!T:T,0))","v":"Bradford"},{"$f":"INDEX(Match!G:G,MATCH(P31,Match!T:T,0))","v":2},null,null,null,null,"Paul Adderley",{"$f":"INDEX(Picks!F:F,MATCH(AC31,Picks!A:A,0))","v":-1.4615384615384617},{"$f":"INDEX(Weekly!I:I,MATCH(AC31,Weekly!E:E,0))","v":2},{"$f":"IF(AD31=\"\",\"\",_xlfn.RANK.EQ(AD31,TopScores,0))","v":29},null,"Andy Charleston",{"$f":"INDEX(Picks!G:G,MATCH(AH31,Picks!A:A,0))","v":29.96725},{"$f":"INDEX(Weekly!I:I,MATCH(AH31,Weekly!E:E,0))","v":1},{"$f":"IF(AI31=\"\",\"\",_xlfn.RANK.EQ(AI31,TopMaxScores,0))","v":28}]
[{"$f":"Results!B32","v":"Chris Bow"},"Palace",{"$f":"IF(J32=\"\",\"\",INDEX(Odds!B:B,MATCH(J32,Odds!F:F,0)))","v":"1900-01-07"},11,"√",{"$f":"IF(J32=\"\",-10,INDEX(Results!T:T,MATCH(A32,Results!V:V,0)))","v":150.1},{"$f":"IF(J32=\"\",\"\",INDEX(Results!AI:AI,MATCH(A32,Results!V:V,0)))","v":150.1},{"$f":"IF(G32=\"\",0,1)","v":1},{"$f":"INDEX(Picks!AF:AF,MATCH(A32,Picks!AC:AC,0))","v":3},"Palace",{"$f":"INDEX(Odds!G:G,MATCH(J32,Odds!F:F,0))","v":"10/1"},{"$f":"INDEX(Odds!H:H,MATCH(J32,Odds!F:F,0))","v":11},{"$f":"INDEX(Odds!I:I,MATCH(J32,Odds!F:F,0))","v":1},11,null,{"$f":"IF(Match!A32=\"\",\"\",Match!T32)","v":"Grimsby 0-4 Salford "},null,{"$f":"IF(Odds!F32=\"\",\"\",Odds!F32)","v":"Grimsby"},{"$f":"INDEX(Odds!G:G,MATCH(R32,Odds!F:F,0))","v":"21/10"},0,{"$f":"INDEX(Match!O:O,MATCH(P32,Match!T:T,0))","v":"Grimsby"},{"$f":"INDEX(Match!F:F,MATCH(P32,Match!T:T,0))","v":0},{"$f":"INDEX(Match!P:P,MATCH(P32,Match!T:T,0))","v":"Salford"},{"$f":"INDEX(Match!G:G,MATCH(P32,Match!T:T,0))","v":4},null,null,null,null,"Alan White",{"$f":"INDEX(Picks!F:F,MATCH(AC32,Picks!A:A,0))","v":-1.625},{"$f":"INDEX(Weekly!I:I,MATCH(AC32,Weekly!E:E,0))","v":2},{"$f":"IF(AD32=\"\",\"\",_xlfn.RANK.EQ(AD32,TopScores,0))","v":31},null,"Rob England",{"$f":"INDEX(Picks!G:G,MATCH(AH32,Picks!A:A,0))","v":29.555},{"$f":"INDEX(Weekly!I:I,MATCH(AH32,Weekly!E:E,0))","v":1},{"$f":"IF(AI32=\"\",\"\",_xlfn.RANK.EQ(AI32,TopMaxScores,0))","v":29}]
[{"$f":"A32","v":"Chris Bow"},"Luton",{"$f":"IF(J33=\"\",\"\",INDEX(Odds!B:B,MATCH(J33,Odds!F:F,0)))","v":"1900-01-07"},2.875,"√",null,null,null,null,"Luton",{"$f":"INDEX(Odds!G:G,MATCH(J33,Odds!F:F,0))","v":"15/8"},{"$f":"INDEX(Odds!H:H,MATCH(J33,Odds!F:F,0))","v":2.875},{"$f":"INDEX(Odds!I:I,MATCH(J33,Odds!F:F,0))","v":1},2.875,null,{"$f":"IF(Match!A33=\"\",\"\",Match!T33)","v":"Harrogate 2-2 Walsall "},null,{"$f":"IF(Odds!F33=\"\",\"\",Odds!F33)","v":"Harrogate"},{"$f":"INDEX(Odds!G:G,MATCH(R33,Odds!F:F,0))","v":"6/5"},0,{"$f":"INDEX(Match!O:O,MATCH(P33,Match!T:T,0))","v":"Harrogate"},{"$f":"INDEX(Match!F:F,MATCH(P33,Match!T:T,0))","v":2},{"$f":"INDEX(Match!P:P,MATCH(P33,Match!T:T,0))","v":"Walsall"},{"$f":"INDEX(Match!G:G,MATCH(P33,Match!T:T,0))","v":2},null,null,null,null,"Ian Davies",{"$f":"INDEX(Picks!F:F,MATCH(AC33,Picks!A:A,0))","v":-4.125},{"$f":"INDEX(Weekly!I:I,MATCH(AC33,Weekly!E:E,0))","v":1},{"$f":"IF(AD33=\"\",\"\",_xlfn.RANK.EQ(AD33,TopScores,0))","v":32},null,"Lennie Bow",{"$f":"INDEX(Picks!G:G,MATCH(AH33,Picks!A:A,0))","v":29.548749999999998},{"$f":"INDEX(Weekly!I:I,MATCH(AH33,Weekly!E:E,0))","v":2},{"$f":"IF(AI33=\"\",\"\",_xlfn.RANK.EQ(AI33,TopMaxScores,0))","v":30}]
[{"$f":"A32","v":"Chris Bow"},"Reading",{"$f":"IF(J34=\"\",\"\",INDEX(Odds!B:B,MATCH(J34,Odds!F:F,0)))","v":"1900-01-07"},2.4,"√",null,null,null,null,"Reading",{"$f":"INDEX(Odds!G:G,MATCH(J34,Odds!F:F,0))","v":"7/5"},{"$f":"INDEX(Odds!H:H,MATCH(J34,Odds!F:F,0))","v":2.4},{"$f":"INDEX(Odds!I:I,MATCH(J34,Odds!F:F,0))","v":1},2.4,null,{"$f":"IF(Match!A34=\"\",\"\",Match!T34)","v":"Morecambe 0-5 Cambridge "},null,{"$f":"IF(Odds!F34=\"\",\"\",Odds!F34)","v":"Morecambe"},{"$f":"INDEX(Odds!G:G,MATCH(R34,Odds!F:F,0))","v":"27/20"},0,{"$f":"INDEX(Match!O:O,MATCH(P34,Match!T:T,0))","v":"Morecambe"},{"$f":"INDEX(Match!F:F,MATCH(P34,Match!T:T,0))","v":0},{"$f":"INDEX(Match!P:P,MATCH(P34,Match!T:T,0))","v":"Cambridge"},{"$f":"INDEX(Match!G:G,MATCH(P34,Match!T:T,0))","v":5},null,null,null,null,"Mike Penk",{"$f":"INDEX(Picks!F:F,MATCH(AC34,Picks!A:A,0))","v":-4.3},{"$f":"INDEX(Weekly!I:I,MATCH(AC34,Weekly!E:E,0))","v":1},{"$f":"IF(AD34=\"\",\"\",_xlfn.RANK.EQ(AD34,TopScores,0))","v":33},null,"Martin Tarbuck",{"$f":"INDEX(Picks!G:G,MATCH(AH34,Picks!A:A,0))","v":29.488},{"$f":"INDEX(Weekly!I:I,MATCH(AH34,Weekly!E:E,0))","v":1},{"$f":"IF(AI34=\"\",\"\",_xlfn.RANK.EQ(AI34,TopMaxScores,0))","v":31}]
[{"$f":"Results!B35","v":"Chris Griffin"},"Hull",{"$f":"IF(J35=\"\",\"\",INDEX(Odds!B:B,MATCH(J35,Odds!F:F,0)))","v":"1900-01-07"},1.95,"√",{"$f":"IF(J35=\"\",-10,INDEX(Results!T:T,MATCH(A35,Results!V:V,0)))","v":-0.28461538461538538},{"$f":"IF(J35=\"\",\"\",INDEX(Results!AI:AI,MATCH(A35,Results!V:V,0)))","v":13.603076923076923},{"$f":"IF(G35=\"\",0,1)","v":1},{"$f":"INDEX(Picks!AF:AF,MATCH(A35,Picks!AC:AC,0))","v":21},"Hull",{"$f":"INDEX(Odds!G:G,MATCH(J35,Odds!F:F,0))","v":"19/20"},{"$f":"INDEX(Odds!H:H,MATCH(J35,Odds!F:F,0))","v":1.95},{"$f":"INDEX(Odds!I:I,MATCH(J35,Odds!F:F,0))","v":1},1.95,null,{"$f":"IF(Match!A35=\"\",\"\",Match!T35)","v":"Newport 2-1 Barrow "},null,{"$f":"IF(Odds!F35=\"\",\"\",Odds!F35)","v":"Newport"},{"$f":"INDEX(Odds!G:G,MATCH(R35,Odds!F:F,0))","v":"5/4"},1,{"$f":"INDEX(Match!O:O,MATCH(P35,Match!T:T,0))","v":"Newport"},{"$f":"INDEX(Match!F:F,MATCH(P35,Match!T:T,0))","v":2},{"$f":"INDEX(Match!P:P,MATCH(P35,Match!T:T,0))","v":"Barrow"},{"$f":"INDEX(Match!G:G,MATCH(P35,Match!T:T,0))","v":1},null,null,null,null,"John Evans",{"$f":"INDEX(Picks!F:F,MATCH(AC35,Picks!A:A,0))","v":-4.375},{"$f":"INDEX(Weekly!I:I,MATCH(AC35,Weekly!E:E,0))","v":1},{"$f":"IF(AD35=\"\",\"\",_xlfn.RANK.EQ(AD35,TopScores,0))","v":34},null,"Dave Orrell",{"$f":"INDEX(Picks!G:G,MATCH(AH35,Picks!A:A,0))","v":28.506249999999994},{"$f":"INDEX(Weekly!I:I,MATCH(AH35,Weekly!E:E,0))","v":3},{"$f":"IF(AI35=\"\",\"\",_xlfn.RANK.EQ(AI35,TopMaxScores,0))","v":32}]
[{"$f":"A35","v":"Chris Griffin"},"Norwich",{"$f":"IF(J36=\"\",\"\",INDEX(Odds!B:B,MATCH(J36,Odds!F:F,0)))","v":"1900-01-07"},1.8,"x",null,null,null,null,"Norwich",{"$f":"INDEX(Odds!G:G,MATCH(J36,Odds!F:F,0))","v":"4/5"},{"$f":"INDEX(Odds!H:H,MATCH(J36,Odds!F:F,0))","v":1.8},{"$f":"INDEX(Odds!I:I,MATCH(J36,Odds!F:F,0))","v":0},0,null,{"$f":"IF(Match!A36=\"\",\"\",Match!T36)","v":"Orient 2-2 Mansfield "},null,{"$f":"IF(Odds!F36=\"\",\"\",Odds!F36)","v":"Orient"},{"$f":"INDEX(Odds!G:G,MATCH(R36,Odds!F:F,0))","v":"9/5"},0,{"$f":"INDEX(Match!O:O,MATCH(P36,Match!T:T,0))","v":"Orient"},{"$f":"INDEX(Match!F:F,MATCH(P36,Match!T:T,0))","v":2},{"$f":"INDEX(Match!P:P,MATCH(P36,Match!T:T,0))","v":"Mansfield"},{"$f":"INDEX(Match!G:G,MATCH(P36,Match!T:T,0))","v":2},null,null,null,null,"Rob England",{"$f":"INDEX(Picks!F:F,MATCH(AC36,Picks!A:A,0))","v":-4.375},{"$f":"INDEX(Weekly!I:I,MATCH(AC36,Weekly!E:E,0))","v":1},{"$f":"IF(AD36=\"\",\"\",_xlfn.RANK.EQ(AD36,TopScores,0))","v":34},null,"Paul Fiddler",{"$f":"INDEX(Picks!G:G,MATCH(AH36,Picks!A:A,0))","v":28.240749999999991},{"$f":"INDEX(Weekly!I:I,MATCH(AH36,Weekly!E:E,0))","v":2},{"$f":"IF(AI36=\"\",\"\",_xlfn.RANK.EQ(AI36,TopMaxScores,0))","v":33}]
[{"$f":"A35","v":"Chris Griffin"},"Leeds",{"$f":"IF(J37=\"\",\"\",INDEX(Odds!B:B,MATCH(J37,Odds!F:F,0)))","v":"1900-01-07"},1.6153846153846154,"√",null,null,null,null,"Leeds",{"$f":"INDEX(Odds!G:G,MATCH(J37,Odds!F:F,0))","v":"8/13"},{"$f":"INDEX(Odds!H:H,MATCH(J37,Odds!F:F,0))","v":1.6153846153846154},{"$f":"INDEX(Odds!I:I,MATCH(J37,Odds!F:F,0))","v":1},1.6153846153846154,null,{"$f":"IF(Match!A37=\"\",\"\",Match!T37)","v":"Stevenage 3-0 Oldham "},null,{"$f":"IF(Odds!F37=\"\",\"\",Odds!F37)","v":"Stevenage"},{"$f":"INDEX(Odds!G:G,MATCH(R37,Odds!F:F,0))","v":"7/5"},1,{"$f":"INDEX(Match!O:O,MATCH(P37,Match!T:T,0))","v":"Stevenage"},{"$f":"INDEX(Match!F:F,MATCH(P37,Match!T:T,0))","v":3},{"$f":"INDEX(Match!P:P,MATCH(P37,Match!T:T,0))","v":"Oldham"},{"$f":"INDEX(Match!G:G,MATCH(P37,Match!T:T,0))","v":0},null,null,null,null,"Andy White",{"$f":"INDEX(Picks!F:F,MATCH(AC37,Picks!A:A,0))","v":-4.55},{"$f":"INDEX(Weekly!I:I,MATCH(AC37,Weekly!E:E,0))","v":1},{"$f":"IF(AD37=\"\",\"\",_xlfn.RANK.EQ(AD37,TopScores,0))","v":36},null,"Vinny Topping",{"$f":"INDEX(Picks!G:G,MATCH(AH37,Picks!A:A,0))","v":27.400000000000006},{"$f":"INDEX(Weekly!I:I,MATCH(AH37,Weekly!E:E,0))","v":2},{"$f":"IF(AI37=\"\",\"\",_xlfn.RANK.EQ(AI37,TopMaxScores,0))","v":34}]
[{"$f":"Results!B38","v":"Chris Luck"},"Forest",{"$f":"IF(J38=\"\",\"\",INDEX(Odds!B:B,MATCH(J38,Odds!F:F,0)))","v":"1900-01-07"},2.4500000000000002,"x",{"$f":"IF(J38=\"\",-10,INDEX(Results!T:T,MATCH(A38,Results!V:V,0)))","v":5.1750000000000007},{"$f":"IF(J38=\"\",\"\",INDEX(Results!AI:AI,MATCH(A38,Results!V:V,0)))","v":37.453749999999999},{"$f":"IF(G38=\"\",0,1)","v":1},{"$f":"INDEX(Picks!AF:AF,MATCH(A38,Picks!AC:AC,0))","v":11},"Forest",{"$f":"INDEX(Odds!G:G,MATCH(J38,Odds!F:F,0))","v":"29/20"},{"$f":"INDEX(Odds!H:H,MATCH(J38,Odds!F:F,0))","v":2.4500000000000002},{"$f":"INDEX(Odds!I:I,MATCH(J38,Odds!F:F,0))","v":0},0,null,{"$f":"IF(Match!A38=\"\",\"\",Match!T38)","v":"Tranmere 0-3 Cheltenham "},null,{"$f":"IF(Odds!F38=\"\",\"\",Odds!F38)","v":"Tranmere"},{"$f":"INDEX(Odds!G:G,MATCH(R38,Odds!F:F,0))","v":"13/10"},0,{"$f":"INDEX(Match!O:O,MATCH(P38,Match!T:T,0))","v":"Tranmere"},{"$f":"INDEX(Match!F:F,MATCH(P38,Match!T:T,0))","v":0},{"$f":"INDEX(Match!P:P,MATCH(P38,Match!T:T,0))","v":"Cheltenham"},{"$f":"INDEX(Match!G:G,MATCH(P38,Match!T:T,0))","v":3},null,null,null,null,"Andy Charleston",{"$f":"INDEX(Picks!F:F,MATCH(AC38,Picks!A:A,0))","v":-4.55},{"$f":"INDEX(Weekly!I:I,MATCH(AC38,Weekly!E:E,0))","v":1},{"$f":"IF(AD38=\"\",\"\",_xlfn.RANK.EQ(AD38,TopScores,0))","v":36},null,"Jack Walsh",{"$f":"INDEX(Picks!G:G,MATCH(AH38,Picks!A:A,0))","v":27.386153846153846},{"$f":"INDEX(Weekly!I:I,MATCH(AH38,Weekly!E:E,0))","v":2},{"$f":"IF(AI38=\"\",\"\",_xlfn.RANK.EQ(AI38,TopMaxScores,0))","v":35}]
[{"$f":"A38","v":"Chris Luck"},"Luton",{"$f":"IF(J39=\"\",\"\",INDEX(Odds!B:B,MATCH(J39,Odds!F:F,0)))","v":"1900-01-07"},2.875,"√",null,null,null,null,"Luton",{"$f":"INDEX(Odds!G:G,MATCH(J39,Odds!F:F,0))","v":"15/8"},{"$f":"INDEX(Odds!H:H,MATCH(J39,Odds!F:F,0))","v":2.875},{"$f":"INDEX(Odds!I:I,MATCH(J39,Odds!F:F,0))","v":1},2.875,null,{"$f":"IF(Match!A39=\"\",\"\",Match!T39)","v":"Chelsea 0-2 Liverpool "},null,{"$f":"IF(Odds!F39=\"\",\"\",Odds!F39)","v":"Chelsea"},{"$f":"INDEX(Odds!G:G,MATCH(R39,Odds!F:F,0))","v":"21/10"},0,{"$f":"INDEX(Match!O:O,MATCH(P39,Match!T:T,0))","v":"Chelsea"},{"$f":"INDEX(Match!F:F,MATCH(P39,Match!T:T,0))","v":0},{"$f":"INDEX(Match!P:P,MATCH(P39,Match!T:T,0))","v":"Liverpool"},{"$f":"INDEX(Match!G:G,MATCH(P39,Match!T:T,0))","v":2},null,null,null,null,"Paul Allen",{"$f":"INDEX(Picks!F:F,MATCH(AC39,Picks!A:A,0))","v":-4.55},{"$f":"INDEX(Weekly!I:I,MATCH(AC39,Weekly!E:E,0))","v":1},{"$f":"IF(AD39=\"\",\"\",_xlfn.RANK.EQ(AD39,TopScores,0))","v":36},null,"John Ronan",{"$f":"INDEX(Picks!G:G,MATCH(AH39,Picks!A:A,0))","v":26.665750000000003},{"$f":"INDEX(Weekly!I:I,MATCH(AH39,Weekly!E:E,0))","v":1},{"$f":"IF(AI39=\"\",\"\",_xlfn.RANK.EQ(AI39,TopMaxScores,0))","v":36}]
[{"$f":"A38","v":"Chris Luck"},"Reading",{"$f":"IF(J40=\"\",\"\",INDEX(Odds!B:B,MATCH(J40,Odds!F:F,0)))","v":"1900-01-07"},2.4,"√",null,null,null,null,"Reading",{"$f":"INDEX(Odds!G:G,MATCH(J40,Odds!F:F,0))","v":"7/5"},{"$f":"INDEX(Odds!H:H,MATCH(J40,Odds!F:F,0))","v":2.4},{"$f":"INDEX(Odds!I:I,MATCH(J40,Odds!F:F,0))","v":1},2.4,null,{"$f":"IF(Match!A40=\"\",\"\",Match!T40)","v":"Leicester 4-2 Burnley "},null,{"$f":"IF(Odds!F40=\"\",\"\",Odds!F40)","v":"Leicester"},{"$f":"INDEX(Odds!G:G,MATCH(R40,Odds!F:F,0))","v":"13/20"},1,{"$f":"INDEX(Match!O:O,MATCH(P40,Match!T:T,0))","v":"Leicester"},{"$f":"INDEX(Match!F:F,MATCH(P40,Match!T:T,0))","v":4},{"$f":"INDEX(Match!P:P,MATCH(P40,Match!T:T,0))","v":"Burnley"},{"$f":"INDEX(Match!G:G,MATCH(P40,Match!T:T,0))","v":2},null,null,null,null,"Steve Carter",{"$f":"INDEX(Picks!F:F,MATCH(AC40,Picks!A:A,0))","v":-4.5999999999999996},{"$f":"INDEX(Weekly!I:I,MATCH(AC40,Weekly!E:E,0))","v":1},{"$f":"IF(AD40=\"\",\"\",_xlfn.RANK.EQ(AD40,TopScores,0))","v":39},null,"Oscar Jackson",{"$f":"INDEX(Picks!G:G,MATCH(AH40,Picks!A:A,0))","v":25.825000000000003},{"$f":"INDEX(Weekly!I:I,MATCH(AH40,Weekly!E:E,0))","v":1},{"$f":"IF(AI40=\"\",\"\",_xlfn.RANK.EQ(AI40,TopMaxScores,0))","v":37}]
[{"$f":"Results!B41","v":"Chris Townsend"},"Burnley",{"$f":"IF(J41=\"\",\"\",INDEX(Odds!B:B,MATCH(J41,Odds!F:F,0)))","v":"1900-01-01"},5.5,"x",{"$f":"IF(J41=\"\",-10,INDEX(Results!T:T,MATCH(A41,Results!V:V,0)))","v":4},{"$f":"IF(J41=\"\",\"\",INDEX(Results!AI:AI,MATCH(A41,Results!V:V,0)))","v":538},{"$f":"IF(G41=\"\",0,1)","v":1},{"$f":"INDEX(Picks!AF:AF,MATCH(A41,Picks!AC:AC,0))","v":12},"Burnley",{"$f":"INDEX(Odds!G:G,MATCH(J41,Odds!F:F,0))","v":"9/2"},{"$f":"INDEX(Odds!H:H,MATCH(J41,Odds!F:F,0))","v":5.5},{"$f":"INDEX(Odds!I:I,MATCH(J41,Odds!F:F,0))","v":0},0,null,{"$f":"IF(Match!A41=\"\",\"\",Match!T41)","v":"Newcastle 0-3 Brighton "},null,{"$f":"IF(Odds!F41=\"\",\"\",Odds!F41)","v":"Newcastle"},{"$f":"INDEX(Odds!G:G,MATCH(R41,Odds!F:F,0))","v":"31/20"},0,{"$f":"INDEX(Match!O:O,MATCH(P41,Match!T:T,0))","v":"Newcastle"},{"$f":"INDEX(Match!F:F,MATCH(P41,Match!T:T,0))","v":0},{"$f":"INDEX(Match!P:P,MATCH(P41,Match!T:T,0))","v":"Brighton"},{"$f":"INDEX(Match!G:G,MATCH(P41,Match!T:T,0))","v":3},null,null,null,null,"Mark Bunn",{"$f":"INDEX(Picks!F:F,MATCH(AC41,Picks!A:A,0))","v":-4.5999999999999996},{"$f":"INDEX(Weekly!I:I,MATCH(AC41,Weekly!E:E,0))","v":1},{"$f":"IF(AD41=\"\",\"\",_xlfn.RANK.EQ(AD41,TopScores,0))","v":39},null,"Steve Carter",{"$f":"INDEX(Picks!G:G,MATCH(AH41,Picks!A:A,0))","v":25.795999999999999},{"$f":"INDEX(Weekly!I:I,MATCH(AH41,Weekly!E:E,0))","v":1},{"$f":"IF(AI41=\"\",\"\",_xlfn.RANK.EQ(AI41,TopMaxScores,0))","v":38}]
[{"$f":"A41","v":"Chris Townsend"},"Palace",{"$f":"IF(J42=\"\",\"\",INDEX(Odds!B:B,MATCH(J42,Odds!F:F,0)))","v":"1900-01-07"},11,"√",null,null,null,null,"Palace",{"$f":"INDEX(Odds!G:G,MATCH(J42,Odds!F:F,0))","v":"10/1"},{"$f":"INDEX(Odds!H:H,MATCH(J42,Odds!F:F,0))","v":11},{"$f":"INDEX(Odds!I:I,MATCH(J42,Odds!F:F,0))","v":1},11,null,{"$f":"IF(Match!A42=\"\",\"\",Match!T42)","v":"Southampton 2-5 Spurs "},null,{"$f":"IF(Odds!F42=\"\",\"\",Odds!F42)","v":"Southampton"},{"$f":"INDEX(Odds!G:G,MATCH(R42,Odds!F:F,0))","v":"2/1"},0,{"$f":"INDEX(Match!O:O,MATCH(P42,Match!T:T,0))","v":"Southampton"},{"$f":"INDEX(Match!F:F,MATCH(P42,Match!T:T,0))","v":2},{"$f":"INDEX(Match!P:P,MATCH(P42,Match!T:T,0))","v":"Spurs"},{"$f":"INDEX(Match!G:G,MATCH(P42,Match!T:T,0))","v":5},null,null,null,null,"Phil Miller",{"$f":"INDEX(Picks!F:F,MATCH(AC42,Picks!A:A,0))","v":-4.7},{"$f":"INDEX(Weekly!I:I,MATCH(AC42,Weekly!E:E,0))","v":1},{"$f":"IF(AD42=\"\",\"\",_xlfn.RANK.EQ(AD42,TopScores,0))","v":41},null,"Nick Blocksidge",{"$f":"INDEX(Picks!G:G,MATCH(AH42,Picks!A:A,0))","v":24.785714285714285},{"$f":"INDEX(Weekly!I:I,MATCH(AH42,Weekly!E:E,0))","v":2},{"$f":"IF(AI42=\"\",\"\",_xlfn.RANK.EQ(AI42,TopMaxScores,0))","v":39}]
[{"$f":"A41","v":"Chris Townsend"},"West Brom",{"$f":"IF(J43=\"\",\"\",INDEX(Odds!B:B,MATCH(J43,Odds!F:F,0)))","v":"1900-01-07"},6,"x",null,null,null,null,"West Brom",{"$f":"INDEX(Odds!G:G,MATCH(J43,Odds!F:F,0))","v":"5/1"},{"$f":"INDEX(Odds!H:H,MATCH(J43,Odds!F:F,0))","v":6},{"$f":"INDEX(Odds!I:I,MATCH(J43,Odds!F:F,0))","v":0},0,null,{"$f":"IF(Match!A43=\"\",\"\",Match!T43)","v":"Stoke 0-2 Bristol C "},null,{"$f":"IF(Odds!F43=\"\",\"\",Odds!F43)","v":"Stoke"},{"$f":"INDEX(Odds!G:G,MATCH(R43,Odds!F:F,0))","v":"11/10"},0,{"$f":"INDEX(Match!O:O,MATCH(P43,Match!T:T,0))","v":"Stoke"},{"$f":"INDEX(Match!F:F,MATCH(P43,Match!T:T,0))","v":0},{"$f":"INDEX(Match!P:P,MATCH(P43,Match!T:T,0))","v":"Bristol C"},{"$f":"INDEX(Match!G:G,MATCH(P43,Match!T:T,0))","v":2},null,null,null,null,"Martin Tarbuck",{"$f":"INDEX(Picks!F:F,MATCH(AC43,Picks!A:A,0))","v":-4.7},{"$f":"INDEX(Weekly!I:I,MATCH(AC43,Weekly!E:E,0))","v":1},{"$f":"IF(AD43=\"\",\"\",_xlfn.RANK.EQ(AD43,TopScores,0))","v":41},null,"Graham Miller",{"$f":"INDEX(Picks!G:G,MATCH(AH43,Picks!A:A,0))","v":23.4175},{"$f":"INDEX(Weekly!I:I,MATCH(AH43,Weekly!E:E,0))","v":1},{"$f":"IF(AI43=\"\",\"\",_xlfn.RANK.EQ(AI43,TopMaxScores,0))","v":40}]
[{"$f":"Results!B44","v":"Dan Baxter"},"Arsenal draw",{"$f":"IF(J44=\"\",\"\",INDEX(Odds!B:B,MATCH(J44,Odds!F:F,0)))","v":"1900-01-07"},4.4000000000000004,"x",{"$f":"IF(J44=\"\",-10,INDEX(Results!T:T,MATCH(A44,Results!V:V,0)))","v":-7},{"$f":"IF(J44=\"\",\"\",INDEX(Results!AI:AI,MATCH(A44,Results!V:V,0)))","v":60.040000000000006},{"$f":"IF(G44=\"\",0,1)","v":1},{"$f":"INDEX(Picks!AF:AF,MATCH(A44,Picks!AC:AC,0))","v":53},"Arsenal draw",{"$f":"INDEX(Odds!G:G,MATCH(J44,Odds!F:F,0))","v":"17/5"},{"$f":"INDEX(Odds!H:H,MATCH(J44,Odds!F:F,0))","v":4.4000000000000004},{"$f":"INDEX(Odds!I:I,MATCH(J44,Odds!F:F,0))","v":0},0,null,{"$f":"IF(Match!A44=\"\",\"\",Match!T44)","v":"Rochdale 0-0 Portsmouth "},null,{"$f":"IF(Odds!F44=\"\",\"\",Odds!F44)","v":"Rochdale"},{"$f":"INDEX(Odds!G:G,MATCH(R44,Odds!F:F,0))","v":"15/4"},0,{"$f":"INDEX(Match!O:O,MATCH(P44,Match!T:T,0))","v":"Rochdale"},{"$f":"INDEX(Match!F:F,MATCH(P44,Match!T:T,0))","v":0},{"$f":"INDEX(Match!P:P,MATCH(P44,Match!T:T,0))","v":"Portsmouth"},{"$f":"INDEX(Match!G:G,MATCH(P44,Match!T:T,0))","v":0},null,null,null,null,"Liam Wah",{"$f":"INDEX(Picks!F:F,MATCH(AC44,Picks!A:A,0))","v":-4.8},{"$f":"INDEX(Weekly!I:I,MATCH(AC44,Weekly!E:E,0))","v":1},{"$f":"IF(AD44=\"\",\"\",_xlfn.RANK.EQ(AD44,TopScores,0))","v":43},null,"Martin Molyneux",{"$f":"INDEX(Picks!G:G,MATCH(AH44,Picks!A:A,0))","v":23.137499999999999},{"$f":"INDEX(Weekly!I:I,MATCH(AH44,Weekly!E:E,0))","v":2},{"$f":"IF(AI44=\"\",\"\",_xlfn.RANK.EQ(AI44,TopMaxScores,0))","v":41}]
[{"$f":"A44","v":"Dan Baxter"},"Norwich",{"$f":"IF(J45=\"\",\"\",INDEX(Odds!B:B,MATCH(J45,Odds!F:F,0)))","v":"1900-01-07"},1.8,"x",null,null,null,null,"Norwich",{"$f":"INDEX(Odds!G:G,MATCH(J45,Odds!F:F,0))","v":"4/5"},{"$f":"INDEX(Odds!H:H,MATCH(J45,Odds!F:F,0))","v":1.8},{"$f":"INDEX(Odds!I:I,MATCH(J45,Odds!F:F,0))","v":0},0,null,{"$f":"IF(Match!A45=\"\",\"\",Match!T45)","v":""},null,{"$f":"IF(Odds!F45=\"\",\"\",Odds!F45)","v":""},{"$f":"INDEX(Odds!G:G,MATCH(R45,Odds!F:F,0))","v":""},{"$error":"#N/A"},{"$f":"INDEX(Match!O:O,MATCH(P45,Match!T:T,0))","v":{"$error":"#N/A"}},{"$f":"INDEX(Match!F:F,MATCH(P45,Match!T:T,0))","v":{"$error":"#N/A"}},{"$f":"INDEX(Match!P:P,MATCH(P45,Match!T:T,0))","v":{"$error":"#N/A"}},{"$f":"INDEX(Match!G:G,MATCH(P45,Match!T:T,0))","v":{"$error":"#N/A"}},null,null,null,null,"John Ronan",{"$f":"INDEX(Picks!F:F,MATCH(AC45,Picks!A:A,0))","v":-4.8499999999999996},{"$f":"INDEX(Weekly!I:I,MATCH(AC45,Weekly!E:E,0))","v":1},{"$f":"IF(AD45=\"\",\"\",_xlfn.RANK.EQ(AD45,TopScores,0))","v":44},null,"Nigel Heyes",{"$f":"INDEX(Picks!G:G,MATCH(AH45,Picks!A:A,0))","v":22.09},{"$f":"INDEX(Weekly!I:I,MATCH(AH45,Weekly!E:E,0))","v":2},{"$f":"IF(AI45=\"\",\"\",_xlfn.RANK.EQ(AI45,TopMaxScores,0))","v":42}]
[{"$f":"A44","v":"Dan Baxter"},"Swindon",{"$f":"IF(J46=\"\",\"\",INDEX(Odds!B:B,MATCH(J46,Odds!F:F,0)))","v":"1900-01-07"},3.5,"x",null,null,null,null,"Swindon",{"$f":"INDEX(Odds!G:G,MATCH(J46,Odds!F:F,0))","v":"5/2"},{"$f":"INDEX(Odds!H:H,MATCH(J46,Odds!F:F,0))","v":3.5},{"$f":"INDEX(Odds!I:I,MATCH(J46,Odds!F:F,0))","v":0},0,null,{"$f":"IF(Match!A46=\"\",\"\",Match!T46)","v":""},null,{"$f":"IF(Odds!F46=\"\",\"\",Odds!F46)","v":""},{"$f":"INDEX(Odds!G:G,MATCH(R46,Odds!F:F,0))","v":""},{"$error":"#N/A"},{"$f":"INDEX(Match!O:O,MATCH(P46,Match!T:T,0))","v":{"$error":"#N/A"}},{"$f":"INDEX(Match!F:F,MATCH(P46,Match!T:T,0))","v":{"$error":"#N/A"}},{"$f":"INDEX(Match!P:P,MATCH(P46,Match!T:T,0))","v":{"$error":"#N/A"}},{"$f":"INDEX(Match!G:G,MATCH(P46,Match!T:T,0))","v":{"$error":"#N/A"}},null,null,null,null,"Graham Miller",{"$f":"INDEX(Picks!F:F,MATCH(AC46,Picks!A:A,0))","v":-5.05},{"$f":"INDEX(Weekly!I:I,MATCH(AC46,Weekly!E:E,0))","v":1},{"$f":"IF(AD46=\"\",\"\",_xlfn.RANK.EQ(AD46,TopScores,0))","v":45},null,"Barry Birchall",{"$f":"INDEX(Picks!G:G,MATCH(AH46,Picks!A:A,0))","v":20.195714285714285},{"$f":"INDEX(Weekly!I:I,MATCH(AH46,Weekly!E:E,0))","v":2},{"$f":"IF(AI46=\"\",\"\",_xlfn.RANK.EQ(AI46,TopMaxScores,0))","v":43}]
[{"$f":"Results!B47","v":"Dave Bell"},"West Brom",{"$f":"IF(J47=\"\",\"\",INDEX(Odds!B:B,MATCH(J47,Odds!F:F,0)))","v":"1900-01-07"},6,"x",{"$f":"IF(J47=\"\",-10,INDEX(Results!T:T,MATCH(A47,Results!V:V,0)))","v":4},{"$f":"IF(J47=\"\",\"\",INDEX(Results!AI:AI,MATCH(A47,Results!V:V,0)))","v":538},{"$f":"IF(G47=\"\",0,1)","v":1},{"$f":"INDEX(Picks!AF:AF,MATCH(A47,Picks!AC:AC,0))","v":12},"West Brom",{"$f":"INDEX(Odds!G:G,MATCH(J47,Odds!F:F,0))","v":"5/1"},{"$f":"INDEX(Odds!H:H,MATCH(J47,Odds!F:F,0))","v":6},{"$f":"INDEX(Odds!I:I,MATCH(J47,Odds!F:F,0))","v":0},0,null,{"$f":"IF(Match!A47=\"\",\"\",Match!T47)","v":""},null,{"$f":"IF(Odds!F47=\"\",\"\",Odds!F47)","v":""},{"$f":"INDEX(Odds!G:G,MATCH(R47,Odds!F:F,0))","v":""},{"$f":"IF(V47>X47,1,0)","v":{"$error":"#N/A"}},{"$f":"INDEX(Match!O:O,MATCH(P47,Match!T:T,0))","v":{"$error":"#N/A"}},{"$f":"INDEX(Match!F:F,MATCH(P47,Match!T:T,0))","v":{"$error":"#N/A"}},{"$f":"INDEX(Match!P:P,MATCH(P47,Match!T:T,0))","v":{"$error":"#N/A"}},{"$f":"INDEX(Match!G:G,MATCH(P47,Match!T:T,0))","v":{"$error":"#N/A"}},null,null,null,null,"Gareth McGuire",{"$f":"INDEX(Picks!F:F,MATCH(AC47,Picks!A:A,0))","v":-5.05},{"$f":"INDEX(Weekly!I:I,MATCH(AC47,Weekly!E:E,0))","v":1},{"$f":"IF(AD47=\"\",\"\",_xlfn.RANK.EQ(AD47,TopScores,0))","v":45},null,"Phil Miller",{"$f":"INDEX(Picks!G:G,MATCH(AH47,Picks!A:A,0))","v":18.777142857142852},{"$f":"INDEX(Weekly!I:I,MATCH(AH47,Weekly!E:E,0))","v":1},{"$f":"IF(AI47=\"\",\"\",_xlfn.RANK.EQ(AI47,TopMaxScores,0))","v":44}]
[{"$f":"A47","v":"Dave Bell"},"Palace",{"$f":"IF(J48=\"\",\"\",INDEX(Odds!B:B,MATCH(J48,Odds!F:F,0)))","v":"1900-01-07"},11,"√",null,null,null,null,"Palace",{"$f":"INDEX(Odds!G:G,MATCH(J48,Odds!F:F,0))","v":"10/1"},{"$f":"INDEX(Odds!H:H,MATCH(J48,Odds!F:F,0))","v":11},{"$f":"INDEX(Odds!I:I,MATCH(J48,Odds!F:F,0))","v":1},11,null,null,null,{"$f":"IF(Odds!F48=\"\",\"\",Odds!F48)","v":"Coventry draw"},{"$f":"INDEX(Odds!G:G,MATCH(R48,Odds!F:F,0))","v":"9/4"},{"$f":"IF(V2=X2,1,0)","v":0},null,null,null,null,null,null,null,null,"Lewis Buckley",{"$f":"INDEX(Picks!F:F,MATCH(AC48,Picks!A:A,0))","v":-5.35},{"$f":"INDEX(Weekly!I:I,MATCH(AC48,Weekly!E:E,0))","v":1},{"$f":"IF(AD48=\"\",\"\",_xlfn.RANK.EQ(AD48,TopScores,0))","v":47},null,"Gareth Powell",{"$f":"INDEX(Picks!G:G,MATCH(AH48,Picks!A:A,0))","v":17.944615384615389},{"$f":"INDEX(Weekly!I:I,MATCH(AH48,Weekly!E:E,0))","v":2},{"$f":"IF(AI48=\"\",\"\",_xlfn.RANK.EQ(AI48,TopMaxScores,0))","v":45}]
[{"$f":"A47","v":"Dave Bell"},"Fulham",{"$f":"IF(J49=\"\",\"\",INDEX(Odds!B:B,MATCH(J49,Odds!F:F,0)))","v":"1900-01-07"},5.5,"x",null,null,null,null,"Fulham",{"$f":"INDEX(Odds!G:G,MATCH(J49,Odds!F:F,0))","v":"9/2"},{"$f":"INDEX(Odds!H:H,MATCH(J49,Odds!F:F,0))","v":5.5},{"$f":"INDEX(Odds!I:I,MATCH(J49,Odds!F:F,0))","v":0},0,null,null,null,{"$f":"IF(Odds!F49=\"\",\"\",Odds!F49)","v":"Arsenal draw"},{"$f":"INDEX(Odds!G:G,MATCH(R49,Odds!F:F,0))","v":"17/5"},0,null,null,null,null,null,null,null,null,"Joel Bent",{"$f":"INDEX(Picks!F:F,MATCH(AC49,Picks!A:A,0))","v":-5.35},{"$f":"INDEX(Weekly!I:I,MATCH(AC49,Weekly!E:E,0))","v":1},{"$f":"IF(AD49=\"\",\"\",_xlfn.RANK.EQ(AD49,TopScores,0))","v":47},null,"Paul Ridgeway",{"$f":"INDEX(Picks!G:G,MATCH(AH49,Picks!A:A,0))","v":17.643846153846155},{"$f":"INDEX(Weekly!I:I,MATCH(AH49,Weekly!E:E,0))","v":2},{"$f":"IF(AI49=\"\",\"\",_xlfn.RANK.EQ(AI49,TopMaxScores,0))","v":46}]
[{"$f":"Results!B50","v":"Dave Orrell"},"Hull",{"$f":"IF(J50=\"\",\"\",INDEX(Odds!B:B,MATCH(J50,Odds!F:F,0)))","v":"1900-01-07"},1.95,"√",{"$f":"IF(J50=\"\",-10,INDEX(Results!T:T,MATCH(A50,Results!V:V,0)))","v":28.506249999999994},{"$f":"IF(J50=\"\",\"\",INDEX(Results!AI:AI,MATCH(A50,Results!V:V,0)))","v":28.506249999999994},{"$f":"IF(G50=\"\",0,1)","v":1},{"$f":"INDEX(Picks!AF:AF,MATCH(A50,Picks!AC:AC,0))","v":4},"Hull",{"$f":"INDEX(Odds!G:G,MATCH(J50,Odds!F:F,0))","v":"19/20"},{"$f":"INDEX(Odds!H:H,MATCH(J50,Odds!F:F,0))","v":1.95},{"$f":"INDEX(Odds!I:I,MATCH(J50,Odds!F:F,0))","v":1},1.95,null,null,"`",{"$f":"IF(Odds!F50=\"\",\"\",Odds!F50)","v":"Everton draw"},{"$f":"INDEX(Odds!G:G,MATCH(R50,Odds!F:F,0))","v":"16/5"},0,null,null,null,null,null,null,null,null,"Howard Bradley",{"$f":"INDEX(Picks!F:F,MATCH(AC50,Picks!A:A,0))","v":-5.4285714285714288},{"$f":"INDEX(Weekly!I:I,MATCH(AC50,Weekly!E:E,0))","v":1},{"$f":"IF(AD50=\"\",\"\",_xlfn.RANK.EQ(AD50,TopScores,0))","v":49},null,"David Dunn",{"$f":"INDEX(Picks!G:G,MATCH(AH50,Picks!A:A,0))","v":17.5},{"$f":"INDEX(Weekly!I:I,MATCH(AH50,Weekly!E:E,0))","v":2},{"$f":"IF(AI50=\"\",\"\",_xlfn.RANK.EQ(AI50,TopMaxScores,0))","v":47}]
[{"$f":"A50","v":"Dave Orrell"},"Lincoln",{"$f":"IF(J51=\"\",\"\",INDEX(Odds!B:B,MATCH(J51,Odds!F:F,0)))","v":"1900-01-07"},2.75,"√",null,null,null,null,"Lincoln",{"$f":"INDEX(Odds!G:G,MATCH(J51,Odds!F:F,0))","v":"7/4"},{"$f":"INDEX(Odds!H:H,MATCH(J51,Odds!F:F,0))","v":2.75},{"$f":"INDEX(Odds!I:I,MATCH(J51,Odds!F:F,0))","v":1},2.75,null,null,null,{"$f":"IF(Odds!F51=\"\",\"\",Odds!F51)","v":"Leeds draw"},{"$f":"INDEX(Odds!G:G,MATCH(R51,Odds!F:F,0))","v":"3/1"},0,null,null,null,null,null,null,null,null,"Mark Saunders",{"$f":"INDEX(Picks!F:F,MATCH(AC51,Picks!A:A,0))","v":-5.5},{"$f":"INDEX(Weekly!I:I,MATCH(AC51,Weekly!E:E,0))","v":1},{"$f":"IF(AD51=\"\",\"\",_xlfn.RANK.EQ(AD51,TopScores,0))","v":50},null,"Howard Bradley",{"$f":"INDEX(Picks!G:G,MATCH(AH51,Picks!A:A,0))","v":17.103571428571424},{"$f":"INDEX(Weekly!I:I,MATCH(AH51,Weekly!E:E,0))","v":1},{"$f":"IF(AI51=\"\",\"\",_xlfn.RANK.EQ(AI51,TopMaxScores,0))","v":48}]
[{"$f":"A50","v":"Dave Orrell"},"Salford",{"$f":"IF(J52=\"\",\"\",INDEX(Odds!B:B,MATCH(J52,Odds!F:F,0)))","v":"1900-01-07"},2.2999999999999998,"√",null,null,null,null,"Salford",{"$f":"INDEX(Odds!G:G,MATCH(J52,Odds!F:F,0))","v":"13/10"},{"$f":"INDEX(Odds!H:H,MATCH(J52,Odds!F:F,0))","v":2.2999999999999998},{"$f":"INDEX(Odds!I:I,MATCH(J52,Odds!F:F,0))","v":1},2.2999999999999998,null,null,null,{"$f":"IF(Odds!F52=\"\",\"\",Odds!F52)","v":"Man U draw"},{"$f":"INDEX(Odds!G:G,MATCH(R52,Odds!F:F,0))","v":"9/2"},0,null,null,null,null,null,null,null,null,"Oscar Jackson",{"$f":"INDEX(Picks!F:F,MATCH(AC52,Picks!A:A,0))","v":-5.5},{"$f":"INDEX(Weekly!I:I,MATCH(AC52,Weekly!E:E,0))","v":1},{"$f":"IF(AD52=\"\",\"\",_xlfn.RANK.EQ(AD52,TopScores,0))","v":50},null,"Mark Saunders",{"$f":"INDEX(Picks!G:G,MATCH(AH52,Picks!A:A,0))","v":16.850000000000001},{"$f":"INDEX(Weekly!I:I,MATCH(AH52,Weekly!E:E,0))","v":1},{"$f":"IF(AI52=\"\",\"\",_xlfn.RANK.EQ(AI52,TopMaxScores,0))","v":49}]
[{"$f":"Results!B53","v":"David Dunn"},"QPR",{"$f":"IF(J53=\"\",\"\",INDEX(Odds!B:B,MATCH(J53,Odds!F:F,0)))","v":"1900-01-06"},2.9,"x",{"$f":"IF(J53=\"\",-10,INDEX(Results!T:T,MATCH(A53,Results!V:V,0)))","v":-1.4615384615384617},{"$f":"IF(J53=\"\",\"\",INDEX(Results!AI:AI,MATCH(A53,Results!V:V,0)))","v":17.5},{"$f":"IF(G53=\"\",0,1)","v":1},{"$f":"INDEX(Picks!AF:AF,MATCH(A53,Picks!AC:AC,0))","v":29},"QPR",{"$f":"INDEX(Odds!G:G,MATCH(J53,Odds!F:F,0))","v":"19/10"},{"$f":"INDEX(Odds!H:H,MATCH(J53,Odds!F:F,0))","v":2.9},{"$f":"INDEX(Odds!I:I,MATCH(J53,Odds!F:F,0))","v":0},0,null,null,null,{"$f":"IF(Odds!F53=\"\",\"\",Odds!F53)","v":"Blackburn draw"},{"$f":"INDEX(Odds!G:G,MATCH(R53,Odds!F:F,0))","v":"3/1"},0,null,null,null,null,null,null,null,null,"Simon Greenhalgh",{"$f":"INDEX(Picks!F:F,MATCH(AC53,Picks!A:A,0))","v":-5.5},{"$f":"INDEX(Weekly!I:I,MATCH(AC53,Weekly!E:E,0))","v":1},{"$f":"IF(AD53=\"\",\"\",_xlfn.RANK.EQ(AD53,TopScores,0))","v":50},null,"Simon Greenhalgh",{"$f":"INDEX(Picks!G:G,MATCH(AH53,Picks!A:A,0))","v":15.100000000000001},{"$f":"INDEX(Weekly!I:I,MATCH(AH53,Weekly!E:E,0))","v":1},{"$f":"IF(AI53=\"\",\"\",_xlfn.RANK.EQ(AI53,TopMaxScores,0))","v":50}]
[{"$f":"A53","v":"David Dunn"},"Arsenal",{"$f":"IF(J54=\"\",\"\",INDEX(Odds!B:B,MATCH(J54,Odds!F:F,0)))","v":"1900-01-07"},1.5,"√",null,null,null,null,"Arsenal",{"$f":"INDEX(Odds!G:G,MATCH(J54,Odds!F:F,0))","v":"1/2"},{"$f":"INDEX(Odds!H:H,MATCH(J54,Odds!F:F,0))","v":1.5},{"$f":"INDEX(Odds!I:I,MATCH(J54,Odds!F:F,0))","v":1},1.5,null,null,null,{"$f":"IF(Odds!F54=\"\",\"\",Odds!F54)","v":"Brentford draw"},{"$f":"INDEX(Odds!G:G,MATCH(R54,Odds!F:F,0))","v":"14/5"},0,null,null,null,null,null,null,null,null,"Pete Baron",{"$f":"INDEX(Picks!F:F,MATCH(AC54,Picks!A:A,0))","v":-7},{"$f":"INDEX(Weekly!I:I,MATCH(AC54,Weekly!E:E,0))","v":0},{"$f":"IF(AD54=\"\",\"\",_xlfn.RANK.EQ(AD54,TopScores,0))","v":53},null,"Ashley Houghton",{"$f":"INDEX(Picks!G:G,MATCH(AH54,Picks!A:A,0))","v":14.862500000000001},{"$f":"INDEX(Weekly!I:I,MATCH(AH54,Weekly!E:E,0))","v":2},{"$f":"IF(AI54=\"\",\"\",_xlfn.RANK.EQ(AI54,TopMaxScores,0))","v":51}]
[{"$f":"A53","v":"David Dunn"},"Leeds",{"$f":"IF(J55=\"\",\"\",INDEX(Odds!B:B,MATCH(J55,Odds!F:F,0)))","v":"1900-01-07"},1.6153846153846154,"√",null,null,null,null,"Leeds",{"$f":"INDEX(Odds!G:G,MATCH(J55,Odds!F:F,0))","v":"8/13"},{"$f":"INDEX(Odds!H:H,MATCH(J55,Odds!F:F,0))","v":1.6153846153846154},{"$f":"INDEX(Odds!I:I,MATCH(J55,Odds!F:F,0))","v":1},1.6153846153846154,null,null,null,{"$f":"IF(Odds!F55=\"\",\"\",Odds!F55)","v":"Forest draw"},{"$f":"INDEX(Odds!G:G,MATCH(R55,Odds!F:F,0))","v":"11/5"},0,null,null,null,null,null,null,null,null,"Sally Williams",{"$f":"INDEX(Picks!F:F,MATCH(AC55,Picks!A:A,0))","v":-7},{"$f":"INDEX(Weekly!I:I,MATCH(AC55,Weekly!E:E,0))","v":0},{"$f":"IF(AD55=\"\",\"\",_xlfn.RANK.EQ(AD55,TopScores,0))","v":53},null,"Alan White",{"$f":"INDEX(Picks!G:G,MATCH(AH55,Picks!A:A,0))","v":14.631249999999998},{"$f":"INDEX(Weekly!I:I,MATCH(AH55,Weekly!E:E,0))","v":2},{"$f":"IF(AI55=\"\",\"\",_xlfn.RANK.EQ(AI55,TopMaxScores,0))","v":52}]
[{"$f":"Results!B56","v":"Gareth Fallows"},"",{"$f":"IF(J56=\"\",\"\",INDEX(Odds!B:B,MATCH(J56,Odds!F:F,0)))","v":""},"","",{"$f":"IF(J56=\"\",-10,INDEX(Results!T:T,MATCH(A56,Results!V:V,0)))","v":-10},{"$f":"IF(J56=\"\",\"\",INDEX(Results!AI:AI,MATCH(A56,Results!V:V,0)))","v":""},{"$f":"IF(G56=\"\",0,1)","v":0},{"$f":"INDEX(Picks!AF:AF,MATCH(A56,Picks!AC:AC,0))","v":61},null,{"$f":"INDEX(Odds!G:G,MATCH(J56,Odds!F:F,0))","v":{"$error":"#N/A"}},{"$f":"INDEX(Odds!H:H,MATCH(J56,Odds!F:F,0))","v":{"$error":"#N/A"}},{"$f":"INDEX(Odds!I:I,MATCH(J56,Odds!F:F,0))","v":{"$error":"#N/A"}},{"$error":"#N/A"},null,null,null,{"$f":"IF(Odds!F56=\"\",\"\",Odds!F56)","v":"Luton draw"},{"$f":"INDEX(Odds!G:G,MATCH(R56,Odds!F:F,0))","v":"9/4"},0,null,null,null,null,null,null,null,null,"Alan Rogers",{"$f":"INDEX(Picks!F:F,MATCH(AC56,Picks!A:A,0))","v":-7},{"$f":"INDEX(Weekly!I:I,MATCH(AC56,Weekly!E:E,0))","v":0},{"$f":"IF(AD56=\"\",\"\",_xlfn.RANK.EQ(AD56,TopScores,0))","v":53},null,"Chris Griffin",{"$f":"INDEX(Picks!G:G,MATCH(AH56,Picks!A:A,0))","v":13.603076923076923},{"$f":"INDEX(Weekly!I:I,MATCH(AH56,Weekly!E:E,0))","v":2},{"$f":"IF(AI56=\"\",\"\",_xlfn.RANK.EQ(AI56,TopMaxScores,0))","v":53}]
[{"$f":"A56","v":"Gareth Fallows"},"",{"$f":"IF(J57=\"\",\"\",INDEX(Odds!B:B,MATCH(J57,Odds!F:F,0)))","v":""},"","",null,null,null,null,null,{"$f":"INDEX(Odds!G:G,MATCH(J57,Odds!F:F,0))","v":{"$error":"#N/A"}},{"$f":"INDEX(Odds!H:H,MATCH(J57,Odds!F:F,0))","v":{"$error":"#N/A"}},{"$f":"INDEX(Odds!I:I,MATCH(J57,Odds!F:F,0))","v":{"$error":"#N/A"}},{"$error":"#N/A"},null,null,null,{"$f":"IF(Odds!F57=\"\",\"\",Odds!F57)","v":"Middlesbro draw"},{"$f":"INDEX(Odds!G:G,MATCH(R57,Odds!F:F,0))","v":"11/5"},1,null,null,null,null,null,null,null,null,"Kei Lok Ma",{"$f":"INDEX(Picks!F:F,MATCH(AC57,Picks!A:A,0))","v":-7},{"$f":"INDEX(Weekly!I:I,MATCH(AC57,Weekly!E:E,0))","v":0},{"$f":"IF(AD57=\"\",\"\",_xlfn.RANK.EQ(AD57,TopScores,0))","v":53},null,"Alick Rocca",{"$f":"INDEX(Picks!G:G,MATCH(AH57,Picks!A:A,0))","v":10.806250000000002},{"$f":"INDEX(Weekly!I:I,MATCH(AH57,Weekly!E:E,0))","v":3},{"$f":"IF(AI57=\"\",\"\",_xlfn.RANK.EQ(AI57,TopMaxScores,0))","v":54}]
[{"$f":"A56","v":"Gareth Fallows"},"",{"$f":"IF(J58=\"\",\"\",INDEX(Odds!B:B,MATCH(J58,Odds!F:F,0)))","v":""},"","",null,null,null,null,null,{"$f":"INDEX(Odds!G:G,MATCH(J58,Odds!F:F,0))","v":{"$error":"#N/A"}},{"$f":"INDEX(Odds!H:H,MATCH(J58,Odds!F:F,0))","v":{"$error":"#N/A"}},{"$f":"INDEX(Odds!I:I,MATCH(J58,Odds!F:F,0))","v":{"$error":"#N/A"}},{"$error":"#N/A"},null,null,null,{"$f":"IF(Odds!F58=\"\",\"\",Odds!F58)","v":"Norwich draw"},{"$f":"INDEX(Odds!G:G,MATCH(R58,Odds!F:F,0))","v":"5/2"},1,null,null,null,null,null,null,null,null,"Alfie Davies",{"$f":"INDEX(Picks!F:F,MATCH(AC58,Picks!A:A,0))","v":-7},{"$f":"INDEX(Weekly!I:I,MATCH(AC58,Weekly!E:E,0))","v":0},{"$f":"IF(AD58=\"\",\"\",_xlfn.RANK.EQ(AD58,TopScores,0))","v":53},null,"Steve Baxter",{"$f":"INDEX(Picks!G:G,MATCH(AH58,Picks!A:A,0))","v":10.285714285714288},{"$f":"INDEX(Weekly!I:I,MATCH(AH58,Weekly!E:E,0))","v":2},{"$f":"IF(AI58=\"\",\"\",_xlfn.RANK.EQ(AI58,TopMaxScores,0))","v":55}]
[{"$f":"Results!B59","v":"Gareth McGuire"},"Bournemouth",{"$f":"IF(J59=\"\",\"\",INDEX(Odds!B:B,MATCH(J59,Odds!F:F,0)))","v":"1900-01-07"},2.7,"x",{"$f":"IF(J59=\"\",-10,INDEX(Results!T:T,MATCH(A59,Results!V:V,0)))","v":-5.05},{"$f":"IF(J59=\"\",\"\",INDEX(Results!AI:AI,MATCH(A59,Results!V:V,0)))","v":30.748249999999999},{"$f":"IF(G59=\"\",0,1)","v":1},{"$f":"INDEX(Picks!AF:AF,MATCH(A59,Picks!AC:AC,0))","v":45},"Bournemouth",{"$f":"INDEX(Odds!G:G,MATCH(J59,Odds!F:F,0))","v":"17/10"},{"$f":"INDEX(Odds!H:H,MATCH(J59,Odds!F:F,0))","v":2.7},{"$f":"INDEX(Odds!I:I,MATCH(J59,Odds!F:F,0))","v":0},0,null,null,null,{"$f":"IF(Odds!F59=\"\",\"\",Odds!F59)","v":"Reading draw"},{"$f":"INDEX(Odds!G:G,MATCH(R59,Odds!F:F,0))","v":"23/10"},0,null,null,null,null,null,null,null,null,"Ben Rosser",{"$f":"INDEX(Picks!F:F,MATCH(AC59,Picks!A:A,0))","v":-7},{"$f":"INDEX(Weekly!I:I,MATCH(AC59,Weekly!E:E,0))","v":0},{"$f":"IF(AD59=\"\",\"\",_xlfn.RANK.EQ(AD59,TopScores,0))","v":53},null,"Mo Sudell",{"$f":"INDEX(Picks!G:G,MATCH(AH59,Picks!A:A,0))","v":10.032142857142858},{"$f":"INDEX(Weekly!I:I,MATCH(AH59,Weekly!E:E,0))","v":2},{"$f":"IF(AI59=\"\",\"\",_xlfn.RANK.EQ(AI59,TopMaxScores,0))","v":56}]
[{"$f":"A59","v":"Gareth McGuire"},{"$f":"IF(J60=\"\",\"\",J60)","v":"Watford"},{"$f":"IF(J60=\"\",\"\",INDEX(Odds!B:B,MATCH(J60,Odds!F:F,0)))","v":"1900-01-07"},2.5499999999999998,"x",null,null,null,null,"Watford",{"$f":"INDEX(Odds!G:G,MATCH(J60,Odds!F:F,0))","v":"31/20"},{"$f":"INDEX(Odds!H:H,MATCH(J60,Odds!F:F,0))","v":2.5499999999999998},{"$f":"INDEX(Odds!I:I,MATCH(J60,Odds!F:F,0))","v":0},0,null,null,null,{"$f":"IF(Odds!F60=\"\",\"\",Odds!F60)","v":"Rotherham draw"},{"$f":"INDEX(Odds!G:G,MATCH(R60,Odds!F:F,0))","v":"21/10"},0,null,null,null,null,null,null,null,null,"Dan Baxter",{"$f":"INDEX(Picks!F:F,MATCH(AC60,Picks!A:A,0))","v":-7},{"$f":"INDEX(Weekly!I:I,MATCH(AC60,Weekly!E:E,0))","v":0},{"$f":"IF(AD60=\"\",\"\",_xlfn.RANK.EQ(AD60,TopScores,0))","v":53},null,"Paul Barnes",{"$f":"INDEX(Picks!G:G,MATCH(AH60,Picks!A:A,0))","v":8.6730769230769234},{"$f":"INDEX(Weekly!I:I,MATCH(AH60,Weekly!E:E,0))","v":3},{"$f":"IF(AI60=\"\",\"\",_xlfn.RANK.EQ(AI60,TopMaxScores,0))","v":57}]
[{"$f":"A59","v":"Gareth McGuire"},{"$f":"IF(J61=\"\",\"\",J61)","v":"Hull"},{"$f":"IF(J61=\"\",\"\",INDEX(Odds!B:B,MATCH(J61,Odds!F:F,0)))","v":"1900-01-07"},{"$f":"IF(J61=\"\",\"\",L61)","v":1.95},"√",null,null,null,null,"Hull",{"$f":"INDEX(Odds!G:G,MATCH(J61,Odds!F:F,0))","v":"19/20"},{"$f":"INDEX(Odds!H:H,MATCH(J61,Odds!F:F,0))","v":1.95},{"$f":"INDEX(Odds!I:I,MATCH(J61,Odds!F:F,0))","v":1},1.95,null,null,null,{"$f":"IF(Odds!F61=\"\",\"\",Odds!F61)","v":"Sheff W draw"},{"$f":"INDEX(Odds!G:G,MATCH(R61,Odds!F:F,0))","v":"11/5"},1,null,null,null,null,null,null,null,null,"James Bell",{"$f":"INDEX(Picks!F:F,MATCH(AC61,Picks!A:A,0))","v":-7},{"$f":"INDEX(Weekly!I:I,MATCH(AC61,Weekly!E:E,0))","v":0},{"$f":"IF(AD61=\"\",\"\",_xlfn.RANK.EQ(AD61,TopScores,0))","v":53},null,"Kevin Carter",{"$f":"INDEX(Picks!G:G,MATCH(AH61,Picks!A:A,0))","v":8.6730769230769234},{"$f":"INDEX(Weekly!I:I,MATCH(AH61,Weekly!E:E,0))","v":3},{"$f":"IF(AI61=\"\",\"\",_xlfn.RANK.EQ(AI61,TopMaxScores,0))","v":57}]
[{"$f":"Results!B62","v":"Gareth Powell"},"Leeds",{"$f":"IF(J62=\"\",\"\",INDEX(Odds!B:B,MATCH(J62,Odds!F:F,0)))","v":"1900-01-07"},1.6153846153846154,"√",{"$f":"IF(J62=\"\",-10,INDEX(Results!T:T,MATCH(A62,Results!V:V,0)))","v":0.3692307692307697},{"$f":"IF(J62=\"\",\"\",INDEX(Results!AI:AI,MATCH(A62,Results!V:V,0)))","v":17.944615384615389},{"$f":"IF(G62=\"\",0,1)","v":1},{"$f":"INDEX(Picks!AF:AF,MATCH(A62,Picks!AC:AC,0))","v":19},"Leeds",{"$f":"INDEX(Odds!G:G,MATCH(J62,Odds!F:F,0))","v":"8/13"},{"$f":"INDEX(Odds!H:H,MATCH(J62,Odds!F:F,0))","v":1.6153846153846154},{"$f":"INDEX(Odds!I:I,MATCH(J62,Odds!F:F,0))","v":1},{"$f":"L62*M62","v":1.6153846153846154},null,null,null,{"$f":"IF(Odds!F62=\"\",\"\",Odds!F62)","v":"Swansea draw"},{"$f":"INDEX(Odds!G:G,MATCH(R62,Odds!F:F,0))","v":"11/5"},1,null,null,null,null,null,null,null,null,"Tom Robinson",{"$f":"INDEX(Picks!F:F,MATCH(AC62,Picks!A:A,0))","v":-10},{"$f":"INDEX(Weekly!I:I,MATCH(AC62,Weekly!E:E,0))","v":0},{"$f":"IF(AD62=\"\",\"\",_xlfn.RANK.EQ(AD62,TopScores,0))","v":61},null,"Stephen Troop",{"$f":"INDEX(Picks!G:G,MATCH(AH62,Picks!A:A,0))","v":7.2439560439560431},{"$f":"INDEX(Weekly!I:I,MATCH(AH62,Weekly!E:E,0))","v":2},{"$f":"IF(AI62=\"\",\"\",_xlfn.RANK.EQ(AI62,TopMaxScores,0))","v":59}]
[{"$f":"A62","v":"Gareth Powell"},{"$f":"IF(J63=\"\",\"\",J63)","v":"Swansea"},{"$f":"IF(J63=\"\",\"\",INDEX(Odds!B:B,MATCH(J63,Odds!F:F,0)))","v":"1900-01-07"},{"$f":"IF(J63=\"\",\"\",L63)","v":2.1},{"$f":"IF(J63=\"\",\"\",IF(M63=1,\"√\",\"x\"))","v":"x"},null,null,null,null,"Swansea",{"$f":"INDEX(Odds!G:G,MATCH(J63,Odds!F:F,0))","v":"11/10"},{"$f":"INDEX(Odds!H:H,MATCH(J63,Odds!F:F,0))","v":2.1},{"$f":"INDEX(Odds!I:I,MATCH(J63,Odds!F:F,0))","v":0},0,null,null,null,{"$f":"IF(Odds!F63=\"\",\"\",Odds!F63)","v":"Blackpool draw"},{"$f":"INDEX(Odds!G:G,MATCH(R63,Odds!F:F,0))","v":"23/10"},0,null,null,null,null,null,null,null,null,"Gareth Fallows",{"$f":"INDEX(Picks!F:F,MATCH(AC63,Picks!A:A,0))","v":-10},{"$f":"INDEX(Weekly!I:I,MATCH(AC63,Weekly!E:E,0))","v":0},{"$f":"IF(AD63=\"\",\"\",_xlfn.RANK.EQ(AD63,TopScores,0))","v":61},null,"Paul Adderley",{"$f":"INDEX(Picks!G:G,MATCH(AH63,Picks!A:A,0))","v":6.9450549450549453},{"$f":"INDEX(Weekly!I:I,MATCH(AH63,Weekly!E:E,0))","v":2},{"$f":"IF(AI63=\"\",\"\",_xlfn.RANK.EQ(AI63,TopMaxScores,0))","v":60}]
[{"$f":"A62","v":"Gareth Powell"},"Liverpool",{"$f":"IF(J64=\"\",\"\",INDEX(Odds!B:B,MATCH(J64,Odds!F:F,0)))","v":"1900-01-01"},2.2000000000000002,"√",null,null,null,null,"Liverpool",{"$f":"INDEX(Odds!G:G,MATCH(J64,Odds!F:F,0))","v":"6/5"},{"$f":"INDEX(Odds!H:H,MATCH(J64,Odds!F:F,0))","v":2.2000000000000002},{"$f":"INDEX(Odds!I:I,MATCH(J64,Odds!F:F,0))","v":1},2.2000000000000002,null,null,null,{"$f":"IF(Odds!F64=\"\",\"\",Odds!F64)","v":"Bristol R draw"},{"$f":"INDEX(Odds!G:G,MATCH(R64,Odds!F:F,0))","v":"23/10"},0]
[{"$f":"Results!B65","v":"Gerard Ventom"},"Palace",{"$f":"IF(J65=\"\",\"\",INDEX(Odds!B:B,MATCH(J65,Odds!F:F,0)))","v":"1900-01-07"},11,"√",{"$f":"IF(J65=\"\",-10,INDEX(Results!T:T,MATCH(A65,Results!V:V,0)))","v":164.8},{"$f":"IF(J65=\"\",\"\",INDEX(Results!AI:AI,MATCH(A65,Results!V:V,0)))","v":164.8},{"$f":"IF(G65=\"\",0,1)","v":1},{"$f":"INDEX(Picks!AF:AF,MATCH(A65,Picks!AC:AC,0))","v":2},"Palace",{"$f":"INDEX(Odds!G:G,MATCH(J65,Odds!F:F,0))","v":"10/1"},{"$f":"INDEX(Odds!H:H,MATCH(J65,Odds!F:F,0))","v":11},{"$f":"INDEX(Odds!I:I,MATCH(J65,Odds!F:F,0))","v":1},11,null,null,null,{"$f":"IF(Odds!F65=\"\",\"\",Odds!F65)","v":"Burton draw"},{"$f":"INDEX(Odds!G:G,MATCH(R65,Odds!F:F,0))","v":"23/10"},0]
[{"$f":"A65","v":"Gerard Ventom"},"Cardiff",{"$f":"IF(J66=\"\",\"\",INDEX(Odds!B:B,MATCH(J66,Odds!F:F,0)))","v":"1900-01-07"},3,"√",null,null,null,null,"Cardiff",{"$f":"INDEX(Odds!G:G,MATCH(J66,Odds!F:F,0))","v":"2/1"},{"$f":"INDEX(Odds!H:H,MATCH(J66,Odds!F:F,0))","v":3},{"$f":"INDEX(Odds!I:I,MATCH(J66,Odds!F:F,0))","v":1},3,null,null,null,{"$f":"IF(Odds!F66=\"\",\"\",Odds!F66)","v":"Charlton draw"},{"$f":"INDEX(Odds!G:G,MATCH(R66,Odds!F:F,0))","v":"12/5"},0]
[{"$f":"A65","v":"Gerard Ventom"},"Ipswich",{"$f":"IF(J67=\"\",\"\",INDEX(Odds!B:B,MATCH(J67,Odds!F:F,0)))","v":"1900-01-07"},2.6,{"$f":"IF(J67=\"\",\"\",IF(M67=1,\"√\",\"x\"))","v":"√"},null,null,null,null,"Ipswich",{"$f":"INDEX(Odds!G:G,MATCH(J67,Odds!F:F,0))","v":"8/5"},{"$f":"INDEX(Odds!H:H,MATCH(J67,Odds!F:F,0))","v":2.6},{"$f":"INDEX(Odds!I:I,MATCH(J67,Odds!F:F,0))","v":1},2.6,null,null,null,{"$f":"IF(Odds!F67=\"\",\"\",Odds!F67)","v":"Hull draw"},{"$f":"INDEX(Odds!G:G,MATCH(R67,Odds!F:F,0))","v":"13/5"},0]
[{"$f":"Results!B68","v":"Graham Miller"},"Newcastle",{"$f":"IF(J68=\"\",\"\",INDEX(Odds!B:B,MATCH(J68,Odds!F:F,0)))","v":"1900-01-01"},2.5499999999999998,"x",{"$f":"IF(J68=\"\",-10,INDEX(Results!T:T,MATCH(A68,Results!V:V,0)))","v":-5.05},{"$f":"IF(J68=\"\",\"\",INDEX(Results!AI:AI,MATCH(A68,Results!V:V,0)))","v":23.4175},{"$f":"IF(G68=\"\",0,1)","v":1},{"$f":"INDEX(Picks!AF:AF,MATCH(A68,Picks!AC:AC,0))","v":45},"Newcastle",{"$f":"INDEX(Odds!G:G,MATCH(J68,Odds!F:F,0))","v":"31/20"},{"$f":"INDEX(Odds!H:H,MATCH(J68,Odds!F:F,0))","v":2.5499999999999998},{"$f":"INDEX(Odds!I:I,MATCH(J68,Odds!F:F,0))","v":0},0,null,null,null,{"$f":"IF(Odds!F68=\"\",\"\",Odds!F68)","v":"MK Dons draw"},{"$f":"INDEX(Odds!G:G,MATCH(R68,Odds!F:F,0))","v":"21/10"},0]
[{"$f":"A68","v":"Graham Miller"},"Hull",{"$f":"IF(J69=\"\",\"\",INDEX(Odds!B:B,MATCH(J69,Odds!F:F,0)))","v":"1900-01-07"},1.95,"√",null,null,null,null,"Hull",{"$f":"INDEX(Odds!G:G,MATCH(J69,Odds!F:F,0))","v":"19/20"},{"$f":"INDEX(Odds!H:H,MATCH(J69,Odds!F:F,0))","v":1.95},{"$f":"INDEX(Odds!I:I,MATCH(J69,Odds!F:F,0))","v":1},1.95,null,null,null,{"$f":"IF(Odds!F69=\"\",\"\",Odds!F69)","v":"Oxford draw"},{"$f":"INDEX(Odds!G:G,MATCH(R69,Odds!F:F,0))","v":"11/5"},0]
[{"$f":"A68","v":"Graham Miller"},"Charlton",{"$f":"IF(J70=\"\",\"\",INDEX(Odds!B:B,MATCH(J70,Odds!F:F,0)))","v":"1900-01-07"},2,"x",null,null,null,null,"Charlton",{"$f":"INDEX(Odds!G:G,MATCH(J70,Odds!F:F,0))","v":"1/1"},{"$f":"INDEX(Odds!H:H,MATCH(J70,Odds!F:F,0))","v":2},{"$f":"INDEX(Odds!I:I,MATCH(J70,Odds!F:F,0))","v":0},0,null,null,null,{"$f":"IF(Odds!F70=\"\",\"\",Odds!F70)","v":"Peterborough draw"},{"$f":"INDEX(Odds!G:G,MATCH(R70,Odds!F:F,0))","v":"9/4"},0]
[{"$f":"Results!B71","v":"Howard Bradley"},{"$f":"IF(J71=\"\",\"\",J71)","v":"Blackburn"},{"$f":"IF(J71=\"\",\"\",INDEX(Odds!B:B,MATCH(J71,Odds!F:F,0)))","v":"1900-01-07"},{"$f":"IF(J71=\"\",\"\",L71)","v":1.5714285714285714},{"$f":"IF(J71=\"\",\"\",IF(M71=1,\"√\",\"x\"))","v":"√"},{"$f":"IF(J71=\"\",-10,INDEX(Results!T:T,MATCH(A71,Results!V:V,0)))","v":-5.4285714285714288},{"$f":"IF(J71=\"\",\"\",INDEX(Results!AI:AI,MATCH(A71,Results!V:V,0)))","v":17.103571428571424},{"$f":"IF(G71=\"\",0,1)","v":1},{"$f":"INDEX(Picks!AF:AF,MATCH(A71,Picks!AC:AC,0))","v":49},"Blackburn",{"$f":"INDEX(Odds!G:G,MATCH(J71,Odds!F:F,0))","v":"4/7"},{"$f":"INDEX(Odds!H:H,MATCH(J71,Odds!F:F,0))","v":1.5714285714285714},{"$f":"INDEX(Odds!I:I,MATCH(J71,Odds!F:F,0))","v":1},1.5714285714285714,null,null,null,{"$f":"IF(Odds!F71=\"\",\"\",Odds!F71)","v":"Shrewsbury draw"},{"$f":"INDEX(Odds!G:G,MATCH(R71,Odds!F:F,0))","v":"11/5"},0]
[{"$f":"A71","v":"Howard Bradley"},"Portsmouth",{"$f":"IF(J72=\"\",\"\",INDEX(Odds!B:B,MATCH(J72,Odds!F:F,0)))","v":"1900-01-01"},1.75,"x",null,null,null,null,"Portsmouth",{"$f":"INDEX(Odds!G:G,MATCH(J72,Odds!F:F,0))","v":"3/4"},{"$f":"INDEX(Odds!H:H,MATCH(J72,Odds!F:F,0))","v":1.75},{"$f":"INDEX(Odds!I:I,MATCH(J72,Odds!F:F,0))","v":0},0,null,null,null,{"$f":"IF(Odds!F72=\"\",\"\",Odds!F72)","v":"Wimbledon draw"},{"$f":"INDEX(Odds!G:G,MATCH(R72,Odds!F:F,0))","v":"23/10"},1]
[{"$f":"A71","v":"Howard Bradley"},"Derby",{"$f":"IF(J73=\"\",\"\",INDEX(Odds!B:B,MATCH(J73,Odds!F:F,0)))","v":"1900-01-07"},2.5499999999999998,"x",null,null,null,null,"Derby",{"$f":"INDEX(Odds!G:G,MATCH(J73,Odds!F:F,0))","v":"31/20"},{"$f":"INDEX(Odds!H:H,MATCH(J73,Odds!F:F,0))","v":2.5499999999999998},{"$f":"INDEX(Odds!I:I,MATCH(J73,Odds!F:F,0))","v":0},0,null,null,null,{"$f":"IF(Odds!F73=\"\",\"\",Odds!F73)","v":"Carlisle draw"},{"$f":"INDEX(Odds!G:G,MATCH(R73,Odds!F:F,0))","v":"12/5"},0]
[{"$f":"Results!B74","v":"Ian Davies"},"Luton",{"$f":"IF(J74=\"\",\"\",INDEX(Odds!B:B,MATCH(J74,Odds!F:F,0)))","v":"1900-01-07"},2.875,"√",{"$f":"IF(J74=\"\",-10,INDEX(Results!T:T,MATCH(A74,Results!V:V,0)))","v":-4.125},{"$f":"IF(J74=\"\",\"\",INDEX(Results!AI:AI,MATCH(A74,Results!V:V,0)))","v":63.028750000000002},{"$f":"IF(G74=\"\",0,1)","v":1},{"$f":"INDEX(Picks!AF:AF,MATCH(A74,Picks!AC:AC,0))","v":32},"Luton",{"$f":"INDEX(Odds!G:G,MATCH(J74,Odds!F:F,0))","v":"15/8"},{"$f":"INDEX(Odds!H:H,MATCH(J74,Odds!F:F,0))","v":2.875},{"$f":"INDEX(Odds!I:I,MATCH(J74,Odds!F:F,0))","v":1},2.875,null,null,null,{"$f":"IF(Odds!F74=\"\",\"\",Odds!F74)","v":"Colchester draw"},{"$f":"INDEX(Odds!G:G,MATCH(R74,Odds!F:F,0))","v":"23/10"},0]
[{"$f":"A74","v":"Ian Davies"},"Sheff W",{"$f":"IF(J75=\"\",\"\",INDEX(Odds!B:B,MATCH(J75,Odds!F:F,0)))","v":"1900-01-07"},2.9,"x",null,null,null,null,"Sheff W",{"$f":"INDEX(Odds!G:G,MATCH(J75,Odds!F:F,0))","v":"19/10"},{"$f":"INDEX(Odds!H:H,MATCH(J75,Odds!F:F,0))","v":2.9},{"$f":"INDEX(Odds!I:I,MATCH(J75,Odds!F:F,0))","v":0},0,null,null,null,{"$f":"IF(Odds!F75=\"\",\"\",Odds!F75)","v":"Crawley draw"},{"$f":"INDEX(Odds!G:G,MATCH(R75,Odds!F:F,0))","v":"23/10"},0]
[{"$f":"A74","v":"Ian Davies"},"Chelsea draw",{"$f":"IF(J76=\"\",\"\",INDEX(Odds!B:B,MATCH(J76,Odds!F:F,0)))","v":"1900-01-01"},3.7,"x",null,null,null,null,"Chelsea draw",{"$f":"INDEX(Odds!G:G,MATCH(J76,Odds!F:F,0))","v":"27/10"},{"$f":"INDEX(Odds!H:H,MATCH(J76,Odds!F:F,0))","v":3.7},{"$f":"INDEX(Odds!I:I,MATCH(J76,Odds!F:F,0))","v":0},0,null,null,null,{"$f":"IF(Odds!F76=\"\",\"\",Odds!F76)","v":"Exeter draw"},{"$f":"INDEX(Odds!G:G,MATCH(R76,Odds!F:F,0))","v":"11/5"},0]
[{"$f":"Results!B77","v":"Jack Walsh"},"Chelsea",{"$f":"IF(J77=\"\",\"\",INDEX(Odds!B:B,MATCH(J77,Odds!F:F,0)))","v":"1900-01-01"},3.1,"x",{"$f":"IF(J77=\"\",-10,INDEX(Results!T:T,MATCH(A77,Results!V:V,0)))","v":0.6307692307692303},{"$f":"IF(J77=\"\",\"\",INDEX(Results!AI:AI,MATCH(A77,Results!V:V,0)))","v":27.386153846153846},{"$f":"IF(G77=\"\",0,1)","v":1},{"$f":"INDEX(Picks!AF:AF,MATCH(A77,Picks!AC:AC,0))","v":18},"Chelsea",{"$f":"INDEX(Odds!G:G,MATCH(J77,Odds!F:F,0))","v":"21/10"},{"$f":"INDEX(Odds!H:H,MATCH(J77,Odds!F:F,0))","v":3.1},{"$f":"INDEX(Odds!I:I,MATCH(J77,Odds!F:F,0))","v":0},0,null,null,null,{"$f":"IF(Odds!F77=\"\",\"\",Odds!F77)","v":"Forest Green draw"},{"$f":"INDEX(Odds!G:G,MATCH(R77,Odds!F:F,0))","v":"9/4"},1]
[{"$f":"A77","v":"Jack Walsh"},"Leeds",{"$f":"IF(J78=\"\",\"\",INDEX(Odds!B:B,MATCH(J78,Odds!F:F,0)))","v":"1900-01-07"},1.6153846153846154,"√",null,null,null,null,"Leeds",{"$f":"INDEX(Odds!G:G,MATCH(J78,Odds!F:F,0))","v":"8/13"},{"$f":"INDEX(Odds!H:H,MATCH(J78,Odds!F:F,0))","v":1.6153846153846154},{"$f":"INDEX(Odds!I:I,MATCH(J78,Odds!F:F,0))","v":1},1.6153846153846154,null,null,null,{"$f":"IF(Odds!F78=\"\",\"\",Odds!F78)","v":"Grimsby draw"},{"$f":"INDEX(Odds!G:G,MATCH(R78,Odds!F:F,0))","v":"23/10"},0]
[{"$f":"A77","v":"Jack Walsh"},"Salford",{"$f":"IF(J79=\"\",\"\",INDEX(Odds!B:B,MATCH(J79,Odds!F:F,0)))","v":"1900-01-07"},2.2999999999999998,"√",null,null,null,null,"Salford",{"$f":"INDEX(Odds!G:G,MATCH(J79,Odds!F:F,0))","v":"13/10"},{"$f":"INDEX(Odds!H:H,MATCH(J79,Odds!F:F,0))","v":2.2999999999999998},{"$f":"INDEX(Odds!I:I,MATCH(J79,Odds!F:F,0))","v":1},2.2999999999999998,null,null,null,{"$f":"IF(Odds!F79=\"\",\"\",Odds!F79)","v":"Harrogate draw"},{"$f":"INDEX(Odds!G:G,MATCH(R79,Odds!F:F,0))","v":"23/10"},1]
[{"$f":"Results!B80","v":"James Bell"},"Leeds draw",{"$f":"IF(J80=\"\",\"\",INDEX(Odds!B:B,MATCH(J80,Odds!F:F,0)))","v":"1900-01-07"},4,"x",{"$f":"IF(J80=\"\",-10,INDEX(Results!T:T,MATCH(A80,Results!V:V,0)))","v":-7},{"$f":"IF(J80=\"\",\"\",INDEX(Results!AI:AI,MATCH(A80,Results!V:V,0)))","v":140},{"$f":"IF(G80=\"\",0,1)","v":1},{"$f":"INDEX(Picks!AF:AF,MATCH(A80,Picks!AC:AC,0))","v":53},"Leeds draw",{"$f":"INDEX(Odds!G:G,MATCH(J80,Odds!F:F,0))","v":"3/1"},{"$f":"INDEX(Odds!H:H,MATCH(J80,Odds!F:F,0))","v":4},{"$f":"INDEX(Odds!I:I,MATCH(J80,Odds!F:F,0))","v":0},0,null,null,null,{"$f":"IF(Odds!F80=\"\",\"\",Odds!F80)","v":"Morecambe draw"},{"$f":"INDEX(Odds!G:G,MATCH(R80,Odds!F:F,0))","v":"9/4"},0]
[{"$f":"A80","v":"James Bell"},"Huddersfield",{"$f":"IF(J81=\"\",\"\",INDEX(Odds!B:B,MATCH(J81,Odds!F:F,0)))","v":"1900-01-07"},7,"x",null,null,null,null,"Huddersfield",{"$f":"INDEX(Odds!G:G,MATCH(J81,Odds!F:F,0))","v":"6/1"},{"$f":"INDEX(Odds!H:H,MATCH(J81,Odds!F:F,0))","v":7},{"$f":"INDEX(Odds!I:I,MATCH(J81,Odds!F:F,0))","v":0},0,null,null,null,{"$f":"IF(Odds!F81=\"\",\"\",Odds!F81)","v":"Newport draw"},{"$f":"INDEX(Odds!G:G,MATCH(R81,Odds!F:F,0))","v":"11/5"},0]
[{"$f":"A80","v":"James Bell"},"MK Dons",{"$f":"IF(J82=\"\",\"\",INDEX(Odds!B:B,MATCH(J82,Odds!F:F,0)))","v":"1900-01-07"},2.7,"x",null,null,null,null,"MK Dons",{"$f":"INDEX(Odds!G:G,MATCH(J82,Odds!F:F,0))","v":"17/10"},{"$f":"INDEX(Odds!H:H,MATCH(J82,Odds!F:F,0))","v":2.7},{"$f":"INDEX(Odds!I:I,MATCH(J82,Odds!F:F,0))","v":0},0,null,null,null,{"$f":"IF(Odds!F82=\"\",\"\",Odds!F82)","v":"Orient draw"},{"$f":"INDEX(Odds!G:G,MATCH(R82,Odds!F:F,0))","v":"12/5"},1]
[{"$f":"Results!B83","v":"Joel Bent"},"Bournemouth",{"$f":"IF(J83=\"\",\"\",INDEX(Odds!B:B,MATCH(J83,Odds!F:F,0)))","v":"1900-01-07"},2.7,"x",{"$f":"IF(J83=\"\",-10,INDEX(Results!T:T,MATCH(A83,Results!V:V,0)))","v":-5.35},{"$f":"IF(J83=\"\",\"\",INDEX(Results!AI:AI,MATCH(A83,Results!V:V,0)))","v":34.161500000000004},{"$f":"IF(G83=\"\",0,1)","v":1},{"$f":"INDEX(Picks!AF:AF,MATCH(A83,Picks!AC:AC,0))","v":47},"Bournemouth",{"$f":"INDEX(Odds!G:G,MATCH(J83,Odds!F:F,0))","v":"17/10"},{"$f":"INDEX(Odds!H:H,MATCH(J83,Odds!F:F,0))","v":2.7},{"$f":"INDEX(Odds!I:I,MATCH(J83,Odds!F:F,0))","v":0},0,null,null,null,{"$f":"IF(Odds!F83=\"\",\"\",Odds!F83)","v":"Stevenage draw"},{"$f":"INDEX(Odds!G:G,MATCH(R83,Odds!F:F,0))","v":"11/5"},0]
[{"$f":"A83","v":"Joel Bent"},"Bristol R draw",{"$f":"IF(J84=\"\",\"\",INDEX(Odds!B:B,MATCH(J84,Odds!F:F,0)))","v":"1900-01-07"},3.3,"x",null,null,null,null,"Bristol R draw",{"$f":"INDEX(Odds!G:G,MATCH(J84,Odds!F:F,0))","v":"23/10"},{"$f":"INDEX(Odds!H:H,MATCH(J84,Odds!F:F,0))","v":3.3},{"$f":"INDEX(Odds!I:I,MATCH(J84,Odds!F:F,0))","v":0},0,null,null,null,{"$f":"IF(Odds!F84=\"\",\"\",Odds!F84)","v":"Tranmere draw"},{"$f":"INDEX(Odds!G:G,MATCH(R84,Odds!F:F,0))","v":"23/10"},0]
[{"$f":"A83","v":"Joel Bent"},"Leicester",{"$f":"IF(J85=\"\",\"\",INDEX(Odds!B:B,MATCH(J85,Odds!F:F,0)))","v":"1900-01-01"},1.65,"√",null,null,null,null,"Leicester",{"$f":"INDEX(Odds!G:G,MATCH(J85,Odds!F:F,0))","v":"13/20"},{"$f":"INDEX(Odds!H:H,MATCH(J85,Odds!F:F,0))","v":1.65},{"$f":"INDEX(Odds!I:I,MATCH(J85,Odds!F:F,0))","v":1},1.65,null,null,null,{"$f":"IF(Odds!F85=\"\",\"\",Odds!F85)","v":"Chelsea draw"},{"$f":"INDEX(Odds!G:G,MATCH(R85,Odds!F:F,0))","v":"27/10"},0]
[{"$f":"Results!B86","v":"John Evans"},"Derby",{"$f":"IF(J86=\"\",\"\",INDEX(Odds!B:B,MATCH(J86,Odds!F:F,0)))","v":"1900-01-07"},2.5499999999999998,"x",{"$f":"IF(J86=\"\",-10,INDEX(Results!T:T,MATCH(A86,Results!V:V,0)))","v":-4.375},{"$f":"IF(J86=\"\",\"\",INDEX(Results!AI:AI,MATCH(A86,Results!V:V,0)))","v":34.466874999999995},{"$f":"IF(G86=\"\",0,1)","v":1},{"$f":"INDEX(Picks!AF:AF,MATCH(A86,Picks!AC:AC,0))","v":34},"Derby",{"$f":"INDEX(Odds!G:G,MATCH(J86,Odds!F:F,0))","v":"31/20"},{"$f":"INDEX(Odds!H:H,MATCH(J86,Odds!F:F,0))","v":2.5499999999999998},{"$f":"INDEX(Odds!I:I,MATCH(J86,Odds!F:F,0))","v":0},0,null,null,null,{"$f":"IF(Odds!F86=\"\",\"\",Odds!F86)","v":"Leicester draw"},{"$f":"INDEX(Odds!G:G,MATCH(R86,Odds!F:F,0))","v":"14/5"},0]
[{"$f":"A86","v":"John Evans"},"Colchester",{"$f":"IF(J87=\"\",\"\",INDEX(Odds!B:B,MATCH(J87,Odds!F:F,0)))","v":"1900-01-07"},2.625,"√",null,null,null,null,"Colchester",{"$f":"INDEX(Odds!G:G,MATCH(J87,Odds!F:F,0))","v":"13/8"},{"$f":"INDEX(Odds!H:H,MATCH(J87,Odds!F:F,0))","v":2.625},{"$f":"INDEX(Odds!I:I,MATCH(J87,Odds!F:F,0))","v":1},2.625,null,null,null,{"$f":"IF(Odds!F87=\"\",\"\",Odds!F87)","v":"Newcastle draw"},{"$f":"INDEX(Odds!G:G,MATCH(R87,Odds!F:F,0))","v":"11/5"},0]
[{"$f":"A86","v":"John Evans"},"Forest Green",{"$f":"IF(J88=\"\",\"\",INDEX(Odds!B:B,MATCH(J88,Odds!F:F,0)))","v":"1900-01-07"},2.2999999999999998,"x",null,null,null,null,"Forest Green",{"$f":"INDEX(Odds!G:G,MATCH(J88,Odds!F:F,0))","v":"13/10"},{"$f":"INDEX(Odds!H:H,MATCH(J88,Odds!F:F,0))","v":2.2999999999999998},{"$f":"INDEX(Odds!I:I,MATCH(J88,Odds!F:F,0))","v":0},0,null,null,null,{"$f":"IF(Odds!F88=\"\",\"\",Odds!F88)","v":"Southampton draw"},{"$f":"INDEX(Odds!G:G,MATCH(R88,Odds!F:F,0))","v":"9/4"},0]
[{"$f":"Results!B89","v":"John Ronan"},"Derby",{"$f":"IF(J89=\"\",\"\",INDEX(Odds!B:B,MATCH(J89,Odds!F:F,0)))","v":"1900-01-07"},2.5499999999999998,"x",{"$f":"IF(J89=\"\",-10,INDEX(Results!T:T,MATCH(A89,Results!V:V,0)))","v":-4.8499999999999996},{"$f":"IF(J89=\"\",\"\",INDEX(Results!AI:AI,MATCH(A89,Results!V:V,0)))","v":26.665750000000003},{"$f":"IF(G89=\"\",0,1)","v":1},{"$f":"INDEX(Picks!AF:AF,MATCH(A89,Picks!AC:AC,0))","v":44},"Derby",{"$f":"INDEX(Odds!G:G,MATCH(J89,Odds!F:F,0))","v":"31/20"},{"$f":"INDEX(Odds!H:H,MATCH(J89,Odds!F:F,0))","v":2.5499999999999998},{"$f":"INDEX(Odds!I:I,MATCH(J89,Odds!F:F,0))","v":0},0,null,null,null,{"$f":"IF(Odds!F89=\"\",\"\",Odds!F89)","v":"Stoke draw"},{"$f":"INDEX(Odds!G:G,MATCH(R89,Odds!F:F,0))","v":"12/5"},0]
[{"$f":"A89","v":"John Ronan"},"Swansea",{"$f":"IF(J90=\"\",\"\",INDEX(Odds!B:B,MATCH(J90,Odds!F:F,0)))","v":"1900-01-07"},2.1,"x",null,null,null,null,"Swansea",{"$f":"INDEX(Odds!G:G,MATCH(J90,Odds!F:F,0))","v":"11/10"},{"$f":"INDEX(Odds!H:H,MATCH(J90,Odds!F:F,0))","v":2.1},{"$f":"INDEX(Odds!I:I,MATCH(J90,Odds!F:F,0))","v":0},0,null,null,null,{"$f":"IF(Odds!F90=\"\",\"\",Odds!F90)","v":"Rochdale draw"},{"$f":"INDEX(Odds!G:G,MATCH(R90,Odds!F:F,0))","v":"13/5"},1]
[{"$f":"A89","v":"John Ronan"},"Blackpool",{"$f":"IF(J91=\"\",\"\",INDEX(Odds!B:B,MATCH(J91,Odds!F:F,0)))","v":"1900-01-07"},2.15,"√",null,null,null,null,"Blackpool",{"$f":"INDEX(Odds!G:G,MATCH(J91,Odds!F:F,0))","v":"23/20"},{"$f":"INDEX(Odds!H:H,MATCH(J91,Odds!F:F,0))","v":2.15},{"$f":"INDEX(Odds!I:I,MATCH(J91,Odds!F:F,0))","v":1},2.15,null,null,null,{"$f":"IF(Odds!F91=\"\",\"\",Odds!F91)","v":""},{"$f":"INDEX(Odds!G:G,MATCH(R91,Odds!F:F,0))","v":""},{"$error":"#N/A"}]
[{"$f":"Results!B92","v":"Kei Lok Ma"},"Newcastle",{"$f":"IF(J92=\"\",\"\",INDEX(Odds!B:B,MATCH(J92,Odds!F:F,0)))","v":"1900-01-01"},2.5499999999999998,"x",{"$f":"IF(J92=\"\",-10,INDEX(Results!T:T,MATCH(A92,Results!V:V,0)))","v":-7},{"$f":"IF(J92=\"\",\"\",INDEX(Results!AI:AI,MATCH(A92,Results!V:V,0)))","v":47.823749999999997},{"$f":"IF(G92=\"\",0,1)","v":1},{"$f":"INDEX(Picks!AF:AF,MATCH(A92,Picks!AC:AC,0))","v":53},"Newcastle",{"$f":"INDEX(Odds!G:G,MATCH(J92,Odds!F:F,0))","v":"31/20"},{"$f":"INDEX(Odds!H:H,MATCH(J92,Odds!F:F,0))","v":2.5499999999999998},{"$f":"INDEX(Odds!I:I,MATCH(J92,Odds!F:F,0))","v":0},0,null,null,null,{"$f":"IF(Odds!F92=\"\",\"\",Odds!F92)","v":""},{"$f":"INDEX(Odds!G:G,MATCH(R92,Odds!F:F,0))","v":""},{"$error":"#N/A"}]
[{"$f":"A92","v":"Kei Lok Ma"},"Southampton draw",{"$f":"IF(J93=\"\",\"\",INDEX(Odds!B:B,MATCH(J93,Odds!F:F,0)))","v":"1900-01-01"},3.25,"x",null,null,null,null,"Southampton draw",{"$f":"INDEX(Odds!G:G,MATCH(J93,Odds!F:F,0))","v":"9/4"},{"$f":"INDEX(Odds!H:H,MATCH(J93,Odds!F:F,0))","v":3.25},{"$f":"INDEX(Odds!I:I,MATCH(J93,Odds!F:F,0))","v":0},0,null,null,null,{"$f":"IF(Odds!F93=\"\",\"\",Odds!F93)","v":""},{"$f":"INDEX(Odds!G:G,MATCH(R93,Odds!F:F,0))","v":""},{"$error":"#N/A"}]
[{"$f":"A92","v":"Kei Lok Ma"},"Bournemouth",{"$f":"IF(J94=\"\",\"\",INDEX(Odds!B:B,MATCH(J94,Odds!F:F,0)))","v":"1900-01-07"},2.7,"x",null,null,null,null,"Bournemouth",{"$f":"INDEX(Odds!G:G,MATCH(J94,Odds!F:F,0))","v":"17/10"},{"$f":"INDEX(Odds!H:H,MATCH(J94,Odds!F:F,0))","v":2.7},{"$f":"INDEX(Odds!I:I,MATCH(J94,Odds!F:F,0))","v":0},0,null,null,null,{"$f":"IF(Odds!F94=\"\",\"\",Odds!F94)","v":"QPR"},{"$f":"INDEX(Odds!G:G,MATCH(R94,Odds!F:F,0))","v":"19/10"},{"$f":"IF(V2<X2,1,0)","v":0}]
[{"$f":"Results!B95","v":"Kevin Carter"},"Arsenal",{"$f":"IF(J95=\"\",\"\",INDEX(Odds!B:B,MATCH(J95,Odds!F:F,0)))","v":"1900-01-07"},1.5,"√",{"$f":"IF(J95=\"\",-10,INDEX(Results!T:T,MATCH(A95,Results!V:V,0)))","v":8.6730769230769234},{"$f":"IF(J95=\"\",\"\",INDEX(Results!AI:AI,MATCH(A95,Results!V:V,0)))","v":8.6730769230769234},{"$f":"IF(G95=\"\",0,1)","v":1},{"$f":"INDEX(Picks!AF:AF,MATCH(A95,Picks!AC:AC,0))","v":7},"Arsenal",{"$f":"INDEX(Odds!G:G,MATCH(J95,Odds!F:F,0))","v":"1/2"},{"$f":"INDEX(Odds!H:H,MATCH(J95,Odds!F:F,0))","v":1.5},{"$f":"INDEX(Odds!I:I,MATCH(J95,Odds!F:F,0))","v":1},1.5,null,null,null,{"$f":"IF(Odds!F95=\"\",\"\",Odds!F95)","v":"West Ham"},{"$f":"INDEX(Odds!G:G,MATCH(R95,Odds!F:F,0))","v":"5/1"},0]
[{"$f":"A95","v":"Kevin Carter"},"Everton",{"$f":"IF(J96=\"\",\"\",INDEX(Odds!B:B,MATCH(J96,Odds!F:F,0)))","v":"1900-01-07"},1.55,"√",null,null,null,null,"Everton",{"$f":"INDEX(Odds!G:G,MATCH(J96,Odds!F:F,0))","v":"11/20"},{"$f":"INDEX(Odds!H:H,MATCH(J96,Odds!F:F,0))","v":1.55},{"$f":"INDEX(Odds!I:I,MATCH(J96,Odds!F:F,0))","v":1},1.55,null,null,null,{"$f":"IF(Odds!F96=\"\",\"\",Odds!F96)","v":"West Brom"},{"$f":"INDEX(Odds!G:G,MATCH(R96,Odds!F:F,0))","v":"5/1"},0]
[{"$f":"A95","v":"Kevin Carter"},"Leeds",{"$f":"IF(J97=\"\",\"\",INDEX(Odds!B:B,MATCH(J97,Odds!F:F,0)))","v":"1900-01-07"},1.6153846153846154,"√",null,null,null,null,"Leeds",{"$f":"INDEX(Odds!G:G,MATCH(J97,Odds!F:F,0))","v":"8/13"},{"$f":"INDEX(Odds!H:H,MATCH(J97,Odds!F:F,0))","v":1.6153846153846154},{"$f":"INDEX(Odds!I:I,MATCH(J97,Odds!F:F,0))","v":1},1.6153846153846154,null,null,null,{"$f":"IF(Odds!F97=\"\",\"\",Odds!F97)","v":"Fulham"},{"$f":"INDEX(Odds!G:G,MATCH(R97,Odds!F:F,0))","v":"9/2"},0]
[{"$f":"Results!B98","v":"Lennie Bow"},"Brentford",{"$f":"IF(J98=\"\",\"\",INDEX(Odds!B:B,MATCH(J98,Odds!F:F,0)))","v":"1900-01-07"},1.55,"√",{"$f":"IF(J98=\"\",-10,INDEX(Results!T:T,MATCH(A98,Results!V:V,0)))","v":1.8812499999999996},{"$f":"IF(J98=\"\",\"\",INDEX(Results!AI:AI,MATCH(A98,Results!V:V,0)))","v":29.548749999999998},{"$f":"IF(G98=\"\",0,1)","v":1},{"$f":"INDEX(Picks!AF:AF,MATCH(A98,Picks!AC:AC,0))","v":16},"Brentford",{"$f":"INDEX(Odds!G:G,MATCH(J98,Odds!F:F,0))","v":"11/20"},{"$f":"INDEX(Odds!H:H,MATCH(J98,Odds!F:F,0))","v":1.55},{"$f":"INDEX(Odds!I:I,MATCH(J98,Odds!F:F,0))","v":1},{"$f":"L98*M98","v":1.55},null,null,null,{"$f":"IF(Odds!F98=\"\",\"\",Odds!F98)","v":"Palace"},{"$f":"INDEX(Odds!G:G,MATCH(R98,Odds!F:F,0))","v":"10/1"},1]
[{"$f":"A98","v":"Lennie Bow"},"Luton",{"$f":"IF(J99=\"\",\"\",INDEX(Odds!B:B,MATCH(J99,Odds!F:F,0)))","v":"1900-01-07"},2.875,"√",null,null,null,null,"Luton",{"$f":"INDEX(Odds!G:G,MATCH(J99,Odds!F:F,0))","v":"15/8"},{"$f":"INDEX(Odds!H:H,MATCH(J99,Odds!F:F,0))","v":2.875},{"$f":"INDEX(Odds!I:I,MATCH(J99,Odds!F:F,0))","v":1},2.875,null,null,null,{"$f":"IF(Odds!F99=\"\",\"\",Odds!F99)","v":"Wycombe"},{"$f":"INDEX(Odds!G:G,MATCH(R99,Odds!F:F,0))","v":"5/1"},0]
[{"$f":"A98","v":"Lennie Bow"},"Orient",{"$f":"IF(J100=\"\",\"\",INDEX(Odds!B:B,MATCH(J100,Odds!F:F,0)))","v":"1900-01-07"},2.8,"x",null,null,null,null,"Orient",{"$f":"INDEX(Odds!G:G,MATCH(J100,Odds!F:F,0))","v":"9/5"},{"$f":"INDEX(Odds!H:H,MATCH(J100,Odds!F:F,0))","v":2.8},{"$f":"INDEX(Odds!I:I,MATCH(J100,Odds!F:F,0))","v":0},0,null,null,null,{"$f":"IF(Odds!F100=\"\",\"\",Odds!F100)","v":"Huddersfield"},{"$f":"INDEX(Odds!G:G,MATCH(R100,Odds!F:F,0))","v":"6/1"},0]
[{"$f":"Results!B101","v":"Lewis Buckley"},"Chelsea draw",{"$f":"IF(J101=\"\",\"\",INDEX(Odds!B:B,MATCH(J101,Odds!F:F,0)))","v":"1900-01-01"},3.7,"x",{"$f":"IF(J101=\"\",-10,INDEX(Results!T:T,MATCH(A101,Results!V:V,0)))","v":-5.35},{"$f":"IF(J101=\"\",\"\",INDEX(Results!AI:AI,MATCH(A101,Results!V:V,0)))","v":36.215249999999997},{"$f":"IF(G101=\"\",0,1)","v":1},{"$f":"INDEX(Picks!AF:AF,MATCH(A101,Picks!AC:AC,0))","v":47},"Chelsea draw",{"$f":"INDEX(Odds!G:G,MATCH(J101,Odds!F:F,0))","v":"27/10"},{"$f":"INDEX(Odds!H:H,MATCH(J101,Odds!F:F,0))","v":3.7},{"$f":"INDEX(Odds!I:I,MATCH(J101,Odds!F:F,0))","v":0},0,null,null,null,{"$f":"IF(Odds!F101=\"\",\"\",Odds!F101)","v":"Cardiff"},{"$f":"INDEX(Odds!G:G,MATCH(R101,Odds!F:F,0))","v":"2/1"},1]
[{"$f":"A101","v":"Lewis Buckley"},"Newcastle",{"$f":"IF(J102=\"\",\"\",INDEX(Odds!B:B,MATCH(J102,Odds!F:F,0)))","v":"1900-01-01"},2.5499999999999998,"x",null,null,null,null,"Newcastle",{"$f":"INDEX(Odds!G:G,MATCH(J102,Odds!F:F,0))","v":"31/20"},{"$f":"INDEX(Odds!H:H,MATCH(J102,Odds!F:F,0))","v":2.5499999999999998},{"$f":"INDEX(Odds!I:I,MATCH(J102,Odds!F:F,0))","v":0},0,null,null,null,{"$f":"IF(Odds!F102=\"\",\"\",Odds!F102)","v":"Derby"},{"$f":"INDEX(Odds!G:G,MATCH(R102,Odds!F:F,0))","v":"31/20"},0]
[{"$f":"A101","v":"Lewis Buckley"},"Leicester",{"$f":"IF(J103=\"\",\"\",INDEX(Odds!B:B,MATCH(J103,Odds!F:F,0)))","v":"1900-01-01"},1.65,"√",null,null,null,null,"Leicester",{"$f":"INDEX(Odds!G:G,MATCH(J103,Odds!F:F,0))","v":"13/20"},{"$f":"INDEX(Odds!H:H,MATCH(J103,Odds!F:F,0))","v":1.65},{"$f":"INDEX(Odds!I:I,MATCH(J103,Odds!F:F,0))","v":1},1.65,null,null,null,{"$f":"IF(Odds!F103=\"\",\"\",Odds!F103)","v":"Bournemouth"},{"$f":"INDEX(Odds!G:G,MATCH(R103,Odds!F:F,0))","v":"17/10"},0]
[{"$f":"Results!B104","v":"Liam Wah"},"Man U draw",{"$f":"IF(J104=\"\",\"\",INDEX(Odds!B:B,MATCH(J104,Odds!F:F,0)))","v":"1900-01-07"},5.5,"x",{"$f":"IF(J104=\"\",-10,INDEX(Results!T:T,MATCH(A104,Results!V:V,0)))","v":-4.8},{"$f":"IF(J104=\"\",\"\",INDEX(Results!AI:AI,MATCH(A104,Results!V:V,0)))","v":65.84},{"$f":"IF(G104=\"\",0,1)","v":1},{"$f":"INDEX(Picks!AF:AF,MATCH(A104,Picks!AC:AC,0))","v":43},"Man U draw",{"$f":"INDEX(Odds!G:G,MATCH(J104,Odds!F:F,0))","v":"9/2"},{"$f":"INDEX(Odds!H:H,MATCH(J104,Odds!F:F,0))","v":5.5},{"$f":"INDEX(Odds!I:I,MATCH(J104,Odds!F:F,0))","v":0},0,null,null,null,{"$f":"IF(Odds!F104=\"\",\"\",Odds!F104)","v":"Preston"},{"$f":"INDEX(Odds!G:G,MATCH(R104,Odds!F:F,0))","v":"19/5"},0]
[{"$f":"A104","v":"Liam Wah"},"Liverpool",{"$f":"IF(J105=\"\",\"\",INDEX(Odds!B:B,MATCH(J105,Odds!F:F,0)))","v":"1900-01-01"},2.2000000000000002,"√",null,null,null,null,"Liverpool",{"$f":"INDEX(Odds!G:G,MATCH(J105,Odds!F:F,0))","v":"6/5"},{"$f":"INDEX(Odds!H:H,MATCH(J105,Odds!F:F,0))","v":2.2000000000000002},{"$f":"INDEX(Odds!I:I,MATCH(J105,Odds!F:F,0))","v":1},2.2000000000000002,null,null,null,{"$f":"IF(Odds!F105=\"\",\"\",Odds!F105)","v":"Barnsley"},{"$f":"INDEX(Odds!G:G,MATCH(R105,Odds!F:F,0))","v":"2/1"},0]
[{"$f":"A104","v":"Liam Wah"},"Newcastle",{"$f":"IF(J106=\"\",\"\",INDEX(Odds!B:B,MATCH(J106,Odds!F:F,0)))","v":"1900-01-01"},2.5499999999999998,"x",null,null,null,null,"Newcastle",{"$f":"INDEX(Odds!G:G,MATCH(J106,Odds!F:F,0))","v":"31/20"},{"$f":"INDEX(Odds!H:H,MATCH(J106,Odds!F:F,0))","v":2.5499999999999998},{"$f":"INDEX(Odds!I:I,MATCH(J106,Odds!F:F,0))","v":0},0,null,null,null,{"$f":"IF(Odds!F106=\"\",\"\",Odds!F106)","v":"Millwall"},{"$f":"INDEX(Odds!G:G,MATCH(R106,Odds!F:F,0))","v":"17/10"},1]
[{"$f":"Results!B107","v":"Mal Stott"},"Luton",{"$f":"IF(J107=\"\",\"\",INDEX(Odds!B:B,MATCH(J107,Odds!F:F,0)))","v":"1900-01-07"},2.875,"√",{"$f":"IF(J107=\"\",-10,INDEX(Results!T:T,MATCH(A107,Results!V:V,0)))","v":5.9499999999999993},{"$f":"IF(J107=\"\",\"\",INDEX(Results!AI:AI,MATCH(A107,Results!V:V,0)))","v":35.244999999999997},{"$f":"IF(G107=\"\",0,1)","v":1},{"$f":"INDEX(Picks!AF:AF,MATCH(A107,Picks!AC:AC,0))","v":10},"Luton",{"$f":"INDEX(Odds!G:G,MATCH(J107,Odds!F:F,0))","v":"15/8"},{"$f":"INDEX(Odds!H:H,MATCH(J107,Odds!F:F,0))","v":2.875},{"$f":"INDEX(Odds!I:I,MATCH(J107,Odds!F:F,0))","v":1},2.875,null,null,null,{"$f":"IF(Odds!F107=\"\",\"\",Odds!F107)","v":"Watford"},{"$f":"INDEX(Odds!G:G,MATCH(R107,Odds!F:F,0))","v":"31/20"},0]
[{"$f":"A107","v":"Mal Stott"},"Swansea",{"$f":"IF(J108=\"\",\"\",INDEX(Odds!B:B,MATCH(J108,Odds!F:F,0)))","v":"1900-01-07"},2.1,"x",null,null,null,null,"Swansea",{"$f":"INDEX(Odds!G:G,MATCH(J108,Odds!F:F,0))","v":"11/10"},{"$f":"INDEX(Odds!H:H,MATCH(J108,Odds!F:F,0))","v":2.1},{"$f":"INDEX(Odds!I:I,MATCH(J108,Odds!F:F,0))","v":0},0,null,null,null,{"$f":"IF(Odds!F108=\"\",\"\",Odds!F108)","v":"Birmingham"},{"$f":"INDEX(Odds!G:G,MATCH(R108,Odds!F:F,0))","v":"14/5"},0]
[{"$f":"A107","v":"Mal Stott"},"Ipswich",{"$f":"IF(J109=\"\",\"\",INDEX(Odds!B:B,MATCH(J109,Odds!F:F,0)))","v":"1900-01-07"},2.6,"√",null,null,null,null,"Ipswich",{"$f":"INDEX(Odds!G:G,MATCH(J109,Odds!F:F,0))","v":"8/5"},{"$f":"INDEX(Odds!H:H,MATCH(J109,Odds!F:F,0))","v":2.6},{"$f":"INDEX(Odds!I:I,MATCH(J109,Odds!F:F,0))","v":1},2.6,null,null,null,{"$f":"IF(Odds!F109=\"\",\"\",Odds!F109)","v":"Swindon"},{"$f":"INDEX(Odds!G:G,MATCH(R109,Odds!F:F,0))","v":"5/2"},0]
[{"$f":"Results!B110","v":"Mark Bunn"},{"$f":"IF(J110=\"\",\"\",J110)","v":"QPR"},{"$f":"IF(J110=\"\",\"\",INDEX(Odds!B:B,MATCH(J110,Odds!F:F,0)))","v":"1900-01-06"},{"$f":"IF(J110=\"\",\"\",L110)","v":2.9},"x",{"$f":"IF(J110=\"\",-10,INDEX(Results!T:T,MATCH(A110,Results!V:V,0)))","v":-4.5999999999999996},{"$f":"IF(J110=\"\",\"\",INDEX(Results!AI:AI,MATCH(A110,Results!V:V,0)))","v":55.647999999999996},{"$f":"IF(G110=\"\",0,1)","v":1},{"$f":"INDEX(Picks!AF:AF,MATCH(A110,Picks!AC:AC,0))","v":39},"QPR",{"$f":"INDEX(Odds!G:G,MATCH(J110,Odds!F:F,0))","v":"19/10"},{"$f":"INDEX(Odds!H:H,MATCH(J110,Odds!F:F,0))","v":2.9},{"$f":"INDEX(Odds!I:I,MATCH(J110,Odds!F:F,0))","v":0},0,null,null,null,{"$f":"IF(Odds!F110=\"\",\"\",Odds!F110)","v":"Ipswich"},{"$f":"INDEX(Odds!G:G,MATCH(R110,Odds!F:F,0))","v":"8/5"},1]
[{"$f":"A110","v":"Mark Bunn"},"Reading",{"$f":"IF(J111=\"\",\"\",INDEX(Odds!B:B,MATCH(J111,Odds!F:F,0)))","v":"1900-01-07"},2.4,"√",null,null,null,null,"Reading",{"$f":"INDEX(Odds!G:G,MATCH(J111,Odds!F:F,0))","v":"7/5"},{"$f":"INDEX(Odds!H:H,MATCH(J111,Odds!F:F,0))","v":2.4},{"$f":"INDEX(Odds!I:I,MATCH(J111,Odds!F:F,0))","v":1},2.4,null,null,null,{"$f":"IF(Odds!F111=\"\",\"\",Odds!F111)","v":"Accrington"},{"$f":"INDEX(Odds!G:G,MATCH(R111,Odds!F:F,0))","v":"2/1"},0]
[{"$f":"A110","v":"Mark Bunn"},"Birmingham",{"$f":"IF(J112=\"\",\"\",INDEX(Odds!B:B,MATCH(J112,Odds!F:F,0)))","v":"1900-01-07"},3.8,"x",null,null,null,null,"Birmingham",{"$f":"INDEX(Odds!G:G,MATCH(J112,Odds!F:F,0))","v":"14/5"},{"$f":"INDEX(Odds!H:H,MATCH(J112,Odds!F:F,0))","v":3.8},{"$f":"INDEX(Odds!I:I,MATCH(J112,Odds!F:F,0))","v":0},0,null,null,null,{"$f":"IF(Odds!F112=\"\",\"\",Odds!F112)","v":"Doncaster"},{"$f":"INDEX(Odds!G:G,MATCH(R112,Odds!F:F,0))","v":"27/10"},1]
[{"$f":"Results!B113","v":"Mark Saunders"},"Norwich",{"$f":"IF(J113=\"\",\"\",INDEX(Odds!B:B,MATCH(J113,Odds!F:F,0)))","v":"1900-01-07"},1.8,"x",{"$f":"IF(J113=\"\",-10,INDEX(Results!T:T,MATCH(A113,Results!V:V,0)))","v":-5.5},{"$f":"IF(J113=\"\",\"\",INDEX(Results!AI:AI,MATCH(A113,Results!V:V,0)))","v":16.850000000000001},{"$f":"IF(G113=\"\",0,1)","v":1},{"$f":"INDEX(Picks!AF:AF,MATCH(A113,Picks!AC:AC,0))","v":50},"Norwich",{"$f":"INDEX(Odds!G:G,MATCH(J113,Odds!F:F,0))","v":"4/5"},{"$f":"INDEX(Odds!H:H,MATCH(J113,Odds!F:F,0))","v":1.8},{"$f":"INDEX(Odds!I:I,MATCH(J113,Odds!F:F,0))","v":0},0,null,null,null,{"$f":"IF(Odds!F113=\"\",\"\",Odds!F113)","v":"Crewe"},{"$f":"INDEX(Odds!G:G,MATCH(R113,Odds!F:F,0))","v":"11/4"},0]
[{"$f":"A113","v":"Mark Saunders"},"Newcastle",{"$f":"IF(J114=\"\",\"\",INDEX(Odds!B:B,MATCH(J114,Odds!F:F,0)))","v":"1900-01-01"},2.5499999999999998,"x",null,null,null,null,"Newcastle",{"$f":"INDEX(Odds!G:G,MATCH(J114,Odds!F:F,0))","v":"31/20"},{"$f":"INDEX(Odds!H:H,MATCH(J114,Odds!F:F,0))","v":2.5499999999999998},{"$f":"INDEX(Odds!I:I,MATCH(J114,Odds!F:F,0))","v":0},0,null,null,null,{"$f":"IF(Odds!F114=\"\",\"\",Odds!F114)","v":"Lincoln"},{"$f":"INDEX(Odds!G:G,MATCH(R114,Odds!F:F,0))","v":"7/4"},1]
[{"$f":"A113","v":"Mark Saunders"},"Arsenal",{"$f":"IF(J115=\"\",\"\",INDEX(Odds!B:B,MATCH(J115,Odds!F:F,0)))","v":"1900-01-07"},1.5,"√",null,null,null,null,"Arsenal",{"$f":"INDEX(Odds!G:G,MATCH(J115,Odds!F:F,0))","v":"1/2"},{"$f":"INDEX(Odds!H:H,MATCH(J115,Odds!F:F,0))","v":1.5},{"$f":"INDEX(Odds!I:I,MATCH(J115,Odds!F:F,0))","v":1},1.5,null,null,null,{"$f":"IF(Odds!F115=\"\",\"\",Odds!F115)","v":"Sunderland"},{"$f":"INDEX(Odds!G:G,MATCH(R115,Odds!F:F,0))","v":"9/5"},1]
[{"$f":"Results!B116","v":"Martin Molyneux"},"Arsenal",{"$f":"IF(J116=\"\",\"\",INDEX(Odds!B:B,MATCH(J116,Odds!F:F,0)))","v":"1900-01-07"},1.5,"√",{"$f":"IF(J116=\"\",-10,INDEX(Results!T:T,MATCH(A116,Results!V:V,0)))","v":-1.375},{"$f":"IF(J116=\"\",\"\",INDEX(Results!AI:AI,MATCH(A116,Results!V:V,0)))","v":23.137499999999999},{"$f":"IF(G116=\"\",0,1)","v":1},{"$f":"INDEX(Picks!AF:AF,MATCH(A116,Picks!AC:AC,0))","v":25},"Arsenal",{"$f":"INDEX(Odds!G:G,MATCH(J116,Odds!F:F,0))","v":"1/2"},{"$f":"INDEX(Odds!H:H,MATCH(J116,Odds!F:F,0))","v":1.5},{"$f":"INDEX(Odds!I:I,MATCH(J116,Odds!F:F,0))","v":1},1.5,null,null,null,{"$f":"IF(Odds!F116=\"\",\"\",Odds!F116)","v":"Fleetwood"},{"$f":"INDEX(Odds!G:G,MATCH(R116,Odds!F:F,0))","v":"12/5"},0]
[{"$f":"A116","v":"Martin Molyneux"},"Leicester",{"$f":"IF(J117=\"\",\"\",INDEX(Odds!B:B,MATCH(J117,Odds!F:F,0)))","v":"1900-01-01"},1.65,"√",null,null,null,null,"Leicester",{"$f":"INDEX(Odds!G:G,MATCH(J117,Odds!F:F,0))","v":"13/20"},{"$f":"INDEX(Odds!H:H,MATCH(J117,Odds!F:F,0))","v":1.65},{"$f":"INDEX(Odds!I:I,MATCH(J117,Odds!F:F,0))","v":1},1.65,null,null,null,{"$f":"IF(Odds!F117=\"\",\"\",Odds!F117)","v":"Northampton"},{"$f":"INDEX(Odds!G:G,MATCH(R117,Odds!F:F,0))","v":"12/5"},1]
[{"$f":"A116","v":"Martin Molyneux"},"Chelsea Draw",{"$f":"IF(J118=\"\",\"\",INDEX(Odds!B:B,MATCH(J118,Odds!F:F,0)))","v":"1900-01-01"},3.7,"x",null,null,null,null,"Chelsea Draw",{"$f":"INDEX(Odds!G:G,MATCH(J118,Odds!F:F,0))","v":"27/10"},{"$f":"INDEX(Odds!H:H,MATCH(J118,Odds!F:F,0))","v":3.7},{"$f":"INDEX(Odds!I:I,MATCH(J118,Odds!F:F,0))","v":0},0,null,null,null,{"$f":"IF(Odds!F118=\"\",\"\",Odds!F118)","v":"Plymouth"},{"$f":"INDEX(Odds!G:G,MATCH(R118,Odds!F:F,0))","v":"17/10"},0]
[{"$f":"Results!B119","v":"Martin Tarbuck"},"Harrogate",{"$f":"IF(J119=\"\",\"\",INDEX(Odds!B:B,MATCH(J119,Odds!F:F,0)))","v":"1900-01-07"},2.2000000000000002,"x",{"$f":"IF(J119=\"\",-10,INDEX(Results!T:T,MATCH(A119,Results!V:V,0)))","v":-4.7},{"$f":"IF(J119=\"\",\"\",INDEX(Results!AI:AI,MATCH(A119,Results!V:V,0)))","v":29.488},{"$f":"IF(G119=\"\",0,1)","v":1},{"$f":"INDEX(Picks!AF:AF,MATCH(A119,Picks!AC:AC,0))","v":41},"Harrogate",{"$f":"INDEX(Odds!G:G,MATCH(J119,Odds!F:F,0))","v":"6/5"},{"$f":"INDEX(Odds!H:H,MATCH(J119,Odds!F:F,0))","v":2.2000000000000002},{"$f":"INDEX(Odds!I:I,MATCH(J119,Odds!F:F,0))","v":0},0,null,null,null,{"$f":"IF(Odds!F119=\"\",\"\",Odds!F119)","v":"Southend"},{"$f":"INDEX(Odds!G:G,MATCH(R119,Odds!F:F,0))","v":"13/5"},0]
[{"$f":"A119","v":"Martin Tarbuck"},"Salford",{"$f":"IF(J120=\"\",\"\",INDEX(Odds!B:B,MATCH(J120,Odds!F:F,0)))","v":"1900-01-07"},2.2999999999999998,"√",null,null,null,null,"Salford",{"$f":"INDEX(Odds!G:G,MATCH(J120,Odds!F:F,0))","v":"13/10"},{"$f":"INDEX(Odds!H:H,MATCH(J120,Odds!F:F,0))","v":2.2999999999999998},{"$f":"INDEX(Odds!I:I,MATCH(J120,Odds!F:F,0))","v":1},2.2999999999999998,null,null,null,{"$f":"IF(Odds!F120=\"\",\"\",Odds!F120)","v":"Bolton"},{"$f":"INDEX(Odds!G:G,MATCH(R120,Odds!F:F,0))","v":"17/10"},0]
[{"$f":"A119","v":"Martin Tarbuck"},"Derby",{"$f":"IF(J121=\"\",\"\",INDEX(Odds!B:B,MATCH(J121,Odds!F:F,0)))","v":"1900-01-07"},2.5499999999999998,"x",null,null,null,null,"Derby",{"$f":"INDEX(Odds!G:G,MATCH(J121,Odds!F:F,0))","v":"31/20"},{"$f":"INDEX(Odds!H:H,MATCH(J121,Odds!F:F,0))","v":2.5499999999999998},{"$f":"INDEX(Odds!I:I,MATCH(J121,Odds!F:F,0))","v":0},0,null,null,null,{"$f":"IF(Odds!F121=\"\",\"\",Odds!F121)","v":"Scunthorpe"},{"$f":"INDEX(Odds!G:G,MATCH(R121,Odds!F:F,0))","v":"21/10"},0]
[{"$f":"Results!B122","v":"Mike Penk"},"Millwall",{"$f":"IF(J122=\"\",\"\",INDEX(Odds!B:B,MATCH(J122,Odds!F:F,0)))","v":"1900-01-07"},2.7,"√",{"$f":"IF(J122=\"\",-10,INDEX(Results!T:T,MATCH(A122,Results!V:V,0)))","v":-4.3},{"$f":"IF(J122=\"\",\"\",INDEX(Results!AI:AI,MATCH(A122,Results!V:V,0)))","v":44.540000000000006},{"$f":"IF(G122=\"\",0,1)","v":1},{"$f":"INDEX(Picks!AF:AF,MATCH(A122,Picks!AC:AC,0))","v":33},"Millwall",{"$f":"INDEX(Odds!G:G,MATCH(J122,Odds!F:F,0))","v":"17/10"},{"$f":"INDEX(Odds!H:H,MATCH(J122,Odds!F:F,0))","v":2.7},{"$f":"INDEX(Odds!I:I,MATCH(J122,Odds!F:F,0))","v":1},2.7,null,null,null,{"$f":"IF(Odds!F122=\"\",\"\",Odds!F122)","v":"Port Vale"},{"$f":"INDEX(Odds!G:G,MATCH(R122,Odds!F:F,0))","v":"9/4"},1]
[{"$f":"A122","v":"Mike Penk"},"Newcastle",{"$f":"IF(J123=\"\",\"\",INDEX(Odds!B:B,MATCH(J123,Odds!F:F,0)))","v":"1900-01-01"},2.5499999999999998,"x",null,null,null,null,"Newcastle",{"$f":"INDEX(Odds!G:G,MATCH(J123,Odds!F:F,0))","v":"31/20"},{"$f":"INDEX(Odds!H:H,MATCH(J123,Odds!F:F,0))","v":2.5499999999999998},{"$f":"INDEX(Odds!I:I,MATCH(J123,Odds!F:F,0))","v":0},0,null,null,null,{"$f":"IF(Odds!F123=\"\",\"\",Odds!F123)","v":"Bradford"},{"$f":"INDEX(Odds!G:G,MATCH(R123,Odds!F:F,0))","v":"11/5"},0]
[{"$f":"A122","v":"Mike Penk"},"Southampton",{"$f":"IF(J124=\"\",\"\",INDEX(Odds!B:B,MATCH(J124,Odds!F:F,0)))","v":"1900-01-01"},3,"x",null,null,null,null,"Southampton",{"$f":"INDEX(Odds!G:G,MATCH(J124,Odds!F:F,0))","v":"2/1"},{"$f":"INDEX(Odds!H:H,MATCH(J124,Odds!F:F,0))","v":3},{"$f":"INDEX(Odds!I:I,MATCH(J124,Odds!F:F,0))","v":0},0,null,null,null,{"$f":"IF(Odds!F124=\"\",\"\",Odds!F124)","v":"Salford"},{"$f":"INDEX(Odds!G:G,MATCH(R124,Odds!F:F,0))","v":"13/10"},1]
[{"$f":"Results!B125","v":"Mo Sudell"},"Everton",{"$f":"IF(J125=\"\",\"\",INDEX(Odds!B:B,MATCH(J125,Odds!F:F,0)))","v":"1900-01-07"},1.55,"√",{"$f":"IF(J125=\"\",-10,INDEX(Results!T:T,MATCH(A125,Results!V:V,0)))","v":-1.4428571428571431},{"$f":"IF(J125=\"\",\"\",INDEX(Results!AI:AI,MATCH(A125,Results!V:V,0)))","v":10.032142857142858},{"$f":"IF(G125=\"\",0,1)","v":1},{"$f":"INDEX(Picks!AF:AF,MATCH(A125,Picks!AC:AC,0))","v":26},"Everton",{"$f":"INDEX(Odds!G:G,MATCH(J125,Odds!F:F,0))","v":"11/20"},{"$f":"INDEX(Odds!H:H,MATCH(J125,Odds!F:F,0))","v":1.55},{"$f":"INDEX(Odds!I:I,MATCH(J125,Odds!F:F,0))","v":1},1.55,null,null,null,{"$f":"IF(Odds!F125=\"\",\"\",Odds!F125)","v":"Walsall"},{"$f":"INDEX(Odds!G:G,MATCH(R125,Odds!F:F,0))","v":"23/10"},0]
[{"$f":"A125","v":"Mo Sudell"},"Blackburn",{"$f":"IF(J126=\"\",\"\",INDEX(Odds!B:B,MATCH(J126,Odds!F:F,0)))","v":"1900-01-07"},1.5714285714285714,"√",null,null,null,null,"Blackburn",{"$f":"INDEX(Odds!G:G,MATCH(J126,Odds!F:F,0))","v":"4/7"},{"$f":"INDEX(Odds!H:H,MATCH(J126,Odds!F:F,0))","v":1.5714285714285714},{"$f":"INDEX(Odds!I:I,MATCH(J126,Odds!F:F,0))","v":1},1.5714285714285714,null,null,null,{"$f":"IF(Odds!F126=\"\",\"\",Odds!F126)","v":"Cambridge"},{"$f":"INDEX(Odds!G:G,MATCH(R126,Odds!F:F,0))","v":"21/10"},1]
[{"$f":"A125","v":"Mo Sudell"},"Portsmouth",{"$f":"IF(J127=\"\",\"\",INDEX(Odds!B:B,MATCH(J127,Odds!F:F,0)))","v":"1900-01-01"},1.75,"x",null,null,null,null,"Portsmouth",{"$f":"INDEX(Odds!G:G,MATCH(J127,Odds!F:F,0))","v":"3/4"},{"$f":"INDEX(Odds!H:H,MATCH(J127,Odds!F:F,0))","v":1.75},{"$f":"INDEX(Odds!I:I,MATCH(J127,Odds!F:F,0))","v":0},0,null,null,null,{"$f":"IF(Odds!F127=\"\",\"\",Odds!F127)","v":"Barrow"},{"$f":"INDEX(Odds!G:G,MATCH(R127,Odds!F:F,0))","v":"23/10"},0]
[{"$f":"Results!B128","v":"Nick Blocksidge"},"Blackburn",{"$f":"IF(J128=\"\",\"\",INDEX(Odds!B:B,MATCH(J128,Odds!F:F,0)))","v":"1900-01-07"},1.5714285714285714,"√",{"$f":"IF(J128=\"\",-10,INDEX(Results!T:T,MATCH(A128,Results!V:V,0)))","v":-1.4428571428571431},{"$f":"IF(J128=\"\",\"\",INDEX(Results!AI:AI,MATCH(A128,Results!V:V,0)))","v":24.785714285714285},{"$f":"IF(G128=\"\",0,1)","v":1},{"$f":"INDEX(Picks!AF:AF,MATCH(A128,Picks!AC:AC,0))","v":26},"Blackburn",{"$f":"INDEX(Odds!G:G,MATCH(J128,Odds!F:F,0))","v":"4/7"},{"$f":"INDEX(Odds!H:H,MATCH(J128,Odds!F:F,0))","v":1.5714285714285714},{"$f":"INDEX(Odds!I:I,MATCH(J128,Odds!F:F,0))","v":1},1.5714285714285714,null,null,null,{"$f":"IF(Odds!F128=\"\",\"\",Odds!F128)","v":"Mansfield"},{"$f":"INDEX(Odds!G:G,MATCH(R128,Odds!F:F,0))","v":"29/20"},0]
[{"$f":"A128","v":"Nick Blocksidge"},"Everton",{"$f":"IF(J129=\"\",\"\",INDEX(Odds!B:B,MATCH(J129,Odds!F:F,0)))","v":"1900-01-07"},1.55,"√",null,null,null,null,"Everton",{"$f":"INDEX(Odds!G:G,MATCH(J129,Odds!F:F,0))","v":"11/20"},{"$f":"INDEX(Odds!H:H,MATCH(J129,Odds!F:F,0))","v":1.55},{"$f":"INDEX(Odds!I:I,MATCH(J129,Odds!F:F,0))","v":1},1.55,null,null,null,{"$f":"IF(Odds!F129=\"\",\"\",Odds!F129)","v":"Oldham"},{"$f":"INDEX(Odds!G:G,MATCH(R129,Odds!F:F,0))","v":"2/1"},0]
[{"$f":"A128","v":"Nick Blocksidge"},"Leeds draw",{"$f":"IF(J130=\"\",\"\",INDEX(Odds!B:B,MATCH(J130,Odds!F:F,0)))","v":"1900-01-07"},4,"x",null,null,null,null,"Leeds draw",{"$f":"INDEX(Odds!G:G,MATCH(J130,Odds!F:F,0))","v":"3/1"},{"$f":"INDEX(Odds!H:H,MATCH(J130,Odds!F:F,0))","v":4},{"$f":"INDEX(Odds!I:I,MATCH(J130,Odds!F:F,0))","v":0},0,null,null,null,{"$f":"IF(Odds!F130=\"\",\"\",Odds!F130)","v":"Cheltenham"},{"$f":"INDEX(Odds!G:G,MATCH(R130,Odds!F:F,0))","v":"21/10"},1]
[{"$f":"Results!B131","v":"Nigel Heyes"},"Reading",{"$f":"IF(J131=\"\",\"\",INDEX(Odds!B:B,MATCH(J131,Odds!F:F,0)))","v":"1900-01-07"},2.4,{"$f":"IF(J131=\"\",\"\",IF(M131=1,\"√\",\"x\"))","v":"√"},{"$f":"IF(J131=\"\",-10,INDEX(Results!T:T,MATCH(A131,Results!V:V,0)))","v":2.0299999999999994},{"$f":"IF(J131=\"\",\"\",INDEX(Results!AI:AI,MATCH(A131,Results!V:V,0)))","v":22.09},{"$f":"IF(G131=\"\",0,1)","v":1},{"$f":"INDEX(Picks!AF:AF,MATCH(A131,Picks!AC:AC,0))","v":15},"Reading",{"$f":"INDEX(Odds!G:G,MATCH(J131,Odds!F:F,0))","v":"7/5"},{"$f":"INDEX(Odds!H:H,MATCH(J131,Odds!F:F,0))","v":2.4},{"$f":"INDEX(Odds!I:I,MATCH(J131,Odds!F:F,0))","v":1},2.4,null,null,null,{"$f":"IF(Odds!F131=\"\",\"\",Odds!F131)","v":"Liverpool"},{"$f":"INDEX(Odds!G:G,MATCH(R131,Odds!F:F,0))","v":"6/5"},1]
[{"$f":"A131","v":"Nigel Heyes"},"Charlton",{"$f":"IF(J132=\"\",\"\",INDEX(Odds!B:B,MATCH(J132,Odds!F:F,0)))","v":"1900-01-07"},2,"x",null,null,null,null,"Charlton",{"$f":"INDEX(Odds!G:G,MATCH(J132,Odds!F:F,0))","v":"1/1"},{"$f":"INDEX(Odds!H:H,MATCH(J132,Odds!F:F,0))","v":2},{"$f":"INDEX(Odds!I:I,MATCH(J132,Odds!F:F,0))","v":0},0,null,null,null,{"$f":"IF(Odds!F132=\"\",\"\",Odds!F132)","v":"Burnley"},{"$f":"INDEX(Odds!G:G,MATCH(R132,Odds!F:F,0))","v":"9/2"},0]
[{"$f":"A131","v":"Nigel Heyes"},"Hull",{"$f":"IF(J133=\"\",\"\",INDEX(Odds!B:B,MATCH(J133,Odds!F:F,0)))","v":"1900-01-07"},1.95,"√",null,null,null,null,"Hull",{"$f":"INDEX(Odds!G:G,MATCH(J133,Odds!F:F,0))","v":"19/20"},{"$f":"INDEX(Odds!H:H,MATCH(J133,Odds!F:F,0))","v":1.95},{"$f":"INDEX(Odds!I:I,MATCH(J133,Odds!F:F,0))","v":1},1.95,null,null,null,{"$f":"IF(Odds!F133=\"\",\"\",Odds!F133)","v":"Brighton"},{"$f":"INDEX(Odds!G:G,MATCH(R133,Odds!F:F,0))","v":"19/10"},1]
[{"$f":"Results!B134","v":"Oscar Jackson"},"Arsenal",{"$f":"IF(J134=\"\",\"\",INDEX(Odds!B:B,MATCH(J134,Odds!F:F,0)))","v":"1900-01-07"},1.5,"√",{"$f":"IF(J134=\"\",-10,INDEX(Results!T:T,MATCH(A134,Results!V:V,0)))","v":-5.5},{"$f":"IF(J134=\"\",\"\",INDEX(Results!AI:AI,MATCH(A134,Results!V:V,0)))","v":25.825000000000003},{"$f":"IF(G134=\"\",0,1)","v":1},{"$f":"INDEX(Picks!AF:AF,MATCH(A134,Picks!AC:AC,0))","v":50},"Arsenal",{"$f":"INDEX(Odds!G:G,MATCH(J134,Odds!F:F,0))","v":"1/2"},{"$f":"INDEX(Odds!H:H,MATCH(J134,Odds!F:F,0))","v":1.5},{"$f":"INDEX(Odds!I:I,MATCH(J134,Odds!F:F,0))","v":1},1.5,null,null,null,{"$f":"IF(Odds!F134=\"\",\"\",Odds!F134)","v":"Spurs"},{"$f":"INDEX(Odds!G:G,MATCH(R134,Odds!F:F,0))","v":"29/20"},1]
[{"$f":"A134","v":"Oscar Jackson"},"Forest Green",{"$f":"IF(J135=\"\",\"\",INDEX(Odds!B:B,MATCH(J135,Odds!F:F,0)))","v":"1900-01-07"},2.2999999999999998,"x",null,null,null,null,"Forest Green",{"$f":"INDEX(Odds!G:G,MATCH(J135,Odds!F:F,0))","v":"13/10"},{"$f":"INDEX(Odds!H:H,MATCH(J135,Odds!F:F,0))","v":2.2999999999999998},{"$f":"INDEX(Odds!I:I,MATCH(J135,Odds!F:F,0))","v":0},0,null,null,null,{"$f":"IF(Odds!F135=\"\",\"\",Odds!F135)","v":"Bristol C"},{"$f":"INDEX(Odds!G:G,MATCH(R135,Odds!F:F,0))","v":"13/5"},1]
[{"$f":"A134","v":"Oscar Jackson"},"Chelsea",{"$f":"IF(J136=\"\",\"\",INDEX(Odds!B:B,MATCH(J136,Odds!F:F,0)))","v":"1900-01-01"},3.1,"x",null,null,null,null,"Chelsea",{"$f":"INDEX(Odds!G:G,MATCH(J136,Odds!F:F,0))","v":"21/10"},{"$f":"INDEX(Odds!H:H,MATCH(J136,Odds!F:F,0))","v":3.1},{"$f":"INDEX(Odds!I:I,MATCH(J136,Odds!F:F,0))","v":0},0,null,null,null,{"$f":"IF(Odds!F136=\"\",\"\",Odds!F136)","v":"Portsmouth"},{"$f":"INDEX(Odds!G:G,MATCH(R136,Odds!F:F,0))","v":"3/4"},0]
[{"$f":"Results!B137","v":"Paul Adderley"},"Arsenal",{"$f":"IF(J137=\"\",\"\",INDEX(Odds!B:B,MATCH(J137,Odds!F:F,0)))","v":"1900-01-07"},1.5,"√",{"$f":"IF(J137=\"\",-10,INDEX(Results!T:T,MATCH(A137,Results!V:V,0)))","v":-1.4615384615384617},{"$f":"IF(J137=\"\",\"\",INDEX(Results!AI:AI,MATCH(A137,Results!V:V,0)))","v":6.9450549450549453},{"$f":"IF(G137=\"\",0,1)","v":1},{"$f":"INDEX(Picks!AF:AF,MATCH(A137,Picks!AC:AC,0))","v":29},"Arsenal",{"$f":"INDEX(Odds!G:G,MATCH(J137,Odds!F:F,0))","v":"1/2"},{"$f":"INDEX(Odds!H:H,MATCH(J137,Odds!F:F,0))","v":1.5},{"$f":"INDEX(Odds!I:I,MATCH(J137,Odds!F:F,0))","v":1},1.5,null,null,null,{"$f":"IF(Odds!F137=\"\",\"\",Odds!F137)","v":""},{"$f":"INDEX(Odds!G:G,MATCH(R137,Odds!F:F,0))","v":""},{"$error":"#N/A"}]
[{"$f":"A137","v":"Paul Adderley"},"Man U",{"$f":"IF(J138=\"\",\"\",INDEX(Odds!B:B,MATCH(J138,Odds!F:F,0)))","v":"1900-01-07"},1.2857142857142856,"x",null,null,null,null,"Man U",{"$f":"INDEX(Odds!G:G,MATCH(J138,Odds!F:F,0))","v":"2/7"},{"$f":"INDEX(Odds!H:H,MATCH(J138,Odds!F:F,0))","v":1.2857142857142856},{"$f":"INDEX(Odds!I:I,MATCH(J138,Odds!F:F,0))","v":0},0,null,null,null,{"$f":"IF(Odds!F138=\"\",\"\",Odds!F138)","v":""},{"$f":"INDEX(Odds!G:G,MATCH(R138,Odds!F:F,0))","v":""},{"$error":"#N/A"}]
[{"$f":"A137","v":"Paul Adderley"},"Leeds",{"$f":"IF(J139=\"\",\"\",INDEX(Odds!B:B,MATCH(J139,Odds!F:F,0)))","v":"1900-01-07"},1.6153846153846154,"√",null,null,null,null,"Leeds",{"$f":"INDEX(Odds!G:G,MATCH(J139,Odds!F:F,0))","v":"8/13"},{"$f":"INDEX(Odds!H:H,MATCH(J139,Odds!F:F,0))","v":1.6153846153846154},{"$f":"INDEX(Odds!I:I,MATCH(J139,Odds!F:F,0))","v":1},1.6153846153846154,null,null,null,{"$f":"IF(Odds!F139=\"\",\"\",Odds!F139)","v":""},{"$f":"INDEX(Odds!G:G,MATCH(R139,Odds!F:F,0))","v":""},{"$error":"#N/A"}]
[{"$f":"Results!B140","v":"Paul Allen"},"Bristol R",{"$f":"IF(J140=\"\",\"\",INDEX(Odds!B:B,MATCH(J140,Odds!F:F,0)))","v":"1900-01-07"},2.7,"x",{"$f":"IF(J140=\"\",-10,INDEX(Results!T:T,MATCH(A140,Results!V:V,0)))","v":-4.55},{"$f":"IF(J140=\"\",\"\",INDEX(Results!AI:AI,MATCH(A140,Results!V:V,0)))","v":37.315750000000008},{"$f":"IF(G140=\"\",0,1)","v":1},{"$f":"INDEX(Picks!AF:AF,MATCH(A140,Picks!AC:AC,0))","v":36},"Bristol R",{"$f":"INDEX(Odds!G:G,MATCH(J140,Odds!F:F,0))","v":"17/10"},{"$f":"INDEX(Odds!H:H,MATCH(J140,Odds!F:F,0))","v":2.7},{"$f":"INDEX(Odds!I:I,MATCH(J140,Odds!F:F,0))","v":0},0]
[{"$f":"A140","v":"Paul Allen"},"Newcastle",{"$f":"IF(J141=\"\",\"\",INDEX(Odds!B:B,MATCH(J141,Odds!F:F,0)))","v":"1900-01-01"},2.5499999999999998,"x",null,null,null,null,"Newcastle",{"$f":"INDEX(Odds!G:G,MATCH(J141,Odds!F:F,0))","v":"31/20"},{"$f":"INDEX(Odds!H:H,MATCH(J141,Odds!F:F,0))","v":2.5499999999999998},{"$f":"INDEX(Odds!I:I,MATCH(J141,Odds!F:F,0))","v":0},0]
[{"$f":"A140","v":"Paul Allen"},"Spurs",{"$f":"IF(J142=\"\",\"\",INDEX(Odds!B:B,MATCH(J142,Odds!F:F,0)))","v":"1900-01-01"},2.4500000000000002,"√",null,null,null,null,"Spurs",{"$f":"INDEX(Odds!G:G,MATCH(J142,Odds!F:F,0))","v":"29/20"},{"$f":"INDEX(Odds!H:H,MATCH(J142,Odds!F:F,0))","v":2.4500000000000002},{"$f":"INDEX(Odds!I:I,MATCH(J142,Odds!F:F,0))","v":1},2.4500000000000002]
[{"$f":"Results!B143","v":"Paul Barnes"},"Arsenal",{"$f":"IF(J143=\"\",\"\",INDEX(Odds!B:B,MATCH(J143,Odds!F:F,0)))","v":"1900-01-07"},1.5,"√",{"$f":"IF(J143=\"\",-10,INDEX(Results!T:T,MATCH(A143,Results!V:V,0)))","v":8.6730769230769234},{"$f":"IF(J143=\"\",\"\",INDEX(Results!AI:AI,MATCH(A143,Results!V:V,0)))","v":8.6730769230769234},{"$f":"IF(G143=\"\",0,1)","v":1},{"$f":"INDEX(Picks!AF:AF,MATCH(A143,Picks!AC:AC,0))","v":7},"Arsenal",{"$f":"INDEX(Odds!G:G,MATCH(J143,Odds!F:F,0))","v":"1/2"},{"$f":"INDEX(Odds!H:H,MATCH(J143,Odds!F:F,0))","v":1.5},{"$f":"INDEX(Odds!I:I,MATCH(J143,Odds!F:F,0))","v":1},1.5]
[{"$f":"A143","v":"Paul Barnes"},"Everton",{"$f":"IF(J144=\"\",\"\",INDEX(Odds!B:B,MATCH(J144,Odds!F:F,0)))","v":"1900-01-07"},1.55,"√",null,null,null,null,"Everton",{"$f":"INDEX(Odds!G:G,MATCH(J144,Odds!F:F,0))","v":"11/20"},{"$f":"INDEX(Odds!H:H,MATCH(J144,Odds!F:F,0))","v":1.55},{"$f":"INDEX(Odds!I:I,MATCH(J144,Odds!F:F,0))","v":1},1.55]
[{"$f":"A143","v":"Paul Barnes"},"Leeds",{"$f":"IF(J145=\"\",\"\",INDEX(Odds!B:B,MATCH(J145,Odds!F:F,0)))","v":"1900-01-07"},1.6153846153846154,"√",null,null,null,null,"Leeds",{"$f":"INDEX(Odds!G:G,MATCH(J145,Odds!F:F,0))","v":"8/13"},{"$f":"INDEX(Odds!H:H,MATCH(J145,Odds!F:F,0))","v":1.6153846153846154},{"$f":"INDEX(Odds!I:I,MATCH(J145,Odds!F:F,0))","v":1},1.6153846153846154]
[{"$f":"Results!B146","v":"Paul Fairhurst"},"Palace",{"$f":"IF(J146=\"\",\"\",INDEX(Odds!B:B,MATCH(J146,Odds!F:F,0)))","v":"1900-01-07"},11,"√",{"$f":"IF(J146=\"\",-10,INDEX(Results!T:T,MATCH(A146,Results!V:V,0)))","v":208.72},{"$f":"IF(J146=\"\",\"\",INDEX(Results!AI:AI,MATCH(A146,Results!V:V,0)))","v":208.72},{"$f":"IF(G146=\"\",0,1)","v":1},{"$f":"INDEX(Picks!AF:AF,MATCH(A146,Picks!AC:AC,0))","v":1},"Palace",{"$f":"INDEX(Odds!G:G,MATCH(J146,Odds!F:F,0))","v":"10/1"},{"$f":"INDEX(Odds!H:H,MATCH(J146,Odds!F:F,0))","v":11},{"$f":"INDEX(Odds!I:I,MATCH(J146,Odds!F:F,0))","v":1},11]
[{"$f":"A146","v":"Paul Fairhurst"},"Middlesbro draw",{"$f":"IF(J147=\"\",\"\",INDEX(Odds!B:B,MATCH(J147,Odds!F:F,0)))","v":"1900-01-07"},3.2,"√",null,null,null,null,"Middlesbro draw",{"$f":"INDEX(Odds!G:G,MATCH(J147,Odds!F:F,0))","v":"11/5"},{"$f":"INDEX(Odds!H:H,MATCH(J147,Odds!F:F,0))","v":3.2},{"$f":"INDEX(Odds!I:I,MATCH(J147,Odds!F:F,0))","v":1},3.2]
[{"$f":"A146","v":"Paul Fairhurst"},"Harrogate draw",{"$f":"IF(J148=\"\",\"\",INDEX(Odds!B:B,MATCH(J148,Odds!F:F,0)))","v":"1900-01-07"},3.3,"√",null,null,null,null,"Harrogate draw",{"$f":"INDEX(Odds!G:G,MATCH(J148,Odds!F:F,0))","v":"23/10"},{"$f":"INDEX(Odds!H:H,MATCH(J148,Odds!F:F,0))","v":3.3},{"$f":"INDEX(Odds!I:I,MATCH(J148,Odds!F:F,0))","v":1},3.3]
[{"$f":"Results!B149","v":"Paul Fiddler"},"Blackpool",{"$f":"IF(J149=\"\",\"\",INDEX(Odds!B:B,MATCH(J149,Odds!F:F,0)))","v":"1900-01-07"},2.15,"√",{"$f":"IF(J149=\"\",-10,INDEX(Results!T:T,MATCH(A149,Results!V:V,0)))","v":1.2925000000000004},{"$f":"IF(J149=\"\",\"\",INDEX(Results!AI:AI,MATCH(A149,Results!V:V,0)))","v":28.240749999999991},{"$f":"IF(G149=\"\",0,1)","v":1},{"$f":"INDEX(Picks!AF:AF,MATCH(A149,Picks!AC:AC,0))","v":17},"Blackpool",{"$f":"INDEX(Odds!G:G,MATCH(J149,Odds!F:F,0))","v":"23/20"},{"$f":"INDEX(Odds!H:H,MATCH(J149,Odds!F:F,0))","v":2.15},{"$f":"INDEX(Odds!I:I,MATCH(J149,Odds!F:F,0))","v":1},{"$f":"L149*M149","v":2.15}]
[{"$f":"A149","v":"Paul Fiddler"},"Hull",{"$f":"IF(J150=\"\",\"\",INDEX(Odds!B:B,MATCH(J150,Odds!F:F,0)))","v":"1900-01-07"},1.95,"√",null,null,null,null,"Hull",{"$f":"INDEX(Odds!G:G,MATCH(J150,Odds!F:F,0))","v":"19/20"},{"$f":"INDEX(Odds!H:H,MATCH(J150,Odds!F:F,0))","v":1.95},{"$f":"INDEX(Odds!I:I,MATCH(J150,Odds!F:F,0))","v":1},1.95]
[{"$f":"A149","v":"Paul Fiddler"},"QPR",{"$f":"IF(J151=\"\",\"\",INDEX(Odds!B:B,MATCH(J151,Odds!F:F,0)))","v":"1900-01-06"},2.9,"x",null,null,null,null,"QPR",{"$f":"INDEX(Odds!G:G,MATCH(J151,Odds!F:F,0))","v":"19/10"},{"$f":"INDEX(Odds!H:H,MATCH(J151,Odds!F:F,0))","v":2.9},{"$f":"INDEX(Odds!I:I,MATCH(J151,Odds!F:F,0))","v":0},0]
[{"$f":"Results!B152","v":"Paul Ridgeway"},"Leeds",{"$f":"IF(J152=\"\",\"\",INDEX(Odds!B:B,MATCH(J152,Odds!F:F,0)))","v":"1900-01-07"},1.6153846153846154,"√",{"$f":"IF(J152=\"\",-10,INDEX(Results!T:T,MATCH(A152,Results!V:V,0)))","v":-1.069230769230769},{"$f":"IF(J152=\"\",\"\",INDEX(Results!AI:AI,MATCH(A152,Results!V:V,0)))","v":17.643846153846155},{"$f":"IF(G152=\"\",0,1)","v":1},{"$f":"INDEX(Picks!AF:AF,MATCH(A152,Picks!AC:AC,0))","v":23},"Leeds",{"$f":"INDEX(Odds!G:G,MATCH(J152,Odds!F:F,0))","v":"8/13"},{"$f":"INDEX(Odds!H:H,MATCH(J152,Odds!F:F,0))","v":1.6153846153846154},{"$f":"INDEX(Odds!I:I,MATCH(J152,Odds!F:F,0))","v":1},1.6153846153846154]
[{"$f":"A152","v":"Paul Ridgeway"},"Bournemouth",{"$f":"IF(J153=\"\",\"\",INDEX(Odds!B:B,MATCH(J153,Odds!F:F,0)))","v":"1900-01-07"},2.7,"x",null,null,null,null,"Bournemouth",{"$f":"INDEX(Odds!G:G,MATCH(J153,Odds!F:F,0))","v":"17/10"},{"$f":"INDEX(Odds!H:H,MATCH(J153,Odds!F:F,0))","v":2.7},{"$f":"INDEX(Odds!I:I,MATCH(J153,Odds!F:F,0))","v":0},0]
[{"$f":"A152","v":"Paul Ridgeway"},"Leicester",{"$f":"IF(J154=\"\",\"\",INDEX(Odds!B:B,MATCH(J154,Odds!F:F,0)))","v":"1900-01-01"},1.65,"√",null,null,null,null,"Leicester",{"$f":"INDEX(Odds!G:G,MATCH(J154,Odds!F:F,0))","v":"13/20"},{"$f":"INDEX(Odds!H:H,MATCH(J154,Odds!F:F,0))","v":1.65},{"$f":"INDEX(Odds!I:I,MATCH(J154,Odds!F:F,0))","v":1},1.65]
[{"$f":"Results!B155","v":"Pete Baron"},"Newcastle",{"$f":"IF(J155=\"\",\"\",INDEX(Odds!B:B,MATCH(J155,Odds!F:F,0)))","v":"1900-01-01"},2.5499999999999998,"x",{"$f":"IF(J155=\"\",-10,INDEX(Results!T:T,MATCH(A155,Results!V:V,0)))","v":-7},{"$f":"IF(J155=\"\",\"\",INDEX(Results!AI:AI,MATCH(A155,Results!V:V,0)))","v":36.738874999999993},{"$f":"IF(G155=\"\",0,1)","v":1},{"$f":"INDEX(Picks!AF:AF,MATCH(A155,Picks!AC:AC,0))","v":53},"Newcastle",{"$f":"INDEX(Odds!G:G,MATCH(J155,Odds!F:F,0))","v":"31/20"},{"$f":"INDEX(Odds!H:H,MATCH(J155,Odds!F:F,0))","v":2.5499999999999998},{"$f":"INDEX(Odds!I:I,MATCH(J155,Odds!F:F,0))","v":0},0]
[{"$f":"A155","v":"Pete Baron"},"Watford",{"$f":"IF(J156=\"\",\"\",INDEX(Odds!B:B,MATCH(J156,Odds!F:F,0)))","v":"1900-01-07"},2.5499999999999998,"x",null,null,null,null,"Watford",{"$f":"INDEX(Odds!G:G,MATCH(J156,Odds!F:F,0))","v":"31/20"},{"$f":"INDEX(Odds!H:H,MATCH(J156,Odds!F:F,0))","v":2.5499999999999998},{"$f":"INDEX(Odds!I:I,MATCH(J156,Odds!F:F,0))","v":0},0]
[{"$f":"A155","v":"Pete Baron"},"Derby",{"$f":"IF(J157=\"\",\"\",INDEX(Odds!B:B,MATCH(J157,Odds!F:F,0)))","v":"1900-01-07"},2.5499999999999998,"x",null,null,null,null,"Derby",{"$f":"INDEX(Odds!G:G,MATCH(J157,Odds!F:F,0))","v":"31/20"},{"$f":"INDEX(Odds!H:H,MATCH(J157,Odds!F:F,0))","v":2.5499999999999998},{"$f":"INDEX(Odds!I:I,MATCH(J157,Odds!F:F,0))","v":0},0]
[{"$f":"Results!B158","v":"Phil Miller"},"Man U",{"$f":"IF(J158=\"\",\"\",INDEX(Odds!B:B,MATCH(J158,Odds!F:F,0)))","v":"1900-01-07"},1.2857142857142856,"x",{"$f":"IF(J158=\"\",-10,INDEX(Results!T:T,MATCH(A158,Results!V:V,0)))","v":-4.7},{"$f":"IF(J158=\"\",\"\",INDEX(Results!AI:AI,MATCH(A158,Results!V:V,0)))","v":18.777142857142852},{"$f":"IF(G158=\"\",0,1)","v":1},{"$f":"INDEX(Picks!AF:AF,MATCH(A158,Picks!AC:AC,0))","v":41},"Man U",{"$f":"INDEX(Odds!G:G,MATCH(J158,Odds!F:F,0))","v":"2/7"},{"$f":"INDEX(Odds!H:H,MATCH(J158,Odds!F:F,0))","v":1.2857142857142856},{"$f":"INDEX(Odds!I:I,MATCH(J158,Odds!F:F,0))","v":0},0]
[{"$f":"A158","v":"Phil Miller"},"Derby",{"$f":"IF(J159=\"\",\"\",INDEX(Odds!B:B,MATCH(J159,Odds!F:F,0)))","v":"1900-01-07"},2.5499999999999998,"x",null,null,null,null,"Derby",{"$f":"INDEX(Odds!G:G,MATCH(J159,Odds!F:F,0))","v":"31/20"},{"$f":"INDEX(Odds!H:H,MATCH(J159,Odds!F:F,0))","v":2.5499999999999998},{"$f":"INDEX(Odds!I:I,MATCH(J159,Odds!F:F,0))","v":0},0]
[{"$f":"A158","v":"Phil Miller"},"Salford",{"$f":"IF(J160=\"\",\"\",INDEX(Odds!B:B,MATCH(J160,Odds!F:F,0)))","v":"1900-01-07"},2.2999999999999998,"√",null,null,null,null,"Salford",{"$f":"INDEX(Odds!G:G,MATCH(J160,Odds!F:F,0))","v":"13/10"},{"$f":"INDEX(Odds!H:H,MATCH(J160,Odds!F:F,0))","v":2.2999999999999998},{"$f":"INDEX(Odds!I:I,MATCH(J160,Odds!F:F,0))","v":1},2.2999999999999998]
[{"$f":"Results!B161","v":"Rob England"},"Norwich",{"$f":"IF(J161=\"\",\"\",INDEX(Odds!B:B,MATCH(J161,Odds!F:F,0)))","v":"1900-01-07"},1.8,"x",{"$f":"IF(J161=\"\",-10,INDEX(Results!T:T,MATCH(A161,Results!V:V,0)))","v":-4.375},{"$f":"IF(J161=\"\",\"\",INDEX(Results!AI:AI,MATCH(A161,Results!V:V,0)))","v":29.555},{"$f":"IF(G161=\"\",0,1)","v":1},{"$f":"INDEX(Picks!AF:AF,MATCH(A161,Picks!AC:AC,0))","v":34},"Norwich",{"$f":"INDEX(Odds!G:G,MATCH(J161,Odds!F:F,0))","v":"4/5"},{"$f":"INDEX(Odds!H:H,MATCH(J161,Odds!F:F,0))","v":1.8},{"$f":"INDEX(Odds!I:I,MATCH(J161,Odds!F:F,0))","v":0},0]
[{"$f":"A161","v":"Rob England"},"Plymouth",{"$f":"IF(J162=\"\",\"\",INDEX(Odds!B:B,MATCH(J162,Odds!F:F,0)))","v":"1900-01-07"},2.7,"x",null,null,null,null,"Plymouth",{"$f":"INDEX(Odds!G:G,MATCH(J162,Odds!F:F,0))","v":"17/10"},{"$f":"INDEX(Odds!H:H,MATCH(J162,Odds!F:F,0))","v":2.7},{"$f":"INDEX(Odds!I:I,MATCH(J162,Odds!F:F,0))","v":0},0]
[{"$f":"A161","v":"Rob England"},"Colchester",{"$f":"IF(J163=\"\",\"\",INDEX(Odds!B:B,MATCH(J163,Odds!F:F,0)))","v":"1900-01-07"},2.625,"√",null,null,null,null,"Colchester",{"$f":"INDEX(Odds!G:G,MATCH(J163,Odds!F:F,0))","v":"13/8"},{"$f":"INDEX(Odds!H:H,MATCH(J163,Odds!F:F,0))","v":2.625},{"$f":"INDEX(Odds!I:I,MATCH(J163,Odds!F:F,0))","v":1},2.625]
[{"$f":"Results!B164","v":"Sally Williams"},{"$f":"IF(J164=\"\",\"\",J164)","v":"Grimsby"},{"$f":"IF(J164=\"\",\"\",INDEX(Odds!B:B,MATCH(J164,Odds!F:F,0)))","v":"1900-01-07"},{"$f":"IF(J164=\"\",\"\",L164)","v":3.1},"x",{"$f":"IF(J164=\"\",-10,INDEX(Results!T:T,MATCH(A164,Results!V:V,0)))","v":-7},{"$f":"IF(J164=\"\",\"\",INDEX(Results!AI:AI,MATCH(A164,Results!V:V,0)))","v":58.215000000000003},{"$f":"IF(G164=\"\",0,1)","v":1},{"$f":"INDEX(Picks!AF:AF,MATCH(A164,Picks!AC:AC,0))","v":53},"Grimsby",{"$f":"INDEX(Odds!G:G,MATCH(J164,Odds!F:F,0))","v":"21/10"},{"$f":"INDEX(Odds!H:H,MATCH(J164,Odds!F:F,0))","v":3.1},{"$f":"INDEX(Odds!I:I,MATCH(J164,Odds!F:F,0))","v":0},0]
[{"$f":"A164","v":"Sally Williams"},"Morecambe draw",{"$f":"IF(J165=\"\",\"\",INDEX(Odds!B:B,MATCH(J165,Odds!F:F,0)))","v":"1900-01-07"},3.25,"x",null,null,null,null,"Morecambe draw",{"$f":"INDEX(Odds!G:G,MATCH(J165,Odds!F:F,0))","v":"9/4"},{"$f":"INDEX(Odds!H:H,MATCH(J165,Odds!F:F,0))","v":3.25},{"$f":"INDEX(Odds!I:I,MATCH(J165,Odds!F:F,0))","v":0},0]
[{"$f":"A164","v":"Sally Williams"},"Orient",{"$f":"IF(J166=\"\",\"\",INDEX(Odds!B:B,MATCH(J166,Odds!F:F,0)))","v":"1900-01-07"},2.8,"x",null,null,null,null,"Orient",{"$f":"INDEX(Odds!G:G,MATCH(J166,Odds!F:F,0))","v":"9/5"},{"$f":"INDEX(Odds!H:H,MATCH(J166,Odds!F:F,0))","v":2.8},{"$f":"INDEX(Odds!I:I,MATCH(J166,Odds!F:F,0))","v":0},0]
[{"$f":"Results!B167","v":"Simon Greenhalgh"},"Arsenal",{"$f":"IF(J167=\"\",\"\",INDEX(Odds!B:B,MATCH(J167,Odds!F:F,0)))","v":"1900-01-07"},1.5,"√",{"$f":"IF(J167=\"\",-10,INDEX(Results!T:T,MATCH(A167,Results!V:V,0)))","v":-5.5},{"$f":"IF(J167=\"\",\"\",INDEX(Results!AI:AI,MATCH(A167,Results!V:V,0)))","v":15.100000000000001},{"$f":"IF(G167=\"\",0,1)","v":1},{"$f":"INDEX(Picks!AF:AF,MATCH(A167,Picks!AC:AC,0))","v":50},"Arsenal",{"$f":"INDEX(Odds!G:G,MATCH(J167,Odds!F:F,0))","v":"1/2"},{"$f":"INDEX(Odds!H:H,MATCH(J167,Odds!F:F,0))","v":1.5},{"$f":"INDEX(Odds!I:I,MATCH(J167,Odds!F:F,0))","v":1},1.5]
[{"$f":"A167","v":"Simon Greenhalgh"},"Norwich",{"$f":"IF(J168=\"\",\"\",INDEX(Odds!B:B,MATCH(J168,Odds!F:F,0)))","v":"1900-01-07"},1.8,"x",null,null,null,null,"Norwich",{"$f":"INDEX(Odds!G:G,MATCH(J168,Odds!F:F,0))","v":"4/5"},{"$f":"INDEX(Odds!H:H,MATCH(J168,Odds!F:F,0))","v":1.8},{"$f":"INDEX(Odds!I:I,MATCH(J168,Odds!F:F,0))","v":0},0]
[{"$f":"A167","v":"Simon Greenhalgh"},"Forest Green",{"$f":"IF(J169=\"\",\"\",INDEX(Odds!B:B,MATCH(J169,Odds!F:F,0)))","v":"1900-01-07"},2.2999999999999998,"x",null,null,null,null,"Forest Green",{"$f":"INDEX(Odds!G:G,MATCH(J169,Odds!F:F,0))","v":"13/10"},{"$f":"INDEX(Odds!H:H,MATCH(J169,Odds!F:F,0))","v":2.2999999999999998},{"$f":"INDEX(Odds!I:I,MATCH(J169,Odds!F:F,0))","v":0},0]
[{"$f":"Results!B170","v":"Stephen Barr"},"Newcastle",{"$f":"IF(J170=\"\",\"\",INDEX(Odds!B:B,MATCH(J170,Odds!F:F,0)))","v":"1900-01-01"},2.5499999999999998,"x",{"$f":"IF(J170=\"\",-10,INDEX(Results!T:T,MATCH(A170,Results!V:V,0)))","v":6.7200000000000024},{"$f":"IF(J170=\"\",\"\",INDEX(Results!AI:AI,MATCH(A170,Results!V:V,0)))","v":44.256},{"$f":"IF(G170=\"\",0,1)","v":1},{"$f":"INDEX(Picks!AF:AF,MATCH(A170,Picks!AC:AC,0))","v":9},"Newcastle",{"$f":"INDEX(Odds!G:G,MATCH(J170,Odds!F:F,0))","v":"31/20"},{"$f":"INDEX(Odds!H:H,MATCH(J170,Odds!F:F,0))","v":2.5499999999999998},{"$f":"INDEX(Odds!I:I,MATCH(J170,Odds!F:F,0))","v":0},0]
[{"$f":"A170","v":"Stephen Barr"},"Liverpool",{"$f":"IF(J171=\"\",\"\",INDEX(Odds!B:B,MATCH(J171,Odds!F:F,0)))","v":"1900-01-01"},2.2000000000000002,"√",null,null,null,null,"Liverpool",{"$f":"INDEX(Odds!G:G,MATCH(J171,Odds!F:F,0))","v":"6/5"},{"$f":"INDEX(Odds!H:H,MATCH(J171,Odds!F:F,0))","v":2.2000000000000002},{"$f":"INDEX(Odds!I:I,MATCH(J171,Odds!F:F,0))","v":1},2.2000000000000002]
[{"$f":"A170","v":"Stephen Barr"},"Bristol c",{"$f":"IF(J172=\"\",\"\",INDEX(Odds!B:B,MATCH(J172,Odds!F:F,0)))","v":"1900-01-01"},3.6,"√",null,null,null,null,"Bristol c",{"$f":"INDEX(Odds!G:G,MATCH(J172,Odds!F:F,0))","v":"13/5"},{"$f":"INDEX(Odds!H:H,MATCH(J172,Odds!F:F,0))","v":3.6},{"$f":"INDEX(Odds!I:I,MATCH(J172,Odds!F:F,0))","v":1},3.6]
[{"$f":"Results!B173","v":"Stephen Troop"},"Man U",{"$f":"IF(J173=\"\",\"\",INDEX(Odds!B:B,MATCH(J173,Odds!F:F,0)))","v":"1900-01-07"},1.2857142857142856,"x",{"$f":"IF(J173=\"\",-10,INDEX(Results!T:T,MATCH(A173,Results!V:V,0)))","v":-1.3307692307692305},{"$f":"IF(J173=\"\",\"\",INDEX(Results!AI:AI,MATCH(A173,Results!V:V,0)))","v":7.2439560439560431},{"$f":"IF(G173=\"\",0,1)","v":1},{"$f":"INDEX(Picks!AF:AF,MATCH(A173,Picks!AC:AC,0))","v":24},"Man U",{"$f":"INDEX(Odds!G:G,MATCH(J173,Odds!F:F,0))","v":"2/7"},{"$f":"INDEX(Odds!H:H,MATCH(J173,Odds!F:F,0))","v":1.2857142857142856},{"$f":"INDEX(Odds!I:I,MATCH(J173,Odds!F:F,0))","v":0},0]
[{"$f":"A173","v":"Stephen Troop"},"Leeds",{"$f":"IF(J174=\"\",\"\",INDEX(Odds!B:B,MATCH(J174,Odds!F:F,0)))","v":"1900-01-07"},1.6153846153846154,"√",null,null,null,null,"Leeds",{"$f":"INDEX(Odds!G:G,MATCH(J174,Odds!F:F,0))","v":"8/13"},{"$f":"INDEX(Odds!H:H,MATCH(J174,Odds!F:F,0))","v":1.6153846153846154},{"$f":"INDEX(Odds!I:I,MATCH(J174,Odds!F:F,0))","v":1},1.6153846153846154]
[{"$f":"A173","v":"Stephen Troop"},"Everton",{"$f":"IF(J175=\"\",\"\",INDEX(Odds!B:B,MATCH(J175,Odds!F:F,0)))","v":"1900-01-07"},1.55,"√",null,null,null,null,"Everton",{"$f":"INDEX(Odds!G:G,MATCH(J175,Odds!F:F,0))","v":"11/20"},{"$f":"INDEX(Odds!H:H,MATCH(J175,Odds!F:F,0))","v":1.55},{"$f":"INDEX(Odds!I:I,MATCH(J175,Odds!F:F,0))","v":1},1.55]
[{"$f":"Results!B176","v":"Steve Baxter"},"Arsenal",{"$f":"IF(J176=\"\",\"\",INDEX(Odds!B:B,MATCH(J176,Odds!F:F,0)))","v":"1900-01-07"},1.5,"√",{"$f":"IF(J176=\"\",-10,INDEX(Results!T:T,MATCH(A176,Results!V:V,0)))","v":0},{"$f":"IF(J176=\"\",\"\",INDEX(Results!AI:AI,MATCH(A176,Results!V:V,0)))","v":10.285714285714288},{"$f":"IF(G176=\"\",0,1)","v":1},{"$f":"INDEX(Picks!AF:AF,MATCH(A176,Picks!AC:AC,0))","v":20},"Arsenal",{"$f":"INDEX(Odds!G:G,MATCH(J176,Odds!F:F,0))","v":"1/2"},{"$f":"INDEX(Odds!H:H,MATCH(J176,Odds!F:F,0))","v":1.5},{"$f":"INDEX(Odds!I:I,MATCH(J176,Odds!F:F,0))","v":1},1.5]
[{"$f":"A176","v":"Steve Baxter"},"Man U",{"$f":"IF(J177=\"\",\"\",INDEX(Odds!B:B,MATCH(J177,Odds!F:F,0)))","v":"1900-01-07"},1.2857142857142856,"x",null,null,null,null,"Man U",{"$f":"INDEX(Odds!G:G,MATCH(J177,Odds!F:F,0))","v":"2/7"},{"$f":"INDEX(Odds!H:H,MATCH(J177,Odds!F:F,0))","v":1.2857142857142856},{"$f":"INDEX(Odds!I:I,MATCH(J177,Odds!F:F,0))","v":0},0]
[{"$f":"A176","v":"Steve Baxter"},"Liverpool",{"$f":"IF(J178=\"\",\"\",INDEX(Odds!B:B,MATCH(J178,Odds!F:F,0)))","v":"1900-01-01"},2.2000000000000002,"√",null,null,null,null,"Liverpool",{"$f":"INDEX(Odds!G:G,MATCH(J178,Odds!F:F,0))","v":"6/5"},{"$f":"INDEX(Odds!H:H,MATCH(J178,Odds!F:F,0))","v":2.2000000000000002},{"$f":"INDEX(Odds!I:I,MATCH(J178,Odds!F:F,0))","v":1},2.2000000000000002]
[{"$f":"Results!B179","v":"Steve Carter"},"Norwich",{"$f":"IF(J179=\"\",\"\",INDEX(Odds!B:B,MATCH(J179,Odds!F:F,0)))","v":"1900-01-07"},1.8,"x",{"$f":"IF(J179=\"\",-10,INDEX(Results!T:T,MATCH(A179,Results!V:V,0)))","v":-4.5999999999999996},{"$f":"IF(J179=\"\",\"\",INDEX(Results!AI:AI,MATCH(A179,Results!V:V,0)))","v":25.795999999999999},{"$f":"IF(G179=\"\",0,1)","v":1},{"$f":"INDEX(Picks!AF:AF,MATCH(A179,Picks!AC:AC,0))","v":39},"Norwich",{"$f":"INDEX(Odds!G:G,MATCH(J179,Odds!F:F,0))","v":"4/5"},{"$f":"INDEX(Odds!H:H,MATCH(J179,Odds!F:F,0))","v":1.8},{"$f":"INDEX(Odds!I:I,MATCH(J179,Odds!F:F,0))","v":0},0]
[{"$f":"A179","v":"Steve Carter"},"Reading",{"$f":"IF(J180=\"\",\"\",INDEX(Odds!B:B,MATCH(J180,Odds!F:F,0)))","v":"1900-01-07"},2.4,"√",null,null,null,null,"Reading",{"$f":"INDEX(Odds!G:G,MATCH(J180,Odds!F:F,0))","v":"7/5"},{"$f":"INDEX(Odds!H:H,MATCH(J180,Odds!F:F,0))","v":2.4},{"$f":"INDEX(Odds!I:I,MATCH(J180,Odds!F:F,0))","v":1},2.4]
[{"$f":"A179","v":"Steve Carter"},"Newcastle",{"$f":"IF(J181=\"\",\"\",INDEX(Odds!B:B,MATCH(J181,Odds!F:F,0)))","v":"1900-01-01"},2.5499999999999998,"x",null,null,null,null,"Newcastle",{"$f":"INDEX(Odds!G:G,MATCH(J181,Odds!F:F,0))","v":"31/20"},{"$f":"INDEX(Odds!H:H,MATCH(J181,Odds!F:F,0))","v":2.5499999999999998},{"$f":"INDEX(Odds!I:I,MATCH(J181,Odds!F:F,0))","v":0},0]
[{"$f":"Results!B182","v":"Tom Robinson"},"",{"$f":"IF(J182=\"\",\"\",INDEX(Odds!B:B,MATCH(J182,Odds!F:F,0)))","v":""},"","",{"$f":"IF(J182=\"\",-10,INDEX(Results!T:T,MATCH(A182,Results!V:V,0)))","v":-10},{"$f":"IF(J182=\"\",\"\",INDEX(Results!AI:AI,MATCH(A182,Results!V:V,0)))","v":""},{"$f":"IF(G182=\"\",0,1)","v":0},{"$f":"INDEX(Picks!AF:AF,MATCH(A182,Picks!AC:AC,0))","v":61},null,{"$f":"INDEX(Odds!G:G,MATCH(J182,Odds!F:F,0))","v":{"$error":"#N/A"}},{"$f":"INDEX(Odds!H:H,MATCH(J182,Odds!F:F,0))","v":{"$error":"#N/A"}},{"$f":"INDEX(Odds!I:I,MATCH(J182,Odds!F:F,0))","v":{"$error":"#N/A"}},{"$error":"#N/A"}]
[{"$f":"A182","v":"Tom Robinson"},"",{"$f":"IF(J183=\"\",\"\",INDEX(Odds!B:B,MATCH(J183,Odds!F:F,0)))","v":""},"","",null,null,null,null,null,{"$f":"INDEX(Odds!G:G,MATCH(J183,Odds!F:F,0))","v":{"$error":"#N/A"}},{"$f":"INDEX(Odds!H:H,MATCH(J183,Odds!F:F,0))","v":{"$error":"#N/A"}},{"$f":"INDEX(Odds!I:I,MATCH(J183,Odds!F:F,0))","v":{"$error":"#N/A"}},{"$error":"#N/A"}]
[{"$f":"A182","v":"Tom Robinson"},"",{"$f":"IF(J184=\"\",\"\",INDEX(Odds!B:B,MATCH(J184,Odds!F:F,0)))","v":""},"","",null,null,null,null,null,{"$f":"INDEX(Odds!G:G,MATCH(J184,Odds!F:F,0))","v":{"$error":"#N/A"}},{"$f":"INDEX(Odds!H:H,MATCH(J184,Odds!F:F,0))","v":{"$error":"#N/A"}},{"$f":"INDEX(Odds!I:I,MATCH(J184,Odds!F:F,0))","v":{"$error":"#N/A"}},{"$error":"#N/A"}]
[{"$f":"Results!B185","v":"Vinny Topping"},{"$f":"IF(J185=\"\",\"\",J185)","v":"Harrogate"},{"$f":"IF(J185=\"\",\"\",INDEX(Odds!B:B,MATCH(J185,Odds!F:F,0)))","v":"1900-01-07"},{"$f":"IF(J185=\"\",\"\",L185)","v":2.2000000000000002},"x",{"$f":"IF(J185=\"\",-10,INDEX(Results!T:T,MATCH(A185,Results!V:V,0)))","v":3.0625},{"$f":"IF(J185=\"\",\"\",INDEX(Results!AI:AI,MATCH(A185,Results!V:V,0)))","v":27.400000000000006},{"$f":"IF(G185=\"\",0,1)","v":1},{"$f":"INDEX(Picks!AF:AF,MATCH(A185,Picks!AC:AC,0))","v":14},"Harrogate",{"$f":"INDEX(Odds!G:G,MATCH(J185,Odds!F:F,0))","v":"6/5"},{"$f":"INDEX(Odds!H:H,MATCH(J185,Odds!F:F,0))","v":2.2000000000000002},{"$f":"INDEX(Odds!I:I,MATCH(J185,Odds!F:F,0))","v":0},{"$f":"L185*M185","v":0}]
[{"$f":"A185","v":"Vinny Topping"},{"$f":"IF(J186=\"\",\"\",J186)","v":"Hull"},{"$f":"IF(J186=\"\",\"\",INDEX(Odds!B:B,MATCH(J186,Odds!F:F,0)))","v":"1900-01-07"},{"$f":"IF(J186=\"\",\"\",L186)","v":1.95},"√",null,null,null,null,"Hull",{"$f":"INDEX(Odds!G:G,MATCH(J186,Odds!F:F,0))","v":"19/20"},{"$f":"INDEX(Odds!H:H,MATCH(J186,Odds!F:F,0))","v":1.95},{"$f":"INDEX(Odds!I:I,MATCH(J186,Odds!F:F,0))","v":1},1.95]
[{"$f":"A185","v":"Vinny Topping"},{"$f":"IF(J187=\"\",\"\",J187)","v":"Lincoln"},{"$f":"IF(J187=\"\",\"\",INDEX(Odds!B:B,MATCH(J187,Odds!F:F,0)))","v":"1900-01-07"},{"$f":"IF(J187=\"\",\"\",L187)","v":2.75},"√",null,null,null,null,"Lincoln",{"$f":"INDEX(Odds!G:G,MATCH(J187,Odds!F:F,0))","v":"7/4"},{"$f":"INDEX(Odds!H:H,MATCH(J187,Odds!F:F,0))","v":2.75},{"$f":"INDEX(Odds!I:I,MATCH(J187,Odds!F:F,0))","v":1},2.75]

{"sheet":"Results","index":10,"n_rows":193,"n_cols":36,"rows_kept":193,"cut":false,"hidden":false,"merged":[]}
["stake",null,"team","frac","dec","played","bet up","win","Entrants","Bet1","Bet2","Bet3","single 1","single 2","single 3","double 1","double 2","double 3","treble","total","bets in","Entrants","played","Max","Pred1","Pred2","Pred3","single 1","single 2","single 3","double 1","double 2","double 3","treble","total"]
[1,{"$f":"$V2","v":"Alan Rogers"},{"$f":"Picks!B2","v":"Harrogate"},{"$f":"Picks!C2","v":7},{"$f":"Picks!D2","v":2.2000000000000002},1,{"$f":"Picks!M2","v":0},{"$f":"+((E2-1)*G2*F2*A$2)","v":0},{"$f":"IF(V2=\"\",\"\",V2)","v":"Alan Rogers"},{"$f":"H2","v":0},{"$f":"H3","v":0},{"$f":"H4","v":0},{"$f":"IF(J2=0,0,1)+J2","v":0},{"$f":"IF(K2=0,0,1)+K2","v":0},{"$f":"IF(L2=0,0,1)+L2","v":0},{"$f":"IF(K2=0,0,(M2*K2)+M2)","v":0},{"$f":"IF(L2=0,0,(N2*L2)+N2)","v":0},{"$f":"IF(J2=0,0,(O2*J2)+O2)","v":0},{"$f":"IF(L2=0,0,(P2*L2)+P2)","v":0},{"$f":"SUM(M2:S2)-(IF(W2=1,A$2*1,0))-(IF(W2=2,A$2*3,0))-(IF(W2=3,A$2*7,0))","v":-7},{"$f":"SUM(G2:G4)","v":0},"Alan Rogers",{"$f":"SUM(F2:F4)","v":3},{"$f":"+((E2-1)*F2*A$2)","v":1.2000000000000002},{"$f":"X2","v":1.2000000000000002},{"$f":"X3","v":1.7999999999999998},{"$f":"X4","v":2.2000000000000002},{"$f":"IF(Y2=0,0,1)+Y2","v":2.2000000000000002},{"$f":"IF(Z2=0,0,1)+Z2","v":2.8},{"$f":"IF(AA2=0,0,1)+AA2","v":3.2},{"$f":"IF(Z2=0,0,(AB2*Z2)+AB2)","v":6.16},{"$f":"IF(AA2=0,0,(AC2*AA2)+AC2)","v":8.9600000000000009},{"$f":"IF(Y2=0,0,(AD2*Y2)+AD2)","v":7.0400000000000009},{"$f":"IF(AA2=0,0,(AE2*AA2)+AE2)","v":19.712000000000003},{"$f":"SUM(AB2:AH2)-7","v":43.072000000000003},{"$f":"$V2","v":"Alan Rogers"}]
[null,null,{"$f":"Picks!B3","v":"Orient"},{"$f":"Picks!C3","v":7},{"$f":"Picks!D3","v":2.8},1,{"$f":"Picks!M3","v":0},0,{"$f":"IF(V3=\"\",\"\",V3)","v":"Alan White"},{"$f":"H5","v":0.5},{"$f":"H6","v":0.55000000000000004},{"$f":"H7","v":0},1.5,1.55,0,{"$f":"IF(K3=0,0,(M3*K3)+M3)","v":2.3250000000000002},{"$f":"IF(L3=0,0,(N3*L3)+N3)","v":0},{"$f":"IF(J3=0,0,(O3*J3)+O3)","v":0},{"$f":"IF(L3=0,0,(P3*L3)+P3)","v":0},{"$f":"SUM(M3:S3)-(IF(W3=1,A$2*1,0))-(IF(W3=2,A$2*3,0))-(IF(W3=3,A$2*7,0))","v":-1.625},{"$f":"SUM(G5:G7)","v":2},"Alan White",{"$f":"SUM(F5:F7)","v":3},1.7999999999999998,{"$f":"X5","v":0.5},{"$f":"X6","v":0.55000000000000004},{"$f":"X7","v":1.5499999999999998},{"$f":"IF(Y3=0,0,1)+Y3","v":1.5},{"$f":"IF(Z3=0,0,1)+Z3","v":1.55},{"$f":"IF(AA3=0,0,1)+AA3","v":2.5499999999999998},{"$f":"IF(Z3=0,0,(AB3*Z3)+AB3)","v":2.3250000000000002},{"$f":"IF(AA3=0,0,(AC3*AA3)+AC3)","v":3.9524999999999997},{"$f":"IF(Y3=0,0,(AD3*Y3)+AD3)","v":3.8249999999999997},{"$f":"IF(AA3=0,0,(AE3*AA3)+AE3)","v":5.92875},{"$f":"SUM(AB3:AH3)-7","v":14.631249999999998},{"$f":"$V3","v":"Alan White"}]
[null,null,{"$f":"Picks!B4","v":"Stevenage draw"},{"$f":"Picks!C4","v":7},{"$f":"Picks!D4","v":3.2},1,{"$f":"Picks!M4","v":0},0,"Alfie Davies",{"$f":"H8","v":0},{"$f":"H9","v":0},{"$f":"H10","v":0},0,0,0,0,0,0,{"$f":"IF(L4=0,0,(P4*L4)+P4)","v":0},-7,{"$f":"SUM(G8:G10)","v":0},"Alfie Davies",{"$f":"SUM(F8:F10)","v":3},2.2000000000000002,{"$f":"X8","v":3.2},{"$f":"X9","v":2.2000000000000002},{"$f":"X10","v":2.25},4.2,3.2,3.25,{"$f":"IF(Z4=0,0,(AB4*Z4)+AB4)","v":13.440000000000001},{"$f":"IF(AA4=0,0,(AC4*AA4)+AC4)","v":10.4},{"$f":"IF(Y4=0,0,(AD4*Y4)+AD4)","v":13.65},{"$f":"IF(AA4=0,0,(AE4*AA4)+AE4)","v":43.680000000000007},{"$f":"SUM(AB4:AH4)-7","v":84.820000000000007},"Alfie Davies"]
[null,{"$f":"$V3","v":"Alan White"},{"$f":"Picks!B5","v":"Arsenal"},{"$f":"Picks!C5","v":7},{"$f":"Picks!D5","v":1.5},1,{"$f":"Picks!M5","v":1},0.5,"Alick Rocca",{"$f":"H11","v":0.5},{"$f":"H12","v":0.55000000000000004},{"$f":"H13","v":0.95},1.5,1.55,1.95,2.3250000000000002,3.0225,2.9249999999999998,4.5337500000000004,10.806250000000002,{"$f":"SUM(G11:G13)","v":3},"Alick Rocca",{"$f":"SUM(F11:F13)","v":3},0.5,{"$f":"X11","v":0.5},{"$f":"X12","v":0.55000000000000004},{"$f":"X13","v":0.95},1.5,1.55,1.95,2.3250000000000002,3.0225,2.9249999999999998,4.5337500000000004,10.806250000000002,"Alick Rocca"]
[null,null,{"$f":"Picks!B6","v":"Everton"},{"$f":"Picks!C6","v":7},{"$f":"Picks!D6","v":1.55},1,{"$f":"Picks!M6","v":1},0.55000000000000004,"Andy Charleston",{"$f":"H14","v":0},{"$f":"H15","v":1.4500000000000002},{"$f":"H16","v":0},0,2.4500000000000002,0,0,0,0,0,-4.55,{"$f":"SUM(G14:G16)","v":1},"Andy Charleston",{"$f":"SUM(F14:F16)","v":3},0.55000000000000004,{"$f":"X14","v":1.5499999999999998},{"$f":"X15","v":1.4500000000000002},{"$f":"X16","v":1.1000000000000001},2.5499999999999998,2.4500000000000002,2.1,6.2475000000000005,5.1450000000000005,5.3550000000000004,13.119750000000002,29.96725,"Andy Charleston"]
[null,null,{"$f":"Picks!B7","v":"Newcastle"},{"$f":"Picks!C7","v":1},{"$f":"Picks!D7","v":2.5499999999999998},1,{"$f":"Picks!M7","v":0},0,"Andy White",{"$f":"H17","v":1.4500000000000002},{"$f":"H18","v":0},{"$f":"H19","v":0},2.4500000000000002,0,0,0,0,0,0,-4.55,{"$f":"SUM(G17:G19)","v":1},"Andy White",{"$f":"SUM(F17:F19)","v":3},1.5499999999999998,{"$f":"X17","v":1.4500000000000002},{"$f":"X18","v":1.5499999999999998},{"$f":"X19","v":2.7},2.4500000000000002,2.5499999999999998,3.7,6.2475000000000005,9.4349999999999987,9.0650000000000013,23.115750000000006,49.563250000000011,"Andy White"]
[null,{"$f":"$V4","v":"Alfie Davies"},{"$f":"Picks!B8","v":"Everton Draw"},{"$f":"Picks!C8","v":7},{"$f":"Picks!D8","v":4.2},1,{"$f":"Picks!M8","v":0},0,"Ashley Houghton",{"$f":"H20","v":0.5},{"$f":"H21","v":0.95},{"$f":"H22","v":0},1.5,1.95,0,2.9249999999999998,0,0,0,-0.625,{"$f":"SUM(G20:G22)","v":2},"Ashley Houghton",{"$f":"SUM(F20:F22)","v":3},3.2,{"$f":"X20","v":0.5},{"$f":"X21","v":0.95},{"$f":"X22","v":1.1000000000000001},1.5,1.95,2.1,2.9249999999999998,4.0949999999999998,3.1500000000000004,6.1425000000000001,14.862500000000001,"Ashley Houghton"]
[null,null,{"$f":"Picks!B9","v":"Newcastle Draw"},{"$f":"Picks!C9","v":1},{"$f":"Picks!D9","v":3.2},1,{"$f":"Picks!M9","v":0},0,"Barry Birchall",{"$f":"H23","v":0.5714285714285714},{"$f":"H24","v":0.55000000000000004},{"$f":"H25","v":0},1.5714285714285714,1.55,0,2.4357142857142859,0,0,0,-1.4428571428571431,{"$f":"SUM(G23:G25)","v":2},"Barry Birchall",{"$f":"SUM(F23:F25)","v":3},2.2000000000000002,{"$f":"X23","v":0.5714285714285714},{"$f":"X24","v":0.55000000000000004},{"$f":"X25","v":2.2999999999999998},1.5714285714285714,1.55,3.3,2.4357142857142859,5.1150000000000002,5.1857142857142851,8.0378571428571419,20.195714285714285,"Barry Birchall"]
[null,null,{"$f":"Picks!B10","v":"Southampton Draw"},{"$f":"Picks!C10","v":1},{"$f":"Picks!D10","v":3.25},1,{"$f":"Picks!M10","v":0},0,"Ben Rosser",{"$f":"H26","v":0},{"$f":"H27","v":0},{"$f":"H28","v":0},0,0,0,0,0,0,0,-7,{"$f":"SUM(G26:G28)","v":0},"Ben Rosser",{"$f":"SUM(F26:F28)","v":3},2.25,{"$f":"X26","v":3.4000000000000004},{"$f":"X27","v":0.28571428571428559},{"$f":"X28","v":1.5499999999999998},4.4000000000000004,1.2857142857142856,2.5499999999999998,5.6571428571428566,3.278571428571428,11.219999999999999,14.425714285714283,35.817142857142855,"Ben Rosser"]
[null,{"$f":"$V5","v":"Alick Rocca"},{"$f":"Picks!B11","v":"Arsenal"},{"$f":"Picks!C11","v":7},{"$f":"Picks!D11","v":1.5},1,{"$f":"Picks!M11","v":1},0.5,"Charlie Griffiths",{"$f":"H29","v":2.2999999999999998},{"$f":"H30","v":2.4},{"$f":"H31","v":0},3.3,3.4,0,11.219999999999999,0,0,0,10.919999999999998,{"$f":"SUM(G29:G31)","v":2},"Charlie Griffiths",{"$f":"SUM(F29:F31)","v":3},0.5,{"$f":"X29","v":2.2999999999999998},{"$f":"X30","v":2.4},{"$f":"X31","v":2.2999999999999998},3.3,3.4,3.3,11.219999999999999,11.219999999999999,10.889999999999999,37.025999999999996,73.355999999999995,"Charlie Griffiths"]
[null,null,{"$f":"Picks!B12","v":"Everton"},{"$f":"Picks!C12","v":7},{"$f":"Picks!D12","v":1.55},1,{"$f":"Picks!M12","v":1},0.55000000000000004,"Chris Bow",{"$f":"H32","v":10},{"$f":"H33","v":1.875},{"$f":"H34","v":1.4},11,2.875,2.4,31.625,6.8999999999999995,26.4,75.900000000000006,150.1,{"$f":"SUM(G32:G34)","v":3},"Chris Bow",{"$f":"SUM(F32:F34)","v":3},0.55000000000000004,{"$f":"X32","v":10},{"$f":"X33","v":1.875},{"$f":"X34","v":1.4},11,2.875,2.4,31.625,6.8999999999999995,26.4,75.900000000000006,150.1,"Chris Bow"]
[null,null,{"$f":"Picks!B13","v":"Hull"},{"$f":"Picks!C13","v":7},{"$f":"Picks!D13","v":1.95},1,{"$f":"Picks!M13","v":1},0.95,"Chris Griffin",{"$f":"H35","v":0.95},{"$f":"H36","v":0},{"$f":"H37","v":0.61538461538461542},1.95,0,1.6153846153846154,0,0,3.15,0,-0.28461538461538538,{"$f":"SUM(G35:G37)","v":2},"Chris Griffin",{"$f":"SUM(F35:F37)","v":3},0.95,{"$f":"X35","v":0.95},{"$f":"X36","v":0.8},{"$f":"X37","v":0.61538461538461542},1.95,1.8,1.6153846153846154,3.51,2.907692307692308,3.15,5.67,13.603076923076923,"Chris Griffin"]
[null,{"$f":"$V6","v":"Andy Charleston"},{"$f":"Picks!B14","v":"Newcastle"},{"$f":"Picks!C14","v":1},{"$f":"Picks!D14","v":2.5499999999999998},1,{"$f":"Picks!M14","v":0},0,"Chris Luck",{"$f":"H38","v":0},{"$f":"H39","v":1.875},{"$f":"H40","v":1.4},0,2.875,2.4,0,6.8999999999999995,0,0,5.1750000000000007,{"$f":"SUM(G38:G40)","v":2},"Chris Luck",{"$f":"SUM(F38:F40)","v":3},1.5499999999999998,{"$f":"X38","v":1.4500000000000002},{"$f":"X39","v":1.875},{"$f":"X40","v":1.4},2.4500000000000002,2.875,2.4,7.0437500000000002,6.8999999999999995,5.8800000000000008,16.905000000000001,37.453749999999999,"Chris Luck"]
[null,null,{"$f":"Picks!B15","v":"Spurs"},{"$f":"Picks!C15","v":1},{"$f":"Picks!D15","v":2.4500000000000002},1,{"$f":"Picks!M15","v":1},1.4500000000000002,"Chris Townsend",{"$f":"H41","v":0},{"$f":"H42","v":10},{"$f":"H43","v":0},0,11,0,0,0,0,0,4,{"$f":"SUM(G41:G43)","v":1},"Chris Townsend",{"$f":"SUM(F41:F43)","v":3},1.4500000000000002,{"$f":"X41","v":4.5},{"$f":"X42","v":10},{"$f":"X43","v":5},5.5,11,6,60.5,66,33,363,538,"Chris Townsend"]
[null,null,{"$f":"Picks!B16","v":"Stoke"},{"$f":"Picks!C16","v":1},{"$f":"Picks!D16","v":2.1},1,{"$f":"Picks!M16","v":0},0,"Dan Baxter",{"$f":"H44","v":0},{"$f":"H45","v":0},{"$f":"H46","v":0},0,0,0,0,0,0,0,-7,{"$f":"SUM(G44:G46)","v":0},"Dan Baxter",{"$f":"SUM(F44:F46)","v":3},1.1000000000000001,{"$f":"X44","v":3.4000000000000004},{"$f":"X45","v":0.8},{"$f":"X46","v":2.5},4.4000000000000004,1.8,3.5,7.9200000000000008,6.3,15.400000000000002,27.720000000000002,60.040000000000006,"Dan Baxter"]
[null,{"$f":"$V7","v":"Andy White"},{"$f":"Picks!B17","v":"Spurs"},{"$f":"Picks!C17","v":1},{"$f":"Picks!D17","v":2.4500000000000002},1,{"$f":"Picks!M17","v":1},1.4500000000000002,"Dave Bell",{"$f":"H47","v":0},{"$f":"H48","v":10},{"$f":"H49","v":0},0,11,0,0,0,0,0,4,{"$f":"SUM(G47:G49)","v":1},"Dave Bell",{"$f":"SUM(F47:F49)","v":3},1.4500000000000002,{"$f":"X47","v":5},{"$f":"X48","v":10},{"$f":"X49","v":4.5},6,11,5.5,66,60.5,33,363,538,"Dave Bell"]
[null,null,{"$f":"Picks!B18","v":"Newcastle"},{"$f":"Picks!C18","v":1},{"$f":"Picks!D18","v":2.5499999999999998},1,{"$f":"Picks!M18","v":0},0,"Dave Orrell",{"$f":"H50","v":0.95},{"$f":"H51","v":1.75},{"$f":"H52","v":1.2999999999999998},1.95,2.75,2.2999999999999998,5.3624999999999998,6.3249999999999993,4.4849999999999994,12.333749999999998,28.506249999999994,{"$f":"SUM(G50:G52)","v":3},"Dave Orrell",{"$f":"SUM(F50:F52)","v":3},1.5499999999999998,{"$f":"X50","v":0.95},{"$f":"X51","v":1.75},{"$f":"X52","v":1.2999999999999998},1.95,2.75,2.2999999999999998,5.3624999999999998,6.3249999999999993,4.4849999999999994,12.333749999999998,28.506249999999994,"Dave Orrell"]
[null,null,{"$f":"Picks!B19","v":"Chelsea draw"},{"$f":"Picks!C19","v":1},{"$f":"Picks!D19","v":3.7},1,{"$f":"Picks!M19","v":0},0,"David Dunn",{"$f":"H53","v":0},{"$f":"H54","v":0.5},{"$f":"H55","v":0.61538461538461542},0,1.5,1.6153846153846154,0,2.4230769230769234,0,0,-1.4615384615384617,{"$f":"SUM(G53:G55)","v":2},"David Dunn",{"$f":"SUM(F53:F55)","v":3},2.7,{"$f":"X53","v":1.9},{"$f":"X54","v":0.5},{"$f":"X55","v":0.61538461538461542},2.9,1.5,1.6153846153846154,4.3499999999999996,2.4230769230769234,4.684615384615384,7.0269230769230759,17.5,"David Dunn"]
[null,{"$f":"$V8","v":"Ashley Houghton"},{"$f":"Picks!B20","v":"Arsenal"},{"$f":"Picks!C20","v":7},{"$f":"Picks!D20","v":1.5},1,{"$f":"Picks!M20","v":1},0.5,"Gareth Fallows",{"$f":"H56","v":{"$error":"#VALUE!"}},{"$f":"H57","v":{"$error":"#VALUE!"}},{"$f":"H58","v":{"$error":"#VALUE!"}},{"$error":"#VALUE!"},{"$error":"#VALUE!"},{"$error":"#VALUE!"},{"$error":"#VALUE!"},{"$error":"#VALUE!"},{"$error":"#VALUE!"},{"$error":"#VALUE!"},{"$error":"#VALUE!"},{"$f":"SUM(G56:G58)","v":{"$error":"#N/A"}},"Gareth Fallows",{"$f":"SUM(F56:F58)","v":3},0.5,{"$f":"X56","v":{"$error":"#VALUE!"}},{"$f":"X57","v":{"$error":"#VALUE!"}},{"$f":"X58","v":{"$error":"#VALUE!"}},{"$error":"#VALUE!"},{"$error":"#VALUE!"},{"$error":"#VALUE!"},{"$error":"#VALUE!"},{"$error":"#VALUE!"},{"$error":"#VALUE!"},{"$error":"#VALUE!"},{"$error":"#VALUE!"},"Gareth Fallows"]
[null,null,{"$f":"Picks!B21","v":"Hull"},{"$f":"Picks!C21","v":7},{"$f":"Picks!D21","v":1.95},1,{"$f":"Picks!M21","v":1},0.95,"Gareth McGuire",{"$f":"H59","v":0},{"$f":"H60","v":0},{"$f":"H61","v":0.95},0,0,1.95,0,0,0,0,-5.05,{"$f":"SUM(G59:G61)","v":1},"Gareth McGuire",{"$f":"SUM(F59:F61)","v":3},0.95,{"$f":"X59","v":1.7000000000000002},{"$f":"X60","v":1.5499999999999998},{"$f":"X61","v":0.95},2.7,2.5499999999999998,1.95,6.8849999999999998,4.9725000000000001,5.2650000000000006,13.425749999999999,30.748249999999999,"Gareth McGuire"]
[null,null,{"$f":"Picks!B22","v":"Swansea"},{"$f":"Picks!C22","v":7},{"$f":"Picks!D22","v":2.1},1,{"$f":"Picks!M22","v":0},0,"Gareth Powell",{"$f":"H62","v":0.61538461538461542},{"$f":"H63","v":0},{"$f":"H64","v":1.2000000000000002},1.6153846153846154,0,2.2000000000000002,0,0,3.5538461538461541,0,0.3692307692307697,{"$f":"SUM(G62:G64)","v":2},"Gareth Powell",{"$f":"SUM(F62:F64)","v":3},1.1000000000000001,{"$f":"X62","v":0.61538461538461542},{"$f":"X63","v":1.1000000000000001},{"$f":"X64","v":1.2000000000000002},1.6153846153846154,2.1,2.2000000000000002,3.3923076923076927,4.620000000000001,3.5538461538461541,7.4630769230769243,17.944615384615389,"Gareth Powell"]
[null,{"$f":"$V9","v":"Barry Birchall"},{"$f":"Picks!B23","v":"Blackburn"},{"$f":"Picks!C23","v":7},{"$f":"Picks!D23","v":1.5714285714285714},1,{"$f":"Picks!M23","v":1},0.5714285714285714,"Gerard Ventom",{"$f":"H65","v":10},{"$f":"H66","v":2},{"$f":"H67","v":1.6},11,3,2.6,33,7.8000000000000007,28.6,85.800000000000011,164.8,{"$f":"SUM(G65:G67)","v":3},"Gerard Ventom",{"$f":"SUM(F65:F67)","v":3},0.5714285714285714,{"$f":"X65","v":10},{"$f":"X66","v":2},{"$f":"X67","v":1.6},11,3,2.6,33,7.8000000000000007,28.6,85.800000000000011,164.8,"Gerard Ventom"]
[null,null,{"$f":"Picks!B24","v":"Brentford"},{"$f":"Picks!C24","v":7},{"$f":"Picks!D24","v":1.55},1,{"$f":"Picks!M24","v":1},0.55000000000000004,"Graham Miller",{"$f":"H68","v":0},{"$f":"H69","v":0.95},{"$f":"H70","v":0},0,1.95,0,0,0,0,0,-5.05,{"$f":"SUM(G68:G70)","v":1},"Graham Miller",{"$f":"SUM(F68:F70)","v":3},0.55000000000000004,{"$f":"X68","v":1.5499999999999998},{"$f":"X69","v":0.95},{"$f":"X70","v":1},2.5499999999999998,1.95,2,4.9725000000000001,3.9,5.0999999999999996,9.9450000000000003,23.4175,"Graham Miller"]
[null,null,{"$f":"Picks!B25","v":"Walsall"},{"$f":"Picks!C25","v":7},{"$f":"Picks!D25","v":3.3},1,{"$f":"Picks!M25","v":0},0,"Howard Bradley",{"$f":"H71","v":0.5714285714285714},{"$f":"H72","v":0},{"$f":"H73","v":0},1.5714285714285714,0,0,0,0,0,0,-5.4285714285714288,{"$f":"SUM(G71:G73)","v":1},"Howard Bradley",{"$f":"SUM(F71:F73)","v":3},2.2999999999999998,{"$f":"X71","v":0.5714285714285714},{"$f":"X72","v":0.75},{"$f":"X73","v":1.5499999999999998},1.5714285714285714,1.75,2.5499999999999998,2.75,4.4624999999999995,4.0071428571428562,7.0124999999999993,17.103571428571424,"Howard Bradley"]
[null,{"$f":"$V10","v":"Ben Rosser"},{"$f":"Picks!B26","v":"Arsenal draw"},{"$f":"Picks!C26","v":7},{"$f":"Picks!D26","v":4.4000000000000004},1,{"$f":"Picks!M26","v":0},0,"Ian Davies",{"$f":"H74","v":1.875},{"$f":"H75","v":0},{"$f":"H76","v":0},2.875,0,0,0,0,0,0,-4.125,{"$f":"SUM(G74:G76)","v":1},"Ian Davies",{"$f":"SUM(F74:F76)","v":3},3.4000000000000004,{"$f":"X74","v":1.875},{"$f":"X75","v":1.9},{"$f":"X76","v":2.7},2.875,2.9,3.7,8.3374999999999986,10.73,10.637499999999999,30.848749999999995,63.028750000000002,"Ian Davies"]
[null,null,{"$f":"Picks!B27","v":"Man U"},{"$f":"Picks!C27","v":7},{"$f":"Picks!D27","v":1.2857142857142856},1,{"$f":"Picks!M27","v":0},0,"Jack Walsh",{"$f":"H77","v":0},{"$f":"H78","v":0.61538461538461542},{"$f":"H79","v":1.2999999999999998},0,1.6153846153846154,2.2999999999999998,0,3.7153846153846151,0,0,0.6307692307692303,{"$f":"SUM(G77:G79)","v":2},"Jack Walsh",{"$f":"SUM(F77:F79)","v":3},0.28571428571428559,{"$f":"X77","v":2.1},{"$f":"X78","v":0.61538461538461542},{"$f":"X79","v":1.2999999999999998},3.1,1.6153846153846154,2.2999999999999998,5.0076923076923077,3.7153846153846151,7.13,11.517692307692307,27.386153846153846,"Jack Walsh"]
[null,null,{"$f":"Picks!B28","v":"Newcastle"},{"$f":"Picks!C28","v":1},{"$f":"Picks!D28","v":2.5499999999999998},1,{"$f":"Picks!M28","v":0},0,"James Bell",{"$f":"H80","v":0},{"$f":"H81","v":0},{"$f":"H82","v":0},0,0,0,0,0,0,0,-7,{"$f":"SUM(G80:G82)","v":0},"James Bell",{"$f":"SUM(F80:F82)","v":3},1.5499999999999998,{"$f":"X80","v":3},{"$f":"X81","v":6},{"$f":"X82","v":1.7000000000000002},4,7,2.7,28,18.900000000000002,10.8,75.600000000000009,140,"James Bell"]
[null,{"$f":"$V11","v":"Charlie Griffiths"},{"$f":"Picks!B29","v":"Wimbledon draw"},{"$f":"Picks!C29","v":7},{"$f":"Picks!D29","v":3.3},1,{"$f":"Picks!M29","v":1},2.2999999999999998,"Joel Bent",{"$f":"H83","v":0},{"$f":"H84","v":0},{"$f":"H85","v":0.64999999999999991},0,0,1.65,0,0,0,0,-5.35,{"$f":"SUM(G83:G85)","v":1},"Joel Bent",{"$f":"SUM(F83:F85)","v":3},2.2999999999999998,{"$f":"X83","v":1.7000000000000002},{"$f":"X84","v":2.2999999999999998},{"$f":"X85","v":0.64999999999999991},2.7,3.3,1.65,8.91,5.4449999999999994,4.4550000000000001,14.701499999999999,34.161500000000004,"Joel Bent"]
[null,null,{"$f":"Picks!B30","v":"Northampton"},{"$f":"Picks!C30","v":7},{"$f":"Picks!D30","v":3.4},1,{"$f":"Picks!M30","v":1},2.4,"John Evans",{"$f":"H86","v":0},{"$f":"H87","v":1.625},{"$f":"H88","v":0},0,2.625,0,0,0,0,0,-4.375,{"$f":"SUM(G86:G88)","v":1},"John Evans",{"$f":"SUM(F86:F88)","v":3},2.4,{"$f":"X86","v":1.5499999999999998},{"$f":"X87","v":1.625},{"$f":"X88","v":1.2999999999999998},2.5499999999999998,2.625,2.2999999999999998,6.6937499999999996,6.0374999999999996,5.8649999999999993,15.395624999999997,34.466874999999995,"John Evans"]
[null,null,{"$f":"Picks!B31","v":"Walsall"},{"$f":"Picks!C31","v":7},{"$f":"Picks!D31","v":3.3},1,{"$f":"Picks!M31","v":0},0,"John Ronan",{"$f":"H89","v":0},{"$f":"H90","v":0},{"$f":"H91","v":1.1499999999999999},0,0,2.15,0,0,0,0,-4.8499999999999996,{"$f":"SUM(G89:G91)","v":1},"John Ronan",{"$f":"SUM(F89:F91)","v":3},2.2999999999999998,{"$f":"X89","v":1.5499999999999998},{"$f":"X90","v":1.1000000000000001},{"$f":"X91","v":1.1499999999999999},2.5499999999999998,2.1,2.15,5.3550000000000004,4.5150000000000006,5.4824999999999999,11.513249999999999,26.665750000000003,"John Ronan"]
[null,{"$f":"$V12","v":"Chris Bow"},{"$f":"Picks!B32","v":"Palace"},{"$f":"Picks!C32","v":7},{"$f":"Picks!D32","v":11},1,{"$f":"Picks!M32","v":1},10,"Kei Lok Ma",{"$f":"H92","v":0},{"$f":"H93","v":0},{"$f":"H94","v":0},{"$f":"IF(J32=0,0,1)+J32","v":0},{"$f":"IF(K32=0,0,1)+K32","v":0},0,0,0,0,0,-7,{"$f":"SUM(G92:G94)","v":0},"Kei Lok Ma",{"$f":"SUM(F92:F94)","v":3},10,{"$f":"X92","v":1.5499999999999998},{"$f":"X93","v":2.25},{"$f":"X94","v":1.7000000000000002},2.5499999999999998,3.25,2.7,8.2874999999999996,8.7750000000000004,6.8849999999999998,22.376249999999999,47.823749999999997,"Kei Lok Ma"]
[null,null,{"$f":"Picks!B33","v":"Luton"},{"$f":"Picks!C33","v":7},{"$f":"Picks!D33","v":2.875},1,{"$f":"Picks!M33","v":1},1.875,"Kevin Carter",{"$f":"H95","v":0.5},{"$f":"H96","v":0.55000000000000004},{"$f":"H97","v":0.61538461538461542},1.5,1.55,1.6153846153846154,2.3250000000000002,2.5038461538461538,2.4230769230769234,3.7557692307692312,8.6730769230769234,{"$f":"SUM(G95:G97)","v":3},"Kevin Carter",{"$f":"SUM(F95:F97)","v":3},1.875,{"$f":"X95","v":0.5},{"$f":"X96","v":0.55000000000000004},{"$f":"X97","v":0.61538461538461542},1.5,1.55,1.6153846153846154,2.3250000000000002,2.5038461538461538,2.4230769230769234,3.7557692307692312,8.6730769230769234,"Kevin Carter"]
[null,null,{"$f":"Picks!B34","v":"Reading"},{"$f":"Picks!C34","v":7},{"$f":"Picks!D34","v":2.4},1,{"$f":"Picks!M34","v":1},{"$f":"+((E34-1)*G34*F34*A$2)","v":1.4},"Lennie Bow",{"$f":"H98","v":0.55000000000000004},{"$f":"H99","v":1.875},{"$f":"H100","v":0},1.55,2.875,0,4.4562499999999998,0,0,0,1.8812499999999996,{"$f":"SUM(G98:G100)","v":2},"Lennie Bow",{"$f":"SUM(F98:F100)","v":3},{"$f":"+((E34-1)*F34*A$2)","v":1.4},{"$f":"X98","v":0.55000000000000004},{"$f":"X99","v":1.875},{"$f":"X100","v":1.7999999999999998},1.55,2.875,2.8,4.4562499999999998,8.0500000000000007,4.34,12.477499999999999,29.548749999999998,"Lennie Bow"]
[null,{"$f":"$V13","v":"Chris Griffin"},{"$f":"Picks!B35","v":"Hull"},{"$f":"Picks!C35","v":7},{"$f":"Picks!D35","v":1.95},1,{"$f":"Picks!M35","v":1},0.95,"Lewis Buckley",{"$f":"H101","v":0},{"$f":"H102","v":0},{"$f":"H103","v":0.64999999999999991},0,0,1.65,0,0,0,0,-5.35,{"$f":"SUM(G101:G103)","v":1},"Lewis Buckley",{"$f":"SUM(F101:F103)","v":3},0.95,{"$f":"X101","v":2.7},{"$f":"X102","v":1.5499999999999998},{"$f":"X103","v":0.64999999999999991},3.7,2.5499999999999998,1.65,9.4349999999999987,4.2074999999999996,6.1050000000000004,15.567749999999997,36.215249999999997,"Lewis Buckley"]
[null,null,{"$f":"Picks!B36","v":"Norwich"},{"$f":"Picks!C36","v":7},{"$f":"Picks!D36","v":1.8},1,{"$f":"Picks!M36","v":0},0,"Liam Wah",{"$f":"H104","v":0},{"$f":"H105","v":1.2000000000000002},{"$f":"H106","v":0},0,2.2000000000000002,0,0,0,0,0,-4.8,{"$f":"SUM(G104:G106)","v":1},"Liam Wah",{"$f":"SUM(F104:F106)","v":3},0.8,{"$f":"X104","v":4.5},{"$f":"X105","v":1.2000000000000002},{"$f":"X106","v":1.5499999999999998},5.5,2.2000000000000002,2.5499999999999998,12.100000000000001,5.6099999999999994,14.024999999999999,30.855,65.84,"Liam Wah"]
[null,null,{"$f":"Picks!B37","v":"Leeds"},{"$f":"Picks!C37","v":7},{"$f":"Picks!D37","v":1.6153846153846154},1,{"$f":"Picks!M37","v":1},0.61538461538461542,"Mal Stott",{"$f":"H107","v":1.875},{"$f":"H108","v":0},{"$f":"H109","v":1.6},2.875,0,2.6,0,0,7.4749999999999996,0,5.9499999999999993,{"$f":"SUM(G107:G109)","v":2},"Mal Stott",{"$f":"SUM(F107:F109)","v":3},0.61538461538461542,{"$f":"X107","v":1.875},{"$f":"X108","v":1.1000000000000001},{"$f":"X109","v":1.6},2.875,2.1,2.6,6.0374999999999996,5.4600000000000009,7.4749999999999996,15.6975,35.244999999999997,"Mal Stott"]
[null,{"$f":"$V14","v":"Chris Luck"},{"$f":"Picks!B38","v":"Forest"},{"$f":"Picks!C38","v":7},{"$f":"Picks!D38","v":2.4500000000000002},1,{"$f":"Picks!M38","v":0},0,"Mark Bunn",{"$f":"H110","v":0},{"$f":"H111","v":1.4},{"$f":"H112","v":0},0,2.4,0,0,0,0,0,-4.5999999999999996,{"$f":"SUM(G110:G112)","v":1},"Mark Bunn",{"$f":"SUM(F110:F112)","v":3},1.4500000000000002,{"$f":"X110","v":1.9},{"$f":"X111","v":1.4},{"$f":"X112","v":2.8},2.9,2.4,3.8,6.9599999999999991,9.1199999999999992,11.02,26.447999999999993,55.647999999999996,"Mark Bunn"]
[null,null,{"$f":"Picks!B39","v":"Luton"},{"$f":"Picks!C39","v":7},{"$f":"Picks!D39","v":2.875},1,{"$f":"Picks!M39","v":1},1.875,"Mark Saunders",{"$f":"H113","v":0},{"$f":"H114","v":0},{"$f":"H115","v":0.5},0,0,1.5,0,0,0,0,-5.5,{"$f":"SUM(G113:G115)","v":1},"Mark Saunders",{"$f":"SUM(F113:F115)","v":3},1.875,{"$f":"X113","v":0.8},{"$f":"X114","v":1.5499999999999998},{"$f":"X115","v":0.5},1.8,2.5499999999999998,1.5,4.59,3.8249999999999997,2.7,6.8849999999999998,16.850000000000001,"Mark Saunders"]
[null,null,{"$f":"Picks!B40","v":"Reading"},{"$f":"Picks!C40","v":7},{"$f":"Picks!D40","v":2.4},1,{"$f":"Picks!M40","v":1},1.4,"Martin Molyneux",{"$f":"H116","v":0.5},{"$f":"H117","v":0.64999999999999991},{"$f":"H118","v":0},1.5,1.65,0,2.4749999999999996,0,0,0,-1.375,{"$f":"SUM(G116:G118)","v":2},"Martin Molyneux",{"$f":"SUM(F116:F118)","v":3},1.4,{"$f":"X116","v":0.5},{"$f":"X117","v":0.64999999999999991},{"$f":"X118","v":2.7},1.5,1.65,3.7,2.4749999999999996,6.1050000000000004,5.5500000000000007,9.1574999999999989,23.137499999999999,"Martin Molyneux"]
[null,{"$f":"$V15","v":"Chris Townsend"},{"$f":"Picks!B41","v":"Burnley"},{"$f":"Picks!C41","v":1},{"$f":"Picks!D41","v":5.5},1,{"$f":"Picks!M41","v":0},0,"Martin Tarbuck",{"$f":"H119","v":0},{"$f":"H120","v":1.2999999999999998},{"$f":"H121","v":0},0,2.2999999999999998,0,0,0,0,0,-4.7,{"$f":"SUM(G119:G121)","v":1},"Martin Tarbuck",{"$f":"SUM(F119:F121)","v":3},4.5,{"$f":"X119","v":1.2000000000000002},{"$f":"X120","v":1.2999999999999998},{"$f":"X121","v":1.5499999999999998},2.2000000000000002,2.2999999999999998,2.5499999999999998,5.0600000000000005,5.8649999999999993,5.6099999999999994,12.903,29.488,"Martin Tarbuck"]
[null,null,{"$f":"Picks!B42","v":"Palace"},{"$f":"Picks!C42","v":7},{"$f":"Picks!D42","v":11},1,{"$f":"Picks!M42","v":1},10,"Mike Penk",{"$f":"H122","v":1.7000000000000002},{"$f":"H123","v":0},{"$f":"H124","v":0},2.7,0,0,0,0,0,0,-4.3,{"$f":"SUM(G122:G124)","v":1},"Mike Penk",{"$f":"SUM(F122:F124)","v":3},10,{"$f":"X122","v":1.7000000000000002},{"$f":"X123","v":1.5499999999999998},{"$f":"X124","v":2},2.7,2.5499999999999998,3,6.8849999999999998,7.6499999999999995,8.1000000000000014,20.655000000000001,44.540000000000006,"Mike Penk"]
[null,null,{"$f":"Picks!B43","v":"West Brom"},{"$f":"Picks!C43","v":7},{"$f":"Picks!D43","v":6},1,{"$f":"Picks!M43","v":0},0,"Mo Sudell",{"$f":"H125","v":0.55000000000000004},{"$f":"H126","v":0.5714285714285714},{"$f":"H127","v":0},1.55,1.5714285714285714,0,2.4357142857142859,0,0,0,-1.4428571428571431,{"$f":"SUM(G125:G127)","v":2},"Mo Sudell",{"$f":"SUM(F125:F127)","v":3},5,{"$f":"X125","v":0.55000000000000004},{"$f":"X126","v":0.5714285714285714},{"$f":"X127","v":0.75},1.55,1.5714285714285714,1.75,2.4357142857142859,2.75,2.7125000000000004,4.2625000000000002,10.032142857142858,"Mo Sudell"]
[null,{"$f":"$V16","v":"Dan Baxter"},{"$f":"Picks!B44","v":"Arsenal draw"},{"$f":"Picks!C44","v":7},{"$f":"Picks!D44","v":4.4000000000000004},1,{"$f":"Picks!M44","v":0},{"$f":"+((E44-1)*G44*F44*A$2)","v":0},"Nick Blocksidge",{"$f":"H128","v":0.5714285714285714},{"$f":"H129","v":0.55000000000000004},{"$f":"H130","v":0},1.5714285714285714,1.55,0,2.4357142857142859,0,0,0,{"$f":"SUM(M44:S44)-(IF(W44=1,A$2*1,0))-(IF(W44=2,A$2*3,0))-(IF(W44=3,A$2*7,0))","v":-1.4428571428571431},{"$f":"SUM(G128:G130)","v":2},"Nick Blocksidge",{"$f":"SUM(F128:F130)","v":3},3.4000000000000004,{"$f":"X128","v":0.5714285714285714},{"$f":"X129","v":0.55000000000000004},{"$f":"X130","v":3},1.5714285714285714,1.55,4,2.4357142857142859,6.2,6.2857142857142856,9.7428571428571438,24.785714285714285,"Nick Blocksidge"]
[null,null,{"$f":"Picks!B45","v":"Norwich"},{"$f":"Picks!C45","v":7},{"$f":"Picks!D45","v":1.8},1,{"$f":"Picks!M45","v":0},0,"Nigel Heyes",{"$f":"H131","v":1.4},{"$f":"H132","v":0},{"$f":"H133","v":0.95},2.4,0,1.95,0,0,4.68,0,2.0299999999999994,{"$f":"SUM(G131:G133)","v":2},"Nigel Heyes",{"$f":"SUM(F131:F133)","v":3},0.8,{"$f":"X131","v":1.4},{"$f":"X132","v":1},{"$f":"X133","v":0.95},2.4,2,1.95,4.8,3.9,4.68,9.36,22.09,"Nigel Heyes"]
[null,null,{"$f":"Picks!B46","v":"Swindon"},{"$f":"Picks!C46","v":7},{"$f":"Picks!D46","v":3.5},1,{"$f":"Picks!M46","v":0},0,"Oscar Jackson",{"$f":"H134","v":0.5},{"$f":"H135","v":0},{"$f":"H136","v":0},1.5,0,0,0,0,0,0,-5.5,{"$f":"SUM(G134:G136)","v":1},"Oscar Jackson",{"$f":"SUM(F134:F136)","v":3},2.5,{"$f":"X134","v":0.5},{"$f":"X135","v":1.2999999999999998},{"$f":"X136","v":2.1},1.5,2.2999999999999998,3.1,3.4499999999999997,7.13,4.6500000000000004,10.695,25.825000000000003,"Oscar Jackson"]
[null,{"$f":"$V17","v":"Dave Bell"},{"$f":"Picks!B47","v":"West Brom"},{"$f":"Picks!C47","v":7},{"$f":"Picks!D47","v":6},1,{"$f":"Picks!M47","v":0},0,"Paul Adderley",{"$f":"H137","v":0.5},{"$f":"H138","v":0},{"$f":"H139","v":0.61538461538461542},1.5,0,1.6153846153846154,0,0,2.4230769230769234,0,-1.4615384615384617,{"$f":"SUM(G137:G139)","v":2},"Paul Adderley",{"$f":"SUM(F137:F139)","v":3},5,{"$f":"X137","v":0.5},{"$f":"X138","v":0.28571428571428559},{"$f":"X139","v":0.61538461538461542},1.5,1.2857142857142856,1.6153846153846154,1.9285714285714284,2.0769230769230766,2.4230769230769234,3.115384615384615,6.9450549450549453,"Paul Adderley"]
[null,null,{"$f":"Picks!B48","v":"Palace"},{"$f":"Picks!C48","v":7},{"$f":"Picks!D48","v":11},1,{"$f":"Picks!M48","v":1},10,"Paul Allen",{"$f":"H140","v":0},{"$f":"H141","v":0},{"$f":"H142","v":1.4500000000000002},0,0,2.4500000000000002,0,0,0,0,-4.55,{"$f":"SUM(G140:G142)","v":1},"Paul Allen",{"$f":"SUM(F140:F142)","v":3},10,{"$f":"X140","v":1.7000000000000002},{"$f":"X141","v":1.5499999999999998},{"$f":"X142","v":1.4500000000000002},2.7,2.5499999999999998,2.4500000000000002,6.8849999999999998,6.2475000000000005,6.6150000000000011,16.868250000000003,37.315750000000008,"Paul Allen"]
[null,null,{"$f":"Picks!B49","v":"Fulham"},{"$f":"Picks!C49","v":7},{"$f":"Picks!D49","v":5.5},1,{"$f":"Picks!M49","v":0},0,"Paul Barnes",{"$f":"H143","v":0.5},{"$f":"H144","v":0.55000000000000004},{"$f":"H145","v":0.61538461538461542},1.5,1.55,1.6153846153846154,2.3250000000000002,2.5038461538461538,2.4230769230769234,3.7557692307692312,8.6730769230769234,{"$f":"SUM(G143:G145)","v":3},"Paul Barnes",{"$f":"SUM(F143:F145)","v":3},4.5,{"$f":"X143","v":0.5},{"$f":"X144","v":0.55000000000000004},{"$f":"X145","v":0.61538461538461542},1.5,1.55,1.6153846153846154,2.3250000000000002,2.5038461538461538,2.4230769230769234,3.7557692307692312,8.6730769230769234,"Paul Barnes"]
[null,{"$f":"$V18","v":"Dave Orrell"},{"$f":"Picks!B50","v":"Hull"},{"$f":"Picks!C50","v":7},{"$f":"Picks!D50","v":1.95},1,{"$f":"Picks!M50","v":1},0.95,"Paul Fairhurst",{"$f":"H146","v":10},{"$f":"H147","v":2.2000000000000002},{"$f":"H148","v":2.2999999999999998},11,3.2,3.3,35.200000000000003,10.559999999999999,36.299999999999997,116.16,208.72,{"$f":"SUM(G146:G148)","v":3},"Paul Fairhurst",{"$f":"SUM(F146:F148)","v":3},0.95,{"$f":"X146","v":10},{"$f":"X147","v":2.2000000000000002},{"$f":"X148","v":2.2999999999999998},11,3.2,3.3,35.200000000000003,10.559999999999999,36.299999999999997,116.16,208.72,"Paul Fairhurst"]
[null,null,{"$f":"Picks!B51","v":"Lincoln"},{"$f":"Picks!C51","v":7},{"$f":"Picks!D51","v":2.75},1,{"$f":"Picks!M51","v":1},1.75,"Paul Fiddler",{"$f":"H149","v":1.1499999999999999},{"$f":"H150","v":0.95},{"$f":"H151","v":0},2.15,1.95,0,4.1924999999999999,0,0,0,1.2925000000000004,{"$f":"SUM(G149:G151)","v":2},"Paul Fiddler",{"$f":"SUM(F149:F151)","v":3},1.75,{"$f":"X149","v":1.1499999999999999},{"$f":"X150","v":0.95},{"$f":"X151","v":1.9},2.15,1.95,2.9,4.1924999999999999,5.6549999999999994,6.2349999999999994,12.158249999999999,28.240749999999991,"Paul Fiddler"]
[null,null,{"$f":"Picks!B52","v":"Salford"},{"$f":"Picks!C52","v":7},{"$f":"Picks!D52","v":2.2999999999999998},1,{"$f":"Picks!M52","v":1},1.2999999999999998,"Paul Ridgeway",{"$f":"H152","v":0.61538461538461542},{"$f":"H153","v":0},{"$f":"H154","v":0.64999999999999991},1.6153846153846154,0,1.65,0,0,2.6653846153846152,0,-1.069230769230769,{"$f":"SUM(G152:G154)","v":2},"Paul Ridgeway",{"$f":"SUM(F152:F154)","v":3},1.2999999999999998,{"$f":"X152","v":0.61538461538461542},{"$f":"X153","v":1.7000000000000002},{"$f":"X154","v":0.64999999999999991},1.6153846153846154,2.7,1.65,4.361538461538462,4.4550000000000001,2.6653846153846152,7.196538461538462,17.643846153846155,"Paul Ridgeway"]
[null,{"$f":"$V19","v":"David Dunn"},{"$f":"Picks!B53","v":"QPR"},{"$f":"Picks!C53","v":6},{"$f":"Picks!D53","v":2.9},1,{"$f":"Picks!M53","v":0},0,"Pete Baron",{"$f":"H155","v":0},{"$f":"H156","v":0},{"$f":"H157","v":0},0,0,0,0,0,0,0,-7,{"$f":"SUM(G155:G157)","v":0},"Pete Baron",{"$f":"SUM(F155:F157)","v":3},1.9,{"$f":"X155","v":1.5499999999999998},{"$f":"X156","v":1.5499999999999998},{"$f":"X157","v":1.5499999999999998},2.5499999999999998,2.5499999999999998,2.5499999999999998,6.5024999999999995,6.5024999999999995,6.5024999999999995,16.581374999999998,36.738874999999993,"Pete Baron"]
[null,null,{"$f":"Picks!B54","v":"Arsenal"},{"$f":"Picks!C54","v":7},{"$f":"Picks!D54","v":1.5},1,{"$f":"Picks!M54","v":1},0.5,"Phil Miller",{"$f":"H158","v":0},{"$f":"H159","v":0},{"$f":"H160","v":1.2999999999999998},0,0,2.2999999999999998,0,0,0,0,-4.7,{"$f":"SUM(G158:G160)","v":1},"Phil Miller",{"$f":"SUM(F158:F160)","v":3},0.5,{"$f":"X158","v":0.28571428571428559},{"$f":"X159","v":1.5499999999999998},{"$f":"X160","v":1.2999999999999998},1.2857142857142856,2.5499999999999998,2.2999999999999998,3.278571428571428,5.8649999999999993,2.9571428571428564,7.5407142857142837,18.777142857142852,"Phil Miller"]
[null,null,{"$f":"Picks!B55","v":"Leeds"},{"$f":"Picks!C55","v":7},{"$f":"Picks!D55","v":1.6153846153846154},1,{"$f":"Picks!M55","v":1},0.61538461538461542,"Rob England",{"$f":"H161","v":0},{"$f":"H162","v":0},{"$f":"H163","v":1.625},0,0,2.625,0,0,0,0,-4.375,{"$f":"SUM(G161:G163)","v":1},"Rob England",{"$f":"SUM(F161:F163)","v":3},0.61538461538461542,{"$f":"X161","v":0.8},{"$f":"X162","v":1.7000000000000002},{"$f":"X163","v":1.625},1.8,2.7,2.625,4.8600000000000003,7.0875000000000004,4.7249999999999996,12.7575,29.555,"Rob England"]
[null,{"$f":"$V20","v":"Gareth Fallows"},{"$f":"Picks!B56","v":""},{"$f":"Picks!C56","v":""},{"$f":"Picks!D56","v":""},1,{"$f":"Picks!M56","v":{"$error":"#N/A"}},{"$error":"#VALUE!"},"Sally Williams",{"$f":"H164","v":0},{"$f":"H165","v":0},{"$f":"H166","v":0},0,0,0,0,0,0,0,-7,{"$f":"SUM(G164:G166)","v":0},"Sally Williams",{"$f":"SUM(F164:F166)","v":3},{"$error":"#VALUE!"},{"$f":"X164","v":2.1},{"$f":"X165","v":2.25},{"$f":"X166","v":1.7999999999999998},3.1,3.25,2.8,10.075000000000001,9.1,8.68,28.21,58.215000000000003,"Sally Williams"]
[null,null,{"$f":"Picks!B57","v":""},{"$f":"Picks!C57","v":""},{"$f":"Picks!D57","v":""},1,{"$f":"Picks!M57","v":{"$error":"#N/A"}},{"$error":"#VALUE!"},"Simon Greenhalgh",{"$f":"H167","v":0.5},{"$f":"H168","v":0},{"$f":"H169","v":0},1.5,0,0,0,0,0,0,-5.5,{"$f":"SUM(G167:G169)","v":1},"Simon Greenhalgh",{"$f":"SUM(F167:F169)","v":3},{"$error":"#VALUE!"},{"$f":"X167","v":0.5},{"$f":"X168","v":0.8},{"$f":"X169","v":1.2999999999999998},1.5,1.8,2.2999999999999998,2.7,4.1399999999999997,3.4499999999999997,6.21,15.100000000000001,"Simon Greenhalgh"]
[null,null,{"$f":"Picks!B58","v":""},{"$f":"Picks!C58","v":""},{"$f":"Picks!D58","v":""},1,{"$f":"Picks!M58","v":{"$error":"#N/A"}},{"$error":"#VALUE!"},"Stephen Barr",{"$f":"H170","v":0},{"$f":"H171","v":1.2000000000000002},{"$f":"H172","v":2.6},0,2.2000000000000002,3.6,0,7.9200000000000008,0,0,6.7200000000000024,{"$f":"SUM(G170:G172)","v":2},"Stephen Barr",{"$f":"SUM(F170:F172)","v":3},{"$error":"#VALUE!"},{"$f":"X170","v":1.5499999999999998},{"$f":"X171","v":1.2000000000000002},{"$f":"X172","v":2.6},2.5499999999999998,2.2000000000000002,3.6,5.6099999999999994,7.9200000000000008,9.18,20.195999999999998,44.256,"Stephen Barr"]
[null,{"$f":"$V21","v":"Gareth McGuire"},{"$f":"Picks!B59","v":"Bournemouth"},{"$f":"Picks!C59","v":7},{"$f":"Picks!D59","v":2.7},1,{"$f":"Picks!M59","v":0},0,"Stephen Troop",{"$f":"H173","v":0},{"$f":"H174","v":0.61538461538461542},{"$f":"H175","v":0.55000000000000004},0,1.6153846153846154,1.55,0,2.5038461538461538,0,0,-1.3307692307692305,{"$f":"SUM(G173:G175)","v":2},"Stephen Troop",{"$f":"SUM(F173:F175)","v":3},1.7000000000000002,{"$f":"X173","v":0.28571428571428559},{"$f":"X174","v":0.61538461538461542},{"$f":"X175","v":0.55000000000000004},1.2857142857142856,1.6153846153846154,1.55,2.0769230769230766,2.5038461538461538,1.9928571428571427,3.2192307692307689,7.2439560439560431,"Stephen Troop"]
[null,null,{"$f":"Picks!B60","v":"Watford"},{"$f":"Picks!C60","v":7},{"$f":"Picks!D60","v":2.5499999999999998},1,{"$f":"Picks!M60","v":0},0,"Steve Baxter",{"$f":"H176","v":0.5},{"$f":"H177","v":0},{"$f":"H178","v":1.2000000000000002},1.5,0,2.2000000000000002,0,0,3.3000000000000003,0,0,{"$f":"SUM(G176:G178)","v":2},"Steve Baxter",{"$f":"SUM(F176:F178)","v":3},1.5499999999999998,{"$f":"X176","v":0.5},{"$f":"X177","v":0.28571428571428559},{"$f":"X178","v":1.2000000000000002},1.5,1.2857142857142856,2.2000000000000002,1.9285714285714284,2.8285714285714283,3.3000000000000003,4.2428571428571429,10.285714285714288,"Steve Baxter"]
[null,null,{"$f":"Picks!B61","v":"Hull"},{"$f":"Picks!C61","v":7},{"$f":"Picks!D61","v":1.95},1,{"$f":"Picks!M61","v":1},0.95,"Steve Carter",{"$f":"H179","v":0},{"$f":"H180","v":1.4},{"$f":"H181","v":0},0,2.4,0,0,0,0,0,-4.5999999999999996,{"$f":"SUM(G179:G181)","v":1},"Steve Carter",{"$f":"SUM(F179:F181)","v":3},0.95,{"$f":"X179","v":0.8},{"$f":"X180","v":1.4},{"$f":"X181","v":1.5499999999999998},1.8,2.4,2.5499999999999998,4.32,6.1199999999999992,4.59,11.016,25.795999999999999,"Steve Carter"]
[null,{"$f":"$V22","v":"Gareth Powell"},{"$f":"Picks!B62","v":"Leeds"},{"$f":"Picks!C62","v":7},{"$f":"Picks!D62","v":1.6153846153846154},1,{"$f":"Picks!M62","v":1},0.61538461538461542,"Tom Robinson",{"$f":"H182","v":{"$error":"#VALUE!"}},{"$f":"H183","v":{"$error":"#VALUE!"}},{"$f":"H184","v":{"$error":"#VALUE!"}},{"$error":"#VALUE!"},{"$error":"#VALUE!"},{"$error":"#VALUE!"},{"$error":"#VALUE!"},{"$error":"#VALUE!"},{"$error":"#VALUE!"},{"$error":"#VALUE!"},{"$error":"#VALUE!"},{"$f":"SUM(G182:G184)","v":{"$error":"#N/A"}},"Tom Robinson",{"$f":"SUM(F182:F184)","v":3},0.61538461538461542,{"$f":"X182","v":{"$error":"#VALUE!"}},{"$f":"X183","v":{"$error":"#VALUE!"}},{"$f":"X184","v":{"$error":"#VALUE!"}},{"$error":"#VALUE!"},{"$error":"#VALUE!"},{"$error":"#VALUE!"},{"$error":"#VALUE!"},{"$error":"#VALUE!"},{"$error":"#VALUE!"},{"$error":"#VALUE!"},{"$error":"#VALUE!"},"Tom Robinson"]
[null,null,{"$f":"Picks!B63","v":"Swansea"},{"$f":"Picks!C63","v":7},{"$f":"Picks!D63","v":2.1},1,{"$f":"Picks!M63","v":0},{"$f":"+((E63-1)*G63*F63*A$2)","v":0},"Vinny Topping",{"$f":"H185","v":0},{"$f":"H186","v":0.95},{"$f":"H187","v":1.75},0,1.95,2.75,0,5.3624999999999998,0,0,3.0625,{"$f":"SUM(G185:G187)","v":2},"Vinny Topping",{"$f":"SUM(F185:F187)","v":3},1.1000000000000001,{"$f":"X185","v":1.2000000000000002},{"$f":"X186","v":0.95},{"$f":"X187","v":1.75},2.2000000000000002,1.95,2.75,4.29,5.3624999999999998,6.0500000000000007,11.797499999999999,27.400000000000006,"Vinny Topping"]
[null,null,{"$f":"Picks!B64","v":"Liverpool"},{"$f":"Picks!C64","v":1},{"$f":"Picks!D64","v":2.2000000000000002},1,{"$f":"Picks!M64","v":1},1.2000000000000002,{"$f":"IF(V64=\"\",\"\",V64)","v":""},null,null,null,null,null,null,null,null,null,null,null,null,null,null,1.2000000000000002]
[null,{"$f":"$V23","v":"Gerard Ventom"},{"$f":"Picks!B65","v":"Palace"},{"$f":"Picks!C65","v":7},{"$f":"Picks!D65","v":11},1,{"$f":"Picks!M65","v":1},10,"",null,null,null,null,null,null,null,null,null,null,null,null,null,null,10]
[null,null,{"$f":"Picks!B66","v":"Cardiff"},{"$f":"Picks!C66","v":7},{"$f":"Picks!D66","v":3},1,{"$f":"Picks!M66","v":1},2,"",null,null,null,null,null,null,null,null,null,null,null,null,null,null,{"$f":"+((E66-1)*F66*A$2)","v":2}]
[null,null,{"$f":"Picks!B67","v":"Ipswich"},{"$f":"Picks!C67","v":7},{"$f":"Picks!D67","v":2.6},1,{"$f":"Picks!M67","v":1},1.6,"",null,null,null,null,null,null,null,null,null,null,null,null,null,null,1.6]
[null,{"$f":"$V24","v":"Graham Miller"},{"$f":"Picks!B68","v":"Newcastle"},{"$f":"Picks!C68","v":1},{"$f":"Picks!D68","v":2.5499999999999998},1,{"$f":"Picks!M68","v":0},0,"",null,null,null,null,null,null,null,null,null,null,null,null,null,null,1.5499999999999998]
[null,null,{"$f":"Picks!B69","v":"Hull"},{"$f":"Picks!C69","v":7},{"$f":"Picks!D69","v":1.95},1,{"$f":"Picks!M69","v":1},0.95,"",null,null,null,null,null,null,null,null,null,null,null,null,null,null,0.95]
[null,null,{"$f":"Picks!B70","v":"Charlton"},{"$f":"Picks!C70","v":7},{"$f":"Picks!D70","v":2},1,{"$f":"Picks!M70","v":0},0,"",null,null,null,null,null,null,null,null,null,null,null,null,null,null,1]
[null,{"$f":"$V25","v":"Howard Bradley"},{"$f":"Picks!B71","v":"Blackburn"},{"$f":"Picks!C71","v":7},{"$f":"Picks!D71","v":1.5714285714285714},1,{"$f":"Picks!M71","v":1},0.5714285714285714,"",null,null,null,null,null,null,null,null,null,null,null,null,null,null,0.5714285714285714]
[null,null,{"$f":"Picks!B72","v":"Portsmouth"},{"$f":"Picks!C72","v":1},{"$f":"Picks!D72","v":1.75},1,{"$f":"Picks!M72","v":0},0,"",null,null,null,null,null,null,null,null,null,null,null,null,null,null,0.75]
[null,null,{"$f":"Picks!B73","v":"Derby"},{"$f":"Picks!C73","v":7},{"$f":"Picks!D73","v":2.5499999999999998},1,{"$f":"Picks!M73","v":0},0,"",null,null,null,null,null,null,null,null,null,null,null,null,null,null,1.5499999999999998]
[null,{"$f":"$V26","v":"Ian Davies"},{"$f":"Picks!B74","v":"Luton"},{"$f":"Picks!C74","v":7},{"$f":"Picks!D74","v":2.875},1,{"$f":"Picks!M74","v":1},1.875,"",null,null,null,null,null,null,null,null,null,null,null,null,null,null,1.875]
[null,null,{"$f":"Picks!B75","v":"Sheff W"},{"$f":"Picks!C75","v":7},{"$f":"Picks!D75","v":2.9},1,{"$f":"Picks!M75","v":0},0,"",null,null,null,null,null,null,null,null,null,null,null,null,null,null,1.9]
[null,null,{"$f":"Picks!B76","v":"Chelsea draw"},{"$f":"Picks!C76","v":1},{"$f":"Picks!D76","v":3.7},1,{"$f":"Picks!M76","v":0},0,"",null,null,null,null,null,null,null,null,null,null,null,null,null,null,2.7]
[null,{"$f":"$V27","v":"Jack Walsh"},{"$f":"Picks!B77","v":"Chelsea"},{"$f":"Picks!C77","v":1},{"$f":"Picks!D77","v":3.1},1,{"$f":"Picks!M77","v":0},0,"",null,null,null,null,null,null,null,null,null,null,null,null,null,null,2.1]
[null,null,{"$f":"Picks!B78","v":"Leeds"},{"$f":"Picks!C78","v":7},{"$f":"Picks!D78","v":1.6153846153846154},1,{"$f":"Picks!M78","v":1},0.61538461538461542,"",null,null,null,null,null,null,null,null,null,null,null,null,null,null,0.61538461538461542]
[null,null,{"$f":"Picks!B79","v":"Salford"},{"$f":"Picks!C79","v":7},{"$f":"Picks!D79","v":2.2999999999999998},1,{"$f":"Picks!M79","v":1},1.2999999999999998,"",null,null,null,null,null,null,null,null,null,null,null,null,null,null,1.2999999999999998]
[null,{"$f":"$V28","v":"James Bell"},{"$f":"Picks!B80","v":"Leeds draw"},{"$f":"Picks!C80","v":7},{"$f":"Picks!D80","v":4},1,{"$f":"Picks!M80","v":0},0,"",null,null,null,null,null,null,null,null,null,null,null,null,null,null,3]
[null,null,{"$f":"Picks!B81","v":"Huddersfield"},{"$f":"Picks!C81","v":7},{"$f":"Picks!D81","v":7},1,{"$f":"Picks!M81","v":0},0,"",null,null,null,null,null,null,null,null,null,null,null,null,null,null,6]
[null,null,{"$f":"Picks!B82","v":"MK Dons"},{"$f":"Picks!C82","v":7},{"$f":"Picks!D82","v":2.7},1,{"$f":"Picks!M82","v":0},0,"",null,null,null,null,null,null,null,null,null,null,null,null,null,null,1.7000000000000002]
[null,{"$f":"$V29","v":"Joel Bent"},{"$f":"Picks!B83","v":"Bournemouth"},{"$f":"Picks!C83","v":7},{"$f":"Picks!D83","v":2.7},1,{"$f":"Picks!M83","v":0},0,"",null,null,null,null,null,null,null,null,null,null,null,null,null,null,1.7000000000000002]
[null,null,{"$f":"Picks!B84","v":"Bristol R draw"},{"$f":"Picks!C84","v":7},{"$f":"Picks!D84","v":3.3},1,{"$f":"Picks!M84","v":0},0,"",null,null,null,null,null,null,null,null,null,null,null,null,null,null,2.2999999999999998]
[null,null,{"$f":"Picks!B85","v":"Leicester"},{"$f":"Picks!C85","v":1},{"$f":"Picks!D85","v":1.65},1,{"$f":"Picks!M85","v":1},0.64999999999999991,"",null,null,null,null,null,null,null,null,null,null,null,null,null,null,0.64999999999999991]
[null,{"$f":"$V30","v":"John Evans"},{"$f":"Picks!B86","v":"Derby"},{"$f":"Picks!C86","v":7},{"$f":"Picks!D86","v":2.5499999999999998},1,{"$f":"Picks!M86","v":0},0,"",null,null,null,null,null,null,null,null,null,null,null,null,null,null,1.5499999999999998]
[null,null,{"$f":"Picks!B87","v":"Colchester"},{"$f":"Picks!C87","v":7},{"$f":"Picks!D87","v":2.625},1,{"$f":"Picks!M87","v":1},1.625,"",null,null,null,null,null,null,null,null,null,null,null,null,null,null,1.625]
[null,null,{"$f":"Picks!B88","v":"Forest Green"},{"$f":"Picks!C88","v":7},{"$f":"Picks!D88","v":2.2999999999999998},1,{"$f":"Picks!M88","v":0},0,"",null,null,null,null,null,null,null,null,null,null,null,null,null,null,1.2999999999999998]
[null,{"$f":"$V31","v":"John Ronan"},{"$f":"Picks!B89","v":"Derby"},{"$f":"Picks!C89","v":7},{"$f":"Picks!D89","v":2.5499999999999998},1,{"$f":"Picks!M89","v":0},0,"",null,null,null,null,null,null,null,null,null,null,null,null,null,null,1.5499999999999998]
[null,null,{"$f":"Picks!B90","v":"Swansea"},{"$f":"Picks!C90","v":7},{"$f":"Picks!D90","v":2.1},1,{"$f":"Picks!M90","v":0},0,"",null,null,null,null,null,null,null,null,null,null,null,null,null,null,1.1000000000000001]
[null,null,{"$f":"Picks!B91","v":"Blackpool"},{"$f":"Picks!C91","v":7},{"$f":"Picks!D91","v":2.15},1,{"$f":"Picks!M91","v":1},1.1499999999999999,"",null,null,null,null,null,null,null,null,null,null,null,null,null,null,1.1499999999999999]
[null,{"$f":"$V32","v":"Kei Lok Ma"},{"$f":"Picks!B92","v":"Newcastle"},{"$f":"Picks!C92","v":1},{"$f":"Picks!D92","v":2.5499999999999998},1,{"$f":"Picks!M92","v":0},{"$f":"+((E92-1)*G92*F92*A$2)","v":0},"",null,null,null,null,null,null,null,null,null,null,null,null,null,null,1.5499999999999998]
[null,null,{"$f":"Picks!B93","v":"Southampton draw"},{"$f":"Picks!C93","v":1},{"$f":"Picks!D93","v":3.25},1,{"$f":"Picks!M93","v":0},0,"",null,null,null,null,null,null,null,null,null,null,null,null,null,null,2.25]
[null,null,{"$f":"Picks!B94","v":"Bournemouth"},{"$f":"Picks!C94","v":7},{"$f":"Picks!D94","v":2.7},1,{"$f":"Picks!M94","v":0},0,"",null,null,null,null,null,null,null,null,null,null,null,null,null,null,1.7000000000000002]
[null,{"$f":"$V33","v":"Kevin Carter"},{"$f":"Picks!B95","v":"Arsenal"},{"$f":"Picks!C95","v":7},{"$f":"Picks!D95","v":1.5},1,{"$f":"Picks!M95","v":1},0.5,"",null,null,null,null,null,null,null,null,null,null,null,null,null,null,0.5]
[null,null,{"$f":"Picks!B96","v":"Everton"},{"$f":"Picks!C96","v":7},{"$f":"Picks!D96","v":1.55},1,{"$f":"Picks!M96","v":1},0.55000000000000004,"",null,null,null,null,null,null,null,null,null,null,null,null,null,null,0.55000000000000004]
[null,null,{"$f":"Picks!B97","v":"Leeds"},{"$f":"Picks!C97","v":7},{"$f":"Picks!D97","v":1.6153846153846154},1,{"$f":"Picks!M97","v":1},0.61538461538461542,"",null,null,null,null,null,null,null,null,null,null,null,null,null,null,0.61538461538461542]
[null,{"$f":"$V34","v":"Lennie Bow"},{"$f":"Picks!B98","v":"Brentford"},{"$f":"Picks!C98","v":7},{"$f":"Picks!D98","v":1.55},1,{"$f":"Picks!M98","v":1},0.55000000000000004,"",null,null,null,null,null,null,null,null,null,null,null,null,null,null,{"$f":"+((E98-1)*F98*A$2)","v":0.55000000000000004}]
[null,null,{"$f":"Picks!B99","v":"Luton"},{"$f":"Picks!C99","v":7},{"$f":"Picks!D99","v":2.875},1,{"$f":"Picks!M99","v":1},1.875,"",null,null,null,null,null,null,null,null,null,null,null,null,null,null,1.875]
[null,null,{"$f":"Picks!B100","v":"Orient"},{"$f":"Picks!C100","v":7},{"$f":"Picks!D100","v":2.8},1,{"$f":"Picks!M100","v":0},0,"",null,null,null,null,null,null,null,null,null,null,null,null,null,null,1.7999999999999998]
[null,{"$f":"$V35","v":"Lewis Buckley"},{"$f":"Picks!B101","v":"Chelsea draw"},{"$f":"Picks!C101","v":1},{"$f":"Picks!D101","v":3.7},1,{"$f":"Picks!M101","v":0},0,"",null,null,null,null,null,null,null,null,null,null,null,null,null,null,2.7]
[null,null,{"$f":"Picks!B102","v":"Newcastle"},{"$f":"Picks!C102","v":1},{"$f":"Picks!D102","v":2.5499999999999998},1,{"$f":"Picks!M102","v":0},0,"",null,null,null,null,null,null,null,null,null,null,null,null,null,null,1.5499999999999998]
[null,null,{"$f":"Picks!B103","v":"Leicester"},{"$f":"Picks!C103","v":1},{"$f":"Picks!D103","v":1.65},1,{"$f":"Picks!M103","v":1},0.64999999999999991,"",null,null,null,null,null,null,null,null,null,null,null,null,null,null,0.64999999999999991]
[null,{"$f":"$V36","v":"Liam Wah"},{"$f":"Picks!B104","v":"Man U draw"},{"$f":"Picks!C104","v":7},{"$f":"Picks!D104","v":5.5},1,{"$f":"Picks!M104","v":0},0,"",null,null,null,null,null,null,null,null,null,null,null,null,null,null,4.5]
[null,null,{"$f":"Picks!B105","v":"Liverpool"},{"$f":"Picks!C105","v":1},{"$f":"Picks!D105","v":2.2000000000000002},1,{"$f":"Picks!M105","v":1},1.2000000000000002,"",null,null,null,null,null,null,null,null,null,null,null,null,null,null,1.2000000000000002]
[null,null,{"$f":"Picks!B106","v":"Newcastle"},{"$f":"Picks!C106","v":1},{"$f":"Picks!D106","v":2.5499999999999998},1,{"$f":"Picks!M106","v":0},0,"",null,null,null,null,null,null,null,null,null,null,null,null,null,null,1.5499999999999998]
[null,{"$f":"$V37","v":"Mal Stott"},{"$f":"Picks!B107","v":"Luton"},{"$f":"Picks!C107","v":7},{"$f":"Picks!D107","v":2.875},1,{"$f":"Picks!M107","v":1},1.875,"",null,null,null,null,null,null,null,null,null,null,null,null,null,null,1.875]
[null,null,{"$f":"Picks!B108","v":"Swansea"},{"$f":"Picks!C108","v":7},{"$f":"Picks!D108","v":2.1},1,{"$f":"Picks!M108","v":0},0,"",null,null,null,null,null,null,null,null,null,null,null,null,null,null,1.1000000000000001]
[null,null,{"$f":"Picks!B109","v":"Ipswich"},{"$f":"Picks!C109","v":7},{"$f":"Picks!D109","v":2.6},1,{"$f":"Picks!M109","v":1},1.6,"",null,null,null,null,null,null,null,null,null,null,null,null,null,null,1.6]
[null,{"$f":"$V38","v":"Mark Bunn"},{"$f":"Picks!B110","v":"QPR"},{"$f":"Picks!C110","v":6},{"$f":"Picks!D110","v":2.9},1,{"$f":"Picks!M110","v":0},0,"",null,null,null,null,null,null,null,null,null,null,null,null,null,null,1.9]
[null,null,{"$f":"Picks!B111","v":"Reading"},{"$f":"Picks!C111","v":7},{"$f":"Picks!D111","v":2.4},1,{"$f":"Picks!M111","v":1},1.4,"",null,null,null,null,null,null,null,null,null,null,null,null,null,null,1.4]
[null,null,{"$f":"Picks!B112","v":"Birmingham"},{"$f":"Picks!C112","v":7},{"$f":"Picks!D112","v":3.8},1,{"$f":"Picks!M112","v":0},0,"",null,null,null,null,null,null,null,null,null,null,null,null,null,null,2.8]
[null,{"$f":"$V39","v":"Mark Saunders"},{"$f":"Picks!B113","v":"Norwich"},{"$f":"Picks!C113","v":7},{"$f":"Picks!D113","v":1.8},1,{"$f":"Picks!M113","v":0},0,"",null,null,null,null,null,null,null,null,null,null,null,null,null,null,0.8]
[null,null,{"$f":"Picks!B114","v":"Newcastle"},{"$f":"Picks!C114","v":1},{"$f":"Picks!D114","v":2.5499999999999998},1,{"$f":"Picks!M114","v":0},0,"",null,null,null,null,null,null,null,null,null,null,null,null,null,null,1.5499999999999998]
[null,null,{"$f":"Picks!B115","v":"Arsenal"},{"$f":"Picks!C115","v":7},{"$f":"Picks!D115","v":1.5},1,{"$f":"Picks!M115","v":1},0.5,"",null,null,null,null,null,null,null,null,null,null,null,null,null,null,0.5]
[null,{"$f":"$V40","v":"Martin Molyneux"},{"$f":"Picks!B116","v":"Arsenal"},{"$f":"Picks!C116","v":7},{"$f":"Picks!D116","v":1.5},1,{"$f":"Picks!M116","v":1},0.5,"",null,null,null,null,null,null,null,null,null,null,null,null,null,null,0.5]
[null,null,{"$f":"Picks!B117","v":"Leicester"},{"$f":"Picks!C117","v":1},{"$f":"Picks!D117","v":1.65},1,{"$f":"Picks!M117","v":1},0.64999999999999991,"",null,null,null,null,null,null,null,null,null,null,null,null,null,null,0.64999999999999991]
[null,null,{"$f":"Picks!B118","v":"Chelsea Draw"},{"$f":"Picks!C118","v":1},{"$f":"Picks!D118","v":3.7},1,{"$f":"Picks!M118","v":0},0,"",null,null,null,null,null,null,null,null,null,null,null,null,null,null,2.7]
[null,{"$f":"$V41","v":"Martin Tarbuck"},{"$f":"Picks!B119","v":"Harrogate"},{"$f":"Picks!C119","v":7},{"$f":"Picks!D119","v":2.2000000000000002},1,{"$f":"Picks!M119","v":0},0,"",null,null,null,null,null,null,null,null,null,null,null,null,null,null,1.2000000000000002]
[null,null,{"$f":"Picks!B120","v":"Salford"},{"$f":"Picks!C120","v":7},{"$f":"Picks!D120","v":2.2999999999999998},1,{"$f":"Picks!M120","v":1},1.2999999999999998,"",null,null,null,null,null,null,null,null,null,null,null,null,null,null,1.2999999999999998]
[null,null,{"$f":"Picks!B121","v":"Derby"},{"$f":"Picks!C121","v":7},{"$f":"Picks!D121","v":2.5499999999999998},1,{"$f":"Picks!M121","v":0},{"$f":"+((E121-1)*G121*F121*A$2)","v":0},"",null,null,null,null,null,null,null,null,null,null,null,null,null,null,1.5499999999999998]
[null,{"$f":"$V42","v":"Mike Penk"},{"$f":"Picks!B122","v":"Millwall"},{"$f":"Picks!C122","v":7},{"$f":"Picks!D122","v":2.7},1,{"$f":"Picks!M122","v":1},1.7000000000000002,{"$f":"IF(V122=\"\",\"\",V122)","v":""},null,null,null,null,null,null,null,null,null,null,null,null,null,null,1.7000000000000002]
[null,null,{"$f":"Picks!B123","v":"Newcastle"},{"$f":"Picks!C123","v":1},{"$f":"Picks!D123","v":2.5499999999999998},1,{"$f":"Picks!M123","v":0},0,"",null,null,null,null,null,null,null,null,null,null,null,null,null,null,1.5499999999999998]
[null,null,{"$f":"Picks!B124","v":"Southampton"},{"$f":"Picks!C124","v":1},{"$f":"Picks!D124","v":3},1,{"$f":"Picks!M124","v":0},0,"",null,null,null,null,null,null,null,null,null,null,null,null,null,null,2]
[null,{"$f":"$V43","v":"Mo Sudell"},{"$f":"Picks!B125","v":"Everton"},{"$f":"Picks!C125","v":7},{"$f":"Picks!D125","v":1.55},1,{"$f":"Picks!M125","v":1},0.55000000000000004,"",null,null,null,null,null,null,null,null,null,null,null,null,null,null,0.55000000000000004]
[null,null,{"$f":"Picks!B126","v":"Blackburn"},{"$f":"Picks!C126","v":7},{"$f":"Picks!D126","v":1.5714285714285714},1,{"$f":"Picks!M126","v":1},0.5714285714285714,"",null,null,null,null,null,null,null,null,null,null,null,null,null,null,0.5714285714285714]
[null,null,{"$f":"Picks!B127","v":"Portsmouth"},{"$f":"Picks!C127","v":1},{"$f":"Picks!D127","v":1.75},1,{"$f":"Picks!M127","v":0},0,"",null,null,null,null,null,null,null,null,null,null,null,null,null,null,0.75]
[null,{"$f":"$V44","v":"Nick Blocksidge"},{"$f":"Picks!B128","v":"Blackburn"},{"$f":"Picks!C128","v":7},{"$f":"Picks!D128","v":1.5714285714285714},1,{"$f":"Picks!M128","v":1},0.5714285714285714,"",null,null,null,null,null,null,null,null,null,null,null,null,null,null,0.5714285714285714]
[null,null,{"$f":"Picks!B129","v":"Everton"},{"$f":"Picks!C129","v":7},{"$f":"Picks!D129","v":1.55},1,{"$f":"Picks!M129","v":1},0.55000000000000004,"",null,null,null,null,null,null,null,null,null,null,null,null,null,null,0.55000000000000004]
[null,null,{"$f":"Picks!B130","v":"Leeds draw"},{"$f":"Picks!C130","v":7},{"$f":"Picks!D130","v":4},1,{"$f":"Picks!M130","v":0},0,"",null,null,null,null,null,null,null,null,null,null,null,null,null,null,3]
[null,{"$f":"$V45","v":"Nigel Heyes"},{"$f":"Picks!B131","v":"Reading"},{"$f":"Picks!C131","v":7},{"$f":"Picks!D131","v":2.4},1,{"$f":"Picks!M131","v":1},1.4,"",null,null,null,null,null,null,null,null,null,null,null,null,null,null,{"$f":"+((E131-1)*F131*A$2)","v":1.4}]
[null,null,{"$f":"Picks!B132","v":"Charlton"},{"$f":"Picks!C132","v":7},{"$f":"Picks!D132","v":2},1,{"$f":"Picks!M132","v":0},0,"",null,null,null,null,null,null,null,null,null,null,null,null,null,null,1]
[null,null,{"$f":"Picks!B133","v":"Hull"},{"$f":"Picks!C133","v":7},{"$f":"Picks!D133","v":1.95},1,{"$f":"Picks!M133","v":1},0.95,"",null,null,null,null,null,null,null,null,null,null,null,null,null,null,0.95]
[null,{"$f":"$V46","v":"Oscar Jackson"},{"$f":"Picks!B134","v":"Arsenal"},{"$f":"Picks!C134","v":7},{"$f":"Picks!D134","v":1.5},1,{"$f":"Picks!M134","v":1},0.5,"",null,null,null,null,null,null,null,null,null,null,null,null,null,null,0.5]
[null,null,{"$f":"Picks!B135","v":"Forest Green"},{"$f":"Picks!C135","v":7},{"$f":"Picks!D135","v":2.2999999999999998},1,{"$f":"Picks!M135","v":0},0,"",null,null,null,null,null,null,null,null,null,null,null,null,null,null,1.2999999999999998]
[null,null,{"$f":"Picks!B136","v":"Chelsea"},{"$f":"Picks!C136","v":1},{"$f":"Picks!D136","v":3.1},1,{"$f":"Picks!M136","v":0},0,"",null,null,null,null,null,null,null,null,null,null,null,null,null,null,2.1]
[null,{"$f":"$V47","v":"Paul Adderley"},{"$f":"Picks!B137","v":"Arsenal"},{"$f":"Picks!C137","v":7},{"$f":"Picks!D137","v":1.5},1,{"$f":"Picks!M137","v":1},0.5,"",null,null,null,null,null,null,null,null,null,null,null,null,null,null,0.5]
[null,null,{"$f":"Picks!B138","v":"Man U"},{"$f":"Picks!C138","v":7},{"$f":"Picks!D138","v":1.2857142857142856},1,{"$f":"Picks!M138","v":0},0,"",null,null,null,null,null,null,null,null,null,null,null,null,null,null,0.28571428571428559]
[null,null,{"$f":"Picks!B139","v":"Leeds"},{"$f":"Picks!C139","v":7},{"$f":"Picks!D139","v":1.6153846153846154},1,{"$f":"Picks!M139","v":1},0.61538461538461542,"",null,null,null,null,null,null,null,null,null,null,null,null,null,null,0.61538461538461542]
[null,{"$f":"$V48","v":"Paul Allen"},{"$f":"Picks!B140","v":"Bristol R"},{"$f":"Picks!C140","v":7},{"$f":"Picks!D140","v":2.7},1,{"$f":"Picks!M140","v":0},0,"",null,null,null,null,null,null,null,null,null,null,null,null,null,null,1.7000000000000002]
[null,null,{"$f":"Picks!B141","v":"Newcastle"},{"$f":"Picks!C141","v":1},{"$f":"Picks!D141","v":2.5499999999999998},1,{"$f":"Picks!M141","v":0},0,"",null,null,null,null,null,null,null,null,null,null,null,null,null,null,1.5499999999999998]
[null,null,{"$f":"Picks!B142","v":"Spurs"},{"$f":"Picks!C142","v":1},{"$f":"Picks!D142","v":2.4500000000000002},1,{"$f":"Picks!M142","v":1},1.4500000000000002,"",null,null,null,null,null,null,null,null,null,null,null,null,null,null,1.4500000000000002]
[null,{"$f":"$V49","v":"Paul Barnes"},{"$f":"Picks!B143","v":"Arsenal"},{"$f":"Picks!C143","v":7},{"$f":"Picks!D143","v":1.5},1,{"$f":"Picks!M143","v":1},0.5,"",null,null,null,null,null,null,null,null,null,null,null,null,null,null,0.5]
[null,null,{"$f":"Picks!B144","v":"Everton"},{"$f":"Picks!C144","v":7},{"$f":"Picks!D144","v":1.55},1,{"$f":"Picks!M144","v":1},0.55000000000000004,"",null,null,null,null,null,null,null,null,null,null,null,null,null,null,0.55000000000000004]
[null,null,{"$f":"Picks!B145","v":"Leeds"},{"$f":"Picks!C145","v":7},{"$f":"Picks!D145","v":1.6153846153846154},1,{"$f":"Picks!M145","v":1},0.61538461538461542,"",null,null,null,null,null,null,null,null,null,null,null,null,null,null,0.61538461538461542]
[null,{"$f":"$V50","v":"Paul Fairhurst"},{"$f":"Picks!B146","v":"Palace"},{"$f":"Picks!C146","v":7},{"$f":"Picks!D146","v":11},1,{"$f":"Picks!M146","v":1},10,"",null,null,null,null,null,null,null,null,null,null,null,null,null,null,10]
[null,null,{"$f":"Picks!B147","v":"Middlesbro draw"},{"$f":"Picks!C147","v":7},{"$f":"Picks!D147","v":3.2},1,{"$f":"Picks!M147","v":1},2.2000000000000002,"",null,null,null,null,null,null,null,null,null,null,null,null,null,null,2.2000000000000002]
[null,null,{"$f":"Picks!B148","v":"Harrogate draw"},{"$f":"Picks!C148","v":7},{"$f":"Picks!D148","v":3.3},1,{"$f":"Picks!M148","v":1},2.2999999999999998,"",null,null,null,null,null,null,null,null,null,null,null,null,null,null,2.2999999999999998]
[null,{"$f":"$V51","v":"Paul Fiddler"},{"$f":"Picks!B149","v":"Blackpool"},{"$f":"Picks!C149","v":7},{"$f":"Picks!D149","v":2.15},1,{"$f":"Picks!M149","v":1},1.1499999999999999,"",null,null,null,null,null,null,null,null,null,null,null,null,null,null,1.1499999999999999]
[null,null,{"$f":"Picks!B150","v":"Hull"},{"$f":"Picks!C150","v":7},{"$f":"Picks!D150","v":1.95},1,{"$f":"Picks!M150","v":1},0.95,"",null,null,null,null,null,null,null,null,null,null,null,null,null,null,0.95]
[null,null,{"$f":"Picks!B151","v":"QPR"},{"$f":"Picks!C151","v":6},{"$f":"Picks!D151","v":2.9},1,{"$f":"Picks!M151","v":0},0,"",null,null,null,null,null,null,null,null,null,null,null,null,null,null,1.9]
[null,{"$f":"$V52","v":"Paul Ridgeway"},{"$f":"Picks!B152","v":"Leeds"},{"$f":"Picks!C152","v":7},{"$f":"Picks!D152","v":1.6153846153846154},1,{"$f":"Picks!M152","v":1},0.61538461538461542,"",null,null,null,null,null,null,null,null,null,null,null,null,null,null,0.61538461538461542]
[null,null,{"$f":"Picks!B153","v":"Bournemouth"},{"$f":"Picks!C153","v":7},{"$f":"Picks!D153","v":2.7},1,{"$f":"Picks!M153","v":0},{"$f":"+((E153-1)*G153*F153*A$2)","v":0},"",null,null,null,null,null,null,null,null,null,null,null,null,null,null,1.7000000000000002]
[null,null,{"$f":"Picks!B154","v":"Leicester"},{"$f":"Picks!C154","v":1},{"$f":"Picks!D154","v":1.65},1,{"$f":"Picks!M154","v":1},0.64999999999999991,"",null,null,null,null,null,null,null,null,null,null,null,null,null,null,0.64999999999999991]
[null,{"$f":"$V53","v":"Pete Baron"},{"$f":"Picks!B155","v":"Newcastle"},{"$f":"Picks!C155","v":1},{"$f":"Picks!D155","v":2.5499999999999998},1,{"$f":"Picks!M155","v":0},0,"",null,null,null,null,null,null,null,null,null,null,null,null,null,null,1.5499999999999998]
[null,null,{"$f":"Picks!B156","v":"Watford"},{"$f":"Picks!C156","v":7},{"$f":"Picks!D156","v":2.5499999999999998},1,{"$f":"Picks!M156","v":0},0,"",null,null,null,null,null,null,null,null,null,null,null,null,null,null,1.5499999999999998]
[null,null,{"$f":"Picks!B157","v":"Derby"},{"$f":"Picks!C157","v":7},{"$f":"Picks!D157","v":2.5499999999999998},1,{"$f":"Picks!M157","v":0},0,"",null,null,null,null,null,null,null,null,null,null,null,null,null,null,1.5499999999999998]
[null,{"$f":"$V54","v":"Phil Miller"},{"$f":"Picks!B158","v":"Man U"},{"$f":"Picks!C158","v":7},{"$f":"Picks!D158","v":1.2857142857142856},1,{"$f":"Picks!M158","v":0},0,"",null,null,null,null,null,null,null,null,null,null,null,null,null,null,0.28571428571428559]
[null,null,{"$f":"Picks!B159","v":"Derby"},{"$f":"Picks!C159","v":7},{"$f":"Picks!D159","v":2.5499999999999998},1,{"$f":"Picks!M159","v":0},0,"",null,null,null,null,null,null,null,null,null,null,null,null,null,null,1.5499999999999998]
[null,null,{"$f":"Picks!B160","v":"Salford"},{"$f":"Picks!C160","v":7},{"$f":"Picks!D160","v":2.2999999999999998},1,{"$f":"Picks!M160","v":1},1.2999999999999998,"",null,null,null,null,null,null,null,null,null,null,null,null,null,null,1.2999999999999998]
[null,{"$f":"$V55","v":"Rob England"},{"$f":"Picks!B161","v":"Norwich"},{"$f":"Picks!C161","v":7},{"$f":"Picks!D161","v":1.8},1,{"$f":"Picks!M161","v":0},0,"",null,null,null,null,null,null,null,null,null,null,null,null,null,null,0.8]
[null,null,{"$f":"Picks!B162","v":"Plymouth"},{"$f":"Picks!C162","v":7},{"$f":"Picks!D162","v":2.7},1,{"$f":"Picks!M162","v":0},0,"",null,null,null,null,null,null,null,null,null,null,null,null,null,null,1.7000000000000002]
[null,null,{"$f":"Picks!B163","v":"Colchester"},{"$f":"Picks!C163","v":7},{"$f":"Picks!D163","v":2.625},1,{"$f":"Picks!M163","v":1},1.625,"",null,null,null,null,null,null,null,null,null,null,null,null,null,null,1.625]
[null,{"$f":"$V56","v":"Sally Williams"},{"$f":"Picks!B164","v":"Grimsby"},{"$f":"Picks!C164","v":7},{"$f":"Picks!D164","v":3.1},1,{"$f":"Picks!M164","v":0},0,"",null,null,null,null,null,null,null,null,null,null,null,null,null,null,2.1]
[null,null,{"$f":"Picks!B165","v":"Morecambe draw"},{"$f":"Picks!C165","v":7},{"$f":"Picks!D165","v":3.25},1,{"$f":"Picks!M165","v":0},0,"",null,null,null,null,null,null,null,null,null,null,null,null,null,null,2.25]
[null,null,{"$f":"Picks!B166","v":"Orient"},{"$f":"Picks!C166","v":7},{"$f":"Picks!D166","v":2.8},1,{"$f":"Picks!M166","v":0},0,"",null,null,null,null,null,null,null,null,null,null,null,null,null,null,1.7999999999999998]
[null,{"$f":"$V57","v":"Simon Greenhalgh"},{"$f":"Picks!B167","v":"Arsenal"},{"$f":"Picks!C167","v":7},{"$f":"Picks!D167","v":1.5},1,{"$f":"Picks!M167","v":1},0.5,"",null,null,null,null,null,null,null,null,null,null,null,null,null,null,0.5]
[null,null,{"$f":"Picks!B168","v":"Norwich"},{"$f":"Picks!C168","v":7},{"$f":"Picks!D168","v":1.8},1,{"$f":"Picks!M168","v":0},0,"",null,null,null,null,null,null,null,null,null,null,null,null,null,null,0.8]
[null,null,{"$f":"Picks!B169","v":"Forest Green"},{"$f":"Picks!C169","v":7},{"$f":"Picks!D169","v":2.2999999999999998},1,{"$f":"Picks!M169","v":0},0,"",null,null,null,null,null,null,null,null,null,null,null,null,null,null,1.2999999999999998]
[null,{"$f":"$V58","v":"Stephen Barr"},{"$f":"Picks!B170","v":"Newcastle"},{"$f":"Picks!C170","v":1},{"$f":"Picks!D170","v":2.5499999999999998},1,{"$f":"Picks!M170","v":0},0,"",null,null,null,null,null,null,null,null,null,null,null,null,null,null,1.5499999999999998]
[null,null,{"$f":"Picks!B171","v":"Liverpool"},{"$f":"Picks!C171","v":1},{"$f":"Picks!D171","v":2.2000000000000002},1,{"$f":"Picks!M171","v":1},1.2000000000000002,"",null,null,null,null,null,null,null,null,null,null,null,null,null,null,1.2000000000000002]
[null,null,{"$f":"Picks!B172","v":"Bristol c"},{"$f":"Picks!C172","v":1},{"$f":"Picks!D172","v":3.6},1,{"$f":"Picks!M172","v":1},2.6,"",null,null,null,null,null,null,null,null,null,null,null,null,null,null,2.6]
[null,{"$f":"$V59","v":"Stephen Troop"},{"$f":"Picks!B173","v":"Man U"},{"$f":"Picks!C173","v":7},{"$f":"Picks!D173","v":1.2857142857142856},1,{"$f":"Picks!M173","v":0},0,"",null,null,null,null,null,null,null,null,null,null,null,null,null,null,0.28571428571428559]
[null,null,{"$f":"Picks!B174","v":"Leeds"},{"$f":"Picks!C174","v":7},{"$f":"Picks!D174","v":1.6153846153846154},1,{"$f":"Picks!M174","v":1},0.61538461538461542,"",null,null,null,null,null,null,null,null,null,null,null,null,null,null,0.61538461538461542]
[null,null,{"$f":"Picks!B175","v":"Everton"},{"$f":"Picks!C175","v":7},{"$f":"Picks!D175","v":1.55},1,{"$f":"Picks!M175","v":1},0.55000000000000004,"",null,null,null,null,null,null,null,null,null,null,null,null,null,null,0.55000000000000004]
[null,{"$f":"$V60","v":"Steve Baxter"},{"$f":"Picks!B176","v":"Arsenal"},{"$f":"Picks!C176","v":7},{"$f":"Picks!D176","v":1.5},1,{"$f":"Picks!M176","v":1},0.5,"",null,null,null,null,null,null,null,null,null,null,null,null,null,null,0.5]
[null,null,{"$f":"Picks!B177","v":"Man U"},{"$f":"Picks!C177","v":7},{"$f":"Picks!D177","v":1.2857142857142856},1,{"$f":"Picks!M177","v":0},0,"",null,null,null,null,null,null,null,null,null,null,null,null,null,null,0.28571428571428559]
[null,null,{"$f":"Picks!B178","v":"Liverpool"},{"$f":"Picks!C178","v":1},{"$f":"Picks!D178","v":2.2000000000000002},1,{"$f":"Picks!M178","v":1},1.2000000000000002,"",null,null,null,null,null,null,null,null,null,null,null,null,null,null,1.2000000000000002]
[null,{"$f":"$V61","v":"Steve Carter"},{"$f":"Picks!B179","v":"Norwich"},{"$f":"Picks!C179","v":7},{"$f":"Picks!D179","v":1.8},1,{"$f":"Picks!M179","v":0},0,"",null,null,null,null,null,null,null,null,null,null,null,null,null,null,0.8]
[null,null,{"$f":"Picks!B180","v":"Reading"},{"$f":"Picks!C180","v":7},{"$f":"Picks!D180","v":2.4},1,{"$f":"Picks!M180","v":1},1.4,"",null,null,null,null,null,null,null,null,null,null,null,null,null,null,1.4]
[null,null,{"$f":"Picks!B181","v":"Newcastle"},{"$f":"Picks!C181","v":1},{"$f":"Picks!D181","v":2.5499999999999998},1,{"$f":"Picks!M181","v":0},0,"",null,null,null,null,null,null,null,null,null,null,null,null,null,null,1.5499999999999998]
[null,{"$f":"$V62","v":"Tom Robinson"},{"$f":"Picks!B182","v":""},{"$f":"Picks!C182","v":""},{"$f":"Picks!D182","v":""},1,{"$f":"Picks!M182","v":{"$error":"#N/A"}},{"$error":"#VALUE!"},"",null,null,null,null,null,null,null,null,null,null,null,null,null,null,{"$error":"#VALUE!"}]
[null,null,{"$f":"Picks!B183","v":""},{"$f":"Picks!C183","v":""},{"$f":"Picks!D183","v":""},1,{"$f":"Picks!M183","v":{"$error":"#N/A"}},{"$error":"#VALUE!"},"",null,null,null,null,null,null,null,null,null,null,null,null,null,null,{"$error":"#VALUE!"}]
[null,null,{"$f":"Picks!B184","v":""},{"$f":"Picks!C184","v":""},{"$f":"Picks!D184","v":""},1,{"$f":"Picks!M184","v":{"$error":"#N/A"}},{"$error":"#VALUE!"},"",null,null,null,null,null,null,null,null,null,null,null,null,null,null,{"$error":"#VALUE!"}]
[null,{"$f":"$V63","v":"Vinny Topping"},{"$f":"Picks!B185","v":"Harrogate"},{"$f":"Picks!C185","v":7},{"$f":"Picks!D185","v":2.2000000000000002},1,{"$f":"Picks!M185","v":0},{"$f":"+((E185-1)*G185*F185*A$2)","v":0},"",null,null,null,null,null,null,null,null,null,null,null,null,null,null,1.2000000000000002]
[null,null,{"$f":"Picks!B186","v":"Hull"},{"$f":"Picks!C186","v":7},{"$f":"Picks!D186","v":1.95},1,{"$f":"Picks!M186","v":1},0.95,{"$f":"IF(V186=\"\",\"\",V186)","v":""},null,null,null,null,null,null,null,null,null,null,null,null,null,null,0.95]
[null,null,{"$f":"Picks!B187","v":"Lincoln"},{"$f":"Picks!C187","v":7},{"$f":"Picks!D187","v":2.75},1,{"$f":"Picks!M187","v":1},1.75,"",null,null,null,null,null,null,null,null,null,null,null,null,null,null,1.75]
[null,null,null,null,null,null,null,null,""]
[null,null,null,null,null,null,null,null,""]
[null,null,null,null,null,null,null,null,""]
[null,null,null,null,null,null,null,null,""]
[null,null,null,null,null,null,null,null,""]
[null,null,null,null,null,null,null,null,"",null,null,null,null,null,null,null,null,null,null,null,null,null,null,null,"`"]

{"sheet":"3of3","index":11,"n_rows":9,"n_cols":2,"rows_kept":9,"cut":false,"hidden":false,"merged":[]}
["Menu!A1"]
[]
["Count of Player"]
["Week\nCorrect","Total"]
[3,7]
[2,22]
[1,23]
[0,10]
["Grand Total",62]

{"sheet":"TopPicks","index":12,"n_rows":68,"n_cols":11,"rows_kept":68,"cut":false,"hidden":false,"merged":[]}
[]
[]
["Count of Points","Bet up ",null,null,null,null,null,null,"Prediction","Down (0)","Up (1)"]
["Wk1",0,1,"Grand Total",null,null,null,null,"Newcastle",14]
["Arsenal",null,12,12,null,null,null,null,"Derby",6]
["Blackburn",null,4,4,null,null,null,null,"Norwich",6]
["Bournemouth",4,null,4,null,null,null,null,"Man U",5]
["Brentford",null,2,2,null,null,null,null,"Bournemouth",4]
["Bristol c",null,1,1,null,null,null,null,"Chelsea draw",4]
["Cardiff",null,1,1,null,null,null,null,"Swansea",4]
["Chelsea",2,null,2,null,null,null,null,"QPR",3]
["Derby",6,null,6,null,null,null,null,"Forest Green",3]
["Everton",null,7,7,null,null,null,null,"Harrogate",3]
["Everton Draw",1,null,1,null,null,null,null,"Orient",3]
["Forest",1,null,1,null,null,null,null,"Chelsea",2]
["Fulham",1,null,1,null,null,null,null,"Watford",2]
["Hull",null,9,9,null,null,null,null,"West Brom",2]
["Leeds",null,9,9,null,null,null,null,"Southampton Draw",2]
["Leicester",null,4,4,null,null,null,null,"Charlton",2]
["Liverpool",null,4,4,null,null,null,null,"Leeds draw",2]
["Man U",5,null,5,null,null,null,null,"Arsenal draw",2]
["Middlesbro draw",null,1,1,null,null,null,null,"Portsmouth",2]
["Millwall",null,1,1,null,null,null,null,"Walsall",2]
["Newcastle",14,null,14,null,null,null,null,"Everton Draw",1]
["Newcastle Draw",1,null,1,null,null,null,null,"Forest",1]
["Norwich",6,null,6,null,null,null,null,"Fulham",1]
["Palace",null,5,5,null,null,null,null,"Newcastle Draw",1]
["QPR",3,null,3,null,null,null,null,"Sheff W",1]
["Reading",null,5,5,null,null,null,null,"Southampton",1]
["Sheff W",1,null,1,null,null,null,null,"Stoke",1]
["Southampton",1,null,1,null,null,null,null,"Burnley",1]
["Spurs",null,3,3,null,null,null,null,"Man U draw",1]
["Stoke",1,null,1,null,null,null,null,"Birmingham",1]
["Watford",2,null,2,null,null,null,null,"Huddersfield",1]
["West Brom",2,null,2,null,null,null,null,"Stevenage draw",1]
["Southampton Draw",2,null,2,null,null,null,null,"Swindon",1]
["Burnley",1,null,1,null,null,null,null,"MK Dons",1]
["Man U draw",1,null,1,null,null,null,null,"Bristol R draw",1]
["Chelsea draw",4,null,4,null,null,null,null,"Bristol R",1]
["Northampton",null,1,1,null,null,null,null,"Plymouth",1]
["Swansea",4,null,4,null,null,null,null,"Grimsby",1]
["Birmingham",1,null,1,null,null,null,null,"Morecambe draw",1]
["Luton",null,5,5,null,null,null,null,"Morecambe draw",1]
["Charlton",2,null,2,null,null,null,null,"Arsenal",null,12]
["Leeds draw",2,null,2,null,null,null,null,"Hull",null,9]
["Huddersfield",1,null,1,null,null,null,null,"Leeds",null,9]
["Arsenal draw",2,null,2,null,null,null,null,"Everton",null,7]
["Portsmouth",2,null,2,null,null,null,null,"Palace",null,5]
["Forest Green",3,null,3,null,null,null,null,"Reading",null,5]
["Walsall",2,null,2,null,null,null,null,"Luton",null,5]
["Harrogate",3,null,3,null,null,null,null,"Blackburn",null,4]
["Orient",3,null,3,null,null,null,null,"Leicester",null,4]
["Stevenage draw",1,null,1,null,null,null,null,"Liverpool",null,4]
["Wimbledon draw",null,1,1,null,null,null,null,"Salford",null,4]
["Swindon",1,null,1,null,null,null,null,"Spurs",null,3]
["Lincoln",null,2,2,null,null,null,null,"Brentford",null,2]
["Salford",null,4,4,null,null,null,null,"Lincoln",null,2]
["Ipswich",null,2,2,null,null,null,null,"Ipswich",null,2]
["MK Dons",1,null,1,null,null,null,null,"Colchester",null,2]
["Bristol R draw",1,null,1,null,null,null,null,"Blackpool",null,2]
["Colchester",null,2,2,null,null,null,null,"Bristol c",null,1]
["Blackpool",null,2,2,null,null,null,null,"Cardiff",null,1]
["Bristol R",1,null,1,null,null,null,null,"Middlesbro draw",null,1]
["Harrogate draw",null,1,1,null,null,null,null,"Millwall",null,1]
["Plymouth",1,null,1,null,null,null,null,"Northampton",null,1]
["Grimsby",1,null,1,null,null,null,null,"Wimbledon draw",null,1]
["Morecambe draw",1,null,1,null,null,null,null,"Harrogate draw",null,1]
["Grand Total",92,88,180]

{"sheet":"Images","index":13,"n_rows":33,"n_cols":35,"rows_kept":33,"cut":false,"hidden":false,"merged":[[28,11,28,15],[23,11,23,15],[24,11,24,15],[25,11,25,15],[26,11,26,15],[27,11,27,15],[21,1,26,1],[1,3,1,7],[3,1,8,1],[9,1,14,1],[1,24,1,34],[2,24,2,25],[2,27,2,28],[2,30,2,31],[2,33,2,34],[15,1,20,1],[1,10,1,15],[3,11,3,14],[4,11,4,14],[5,11,5,14],[6,11,6,14],[2,11,2,14],[12,11,12,14],[13,11,13,14],[14,11,14,14],[7,11,7,14],[8,11,8,14],[9,11,9,14],[10,11,10,14],[11,11,11,14]]}
[null,"Week : ",2]
[null,null,null,{"$f":"CONCATENATE(\"Promotion/Prize Places (Top 6) In Division after Week \",$C$1)","v":"Promotion/Prize Places (Top 6) In Division after Week 2"},null,null,null,null,null,null,{"$f":"CONCATENATE(\"Weekly Top 12 for Week \",$C$1)","v":"Weekly Top 12 for Week 2"},null,null,null,null,null,null,null,null,null,null,null,null,null,{"$f":"CONCATENATE(\"League Standings after Week \",$C$1)","v":"League Standings after Week 2"}]
[null,null,"Pos","Season\nPoints","Season\nCorrect","Name","Week\nPoints","Week\nCorrect",null,null,"Prize","Name",null,null,null,"Points",null,null,"Division","Name","Correct","Points",null,null,"Division A",null,null,"Division B",null,null,"Division C",null,null,"Division D"]
["A1","Division A",1,{"$f":"INDEX(Table!G:G,MATCH($A4,Table!$B:$B,0))","v":172.3},{"$f":"INDEX(Table!H:H,MATCH($A4,Table!$B:$B,0))","v":5},{"$f":"INDEX(Table!F:F,MATCH($A4,Table!$B:$B,0))","v":"Gerard Ventom"},{"$f":"INDEX(Table!I:I,MATCH($A4,Table!$B:$B,0))","v":164.8},{"$f":"INDEX(Table!J:J,MATCH($A4,Table!$B:$B,0))","v":3},null,1,10,{"$f":"INDEX(Weekly!E:E,MATCH($J4,Weekly!B:B,0))","v":"Paul Fairhurst"},null,null,null,{"$f":"INDEX(Weekly!H:H,MATCH($J4,Weekly!B:B,0))","v":208.72},null,1,null,null,null,null,null,"A1",{"$f":"INDEX(Table!$F:$F,MATCH(X4,Table!$B:$B,0))","v":"Gerard Ventom"},{"$f":"INDEX(Table!$G:$G,MATCH(X4,Table!$B:$B,0))","v":172.3},"B1",{"$f":"INDEX(Table!$F:$F,MATCH(AA4,Table!$B:$B,0))","v":"Steve Baxter"},{"$f":"INDEX(Table!$G:$G,MATCH(AA4,Table!$B:$B,0))","v":10.03857142857143},"C1",{"$f":"INDEX(Table!$F:$F,MATCH(AD4,Table!$B:$B,0))","v":"Paul Fairhurst"},{"$f":"INDEX(Table!$G:$G,MATCH(AD4,Table!$B:$B,0))","v":203.72},"D1",{"$f":"INDEX(Table!$F:$F,MATCH(AG4,Table!$B:$B,0))","v":"Dave Orrell"},{"$f":"INDEX(Table!$G:$G,MATCH(AG4,Table!$B:$B,0))","v":23.606249999999996}]
["A2",null,2,{"$f":"INDEX(Table!G:G,MATCH($A5,Table!$B:$B,0))","v":16.222499999999997},{"$f":"INDEX(Table!H:H,MATCH($A5,Table!$B:$B,0))","v":4},{"$f":"INDEX(Table!F:F,MATCH($A5,Table!$B:$B,0))","v":"Steve Carter"},{"$f":"INDEX(Table!I:I,MATCH($A5,Table!$B:$B,0))","v":-4.5999999999999996},{"$f":"INDEX(Table!J:J,MATCH($A5,Table!$B:$B,0))","v":1},null,2,5,{"$f":"INDEX(Weekly!E:E,MATCH($J5,Weekly!B:B,0))","v":"Gerard Ventom"},null,null,null,{"$f":"INDEX(Weekly!H:H,MATCH($J5,Weekly!B:B,0))","v":164.8},null,2,null,null,null,null,null,"A2",{"$f":"INDEX(Table!F:F,MATCH(X5,Table!$B:$B,0))","v":"Steve Carter"},{"$f":"INDEX(Table!G:G,MATCH(X5,Table!$B:$B,0))","v":16.222499999999997},"B2",{"$f":"INDEX(Table!$F:$F,MATCH(AA5,Table!$B:$B,0))","v":"Vinny Topping"},{"$f":"INDEX(Table!$G:$G,MATCH(AA5,Table!$B:$B,0))","v":6.6875},"C2",{"$f":"INDEX(Table!$F:$F,MATCH(AD5,Table!$B:$B,0))","v":"Chris Bow"},{"$f":"INDEX(Table!$G:$G,MATCH(AD5,Table!$B:$B,0))","v":193.13},"D2",{"$f":"INDEX(Table!$F:$F,MATCH(AG5,Table!$B:$B,0))","v":"Paul Barnes"},{"$f":"INDEX(Table!$G:$G,MATCH(AG5,Table!$B:$B,0))","v":1.6730769230769234}]
["A3",null,3,{"$f":"INDEX(Table!G:G,MATCH($A6,Table!$B:$B,0))","v":7.5450000000000017},{"$f":"INDEX(Table!H:H,MATCH($A6,Table!$B:$B,0))","v":4},{"$f":"INDEX(Table!F:F,MATCH($A6,Table!$B:$B,0))","v":"Mark Saunders"},{"$f":"INDEX(Table!I:I,MATCH($A6,Table!$B:$B,0))","v":-5.5},{"$f":"INDEX(Table!J:J,MATCH($A6,Table!$B:$B,0))","v":1},null,3,5,{"$f":"INDEX(Weekly!E:E,MATCH($J6,Weekly!B:B,0))","v":"Chris Bow"},null,null,null,{"$f":"INDEX(Weekly!H:H,MATCH($J6,Weekly!B:B,0))","v":150.1},null,3,null,null,null,null,null,"A3",{"$f":"INDEX(Table!F:F,MATCH(X6,Table!$B:$B,0))","v":"Mark Saunders"},{"$f":"INDEX(Table!G:G,MATCH(X6,Table!$B:$B,0))","v":7.5450000000000017},"B3",{"$f":"INDEX(Table!$F:$F,MATCH(AA6,Table!$B:$B,0))","v":"Pete Baron"},{"$f":"INDEX(Table!$G:$G,MATCH(AA6,Table!$B:$B,0))","v":5},"C3",{"$f":"INDEX(Table!$F:$F,MATCH(AD6,Table!$B:$B,0))","v":"Chris Townsend"},{"$f":"INDEX(Table!$G:$G,MATCH(AD6,Table!$B:$B,0))","v":15.375},"D3",{"$f":"INDEX(Table!$F:$F,MATCH(AG6,Table!$B:$B,0))","v":"Lewis Buckley"},{"$f":"INDEX(Table!$G:$G,MATCH(AG6,Table!$B:$B,0))","v":-0.23500000000000121}]
["A4",null,4,{"$f":"INDEX(Table!G:G,MATCH($A7,Table!$B:$B,0))","v":3.8062500000000021},{"$f":"INDEX(Table!H:H,MATCH($A7,Table!$B:$B,0))","v":3},{"$f":"INDEX(Table!F:F,MATCH($A7,Table!$B:$B,0))","v":"Alick Rocca"},{"$f":"INDEX(Table!I:I,MATCH($A7,Table!$B:$B,0))","v":10.806250000000002},{"$f":"INDEX(Table!J:J,MATCH($A7,Table!$B:$B,0))","v":3},null,4,5,{"$f":"INDEX(Weekly!E:E,MATCH($J7,Weekly!B:B,0))","v":"Dave Orrell"},null,null,null,{"$f":"INDEX(Weekly!H:H,MATCH($J7,Weekly!B:B,0))","v":28.506249999999994},null,4,null,null,null,null,null,"A4",{"$f":"INDEX(Table!F:F,MATCH(X7,Table!$B:$B,0))","v":"Alick Rocca"},{"$f":"INDEX(Table!G:G,MATCH(X7,Table!$B:$B,0))","v":3.8062500000000021},"B4",{"$f":"INDEX(Table!$F:$F,MATCH(AA7,Table!$B:$B,0))","v":"Andy White"},{"$f":"INDEX(Table!$G:$G,MATCH(AA7,Table!$B:$B,0))","v":-0.73125000000000195},"C4",{"$f":"INDEX(Table!$F:$F,MATCH(AD7,Table!$B:$B,0))","v":"Mal Stott"},{"$f":"INDEX(Table!$G:$G,MATCH(AD7,Table!$B:$B,0))","v":8.5024999999999995},"D4",{"$f":"INDEX(Table!$F:$F,MATCH(AG7,Table!$B:$B,0))","v":"Ashley Houghton"},{"$f":"INDEX(Table!$G:$G,MATCH(AG7,Table!$B:$B,0))","v":-0.34499999999999886}]
["A5",null,5,{"$f":"INDEX(Table!G:G,MATCH($A8,Table!$B:$B,0))","v":1.8700000000000028},{"$f":"INDEX(Table!H:H,MATCH($A8,Table!$B:$B,0))","v":3},{"$f":"INDEX(Table!F:F,MATCH($A8,Table!$B:$B,0))","v":"Stephen Barr"},{"$f":"INDEX(Table!I:I,MATCH($A8,Table!$B:$B,0))","v":6.7200000000000024},{"$f":"INDEX(Table!J:J,MATCH($A8,Table!$B:$B,0))","v":2},null,5,null,{"$f":"INDEX(Weekly!E:E,MATCH($J8,Weekly!B:B,0))","v":"Charlie Griffiths"},null,null,null,{"$f":"INDEX(Weekly!H:H,MATCH($J8,Weekly!B:B,0))","v":10.919999999999998},null,5,null,null,null,null,null,"A5",{"$f":"INDEX(Table!F:F,MATCH(X8,Table!$B:$B,0))","v":"Stephen Barr"},{"$f":"INDEX(Table!G:G,MATCH(X8,Table!$B:$B,0))","v":1.8700000000000028},"B5",{"$f":"INDEX(Table!$F:$F,MATCH(AA8,Table!$B:$B,0))","v":"Phil Miller"},{"$f":"INDEX(Table!$G:$G,MATCH(AA8,Table!$B:$B,0))","v":-1.6428571428571432},"C5",{"$f":"INDEX(Table!$F:$F,MATCH(AD8,Table!$B:$B,0))","v":"Charlie Griffiths"},{"$f":"INDEX(Table!$G:$G,MATCH(AD8,Table!$B:$B,0))","v":7.3199999999999985},"D5",{"$f":"INDEX(Table!$F:$F,MATCH(AG8,Table!$B:$B,0))","v":"Graham Miller"},{"$f":"INDEX(Table!$G:$G,MATCH(AG8,Table!$B:$B,0))","v":-3.4425000000000017}]
["A6",null,6,{"$f":"INDEX(Table!G:G,MATCH($A9,Table!$B:$B,0))","v":1.6730769230769234},{"$f":"INDEX(Table!H:H,MATCH($A9,Table!$B:$B,0))","v":3},{"$f":"INDEX(Table!F:F,MATCH($A9,Table!$B:$B,0))","v":"Kevin Carter"},{"$f":"INDEX(Table!I:I,MATCH($A9,Table!$B:$B,0))","v":8.6730769230769234},{"$f":"INDEX(Table!J:J,MATCH($A9,Table!$B:$B,0))","v":3},null,6,null,{"$f":"INDEX(Weekly!E:E,MATCH($J9,Weekly!B:B,0))","v":"Alick Rocca"},null,null,null,{"$f":"INDEX(Weekly!H:H,MATCH($J9,Weekly!B:B,0))","v":10.806250000000002},null,6,null,null,null,null,null,"A6",{"$f":"INDEX(Table!F:F,MATCH(X9,Table!$B:$B,0))","v":"Kevin Carter"},{"$f":"INDEX(Table!G:G,MATCH(X9,Table!$B:$B,0))","v":1.6730769230769234},"B6",{"$f":"INDEX(Table!$F:$F,MATCH(AA9,Table!$B:$B,0))","v":"Nigel Heyes"},{"$f":"INDEX(Table!$G:$G,MATCH(AA9,Table!$B:$B,0))","v":-2.8200000000000003},"C6",{"$f":"INDEX(Table!$F:$F,MATCH(AD9,Table!$B:$B,0))","v":"Paul Ridgeway"},{"$f":"INDEX(Table!$G:$G,MATCH(AD9,Table!$B:$B,0))","v":4.3507692307692292},"D6",{"$f":"INDEX(Table!$F:$F,MATCH(AG9,Table!$B:$B,0))","v":"Martin Tarbuck"},{"$f":"INDEX(Table!$G:$G,MATCH(AG9,Table!$B:$B,0))","v":-4.6000000000000005}]
["B1","Division B",1,{"$f":"INDEX(Table!G:G,MATCH($A10,Table!$B:$B,0))","v":10.03857142857143},{"$f":"INDEX(Table!H:H,MATCH($A10,Table!$B:$B,0))","v":5},{"$f":"INDEX(Table!F:F,MATCH($A10,Table!$B:$B,0))","v":"Steve Baxter"},{"$f":"INDEX(Table!I:I,MATCH($A10,Table!$B:$B,0))","v":0},{"$f":"INDEX(Table!J:J,MATCH($A10,Table!$B:$B,0))","v":2},null,7,null,{"$f":"INDEX(Weekly!E:E,MATCH($J10,Weekly!B:B,0))","v":"Kevin Carter"},null,null,null,{"$f":"INDEX(Weekly!H:H,MATCH($J10,Weekly!B:B,0))","v":8.6730769230769234},null,7,null,null,null,null,null,"A7",{"$f":"INDEX(Table!F:F,MATCH(X10,Table!$B:$B,0))","v":"Paul Fiddler"},{"$f":"INDEX(Table!G:G,MATCH(X10,Table!$B:$B,0))","v":0.30750000000000011},"B7",{"$f":"INDEX(Table!$F:$F,MATCH(AA10,Table!$B:$B,0))","v":"Dave Bell"},{"$f":"INDEX(Table!$G:$G,MATCH(AA10,Table!$B:$B,0))","v":-3},"C7",{"$f":"INDEX(Table!$F:$F,MATCH(AD10,Table!$B:$B,0))","v":"Sally Williams"},{"$f":"INDEX(Table!$G:$G,MATCH(AD10,Table!$B:$B,0))","v":1.46875},"D7",{"$f":"INDEX(Table!$F:$F,MATCH(AG10,Table!$B:$B,0))","v":"Nick Blocksidge"},{"$f":"INDEX(Table!$G:$G,MATCH(AG10,Table!$B:$B,0))","v":-6.2928571428571427}]
["B2",null,2,{"$f":"INDEX(Table!G:G,MATCH($A11,Table!$B:$B,0))","v":6.6875},{"$f":"INDEX(Table!H:H,MATCH($A11,Table!$B:$B,0))","v":4},{"$f":"INDEX(Table!F:F,MATCH($A11,Table!$B:$B,0))","v":"Vinny Topping"},{"$f":"INDEX(Table!I:I,MATCH($A11,Table!$B:$B,0))","v":3.0625},{"$f":"INDEX(Table!J:J,MATCH($A11,Table!$B:$B,0))","v":2},null,8,null,"Paul Barnes",null,null,null,8.67,null,8,null,null,null,null,null,"A8",{"$f":"INDEX(Table!F:F,MATCH(X11,Table!$B:$B,0))","v":"Alan Rogers"},{"$f":"INDEX(Table!G:G,MATCH(X11,Table!$B:$B,0))","v":-3.9999999999999147E-2},"B8",{"$f":"INDEX(Table!$F:$F,MATCH(AA11,Table!$B:$B,0))","v":"Gareth Powell"},{"$f":"INDEX(Table!$G:$G,MATCH(AA11,Table!$B:$B,0))","v":-4.4807692307692299},"C8",{"$f":"INDEX(Table!$F:$F,MATCH(AD11,Table!$B:$B,0))","v":"Liam Wah"},{"$f":"INDEX(Table!$G:$G,MATCH(AD11,Table!$B:$B,0))","v":9.9999999999998757E-2},"D8",{"$f":"INDEX(Table!$F:$F,MATCH(AG11,Table!$B:$B,0))","v":"Paul Adderley"},{"$f":"INDEX(Table!$G:$G,MATCH(AG11,Table!$B:$B,0))","v":-6.4615384615384617}]
["B3",null,3,{"$f":"INDEX(Table!G:G,MATCH($A12,Table!$B:$B,0))","v":5},{"$f":"INDEX(Table!H:H,MATCH($A12,Table!$B:$B,0))","v":2},{"$f":"INDEX(Table!F:F,MATCH($A12,Table!$B:$B,0))","v":"Pete Baron"},{"$f":"INDEX(Table!I:I,MATCH($A12,Table!$B:$B,0))","v":-7},{"$f":"INDEX(Table!J:J,MATCH($A12,Table!$B:$B,0))","v":0},null,9,null,{"$f":"INDEX(Weekly!E:E,MATCH($J12,Weekly!B:B,0))","v":"Stephen Barr"},null,null,null,{"$f":"INDEX(Weekly!H:H,MATCH($J12,Weekly!B:B,0))","v":6.7200000000000024},null,9,null,null,null,null,null,"A9",{"$f":"INDEX(Table!F:F,MATCH(X12,Table!$B:$B,0))","v":"Chris Luck"},{"$f":"INDEX(Table!G:G,MATCH(X12,Table!$B:$B,0))","v":-1.8249999999999993},"B9",{"$f":"INDEX(Table!$F:$F,MATCH(AA12,Table!$B:$B,0))","v":"Kei Lok Ma"},{"$f":"INDEX(Table!$G:$G,MATCH(AA12,Table!$B:$B,0))","v":-5.3925000000000018},"C9",{"$f":"INDEX(Table!$F:$F,MATCH(AD12,Table!$B:$B,0))","v":"David Dunn"},{"$f":"INDEX(Table!$G:$G,MATCH(AD12,Table!$B:$B,0))","v":-1.61868131868132},"D9",{"$f":"INDEX(Table!$F:$F,MATCH(AG12,Table!$B:$B,0))","v":"John Ronan"},{"$f":"INDEX(Table!$G:$G,MATCH(AG12,Table!$B:$B,0))","v":-9.6999999999999993}]
["B4",null,4,{"$f":"INDEX(Table!G:G,MATCH($A13,Table!$B:$B,0))","v":-0.73125000000000195},{"$f":"INDEX(Table!H:H,MATCH($A13,Table!$B:$B,0))","v":3},{"$f":"INDEX(Table!F:F,MATCH($A13,Table!$B:$B,0))","v":"Andy White"},{"$f":"INDEX(Table!I:I,MATCH($A13,Table!$B:$B,0))","v":-4.55},{"$f":"INDEX(Table!J:J,MATCH($A13,Table!$B:$B,0))","v":1},null,10,null,{"$f":"INDEX(Weekly!E:E,MATCH($J13,Weekly!B:B,0))","v":"Mal Stott"},null,null,null,{"$f":"INDEX(Weekly!H:H,MATCH($J13,Weekly!B:B,0))","v":5.9499999999999993},null,10,null,null,null,null,null,"A10",{"$f":"INDEX(Table!F:F,MATCH(X13,Table!$B:$B,0))","v":"Lennie Bow"},{"$f":"INDEX(Table!G:G,MATCH(X13,Table!$B:$B,0))","v":-3.1687500000000002},"B10",{"$f":"INDEX(Table!$F:$F,MATCH(AA13,Table!$B:$B,0))","v":"Martin Molyneux"},{"$f":"INDEX(Table!$G:$G,MATCH(AA13,Table!$B:$B,0))","v":-6.3250000000000002},"C10",{"$f":"INDEX(Table!$F:$F,MATCH(AD13,Table!$B:$B,0))","v":"Andy Charleston"},{"$f":"INDEX(Table!$G:$G,MATCH(AD13,Table!$B:$B,0))","v":-3.1000000000000005},"D10",{"$f":"INDEX(Table!$F:$F,MATCH(AG13,Table!$B:$B,0))","v":"Joel Bent"},{"$f":"INDEX(Table!$G:$G,MATCH(AG13,Table!$B:$B,0))","v":-10.778571428571428}]
["B5",null,5,{"$f":"INDEX(Table!G:G,MATCH($A14,Table!$B:$B,0))","v":-1.6428571428571432},{"$f":"INDEX(Table!H:H,MATCH($A14,Table!$B:$B,0))","v":3},{"$f":"INDEX(Table!F:F,MATCH($A14,Table!$B:$B,0))","v":"Phil Miller"},{"$f":"INDEX(Table!I:I,MATCH($A14,Table!$B:$B,0))","v":-4.7},{"$f":"INDEX(Table!J:J,MATCH($A14,Table!$B:$B,0))","v":1},null,11,null,{"$f":"INDEX(Weekly!E:E,MATCH($J14,Weekly!B:B,0))","v":"Chris Luck"},null,null,null,{"$f":"INDEX(Weekly!H:H,MATCH($J14,Weekly!B:B,0))","v":5.1750000000000007},null,11,null,null,null,null,null,"A11",{"$f":"INDEX(Table!F:F,MATCH(X14,Table!$B:$B,0))","v":"Stephen Troop"},{"$f":"INDEX(Table!G:G,MATCH(X14,Table!$B:$B,0))","v":-6.2807692307692307},"B11",{"$f":"INDEX(Table!$F:$F,MATCH(AA14,Table!$B:$B,0))","v":"John Evans"},{"$f":"INDEX(Table!$G:$G,MATCH(AA14,Table!$B:$B,0))","v":-8.125},"C11",{"$f":"INDEX(Table!$F:$F,MATCH(AD14,Table!$B:$B,0))","v":"Chris Griffin"},{"$f":"INDEX(Table!$G:$G,MATCH(AD14,Table!$B:$B,0))","v":-5.2846153846153854},"D11",{"$f":"INDEX(Table!$F:$F,MATCH(AG14,Table!$B:$B,0))","v":"Ben Rosser"},{"$f":"INDEX(Table!$G:$G,MATCH(AG14,Table!$B:$B,0))","v":-11.95}]
["B6",null,6,{"$f":"INDEX(Table!G:G,MATCH($A15,Table!$B:$B,0))","v":-2.8200000000000003},{"$f":"INDEX(Table!H:H,MATCH($A15,Table!$B:$B,0))","v":3},{"$f":"INDEX(Table!F:F,MATCH($A15,Table!$B:$B,0))","v":"Nigel Heyes"},{"$f":"INDEX(Table!I:I,MATCH($A15,Table!$B:$B,0))","v":2.0299999999999994},{"$f":"INDEX(Table!J:J,MATCH($A15,Table!$B:$B,0))","v":2},null,12,null,"Chris Townsed/Dave Bell",null,null,null,{"$f":"INDEX(Weekly!H:H,MATCH($J15,Weekly!B:B,0))","v":4},null,12,null,null,null,null,null,"A12",{"$f":"INDEX(Table!F:F,MATCH(X15,Table!$B:$B,0))","v":"Mo Sudell"},{"$f":"INDEX(Table!G:G,MATCH(X15,Table!$B:$B,0))","v":-6.3928571428571432},"B12",{"$f":"INDEX(Table!$F:$F,MATCH(AA15,Table!$B:$B,0))","v":"Barry Birchall"},{"$f":"INDEX(Table!$G:$G,MATCH(AA15,Table!$B:$B,0))","v":-8.4428571428571431},"C12",{"$f":"INDEX(Table!$F:$F,MATCH(AD15,Table!$B:$B,0))","v":"Jack Walsh"},{"$f":"INDEX(Table!$G:$G,MATCH(AD15,Table!$B:$B,0))","v":-6.3692307692307697},"D12",{"$f":"INDEX(Table!$F:$F,MATCH(AG15,Table!$B:$B,0))","v":"Howard Bradley"},{"$f":"INDEX(Table!$G:$G,MATCH(AG15,Table!$B:$B,0))","v":-12.428571428571429}]
["C1","Division C",1,{"$f":"INDEX(Table!G:G,MATCH($A16,Table!$B:$B,0))","v":203.72},{"$f":"INDEX(Table!H:H,MATCH($A16,Table!$B:$B,0))","v":4},{"$f":"INDEX(Table!F:F,MATCH($A16,Table!$B:$B,0))","v":"Paul Fairhurst"},{"$f":"INDEX(Table!I:I,MATCH($A16,Table!$B:$B,0))","v":208.72},{"$f":"INDEX(Table!J:J,MATCH($A16,Table!$B:$B,0))","v":3},null,null,null,null,null,null,null,null,null,13,null,null,null,null,null,"A13",{"$f":"INDEX(Table!F:F,MATCH(X16,Table!$B:$B,0))","v":"Oscar Jackson"},{"$f":"INDEX(Table!G:G,MATCH(X16,Table!$B:$B,0))","v":-10.55},"B13",{"$f":"INDEX(Table!$F:$F,MATCH(AA16,Table!$B:$B,0))","v":"Paul Allen"},{"$f":"INDEX(Table!$G:$G,MATCH(AA16,Table!$B:$B,0))","v":-9.3999999999999986},"C13",{"$f":"INDEX(Table!$F:$F,MATCH(AD16,Table!$B:$B,0))","v":"Alan White"},{"$f":"INDEX(Table!$G:$G,MATCH(AD16,Table!$B:$B,0))","v":-6.5750000000000002},"D13",{"$f":"INDEX(Table!$F:$F,MATCH(AG16,Table!$B:$B,0))","v":"Simon Greenhalgh"},{"$f":"INDEX(Table!$G:$G,MATCH(AG16,Table!$B:$B,0))","v":-12.5}]
["C2",null,2,{"$f":"INDEX(Table!G:G,MATCH($A17,Table!$B:$B,0))","v":193.13},{"$f":"INDEX(Table!H:H,MATCH($A17,Table!$B:$B,0))","v":6},{"$f":"INDEX(Table!F:F,MATCH($A17,Table!$B:$B,0))","v":"Chris Bow"},{"$f":"INDEX(Table!I:I,MATCH($A17,Table!$B:$B,0))","v":150.1},{"$f":"INDEX(Table!J:J,MATCH($A17,Table!$B:$B,0))","v":3},null,null,"Popular bets",null,null,null,null,null,null,14,null,null,null,null,null,"A14",{"$f":"INDEX(Table!F:F,MATCH(X17,Table!$B:$B,0))","v":"Alfie Davies"},{"$f":"INDEX(Table!G:G,MATCH(X17,Table!$B:$B,0))","v":-10.75},"B14",{"$f":"INDEX(Table!$F:$F,MATCH(AA17,Table!$B:$B,0))","v":"Mark Bunn"},{"$f":"INDEX(Table!$G:$G,MATCH(AA17,Table!$B:$B,0))","v":-9.4499999999999993},"C14",{"$f":"INDEX(Table!$F:$F,MATCH(AD17,Table!$B:$B,0))","v":"Gareth McGuire"},{"$f":"INDEX(Table!$G:$G,MATCH(AD17,Table!$B:$B,0))","v":-9.8999999999999986},"D14",{"$f":"INDEX(Table!$F:$F,MATCH(AG17,Table!$B:$B,0))","v":"Dan Baxter"},{"$f":"INDEX(Table!$G:$G,MATCH(AG17,Table!$B:$B,0))","v":-14}]
["C3",null,3,{"$f":"INDEX(Table!G:G,MATCH($A18,Table!$B:$B,0))","v":15.375},{"$f":"INDEX(Table!H:H,MATCH($A18,Table!$B:$B,0))","v":3},{"$f":"INDEX(Table!F:F,MATCH($A18,Table!$B:$B,0))","v":"Chris Townsend"},{"$f":"INDEX(Table!I:I,MATCH($A18,Table!$B:$B,0))","v":4},{"$f":"INDEX(Table!J:J,MATCH($A18,Table!$B:$B,0))","v":1},null,null,"Top Nap ↑","Arsenal",{"$f":"IF(L18=\"\",\"\",INDEX(Picks!K:K,MATCH(L18,Picks!J:J,0)))","v":"1/2"},null,{"$f":"IF(N18=\"\",\"\",INDEX(Picks!K:K,MATCH(N18,Picks!J:J,0)))","v":""},12,null,15,null,null,null,null,null,"A15",{"$f":"INDEX(Table!F:F,MATCH(X18,Table!$B:$B,0))","v":"Mike Penk"},{"$f":"INDEX(Table!G:G,MATCH(X18,Table!$B:$B,0))","v":-11.3},"B15",{"$f":"INDEX(Table!$F:$F,MATCH(AA18,Table!$B:$B,0))","v":"Tom Robinson"},{"$f":"INDEX(Table!$G:$G,MATCH(AA18,Table!$B:$B,0))","v":-14},"C15",{"$f":"INDEX(Table!$F:$F,MATCH(AD18,Table!$B:$B,0))","v":"Ian Davies"},{"$f":"INDEX(Table!$G:$G,MATCH(AD18,Table!$B:$B,0))","v":-11.125},"D15"]
["C4",null,4,{"$f":"INDEX(Table!G:G,MATCH($A19,Table!$B:$B,0))","v":8.5024999999999995},{"$f":"INDEX(Table!H:H,MATCH($A19,Table!$B:$B,0))","v":4},{"$f":"INDEX(Table!F:F,MATCH($A19,Table!$B:$B,0))","v":"Mal Stott"},{"$f":"INDEX(Table!I:I,MATCH($A19,Table!$B:$B,0))","v":5.9499999999999993},{"$f":"INDEX(Table!J:J,MATCH($A19,Table!$B:$B,0))","v":2},null,null,"Coupon-Buster ↓","Newcastle",{"$f":"IF(L19=\"\",\"\",INDEX(Picks!K:K,MATCH(L19,Picks!J:J,0)))","v":"31/20"},null,{"$f":"IF(N19=\"\",\"\",INDEX(Picks!K:K,MATCH(N19,Picks!J:J,0)))","v":""},14,null,16,null,null,null,null,null,"A16",{"$f":"INDEX(Table!F:F,MATCH(X19,Table!$B:$B,0))","v":"Rob England"},{"$f":"INDEX(Table!G:G,MATCH(X19,Table!$B:$B,0))","v":-11.375},"B16",{"$f":"INDEX(Table!$F:$F,MATCH(AA19,Table!$B:$B,0))","v":"James Bell"},{"$f":"INDEX(Table!$G:$G,MATCH(AA19,Table!$B:$B,0))","v":-14},"C16",{"$f":"INDEX(Table!$F:$F,MATCH(AD19,Table!$B:$B,0))","v":"Gareth Fallows"},{"$f":"INDEX(Table!$G:$G,MATCH(AD19,Table!$B:$B,0))","v":-14},"D16"]
["C5",null,5,{"$f":"INDEX(Table!G:G,MATCH($A20,Table!$B:$B,0))","v":7.3199999999999985},{"$f":"INDEX(Table!H:H,MATCH($A20,Table!$B:$B,0))","v":3},{"$f":"INDEX(Table!F:F,MATCH($A20,Table!$B:$B,0))","v":"Charlie Griffiths"},{"$f":"INDEX(Table!I:I,MATCH($A20,Table!$B:$B,0))","v":10.919999999999998},{"$f":"INDEX(Table!J:J,MATCH($A20,Table!$B:$B,0))","v":2},null,null,"Long Shot 🤞","Palace",{"$f":"IF(L20=\"\",\"\",INDEX(Picks!K:K,MATCH(L20,Picks!J:J,0)))","v":"10/1"},null,{"$f":"IF(N20=\"\",\"\",INDEX(Picks!K:K,MATCH(N20,Picks!J:J,0)))","v":""},5,null,17,null,null,null,null,null,null,null,null,null,null,null,null,null,null,"D17"]
["C6",null,6,{"$f":"INDEX(Table!G:G,MATCH($A21,Table!$B:$B,0))","v":4.3507692307692292},{"$f":"INDEX(Table!H:H,MATCH($A21,Table!$B:$B,0))","v":4},{"$f":"INDEX(Table!F:F,MATCH($A21,Table!$B:$B,0))","v":"Paul Ridgeway"},{"$f":"INDEX(Table!I:I,MATCH($A21,Table!$B:$B,0))","v":-1.069230769230769},{"$f":"INDEX(Table!J:J,MATCH($A21,Table!$B:$B,0))","v":2},null,null,"Bravest Max! 👊 ",{"$f":"INDEX(Picks!AH:AH,MATCH(P21,Picks!AI:AI,0))","v":"Dave Bell"},{"$f":"IF(L21=\"\",\"\",(INDEX(Picks!AJ:AJ,MATCH(P21,Picks!AI:AI,0)))&\" in\")","v":"1 in"},null,{"$f":"IF(N21=\"\",\"\",(INDEX(Picks!AJ:AJ,MATCH(P21,Picks!AI:AI,0)))&\" in\")","v":""},{"$f":"MAX(Picks!AI:AI)","v":538},null,18,null,null,null,null,null,null,null,null,null,null,null,null,null,null,"D18"]
["D1","Division D",1,{"$f":"INDEX(Table!G:G,MATCH($A22,Table!$B:$B,0))","v":23.606249999999996},{"$f":"INDEX(Table!H:H,MATCH($A22,Table!$B:$B,0))","v":4},{"$f":"INDEX(Table!F:F,MATCH($A22,Table!$B:$B,0))","v":"Dave Orrell"},{"$f":"INDEX(Table!I:I,MATCH($A22,Table!$B:$B,0))","v":28.506249999999994},{"$f":"INDEX(Table!J:J,MATCH($A22,Table!$B:$B,0))","v":3},null,null,"Mardest Max! 👶",{"$f":"INDEX(Picks!AH:AH,MATCH(P22,Picks!AI:AI,0))","v":"Paul Adderley"},{"$f":"IF(L22=\"\",\"\",(INDEX(Picks!AJ:AJ,MATCH(P22,Picks!AI:AI,0)))&\" in\")","v":"2 in"},null,{"$f":"IF(N22=\"\",\"\",INDEX(Picks!AJ:AJ,MATCH(P22,Picks!AI:AI,0))&\" in\")","v":""},{"$f":"MIN(Picks!AI:AI)","v":6.9450549450549453},null,19,null,null,null,null,null,null,null,null,null,null,null,null,null,null,"D19"]
["D2",null,2,{"$f":"INDEX(Table!G:G,MATCH($A23,Table!$B:$B,0))","v":1.6730769230769234},{"$f":"INDEX(Table!H:H,MATCH($A23,Table!$B:$B,0))","v":3},{"$f":"INDEX(Table!F:F,MATCH($A23,Table!$B:$B,0))","v":"Paul Barnes"},{"$f":"INDEX(Table!I:I,MATCH($A23,Table!$B:$B,0))","v":8.6730769230769234},{"$f":"INDEX(Table!J:J,MATCH($A23,Table!$B:$B,0))","v":3},null,null,null,null,null,null,null,null,null,20,null,null,null,null,null,null,null,null,null,null,null,null,null,null,"D20"]
["D3",null,3,{"$f":"INDEX(Table!G:G,MATCH($A24,Table!$B:$B,0))","v":-0.23500000000000121},{"$f":"INDEX(Table!H:H,MATCH($A24,Table!$B:$B,0))","v":3},{"$f":"INDEX(Table!F:F,MATCH($A24,Table!$B:$B,0))","v":"Lewis Buckley"},{"$f":"INDEX(Table!I:I,MATCH($A24,Table!$B:$B,0))","v":-5.35},{"$f":"INDEX(Table!J:J,MATCH($A24,Table!$B:$B,0))","v":1},null,null,"How did we all do?"]
["D4",null,4,{"$f":"INDEX(Table!G:G,MATCH($A25,Table!$B:$B,0))","v":-0.34499999999999886},{"$f":"INDEX(Table!H:H,MATCH($A25,Table!$B:$B,0))","v":4},{"$f":"INDEX(Table!F:F,MATCH($A25,Table!$B:$B,0))","v":"Ashley Houghton"},{"$f":"INDEX(Table!I:I,MATCH($A25,Table!$B:$B,0))","v":-0.625},{"$f":"INDEX(Table!J:J,MATCH($A25,Table!$B:$B,0))","v":2},null,null,{"$f":"'3of3'!$B$5","v":7},"got 3 correct",null,null,null,null,null,null,null,null,null,null,null,null,{"$f":"'3of3'!$B$5","v":7}]
["D5",null,5,{"$f":"INDEX(Table!G:G,MATCH($A26,Table!$B:$B,0))","v":-3.4425000000000017},{"$f":"INDEX(Table!H:H,MATCH($A26,Table!$B:$B,0))","v":3},{"$f":"INDEX(Table!F:F,MATCH($A26,Table!$B:$B,0))","v":"Graham Miller"},{"$f":"INDEX(Table!I:I,MATCH($A26,Table!$B:$B,0))","v":-5.05},{"$f":"INDEX(Table!J:J,MATCH($A26,Table!$B:$B,0))","v":1},null,null,{"$f":"'3of3'!$B$6","v":22},"got 2 correct",null,null,null,null,null,null,null,null,null,null,null,null,{"$f":"'3of3'!$B$6","v":22}]
["D6",null,6,{"$f":"INDEX(Table!G:G,MATCH($A27,Table!$B:$B,0))","v":-4.6000000000000005},{"$f":"INDEX(Table!H:H,MATCH($A27,Table!$B:$B,0))","v":3},{"$f":"INDEX(Table!F:F,MATCH($A27,Table!$B:$B,0))","v":"Martin Tarbuck"},{"$f":"INDEX(Table!I:I,MATCH($A27,Table!$B:$B,0))","v":-4.7},{"$f":"INDEX(Table!J:J,MATCH($A27,Table!$B:$B,0))","v":1},null,null,{"$f":"'3of3'!$B$7","v":23},"got 1 correct",null,null,null,null,null,null,null,null,null,null,null,null,{"$f":"'3of3'!$B$7","v":23}]
[null,null,null,null,null,null,null,null,null,null,{"$f":"'3of3'!$B$8","v":10},"got 0 correct, of which…",null,null,null,null,null,null,null,null,null,null,null,null,{"$f":"'3of3'!$B$8","v":10}]
[null,null,null,null,null,null,null,null,null,null,2,"… failed to submit"]
[]
[]
[null,null,null,null,null,null,null,null,null,null,null,null,null,null,null,"Put back to M22",null,null,null,null,null,null,null,null,"Put back to M21"]
[null,null,null,null,null,null,null,null,null,null,null,null,null,null,null,{"$f":"MIN(Picks!AI:AI)","v":6.9450549450549453},null,null,null,null,null,null,null,null,{"$f":"MAX(Picks!AI:AI)","v":538}]

{"sheet":"PizzaRace","index":14,"n_rows":30,"n_cols":12,"rows_kept":30,"cut":false,"hidden":false,"merged":[]}
[null,"Total\nScore","Total\nCorrect","Max Score\nThis Week","Act Score\nThis Week","Week\nCorrect","Week\nRank",null,null,"Max Score\nThis Week","Act Score\nThis Week","Season\nSo Far"]
["John Evans",{"$f":"IF(A2=\"\",\"\",INDEX(Table!G:G,MATCH(A2,Table!$F:$F,0)))","v":-8.125},{"$f":"IF(A2=\"\",\"\",INDEX(Table!H:H,MATCH(A2,Table!$F:$F,0)))","v":2},{"$f":"IF(A2=\"\",\"\",IF(ISERROR(INDEX(Results!AI:AI,MATCH(A2,Results!$V:$V,0))),\"TBC\",INDEX(Results!AI:AI,MATCH(A2,Results!$V:$V,0))))","v":34.466874999999995},{"$f":"IF(A2=\"\",\"\",INDEX(Table!I:I,MATCH(A2,Table!$F:$F,0)))","v":-4.375},{"$f":"IF(A2=\"\",\"\",INDEX(Table!J:J,MATCH(A2,Table!$F:$F,0)))","v":1},{"$f":"IF(A2=\"\",\"\",INDEX(Picks!AF:AF,MATCH(A2,Picks!$AC:$AC,0)))","v":34},null,"Chris Griffin",{"$f":"IF(I2=\"\",\"\",IF(ISERROR(INDEX(Results!AI:AI,MATCH(I2,Results!$V:$V,0))),\"TBC\",INDEX(Results!AI:AI,MATCH(I2,Results!$V:$V,0))))","v":13.603076923076923},{"$f":"IF(I2=\"\",\"\",IF(ISERROR(INDEX(Results!T:T,MATCH(I2,Results!$V:$V,0))),\"TBC\",INDEX(Results!T:T,MATCH(I2,Results!$V:$V,0))))","v":-0.28461538461538538},{"$f":"IF(I2=\"\",\"\",INDEX(Table!G:G,MATCH(I2,Table!$F:$F,0)))","v":-5.2846153846153854}]
["Mo Sudell",{"$f":"IF(A3=\"\",\"\",INDEX(Table!G:G,MATCH(A3,Table!$F:$F,0)))","v":-6.3928571428571432},{"$f":"IF(A3=\"\",\"\",INDEX(Table!H:H,MATCH(A3,Table!$F:$F,0)))","v":3},{"$f":"IF(A3=\"\",\"\",IF(ISERROR(INDEX(Results!AI:AI,MATCH(A3,Results!$V:$V,0))),\"TBC\",INDEX(Results!AI:AI,MATCH(A3,Results!$V:$V,0))))","v":10.032142857142858},{"$f":"IF(A3=\"\",\"\",INDEX(Table!I:I,MATCH(A3,Table!$F:$F,0)))","v":-1.4428571428571431},{"$f":"IF(A3=\"\",\"\",INDEX(Table!J:J,MATCH(A3,Table!$F:$F,0)))","v":2},{"$f":"IF(A3=\"\",\"\",INDEX(Picks!AF:AF,MATCH(A3,Picks!$AC:$AC,0)))","v":26},null,"Mo Sudell",{"$f":"IF(I3=\"\",\"\",IF(ISERROR(INDEX(Results!AI:AI,MATCH(I3,Results!$V:$V,0))),\"TBC\",INDEX(Results!AI:AI,MATCH(I3,Results!$V:$V,0))))","v":10.032142857142858},{"$f":"IF(I3=\"\",\"\",IF(ISERROR(INDEX(Results!T:T,MATCH(I3,Results!$V:$V,0))),\"TBC\",INDEX(Results!T:T,MATCH(I3,Results!$V:$V,0))))","v":-1.4428571428571431},{"$f":"IF(I3=\"\",\"\",INDEX(Table!G:G,MATCH(I3,Table!$F:$F,0)))","v":-6.3928571428571432}]
["Paul Fiddler",{"$f":"IF(A4=\"\",\"\",INDEX(Table!G:G,MATCH(A4,Table!$F:$F,0)))","v":0.30750000000000011},{"$f":"IF(A4=\"\",\"\",INDEX(Table!H:H,MATCH(A4,Table!$F:$F,0)))","v":4},{"$f":"IF(A4=\"\",\"\",IF(ISERROR(INDEX(Results!AI:AI,MATCH(A4,Results!$V:$V,0))),\"TBC\",INDEX(Results!AI:AI,MATCH(A4,Results!$V:$V,0))))","v":28.240749999999991},{"$f":"IF(A4=\"\",\"\",INDEX(Table!I:I,MATCH(A4,Table!$F:$F,0)))","v":1.2925000000000004},{"$f":"IF(A4=\"\",\"\",INDEX(Table!J:J,MATCH(A4,Table!$F:$F,0)))","v":2},{"$f":"IF(A4=\"\",\"\",INDEX(Picks!AF:AF,MATCH(A4,Picks!$AC:$AC,0)))","v":17},null,"Andy Charleston",{"$f":"IF(I4=\"\",\"\",IF(ISERROR(INDEX(Results!AI:AI,MATCH(I4,Results!$V:$V,0))),\"TBC\",INDEX(Results!AI:AI,MATCH(I4,Results!$V:$V,0))))","v":29.96725},{"$f":"IF(I4=\"\",\"\",IF(ISERROR(INDEX(Results!T:T,MATCH(I4,Results!$V:$V,0))),\"TBC\",INDEX(Results!T:T,MATCH(I4,Results!$V:$V,0))))","v":-4.55},{"$f":"IF(I4=\"\",\"\",INDEX(Table!G:G,MATCH(I4,Table!$F:$F,0)))","v":-3.1000000000000005}]
["Chris Griffin",{"$f":"IF(A5=\"\",\"\",INDEX(Table!G:G,MATCH(A5,Table!$F:$F,0)))","v":-5.2846153846153854},{"$f":"IF(A5=\"\",\"\",INDEX(Table!H:H,MATCH(A5,Table!$F:$F,0)))","v":3},{"$f":"IF(A5=\"\",\"\",IF(ISERROR(INDEX(Results!AI:AI,MATCH(A5,Results!$V:$V,0))),\"TBC\",INDEX(Results!AI:AI,MATCH(A5,Results!$V:$V,0))))","v":13.603076923076923},{"$f":"IF(A5=\"\",\"\",INDEX(Table!I:I,MATCH(A5,Table!$F:$F,0)))","v":-0.28461538461538538},{"$f":"IF(A5=\"\",\"\",INDEX(Table!J:J,MATCH(A5,Table!$F:$F,0)))","v":2},{"$f":"IF(A5=\"\",\"\",INDEX(Picks!AF:AF,MATCH(A5,Picks!$AC:$AC,0)))","v":21},null,"Paul Fiddler",{"$f":"IF(I5=\"\",\"\",IF(ISERROR(INDEX(Results!AI:AI,MATCH(I5,Results!$V:$V,0))),\"TBC\",INDEX(Results!AI:AI,MATCH(I5,Results!$V:$V,0))))","v":28.240749999999991},{"$f":"IF(I5=\"\",\"\",IF(ISERROR(INDEX(Results!T:T,MATCH(I5,Results!$V:$V,0))),\"TBC\",INDEX(Results!T:T,MATCH(I5,Results!$V:$V,0))))","v":1.2925000000000004},{"$f":"IF(I5=\"\",\"\",INDEX(Table!G:G,MATCH(I5,Table!$F:$F,0)))","v":0.30750000000000011}]
["Andy Charleston",{"$f":"IF(A6=\"\",\"\",INDEX(Table!G:G,MATCH(A6,Table!$F:$F,0)))","v":-3.1000000000000005},{"$f":"IF(A6=\"\",\"\",INDEX(Table!H:H,MATCH(A6,Table!$F:$F,0)))","v":3},{"$f":"IF(A6=\"\",\"\",IF(ISERROR(INDEX(Results!AI:AI,MATCH(A6,Results!$V:$V,0))),\"TBC\",INDEX(Results!AI:AI,MATCH(A6,Results!$V:$V,0))))","v":29.96725},{"$f":"IF(A6=\"\",\"\",INDEX(Table!I:I,MATCH(A6,Table!$F:$F,0)))","v":-4.55},{"$f":"IF(A6=\"\",\"\",INDEX(Table!J:J,MATCH(A6,Table!$F:$F,0)))","v":1},{"$f":"IF(A6=\"\",\"\",INDEX(Picks!AF:AF,MATCH(A6,Picks!$AC:$AC,0)))","v":36},null,"John Evans",{"$f":"IF(I6=\"\",\"\",IF(ISERROR(INDEX(Results!AI:AI,MATCH(I6,Results!$V:$V,0))),\"TBC\",INDEX(Results!AI:AI,MATCH(I6,Results!$V:$V,0))))","v":34.466874999999995},{"$f":"IF(I6=\"\",\"\",IF(ISERROR(INDEX(Results!T:T,MATCH(I6,Results!$V:$V,0))),\"TBC\",INDEX(Results!T:T,MATCH(I6,Results!$V:$V,0))))","v":-4.375},{"$f":"IF(I6=\"\",\"\",INDEX(Table!G:G,MATCH(I6,Table!$F:$F,0)))","v":-8.125}]
[null,null,{"$f":"IF(A7=\"\",\"\",INDEX(Table!H:H,MATCH(A7,Table!$F:$F,0)))","v":""}]
[null,null,{"$f":"IF(A8=\"\",\"\",INDEX(Table!H:H,MATCH(A8,Table!$F:$F,0)))","v":""}]
[null,null,{"$f":"IF(A9=\"\",\"\",INDEX(Table!H:H,MATCH(A9,Table!$F:$F,0)))","v":""}]
[null,null,{"$f":"IF(A10=\"\",\"\",INDEX(Table!H:H,MATCH(A10,Table!$F:$F,0)))","v":""}]
[null,null,{"$f":"IF(A11=\"\",\"\",INDEX(Table!H:H,MATCH(A11,Table!$F:$F,0)))","v":""}]
[null,null,{"$f":"IF(A12=\"\",\"\",INDEX(Table!H:H,MATCH(A12,Table!$F:$F,0)))","v":""}]
[null,null,{"$f":"IF(A13=\"\",\"\",INDEX(Table!H:H,MATCH(A13,Table!$F:$F,0)))","v":""}]
[null,null,{"$f":"IF(A14=\"\",\"\",INDEX(Table!H:H,MATCH(A14,Table!$F:$F,0)))","v":""}]
[null,null,{"$f":"IF(A15=\"\",\"\",INDEX(Table!H:H,MATCH(A15,Table!$F:$F,0)))","v":""}]
[null,null,{"$f":"IF(A16=\"\",\"\",INDEX(Table!H:H,MATCH(A16,Table!$F:$F,0)))","v":""}]
[null,null,{"$f":"IF(A17=\"\",\"\",INDEX(Table!H:H,MATCH(A17,Table!$F:$F,0)))","v":""}]
[null,null,{"$f":"IF(A18=\"\",\"\",INDEX(Table!H:H,MATCH(A18,Table!$F:$F,0)))","v":""}]
[null,null,{"$f":"IF(A19=\"\",\"\",INDEX(Table!H:H,MATCH(A19,Table!$F:$F,0)))","v":""}]
[null,null,{"$f":"IF(A20=\"\",\"\",INDEX(Table!H:H,MATCH(A20,Table!$F:$F,0)))","v":""}]
[null,null,{"$f":"IF(A21=\"\",\"\",INDEX(Table!H:H,MATCH(A21,Table!$F:$F,0)))","v":""}]
[null,null,{"$f":"IF(A22=\"\",\"\",INDEX(Table!H:H,MATCH(A22,Table!$F:$F,0)))","v":""}]
[null,null,{"$f":"IF(A23=\"\",\"\",INDEX(Table!H:H,MATCH(A23,Table!$F:$F,0)))","v":""}]
[null,null,{"$f":"IF(A24=\"\",\"\",INDEX(Table!H:H,MATCH(A24,Table!$F:$F,0)))","v":""}]
[null,null,{"$f":"IF(A25=\"\",\"\",INDEX(Table!H:H,MATCH(A25,Table!$F:$F,0)))","v":""}]
[null,null,{"$f":"IF(A26=\"\",\"\",INDEX(Table!H:H,MATCH(A26,Table!$F:$F,0)))","v":""}]
[null,null,{"$f":"IF(A27=\"\",\"\",INDEX(Table!H:H,MATCH(A27,Table!$F:$F,0)))","v":""}]
[null,null,{"$f":"IF(A28=\"\",\"\",INDEX(Table!H:H,MATCH(A28,Table!$F:$F,0)))","v":""}]
[null,null,{"$f":"IF(A29=\"\",\"\",INDEX(Table!H:H,MATCH(A29,Table!$F:$F,0)))","v":""}]
[null,null,{"$f":"IF(A30=\"\",\"\",INDEX(Table!H:H,MATCH(A30,Table!$F:$F,0)))","v":""}]

{"sheet":"CupDraw","index":15,"n_rows":93,"n_cols":31,"rows_kept":93,"cut":false,"hidden":false,"merged":[[86,8,87,8],[90,8,91,8],[1,14,2,14],[85,26,86,26],[84,14,85,14],[88,14,89,14],[69,26,70,26],[76,14,77,14],[80,14,81,14]]}
["Number of Entrants",62,null,null,null,"Draw #","Entrants",null,"Prelim",{"$f":"$C$14","v":""},null,null,"Score",null,"R1 (64)",{"$f":"$C$15","v":"2020-09-26"},null,null,"Score",null,"R2 (32)",{"$f":"$C$16","v":"2020-10-17"},null,null,"Score",null,"R3 (16)",{"$f":"$C$17","v":"2020-11-07"},null,null,"Score"]
["Number of rounds (7 if > 64 total)",6,null,null,null,1,"Gerard Ventom",null,1,null,null,{"$f":"IF(K2=\"\",\"\",IF(K2=K3,\"R\",\"\"))","v":""},{"$f":"INDEX(Results!T:T,MATCH(J2,Results!V:V,0))","v":{"$error":"#N/A"}},null,1,"Gerard Ventom",null,{"$f":"IF(Q2=\"\",\"\",IF(Q2=Q3,\"R\",\"\"))","v":""},{"$f":"INDEX(Results!T:T,MATCH(P2,Results!V:V,0))","v":164.8},null,1,{"$f":"IF(Q2=Q3,\"Await earlier tie\",IF(Q2<Q3,P3,P2))","v":"Await earlier tie"},null,{"$f":"IF(W2=\"\",\"\",IF(W2=W3,\"R\",\"\"))","v":""},{"$f":"INDEX(Results!T:T,MATCH(V2,Results!V:V,0))","v":{"$error":"#N/A"}},null,1,{"$f":"IF(W2=W3,\"Await earlier tie\",IF(W2<W3,V3,V2))","v":"Await earlier tie"},null,{"$f":"IF(AC2=\"\",\"\",IF(AC2=AC3,\"R\",\"\"))","v":""},{"$f":"INDEX(Results!T:T,MATCH(AB2,Results!V:V,0))","v":{"$error":"#N/A"}}]
[null,null,null,null,null,2,"Rob England",null,null,null,null,null,{"$f":"INDEX(Results!T:T,MATCH(J3,Results!V:V,0))","v":{"$error":"#N/A"}},null,null,"Rob England",null,null,{"$f":"INDEX(Results!T:T,MATCH(P3,Results!V:V,0))","v":-4.375},null,null,{"$f":"IF(Q4=Q5,\"Await earlier tie\",IF(Q4<Q5,P5,P4))","v":"Await earlier tie"},null,null,{"$f":"INDEX(Results!T:T,MATCH(V3,Results!V:V,0))","v":{"$error":"#N/A"}},null,null,{"$f":"IF(W4=W5,\"Await earlier tie\",IF(W4<W5,V5,V4))","v":"Await earlier tie"},null,null,{"$f":"INDEX(Results!T:T,MATCH(AB3,Results!V:V,0))","v":{"$error":"#N/A"}}]
["Byes into round 1",{"$f":"(POWER(2,B2)-B1)","v":2},null,null,null,3,"Pete Baron",null,2,null,null,{"$f":"IF(K4=\"\",\"\",IF(K4=K5,\"R\",\"\"))","v":""},{"$f":"INDEX(Results!T:T,MATCH(J4,Results!V:V,0))","v":{"$error":"#N/A"}},null,2,"Pete Baron",null,{"$f":"IF(Q4=\"\",\"\",IF(Q4=Q5,\"R\",\"\"))","v":""},{"$f":"INDEX(Results!T:T,MATCH(P4,Results!V:V,0))","v":-7},null,2,{"$f":"IF(Q6=Q7,\"Await earlier tie\",IF(Q6<Q7,P7,P6))","v":"Await earlier tie"},null,{"$f":"IF(W4=\"\",\"\",IF(W4=W5,\"R\",\"\"))","v":""},{"$f":"INDEX(Results!T:T,MATCH(V4,Results!V:V,0))","v":{"$error":"#N/A"}},null,2,{"$f":"IF(W6=W7,\"Await earlier tie\",IF(W6<W7,V7,V6))","v":"Await earlier tie"},null,{"$f":"IF(AC4=\"\",\"\",IF(AC4=AC5,\"R\",\"\"))","v":""},{"$f":"INDEX(Results!T:T,MATCH(AB4,Results!V:V,0))","v":{"$error":"#N/A"}}]
[null,null,null,null,null,4,"Mark Saunders",null,null,null,null,null,{"$f":"INDEX(Results!T:T,MATCH(J5,Results!V:V,0))","v":{"$error":"#N/A"}},null,null,"Mark Saunders",null,null,{"$f":"INDEX(Results!T:T,MATCH(P5,Results!V:V,0))","v":-5.5},null,null,{"$f":"IF(Q9=Q8,\"Await earlier tie\",IF(Q8<Q9,P9,P8))","v":"Await earlier tie"},null,null,{"$f":"INDEX(Results!T:T,MATCH(V5,Results!V:V,0))","v":{"$error":"#N/A"}},null,null,{"$f":"IF(W8=W9,\"Await earlier tie\",IF(W8<W9,V9,V8))","v":"Await earlier tie"},null,null,{"$f":"INDEX(Results!T:T,MATCH(AB5,Results!V:V,0))","v":{"$error":"#N/A"}}]
["Fixtures in PreliminaryRound/Round 1",{"$f":"(B1-B4)/2","v":30},null,null,null,5,"Dan Baxter",null,3,null,null,{"$f":"IF(K6=\"\",\"\",IF(K6=K7,\"R\",\"\"))","v":""},{"$f":"INDEX(Results!T:T,MATCH(J6,Results!V:V,0))","v":{"$error":"#N/A"}},null,3,"Dan Baxter",null,{"$f":"IF(Q6=\"\",\"\",IF(Q6=Q7,\"R\",\"\"))","v":""},{"$f":"INDEX(Results!T:T,MATCH(P6,Results!V:V,0))","v":-7},null,3,{"$f":"IF(Q10=Q11,\"Await earlier tie\",IF(Q10<Q11,P11,P10))","v":"Await earlier tie"},null,{"$f":"IF(W6=\"\",\"\",IF(W6=W7,\"R\",\"\"))","v":""},{"$f":"INDEX(Results!T:T,MATCH(V6,Results!V:V,0))","v":{"$error":"#N/A"}},null,3,{"$f":"IF(W10=W11,\"Await earlier tie\",IF(W10<W11,V11,V10))","v":"Await earlier tie"},null,{"$f":"IF(AC6=\"\",\"\",IF(AC6=AC7,\"R\",\"\"))","v":""},{"$f":"INDEX(Results!T:T,MATCH(AB6,Results!V:V,0))","v":{"$error":"#N/A"}}]
[null,null,null,null,null,6,"Ian Davies",null,null,null,null,null,{"$f":"INDEX(Results!T:T,MATCH(J7,Results!V:V,0))","v":{"$error":"#N/A"}},null,null,"Ian Davies",null,null,{"$f":"INDEX(Results!T:T,MATCH(P7,Results!V:V,0))","v":-4.125},null,null,{"$f":"IF(Q12=Q13,\"Await earlier tie\",IF(Q12<Q13,P13,P12))","v":"Await earlier tie"},null,null,{"$f":"INDEX(Results!T:T,MATCH(V7,Results!V:V,0))","v":{"$error":"#N/A"}},null,null,{"$f":"IF(W12=W13,\"Await earlier tie\",IF(W12<W13,V13,V12))","v":"Await earlier tie"},null,null,{"$f":"INDEX(Results!T:T,MATCH(AB7,Results!V:V,0))","v":{"$error":"#N/A"}}]
["Current Round","Prelim",null,null,null,7,"Nick Blocksidge",null,4,null,null,{"$f":"IF(K8=\"\",\"\",IF(K8=K9,\"R\",\"\"))","v":""},{"$f":"INDEX(Results!T:T,MATCH(J8,Results!V:V,0))","v":{"$error":"#N/A"}},null,4,"Nick Blocksidge",null,{"$f":"IF(Q8=\"\",\"\",IF(Q8=Q9,\"R\",\"\"))","v":""},{"$f":"INDEX(Results!T:T,MATCH(P8,Results!V:V,0))","v":-1.4428571428571431},null,4,{"$f":"IF(Q14=Q15,\"Await earlier tie\",IF(Q14<Q15,P15,P14))","v":"Await earlier tie"},null,{"$f":"IF(W8=\"\",\"\",IF(W8=W9,\"R\",\"\"))","v":""},{"$f":"INDEX(Results!T:T,MATCH(V8,Results!V:V,0))","v":{"$error":"#N/A"}},null,4,{"$f":"IF(W14=W15,\"Await earlier tie\",IF(W14<W15,V15,V14))","v":"Await earlier tie"},null,{"$f":"IF(AC8=\"\",\"\",IF(AC8=AC9,\"R\",\"\"))","v":""},{"$f":"INDEX(Results!T:T,MATCH(AB8,Results!V:V,0))","v":{"$error":"#N/A"}}]
[null,null,null,null,null,8,"Ben Rosser",null,null,null,null,null,{"$f":"INDEX(Results!T:T,MATCH(J9,Results!V:V,0))","v":{"$error":"#N/A"}},null,null,"Ben Rosser",null,null,{"$f":"INDEX(Results!T:T,MATCH(P9,Results!V:V,0))","v":-7},null,null,{"$f":"IF(Q16=Q17,\"Await earlier tie\",IF(Q16<Q17,P17,P16))","v":"Await earlier tie"},null,null,{"$f":"INDEX(Results!T:T,MATCH(V9,Results!V:V,0))","v":{"$error":"#N/A"}},null,null,{"$f":"IF(W16=W17,\"Await earlier tie\",IF(W16<W17,V17,V16))","v":"Await earlier tie"},null,null,{"$f":"INDEX(Results!T:T,MATCH(AB9,Results!V:V,0))","v":{"$error":"#N/A"}}]
[null,null,null,null,null,9,"Phil Miller",null,5,null,null,{"$f":"IF(K10=\"\",\"\",IF(K10=K11,\"R\",\"\"))","v":""},{"$f":"INDEX(Results!T:T,MATCH(J10,Results!V:V,0))","v":{"$error":"#N/A"}},null,5,"Phil Miller",null,{"$f":"IF(Q10=\"\",\"\",IF(Q10=Q11,\"R\",\"\"))","v":""},{"$f":"INDEX(Results!T:T,MATCH(P10,Results!V:V,0))","v":-4.7},null,5,{"$f":"IF(Q18=Q19,\"Await earlier tie\",IF(Q18<Q19,P19,P18))","v":"Await earlier tie"},null,{"$f":"IF(W10=\"\",\"\",IF(W10=W11,\"R\",\"\"))","v":""},{"$f":"INDEX(Results!T:T,MATCH(V10,Results!V:V,0))","v":{"$error":"#N/A"}},null,5,{"$f":"IF(W18=W19,\"Await earlier tie\",IF(W18<W19,V19,V18))","v":"Await earlier tie"},null,{"$f":"IF(AC10=\"\",\"\",IF(AC10=AC11,\"R\",\"\"))","v":""},{"$f":"INDEX(Results!T:T,MATCH(AB10,Results!V:V,0))","v":{"$error":"#N/A"}}]
["Random number generator",null,null,null,null,10,"Ashley Houghton",null,null,null,null,null,{"$f":"INDEX(Results!T:T,MATCH(J11,Results!V:V,0))","v":{"$error":"#N/A"}},null,null,"Ashley Houghton",null,null,{"$f":"INDEX(Results!T:T,MATCH(P11,Results!V:V,0))","v":-0.625},null,null,{"$f":"IF(Q20=Q21,\"Await earlier tie\",IF(Q20<Q21,P21,P20))","v":"Await earlier tie"},null,null,{"$f":"INDEX(Results!T:T,MATCH(V11,Results!V:V,0))","v":{"$error":"#N/A"}},null,null,{"$f":"IF(W20=W21,\"Await earlier tie\",IF(W20<W21,V21,V20))","v":"Await earlier tie"},null,null,{"$f":"INDEX(Results!T:T,MATCH(AB11,Results!V:V,0))","v":{"$error":"#N/A"}}]
[null,null,null,null,null,11,"Chris Griffin",null,6,null,null,{"$f":"IF(K12=\"\",\"\",IF(K12=K13,\"R\",\"\"))","v":""},{"$f":"INDEX(Results!T:T,MATCH(J12,Results!V:V,0))","v":{"$error":"#N/A"}},null,6,"Chris Griffin",null,{"$f":"IF(Q12=\"\",\"\",IF(Q12=Q13,\"R\",\"\"))","v":""},{"$f":"INDEX(Results!T:T,MATCH(P12,Results!V:V,0))","v":-0.28461538461538538},null,6,{"$f":"IF(Q22=Q23,\"Await earlier tie\",IF(Q22<Q23,P23,P22))","v":"Await earlier tie"},null,{"$f":"IF(W12=\"\",\"\",IF(W12=W13,\"R\",\"\"))","v":""},{"$f":"INDEX(Results!T:T,MATCH(V12,Results!V:V,0))","v":{"$error":"#N/A"}},null,6,{"$f":"IF(W22=W23,\"Await earlier tie\",IF(W22<W23,V23,V22))","v":"Await earlier tie"},null,{"$f":"IF(AC12=\"\",\"\",IF(AC12=AC13,\"R\",\"\"))","v":""},{"$f":"INDEX(Results!T:T,MATCH(AB12,Results!V:V,0))","v":{"$error":"#N/A"}}]
[null,"Week","Saturday","D/W",null,12,"Dave Orrell",null,null,null,null,null,{"$f":"INDEX(Results!T:T,MATCH(J13,Results!V:V,0))","v":{"$error":"#N/A"}},null,null,"Dave Orrell",null,null,{"$f":"INDEX(Results!T:T,MATCH(P13,Results!V:V,0))","v":28.506249999999994},null,null,{"$f":"IF(Q24=Q25,\"Await earlier tie\",IF(Q24<Q25,P25,P24))","v":"Await earlier tie"},null,null,{"$f":"INDEX(Results!T:T,MATCH(V13,Results!V:V,0))","v":{"$error":"#N/A"}},null,null,{"$f":"IF(W24=W25,\"Await earlier tie\",IF(W24<W25,V25,V24))","v":"Await earlier tie"},null,null,{"$f":"INDEX(Results!T:T,MATCH(AB13,Results!V:V,0))","v":{"$error":"#N/A"}}]
["Preliminary Round",null,{"$f":"IF(ISERROR(INDEX(Diary!B:B,MATCH(B14,Diary!C:C,0))),\"\",INDEX(Diary!B:B,MATCH(B14,Diary!C:C,0)))","v":""},{"$f":"IF(C14=\"\",\"\",IF(INDEX(Diary!D:D,MATCH(B14,Diary!C:C,0))=\"*\",\"*\",\" \"))","v":""},null,13,"Alick Rocca",null,7,null,null,{"$f":"IF(K14=\"\",\"\",IF(K14=K15,\"R\",\"\"))","v":""},{"$f":"INDEX(Results!T:T,MATCH(J14,Results!V:V,0))","v":{"$error":"#N/A"}},null,7,"Alick Rocca",null,{"$f":"IF(Q14=\"\",\"\",IF(Q14=Q15,\"R\",\"\"))","v":""},{"$f":"INDEX(Results!T:T,MATCH(P14,Results!V:V,0))","v":10.806250000000002},null,7,{"$f":"IF(Q26=Q27,\"Await earlier tie\",IF(Q26<Q27,P27,P26))","v":"Await earlier tie"},null,{"$f":"IF(W14=\"\",\"\",IF(W14=W15,\"R\",\"\"))","v":""},{"$f":"INDEX(Results!T:T,MATCH(V14,Results!V:V,0))","v":{"$error":"#N/A"}},null,7,{"$f":"IF(W26=W27,\"Await earlier tie\",IF(W26<W27,V27,V26))","v":"Await earlier tie"},null,{"$f":"IF(AC14=\"\",\"\",IF(AC14=AC15,\"R\",\"\"))","v":""},{"$f":"INDEX(Results!T:T,MATCH(AB14,Results!V:V,0))","v":{"$error":"#N/A"}}]
["Round 1",4,{"$f":"IF(ISERROR(INDEX(Diary!B:B,MATCH(B15,Diary!C:C,0))),\"\",INDEX(Diary!B:B,MATCH(B15,Diary!C:C,0)))","v":"2020-09-26"},{"$f":"IF(INDEX(Diary!D:D,MATCH(B15,Diary!C:C,0))=\"D\",\"*\",\" \")","v":"*"},null,14,"Joel Bent",null,null,null,null,null,{"$f":"INDEX(Results!T:T,MATCH(J15,Results!V:V,0))","v":{"$error":"#N/A"}},null,null,"Joel Bent",null,null,{"$f":"INDEX(Results!T:T,MATCH(P15,Results!V:V,0))","v":-5.35},null,null,{"$f":"IF(Q28=Q29,\"Await earlier tie\",IF(Q28<Q29,P29,P28))","v":"Await earlier tie"},null,null,{"$f":"INDEX(Results!T:T,MATCH(V15,Results!V:V,0))","v":{"$error":"#N/A"}},null,null,{"$f":"IF(W28=W29,\"Await earlier tie\",IF(W28<W29,V29,V28))","v":"Await earlier tie"},null,null,{"$f":"INDEX(Results!T:T,MATCH(AB15,Results!V:V,0))","v":{"$error":"#N/A"}}]
["Round 2",7,{"$f":"IF(ISERROR(INDEX(Diary!B:B,MATCH(B16,Diary!C:C,0))),\"\",INDEX(Diary!B:B,MATCH(B16,Diary!C:C,0)))","v":"2020-10-17"},{"$f":"IF(INDEX(Diary!D:D,MATCH(B16,Diary!C:C,0))=\"D\",\"*\",\" \")","v":" "},null,15,"Oscar Jackson",null,8,null,null,{"$f":"IF(K16=\"\",\"\",IF(K16=K17,\"R\",\"\"))","v":""},{"$f":"INDEX(Results!T:T,MATCH(J16,Results!V:V,0))","v":{"$error":"#N/A"}},null,8,"Oscar Jackson",null,{"$f":"IF(Q16=\"\",\"\",IF(Q16=Q17,\"R\",\"\"))","v":""},{"$f":"INDEX(Results!T:T,MATCH(P16,Results!V:V,0))","v":-5.5},null,8,{"$f":"IF(Q30=Q31,\"Await earlier tie\",IF(Q30<Q31,P31,P30))","v":"Await earlier tie"},null,{"$f":"IF(W16=\"\",\"\",IF(W16=W17,\"R\",\"\"))","v":""},{"$f":"INDEX(Results!T:T,MATCH(V16,Results!V:V,0))","v":{"$error":"#N/A"}},null,8,{"$f":"IF(W30=W31,\"Await earlier tie\",IF(W30<W31,V31,V30))","v":"Await earlier tie"},null,{"$f":"IF(AC16=\"\",\"\",IF(AC16=AC17,\"R\",\"\"))","v":""},{"$f":"INDEX(Results!T:T,MATCH(AB16,Results!V:V,0))","v":{"$error":"#N/A"}}]
["Round 3",10,{"$f":"IF(ISERROR(INDEX(Diary!B:B,MATCH(B17,Diary!C:C,0))),\"\",INDEX(Diary!B:B,MATCH(B17,Diary!C:C,0)))","v":"2020-11-07"},{"$f":"IF(INDEX(Diary!D:D,MATCH(B17,Diary!C:C,0))=\"D\",\"*\",\" \")","v":" "},null,16,"Lennie Bow",null,null,null,null,null,{"$f":"INDEX(Results!T:T,MATCH(J17,Results!V:V,0))","v":{"$error":"#N/A"}},null,null,"Lennie Bow",null,null,{"$f":"INDEX(Results!T:T,MATCH(P17,Results!V:V,0))","v":1.8812499999999996},null,null,{"$f":"IF(Q32=Q33,\"Await earlier tie\",IF(Q32<Q33,P33,P32))","v":"Await earlier tie"},null,null,{"$f":"INDEX(Results!T:T,MATCH(V17,Results!V:V,0))","v":{"$error":"#N/A"}},null,null,{"$f":"IF(W32=W33,\"Await earlier tie\",IF(W32<W33,V33,V32))","v":"Await earlier tie"},null,null,{"$f":"INDEX(Results!T:T,MATCH(AB17,Results!V:V,0))","v":{"$error":"#N/A"}}]
["Quarter Final",13,{"$f":"IF(ISERROR(INDEX(Diary!B:B,MATCH(B18,Diary!C:C,0))),\"\",INDEX(Diary!B:B,MATCH(B18,Diary!C:C,0)))","v":"2020-11-21"},{"$f":"IF(INDEX(Diary!D:D,MATCH(B18,Diary!C:C,0))=\"D\",\"*\",\" \")","v":" "},null,17,"Alan Rogers",null,9,null,null,{"$f":"IF(K18=\"\",\"\",IF(K18=K19,\"R\",\"\"))","v":""},{"$f":"INDEX(Results!T:T,MATCH(J18,Results!V:V,0))","v":{"$error":"#N/A"}},null,9,"Alan Rogers",null,{"$f":"IF(Q18=\"\",\"\",IF(Q18=Q19,\"R\",\"\"))","v":""},{"$f":"INDEX(Results!T:T,MATCH(P18,Results!V:V,0))","v":-7},null,9,{"$f":"IF(Q34=Q35,\"Await earlier tie\",IF(Q34<Q35,P35,P34))","v":"Await earlier tie"},null,{"$f":"IF(W18=\"\",\"\",IF(W18=W19,\"R\",\"\"))","v":""},{"$f":"INDEX(Results!T:T,MATCH(V18,Results!V:V,0))","v":{"$error":"#N/A"}}]
["Semi-Final",16,{"$f":"IF(ISERROR(INDEX(Diary!B:B,MATCH(B19,Diary!C:C,0))),\"\",INDEX(Diary!B:B,MATCH(B19,Diary!C:C,0)))","v":"2020-12-05"},{"$f":"IF(INDEX(Diary!D:D,MATCH(B19,Diary!C:C,0))=\"D\",\"*\",\" \")","v":"*"},null,18,"James Bell",null,null,null,null,null,{"$f":"INDEX(Results!T:T,MATCH(J19,Results!V:V,0))","v":{"$error":"#N/A"}},null,null,"James Bell",null,null,{"$f":"INDEX(Results!T:T,MATCH(P19,Results!V:V,0))","v":-7},null,null,{"$f":"IF(Q36=Q37,\"Await earlier tie\",IF(Q36<Q37,P37,P36))","v":"Await earlier tie"},null,null,{"$f":"INDEX(Results!T:T,MATCH(V19,Results!V:V,0))","v":{"$error":"#N/A"}}]
["Final",18,{"$f":"IF(ISERROR(INDEX(Diary!B:B,MATCH(B20,Diary!C:C,0))),\"\",INDEX(Diary!B:B,MATCH(B20,Diary!C:C,0)))","v":"2020-12-16"},{"$f":"IF(INDEX(Diary!D:D,MATCH(B20,Diary!C:C,0))=\"D\",\"*\",\" \")","v":" "},null,19,"Mike Penk",null,10,null,null,{"$f":"IF(K20=\"\",\"\",IF(K20=K21,\"R\",\"\"))","v":""},{"$f":"INDEX(Results!T:T,MATCH(J20,Results!V:V,0))","v":{"$error":"#N/A"}},null,10,"Mike Penk",null,{"$f":"IF(Q20=\"\",\"\",IF(Q20=Q21,\"R\",\"\"))","v":""},{"$f":"INDEX(Results!T:T,MATCH(P20,Results!V:V,0))","v":-4.3},null,10,{"$f":"IF(Q38=Q39,\"Await earlier tie\",IF(Q38<Q39,P39,P38))","v":"Await earlier tie"},null,{"$f":"IF(W20=\"\",\"\",IF(W20=W21,\"R\",\"\"))","v":""},{"$f":"INDEX(Results!T:T,MATCH(V20,Results!V:V,0))","v":{"$error":"#N/A"}}]
[null,null,null,null,null,20,"Sally Williams",null,null,null,null,null,{"$f":"INDEX(Results!T:T,MATCH(J21,Results!V:V,0))","v":{"$error":"#N/A"}},null,null,"Sally Williams",null,null,{"$f":"INDEX(Results!T:T,MATCH(P21,Results!V:V,0))","v":-7},null,null,{"$f":"IF(Q40=Q41,\"Await earlier tie\",IF(Q40<Q41,P41,P40))","v":"Await earlier tie"},null,null,{"$f":"INDEX(Results!T:T,MATCH(V21,Results!V:V,0))","v":{"$error":"#N/A"}},null,"Earlier Ties"]
[null,null,null,null,null,21,"John Evans",null,11,null,null,{"$f":"IF(K22=\"\",\"\",IF(K22=K23,\"R\",\"\"))","v":""},{"$f":"INDEX(Results!T:T,MATCH(J22,Results!V:V,0))","v":{"$error":"#N/A"}},null,11,"John Evans",null,{"$f":"IF(Q22=\"\",\"\",IF(Q22=Q23,\"R\",\"\"))","v":""},{"$f":"INDEX(Results!T:T,MATCH(P22,Results!V:V,0))","v":-4.375},null,11,{"$f":"IF(Q42=Q43,\"Await earlier tie\",IF(Q42<Q43,P43,P42))","v":"Await earlier tie"},null,{"$f":"IF(W22=\"\",\"\",IF(W22=W23,\"R\",\"\"))","v":""},{"$f":"INDEX(Results!T:T,MATCH(V22,Results!V:V,0))","v":{"$error":"#N/A"}}]
[null,null,null,null,null,22,"Stephen Barr",null,null,null,null,null,{"$f":"INDEX(Results!T:T,MATCH(J23,Results!V:V,0))","v":{"$error":"#N/A"}},null,null,"Stephen Barr",null,null,{"$f":"INDEX(Results!T:T,MATCH(P23,Results!V:V,0))","v":6.7200000000000024},null,null,{"$f":"IF(Q44=Q45,\"Await earlier tie\",IF(Q44<Q45,P45,P44))","v":"Await earlier tie"},null,null,{"$f":"INDEX(Results!T:T,MATCH(V23,Results!V:V,0))","v":{"$error":"#N/A"}}]
[null,null,null,null,null,23,"Andy Charleston",null,12,null,null,{"$f":"IF(K24=\"\",\"\",IF(K24=K25,\"R\",\"\"))","v":""},{"$f":"INDEX(Results!T:T,MATCH(J24,Results!V:V,0))","v":{"$error":"#N/A"}},null,12,"Andy Charleston",null,{"$f":"IF(Q24=\"\",\"\",IF(Q24=Q25,\"R\",\"\"))","v":""},{"$f":"INDEX(Results!T:T,MATCH(P24,Results!V:V,0))","v":-4.55},null,12,{"$f":"IF(Q46=Q47,\"Await earlier tie\",IF(Q46<Q47,P47,P46))","v":"Await earlier tie"},null,{"$f":"IF(W24=\"\",\"\",IF(W24=W25,\"R\",\"\"))","v":""},{"$f":"INDEX(Results!T:T,MATCH(V24,Results!V:V,0))","v":{"$error":"#N/A"}}]
[null,null,null,null,null,24,"Martin Tarbuck",null,null,null,null,null,{"$f":"INDEX(Results!T:T,MATCH(J25,Results!V:V,0))","v":{"$error":"#N/A"}},null,null,"Martin Tarbuck",null,null,{"$f":"INDEX(Results!T:T,MATCH(P25,Results!V:V,0))","v":-4.7},null,null,{"$f":"IF(Q48=Q49,\"Await earlier tie\",IF(Q48<Q49,P49,P48))","v":"Await earlier tie"},null,null,{"$f":"INDEX(Results!T:T,MATCH(V25,Results!V:V,0))","v":{"$error":"#N/A"}}]
[null,null,null,null,null,25,"David Dunn",null,13,null,null,{"$f":"IF(K26=\"\",\"\",IF(K26=K27,\"R\",\"\"))","v":""},{"$f":"INDEX(Results!T:T,MATCH(J26,Results!V:V,0))","v":{"$error":"#N/A"}},null,13,"David Dunn",null,{"$f":"IF(Q26=\"\",\"\",IF(Q26=Q27,\"R\",\"\"))","v":""},{"$f":"INDEX(Results!T:T,MATCH(P26,Results!V:V,0))","v":-1.4615384615384617},null,13,{"$f":"IF(Q50=Q51,\"Await earlier tie\",IF(Q50<Q51,P51,P50))","v":"Await earlier tie"},null,{"$f":"IF(W26=\"\",\"\",IF(W26=W27,\"R\",\"\"))","v":""},{"$f":"INDEX(Results!T:T,MATCH(V26,Results!V:V,0))","v":{"$error":"#N/A"}},null,null,null,null,{"$f":"IF(AC26=\"\",\"\",IF(AC26=AC27,\"R\",\"\"))","v":""}]
[null,null,null,null,null,26,"Simon Greenhalgh",null,null,null,null,null,{"$f":"INDEX(Results!T:T,MATCH(J27,Results!V:V,0))","v":{"$error":"#N/A"}},null,null,"Simon Greenhalgh",null,null,{"$f":"INDEX(Results!T:T,MATCH(P27,Results!V:V,0))","v":-5.5},null,null,{"$f":"IF(Q52=Q53,\"Await earlier tie\",IF(Q52<Q53,P53,P52))","v":"Await earlier tie"},null,null,{"$f":"INDEX(Results!T:T,MATCH(V27,Results!V:V,0))","v":{"$error":"#N/A"}}]
[null,null,null,null,null,27,"Graham Miller",null,14,null,null,{"$f":"IF(K28=\"\",\"\",IF(K28=K29,\"R\",\"\"))","v":""},{"$f":"INDEX(Results!T:T,MATCH(J28,Results!V:V,0))","v":{"$error":"#N/A"}},null,14,"Graham Miller",null,{"$f":"IF(Q28=\"\",\"\",IF(Q28=Q29,\"R\",\"\"))","v":""},{"$f":"INDEX(Results!T:T,MATCH(P28,Results!V:V,0))","v":-5.05},null,14,{"$f":"IF(Q54=Q55,\"Await earlier tie\",IF(Q54<Q55,P55,P54))","v":"Await earlier tie"},null,{"$f":"IF(W28=\"\",\"\",IF(W28=W29,\"R\",\"\"))","v":""},{"$f":"INDEX(Results!T:T,MATCH(V28,Results!V:V,0))","v":{"$error":"#N/A"}},null,null,null,null,{"$f":"IF(AC28=\"\",\"\",IF(AC28=AC29,\"R\",\"\"))","v":""}]
[null,null,null,null,null,28,"Gareth Fallows",null,null,null,null,null,{"$f":"INDEX(Results!T:T,MATCH(J29,Results!V:V,0))","v":{"$error":"#N/A"}},null,null,"Gareth Fallows",null,null,{"$f":"INDEX(Results!T:T,MATCH(P29,Results!V:V,0))","v":{"$error":"#VALUE!"}},null,null,{"$f":"IF(Q56=Q57,\"Await earlier tie\",IF(Q56<Q57,P57,P56))","v":"Await earlier tie"},null,null,{"$f":"INDEX(Results!T:T,MATCH(V29,Results!V:V,0))","v":{"$error":"#N/A"}}]
[null,null,null,null,null,29,"Tom Robinson",null,15,null,null,{"$f":"IF(K30=\"\",\"\",IF(K30=K31,\"R\",\"\"))","v":""},{"$f":"INDEX(Results!T:T,MATCH(J30,Results!V:V,0))","v":{"$error":"#N/A"}},null,15,"Tom Robinson",null,{"$f":"IF(Q30=\"\",\"\",IF(Q30=Q31,\"R\",\"\"))","v":""},{"$f":"INDEX(Results!T:T,MATCH(P30,Results!V:V,0))","v":{"$error":"#VALUE!"}},null,15,{"$f":"IF(Q58=Q59,\"Await earlier tie\",IF(Q58<Q59,P59,P58))","v":"Await earlier tie"},null,{"$f":"IF(W30=\"\",\"\",IF(W30=W31,\"R\",\"\"))","v":""},{"$f":"INDEX(Results!T:T,MATCH(V30,Results!V:V,0))","v":{"$error":"#N/A"}}]
[null,null,null,null,null,30,"Mo Sudell",null,null,null,null,null,{"$f":"INDEX(Results!T:T,MATCH(J31,Results!V:V,0))","v":{"$error":"#N/A"}},null,null,"Mo Sudell",null,null,{"$f":"INDEX(Results!T:T,MATCH(P31,Results!V:V,0))","v":-1.4428571428571431},null,null,{"$f":"IF(Q60=Q61,\"Await earlier tie\",IF(Q60<Q61,P61,P60))","v":"Await earlier tie"},null,null,{"$f":"INDEX(Results!T:T,MATCH(V31,Results!V:V,0))","v":{"$error":"#N/A"}}]
[null,null,null,null,null,31,"Paul Fairhurst",null,16,null,null,{"$f":"IF(K32=\"\",\"\",IF(K32=K33,\"R\",\"\"))","v":""},{"$f":"INDEX(Results!T:T,MATCH(J32,Results!V:V,0))","v":{"$error":"#N/A"}},null,16,"Paul Fairhurst",null,{"$f":"IF(Q32=\"\",\"\",IF(Q32=Q33,\"R\",\"\"))","v":""},{"$f":"INDEX(Results!T:T,MATCH(P32,Results!V:V,0))","v":208.72},null,16,{"$f":"IF(Q62=Q63,\"Await earlier tie\",IF(Q62<Q63,P63,P62))","v":"Await earlier tie"},null,{"$f":"IF(W32=\"\",\"\",IF(W32=W33,\"R\",\"\"))","v":""},{"$f":"INDEX(Results!T:T,MATCH(V32,Results!V:V,0))","v":{"$error":"#N/A"}}]
[null,null,null,null,null,32,"Dave Bell",null,null,null,null,null,{"$f":"INDEX(Results!T:T,MATCH(J33,Results!V:V,0))","v":{"$error":"#N/A"}},null,null,"Dave Bell",null,null,{"$f":"INDEX(Results!T:T,MATCH(P33,Results!V:V,0))","v":4},null,null,{"$f":"IF(Q64=Q65,\"Await earlier tie\",IF(Q64<Q65,P65,P64))","v":"Await earlier tie"},null,null,{"$f":"INDEX(Results!T:T,MATCH(V33,Results!V:V,0))","v":{"$error":"#N/A"}}]
[null,null,null,null,null,33,"Barry Birchall",null,17,null,null,{"$f":"IF(K34=\"\",\"\",IF(K34=K35,\"R\",\"\"))","v":""},{"$f":"INDEX(Results!T:T,MATCH(J34,Results!V:V,0))","v":{"$error":"#N/A"}},null,17,"Barry Birchall",null,{"$f":"IF(Q34=\"\",\"\",IF(Q34=Q35,\"R\",\"\"))","v":""},{"$f":"INDEX(Results!T:T,MATCH(P34,Results!V:V,0))","v":-1.4428571428571431}]
[null,null,null,null,null,34,"Martin Molyneux",null,null,null,null,null,{"$f":"INDEX(Results!T:T,MATCH(J35,Results!V:V,0))","v":{"$error":"#N/A"}},null,null,"Martin Molyneux",null,null,{"$f":"INDEX(Results!T:T,MATCH(P35,Results!V:V,0))","v":-1.375}]
[null,null,null,null,null,35,"Mal Stott",null,18,null,null,{"$f":"IF(K36=\"\",\"\",IF(K36=K37,\"R\",\"\"))","v":""},{"$f":"INDEX(Results!T:T,MATCH(J36,Results!V:V,0))","v":{"$error":"#N/A"}},null,18,"Mal Stott",null,{"$f":"IF(Q36=\"\",\"\",IF(Q36=Q37,\"R\",\"\"))","v":""},{"$f":"INDEX(Results!T:T,MATCH(P36,Results!V:V,0))","v":5.9499999999999993}]
[null,null,null,null,null,36,"Nigel Heyes",null,null,null,null,null,{"$f":"INDEX(Results!T:T,MATCH(J37,Results!V:V,0))","v":{"$error":"#N/A"}},null,null,"Nigel Heyes",null,null,{"$f":"INDEX(Results!T:T,MATCH(P37,Results!V:V,0))","v":2.0299999999999994},null,"Replay"]
[null,null,null,null,null,37,"Charlie Griffiths",null,19,null,null,{"$f":"IF(K38=\"\",\"\",IF(K38=K39,\"R\",\"\"))","v":""},{"$f":"INDEX(Results!T:T,MATCH(J38,Results!V:V,0))","v":{"$error":"#N/A"}},null,19,"Charlie Griffiths",null,{"$f":"IF(Q38=\"\",\"\",IF(Q38=Q39,\"R\",\"\"))","v":""},{"$f":"INDEX(Results!T:T,MATCH(P38,Results!V:V,0))","v":10.919999999999998},null,null,null,null,{"$f":"IF(W38=\"\",\"\",IF(W38=W39,\"R\",\"\"))","v":""},{"$f":"INDEX(Results!T:T,MATCH(V38,Results!V:V,0))","v":{"$error":"#N/A"}},null,"QF",{"$f":"$C$18","v":"2020-11-21"}]
[null,null,null,null,null,38,"Andy White",null,null,null,null,null,{"$f":"INDEX(Results!T:T,MATCH(J39,Results!V:V,0))","v":{"$error":"#N/A"}},null,null,"Andy White",null,null,{"$f":"INDEX(Results!T:T,MATCH(P39,Results!V:V,0))","v":-4.55},null,null,null,null,null,{"$f":"INDEX(Results!T:T,MATCH(V39,Results!V:V,0))","v":{"$error":"#N/A"}},null,1,{"$f":"IF(AC2=AC3,\"Await earlier tie\",IF(AC2<AC3,AB3,AB2))","v":"Await earlier tie"},null,{"$f":"IF(AC39=\"\",\"\",IF(AC39=AC40,\"R\",\"\"))","v":""},{"$f":"INDEX(Results!T:T,MATCH(AB39,Results!V:V,0))","v":{"$error":"#N/A"}}]
[null,null,null,null,null,39,"Vinny Topping",null,20,null,null,{"$f":"IF(K40=\"\",\"\",IF(K40=K41,\"R\",\"\"))","v":""},{"$f":"INDEX(Results!T:T,MATCH(J40,Results!V:V,0))","v":{"$error":"#N/A"}},null,20,"Vinny Topping",null,{"$f":"IF(Q40=\"\",\"\",IF(Q40=Q41,\"R\",\"\"))","v":""},{"$f":"INDEX(Results!T:T,MATCH(P40,Results!V:V,0))","v":3.0625},null,null,null,null,{"$f":"IF(W40=\"\",\"\",IF(W40=W41,\"R\",\"\"))","v":""},{"$f":"INDEX(Results!T:T,MATCH(V40,Results!V:V,0))","v":{"$error":"#N/A"}},null,null,{"$f":"IF(AC4=AC5,\"Await earlier tie\",IF(AC4<AC5,AB5,AB4))","v":"Await earlier tie"},null,null,{"$f":"INDEX(Results!T:T,MATCH(AB40,Results!V:V,0))","v":{"$error":"#N/A"}}]
[null,null,null,null,null,40,"Howard Bradley",null,null,null,null,null,{"$f":"INDEX(Results!T:T,MATCH(J41,Results!V:V,0))","v":{"$error":"#N/A"}},null,null,"Howard Bradley",null,null,{"$f":"INDEX(Results!T:T,MATCH(P41,Results!V:V,0))","v":-5.4285714285714288},null,null,null,null,null,{"$f":"INDEX(Results!T:T,MATCH(V41,Results!V:V,0))","v":{"$error":"#N/A"}},null,2,{"$f":"IF(AC6=AC7,\"Await earlier tie\",IF(AC6<AC7,AB7,AB6))","v":"Await earlier tie"},null,{"$f":"IF(AC41=\"\",\"\",IF(AC41=AC42,\"R\",\"\"))","v":""},{"$f":"INDEX(Results!T:T,MATCH(AB41,Results!V:V,0))","v":{"$error":"#N/A"}}]
[null,null,null,null,null,41,"Kevin Carter",null,21,null,null,{"$f":"IF(K42=\"\",\"\",IF(K42=K43,\"R\",\"\"))","v":""},{"$f":"INDEX(Results!T:T,MATCH(J42,Results!V:V,0))","v":{"$error":"#N/A"}},null,21,"Kevin Carter",null,{"$f":"IF(Q42=\"\",\"\",IF(Q42=Q43,\"R\",\"\"))","v":""},{"$f":"INDEX(Results!T:T,MATCH(P42,Results!V:V,0))","v":8.6730769230769234},null,null,null,null,{"$f":"IF(W42=\"\",\"\",IF(W42=W43,\"R\",\"\"))","v":""},{"$f":"INDEX(Results!T:T,MATCH(V42,Results!V:V,0))","v":{"$error":"#N/A"}},null,null,{"$f":"IF(AC8=AC9,\"Await earlier tie\",IF(AC8<AC9,AB9,AB8))","v":"Await earlier tie"},null,null,{"$f":"INDEX(Results!T:T,MATCH(AB42,Results!V:V,0))","v":{"$error":"#N/A"}}]
[null,null,null,null,null,42,"Gareth McGuire",null,null,null,null,null,{"$f":"INDEX(Results!T:T,MATCH(J43,Results!V:V,0))","v":{"$error":"#N/A"}},null,null,"Gareth McGuire",null,null,{"$f":"INDEX(Results!T:T,MATCH(P43,Results!V:V,0))","v":-5.05},null,null,null,null,null,{"$f":"INDEX(Results!T:T,MATCH(V43,Results!V:V,0))","v":{"$error":"#N/A"}},null,3,{"$f":"IF(AC10=AC11,\"Await earlier tie\",IF(AC10<AC11,AB11,AB10))","v":"Await earlier tie"},null,{"$f":"IF(AC43=\"\",\"\",IF(AC43=AC44,\"R\",\"\"))","v":""},{"$f":"INDEX(Results!T:T,MATCH(AB43,Results!V:V,0))","v":{"$error":"#N/A"}}]
[null,null,null,null,null,43,"Alfie Davies",null,22,null,null,{"$f":"IF(K44=\"\",\"\",IF(K44=K45,\"R\",\"\"))","v":""},{"$f":"INDEX(Results!T:T,MATCH(J44,Results!V:V,0))","v":{"$error":"#N/A"}},null,22,"Alfie Davies",null,{"$f":"IF(Q44=\"\",\"\",IF(Q44=Q45,\"R\",\"\"))","v":""},{"$f":"INDEX(Results!T:T,MATCH(P44,Results!V:V,0))","v":-7},null,null,null,null,{"$f":"IF(W44=\"\",\"\",IF(W44=W45,\"R\",\"\"))","v":""},{"$f":"INDEX(Results!T:T,MATCH(V44,Results!V:V,0))","v":{"$error":"#N/A"}},null,null,{"$f":"IF(AC12=AC13,\"Await earlier tie\",IF(AC12<AC13,AB13,AB12))","v":"Await earlier tie"},null,null,{"$f":"INDEX(Results!T:T,MATCH(AB44,Results!V:V,0))","v":{"$error":"#N/A"}}]
[null,null,null,null,null,44,"John Ronan",null,null,null,null,null,{"$f":"INDEX(Results!T:T,MATCH(J45,Results!V:V,0))","v":{"$error":"#N/A"}},null,null,"John Ronan",null,null,{"$f":"INDEX(Results!T:T,MATCH(P45,Results!V:V,0))","v":-4.8499999999999996},null,null,null,null,null,{"$f":"INDEX(Results!T:T,MATCH(V45,Results!V:V,0))","v":{"$error":"#N/A"}},null,4,{"$f":"IF(AC14=AC15,\"Await earlier tie\",IF(AC14<AC15,AB15,AB14))","v":"Await earlier tie"},null,{"$f":"IF(AC45=\"\",\"\",IF(AC45=AC46,\"R\",\"\"))","v":""},{"$f":"INDEX(Results!T:T,MATCH(AB45,Results!V:V,0))","v":{"$error":"#N/A"}}]
[null,null,null,null,null,45,"Jack Walsh",null,23,null,null,"",{"$f":"INDEX(Results!T:T,MATCH(J46,Results!V:V,0))","v":{"$error":"#N/A"}},null,23,"Jack Walsh",null,{"$f":"IF(Q46=\"\",\"\",IF(Q46=Q47,\"R\",\"\"))","v":""},{"$f":"INDEX(Results!T:T,MATCH(P46,Results!V:V,0))","v":0.6307692307692303},null,null,null,null,{"$f":"IF(W46=\"\",\"\",IF(W46=W47,\"R\",\"\"))","v":""},{"$f":"INDEX(Results!T:T,MATCH(V46,Results!V:V,0))","v":{"$error":"#N/A"}},null,null,{"$f":"IF(AC16=AC17,\"Await earlier tie\",IF(AC16<AC17,AB17,AB16))","v":"Await earlier tie"},null,null,{"$f":"INDEX(Results!T:T,MATCH(AB46,Results!V:V,0))","v":{"$error":"#N/A"}}]
[null,null,null,null,null,46,"Paul Adderley",null,null,null,null,null,{"$f":"INDEX(Results!T:T,MATCH(J47,Results!V:V,0))","v":{"$error":"#N/A"}},null,null,"Paul Adderley",null,null,{"$f":"INDEX(Results!T:T,MATCH(P47,Results!V:V,0))","v":-1.4615384615384617},null,null,null,null,null,{"$f":"INDEX(Results!T:T,MATCH(V47,Results!V:V,0))","v":{"$error":"#N/A"}}]
[null,null,null,null,null,47,"Paul Fiddler",null,24,null,null,"",{"$f":"INDEX(Results!T:T,MATCH(J48,Results!V:V,0))","v":{"$error":"#N/A"}},null,24,"Paul Fiddler",null,{"$f":"IF(Q48=\"\",\"\",IF(Q48=Q49,\"R\",\"\"))","v":""},{"$f":"INDEX(Results!T:T,MATCH(P48,Results!V:V,0))","v":1.2925000000000004},null,null,null,null,{"$f":"IF(W48=\"\",\"\",IF(W48=W49,\"R\",\"\"))","v":""},{"$f":"INDEX(Results!T:T,MATCH(V48,Results!V:V,0))","v":{"$error":"#N/A"}}]
[null,null,null,null,null,48,"Chris Townsend",null,null,null,null,null,{"$f":"INDEX(Results!T:T,MATCH(J49,Results!V:V,0))","v":{"$error":"#N/A"}},null,null,"Chris Townsend",null,null,{"$f":"INDEX(Results!T:T,MATCH(P49,Results!V:V,0))","v":4},null,null,null,null,null,{"$f":"INDEX(Results!T:T,MATCH(V49,Results!V:V,0))","v":{"$error":"#N/A"}},null,"Earlier Ties"]
[null,null,null,null,null,49,"Mark Bunn",null,25,null,null,"",{"$f":"INDEX(Results!T:T,MATCH(J50,Results!V:V,0))","v":{"$error":"#N/A"}},null,25,"Mark Bunn",null,{"$f":"IF(Q50=\"\",\"\",IF(Q50=Q51,\"R\",\"\"))","v":""},{"$f":"INDEX(Results!T:T,MATCH(P50,Results!V:V,0))","v":-4.5999999999999996},null,null,null,null,{"$f":"IF(W50=\"\",\"\",IF(W50=W51,\"R\",\"\"))","v":""},{"$f":"INDEX(Results!T:T,MATCH(V50,Results!V:V,0))","v":{"$error":"#N/A"}},null,null,null,null,{"$f":"IF(AC50=\"\",\"\",IF(AC50=AC51,\"R\",\"\"))","v":""}]
[null,null,null,null,null,50,"Stephen Troop",null,null,null,null,null,{"$f":"INDEX(Results!T:T,MATCH(J51,Results!V:V,0))","v":{"$error":"#N/A"}},null,null,"Stephen Troop",null,null,{"$f":"INDEX(Results!T:T,MATCH(P51,Results!V:V,0))","v":-1.3307692307692305},null,null,null,null,null,{"$f":"INDEX(Results!T:T,MATCH(V51,Results!V:V,0))","v":{"$error":"#N/A"}}]
[null,null,null,null,null,51,"Steve Carter",null,26,null,null,"",{"$f":"INDEX(Results!T:T,MATCH(J52,Results!V:V,0))","v":{"$error":"#N/A"}},null,26,"Steve Carter",null,{"$f":"IF(Q52=\"\",\"\",IF(Q52=Q53,\"R\",\"\"))","v":""},{"$f":"INDEX(Results!T:T,MATCH(P52,Results!V:V,0))","v":-4.5999999999999996},null,null,null,null,{"$f":"IF(W52=\"\",\"\",IF(W52=W53,\"R\",\"\"))","v":""},{"$f":"INDEX(Results!T:T,MATCH(V52,Results!V:V,0))","v":{"$error":"#N/A"}},null,null,null,null,{"$f":"IF(AC52=\"\",\"\",IF(AC52=AC53,\"R\",\"\"))","v":""}]
[null,null,null,null,null,52,"Liam Wah",null,null,null,null,null,{"$f":"INDEX(Results!T:T,MATCH(J53,Results!V:V,0))","v":{"$error":"#N/A"}},null,null,"Liam Wah",null,null,{"$f":"INDEX(Results!T:T,MATCH(P53,Results!V:V,0))","v":-4.8},null,null,null,null,null,{"$f":"INDEX(Results!T:T,MATCH(V53,Results!V:V,0))","v":{"$error":"#N/A"}}]
[null,null,null,null,null,53,"Paul Allen",null,27,null,null,"",{"$f":"INDEX(Results!T:T,MATCH(J54,Results!V:V,0))","v":{"$error":"#N/A"}},null,27,"Paul Allen",null,{"$f":"IF(Q54=\"\",\"\",IF(Q54=Q55,\"R\",\"\"))","v":""},{"$f":"INDEX(Results!T:T,MATCH(P54,Results!V:V,0))","v":-4.55},null,null,null,null,null,null,null,null,null,null,{"$f":"IF(AC54=\"\",\"\",IF(AC54=AC55,\"R\",\"\"))","v":""}]
[null,null,null,null,null,54,"Kei Lok Ma",null,null,null,null,null,{"$f":"INDEX(Results!T:T,MATCH(J55,Results!V:V,0))","v":{"$error":"#N/A"}},null,null,"Kei Lok Ma",null,null,{"$f":"INDEX(Results!T:T,MATCH(P55,Results!V:V,0))","v":-7}]
[null,null,null,null,null,55,"Steve Baxter",null,28,null,null,"",{"$f":"INDEX(Results!T:T,MATCH(J56,Results!V:V,0))","v":{"$error":"#N/A"}},null,28,"Steve Baxter",null,{"$f":"IF(Q56=\"\",\"\",IF(Q56=Q57,\"R\",\"\"))","v":""},{"$f":"INDEX(Results!T:T,MATCH(P56,Results!V:V,0))","v":0},null,null,null,null,null,null,null,null,null,null,{"$f":"IF(AC56=\"\",\"\",IF(AC56=AC57,\"R\",\"\"))","v":""}]
[null,null,null,null,null,56,"Chris Luck",null,null,null,null,null,{"$f":"INDEX(Results!T:T,MATCH(J57,Results!V:V,0))","v":{"$error":"#N/A"}},null,null,"Chris Luck",null,null,{"$f":"INDEX(Results!T:T,MATCH(P57,Results!V:V,0))","v":5.1750000000000007}]
[null,null,null,null,null,57,"Paul Barnes",null,29,null,null,"",{"$f":"INDEX(Results!T:T,MATCH(J58,Results!V:V,0))","v":{"$error":"#N/A"}},null,29,"Paul Barnes",null,{"$f":"IF(Q58=\"\",\"\",IF(Q58=Q59,\"R\",\"\"))","v":""},{"$f":"INDEX(Results!T:T,MATCH(P58,Results!V:V,0))","v":8.6730769230769234}]
[null,null,null,null,null,58,"Alan White",null,null,null,null,null,{"$f":"INDEX(Results!T:T,MATCH(J59,Results!V:V,0))","v":{"$error":"#N/A"}},null,null,"Alan White",null,null,{"$f":"INDEX(Results!T:T,MATCH(P59,Results!V:V,0))","v":-1.625}]
[null,null,null,null,null,59,"Chris Bow",null,30,null,null,"",{"$f":"INDEX(Results!T:T,MATCH(J60,Results!V:V,0))","v":{"$error":"#N/A"}},null,30,"Chris Bow",null,{"$f":"IF(Q60=\"\",\"\",IF(Q60=Q61,\"R\",\"\"))","v":""},{"$f":"INDEX(Results!T:T,MATCH(P60,Results!V:V,0))","v":150.1}]
[null,null,null,null,null,60,"Lewis Buckley",null,null,null,null,null,{"$f":"INDEX(Results!T:T,MATCH(J61,Results!V:V,0))","v":{"$error":"#N/A"}},null,null,"Lewis Buckley",null,null,{"$f":"INDEX(Results!T:T,MATCH(P61,Results!V:V,0))","v":-5.35}]
[null,null,null,null,null,61,"Paul Ridgeway",null,31,null,null,"",{"$f":"INDEX(Results!T:T,MATCH(J62,Results!V:V,0))","v":{"$error":"#N/A"}},null,31,"Paul Ridgeway",null,{"$f":"IF(Q62=\"\",\"\",IF(Q62=Q63,\"R\",\"\"))","v":""},{"$f":"INDEX(Results!T:T,MATCH(P62,Results!V:V,0))","v":-1.069230769230769}]
[null,null,null,null,null,62,"Gareth Powell",null,null,null,null,null,{"$f":"INDEX(Results!T:T,MATCH(J63,Results!V:V,0))","v":{"$error":"#N/A"}},null,null,"Bye",null,null,{"$f":"INDEX(Results!T:T,MATCH(P63,Results!V:V,0))","v":{"$error":"#N/A"}},null,null,null,null,null,null,null,"SF",{"$f":"$C$19","v":"2020-12-05"}]
[null,null,null,null,null,null,null,null,32,null,null,"",{"$f":"INDEX(Results!T:T,MATCH(J64,Results!V:V,0))","v":{"$error":"#N/A"}},null,32,"Gareth Powell",null,{"$f":"IF(Q64=\"\",\"\",IF(Q64=Q65,\"R\",\"\"))","v":""},{"$f":"INDEX(Results!T:T,MATCH(P64,Results!V:V,0))","v":0.3692307692307697},null,null,null,null,null,null,null,1,{"$f":"IF(AC39=AC40,\"Await earlier tie\",IF(AC39<AC40,AB40,AB39))","v":"Await earlier tie"},null,{"$f":"IF(AC64=\"\",\"\",IF(AC64=AC65,\"R\",\"\"))","v":""},{"$f":"INDEX(Results!T:T,MATCH(AB64,Results!V:V,0))","v":{"$error":"#N/A"}}]
[null,null,null,null,null,null,null,null,null,null,null,null,{"$f":"INDEX(Results!T:T,MATCH(J65,Results!V:V,0))","v":{"$error":"#N/A"}},null,null,"Bye",null,null,{"$f":"INDEX(Results!T:T,MATCH(P65,Results!V:V,0))","v":{"$error":"#N/A"}},null,null,null,null,null,null,null,null,{"$f":"IF(AC41=AC42,\"Await earlier tie\",IF(AC41<AC42,AB42,AB41))","v":"Await earlier tie"},null,null,{"$f":"INDEX(Results!T:T,MATCH(AB65,Results!V:V,0))","v":{"$error":"#N/A"}}]
[null,null,null,null,null,null,null,null,33,null,null,"",{"$f":"INDEX(Results!T:T,MATCH(J66,Results!V:V,0))","v":{"$error":"#N/A"}},null,null,null,null,null,null,null,null,null,null,null,null,null,2,{"$f":"IF(AC43=AC44,\"Await earlier tie\",IF(AC43<AC44,AB44,AB43))","v":"Await earlier tie"},null,{"$f":"IF(AC66=\"\",\"\",IF(AC66=AC67,\"R\",\"\"))","v":""},{"$f":"INDEX(Results!T:T,MATCH(AB66,Results!V:V,0))","v":{"$error":"#N/A"}}]
[null,null,null,null,null,null,null,null,null,null,null,null,{"$f":"INDEX(Results!T:T,MATCH(J67,Results!V:V,0))","v":{"$error":"#N/A"}},null,null,null,null,null,null,null,null,null,null,null,null,null,null,{"$f":"IF(AC45=AC46,\"Await earlier tie\",IF(AC45<AC46,AB46,AB45))","v":"Await earlier tie"},null,null,{"$f":"INDEX(Results!T:T,MATCH(AB67,Results!V:V,0))","v":{"$error":"#N/A"}}]
[null,null,null,null,null,null,null,null,34,null,null,"",{"$f":"INDEX(Results!T:T,MATCH(J68,Results!V:V,0))","v":{"$error":"#N/A"}},null,"Earlier ties"]
[null,null,null,null,null,null,null,null,null,null,null,null,{"$f":"INDEX(Results!T:T,MATCH(J69,Results!V:V,0))","v":{"$error":"#N/A"}},null,5,null,-7,{"$f":"IF(Q69=\"\",\"\",IF(Q69=Q70,\"R\",\"\"))","v":"R"},null,null,null,null,null,null,null,null,"Earlier ties"]
[null,null,null,null,null,null,null,null,35,null,null,"",{"$f":"INDEX(Results!T:T,MATCH(J70,Results!V:V,0))","v":{"$error":"#N/A"}},null,null,null,-7,null,null,null,null,null,null,null,null,null,null,null,null,{"$f":"IF(AC70=\"\",\"\",IF(AC70=AC71,\"R\",\"\"))","v":""}]
[null,null,null,null,null,null,null,null,null,null,null,null,{"$f":"INDEX(Results!T:T,MATCH(J71,Results!V:V,0))","v":{"$error":"#N/A"}},null,null,null,null,{"$f":"IF(Q71=\"\",\"\",IF(Q71=Q72,\"R\",\"\"))","v":""}]
[null,null,null,null,null,null,null,null,36,null,null,"",{"$f":"INDEX(Results!T:T,MATCH(J72,Results!V:V,0))","v":{"$error":"#N/A"}},null,null,null,null,null,null,null,null,null,null,null,null,null,null,null,null,{"$f":"IF(AC72=\"\",\"\",IF(AC72=AC73,\"R\",\"\"))","v":""}]
[null,null,null,null,null,null,null,null,null,null,null,null,{"$f":"INDEX(Results!T:T,MATCH(J73,Results!V:V,0))","v":{"$error":"#N/A"}},null,null,null,null,{"$f":"IF(Q73=\"\",\"\",IF(Q73=Q74,\"R\",\"\"))","v":""}]
[]
[null,null,null,null,null,null,null,null,null,null,null,null,null,null,null,null,null,{"$f":"IF(Q75=\"\",\"\",IF(Q75=Q76,\"R\",\"\"))","v":""}]
[]
[null,null,null,null,null,null,null,null,null,null,null,null,null,null,null,null,null,{"$f":"IF(Q77=\"\",\"\",IF(Q77=Q78,\"R\",\"\"))","v":""}]
[null,null,null,null,null,null,null,null,"Earlier ties"]
[null,null,null,null,null,null,null,null,1,"Pete Baron",null,"R",null,null,null,null,null,{"$f":"IF(Q79=\"\",\"\",IF(Q79=Q80,\"R\",\"\"))","v":""}]
[null,null,null,null,null,null,null,null,null,"Chris Townsend",null,null,null,null,null,null,null,null,null,null,null,null,null,null,null,null,"Final",{"$f":"$C$20","v":"2020-12-16"}]
[null,null,null,null,null,null,null,null,null,null,null,{"$f":"IF(K81=\"\",\"\",IF(K81=K82,\"R\",\"\"))","v":""},null,null,null,null,null,{"$f":"IF(Q81=\"\",\"\",IF(Q81=Q82,\"R\",\"\"))","v":""},null,null,null,null,null,null,null,null,1,{"$f":"IF(AC64=AC65,\"Await earlier tie\",IF(AC64<AC65,AB65,AB64))","v":"Await earlier tie"},null,{"$f":"IF(AC81=\"\",\"\",IF(AC81=AC82,\"R\",\"\"))","v":""},{"$f":"INDEX(Results!T:T,MATCH(AB81,Results!V:V,0))","v":{"$error":"#N/A"}}]
[null,null,null,null,null,null,null,null,null,null,null,null,null,null,null,null,null,null,null,null,null,null,null,null,null,null,null,{"$f":"IF(AC66=AC67,\"Await earlier tie\",IF(AC66<AC67,AB67,AB66))","v":"Await earlier tie"},null,null,{"$f":"INDEX(Results!T:T,MATCH(AB82,Results!V:V,0))","v":{"$error":"#N/A"}}]
[null,null,null,null,null,null,null,null,null,null,null,{"$f":"IF(K83=\"\",\"\",IF(K83=K84,\"R\",\"\"))","v":""},null,null,null,null,null,{"$f":"IF(Q83=\"\",\"\",IF(Q83=Q84,\"R\",\"\"))","v":""}]
[]
[null,null,null,null,null,null,null,null,null,null,null,{"$f":"IF(K85=\"\",\"\",IF(K85=K86,\"R\",\"\"))","v":""},null,null,null,null,null,{"$f":"IF(Q85=\"\",\"\",IF(Q85=Q86,\"R\",\"\"))","v":""},null,null,null,null,null,null,null,null,"Earlier ties"]
[null,null,null,null,null,null,null,null,null,null,null,null,null,null,null,null,null,null,null,null,null,null,null,null,null,null,null,null,null,{"$f":"IF(AC86=\"\",\"\",IF(AC86=AC87,\"R\",\"\"))","v":""}]
[null,null,null,null,null,null,null,null,null,null,null,{"$f":"IF(K87=\"\",\"\",IF(K87=K88,\"R\",\"\"))","v":""},null,null,null,null,null,{"$f":"IF(Q87=\"\",\"\",IF(Q87=Q88,\"R\",\"\"))","v":""}]
[null,null,null,null,null,null,null,null,null,null,null,null,null,null,null,null,null,null,null,null,null,null,null,null,null,null,null,null,null,{"$f":"IF(AC88=\"\",\"\",IF(AC88=AC89,\"R\",\"\"))","v":""}]
[null,null,null,null,null,null,null,null,null,null,null,{"$f":"IF(K89=\"\",\"\",IF(K89=K90,\"R\",\"\"))","v":""},null,null,null,null,null,{"$f":"IF(Q89=\"\",\"\",IF(Q89=Q90,\"R\",\"\"))","v":""}]
[]
[null,null,null,null,null,null,null,null,null,null,null,{"$f":"IF(K91=\"\",\"\",IF(K91=K92,\"R\",\"\"))","v":""},null,null,null,null,null,{"$f":"IF(Q91=\"\",\"\",IF(Q91=Q92,\"R\",\"\"))","v":""}]
[]
[null,null,null,null,null,null,null,null,null,null,null,{"$f":"IF(K93=\"\",\"\",IF(K93=K94,\"R\",\"\"))","v":""}]

{"sheet":"Prizelist","index":16,"n_rows":26,"n_cols":2,"rows_kept":26,"cut":false,"hidden":false,"merged":[]}
["No of Entrants:",62]
["Fee pp per season",20]
["Fees collected:",{"$f":"B1*B2","v":1240}]
[]
["Number of weeks",20]
["Number of £10 highest weekly score prize",1]
["Number of £5 weekly prizes",3]
["Weekly payouts",{"$f":"(B7*5*B5)+(B6*10*B5)","v":500}]
[]
["Cup winner",25]
["Cup runner-up",15]
["Cup semi-finalists",10]
["Cup payouts",{"$f":"SUM(B10:B12)","v":50}]
[]
["Div A top 6 places (35%/25/18/12/7/3)",{"$f":"Prizes!I2","v":310.5}]
["Div B top 6 places (35%/25/18/12/7/3)",{"$f":"Prizes!I3","v":207}]
["Div C top 6 places (35%/25/18/12/7/3)",{"$f":"Prizes!I4","v":103.5}]
["Div D top 6 places (35%/25/18/12/7/3)",{"$f":"Prizes!I5","v":69}]
[]
["End of season place prices",{"$f":"SUM(B15:B19)","v":690}]
[]
["Fund deductions (eg, non-payers)",0]
[]
["Final placing payouts",{"$f":"B20-B22","v":690}]
[]
["Balance",{"$f":"B3-B8-B13-B20-B22","v":0}]

{"sheet":"Prizes","index":17,"n_rows":101,"n_cols":13,"rows_kept":101,"cut":false,"hidden":false,"merged":[]}
["Menu!A1","Division","Position","Division Pot %","Position%","Div Pot",null,"Total",{"$f":"M2-550","v":690},null,"Division","% of pot","Fees"]
[{"$f":"CONCATENATE(B2,C2)","v":"A1"},"A",1,45,35,{"$f":"PotA*E2/100","v":108.675},null,"Div A",{"$f":"pot*0.45","v":310.5},null,1,45,{"$f":"entrants*20","v":1240}]
[{"$f":"CONCATENATE(B3,C3)","v":"A2"},"A",2,null,25,77.625,null,"Div B",{"$f":"pot*0.3","v":207},null,2,30]
["A3","A",3,null,18,55.89,null,"Div C",{"$f":"pot*0.15","v":103.5},null,3,15]
["A4","A",4,null,12,37.26,null,"Div D",{"$f":"pot*0.1","v":69},null,4,10]
["A5","A",5,null,7,21.734999999999999,null,null,null,null,null,{"$f":"SUM(L2:L5)","v":100}]
["A6","A",6,null,3,9.3149999999999995]
["A7","A",7,null,null,0]
["A8","A",8,null,null,0]
["A9","A",9,null,null,0]
["A10","A",10,null,null,0]
["A11","A",11,null,null,0]
["A12","A",12,null,null,0]
["A13","A",13,null,null,0]
["A14","A",14,null,null,0]
["A15","A",15,null,null,0]
["A16","A",16,null,null,0]
["B1","B",1,30,35,{"$f":"PotB*E18/100","v":72.45}]
["B2","B",2,null,25,51.75]
["B3","B",3,null,18,37.26]
["B4","B",4,null,12,24.84]
["B5","B",5,null,7,14.49]
["B6","B",6,null,3,6.21]
["B7","B",7,null,null,0]
["B8","B",8,null,null,0]
["B9","B",9,null,null,0]
["B10","B",10,null,null,0]
["B11","B",11,null,null,0]
["B12","B",12,null,null,0]
["B13","B",13,null,null,0]
["B14","B",14,null,null,0]
["B15","B",15,null,null,0]
["B16","B",16,null,null,0]
["C1","C",1,15,35,{"$f":"PotC*E34/100","v":36.225000000000001}]
["C2","C",2,null,25,25.875]
["C3","C",3,null,18,18.63]
["C4","C",4,null,12,12.42]
["C5","C",5,null,7,7.2450000000000001]
["C6","C",6,null,3,3.105]
["C7","C",7,null,null,0]
["C8","C",8,null,null,0]
["C9","C",9,null,null,0]
["C10","C",10,null,null,0]
["C11","C",11,null,null,0]
["C12","C",12,null,null,0]
["C13","C",13,null,null,0]
["C14","C",14,null,null,0]
["C15","C",15,null,null,0]
["C16","C",16,null,null,0]
["D1","D",1,10,35,{"$f":"PotD*E50/100","v":24.15}]
["D2","D",2,null,25,17.25]
["D3","D",3,null,18,12.42]
["D4","D",4,null,12,8.2799999999999994]
["D5","D",5,null,7,4.83]
["D6","D",6,null,3,2.0699999999999998]
["D7","D",7,null,null,0]
["D8","D",8,null,null,0]
["D9","D",9,null,null,0]
["D10","D",10,null,null,0]
["D11","D",11,null,null,0]
["D12","D",12,null,null,0]
["D13","D",13,null,null,0]
["D14","D",14,null,null,0]
[{"$f":"CONCATENATE(B64,C64)","v":"D15"},"D",15,null,null,0]
["D16","D",16,null,null,0]
["D17","D",17,null,null,0]
["D18","D",18,null,null,0]
["D19","D",19,null,null,0]
["D20","D",20,null,null,0]
["D21","D",21,null,null,0]
["D22","D",22,null,null,0]
["D23","D",23,null,null,0]
["D24","D",24,null,null,0]
["D25","D",25,null,null,0]
["D26","D",26,null,null,0]
["D27","D",27,null,null,0]
["D28","D",28,null,null,0]
["D29","D",29,null,null,0]
["D30","D",30,null,null,0]
["D31","D",31,null,null,0]
["D32","D",32,null,null,0]
["D33","D",33,null,null,0]
["D34","D",34,null,null,0]
["D35","D",35,null,null,0]
["D36","D",36,null,null,0]
["D37","D",37,null,null,0]
["D38","D",38,null,null,0]
["D39","D",39,null,null,0]
["D40","D",40,null,null,0]
["D41","D",41,null,null,0]
["D42","D",42,null,null,0]
["D43","D",43,null,null,0]
["D44","D",44,null,null,0]
["D45","D",45,null,null,0]
["D46","D",46,null,null,0]
["D47","D",47,null,null,0]
["D48","D",48,null,null,0]
["D49","D",49,null,null,0]
["D50","D",50,null,null,0]
["D51","D",51,null,null,0]
["D52","D",52,null,null,0]

{"sheet":"Odds","index":18,"n_rows":139,"n_cols":17,"rows_kept":139,"cut":false,"hidden":false,"merged":[]}
["Date",null,"Competition","Odds","Result","Choices","Odds","Dec","Bet Up","Home team","Home win odds","Away team","Draw odds","Away odds","Home dec","Draw dec","Away dec"]
[{"$f":"IF(Match!A2=\"\",\"\",Match!A2)","v":"2020-09-18"},{"$f":"IF(A2=\"\",\"\",WEEKDAY(A2))","v":"1900-01-06"},{"$f":"IF(Match!C2=\"\",\"\",Match!C2)","v":"Champ"},{"$f":"IF(Match!S2=\"\",\"\",Match!S2)","v":"Coventry  v  QPR   6/4  9/4  19/10"},{"$f":"IF(Match!T2=\"\",\"\",Match!T2)","v":"Coventry 3-2 QPR "},{"$f":"IF(D2=\"\",\"\",J2)","v":"Coventry"},{"$f":"IF(D2=\"\",\"\",K2)","v":"6/4"},{"$f":"IF(D2=\"\",\"\",O2)","v":2.5},{"$f":"INDEX(Picks!T:T,MATCH(F2,Picks!R:R,0))","v":1},{"$f":"INDEX(Match!O:O,MATCH(D2,Match!S:S,0))","v":"Coventry"},{"$f":"INDEX(Match!V:V,MATCH(D2,Match!S:S,0))","v":"6/4"},{"$f":"INDEX(Match!P:P,MATCH(D2,Match!S:S,0))","v":"QPR"},{"$f":"INDEX(Match!W:W,MATCH(D2,Match!S:S,0))","v":"9/4"},{"$f":"INDEX(Match!X:X,MATCH(D2,Match!S:S,0))","v":"19/10"},{"$f":"INDEX(Match!Y:Y,MATCH(D2,Match!S:S,0))","v":2.5},{"$f":"INDEX(Match!Z:Z,MATCH(D2,Match!S:S,0))","v":3.25},{"$f":"INDEX(Match!AA:AA,MATCH(D2,Match!S:S,0))","v":2.9}]
[{"$f":"IF(Match!A3=\"\",\"\",Match!A3)","v":"2020-09-19"},{"$f":"IF(A3=\"\",\"\",WEEKDAY(A3))","v":"1900-01-07"},{"$f":"IF(Match!C3=\"\",\"\",Match!C3)","v":"Premier"},{"$f":"IF(Match!S3=\"\",\"\",Match!S3)","v":"Arsenal  v  West Ham   1/2  17/5  5/1"},{"$f":"IF(Match!T3=\"\",\"\",Match!T3)","v":"Arsenal 2-1 West Ham "},"Arsenal","1/2",{"$f":"IF(D3=\"\",\"\",O3)","v":1.5},{"$f":"INDEX(Picks!T:T,MATCH(F3,Picks!R:R,0))","v":1},{"$f":"INDEX(Match!O:O,MATCH(D3,Match!S:S,0))","v":"Arsenal"},{"$f":"INDEX(Match!V:V,MATCH(D3,Match!S:S,0))","v":"1/2"},{"$f":"INDEX(Match!P:P,MATCH(D3,Match!S:S,0))","v":"West Ham"},{"$f":"INDEX(Match!W:W,MATCH(D3,Match!S:S,0))","v":"17/5"},{"$f":"INDEX(Match!X:X,MATCH(D3,Match!S:S,0))","v":"5/1"},{"$f":"INDEX(Match!Y:Y,MATCH(D3,Match!S:S,0))","v":1.5},{"$f":"INDEX(Match!Z:Z,MATCH(D3,Match!S:S,0))","v":4.4000000000000004},{"$f":"INDEX(Match!AA:AA,MATCH(D3,Match!S:S,0))","v":6}]
[{"$f":"IF(Match!A4=\"\",\"\",Match!A4)","v":"2020-09-19"},"1900-01-07",{"$f":"IF(Match!C4=\"\",\"\",Match!C4)","v":"Premier"},{"$f":"IF(Match!S4=\"\",\"\",Match!S4)","v":"Everton  v  West Brom   11/20  16/5  5/1"},{"$f":"IF(Match!T4=\"\",\"\",Match!T4)","v":"Everton 5-2 West Brom "},"Everton","11/20",1.55,{"$f":"INDEX(Picks!T:T,MATCH(F4,Picks!R:R,0))","v":1},{"$f":"INDEX(Match!O:O,MATCH(D4,Match!S:S,0))","v":"Everton"},{"$f":"INDEX(Match!V:V,MATCH(D4,Match!S:S,0))","v":"11/20"},{"$f":"INDEX(Match!P:P,MATCH(D4,Match!S:S,0))","v":"West Brom"},{"$f":"INDEX(Match!W:W,MATCH(D4,Match!S:S,0))","v":"16/5"},{"$f":"INDEX(Match!X:X,MATCH(D4,Match!S:S,0))","v":"5/1"},{"$f":"INDEX(Match!Y:Y,MATCH(D4,Match!S:S,0))","v":1.55},{"$f":"INDEX(Match!Z:Z,MATCH(D4,Match!S:S,0))","v":4.2},{"$f":"INDEX(Match!AA:AA,MATCH(D4,Match!S:S,0))","v":6}]
[{"$f":"IF(Match!A5=\"\",\"\",Match!A5)","v":"2020-09-19"},"1900-01-07",{"$f":"IF(Match!C5=\"\",\"\",Match!C5)","v":"Premier"},{"$f":"IF(Match!S5=\"\",\"\",Match!S5)","v":"Leeds  v  Fulham   8/13  3/1  9/2"},{"$f":"IF(Match!T5=\"\",\"\",Match!T5)","v":"Leeds 4-3 Fulham "},"Leeds","8/13",1.6153846153846154,{"$f":"INDEX(Picks!T:T,MATCH(F5,Picks!R:R,0))","v":1},{"$f":"INDEX(Match!O:O,MATCH(D5,Match!S:S,0))","v":"Leeds"},{"$f":"INDEX(Match!V:V,MATCH(D5,Match!S:S,0))","v":"8/13"},{"$f":"INDEX(Match!P:P,MATCH(D5,Match!S:S,0))","v":"Fulham"},{"$f":"INDEX(Match!W:W,MATCH(D5,Match!S:S,0))","v":"3/1"},{"$f":"INDEX(Match!X:X,MATCH(D5,Match!S:S,0))","v":"9/2"},{"$f":"INDEX(Match!Y:Y,MATCH(D5,Match!S:S,0))","v":1.6153846153846154},{"$f":"INDEX(Match!Z:Z,MATCH(D5,Match!S:S,0))","v":4},{"$f":"INDEX(Match!AA:AA,MATCH(D5,Match!S:S,0))","v":5.5}]
[{"$f":"IF(Match!A6=\"\",\"\",Match!A6)","v":"2020-09-19"},"1900-01-07",{"$f":"IF(Match!C6=\"\",\"\",Match!C6)","v":"Premier"},{"$f":"IF(Match!S6=\"\",\"\",Match!S6)","v":"Man U  v  Palace   2/7  9/2  10/1"},{"$f":"IF(Match!T6=\"\",\"\",Match!T6)","v":"Man U 1-3 Palace "},"Man U","2/7",1.2857142857142856,{"$f":"INDEX(Picks!T:T,MATCH(F6,Picks!R:R,0))","v":0},{"$f":"INDEX(Match!O:O,MATCH(D6,Match!S:S,0))","v":"Man U"},{"$f":"INDEX(Match!V:V,MATCH(D6,Match!S:S,0))","v":"2/7"},{"$f":"INDEX(Match!P:P,MATCH(D6,Match!S:S,0))","v":"Palace"},{"$f":"INDEX(Match!W:W,MATCH(D6,Match!S:S,0))","v":"9/2"},{"$f":"INDEX(Match!X:X,MATCH(D6,Match!S:S,0))","v":"10/1"},{"$f":"INDEX(Match!Y:Y,MATCH(D6,Match!S:S,0))","v":1.2857142857142856},{"$f":"INDEX(Match!Z:Z,MATCH(D6,Match!S:S,0))","v":5.5},{"$f":"INDEX(Match!AA:AA,MATCH(D6,Match!S:S,0))","v":11}]
[{"$f":"IF(Match!A7=\"\",\"\",Match!A7)","v":"2020-09-19"},"1900-01-07",{"$f":"IF(Match!C7=\"\",\"\",Match!C7)","v":"Champ"},{"$f":"IF(Match!S7=\"\",\"\",Match!S7)","v":"Blackburn  v  Wycombe   4/7  3/1  5/1"},{"$f":"IF(Match!T7=\"\",\"\",Match!T7)","v":"Blackburn 5-0 Wycombe "},"Blackburn","4/7",1.5714285714285714,{"$f":"INDEX(Picks!T:T,MATCH(F7,Picks!R:R,0))","v":1},{"$f":"INDEX(Match!O:O,MATCH(D7,Match!S:S,0))","v":"Blackburn"},{"$f":"INDEX(Match!V:V,MATCH(D7,Match!S:S,0))","v":"4/7"},{"$f":"INDEX(Match!P:P,MATCH(D7,Match!S:S,0))","v":"Wycombe"},{"$f":"INDEX(Match!W:W,MATCH(D7,Match!S:S,0))","v":"3/1"},{"$f":"INDEX(Match!X:X,MATCH(D7,Match!S:S,0))","v":"5/1"},{"$f":"INDEX(Match!Y:Y,MATCH(D7,Match!S:S,0))","v":1.5714285714285714},{"$f":"INDEX(Match!Z:Z,MATCH(D7,Match!S:S,0))","v":4},{"$f":"INDEX(Match!AA:AA,MATCH(D7,Match!S:S,0))","v":6}]
[{"$f":"IF(Match!A8=\"\",\"\",Match!A8)","v":"2020-09-19"},"1900-01-07",{"$f":"IF(Match!C8=\"\",\"\",Match!C8)","v":"Champ"},{"$f":"IF(Match!S8=\"\",\"\",Match!S8)","v":"Brentford  v  Huddersfield   11/20  14/5  6/1"},{"$f":"IF(Match!T8=\"\",\"\",Match!T8)","v":"Brentford 3-0 Huddersfield "},"Brentford","11/20",1.55,{"$f":"INDEX(Picks!T:T,MATCH(F8,Picks!R:R,0))","v":1},{"$f":"INDEX(Match!O:O,MATCH(D8,Match!S:S,0))","v":"Brentford"},{"$f":"INDEX(Match!V:V,MATCH(D8,Match!S:S,0))","v":"11/20"},{"$f":"INDEX(Match!P:P,MATCH(D8,Match!S:S,0))","v":"Huddersfield"},{"$f":"INDEX(Match!W:W,MATCH(D8,Match!S:S,0))","v":"14/5"},{"$f":"INDEX(Match!X:X,MATCH(D8,Match!S:S,0))","v":"6/1"},{"$f":"INDEX(Match!Y:Y,MATCH(D8,Match!S:S,0))","v":1.55},{"$f":"INDEX(Match!Z:Z,MATCH(D8,Match!S:S,0))","v":3.8},{"$f":"INDEX(Match!AA:AA,MATCH(D8,Match!S:S,0))","v":7}]
[{"$f":"IF(Match!A9=\"\",\"\",Match!A9)","v":"2020-09-19"},"1900-01-07",{"$f":"IF(Match!C9=\"\",\"\",Match!C9)","v":"Champ"},{"$f":"IF(Match!S9=\"\",\"\",Match!S9)","v":"Forest  v  Cardiff   29/20  11/5  2/1"},{"$f":"IF(Match!T9=\"\",\"\",Match!T9)","v":"Forest 0-2 Cardiff "},"Forest","29/20",2.4500000000000002,{"$f":"INDEX(Picks!T:T,MATCH(F9,Picks!R:R,0))","v":0},{"$f":"INDEX(Match!O:O,MATCH(D9,Match!S:S,0))","v":"Forest"},{"$f":"INDEX(Match!V:V,MATCH(D9,Match!S:S,0))","v":"29/20"},{"$f":"INDEX(Match!P:P,MATCH(D9,Match!S:S,0))","v":"Cardiff"},{"$f":"INDEX(Match!W:W,MATCH(D9,Match!S:S,0))","v":"11/5"},{"$f":"INDEX(Match!X:X,MATCH(D9,Match!S:S,0))","v":"2/1"},{"$f":"INDEX(Match!Y:Y,MATCH(D9,Match!S:S,0))","v":2.4500000000000002},{"$f":"INDEX(Match!Z:Z,MATCH(D9,Match!S:S,0))","v":3.2},{"$f":"INDEX(Match!AA:AA,MATCH(D9,Match!S:S,0))","v":3}]
[{"$f":"IF(Match!A10=\"\",\"\",Match!A10)","v":"2020-09-19"},"1900-01-07",{"$f":"IF(Match!C10=\"\",\"\",Match!C10)","v":"Champ"},{"$f":"IF(Match!S10=\"\",\"\",Match!S10)","v":"Luton  v  Derby   15/8  9/4  31/20"},{"$f":"IF(Match!T10=\"\",\"\",Match!T10)","v":"Luton 2-1 Derby "},"Luton","15/8",2.875,{"$f":"INDEX(Picks!T:T,MATCH(F10,Picks!R:R,0))","v":1},{"$f":"INDEX(Match!O:O,MATCH(D10,Match!S:S,0))","v":"Luton"},{"$f":"INDEX(Match!V:V,MATCH(D10,Match!S:S,0))","v":"15/8"},{"$f":"INDEX(Match!P:P,MATCH(D10,Match!S:S,0))","v":"Derby"},{"$f":"INDEX(Match!W:W,MATCH(D10,Match!S:S,0))","v":"9/4"},{"$f":"INDEX(Match!X:X,MATCH(D10,Match!S:S,0))","v":"31/20"},{"$f":"INDEX(Match!Y:Y,MATCH(D10,Match!S:S,0))","v":2.875},{"$f":"INDEX(Match!Z:Z,MATCH(D10,Match!S:S,0))","v":3.25},{"$f":"INDEX(Match!AA:AA,MATCH(D10,Match!S:S,0))","v":2.5499999999999998}]
[{"$f":"IF(Match!A11=\"\",\"\",Match!A11)","v":"2020-09-19"},"1900-01-07",{"$f":"IF(Match!C11=\"\",\"\",Match!C11)","v":"Champ"},{"$f":"IF(Match!S11=\"\",\"\",Match!S11)","v":"Middlesbro  v  Bournemouth   17/10  11/5  17/10"},{"$f":"IF(Match!T11=\"\",\"\",Match!T11)","v":"Middlesbro 1-1 Bournemouth "},"Middlesbro","17/10",2.7,{"$f":"INDEX(Picks!T:T,MATCH(F11,Picks!R:R,0))","v":0},{"$f":"INDEX(Match!O:O,MATCH(D11,Match!S:S,0))","v":"Middlesbro"},{"$f":"INDEX(Match!V:V,MATCH(D11,Match!S:S,0))","v":"17/10"},{"$f":"INDEX(Match!P:P,MATCH(D11,Match!S:S,0))","v":"Bournemouth"},{"$f":"INDEX(Match!W:W,MATCH(D11,Match!S:S,0))","v":"11/5"},{"$f":"INDEX(Match!X:X,MATCH(D11,Match!S:S,0))","v":"17/10"},{"$f":"INDEX(Match!Y:Y,MATCH(D11,Match!S:S,0))","v":2.7},{"$f":"INDEX(Match!Z:Z,MATCH(D11,Match!S:S,0))","v":3.2},{"$f":"INDEX(Match!AA:AA,MATCH(D11,Match!S:S,0))","v":2.7}]
[{"$f":"IF(Match!A12=\"\",\"\",Match!A12)","v":"2020-09-19"},"1900-01-07",{"$f":"IF(Match!C12=\"\",\"\",Match!C12)","v":"Champ"},{"$f":"IF(Match!S12=\"\",\"\",Match!S12)","v":"Norwich  v  Preston   4/5  5/2  19/5"},{"$f":"IF(Match!T12=\"\",\"\",Match!T12)","v":"Norwich 2-2 Preston "},"Norwich","4/5",1.8,{"$f":"INDEX(Picks!T:T,MATCH(F12,Picks!R:R,0))","v":0},{"$f":"INDEX(Match!O:O,MATCH(D12,Match!S:S,0))","v":"Norwich"},{"$f":"INDEX(Match!V:V,MATCH(D12,Match!S:S,0))","v":"4/5"},{"$f":"INDEX(Match!P:P,MATCH(D12,Match!S:S,0))","v":"Preston"},{"$f":"INDEX(Match!W:W,MATCH(D12,Match!S:S,0))","v":"5/2"},{"$f":"INDEX(Match!X:X,MATCH(D12,Match!S:S,0))","v":"19/5"},{"$f":"INDEX(Match!Y:Y,MATCH(D12,Match!S:S,0))","v":1.8},{"$f":"INDEX(Match!Z:Z,MATCH(D12,Match!S:S,0))","v":3.5},{"$f":"INDEX(Match!AA:AA,MATCH(D12,Match!S:S,0))","v":4.8}]
[{"$f":"IF(Match!A13=\"\",\"\",Match!A13)","v":"2020-09-19"},"1900-01-07",{"$f":"IF(Match!C13=\"\",\"\",Match!C13)","v":"Champ"},{"$f":"IF(Match!S13=\"\",\"\",Match!S13)","v":"Reading  v  Barnsley   7/5  23/10  2/1"},{"$f":"IF(Match!T13=\"\",\"\",Match!T13)","v":"Reading 2-0 Barnsley "},"Reading","7/5",2.4,{"$f":"INDEX(Picks!T:T,MATCH(F13,Picks!R:R,0))","v":1},{"$f":"INDEX(Match!O:O,MATCH(D13,Match!S:S,0))","v":"Reading"},{"$f":"INDEX(Match!V:V,MATCH(D13,Match!S:S,0))","v":"7/5"},{"$f":"INDEX(Match!P:P,MATCH(D13,Match!S:S,0))","v":"Barnsley"},{"$f":"INDEX(Match!W:W,MATCH(D13,Match!S:S,0))","v":"23/10"},{"$f":"INDEX(Match!X:X,MATCH(D13,Match!S:S,0))","v":"2/1"},{"$f":"INDEX(Match!Y:Y,MATCH(D13,Match!S:S,0))","v":2.4},{"$f":"INDEX(Match!Z:Z,MATCH(D13,Match!S:S,0))","v":3.3},{"$f":"INDEX(Match!AA:AA,MATCH(D13,Match!S:S,0))","v":3}]
[{"$f":"IF(Match!A14=\"\",\"\",Match!A14)","v":"2020-09-19"},"1900-01-07",{"$f":"IF(Match!C14=\"\",\"\",Match!C14)","v":"Champ"},{"$f":"IF(Match!S14=\"\",\"\",Match!S14)","v":"Rotherham  v  Millwall   9/5  21/10  17/10"},{"$f":"IF(Match!T14=\"\",\"\",Match!T14)","v":"Rotherham 0-1 Millwall "},"Rotherham","9/5",2.8,{"$f":"INDEX(Picks!T:T,MATCH(F14,Picks!R:R,0))","v":0},{"$f":"INDEX(Match!O:O,MATCH(D14,Match!S:S,0))","v":"Rotherham"},{"$f":"INDEX(Match!V:V,MATCH(D14,Match!S:S,0))","v":"9/5"},{"$f":"INDEX(Match!P:P,MATCH(D14,Match!S:S,0))","v":"Millwall"},{"$f":"INDEX(Match!W:W,MATCH(D14,Match!S:S,0))","v":"21/10"},{"$f":"INDEX(Match!X:X,MATCH(D14,Match!S:S,0))","v":"17/10"},{"$f":"INDEX(Match!Y:Y,MATCH(D14,Match!S:S,0))","v":2.8},{"$f":"INDEX(Match!Z:Z,MATCH(D14,Match!S:S,0))","v":3.1},{"$f":"INDEX(Match!AA:AA,MATCH(D14,Match!S:S,0))","v":2.7}]
[{"$f":"IF(Match!A15=\"\",\"\",Match!A15)","v":"2020-09-19"},"1900-01-07",{"$f":"IF(Match!C15=\"\",\"\",Match!C15)","v":"Champ"},{"$f":"IF(Match!S15=\"\",\"\",Match!S15)","v":"Sheff W  v  Watford   19/10  11/5  31/20"},{"$f":"IF(Match!T15=\"\",\"\",Match!T15)","v":"Sheff W 0-0 Watford "},"Sheff W","19/10",2.9,{"$f":"INDEX(Picks!T:T,MATCH(F15,Picks!R:R,0))","v":0},{"$f":"INDEX(Match!O:O,MATCH(D15,Match!S:S,0))","v":"Sheff W"},{"$f":"INDEX(Match!V:V,MATCH(D15,Match!S:S,0))","v":"19/10"},{"$f":"INDEX(Match!P:P,MATCH(D15,Match!S:S,0))","v":"Watford"},{"$f":"INDEX(Match!W:W,MATCH(D15,Match!S:S,0))","v":"11/5"},{"$f":"INDEX(Match!X:X,MATCH(D15,Match!S:S,0))","v":"31/20"},{"$f":"INDEX(Match!Y:Y,MATCH(D15,Match!S:S,0))","v":2.9},{"$f":"INDEX(Match!Z:Z,MATCH(D15,Match!S:S,0))","v":3.2},{"$f":"INDEX(Match!AA:AA,MATCH(D15,Match!S:S,0))","v":2.5499999999999998}]
[{"$f":"IF(Match!A16=\"\",\"\",Match!A16)","v":"2020-09-19"},"1900-01-07",{"$f":"IF(Match!C16=\"\",\"\",Match!C16)","v":"Champ"},{"$f":"IF(Match!S16=\"\",\"\",Match!S16)","v":"Swansea  v  Birmingham   11/10  11/5  14/5"},{"$f":"IF(Match!T16=\"\",\"\",Match!T16)","v":"Swansea 0-0 Birmingham "},"Swansea","11/10",2.1,{"$f":"INDEX(Picks!T:T,MATCH(F16,Picks!R:R,0))","v":0},{"$f":"INDEX(Match!O:O,MATCH(D16,Match!S:S,0))","v":"Swansea"},{"$f":"INDEX(Match!V:V,MATCH(D16,Match!S:S,0))","v":"11/10"},{"$f":"INDEX(Match!P:P,MATCH(D16,Match!S:S,0))","v":"Birmingham"},{"$f":"INDEX(Match!W:W,MATCH(D16,Match!S:S,0))","v":"11/5"},{"$f":"INDEX(Match!X:X,MATCH(D16,Match!S:S,0))","v":"14/5"},{"$f":"INDEX(Match!Y:Y,MATCH(D16,Match!S:S,0))","v":2.1},{"$f":"INDEX(Match!Z:Z,MATCH(D16,Match!S:S,0))","v":3.2},{"$f":"INDEX(Match!AA:AA,MATCH(D16,Match!S:S,0))","v":3.8}]
[{"$f":"IF(Match!A17=\"\",\"\",Match!A17)","v":"2020-09-19"},"1900-01-07",{"$f":"IF(Match!C17=\"\",\"\",Match!C17)","v":"League 1"},{"$f":"IF(Match!S17=\"\",\"\",Match!S17)","v":"Blackpool  v  Swindon   23/20  23/10  5/2"},{"$f":"IF(Match!T17=\"\",\"\",Match!T17)","v":"Blackpool 2-0 Swindon "},"Blackpool","23/20",2.15,{"$f":"INDEX(Picks!T:T,MATCH(F17,Picks!R:R,0))","v":1},{"$f":"INDEX(Match!O:O,MATCH(D17,Match!S:S,0))","v":"Blackpool"},{"$f":"INDEX(Match!V:V,MATCH(D17,Match!S:S,0))","v":"23/20"},{"$f":"INDEX(Match!P:P,MATCH(D17,Match!S:S,0))","v":"Swindon"},{"$f":"INDEX(Match!W:W,MATCH(D17,Match!S:S,0))","v":"23/10"},{"$f":"INDEX(Match!X:X,MATCH(D17,Match!S:S,0))","v":"5/2"},{"$f":"INDEX(Match!Y:Y,MATCH(D17,Match!S:S,0))","v":2.15},{"$f":"INDEX(Match!Z:Z,MATCH(D17,Match!S:S,0))","v":3.3},{"$f":"INDEX(Match!AA:AA,MATCH(D17,Match!S:S,0))","v":3.5}]
[{"$f":"IF(Match!A18=\"\",\"\",Match!A18)","v":"2020-09-19"},"1900-01-07",{"$f":"IF(Match!C21=\"\",\"\",Match!C21)","v":"League 1"},{"$f":"IF(Match!S18=\"\",\"\",Match!S18)","v":"Bristol R  v  Ipswich   17/10  23/10  8/5"},{"$f":"IF(Match!T18=\"\",\"\",Match!T18)","v":"Bristol R 0-2 Ipswich "},"Bristol R","17/10",2.7,{"$f":"INDEX(Picks!T:T,MATCH(F18,Picks!R:R,0))","v":0},{"$f":"INDEX(Match!O:O,MATCH(D18,Match!S:S,0))","v":"Bristol R"},{"$f":"INDEX(Match!V:V,MATCH(D18,Match!S:S,0))","v":"17/10"},{"$f":"INDEX(Match!P:P,MATCH(D18,Match!S:S,0))","v":"Ipswich"},{"$f":"INDEX(Match!W:W,MATCH(D18,Match!S:S,0))","v":"23/10"},{"$f":"INDEX(Match!X:X,MATCH(D18,Match!S:S,0))","v":"8/5"},{"$f":"INDEX(Match!Y:Y,MATCH(D18,Match!S:S,0))","v":2.7},{"$f":"INDEX(Match!Z:Z,MATCH(D18,Match!S:S,0))","v":3.3},{"$f":"INDEX(Match!AA:AA,MATCH(D18,Match!S:S,0))","v":2.6}]
[{"$f":"IF(Match!A19=\"\",\"\",Match!A19)","v":"2020-09-19"},"1900-01-07",{"$f":"IF(Match!C19=\"\",\"\",Match!C19)","v":"League 1"},{"$f":"IF(Match!S19=\"\",\"\",Match!S19)","v":"Burton  v  Accrington   27/20  23/10  2/1"},{"$f":"IF(Match!T19=\"\",\"\",Match!T19)","v":"Burton 2-1 Accrington "},"Burton","27/20",2.35,{"$f":"INDEX(Picks!T:T,MATCH(F19,Picks!R:R,0))","v":1},{"$f":"INDEX(Match!O:O,MATCH(D19,Match!S:S,0))","v":"Burton"},{"$f":"INDEX(Match!V:V,MATCH(D19,Match!S:S,0))","v":"27/20"},{"$f":"INDEX(Match!P:P,MATCH(D19,Match!S:S,0))","v":"Accrington"},{"$f":"INDEX(Match!W:W,MATCH(D19,Match!S:S,0))","v":"23/10"},{"$f":"INDEX(Match!X:X,MATCH(D19,Match!S:S,0))","v":"2/1"},{"$f":"INDEX(Match!Y:Y,MATCH(D19,Match!S:S,0))","v":2.35},{"$f":"INDEX(Match!Z:Z,MATCH(D19,Match!S:S,0))","v":3.3},{"$f":"INDEX(Match!AA:AA,MATCH(D19,Match!S:S,0))","v":3}]
[{"$f":"IF(Match!A20=\"\",\"\",Match!A20)","v":"2020-09-19"},"1900-01-07",{"$f":"IF(Match!C20=\"\",\"\",Match!C20)","v":"League 1"},{"$f":"IF(Match!S20=\"\",\"\",Match!S20)","v":"Charlton  v  Doncaster   1/1  12/5  27/10"},{"$f":"IF(Match!T20=\"\",\"\",Match!T20)","v":"Charlton 1-3 Doncaster "},"Charlton","1/1",2,{"$f":"INDEX(Picks!T:T,MATCH(F20,Picks!R:R,0))","v":0},{"$f":"INDEX(Match!O:O,MATCH(D20,Match!S:S,0))","v":"Charlton"},{"$f":"INDEX(Match!V:V,MATCH(D20,Match!S:S,0))","v":"1/1"},{"$f":"INDEX(Match!P:P,MATCH(D20,Match!S:S,0))","v":"Doncaster"},{"$f":"INDEX(Match!W:W,MATCH(D20,Match!S:S,0))","v":"12/5"},{"$f":"INDEX(Match!X:X,MATCH(D20,Match!S:S,0))","v":"27/10"},{"$f":"INDEX(Match!Y:Y,MATCH(D20,Match!S:S,0))","v":2},{"$f":"INDEX(Match!Z:Z,MATCH(D20,Match!S:S,0))","v":3.4},{"$f":"INDEX(Match!AA:AA,MATCH(D20,Match!S:S,0))","v":3.7}]
[{"$f":"IF(Match!A21=\"\",\"\",Match!A21)","v":"2020-09-19"},"1900-01-07",{"$f":"IF(Match!C21=\"\",\"\",Match!C21)","v":"League 1"},{"$f":"IF(Match!S21=\"\",\"\",Match!S21)","v":"Hull  v  Crewe   19/20  13/5  11/4"},{"$f":"IF(Match!T21=\"\",\"\",Match!T21)","v":"Hull 1-0 Crewe "},"Hull","19/20",1.95,{"$f":"INDEX(Picks!T:T,MATCH(F21,Picks!R:R,0))","v":1},{"$f":"INDEX(Match!O:O,MATCH(D21,Match!S:S,0))","v":"Hull"},{"$f":"INDEX(Match!V:V,MATCH(D21,Match!S:S,0))","v":"19/20"},{"$f":"INDEX(Match!P:P,MATCH(D21,Match!S:S,0))","v":"Crewe"},{"$f":"INDEX(Match!W:W,MATCH(D21,Match!S:S,0))","v":"13/5"},{"$f":"INDEX(Match!X:X,MATCH(D21,Match!S:S,0))","v":"11/4"},{"$f":"INDEX(Match!Y:Y,MATCH(D21,Match!S:S,0))","v":1.95},{"$f":"INDEX(Match!Z:Z,MATCH(D21,Match!S:S,0))","v":3.6},{"$f":"INDEX(Match!AA:AA,MATCH(D21,Match!S:S,0))","v":3.75}]
[{"$f":"IF(Match!A22=\"\",\"\",Match!A22)","v":"2020-09-19"},"1900-01-07",{"$f":"IF(Match!C22=\"\",\"\",Match!C22)","v":"League 1"},{"$f":"IF(Match!S22=\"\",\"\",Match!S22)","v":"MK Dons  v  Lincoln   17/10  21/10  7/4"},{"$f":"IF(Match!T22=\"\",\"\",Match!T22)","v":"MK Dons 1-2 Lincoln "},"MK Dons","17/10",2.7,{"$f":"INDEX(Picks!T:T,MATCH(F22,Picks!R:R,0))","v":0},{"$f":"INDEX(Match!O:O,MATCH(D22,Match!S:S,0))","v":"MK Dons"},{"$f":"INDEX(Match!V:V,MATCH(D22,Match!S:S,0))","v":"17/10"},{"$f":"INDEX(Match!P:P,MATCH(D22,Match!S:S,0))","v":"Lincoln"},{"$f":"INDEX(Match!W:W,MATCH(D22,Match!S:S,0))","v":"21/10"},{"$f":"INDEX(Match!X:X,MATCH(D22,Match!S:S,0))","v":"7/4"},{"$f":"INDEX(Match!Y:Y,MATCH(D22,Match!S:S,0))","v":2.7},{"$f":"INDEX(Match!Z:Z,MATCH(D22,Match!S:S,0))","v":3.1},{"$f":"INDEX(Match!AA:AA,MATCH(D22,Match!S:S,0))","v":2.75}]
[{"$f":"IF(Match!A23=\"\",\"\",Match!A23)","v":"2020-09-19"},"1900-01-07",{"$f":"IF(Match!C23=\"\",\"\",Match!C23)","v":"League 1"},{"$f":"IF(Match!S23=\"\",\"\",Match!S23)","v":"Oxford  v  Sunderland   31/20  11/5  9/5"},{"$f":"IF(Match!T23=\"\",\"\",Match!T23)","v":"Oxford 0-2 Sunderland "},"Oxford","31/20",2.5499999999999998,{"$f":"INDEX(Picks!T:T,MATCH(F23,Picks!R:R,0))","v":0},{"$f":"INDEX(Match!O:O,MATCH(D23,Match!S:S,0))","v":"Oxford"},{"$f":"INDEX(Match!V:V,MATCH(D23,Match!S:S,0))","v":"31/20"},{"$f":"INDEX(Match!P:P,MATCH(D23,Match!S:S,0))","v":"Sunderland"},{"$f":"INDEX(Match!W:W,MATCH(D23,Match!S:S,0))","v":"11/5"},{"$f":"INDEX(Match!X:X,MATCH(D23,Match!S:S,0))","v":"9/5"},{"$f":"INDEX(Match!Y:Y,MATCH(D23,Match!S:S,0))","v":2.5499999999999998},{"$f":"INDEX(Match!Z:Z,MATCH(D23,Match!S:S,0))","v":3.2},{"$f":"INDEX(Match!AA:AA,MATCH(D23,Match!S:S,0))","v":2.8}]
[{"$f":"IF(Match!A24=\"\",\"\",Match!A24)","v":"2020-09-19"},"1900-01-07",{"$f":"IF(Match!C24=\"\",\"\",Match!C24)","v":"League 1"},{"$f":"IF(Match!S24=\"\",\"\",Match!S24)","v":"Peterborough  v  Fleetwood   6/5  9/4  12/5"},{"$f":"IF(Match!T24=\"\",\"\",Match!T24)","v":"Peterborough 2-1 Fleetwood "},"Peterborough","6/5",2.2000000000000002,{"$f":"INDEX(Picks!T:T,MATCH(F24,Picks!R:R,0))","v":1},{"$f":"INDEX(Match!O:O,MATCH(D24,Match!S:S,0))","v":"Peterborough"},{"$f":"INDEX(Match!V:V,MATCH(D24,Match!S:S,0))","v":"6/5"},{"$f":"INDEX(Match!P:P,MATCH(D24,Match!S:S,0))","v":"Fleetwood"},{"$f":"INDEX(Match!W:W,MATCH(D24,Match!S:S,0))","v":"9/4"},{"$f":"INDEX(Match!X:X,MATCH(D24,Match!S:S,0))","v":"12/5"},{"$f":"INDEX(Match!Y:Y,MATCH(D24,Match!S:S,0))","v":2.2000000000000002},{"$f":"INDEX(Match!Z:Z,MATCH(D24,Match!S:S,0))","v":3.25},{"$f":"INDEX(Match!AA:AA,MATCH(D24,Match!S:S,0))","v":3.4}]
[{"$f":"IF(Match!A25=\"\",\"\",Match!A25)","v":"2020-09-19"},"1900-01-07",{"$f":"IF(Match!C25=\"\",\"\",Match!C25)","v":"League 1"},{"$f":"IF(Match!S25=\"\",\"\",Match!S25)","v":"Shrewsbury  v  Northampton   6/5  11/5  12/5"},{"$f":"IF(Match!T25=\"\",\"\",Match!T25)","v":"Shrewsbury 1-2 Northampton "},"Shrewsbury","6/5",2.2000000000000002,{"$f":"INDEX(Picks!T:T,MATCH(F25,Picks!R:R,0))","v":0},{"$f":"INDEX(Match!O:O,MATCH(D25,Match!S:S,0))","v":"Shrewsbury"},{"$f":"INDEX(Match!V:V,MATCH(D25,Match!S:S,0))","v":"6/5"},{"$f":"INDEX(Match!P:P,MATCH(D25,Match!S:S,0))","v":"Northampton"},{"$f":"INDEX(Match!W:W,MATCH(D25,Match!S:S,0))","v":"11/5"},{"$f":"INDEX(Match!X:X,MATCH(D25,Match!S:S,0))","v":"12/5"},{"$f":"INDEX(Match!Y:Y,MATCH(D25,Match!S:S,0))","v":2.2000000000000002},{"$f":"INDEX(Match!Z:Z,MATCH(D25,Match!S:S,0))","v":3.2},{"$f":"INDEX(Match!AA:AA,MATCH(D25,Match!S:S,0))","v":3.4}]
[{"$f":"IF(Match!A26=\"\",\"\",Match!A26)","v":"2020-09-19"},"1900-01-07",{"$f":"IF(Match!C26=\"\",\"\",Match!C26)","v":"League 1"},{"$f":"IF(Match!S26=\"\",\"\",Match!S26)","v":"Wimbledon  v  Plymouth   8/5  23/10  17/10"},{"$f":"IF(Match!T26=\"\",\"\",Match!T26)","v":"Wimbledon 4-4 Plymouth "},"Wimbledon","8/5",2.6,{"$f":"INDEX(Picks!T:T,MATCH(F26,Picks!R:R,0))","v":0},{"$f":"INDEX(Match!O:O,MATCH(D26,Match!S:S,0))","v":"Wimbledon"},{"$f":"INDEX(Match!V:V,MATCH(D26,Match!S:S,0))","v":"8/5"},{"$f":"INDEX(Match!P:P,MATCH(D26,Match!S:S,0))","v":"Plymouth"},{"$f":"INDEX(Match!W:W,MATCH(D26,Match!S:S,0))","v":"23/10"},{"$f":"INDEX(Match!X:X,MATCH(D26,Match!S:S,0))","v":"17/10"},{"$f":"INDEX(Match!Y:Y,MATCH(D26,Match!S:S,0))","v":2.6},{"$f":"INDEX(Match!Z:Z,MATCH(D26,Match!S:S,0))","v":3.3},{"$f":"INDEX(Match!AA:AA,MATCH(D26,Match!S:S,0))","v":2.7}]
[{"$f":"IF(Match!A27=\"\",\"\",Match!A27)","v":"2020-09-19"},"1900-01-07",{"$f":"IF(Match!C27=\"\",\"\",Match!C27)","v":"League 2"},{"$f":"IF(Match!S27=\"\",\"\",Match!S27)","v":"Carlisle  v  Southend   21/20  12/5  13/5"},{"$f":"IF(Match!T27=\"\",\"\",Match!T27)","v":"Carlisle 2-0 Southend "},"Carlisle","21/20",2.0499999999999998,{"$f":"INDEX(Picks!T:T,MATCH(F27,Picks!R:R,0))","v":1},{"$f":"INDEX(Match!O:O,MATCH(D27,Match!S:S,0))","v":"Carlisle"},{"$f":"INDEX(Match!V:V,MATCH(D27,Match!S:S,0))","v":"21/20"},{"$f":"INDEX(Match!P:P,MATCH(D27,Match!S:S,0))","v":"Southend"},{"$f":"INDEX(Match!W:W,MATCH(D27,Match!S:S,0))","v":"12/5"},{"$f":"INDEX(Match!X:X,MATCH(D27,Match!S:S,0))","v":"13/5"},{"$f":"INDEX(Match!Y:Y,MATCH(D27,Match!S:S,0))","v":2.0499999999999998},{"$f":"INDEX(Match!Z:Z,MATCH(D27,Match!S:S,0))","v":3.4},{"$f":"INDEX(Match!AA:AA,MATCH(D27,Match!S:S,0))","v":3.6}]
[{"$f":"IF(Match!A28=\"\",\"\",Match!A28)","v":"2020-09-19"},"1900-01-07",{"$f":"IF(Match!C28=\"\",\"\",Match!C28)","v":"League 2"},{"$f":"IF(Match!S28=\"\",\"\",Match!S28)","v":"Colchester  v  Bolton   13/8  23/10  17/10"},{"$f":"IF(Match!T28=\"\",\"\",Match!T28)","v":"Colchester 2-0 Bolton "},"Colchester","13/8",2.625,{"$f":"INDEX(Picks!T:T,MATCH(F28,Picks!R:R,0))","v":1},{"$f":"INDEX(Match!O:O,MATCH(D28,Match!S:S,0))","v":"Colchester"},{"$f":"INDEX(Match!V:V,MATCH(D28,Match!S:S,0))","v":"13/8"},{"$f":"INDEX(Match!P:P,MATCH(D28,Match!S:S,0))","v":"Bolton"},{"$f":"INDEX(Match!W:W,MATCH(D28,Match!S:S,0))","v":"23/10"},{"$f":"INDEX(Match!X:X,MATCH(D28,Match!S:S,0))","v":"17/10"},{"$f":"INDEX(Match!Y:Y,MATCH(D28,Match!S:S,0))","v":2.625},{"$f":"INDEX(Match!Z:Z,MATCH(D28,Match!S:S,0))","v":3.3},{"$f":"INDEX(Match!AA:AA,MATCH(D28,Match!S:S,0))","v":2.7}]
[{"$f":"IF(Match!A29=\"\",\"\",Match!A29)","v":"2020-09-19"},"1900-01-07",{"$f":"IF(Match!C29=\"\",\"\",Match!C29)","v":"League 2"},{"$f":"IF(Match!S29=\"\",\"\",Match!S29)","v":"Crawley  v  Scunthorpe   13/10  23/10  21/10"},{"$f":"IF(Match!T29=\"\",\"\",Match!T29)","v":"Crawley 1-0 Scunthorpe "},"Crawley","13/10",2.2999999999999998,{"$f":"INDEX(Picks!T:T,MATCH(F29,Picks!R:R,0))","v":1},{"$f":"INDEX(Match!O:O,MATCH(D29,Match!S:S,0))","v":"Crawley"},{"$f":"INDEX(Match!V:V,MATCH(D29,Match!S:S,0))","v":"13/10"},{"$f":"INDEX(Match!P:P,MATCH(D29,Match!S:S,0))","v":"Scunthorpe"},{"$f":"INDEX(Match!W:W,MATCH(D29,Match!S:S,0))","v":"23/10"},{"$f":"INDEX(Match!X:X,MATCH(D29,Match!S:S,0))","v":"21/10"},{"$f":"INDEX(Match!Y:Y,MATCH(D29,Match!S:S,0))","v":2.2999999999999998},{"$f":"INDEX(Match!Z:Z,MATCH(D29,Match!S:S,0))","v":3.3},{"$f":"INDEX(Match!AA:AA,MATCH(D29,Match!S:S,0))","v":3.1}]
[{"$f":"IF(Match!A30=\"\",\"\",Match!A30)","v":"2020-09-19"},"1900-01-07",{"$f":"IF(Match!C30=\"\",\"\",Match!C30)","v":"League 2"},{"$f":"IF(Match!S30=\"\",\"\",Match!S30)","v":"Exeter  v  Port Vale   5/4  11/5  9/4"},{"$f":"IF(Match!T30=\"\",\"\",Match!T30)","v":"Exeter 0-2 Port Vale "},"Exeter","5/4",2.25,{"$f":"INDEX(Picks!T:T,MATCH(F30,Picks!R:R,0))","v":0},{"$f":"INDEX(Match!O:O,MATCH(D30,Match!S:S,0))","v":"Exeter"},{"$f":"INDEX(Match!V:V,MATCH(D30,Match!S:S,0))","v":"5/4"},{"$f":"INDEX(Match!P:P,MATCH(D30,Match!S:S,0))","v":"Port Vale"},{"$f":"INDEX(Match!W:W,MATCH(D30,Match!S:S,0))","v":"11/5"},{"$f":"INDEX(Match!X:X,MATCH(D30,Match!S:S,0))","v":"9/4"},{"$f":"INDEX(Match!Y:Y,MATCH(D30,Match!S:S,0))","v":2.25},{"$f":"INDEX(Match!Z:Z,MATCH(D30,Match!S:S,0))","v":3.2},{"$f":"INDEX(Match!AA:AA,MATCH(D30,Match!S:S,0))","v":3.25}]
[{"$f":"IF(Match!A31=\"\",\"\",Match!A31)","v":"2020-09-19"},"1900-01-07",{"$f":"IF(Match!C31=\"\",\"\",Match!C31)","v":"League 2"},{"$f":"IF(Match!S31=\"\",\"\",Match!S31)","v":"Forest Green  v  Bradford   13/10  9/4  11/5"},{"$f":"IF(Match!T31=\"\",\"\",Match!T31)","v":"Forest Green 2-2 Bradford "},"Forest Green","13/10",2.2999999999999998,{"$f":"INDEX(Picks!T:T,MATCH(F31,Picks!R:R,0))","v":0},{"$f":"INDEX(Match!O:O,MATCH(D31,Match!S:S,0))","v":"Forest Green"},{"$f":"INDEX(Match!V:V,MATCH(D31,Match!S:S,0))","v":"13/10"},{"$f":"INDEX(Match!P:P,MATCH(D31,Match!S:S,0))","v":"Bradford"},{"$f":"INDEX(Match!W:W,MATCH(D31,Match!S:S,0))","v":"9/4"},{"$f":"INDEX(Match!X:X,MATCH(D31,Match!S:S,0))","v":"11/5"},{"$f":"INDEX(Match!Y:Y,MATCH(D31,Match!S:S,0))","v":2.2999999999999998},{"$f":"INDEX(Match!Z:Z,MATCH(D31,Match!S:S,0))","v":3.25},{"$f":"INDEX(Match!AA:AA,MATCH(D31,Match!S:S,0))","v":3.2}]
[{"$f":"IF(Match!A32=\"\",\"\",Match!A32)","v":"2020-09-19"},"1900-01-07",{"$f":"IF(Match!C32=\"\",\"\",Match!C32)","v":"League 2"},{"$f":"IF(Match!S32=\"\",\"\",Match!S32)","v":"Grimsby  v  Salford   21/10  23/10  13/10"},{"$f":"IF(Match!T32=\"\",\"\",Match!T32)","v":"Grimsby 0-4 Salford "},"Grimsby","21/10",3.1,{"$f":"INDEX(Picks!T:T,MATCH(F32,Picks!R:R,0))","v":0},{"$f":"INDEX(Match!O:O,MATCH(D32,Match!S:S,0))","v":"Grimsby"},{"$f":"INDEX(Match!V:V,MATCH(D32,Match!S:S,0))","v":"21/10"},{"$f":"INDEX(Match!P:P,MATCH(D32,Match!S:S,0))","v":"Salford"},{"$f":"INDEX(Match!W:W,MATCH(D32,Match!S:S,0))","v":"23/10"},{"$f":"INDEX(Match!X:X,MATCH(D32,Match!S:S,0))","v":"13/10"},{"$f":"INDEX(Match!Y:Y,MATCH(D32,Match!S:S,0))","v":3.1},{"$f":"INDEX(Match!Z:Z,MATCH(D32,Match!S:S,0))","v":3.3},{"$f":"INDEX(Match!AA:AA,MATCH(D32,Match!S:S,0))","v":2.2999999999999998}]
[{"$f":"IF(Match!A33=\"\",\"\",Match!A33)","v":"2020-09-19"},"1900-01-07",{"$f":"IF(Match!C33=\"\",\"\",Match!C33)","v":"League 2"},{"$f":"IF(Match!S33=\"\",\"\",Match!S33)","v":"Harrogate  v  Walsall   6/5  23/10  23/10"},{"$f":"IF(Match!T33=\"\",\"\",Match!T33)","v":"Harrogate 2-2 Walsall "},{"$f":"IF(D33=\"\",\"\",J33)","v":"Harrogate"},"6/5",2.2000000000000002,{"$f":"INDEX(Picks!T:T,MATCH(F33,Picks!R:R,0))","v":0},{"$f":"INDEX(Match!O:O,MATCH(D33,Match!S:S,0))","v":"Harrogate"},{"$f":"INDEX(Match!V:V,MATCH(D33,Match!S:S,0))","v":"6/5"},{"$f":"INDEX(Match!P:P,MATCH(D33,Match!S:S,0))","v":"Walsall"},{"$f":"INDEX(Match!W:W,MATCH(D33,Match!S:S,0))","v":"23/10"},{"$f":"INDEX(Match!X:X,MATCH(D33,Match!S:S,0))","v":"23/10"},{"$f":"INDEX(Match!Y:Y,MATCH(D33,Match!S:S,0))","v":2.2000000000000002},{"$f":"INDEX(Match!Z:Z,MATCH(D33,Match!S:S,0))","v":3.3},{"$f":"INDEX(Match!AA:AA,MATCH(D33,Match!S:S,0))","v":3.3}]
[{"$f":"IF(Match!A34=\"\",\"\",Match!A34)","v":"2020-09-19"},"1900-01-07",{"$f":"IF(Match!C34=\"\",\"\",Match!C34)","v":"League 2"},{"$f":"IF(Match!S34=\"\",\"\",Match!S34)","v":"Morecambe  v  Cambridge   27/20  9/4  21/10"},{"$f":"IF(Match!T34=\"\",\"\",Match!T34)","v":"Morecambe 0-5 Cambridge "},"Morecambe","27/20",2.35,{"$f":"INDEX(Picks!T:T,MATCH(F34,Picks!R:R,0))","v":0},{"$f":"INDEX(Match!O:O,MATCH(D34,Match!S:S,0))","v":"Morecambe"},{"$f":"INDEX(Match!V:V,MATCH(D34,Match!S:S,0))","v":"27/20"},{"$f":"INDEX(Match!P:P,MATCH(D34,Match!S:S,0))","v":"Cambridge"},{"$f":"INDEX(Match!W:W,MATCH(D34,Match!S:S,0))","v":"9/4"},{"$f":"INDEX(Match!X:X,MATCH(D34,Match!S:S,0))","v":"21/10"},{"$f":"INDEX(Match!Y:Y,MATCH(D34,Match!S:S,0))","v":2.35},{"$f":"INDEX(Match!Z:Z,MATCH(D34,Match!S:S,0))","v":3.25},{"$f":"INDEX(Match!AA:AA,MATCH(D34,Match!S:S,0))","v":3.1}]
[{"$f":"IF(Match!A35=\"\",\"\",Match!A35)","v":"2020-09-19"},"1900-01-07",{"$f":"IF(Match!C35=\"\",\"\",Match!C35)","v":"League 2"},{"$f":"IF(Match!S35=\"\",\"\",Match!S35)","v":"Newport  v  Barrow   5/4  11/5  23/10"},{"$f":"IF(Match!T35=\"\",\"\",Match!T35)","v":"Newport 2-1 Barrow "},"Newport","5/4",2.25,{"$f":"INDEX(Picks!T:T,MATCH(F35,Picks!R:R,0))","v":1},{"$f":"INDEX(Match!O:O,MATCH(D35,Match!S:S,0))","v":"Newport"},{"$f":"INDEX(Match!V:V,MATCH(D35,Match!S:S,0))","v":"5/4"},{"$f":"INDEX(Match!P:P,MATCH(D35,Match!S:S,0))","v":"Barrow"},{"$f":"INDEX(Match!W:W,MATCH(D35,Match!S:S,0))","v":"11/5"},{"$f":"INDEX(Match!X:X,MATCH(D35,Match!S:S,0))","v":"23/10"},{"$f":"INDEX(Match!Y:Y,MATCH(D35,Match!S:S,0))","v":2.25},{"$f":"INDEX(Match!Z:Z,MATCH(D35,Match!S:S,0))","v":3.2},{"$f":"INDEX(Match!AA:AA,MATCH(D35,Match!S:S,0))","v":3.3}]
[{"$f":"IF(Match!A36=\"\",\"\",Match!A36)","v":"2020-09-19"},"1900-01-07",{"$f":"IF(Match!C36=\"\",\"\",Match!C36)","v":"League 2"},{"$f":"IF(Match!S36=\"\",\"\",Match!S36)","v":"Orient  v  Mansfield   9/5  12/5  29/20"},{"$f":"IF(Match!T36=\"\",\"\",Match!T36)","v":"Orient 2-2 Mansfield "},"Orient","9/5",2.8,{"$f":"INDEX(Picks!T:T,MATCH(F36,Picks!R:R,0))","v":0},{"$f":"INDEX(Match!O:O,MATCH(D36,Match!S:S,0))","v":"Orient"},{"$f":"INDEX(Match!V:V,MATCH(D36,Match!S:S,0))","v":"9/5"},{"$f":"INDEX(Match!P:P,MATCH(D36,Match!S:S,0))","v":"Mansfield"},{"$f":"INDEX(Match!W:W,MATCH(D36,Match!S:S,0))","v":"12/5"},{"$f":"INDEX(Match!X:X,MATCH(D36,Match!S:S,0))","v":"29/20"},{"$f":"INDEX(Match!Y:Y,MATCH(D36,Match!S:S,0))","v":2.8},{"$f":"INDEX(Match!Z:Z,MATCH(D36,Match!S:S,0))","v":3.4},{"$f":"INDEX(Match!AA:AA,MATCH(D36,Match!S:S,0))","v":2.4500000000000002}]
[{"$f":"IF(Match!A37=\"\",\"\",Match!A37)","v":"2020-09-19"},"1900-01-07",{"$f":"IF(Match!C37=\"\",\"\",Match!C37)","v":"League 2"},{"$f":"IF(Match!S37=\"\",\"\",Match!S37)","v":"Stevenage  v  Oldham   7/5  11/5  2/1"},{"$f":"IF(Match!T37=\"\",\"\",Match!T37)","v":"Stevenage 3-0 Oldham "},"Stevenage","7/5",2.4,{"$f":"INDEX(Picks!T:T,MATCH(F37,Picks!R:R,0))","v":1},{"$f":"INDEX(Match!O:O,MATCH(D37,Match!S:S,0))","v":"Stevenage"},{"$f":"INDEX(Match!V:V,MATCH(D37,Match!S:S,0))","v":"7/5"},{"$f":"INDEX(Match!P:P,MATCH(D37,Match!S:S,0))","v":"Oldham"},{"$f":"INDEX(Match!W:W,MATCH(D37,Match!S:S,0))","v":"11/5"},{"$f":"INDEX(Match!X:X,MATCH(D37,Match!S:S,0))","v":"2/1"},{"$f":"INDEX(Match!Y:Y,MATCH(D37,Match!S:S,0))","v":2.4},{"$f":"INDEX(Match!Z:Z,MATCH(D37,Match!S:S,0))","v":3.2},{"$f":"INDEX(Match!AA:AA,MATCH(D37,Match!S:S,0))","v":3}]
[{"$f":"IF(Match!A38=\"\",\"\",Match!A38)","v":"2020-09-19"},"1900-01-07",{"$f":"IF(Match!C38=\"\",\"\",Match!C38)","v":"League 2"},{"$f":"IF(Match!S38=\"\",\"\",Match!S38)","v":"Tranmere  v  Cheltenham   13/10  23/10  21/10"},{"$f":"IF(Match!T38=\"\",\"\",Match!T38)","v":"Tranmere 0-3 Cheltenham "},"Tranmere","13/10",2.2999999999999998,{"$f":"INDEX(Picks!T:T,MATCH(F38,Picks!R:R,0))","v":0},{"$f":"INDEX(Match!O:O,MATCH(D38,Match!S:S,0))","v":"Tranmere"},{"$f":"INDEX(Match!V:V,MATCH(D38,Match!S:S,0))","v":"13/10"},{"$f":"INDEX(Match!P:P,MATCH(D38,Match!S:S,0))","v":"Cheltenham"},{"$f":"INDEX(Match!W:W,MATCH(D38,Match!S:S,0))","v":"23/10"},{"$f":"INDEX(Match!X:X,MATCH(D38,Match!S:S,0))","v":"21/10"},{"$f":"INDEX(Match!Y:Y,MATCH(D38,Match!S:S,0))","v":2.2999999999999998},{"$f":"INDEX(Match!Z:Z,MATCH(D38,Match!S:S,0))","v":3.3},{"$f":"INDEX(Match!AA:AA,MATCH(D38,Match!S:S,0))","v":3.1}]
[{"$f":"IF(Match!A39=\"\",\"\",Match!A39)","v":"2020-09-20"},"1900-01-01",{"$f":"IF(Match!C39=\"\",\"\",Match!C39)","v":"Premier"},{"$f":"IF(Match!S39=\"\",\"\",Match!S39)","v":"Chelsea  v  Liverpool   21/10  27/10  6/5"},{"$f":"IF(Match!T39=\"\",\"\",Match!T39)","v":"Chelsea 0-2 Liverpool "},"Chelsea","21/10",3.1,{"$f":"INDEX(Picks!T:T,MATCH(F39,Picks!R:R,0))","v":0},{"$f":"INDEX(Match!O:O,MATCH(D39,Match!S:S,0))","v":"Chelsea"},{"$f":"INDEX(Match!V:V,MATCH(D39,Match!S:S,0))","v":"21/10"},{"$f":"INDEX(Match!P:P,MATCH(D39,Match!S:S,0))","v":"Liverpool"},{"$f":"INDEX(Match!W:W,MATCH(D39,Match!S:S,0))","v":"27/10"},{"$f":"INDEX(Match!X:X,MATCH(D39,Match!S:S,0))","v":"6/5"},{"$f":"INDEX(Match!Y:Y,MATCH(D39,Match!S:S,0))","v":3.1},{"$f":"INDEX(Match!Z:Z,MATCH(D39,Match!S:S,0))","v":3.7},{"$f":"INDEX(Match!AA:AA,MATCH(D39,Match!S:S,0))","v":2.2000000000000002}]
[{"$f":"IF(Match!A40=\"\",\"\",Match!A40)","v":"2020-09-20"},"1900-01-01",{"$f":"IF(Match!C40=\"\",\"\",Match!C40)","v":"Premier"},{"$f":"IF(Match!S40=\"\",\"\",Match!S40)","v":"Leicester  v  Burnley   13/20  14/5  9/2"},{"$f":"IF(Match!T40=\"\",\"\",Match!T40)","v":"Leicester 4-2 Burnley "},"Leicester","13/20",1.65,{"$f":"INDEX(Picks!T:T,MATCH(F40,Picks!R:R,0))","v":1},{"$f":"INDEX(Match!O:O,MATCH(D40,Match!S:S,0))","v":"Leicester"},{"$f":"INDEX(Match!V:V,MATCH(D40,Match!S:S,0))","v":"13/20"},{"$f":"INDEX(Match!P:P,MATCH(D40,Match!S:S,0))","v":"Burnley"},{"$f":"INDEX(Match!W:W,MATCH(D40,Match!S:S,0))","v":"14/5"},{"$f":"INDEX(Match!X:X,MATCH(D40,Match!S:S,0))","v":"9/2"},{"$f":"INDEX(Match!Y:Y,MATCH(D40,Match!S:S,0))","v":1.65},{"$f":"INDEX(Match!Z:Z,MATCH(D40,Match!S:S,0))","v":3.8},{"$f":"INDEX(Match!AA:AA,MATCH(D40,Match!S:S,0))","v":5.5}]
[{"$f":"IF(Match!A41=\"\",\"\",Match!A41)","v":"2020-09-20"},"1900-01-01",{"$f":"IF(Match!C41=\"\",\"\",Match!C41)","v":"Premier"},{"$f":"IF(Match!S41=\"\",\"\",Match!S41)","v":"Newcastle  v  Brighton   31/20  11/5  19/10"},{"$f":"IF(Match!T41=\"\",\"\",Match!T41)","v":"Newcastle 0-3 Brighton "},"Newcastle","31/20",2.5499999999999998,{"$f":"INDEX(Picks!T:T,MATCH(F41,Picks!R:R,0))","v":0},{"$f":"INDEX(Match!O:O,MATCH(D41,Match!S:S,0))","v":"Newcastle"},{"$f":"INDEX(Match!V:V,MATCH(D41,Match!S:S,0))","v":"31/20"},{"$f":"INDEX(Match!P:P,MATCH(D41,Match!S:S,0))","v":"Brighton"},{"$f":"INDEX(Match!W:W,MATCH(D41,Match!S:S,0))","v":"11/5"},{"$f":"INDEX(Match!X:X,MATCH(D41,Match!S:S,0))","v":"19/10"},{"$f":"INDEX(Match!Y:Y,MATCH(D41,Match!S:S,0))","v":2.5499999999999998},{"$f":"INDEX(Match!Z:Z,MATCH(D41,Match!S:S,0))","v":3.2},{"$f":"INDEX(Match!AA:AA,MATCH(D41,Match!S:S,0))","v":2.9}]
[{"$f":"IF(Match!A42=\"\",\"\",Match!A42)","v":"2020-09-20"},"1900-01-01",{"$f":"IF(Match!C42=\"\",\"\",Match!C42)","v":"Premier"},{"$f":"IF(Match!S42=\"\",\"\",Match!S42)","v":"Southampton  v  Spurs   2/1  9/4  29/20"},{"$f":"IF(Match!T42=\"\",\"\",Match!T42)","v":"Southampton 2-5 Spurs "},"Southampton","2/1",3,{"$f":"INDEX(Picks!T:T,MATCH(F42,Picks!R:R,0))","v":0},{"$f":"INDEX(Match!O:O,MATCH(D42,Match!S:S,0))","v":"Southampton"},{"$f":"INDEX(Match!V:V,MATCH(D42,Match!S:S,0))","v":"2/1"},{"$f":"INDEX(Match!P:P,MATCH(D42,Match!S:S,0))","v":"Spurs"},{"$f":"INDEX(Match!W:W,MATCH(D42,Match!S:S,0))","v":"9/4"},{"$f":"INDEX(Match!X:X,MATCH(D42,Match!S:S,0))","v":"29/20"},{"$f":"INDEX(Match!Y:Y,MATCH(D42,Match!S:S,0))","v":3},{"$f":"INDEX(Match!Z:Z,MATCH(D42,Match!S:S,0))","v":3.25},{"$f":"INDEX(Match!AA:AA,MATCH(D42,Match!S:S,0))","v":2.4500000000000002}]
[{"$f":"IF(Match!A43=\"\",\"\",Match!A43)","v":"2020-09-20"},"1900-01-01",{"$f":"IF(Match!C43=\"\",\"\",Match!C43)","v":"Champ"},{"$f":"IF(Match!S43=\"\",\"\",Match!S43)","v":"Stoke  v  Bristol C   11/10  12/5  13/5"},{"$f":"IF(Match!T43=\"\",\"\",Match!T43)","v":"Stoke 0-2 Bristol C "},"Stoke","11/10",2.1,{"$f":"INDEX(Picks!T:T,MATCH(F43,Picks!R:R,0))","v":0},{"$f":"INDEX(Match!O:O,MATCH(D43,Match!S:S,0))","v":"Stoke"},{"$f":"INDEX(Match!V:V,MATCH(D43,Match!S:S,0))","v":"11/10"},{"$f":"INDEX(Match!P:P,MATCH(D43,Match!S:S,0))","v":"Bristol C"},{"$f":"INDEX(Match!W:W,MATCH(D43,Match!S:S,0))","v":"12/5"},{"$f":"INDEX(Match!X:X,MATCH(D43,Match!S:S,0))","v":"13/5"},{"$f":"INDEX(Match!Y:Y,MATCH(D43,Match!S:S,0))","v":2.1},{"$f":"INDEX(Match!Z:Z,MATCH(D43,Match!S:S,0))","v":3.4},{"$f":"INDEX(Match!AA:AA,MATCH(D43,Match!S:S,0))","v":3.6}]
[{"$f":"IF(Match!A44=\"\",\"\",Match!A44)","v":"2020-09-20"},"1900-01-01",{"$f":"IF(Match!C44=\"\",\"\",Match!C44)","v":"League 1"},{"$f":"IF(Match!S44=\"\",\"\",Match!S44)","v":"Rochdale  v  Portsmouth   15/4  13/5  3/4"},{"$f":"IF(Match!T44=\"\",\"\",Match!T44)","v":"Rochdale 0-0 Portsmouth "},"Rochdale","15/4",4.75,{"$f":"INDEX(Picks!T:T,MATCH(F44,Picks!R:R,0))","v":0},{"$f":"INDEX(Match!O:O,MATCH(D44,Match!S:S,0))","v":"Rochdale"},{"$f":"INDEX(Match!V:V,MATCH(D44,Match!S:S,0))","v":"15/4"},{"$f":"INDEX(Match!P:P,MATCH(D44,Match!S:S,0))","v":"Portsmouth"},{"$f":"INDEX(Match!W:W,MATCH(D44,Match!S:S,0))","v":"13/5"},{"$f":"INDEX(Match!X:X,MATCH(D44,Match!S:S,0))","v":"3/4"},{"$f":"INDEX(Match!Y:Y,MATCH(D44,Match!S:S,0))","v":4.75},{"$f":"INDEX(Match!Z:Z,MATCH(D44,Match!S:S,0))","v":3.6},{"$f":"INDEX(Match!AA:AA,MATCH(D44,Match!S:S,0))","v":1.75}]
[{"$f":"IF(Match!A45=\"\",\"\",Match!A45)","v":""},"",{"$f":"IF(Match!C45=\"\",\"\",Match!C45)","v":""},{"$f":"IF(Match!S45=\"\",\"\",Match!S45)","v":""},{"$f":"IF(Match!T45=\"\",\"\",Match!T45)","v":" -  "},"","","",{"$f":"INDEX(Picks!T:T,MATCH(F45,Picks!R:R,0))","v":{"$error":"#N/A"}},{"$f":"INDEX(Match!O:O,MATCH(D45,Match!S:S,0))","v":""},{"$f":"INDEX(Match!V:V,MATCH(D45,Match!S:S,0))","v":"/"},{"$f":"INDEX(Match!P:P,MATCH(D45,Match!S:S,0))","v":""},{"$f":"INDEX(Match!W:W,MATCH(D45,Match!S:S,0))","v":"/"},{"$f":"INDEX(Match!X:X,MATCH(D45,Match!S:S,0))","v":"/"},{"$f":"INDEX(Match!Y:Y,MATCH(D45,Match!S:S,0))","v":""},{"$f":"INDEX(Match!Z:Z,MATCH(D45,Match!S:S,0))","v":""},{"$f":"INDEX(Match!AA:AA,MATCH(D45,Match!S:S,0))","v":""}]
[{"$f":"IF(Match!A46=\"\",\"\",Match!A46)","v":""},"",{"$f":"IF(Match!C46=\"\",\"\",Match!C46)","v":""},{"$f":"IF(Match!S46=\"\",\"\",Match!S46)","v":""},{"$f":"IF(Match!T46=\"\",\"\",Match!T46)","v":" -  "},"",{"$f":"IF(D46=\"\",\"\",K46)","v":""},"",{"$f":"INDEX(Picks!T:T,MATCH(F46,Picks!R:R,0))","v":{"$error":"#N/A"}},{"$f":"INDEX(Match!O:O,MATCH(D46,Match!S:S,0))","v":""},{"$f":"INDEX(Match!V:V,MATCH(D46,Match!S:S,0))","v":"/"},{"$f":"INDEX(Match!P:P,MATCH(D46,Match!S:S,0))","v":""},{"$f":"INDEX(Match!W:W,MATCH(D46,Match!S:S,0))","v":"/"},{"$f":"INDEX(Match!X:X,MATCH(D46,Match!S:S,0))","v":"/"},{"$f":"INDEX(Match!Y:Y,MATCH(D46,Match!S:S,0))","v":""},{"$f":"INDEX(Match!Z:Z,MATCH(D46,Match!S:S,0))","v":""},{"$f":"INDEX(Match!AA:AA,MATCH(D46,Match!S:S,0))","v":""}]
[{"$f":"IF(Match!A47=\"\",\"\",Match!A47)","v":""},"",{"$f":"IF(Match!C47=\"\",\"\",Match!C47)","v":""},{"$f":"IF(Match!S47=\"\",\"\",Match!S47)","v":""},{"$f":"IF(Match!T47=\"\",\"\",Match!T47)","v":" - "},{"$f":"IF(D47=\"\",\"\",J47)","v":""},{"$f":"IF(D47=\"\",\"\",K47)","v":""},"",{"$f":"INDEX(Picks!T:T,MATCH(F47,Picks!R:R,0))","v":{"$error":"#N/A"}},{"$f":"INDEX(Match!O:O,MATCH(D47,Match!S:S,0))","v":""},{"$f":"INDEX(Match!V:V,MATCH(D47,Match!S:S,0))","v":"/"},{"$f":"INDEX(Match!P:P,MATCH(D47,Match!S:S,0))","v":""},{"$f":"INDEX(Match!W:W,MATCH(D47,Match!S:S,0))","v":"/"},{"$f":"INDEX(Match!X:X,MATCH(D47,Match!S:S,0))","v":"/"},{"$f":"INDEX(Match!Y:Y,MATCH(D47,Match!S:S,0))","v":""},{"$f":"INDEX(Match!Z:Z,MATCH(D47,Match!S:S,0))","v":""},{"$f":"INDEX(Match!AA:AA,MATCH(D47,Match!S:S,0))","v":""}]
[{"$f":"IF(Match!A2=\"\",\"\",Match!A2)","v":"2020-09-18"},"1900-01-06",null,null,null,{"$f":"IF(D2=\"\",\"\",J2&\" draw\")","v":"Coventry draw"},{"$f":"IF(D2=\"\",\"\",M2)","v":"9/4"},{"$f":"IF(D2=\"\",\"\",P2)","v":3.25},{"$f":"INDEX(Picks!T:T,MATCH(F48,Picks!R:R,0))","v":0}]
[{"$f":"IF(Match!A3=\"\",\"\",Match!A3)","v":"2020-09-19"},"1900-01-07",null,null,null,"Arsenal draw","17/5",{"$f":"IF(D3=\"\",\"\",P3)","v":4.4000000000000004},{"$f":"INDEX(Picks!T:T,MATCH(F49,Picks!R:R,0))","v":0}]
[{"$f":"IF(Match!A4=\"\",\"\",Match!A4)","v":"2020-09-19"},"1900-01-07",null,null,null,"Everton draw","16/5",4.2,{"$f":"INDEX(Picks!T:T,MATCH(F50,Picks!R:R,0))","v":0}]
[{"$f":"IF(Match!A5=\"\",\"\",Match!A5)","v":"2020-09-19"},"1900-01-07",null,null,null,"Leeds draw","3/1",4,{"$f":"INDEX(Picks!T:T,MATCH(F51,Picks!R:R,0))","v":0}]
[{"$f":"IF(Match!A6=\"\",\"\",Match!A6)","v":"2020-09-19"},"1900-01-07",null,null,null,"Man U draw","9/2",5.5,{"$f":"INDEX(Picks!T:T,MATCH(F52,Picks!R:R,0))","v":0}]
[{"$f":"IF(Match!A7=\"\",\"\",Match!A7)","v":"2020-09-19"},"1900-01-07",null,null,null,"Blackburn draw","3/1",4,{"$f":"INDEX(Picks!T:T,MATCH(F53,Picks!R:R,0))","v":0}]
[{"$f":"IF(Match!A8=\"\",\"\",Match!A8)","v":"2020-09-19"},"1900-01-07",null,null,null,"Brentford draw","14/5",3.8,{"$f":"INDEX(Picks!T:T,MATCH(F54,Picks!R:R,0))","v":0}]
[{"$f":"IF(Match!A9=\"\",\"\",Match!A9)","v":"2020-09-19"},"1900-01-07",null,null,null,"Forest draw","11/5",3.2,{"$f":"INDEX(Picks!T:T,MATCH(F55,Picks!R:R,0))","v":0}]
[{"$f":"IF(Match!A10=\"\",\"\",Match!A10)","v":"2020-09-19"},"1900-01-07",null,null,null,"Luton draw","9/4",3.25,{"$f":"INDEX(Picks!T:T,MATCH(F56,Picks!R:R,0))","v":0}]
[{"$f":"IF(Match!A11=\"\",\"\",Match!A11)","v":"2020-09-19"},"1900-01-07",null,null,null,"Middlesbro draw","11/5",3.2,{"$f":"INDEX(Picks!T:T,MATCH(F57,Picks!R:R,0))","v":1}]
[{"$f":"IF(Match!A12=\"\",\"\",Match!A12)","v":"2020-09-19"},"1900-01-07",null,null,null,"Norwich draw","5/2",3.5,{"$f":"INDEX(Picks!T:T,MATCH(F58,Picks!R:R,0))","v":1}]
[{"$f":"IF(Match!A13=\"\",\"\",Match!A13)","v":"2020-09-19"},"1900-01-07",null,null,null,"Reading draw","23/10",3.3,{"$f":"INDEX(Picks!T:T,MATCH(F59,Picks!R:R,0))","v":0}]
[{"$f":"IF(Match!A14=\"\",\"\",Match!A14)","v":"2020-09-19"},"1900-01-07",null,null,null,"Rotherham draw","21/10",3.1,{"$f":"INDEX(Picks!T:T,MATCH(F60,Picks!R:R,0))","v":0}]
[{"$f":"IF(Match!A15=\"\",\"\",Match!A15)","v":"2020-09-19"},"1900-01-07",null,null,null,"Sheff W draw","11/5",3.2,{"$f":"INDEX(Picks!T:T,MATCH(F61,Picks!R:R,0))","v":1}]
[{"$f":"IF(Match!A16=\"\",\"\",Match!A16)","v":"2020-09-19"},"1900-01-07",null,null,null,"Swansea draw","11/5",3.2,{"$f":"INDEX(Picks!T:T,MATCH(F62,Picks!R:R,0))","v":1}]
[{"$f":"IF(Match!A17=\"\",\"\",Match!A17)","v":"2020-09-19"},"1900-01-07",null,null,null,"Blackpool draw","23/10",3.3,{"$f":"INDEX(Picks!T:T,MATCH(F63,Picks!R:R,0))","v":0}]
[{"$f":"IF(Match!A18=\"\",\"\",Match!A18)","v":"2020-09-19"},"1900-01-07",null,null,null,"Bristol R draw","23/10",3.3,{"$f":"INDEX(Picks!T:T,MATCH(F64,Picks!R:R,0))","v":0}]
[{"$f":"IF(Match!A19=\"\",\"\",Match!A19)","v":"2020-09-19"},"1900-01-07",null,null,null,"Burton draw","23/10",3.3,{"$f":"INDEX(Picks!T:T,MATCH(F65,Picks!R:R,0))","v":0}]
[{"$f":"IF(Match!A20=\"\",\"\",Match!A20)","v":"2020-09-19"},"1900-01-07",null,null,null,"Charlton draw","12/5",3.4,{"$f":"INDEX(Picks!T:T,MATCH(F66,Picks!R:R,0))","v":0}]
[{"$f":"IF(Match!A21=\"\",\"\",Match!A21)","v":"2020-09-19"},{"$f":"IF(A67=\"\",\"\",WEEKDAY(A67))","v":"1900-01-07"},null,null,null,"Hull draw","13/5",3.6,{"$f":"INDEX(Picks!T:T,MATCH(F67,Picks!R:R,0))","v":0}]
[{"$f":"IF(Match!A22=\"\",\"\",Match!A22)","v":"2020-09-19"},"1900-01-07",null,null,null,"MK Dons draw","21/10",3.1,{"$f":"INDEX(Picks!T:T,MATCH(F68,Picks!R:R,0))","v":0}]
[{"$f":"IF(Match!A23=\"\",\"\",Match!A23)","v":"2020-09-19"},"1900-01-07",null,null,null,"Oxford draw","11/5",3.2,{"$f":"INDEX(Picks!T:T,MATCH(F69,Picks!R:R,0))","v":0}]
[{"$f":"IF(Match!A24=\"\",\"\",Match!A24)","v":"2020-09-19"},"1900-01-07",null,null,null,"Peterborough draw","9/4",3.25,{"$f":"INDEX(Picks!T:T,MATCH(F70,Picks!R:R,0))","v":0}]
[{"$f":"IF(Match!A25=\"\",\"\",Match!A25)","v":"2020-09-19"},"1900-01-07",null,null,null,"Shrewsbury draw","11/5",3.2,{"$f":"INDEX(Picks!T:T,MATCH(F71,Picks!R:R,0))","v":0}]
[{"$f":"IF(Match!A26=\"\",\"\",Match!A26)","v":"2020-09-19"},"1900-01-07",null,null,null,"Wimbledon draw","23/10",3.3,{"$f":"INDEX(Picks!T:T,MATCH(F72,Picks!R:R,0))","v":1}]
[{"$f":"IF(Match!A27=\"\",\"\",Match!A27)","v":"2020-09-19"},"1900-01-07",null,null,null,"Carlisle draw","12/5",3.4,{"$f":"INDEX(Picks!T:T,MATCH(F73,Picks!R:R,0))","v":0}]
[{"$f":"IF(Match!A28=\"\",\"\",Match!A28)","v":"2020-09-19"},"1900-01-07",null,null,null,"Colchester draw","23/10",3.3,{"$f":"INDEX(Picks!T:T,MATCH(F74,Picks!R:R,0))","v":0}]
[{"$f":"IF(Match!A29=\"\",\"\",Match!A29)","v":"2020-09-19"},"1900-01-07",null,null,null,"Crawley draw","23/10",3.3,{"$f":"INDEX(Picks!T:T,MATCH(F75,Picks!R:R,0))","v":0}]
[{"$f":"IF(Match!A30=\"\",\"\",Match!A30)","v":"2020-09-19"},"1900-01-07",null,null,null,"Exeter draw","11/5",3.2,{"$f":"INDEX(Picks!T:T,MATCH(F76,Picks!R:R,0))","v":0}]
[{"$f":"IF(Match!A31=\"\",\"\",Match!A31)","v":"2020-09-19"},"1900-01-07",null,null,null,"Forest Green draw","9/4",3.25,{"$f":"INDEX(Picks!T:T,MATCH(F77,Picks!R:R,0))","v":1}]
[{"$f":"IF(Match!A32=\"\",\"\",Match!A32)","v":"2020-09-19"},"1900-01-07",null,null,null,"Grimsby draw","23/10",3.3,{"$f":"INDEX(Picks!T:T,MATCH(F78,Picks!R:R,0))","v":0}]
[{"$f":"IF(Match!A33=\"\",\"\",Match!A33)","v":"2020-09-19"},"1900-01-07",null,null,null,"Harrogate draw","23/10",3.3,{"$f":"INDEX(Picks!T:T,MATCH(F79,Picks!R:R,0))","v":1}]
[{"$f":"IF(Match!A34=\"\",\"\",Match!A34)","v":"2020-09-19"},"1900-01-07",null,null,null,"Morecambe draw","9/4",3.25,{"$f":"INDEX(Picks!T:T,MATCH(F80,Picks!R:R,0))","v":0}]
[{"$f":"IF(Match!A35=\"\",\"\",Match!A35)","v":"2020-09-19"},"1900-01-07",null,null,null,"Newport draw","11/5",3.2,{"$f":"INDEX(Picks!T:T,MATCH(F81,Picks!R:R,0))","v":0}]
[{"$f":"IF(Match!A36=\"\",\"\",Match!A36)","v":"2020-09-19"},"1900-01-07",null,null,null,"Orient draw","12/5",3.4,{"$f":"INDEX(Picks!T:T,MATCH(F82,Picks!R:R,0))","v":1}]
[{"$f":"IF(Match!A37=\"\",\"\",Match!A37)","v":"2020-09-19"},"1900-01-07",null,null,null,"Stevenage draw","11/5",3.2,{"$f":"INDEX(Picks!T:T,MATCH(F83,Picks!R:R,0))","v":0}]
[{"$f":"IF(Match!A38=\"\",\"\",Match!A38)","v":"2020-09-19"},"1900-01-07",null,null,null,"Tranmere draw","23/10",3.3,{"$f":"INDEX(Picks!T:T,MATCH(F84,Picks!R:R,0))","v":0}]
[{"$f":"IF(Match!A39=\"\",\"\",Match!A39)","v":"2020-09-20"},"1900-01-01",null,null,null,"Chelsea draw","27/10",3.7,{"$f":"INDEX(Picks!T:T,MATCH(F85,Picks!R:R,0))","v":0}]
[{"$f":"IF(Match!A40=\"\",\"\",Match!A40)","v":"2020-09-20"},"1900-01-01",null,null,null,"Leicester draw","14/5",3.8,{"$f":"INDEX(Picks!T:T,MATCH(F86,Picks!R:R,0))","v":0}]
[{"$f":"IF(Match!A41=\"\",\"\",Match!A41)","v":"2020-09-20"},"1900-01-01",null,null,null,"Newcastle draw","11/5",3.2,{"$f":"INDEX(Picks!T:T,MATCH(F87,Picks!R:R,0))","v":0}]
[{"$f":"IF(Match!A42=\"\",\"\",Match!A42)","v":"2020-09-20"},"1900-01-01",null,null,null,"Southampton draw","9/4",3.25,{"$f":"INDEX(Picks!T:T,MATCH(F88,Picks!R:R,0))","v":0}]
[{"$f":"IF(Match!A43=\"\",\"\",Match!A43)","v":"2020-09-20"},"1900-01-01",null,null,null,"Stoke draw","12/5",3.4,{"$f":"INDEX(Picks!T:T,MATCH(F89,Picks!R:R,0))","v":0}]
[{"$f":"IF(Match!A44=\"\",\"\",Match!A44)","v":"2020-09-20"},"1900-01-01",null,null,null,"Rochdale draw","13/5",3.6,{"$f":"INDEX(Picks!T:T,MATCH(F90,Picks!R:R,0))","v":1}]
[{"$f":"IF(Match!A45=\"\",\"\",Match!A45)","v":""},"",null,null,null,"","","",{"$f":"INDEX(Picks!T:T,MATCH(F91,Picks!R:R,0))","v":{"$error":"#N/A"}}]
[{"$f":"IF(Match!A46=\"\",\"\",Match!A46)","v":""},"",null,null,null,"","","",{"$f":"INDEX(Picks!T:T,MATCH(F92,Picks!R:R,0))","v":{"$error":"#N/A"}}]
[{"$f":"IF(Match!A47=\"\",\"\",Match!A47)","v":""},"",null,null,null,"","","",{"$f":"INDEX(Picks!T:T,MATCH(F93,Picks!R:R,0))","v":{"$error":"#N/A"}}]
[{"$f":"IF(Match!A2=\"\",\"\",Match!A2)","v":"2020-09-18"},"1900-01-06",null,null,null,{"$f":"IF(D2=\"\",\"\",L2)","v":"QPR"},{"$f":"IF(D2=\"\",\"\",N2)","v":"19/10"},{"$f":"IF(D2=\"\",\"\",Q2)","v":2.9},{"$f":"INDEX(Picks!T:T,MATCH(F94,Picks!R:R,0))","v":0}]
[{"$f":"IF(Match!A3=\"\",\"\",Match!A3)","v":"2020-09-19"},"1900-01-07",null,null,null,"West Ham","5/1",{"$f":"IF(D3=\"\",\"\",Q3)","v":6},{"$f":"INDEX(Picks!T:T,MATCH(F95,Picks!R:R,0))","v":0}]
[{"$f":"IF(Match!A4=\"\",\"\",Match!A4)","v":"2020-09-19"},"1900-01-07",null,null,null,"West Brom","5/1",6,{"$f":"INDEX(Picks!T:T,MATCH(F96,Picks!R:R,0))","v":0}]
[{"$f":"IF(Match!A5=\"\",\"\",Match!A5)","v":"2020-09-19"},"1900-01-07",null,null,null,"Fulham","9/2",5.5,{"$f":"INDEX(Picks!T:T,MATCH(F97,Picks!R:R,0))","v":0}]
[{"$f":"IF(Match!A6=\"\",\"\",Match!A6)","v":"2020-09-19"},"1900-01-07",null,null,null,"Palace","10/1",11,{"$f":"INDEX(Picks!T:T,MATCH(F98,Picks!R:R,0))","v":1}]
[{"$f":"IF(Match!A7=\"\",\"\",Match!A7)","v":"2020-09-19"},"1900-01-07",null,null,null,"Wycombe","5/1",6,{"$f":"INDEX(Picks!T:T,MATCH(F99,Picks!R:R,0))","v":0}]
[{"$f":"IF(Match!A8=\"\",\"\",Match!A8)","v":"2020-09-19"},"1900-01-07",null,null,null,"Huddersfield","6/1",7,{"$f":"INDEX(Picks!T:T,MATCH(F100,Picks!R:R,0))","v":0}]
[{"$f":"IF(Match!A9=\"\",\"\",Match!A9)","v":"2020-09-19"},"1900-01-07",null,null,null,"Cardiff","2/1",3,{"$f":"INDEX(Picks!T:T,MATCH(F101,Picks!R:R,0))","v":1}]
[{"$f":"IF(Match!A10=\"\",\"\",Match!A10)","v":"2020-09-19"},"1900-01-07",null,null,null,"Derby","31/20",2.5499999999999998,{"$f":"INDEX(Picks!T:T,MATCH(F102,Picks!R:R,0))","v":0}]
[{"$f":"IF(Match!A11=\"\",\"\",Match!A11)","v":"2020-09-19"},"1900-01-07",null,null,null,"Bournemouth","17/10",2.7,{"$f":"INDEX(Picks!T:T,MATCH(F103,Picks!R:R,0))","v":0}]
[{"$f":"IF(Match!A12=\"\",\"\",Match!A12)","v":"2020-09-19"},"1900-01-07",null,null,null,"Preston","19/5",4.8,{"$f":"INDEX(Picks!T:T,MATCH(F104,Picks!R:R,0))","v":0}]
[{"$f":"IF(Match!A13=\"\",\"\",Match!A13)","v":"2020-09-19"},"1900-01-07",null,null,null,"Barnsley","2/1",3,{"$f":"INDEX(Picks!T:T,MATCH(F105,Picks!R:R,0))","v":0}]
[{"$f":"IF(Match!A14=\"\",\"\",Match!A14)","v":"2020-09-19"},"1900-01-07",null,null,null,"Millwall","17/10",2.7,{"$f":"INDEX(Picks!T:T,MATCH(F106,Picks!R:R,0))","v":1}]
[{"$f":"IF(Match!A15=\"\",\"\",Match!A15)","v":"2020-09-19"},"1900-01-07",null,null,null,"Watford","31/20",2.5499999999999998,{"$f":"INDEX(Picks!T:T,MATCH(F107,Picks!R:R,0))","v":0}]
[{"$f":"IF(Match!A16=\"\",\"\",Match!A16)","v":"2020-09-19"},"1900-01-07",null,null,null,"Birmingham","14/5",3.8,{"$f":"INDEX(Picks!T:T,MATCH(F108,Picks!R:R,0))","v":0}]
[{"$f":"IF(Match!A17=\"\",\"\",Match!A17)","v":"2020-09-19"},"1900-01-07",null,null,null,"Swindon","5/2",3.5,{"$f":"INDEX(Picks!T:T,MATCH(F109,Picks!R:R,0))","v":0}]
[{"$f":"IF(Match!A18=\"\",\"\",Match!A18)","v":"2020-09-19"},"1900-01-07",null,null,null,"Ipswich","8/5",2.6,{"$f":"INDEX(Picks!T:T,MATCH(F110,Picks!R:R,0))","v":1}]
[{"$f":"IF(Match!A19=\"\",\"\",Match!A19)","v":"2020-09-19"},"1900-01-07",null,null,null,"Accrington","2/1",3,{"$f":"INDEX(Picks!T:T,MATCH(F111,Picks!R:R,0))","v":0}]
[{"$f":"IF(Match!A20=\"\",\"\",Match!A20)","v":"2020-09-19"},"1900-01-07",null,null,null,"Doncaster","27/10",3.7,{"$f":"INDEX(Picks!T:T,MATCH(F112,Picks!R:R,0))","v":1}]
[{"$f":"IF(Match!A21=\"\",\"\",Match!A21)","v":"2020-09-19"},"1900-01-07",null,null,null,"Crewe","11/4",3.75,{"$f":"INDEX(Picks!T:T,MATCH(F113,Picks!R:R,0))","v":0}]
[{"$f":"IF(Match!A22=\"\",\"\",Match!A22)","v":"2020-09-19"},"1900-01-07",null,null,null,"Lincoln","7/4",2.75,{"$f":"INDEX(Picks!T:T,MATCH(F114,Picks!R:R,0))","v":1}]
[{"$f":"IF(Match!A23=\"\",\"\",Match!A23)","v":"2020-09-19"},"1900-01-07",null,null,null,"Sunderland","9/5",2.8,{"$f":"INDEX(Picks!T:T,MATCH(F115,Picks!R:R,0))","v":1}]
[{"$f":"IF(Match!A24=\"\",\"\",Match!A24)","v":"2020-09-19"},"1900-01-07",null,null,null,"Fleetwood","12/5",3.4,{"$f":"INDEX(Picks!T:T,MATCH(F116,Picks!R:R,0))","v":0}]
[{"$f":"IF(Match!A25=\"\",\"\",Match!A25)","v":"2020-09-19"},"1900-01-07",null,null,null,"Northampton","12/5",3.4,{"$f":"INDEX(Picks!T:T,MATCH(F117,Picks!R:R,0))","v":1}]
[{"$f":"IF(Match!A26=\"\",\"\",Match!A26)","v":"2020-09-19"},"1900-01-07",null,null,null,"Plymouth","17/10",2.7,{"$f":"INDEX(Picks!T:T,MATCH(F118,Picks!R:R,0))","v":0}]
[{"$f":"IF(Match!A27=\"\",\"\",Match!A27)","v":"2020-09-19"},"1900-01-07",null,null,null,"Southend","13/5",3.6,{"$f":"INDEX(Picks!T:T,MATCH(F119,Picks!R:R,0))","v":0}]
[{"$f":"IF(Match!A28=\"\",\"\",Match!A28)","v":"2020-09-19"},"1900-01-07",null,null,null,"Bolton","17/10",2.7,{"$f":"INDEX(Picks!T:T,MATCH(F120,Picks!R:R,0))","v":0}]
[{"$f":"IF(Match!A29=\"\",\"\",Match!A29)","v":"2020-09-19"},"1900-01-07",null,null,null,"Scunthorpe","21/10",3.1,{"$f":"INDEX(Picks!T:T,MATCH(F121,Picks!R:R,0))","v":0}]
[{"$f":"IF(Match!A30=\"\",\"\",Match!A30)","v":"2020-09-19"},"1900-01-07",null,null,null,"Port Vale","9/4",3.25,{"$f":"INDEX(Picks!T:T,MATCH(F122,Picks!R:R,0))","v":1}]
[{"$f":"IF(Match!A31=\"\",\"\",Match!A31)","v":"2020-09-19"},"1900-01-07",null,null,null,"Bradford","11/5",3.2,{"$f":"INDEX(Picks!T:T,MATCH(F123,Picks!R:R,0))","v":0}]
[{"$f":"IF(Match!A32=\"\",\"\",Match!A32)","v":"2020-09-19"},"1900-01-07",null,null,null,"Salford","13/10",2.2999999999999998,{"$f":"INDEX(Picks!T:T,MATCH(F124,Picks!R:R,0))","v":1}]
[{"$f":"IF(Match!A33=\"\",\"\",Match!A33)","v":"2020-09-19"},"1900-01-07",null,null,null,"Walsall","23/10",3.3,{"$f":"INDEX(Picks!T:T,MATCH(F125,Picks!R:R,0))","v":0}]
[{"$f":"IF(Match!A34=\"\",\"\",Match!A34)","v":"2020-09-19"},"1900-01-07",null,null,null,"Cambridge","21/10",3.1,{"$f":"INDEX(Picks!T:T,MATCH(F126,Picks!R:R,0))","v":1}]
[{"$f":"IF(Match!A35=\"\",\"\",Match!A35)","v":"2020-09-19"},"1900-01-07",null,null,null,"Barrow","23/10",3.3,{"$f":"INDEX(Picks!T:T,MATCH(F127,Picks!R:R,0))","v":0}]
[{"$f":"IF(Match!A36=\"\",\"\",Match!A36)","v":"2020-09-19"},"1900-01-07",null,null,null,"Mansfield","29/20",2.4500000000000002,{"$f":"INDEX(Picks!T:T,MATCH(F128,Picks!R:R,0))","v":0}]
[{"$f":"IF(Match!A37=\"\",\"\",Match!A37)","v":"2020-09-19"},"1900-01-07",null,null,null,"Oldham","2/1",3,{"$f":"INDEX(Picks!T:T,MATCH(F129,Picks!R:R,0))","v":0}]
[{"$f":"IF(Match!A38=\"\",\"\",Match!A38)","v":"2020-09-19"},"1900-01-07",null,null,null,"Cheltenham","21/10",3.1,{"$f":"INDEX(Picks!T:T,MATCH(F130,Picks!R:R,0))","v":1}]
[{"$f":"IF(Match!A39=\"\",\"\",Match!A39)","v":"2020-09-20"},{"$f":"IF(A131=\"\",\"\",WEEKDAY(A131))","v":"1900-01-01"},null,null,null,"Liverpool","6/5",2.2000000000000002,{"$f":"INDEX(Picks!T:T,MATCH(F131,Picks!R:R,0))","v":1}]
[{"$f":"IF(Match!A40=\"\",\"\",Match!A40)","v":"2020-09-20"},"1900-01-01",null,null,null,"Burnley","9/2",5.5,{"$f":"INDEX(Picks!T:T,MATCH(F132,Picks!R:R,0))","v":0}]
[{"$f":"IF(Match!A41=\"\",\"\",Match!A41)","v":"2020-09-20"},"1900-01-01",null,null,null,"Brighton","19/10",2.9,{"$f":"INDEX(Picks!T:T,MATCH(F133,Picks!R:R,0))","v":1}]
[{"$f":"IF(Match!A42=\"\",\"\",Match!A42)","v":"2020-09-20"},"1900-01-01",null,null,null,"Spurs","29/20",2.4500000000000002,{"$f":"INDEX(Picks!T:T,MATCH(F134,Picks!R:R,0))","v":1}]
[{"$f":"IF(Match!A43=\"\",\"\",Match!A43)","v":"2020-09-20"},"1900-01-01",null,null,null,"Bristol C","13/5",3.6,{"$f":"INDEX(Picks!T:T,MATCH(F135,Picks!R:R,0))","v":1}]
[{"$f":"IF(Match!A44=\"\",\"\",Match!A44)","v":"2020-09-20"},"1900-01-01",null,null,null,"Portsmouth","3/4",1.75,{"$f":"INDEX(Picks!T:T,MATCH(F136,Picks!R:R,0))","v":0}]
[{"$f":"IF(Match!A45=\"\",\"\",Match!A45)","v":""},"",null,null,null,"","","",{"$f":"INDEX(Picks!T:T,MATCH(F137,Picks!R:R,0))","v":{"$error":"#N/A"}}]
[{"$f":"IF(Match!A46=\"\",\"\",Match!A46)","v":""},"",null,null,null,"","","",{"$f":"INDEX(Picks!T:T,MATCH(F138,Picks!R:R,0))","v":{"$error":"#N/A"}}]
[{"$f":"IF(Match!A47=\"\",\"\",Match!A47)","v":""},"",null,null,null,"","","",{"$f":"INDEX(Picks!T:T,MATCH(F139,Picks!R:R,0))","v":{"$error":"#N/A"}}]

{"sheet":"Perms","index":19,"n_rows":50,"n_cols":23,"rows_kept":50,"cut":false,"hidden":false,"merged":[]}
[]
[null,null,null,null,null,null,null,null,null,null,null,null,null,null,"-7.00"]
[null,"Paul Fiddler",null,null,null,null,null,null,null,null,null,"Wk 19: ",{"$f":"INDEX(Table!G:G,MATCH(B3,Table!F:F,0))","v":0.30750000000000011},null,{"$f":"M3-7","v":-6.6924999999999999}]
[null,null,"Prediction","Odds -","Odds - ","Odds - ","Prediction",null,null,null,null,"Single 1","Single 2",null,{"$f":"IF(K4=0,0,1)+K4","v":0},null,null,null,null,null,null,"Andy Charleston","Portsmouth"]
[null,null,"Correct?","Fraction","decimal","decimal","Correct",null,{"$f":"F6","v":1.4500000000000002},{"$f":"F7","v":{"$error":"#N/A"}},{"$f":"F8","v":{"$error":"#N/A"}},{"$f":"IF(I5=0,0,1)+I5","v":2.4500000000000002},{"$f":"IF(J5=0,0,1)+J5","v":{"$error":"#N/A"}},null,{"$f":"IF(K5=0,0,1)+K5","v":{"$error":"#N/A"}},{"$f":"IF(J5=0,0,(L5*J5)+L5)","v":{"$error":"#N/A"}},{"$f":"IF(K5=0,0,(M5*K5)+M5)","v":{"$error":"#N/A"}},{"$f":"IF(I5=0,0,(O5*I5)+O5)","v":{"$error":"#N/A"}},{"$f":"IF(K5=0,0,(P5*K5)+P5)","v":{"$error":"#N/A"}},null,null,"Andy Charleston","Doncaster"]
[null,"Spurs","√",{"$f":"INDEX(Picks!C:C,MATCH(B6,Picks!B:B,0))","v":1},{"$f":"INDEX(Picks!D:D,MATCH(B6,Picks!B:B,0))","v":2.4500000000000002},{"$f":"+((E6-1)*G6)","v":1.4500000000000002},1,null,null,null,null,null,null,null,null,null,null,null,null,null,null,"Andy Charleston","Wigan"]
[null,"Sunderland","√",{"$f":"INDEX(Picks!C:C,MATCH(B7,Picks!B:B,0))","v":{"$error":"#N/A"}},{"$f":"INDEX(Picks!D:D,MATCH(B7,Picks!B:B,0))","v":{"$error":"#N/A"}},{"$f":"+((E7-1)*G7)","v":{"$error":"#N/A"}},1,null,null,null,null,"Correct","Score",null,"Final",null,null,null,null,null,null,"Chris Griffin","Wigan"]
[null,"Sheff U","√",{"$f":"INDEX(Picks!C:C,MATCH(B8,Picks!B:B,0))","v":{"$error":"#N/A"}},{"$f":"INDEX(Picks!D:D,MATCH(B8,Picks!B:B,0))","v":{"$error":"#N/A"}},{"$f":"+((E8-1)*G8)","v":{"$error":"#N/A"}},1,null,null,null,null,{"$f":"SUM(G6:G8)","v":3},{"$f":"SUM(L5:S5)-7","v":{"$error":"#N/A"}},null,{"$f":"$M$3+M8","v":{"$error":"#N/A"}},null,null,null,null,null,null,"Chris Griffin","Sunderland"]
[null,null,null,null,null,null,null,null,null,null,null,null,null,null,null,null,null,null,null,null,null,"Chris Griffin","Reading draw"]
[null,null,null,null,null,null,null,null,null,null,null,null,null,null,null,null,null,null,null,null,null,"John Evans","West Ham"]
[null,null,"Prediction","Odds -","Odds - ","Odds - ","Prediction",null,null,null,null,"Single 1","Single 2",null,"Single 3","Double 1","Double 2","Double 3","Treble",null,null,"John Evans","Wycombe"]
[null,null,"Correct?","Fraction","decimal","decimal","Correct",null,{"$f":"F13","v":1.4500000000000002},{"$f":"F14","v":{"$error":"#N/A"}},{"$f":"F15","v":{"$error":"#N/A"}},{"$f":"IF(I12=0,0,1)+I12","v":2.4500000000000002},{"$f":"IF(J12=0,0,1)+J12","v":{"$error":"#N/A"}},null,{"$f":"IF(K12=0,0,1)+K12","v":{"$error":"#N/A"}},{"$f":"IF(J12=0,0,(L12*J12)+L12)","v":{"$error":"#N/A"}},{"$f":"IF(K12=0,0,(M12*K12)+M12)","v":{"$error":"#N/A"}},{"$f":"IF(I12=0,0,(O12*I12)+O12)","v":{"$error":"#N/A"}},{"$f":"IF(K12=0,0,(P12*K12)+P12)","v":{"$error":"#N/A"}},null,null,"John Evans","Wigan"]
[null,{"$f":"game1","v":"Spurs"},"√",{"$f":"INDEX(Picks!C:C,MATCH(B13,Picks!B:B,0))","v":1},{"$f":"INDEX(Picks!D:D,MATCH(B13,Picks!B:B,0))","v":2.4500000000000002},{"$f":"+((E13-1)*G13)","v":1.4500000000000002},1,null,null,null,null,null,null,null,null,null,null,null,null,null,null,"Mo Sudell","Villa"]
[null,{"$f":"game2","v":"Sunderland"},"√",{"$f":"INDEX(Picks!C:C,MATCH(B14,Picks!B:B,0))","v":{"$error":"#N/A"}},{"$f":"INDEX(Picks!D:D,MATCH(B14,Picks!B:B,0))","v":{"$error":"#N/A"}},{"$f":"+((E14-1)*G14)","v":{"$error":"#N/A"}},1,null,null,null,null,"Correct","Score",null,"Final",null,null,null,null,null,null,"Mo Sudell","Wigan"]
[null,{"$f":"game3","v":"Sheff U"},"x",{"$f":"INDEX(Picks!C:C,MATCH(B15,Picks!B:B,0))","v":{"$error":"#N/A"}},{"$f":"INDEX(Picks!D:D,MATCH(B15,Picks!B:B,0))","v":{"$error":"#N/A"}},{"$f":"+((E15-1)*G15)","v":{"$error":"#N/A"}},0,null,null,null,null,{"$f":"SUM(G13:G15)","v":2},{"$f":"SUM(L12:S12)-7","v":{"$error":"#N/A"}},null,{"$f":"$M$3+M15","v":{"$error":"#N/A"}},null,null,null,null,null,null,"Mo Sudell","Sheff U"]
[null,null,null,null,null,null,null,null,null,null,null,null,null,null,null,null,null,null,null,null,null,"Paul Fiddler","Spurs"]
[null,null,null,"`",null,null,null,null,null,null,null,null,null,null,null,null,null,null,null,null,null,"Paul Fiddler","Sunderland"]
[null,null,"Prediction","Odds -","Odds - ","Odds - ","Prediction",null,null,null,null,"Single 1","Single 2",null,"Single 3","Double 1","Double 2","Double 3","Treble",null,null,"Paul Fiddler","Sheff U"]
[null,null,"Correct?","Fraction","decimal","decimal","Correct",null,{"$f":"F20","v":0},{"$f":"F21","v":{"$error":"#N/A"}},{"$f":"F22","v":{"$error":"#N/A"}},{"$f":"IF(I19=0,0,1)+I19","v":0},{"$f":"IF(J19=0,0,1)+J19","v":{"$error":"#N/A"}},null,{"$f":"IF(K19=0,0,1)+K19","v":{"$error":"#N/A"}},{"$f":"IF(J19=0,0,(L19*J19)+L19)","v":{"$error":"#N/A"}},{"$f":"IF(K19=0,0,(M19*K19)+M19)","v":{"$error":"#N/A"}},{"$f":"IF(I19=0,0,(O19*I19)+O19)","v":0},{"$f":"IF(K19=0,0,(P19*K19)+P19)","v":{"$error":"#N/A"}}]
[null,{"$f":"game1","v":"Spurs"},"x",{"$f":"INDEX(Picks!C:C,MATCH(B20,Picks!B:B,0))","v":1},{"$f":"INDEX(Picks!D:D,MATCH(B20,Picks!B:B,0))","v":2.4500000000000002},{"$f":"+((E20-1)*G20)","v":0},0]
[null,{"$f":"game2","v":"Sunderland"},"√",{"$f":"INDEX(Picks!C:C,MATCH(B21,Picks!B:B,0))","v":{"$error":"#N/A"}},{"$f":"INDEX(Picks!D:D,MATCH(B21,Picks!B:B,0))","v":{"$error":"#N/A"}},{"$f":"+((E21-1)*G21)","v":{"$error":"#N/A"}},1,null,null,null,null,"Correct","Score",null,"Final"]
[null,{"$f":"game3","v":"Sheff U"},"√",{"$f":"INDEX(Picks!C:C,MATCH(B22,Picks!B:B,0))","v":{"$error":"#N/A"}},{"$f":"INDEX(Picks!D:D,MATCH(B22,Picks!B:B,0))","v":{"$error":"#N/A"}},{"$f":"+((E22-1)*G22)","v":{"$error":"#N/A"}},1,null,null,null,null,{"$f":"SUM(G20:G22)","v":2},{"$f":"SUM(L19:S19)-7","v":{"$error":"#N/A"}},null,{"$f":"$M$3+M22","v":{"$error":"#N/A"}}]
[]
[]
[null,null,"Prediction","Odds -","Odds - ","Odds - ","Prediction",null,null,null,null,"Single 1","Single 2",null,"Single 3","Double 1","Double 2","Double 3","Treble"]
[null,null,"Correct?","Fraction","decimal","decimal","Correct",null,{"$f":"F27","v":1.4500000000000002},{"$f":"F28","v":{"$error":"#N/A"}},{"$f":"F29","v":{"$error":"#N/A"}},{"$f":"IF(I26=0,0,1)+I26","v":2.4500000000000002},{"$f":"IF(J26=0,0,1)+J26","v":{"$error":"#N/A"}},null,{"$f":"IF(K26=0,0,1)+K26","v":{"$error":"#N/A"}},{"$f":"IF(J26=0,0,(L26*J26)+L26)","v":{"$error":"#N/A"}},{"$f":"IF(K26=0,0,(M26*K26)+M26)","v":{"$error":"#N/A"}},{"$f":"IF(I26=0,0,(O26*I26)+O26)","v":{"$error":"#N/A"}},{"$f":"IF(K26=0,0,(P26*K26)+P26)","v":{"$error":"#N/A"}}]
[null,{"$f":"game1","v":"Spurs"},"√",{"$f":"INDEX(Picks!C:C,MATCH(B27,Picks!B:B,0))","v":1},{"$f":"INDEX(Picks!D:D,MATCH(B27,Picks!B:B,0))","v":2.4500000000000002},{"$f":"+((E27-1)*G27)","v":1.4500000000000002},1]
[null,{"$f":"game2","v":"Sunderland"},"x",{"$f":"INDEX(Picks!C:C,MATCH(B28,Picks!B:B,0))","v":{"$error":"#N/A"}},{"$f":"INDEX(Picks!D:D,MATCH(B28,Picks!B:B,0))","v":{"$error":"#N/A"}},{"$f":"+((E28-1)*G28)","v":{"$error":"#N/A"}},0,null,null,null,null,"Correct","Score",null,"Final"]
[null,{"$f":"game3","v":"Sheff U"},"√",{"$f":"INDEX(Picks!C:C,MATCH(B29,Picks!B:B,0))","v":{"$error":"#N/A"}},{"$f":"INDEX(Picks!D:D,MATCH(B29,Picks!B:B,0))","v":{"$error":"#N/A"}},{"$f":"+((E29-1)*G29)","v":{"$error":"#N/A"}},1,null,null,null,null,{"$f":"SUM(G27:G29)","v":2},{"$f":"SUM(L26:S26)-7","v":{"$error":"#N/A"}},null,{"$f":"$M$3+M29","v":{"$error":"#N/A"}}]
[]
[]
[null,null,"Prediction","Odds -","Odds - ","Odds - ","Prediction",null,null,null,null,"Single 1","Single 2",null,"Single 3","Double 1","Double 2","Double 3","Treble"]
[null,null,"Correct?","Fraction","decimal","decimal","Correct",null,{"$f":"F34","v":1.4500000000000002},{"$f":"F35","v":{"$error":"#N/A"}},{"$f":"F36","v":{"$error":"#N/A"}},{"$f":"IF(I33=0,0,1)+I33","v":2.4500000000000002},{"$f":"IF(J33=0,0,1)+J33","v":{"$error":"#N/A"}},null,{"$f":"IF(K33=0,0,1)+K33","v":{"$error":"#N/A"}},{"$f":"IF(J33=0,0,(L33*J33)+L33)","v":{"$error":"#N/A"}},{"$f":"IF(K33=0,0,(M33*K33)+M33)","v":{"$error":"#N/A"}},{"$f":"IF(I33=0,0,(O33*I33)+O33)","v":{"$error":"#N/A"}},{"$f":"IF(K33=0,0,(P33*K33)+P33)","v":{"$error":"#N/A"}}]
[null,{"$f":"game1","v":"Spurs"},"√",{"$f":"INDEX(Picks!C:C,MATCH(B34,Picks!B:B,0))","v":1},{"$f":"INDEX(Picks!D:D,MATCH(B34,Picks!B:B,0))","v":2.4500000000000002},{"$f":"+((E34-1)*G34)","v":1.4500000000000002},1]
[null,{"$f":"game2","v":"Sunderland"},"x",{"$f":"INDEX(Picks!C:C,MATCH(B35,Picks!B:B,0))","v":{"$error":"#N/A"}},{"$f":"INDEX(Picks!D:D,MATCH(B35,Picks!B:B,0))","v":{"$error":"#N/A"}},{"$f":"+((E35-1)*G35)","v":{"$error":"#N/A"}},0,null,null,null,null,"Correct","Score",null,"Final"]
[null,{"$f":"game3","v":"Sheff U"},"x",{"$f":"INDEX(Picks!C:C,MATCH(B36,Picks!B:B,0))","v":{"$error":"#N/A"}},{"$f":"INDEX(Picks!D:D,MATCH(B36,Picks!B:B,0))","v":{"$error":"#N/A"}},{"$f":"+((E36-1)*G36)","v":{"$error":"#N/A"}},0,null,null,null,null,{"$f":"SUM(G34:G36)","v":1},{"$f":"SUM(L33:S33)-7","v":{"$error":"#N/A"}},null,{"$f":"$M$3+M36","v":{"$error":"#N/A"}}]
[]
[]
[null,null,"Prediction","Odds -","Odds - ","Odds - ","Prediction",null,null,null,null,"Single 1","Single 2",null,"Single 3","Double 1","Double 2","Double 3","Treble"]
[null,null,"Correct?","Fraction","decimal","decimal","Correct",null,{"$f":"F41","v":0},{"$f":"F42","v":{"$error":"#N/A"}},{"$f":"F43","v":{"$error":"#N/A"}},{"$f":"IF(I40=0,0,1)+I40","v":0},{"$f":"IF(J40=0,0,1)+J40","v":{"$error":"#N/A"}},null,{"$f":"IF(K40=0,0,1)+K40","v":{"$error":"#N/A"}},{"$f":"IF(J40=0,0,(L40*J40)+L40)","v":{"$error":"#N/A"}},{"$f":"IF(K40=0,0,(M40*K40)+M40)","v":{"$error":"#N/A"}},{"$f":"IF(I40=0,0,(O40*I40)+O40)","v":0},{"$f":"IF(K40=0,0,(P40*K40)+P40)","v":{"$error":"#N/A"}}]
[null,{"$f":"game1","v":"Spurs"},"x",{"$f":"INDEX(Picks!C:C,MATCH(B41,Picks!B:B,0))","v":1},{"$f":"INDEX(Picks!D:D,MATCH(B41,Picks!B:B,0))","v":2.4500000000000002},{"$f":"+((E41-1)*G41)","v":0},0]
[null,{"$f":"game2","v":"Sunderland"},"√",{"$f":"INDEX(Picks!C:C,MATCH(B42,Picks!B:B,0))","v":{"$error":"#N/A"}},{"$f":"INDEX(Picks!D:D,MATCH(B42,Picks!B:B,0))","v":{"$error":"#N/A"}},{"$f":"+((E42-1)*G42)","v":{"$error":"#N/A"}},1,null,null,null,null,"Correct","Score",null,"Final"]
[null,{"$f":"game3","v":"Sheff U"},"x",{"$f":"INDEX(Picks!C:C,MATCH(B43,Picks!B:B,0))","v":{"$error":"#N/A"}},{"$f":"INDEX(Picks!D:D,MATCH(B43,Picks!B:B,0))","v":{"$error":"#N/A"}},{"$f":"+((E43-1)*G43)","v":{"$error":"#N/A"}},0,null,null,null,null,{"$f":"SUM(G41:G43)","v":1},{"$f":"SUM(L40:S40)-7","v":{"$error":"#N/A"}},null,{"$f":"$M$3+M43","v":{"$error":"#N/A"}}]
[]
[]
[null,null,"Prediction","Odds -","Odds - ","Odds - ","Prediction",null,null,null,null,"Single 1","Single 2",null,"Single 3","Double 1","Double 2","Double 3","Treble"]
[null,null,"Correct?","Fraction","decimal","decimal","Correct",null,{"$f":"F48","v":0},{"$f":"F49","v":{"$error":"#N/A"}},{"$f":"F50","v":{"$error":"#N/A"}},{"$f":"IF(I47=0,0,1)+I47","v":0},{"$f":"IF(J47=0,0,1)+J47","v":{"$error":"#N/A"}},null,{"$f":"IF(K47=0,0,1)+K47","v":{"$error":"#N/A"}},{"$f":"IF(J47=0,0,(L47*J47)+L47)","v":{"$error":"#N/A"}},{"$f":"IF(K47=0,0,(M47*K47)+M47)","v":{"$error":"#N/A"}},{"$f":"IF(I47=0,0,(O47*I47)+O47)","v":0},{"$f":"IF(K47=0,0,(P47*K47)+P47)","v":{"$error":"#N/A"}}]
[null,{"$f":"game1","v":"Spurs"},"x",{"$f":"INDEX(Picks!C:C,MATCH(B48,Picks!B:B,0))","v":1},{"$f":"INDEX(Picks!D:D,MATCH(B48,Picks!B:B,0))","v":2.4500000000000002},{"$f":"+((E48-1)*G48)","v":0},0]
[null,{"$f":"game2","v":"Sunderland"},"x",{"$f":"INDEX(Picks!C:C,MATCH(B49,Picks!B:B,0))","v":{"$error":"#N/A"}},{"$f":"INDEX(Picks!D:D,MATCH(B49,Picks!B:B,0))","v":{"$error":"#N/A"}},{"$f":"+((E49-1)*G49)","v":{"$error":"#N/A"}},0,null,null,null,null,"Correct","Score",null,"Final"]
[null,{"$f":"game3","v":"Sheff U"},"√",{"$f":"INDEX(Picks!C:C,MATCH(B50,Picks!B:B,0))","v":{"$error":"#N/A"}},{"$f":"INDEX(Picks!D:D,MATCH(B50,Picks!B:B,0))","v":{"$error":"#N/A"}},{"$f":"+((E50-1)*G50)","v":{"$error":"#N/A"}},1,null,null,null,null,{"$f":"SUM(G48:G50)","v":1},{"$f":"SUM(L47:S47)-7","v":{"$error":"#N/A"}},null,{"$f":"$M$3+M50","v":{"$error":"#N/A"}}]

{"sheet":"FAQ","index":20,"n_rows":76,"n_cols":2,"rows_kept":76,"cut":false,"hidden":false,"merged":[]}
["Menu!A1"]
[null,"So, what is the 3in! Prediction League? Basically, each player in the league chooses just three matches from the weekend’s fixture list and predicts whether they will be a home win, an away win or a draw. You score points based on how correct your three predictions turn out to be and the match odds published by William Hills."]
[]
[null,"How does the scoring actually work? Your three predictions are entered as a Patent bet, which means you get three singles, three doubles, and a treble. So, you have seven bets in total.  (If you went into a bookies and placed a £1 patent bet it would cost you £7, £1 for each bet). What you would stake and win with a real bookie with this bet, we convert to virtual money, or points, in the Prediction League."]
[]
[null,"Then what? Basically, you total the decimal odds of all your winning bets and that becomes your points score for the week. The more of your three predictions you get right, the higher your win will be and so will your score. Also, if you pick matches with higher odds and predict the correct result, you will score more points."]
[]
[null,"Hmmm, I’m still not really getting it! Right, here’s an example below. The fractional odds are converted to decimal – for example, the 9/4 for a Bristol City draw becomes 2.25 to which you add your virtual £1 stake, so 3.25. Do the same with the other two bets to calculate the three single bet values. The bookie calculates the odds for the three doubles and the treble but I am not sufficiently geeky to know how they do that."]
[]
[null,"The table below shows what you would score if you predicted all three matches correctly; add up the 7 bet scores – 59.99 – and subtract the £7 stake to arrive at 52.99."]
[]
[]
[]
[]
[]
[]
[]
[]
[null,"Here’s what happens if you get the Bristol City prediction wrong…"]
[]
[]
[]
[]
[]
[]
[]
[]
[null,"… and if you get you only get the Sunderland one right, your score gets even lower, into negative numbers…"]
[]
[]
[]
[]
[]
[]
[]
[]
[null,"… and if, like me in most weeks, you get all three wrong, then you score a big fat -7.00… "]
[]
[]
[]
[]
[]
[]
[]
[]
[null,"OK, got it. So, when does it start and how long does it last? The 3in! season lasts for 20 weeks.  We have two PL seasons in one regular football season, one before Christmas and one after. The weekly schedule is published on the website."]
[]
[null,"Which fixtures can I choose from? Each week you will receive an email listing the fixture list. This will normally be the fixtures from the top four English leagues played on Friday, Saturday and Sunday. Sometimes, there list may also include international matches or FA Cup matches. There will be between 40 and 46 matches to choose from."]
[]
[null,"How do I submit predictions? If you are predicting a win, I just need the team name exactly as it appears in the fixture list. If you are predicting a draw, I just need the home team name exactly as it appears in the fixture list plus the word “draw”. In fact, just as you can see in the examples above, with each of the three predictions on a separate line."]
[]
[null,"Why do you need the team name to be exactly as it appears in the fixture list? Because, it helps me to cut and paste them directly into my system and if you give me anything different I have to start typing things manually. With almost 100 sets of predictions to deal with each week, that becomes a pain in the arse. So, just do it right, please! Do not get creative with the names of the teams or the format of the predictions submission.  If it says “Tottenham” that’s what I want to see – not “Tottenham Hotspur” or “Spurs” or “Tott’ham” or “Tottenham H”. Just plain old “Tottenham” please."]
[]
[null,"Can I send them via text instead? Only in an emergency, please don’t make a habit of it! There is more chance of me not missing your entry if you reply to the original email fixtures list.  If you lose the email, the fixtures are always on the Next Odds page of the website."]
[]
[null,"Is there a deadline by which I have to submit each week? No, not specifically. You have up until a match kicks off to predict its result so you could miss all of Saturday’s main fixture list and rely on the Sunday games. You just have to hope that there are at least three games on the Sunday or your chances of scoring big are reduced accordingly."]
[]
[null,"What if a cup game goes to extra time and penalties? Bookies odds are generally based on the score at 90 minutes so we go with that."]
[]
[null,"What if a game is postponed? If one or more of your three selections is postponed then your Patent bet permutations are again reduced accordingly. Again, I don’t pretend to understand exactly how the bookies calculate this but I have a formula that does it for me. Basically it means that your maximum win or loss will be reduced. If all three of your selections are postponed, you should give serious consideration to packing it all in."]
[]
[null,"Can I change my predictions after I have submitted them? It’s a brave man (or woman) that does so but yes, provided the new matches you select haven’t yet kicked off you can change your mind. I will always take your latest submission – you’ll be amazed how many people send in three pcks, completely forget that have done so and the send in three completey different new ones. I never ask questions, I just take your most recent predictions in good faith."]
[]
[null,"Will I receive a confirmation that you have received my predictions? Definitely not! With 90 sets of predictions to process I don’t have the time. But, if you reply to the official fixture list email and you don’t receive a failure, you can safely assume I have got it."]
[]
[null,"Will you send me a reminder if I haven’t sent you any predictions? Er, what do you think? No, I won’t. You’re a grown adult, sort your life out."]
[]
[null,"How much does it cost to enter? It’s £1 per week, so £20 for the season. Then we start again in January if you’re still with us."]
[]
[null,"How much can I win? There are weekly prizes of £25 to the highest four score of the week – £10 to the highest scorer and three times £5 to the next three highest. The top 25 players at the end of the 20 weeks share the rest of the fund between them. 100% of entry fees are re-distributed as prizes. The breakdown of the prize fund is listed on the Diary page of the website."]
[]
[null,"Do I have to pay my £20 before I can join? No. You will start £20 in debt and, at the end of the year, we will nett off any prizes and collect/pay out the balance. Except if you are brand new to the League in which case we ask you to pay your £20 by Week 3 of your first season. As a gesture of goodwill, more than anything else."]
[]
[null,"How can I find out how I am doing as the season progresses? Update tables and stats are published on a weekly basis on the News section of the website and you will receive an email notifying you when the updates have been made."]
[]
[null,"Can I change the email address you send the updates to? Yes, you can unsubscribe your existing email address or add a new one here."]

{"sheet":"Sample","index":21,"n_rows":27,"n_cols":18,"rows_kept":27,"cut":false,"hidden":false,"merged":[]}
["Menu!A1","John Evans"]
[null,null,"Prediction","Odds - ","Odds - ","Odds - ","Prediction",null,null,null,null,"Single 1","Single 2","Single 3","Double 1","Double 2","Double 3","Treble"]
[null,null,"Correct?","fractional","decimal","decimal","Correct",null,{"$f":"F4","v":2.25},{"$f":"F5","v":1.5},{"$f":"F6","v":2.1},{"$f":"IF(I3=0,0,1)+I3","v":3.25},{"$f":"IF(J3=0,0,1)+J3","v":2.5},{"$f":"IF(K3=0,0,1)+K3","v":3.1},{"$f":"IF(J3=0,0,(L3*J3)+L3)","v":8.125},{"$f":"IF(K3=0,0,(M3*K3)+M3)","v":7.75},{"$f":"IF(I3=0,0,(N3*I3)+N3)","v":10.075000000000001},{"$f":"IF(K3=0,0,(O3*K3)+O3)","v":25.1875}]
[null,"Wigan","√","1/20",3.25,2.25,1]
[null,"Bolton","√","6/4",2.5,1.5,1,null,null,null,null,"Correct","Score",null,"Current","Final"]
[null,"Leeds","√","21/10",3.1,2.1,1,null,null,null,null,{"$f":"SUM(G4:G6)","v":3},{"$f":"SUM(L3:R3)-7","v":52.987500000000004}]
[]
[]
[null,null,"Prediction","Odds - ","Odds - ","Odds - ","Prediction",null,null,null,null,"Single 1","Single 2","Single 3","Double 1","Double 2","Double 3","Treble"]
[null,null,"Correct?","fractional","decimal","decimal","Correct",null,{"$f":"F11","v":0},{"$f":"F12","v":1.5},{"$f":"F13","v":2.1},{"$f":"IF(I10=0,0,1)+I10","v":0},{"$f":"IF(J10=0,0,1)+J10","v":2.5},{"$f":"IF(K10=0,0,1)+K10","v":3.1},{"$f":"IF(J10=0,0,(L10*J10)+L10)","v":0},{"$f":"IF(K10=0,0,(M10*K10)+M10)","v":7.75},{"$f":"IF(I10=0,0,(N10*I10)+N10)","v":0},{"$f":"IF(K10=0,0,(O10*K10)+O10)","v":0}]
[null,"Bristol City Draw","x","9/4",{"$f":"(TRUNC(((VALUE(LEFT(D11,SEARCH(\"/\",D11)-1)))/(VALUE(MID(D11,(SEARCH(\"/\",D11)+1),3))))*100)/100)+1","v":3.25},{"$f":"+((E11-1)*G11)","v":0},0]
[null,"Tottenham","√","6/4",{"$f":"(TRUNC(((VALUE(LEFT(D12,SEARCH(\"/\",D12)-1)))/(VALUE(MID(D12,(SEARCH(\"/\",D12)+1),3))))*100)/100)+1","v":2.5},{"$f":"+((E12-1)*G12)","v":1.5},1,null,null,null,null,"Correct","Score"]
[null,"Sunderland","√","21/10",{"$f":"(TRUNC(((VALUE(LEFT(D13,SEARCH(\"/\",D13)-1)))/(VALUE(MID(D13,(SEARCH(\"/\",D13)+1),3))))*100)/100)+1","v":3.1},{"$f":"+((E13-1)*G13)","v":2.1},1,null,null,null,null,{"$f":"SUM(G11:G13)","v":2},{"$f":"SUM(L10:R10)-7","v":6.35}]
[]
[]
[null,null,"Prediction","Odds - ","Odds - ","Odds - ","Prediction",null,null,null,null,"Single 1","Single 2","Single 3","Double 1","Double 2","Double 3","Treble"]
[null,null,"Correct?","fractional","decimal","decimal","Correct",null,{"$f":"F18","v":0},{"$f":"F19","v":0},{"$f":"F20","v":2.1},{"$f":"IF(I17=0,0,1)+I17","v":0},{"$f":"IF(J17=0,0,1)+J17","v":0},{"$f":"IF(K17=0,0,1)+K17","v":3.1},{"$f":"IF(J17=0,0,(L17*J17)+L17)","v":0},{"$f":"IF(K17=0,0,(M17*K17)+M17)","v":0},{"$f":"IF(I17=0,0,(N17*I17)+N17)","v":0},{"$f":"IF(K17=0,0,(O17*K17)+O17)","v":0}]
[null,"Bristol City Draw","x","9/4",{"$f":"(TRUNC(((VALUE(LEFT(D18,SEARCH(\"/\",D18)-1)))/(VALUE(MID(D18,(SEARCH(\"/\",D18)+1),3))))*100)/100)+1","v":3.25},{"$f":"+((E18-1)*G18)","v":0},0]
[null,"Tottenham","x","6/4",{"$f":"(TRUNC(((VALUE(LEFT(D19,SEARCH(\"/\",D19)-1)))/(VALUE(MID(D19,(SEARCH(\"/\",D19)+1),3))))*100)/100)+1","v":2.5},{"$f":"+((E19-1)*G19)","v":0},0,null,null,null,null,"Correct","Score"]
[null,"Sunderland","√","21/10",{"$f":"(TRUNC(((VALUE(LEFT(D20,SEARCH(\"/\",D20)-1)))/(VALUE(MID(D20,(SEARCH(\"/\",D20)+1),3))))*100)/100)+1","v":3.1},{"$f":"+((E20-1)*G20)","v":2.1},1,null,null,null,null,{"$f":"SUM(G18:G20)","v":1},{"$f":"SUM(L17:R17)-7","v":-3.9}]
[]
[]
[null,null,"Prediction","Odds - ","Odds - ","Odds - ","Prediction",null,null,null,null,"Single 1","Single 2","Single 3","Double 1","Double 2","Double 3","Treble"]
[null,null,"Correct?","fractional","decimal","decimal","Correct",null,{"$f":"F25","v":0},{"$f":"F26","v":0},{"$f":"F27","v":0},{"$f":"IF(I24=0,0,1)+I24","v":0},{"$f":"IF(J24=0,0,1)+J24","v":0},{"$f":"IF(K24=0,0,1)+K24","v":0},{"$f":"IF(J24=0,0,(L24*J24)+L24)","v":0},{"$f":"IF(K24=0,0,(M24*K24)+M24)","v":0},{"$f":"IF(I24=0,0,(N24*I24)+N24)","v":0},{"$f":"IF(K24=0,0,(O24*K24)+O24)","v":0}]
[null,"Bristol City Draw","x","9/4",{"$f":"(TRUNC(((VALUE(LEFT(D25,SEARCH(\"/\",D25)-1)))/(VALUE(MID(D25,(SEARCH(\"/\",D25)+1),3))))*100)/100)+1","v":3.25},{"$f":"+((E25-1)*G25)","v":0},0]
[null,"Tottenham","x","6/4",{"$f":"(TRUNC(((VALUE(LEFT(D26,SEARCH(\"/\",D26)-1)))/(VALUE(MID(D26,(SEARCH(\"/\",D26)+1),3))))*100)/100)+1","v":2.5},{"$f":"+((E26-1)*G26)","v":0},0,null,null,null,null,"Correct","Score"]
[null,"Sunderland","x","21/10",{"$f":"(TRUNC(((VALUE(LEFT(D27,SEARCH(\"/\",D27)-1)))/(VALUE(MID(D27,(SEARCH(\"/\",D27)+1),3))))*100)/100)+1","v":3.1},{"$f":"+((E27-1)*G27)","v":0},0,null,null,null,null,{"$f":"SUM(G25:G27)","v":0},{"$f":"SUM(L24:R24)-7","v":-7}]