{"text_format":"1","workbook":"xlsx","n_sheets":9,"sheets":["Notes","Funds","Defenders","Players","Owners","Bids","Signed","SquadSize","Spending"],"not_rendered":{"charts":0,"images":1,"macros":1,"external_links":0,"defined_names":9,"comments":0,"pivot_tables":2},"unopened":[],"bounds":{"document_bytes":16777216,"sheet_cells":100000,"rows_first":2000,"rows_last":500,"rows_between":2000,"halvings":0,"cell_chars":16384,"cell_head_chars":4096},"cells_cut":0,"cells_raw":0,"read":"whole","date_system":"1900"}

{"sheet":"Notes","index":0,"n_rows":28,"n_cols":2,"rows_kept":28,"cut":false,"hidden":false,"merged":[]}
["Email Auction Notes and Rules"]
[]
[null,"DL21 - G1 - Goalkeepers added"]
[]
["Funds:","Check the Funds tab to see the amount of money you have left to spend"]
[]
["Defenders:","The 'Defenders Free' tab (if completed) shows how many keepers and defenders can still be bought for each team. Only 5 defenders are permitted in the pool from any one real club"]
[]
["Players:","To make a bid for a player, select your name from the drop-down list."]
[null,"You can only bid for a maximum of two goalkeepers in the pre-season Goalkeeper auction"]
[null,"Enter the Bid amount in mulitples of £100k, where £100k=0.1, £1,000,000=1.0, £5,100,000=5.1"]
[null,"If a successful bid will take your overall squad number to more than 18 you must be available at bid-closing time to nominate a player to release. If you know already who you plan to release, enter the player's name in the Release column"]
[]
["Signed:","All owned players prior to this auction, for information"]
[]
["Squads: ","Number of players by position per Owner prior to this auction, for information"]
[]
["Submitting:","When you have decided on your bids, send a simple list of Player Ref numbers and Bid Amount via email or WhatsApp to Chris Griffin at cgriffin18@hotmail.com"]
[]
["Deadlines:","Round G1 bids - 5pm, Sunday, 18th October - Goalkeepers added in"]
[null,"Round G2 bids - 5pm, Wednesday, 21st October"]
[null,"Round D3 bids - 5pm, Sunday, 25th October - Defenders added in"]
[null,"Round D4 bids - 5pm, Wednesday, 28th October"]
[null,"Round M5 bids - 5pm, Sunday, 1st November - Midfielders added in"]
[null,"Round M6 bids - 5pm, Wednesday, 4th November"]
[null,"Round F7 bids - 5pm, Sunday, 8th November - Forwards added in"]
[null,"Round F8 bids - 5pm, Wednesday, 11th November"]
[null,"Round F9 bids - 5pm, Sunday, 15th November - Final mop-up"]

{"sheet":"Funds","index":1,"n_rows":18,"n_cols":25,"rows_kept":18,"cut":false,"hidden":false,"merged":[[0,16,0,18],[1,23,1,24],[0,10,0,11],[0,5,0,9],[0,12,0,13],[0,14,0,15]]}
[null,null,null,null,null,"Squad (Pre-this auction)",null,null,null,null,"Keepers",null,"Defenders",null,"Midfielders",null,"Forwards & Mop-up"]
["ID","Owner","Team Name","Opening","Balance","GK","Def","Mid","Fwd","Total","G1","G2","D3","D4","M5","M6","F7","F8","F9","Balance",null,"Spend",null,"Latest Round Spend"]
["ACL","Andy Clucas","Breast Homage Albion",50,{"$f":"T3","v":50},null,null,null,null,{"$f":"SUM(F3:I3)","v":0},null,null,null,null,null,null,null,null,null,{"$f":"D3-SUM(K3:S3)","v":50},null,{"$f":"IF(ISERROR(INDEX(Spending!C:C,MATCH(B3,Spending!A:A,0))),0,INDEX(Spending!C:C,MATCH(B3,Spending!A:A,0)))","v":0},null,{"$f":"B3","v":"Andy Clucas"},{"$f":"IF(V3=0,\"\",V3)","v":""}]
["CG","Chris Griffin","The Jordi Gomez Love-in",50,{"$f":"T4","v":50},null,null,null,null,{"$f":"SUM(F4:I4)","v":0},null,null,null,null,null,null,null,null,null,50,null,{"$f":"IF(ISERROR(INDEX(Spending!C:C,MATCH(B4,Spending!A:A,0))),0,INDEX(Spending!C:C,MATCH(B4,Spending!A:A,0)))","v":0},null,{"$f":"B4","v":"Chris Griffin"},{"$f":"IF(V4=0,\"\",V4)","v":""}]
["CH","Carl Hogg","Hogg's Roast FC",50,{"$f":"T5","v":50},null,null,null,null,{"$f":"SUM(F5:I5)","v":0},null,null,null,null,null,null,null,null,null,50,null,{"$f":"IF(ISERROR(INDEX(Spending!C:C,MATCH(B5,Spending!A:A,0))),0,INDEX(Spending!C:C,MATCH(B5,Spending!A:A,0)))","v":0},null,"Carl Hogg",""]
["DS","Dave Sumner","People's Front of Springfield",50,{"$f":"T6","v":50},null,null,null,null,{"$f":"SUM(F6:I6)","v":0},null,null,null,null,null,null,null,null,null,50,null,{"$f":"IF(ISERROR(INDEX(Spending!C:C,MATCH(B6,Spending!A:A,0))),0,INDEX(Spending!C:C,MATCH(B6,Spending!A:A,0)))","v":0},null,"Dave Sumner",""]
["GM","Graham Miller","Sporting Anattyjacket",50,{"$f":"T7","v":50},null,null,null,null,{"$f":"SUM(F7:I7)","v":0},null,null,null,null,null,null,null,null,null,50,null,{"$f":"IF(ISERROR(INDEX(Spending!C:C,MATCH(B7,Spending!A:A,0))),0,INDEX(Spending!C:C,MATCH(B7,Spending!A:A,0)))","v":0},null,"Graham Miller",""]
["HB","Howard Bradley","Brush It, Munch And Gag Back",50,{"$f":"T8","v":50},null,null,null,null,{"$f":"SUM(F8:I8)","v":0},null,null,null,null,null,null,null,null,null,50,null,{"$f":"IF(ISERROR(INDEX(Spending!C:C,MATCH(B8,Spending!A:A,0))),0,INDEX(Spending!C:C,MATCH(B8,Spending!A:A,0)))","v":0},null,"Howard Bradley",""]
["JB","Liam Murphy","10 Man Wigan",50,{"$f":"T9","v":50},null,null,null,null,{"$f":"SUM(F9:I9)","v":0},null,null,null,null,null,null,null,null,null,50,null,{"$f":"IF(ISERROR(INDEX(Spending!C:C,MATCH(B9,Spending!A:A,0))),0,INDEX(Spending!C:C,MATCH(B9,Spending!A:A,0)))","v":0},null,"Liam Murphy",""]
["JM","John Murphy","Jean Pierre's Tap-ins",50,{"$f":"T10","v":50},null,null,null,null,{"$f":"SUM(F10:I10)","v":0},null,null,null,null,null,null,null,null,null,50,null,{"$f":"IF(ISERROR(INDEX(Spending!C:C,MATCH(B10,Spending!A:A,0))),0,INDEX(Spending!C:C,MATCH(B10,Spending!A:A,0)))","v":0},null,"John Murphy",""]
["MS","Mo Sudell","Locomotive Leighpzig",50,{"$f":"T11","v":50},null,null,null,null,{"$f":"SUM(F11:I11)","v":0},null,null,null,null,null,null,null,null,null,50,null,{"$f":"IF(ISERROR(INDEX(Spending!C:C,MATCH(B11,Spending!A:A,0))),0,INDEX(Spending!C:C,MATCH(B11,Spending!A:A,0)))","v":0},null,"Mo Sudell",""]
["NH","Nigel Heyes","Real Madridicule United",50,{"$f":"T12","v":50},null,null,null,null,{"$f":"SUM(F12:I12)","v":0},null,null,null,null,null,null,null,null,null,50,null,{"$f":"IF(ISERROR(INDEX(Spending!C:C,MATCH(B12,Spending!A:A,0))),0,INDEX(Spending!C:C,MATCH(B12,Spending!A:A,0)))","v":0},null,"Nigel Heyes",""]
["NHU","Nigel Hughes","Atletico Standish",50,{"$f":"T13","v":50},null,null,null,null,{"$f":"SUM(F13:I13)","v":0},null,null,null,null,null,null,null,null,null,50,null,{"$f":"IF(ISERROR(INDEX(Spending!C:C,MATCH(B13,Spending!A:A,0))),0,INDEX(Spending!C:C,MATCH(B13,Spending!A:A,0)))","v":0},null,"Nigel Hughes",""]
["PFA","Paul Fairhurst","Earby Blues",50,{"$f":"T14","v":50},null,null,null,null,{"$f":"SUM(F14:I14)","v":0},null,null,null,null,null,null,null,null,null,50,null,{"$f":"IF(ISERROR(INDEX(Spending!C:C,MATCH(B14,Spending!A:A,0))),0,INDEX(Spending!C:C,MATCH(B14,Spending!A:A,0)))","v":0},null,"Paul Fairhurst",""]
["SW","Steve Waterhouse","20Legend",50,{"$f":"T15","v":50},null,null,null,null,{"$f":"SUM(F15:I15)","v":0},null,null,null,null,null,null,null,null,null,50,null,{"$f":"IF(ISERROR(INDEX(Spending!C:C,MATCH(B15,Spending!A:A,0))),0,INDEX(Spending!C:C,MATCH(B15,Spending!A:A,0)))","v":0},null,"Steve Waterhouse",""]
["V1","Vacancy #1",null,50,{"$f":"T16","v":50},null,null,null,null,{"$f":"SUM(F16:I16)","v":0},null,null,null,null,null,null,null,null,null,50,null,{"$f":"IF(ISERROR(INDEX(Spending!C:C,MATCH(B16,Spending!A:A,0))),0,INDEX(Spending!C:C,MATCH(B16,Spending!A:A,0)))","v":0},null,"Vacancy #1",""]
["V2","Vacancy #2",null,50,{"$f":"T17","v":50},null,null,null,null,{"$f":"SUM(F17:I17)","v":0},null,null,null,null,null,null,null,null,null,50,null,{"$f":"IF(ISERROR(INDEX(Spending!C:C,MATCH(B17,Spending!A:A,0))),0,INDEX(Spending!C:C,MATCH(B17,Spending!A:A,0)))","v":0},null,"Vacancy #2",""]
["V3","Vacancy #3",null,50,{"$f":"T18","v":50},null,null,null,null,{"$f":"SUM(F18:I18)","v":0},null,null,null,null,null,null,null,null,null,50,null,{"$f":"IF(ISERROR(INDEX(Spending!C:C,MATCH(B18,Spending!A:A,0))),0,INDEX(Spending!C:C,MATCH(B18,Spending!A:A,0)))","v":0},null,"Vacancy #3",""]

{"sheet":"Defenders","index":2,"n_rows":47,"n_cols":10,"rows_kept":47,"cut":false,"hidden":false,"merged":[]}
["Team","GK Signed","Def Signed","GK Available","Def Available",null,null,"From DLC Pool Pivot ↓ (admin only)"]
[null,null,null,{"$f":"IF(1-B2=0,\"\",1-B2)","v":1},{"$f":"IF(5-C2=0,\"\",5-C2)","v":5},null,null,"Arsenal",3,1]
[null,null,null,{"$f":"IF(1-B3=0,\"\",1-B3)","v":1},{"$f":"IF(5-C3=0,\"\",5-C3)","v":5},null,null,"Aston Villa",2,2]
[null,null,null,1,5,null,null,"Barnsley",1]
[null,null,null,1,5,null,null,"Birmingham City",2]
[null,null,null,1,5,null,null,"Blackburn Rovers",2,1]
[null,null,null,1,5,null,null,"Bournemouth",2,2]
[null,null,null,1,5,null,null,"Brentford",4]
[null,null,null,1,5,null,null,"Brighton & Hove Albion",2,1]
[null,null,null,1,5,null,null,"Bristol City",4,1]
[null,null,null,1,5,null,null,"Burnley",4]
[null,null,null,1,5,null,null,"Cardiff City",2,3]
[null,null,null,1,5,null,null,"Charlton Athletic",2]
[null,null,null,1,5,null,null,"Chelsea",3,5]
[null,null,null,1,5,null,null,"Crystal Palace",3,3]
[null,null,null,1,5,null,null,"Derby County",3]
[null,null,null,1,5,null,null,"Everton",4,1]
[null,null,null,1,5,null,null,"Fiorentina",1]
[null,null,null,1,5,null,null,"Fulham",4,2]
[null,null,null,1,5,null,null,"Huddersfield Town",2]
[null,null,null,1,5,null,null,"Hull City",2]
[null,null,null,1,5,null,null,"Inter Milan",1]
[null,null,null,1,5,null,null,"Leeds United",3,2]
[null,null,null,1,5,null,null,"Leicester City",2,3]
[null,null,null,1,5,null,null,"Liverpool",3,2]
[null,null,null,1,5,null,null,"Luton Town",3]
[null,null,null,1,5,null,null,"Manchester City",5,4]
[null,null,null,1,5,null,null,"Manchester United",3,2]
[null,null,null,1,5,null,null,"Middlesbrough",2,1]
[null,null,null,1,5,null,null,"Millwall",2,1]
[null,null,null,1,5,null,null,"Newcastle United",2,1]
[null,null,null,1,5,null,null,"Norwich City",1,1]
[null,null,null,1,5,null,null,"Nottingham Forest",2,3]
[null,null,null,1,5,null,null,"Preston North End",4,2]
[null,null,null,1,5,null,null,"Queens Park Rangers",2]
[null,null,null,1,5,null,null,"Reading",3,2]
[null,null,null,1,5,null,null,"Sheffield United",2]
[null,null,null,1,5,null,null,"Sheffield Wednesday",2,1]
[null,null,null,1,5,null,null,"Southampton",2,2]
[null,null,null,1,5,null,null,"Stoke City",3]
[null,null,null,1,5,null,null,"Swansea City",null,4]
[null,null,null,1,5,null,null,"Tottenham Hotspur",3,3]
[null,null,null,1,5,null,null,"Watford",4,2]
[null,null,null,1,5,null,null,"West Bromwich Albion",4,2]
[null,null,null,1,5,null,null,"West Ham United",4,3]
[null,null,null,null,null,null,null,"Wigan Athletic",2,2]
[null,null,null,null,null,null,null,"Wolverhampton Wanderers",1,4]

{"sheet":"Players","index":3,"n_rows":612,"n_cols":9,"rows_kept":612,"cut":false,"hidden":false,"merged":[]}
["Sort ↕","Cat","Ref","Pos","Player","Team","Owner","Bid","Release"]
["A","A",5366,"GK","Alisson","Liverpool","",""]
["A","A",5805,"GK","Ryan Allsop","Wycombe","",""]
["A","A",5797,"GK","Alphonse Areola","Fulham","",""]
["A","A",4223,"GK","Asmir Begovic","Bournemouth","",""]
["A","A",4998,"GK","Dan Bentley","Bristol C","",""]
["A","A",5658,"GK","Marcus Bettinelli","Middlesbro","",""]
["A","A",4999,"GK","Bartosz Bialkowski","Millwall","",""]
["A","A",5185,"GK","Jamal Blackman","Rotherham","",""]
["A","A",4289,"GK","Jack Butland","Stoke","",""]
["A","A",5660,"GK","Rafael Cabral","Reading","",""]
["A","A",5802,"GK","Luke Daniels","Brentford","",""]
["A","A",5804,"GK","Cameron Dawson","Sheff W","",""]
["A","A",4141,"GK","David De Gea","Man U","",""]
["A","A",5372,"GK","Martin Dubravka","Newcastle","",""]
["A","A",5187,"GK","Ederson","Man C","",""]
["A","A",5379,"GK","Neil Etheridge","Birmingham","",""]
["A","A",4420,"GK","Lukasz Fabianski","West Ham","",""]
["A","A",4360,"GK","Ben Foster","Watford","",""]
["A","A",2733,"GK","Ben Hamer","Huddersfield","",""]
["A","A",5151,"GK","Sam Johnstone","West Brom","",""]
["A","A",5801,"GK","Thomas Kaminski","Blackburn","",""]
["A","A",4198,"GK","Tim Krul","Norwich","",""]
["A","A",5369,"GK","Bernd Leno","Arsenal","",""]
["A","A",4309,"GK","Hugo Lloris","Spurs","",""]
["A","A",5665,"GK","George Long","Hull","",""]
["A","A",5375,"GK","Joe Lumley","QPR","",""]
["A","A",5803,"GK","Marko Marosi","Coventry","",""]
["A","A",3612,"GK","David Marshall","Derby","",""]
["A","A",5799,"GK","Emiliano Martinez","Villa","",""]
["A","A",4513,"GK","Alex McCarthy","Southampton","",""]
["A","A",5796,"GK","Edouard Mendy","Chelsea","",""]
["A","A",5798,"GK","Illan Meslier","Leeds","",""]
["A","A",5370,"GK","Rui Patricio","Wolves","",""]
["A","A",5663,"GK","Dilion Phillips","Charlton","",""]
["A","A",4795,"GK","Jordan Pickford","Everton","",""]
["A","A",3240,"GK","Nick Pope","Burnley","",""]
["A","A",5656,"GK","Aaron Ramsdale","Sheff U","",""]
["A","A",5177,"GK","Declan Rudd","Preston","",""]
["A","A",5192,"GK","Matthew Ryan","Brighton","",""]
["A","A",5657,"GK","Brice Samba","Forest","",""]
["A","A",4380,"GK","Kasper Schmeichel","Leicester","",""]
["A","A",5621,"GK","Simon Sluga","Luton","",""]
["A","A",1655,"GK","Alex Smithies","Cardiff","",""]
["A","A",5659,"GK","Guaita Vincente","Palace","",""]
["A","A",5800,"GK","Jack Walton","Barnsley","",""]
["A","A",5662,"GK","Freddie Woodman","Swansea","",""]
[null,null,null,null,null,null,"",""]
[null,null,null,null,null,null,"",""]
[null,null,null,null,null,null,"",""]
[null,null,null,null,null,null,"",""]
[null,null,null,null,null,null,"",""]
[null,null,null,null,null,null,"",""]
[null,null,null,null,null,null,"",""]
[null,null,null,null,null,null,"",""]
[null,null,null,null,null,null,"",""]
[null,null,null,null,null,null,"",""]
[null,null,null,null,null,null,"",""]
[null,null,null,null,null,null,"",""]
[null,null,null,null,null,null,"",""]
[null,null,null,null,null,null,"",""]
[null,null,null,null,null,null,"",""]
[null,null,null,null,null,null,"",""]
[null,null,null,null,null,null,"",""]
[null,null,null,null,null,null,"",""]
[null,null,null,null,null,null,"",""]
[null,null,null,null,null,null,"",""]
[null,null,null,null,null,null,"",""]
[null,null,null,null,null,null,"",""]
[null,null,null,null,null,null,"",""]
[null,null,null,null,null,null,"",""]
[null,null,null,null,null,null,"",""]
[null,null,null,null,null,null,"",""]
[null,null,null,null,null,null,"",""]
[null,null,null,null,null,null,"",""]
[null,null,null,null,null,null,"",""]
[null,null,null,null,null,null,"",""]
[null,null,null,null,null,null,"",""]
[null,null,null,null,null,null,"",""]
[null,null,null,null,null,null,"",""]
[null,null,null,null,null,null,"",""]
[null,null,null,null,null,null,"",""]
[null,null,null,null,null,null,"",""]
[null,null,null,null,null,null,"",""]
[null,null,null,null,null,null,"",""]
[null,null,null,null,null,null,"",""]
[null,null,null,null,null,null,"",""]
[null,null,null,null,null,null,"",""]
[null,null,null,null,null,null,"",""]
[null,null,null,null,null,null,"",""]
[null,null,null,null,null,null,"",""]
[null,null,null,null,null,null,"",""]
[null,null,null,null,null,null,"",""]
[null,null,null,null,null,null,"",""]
[]
[]
[]
[]
[null,null,null,null,null,null,"",""]
[null,null,null,null,null,null,"",""]
[null,null,null,null,null,null,"",""]
[]
[]
[]
[]
[]
[null,null,null,null,null,null,"",""]
[null,null,null,null,null,null,"",""]
[null,null,null,null,null,null,"",""]
[null,null,null,null,null,null,"",""]
[]
[]
[]
[]
[]
[]
[]
[null,null,null,null,null,null,"",""]
[]
[]
[]
[]
[]
[]
[null,null,null,null,null,null,"",""]
[null,null,null,null,null,null,"",""]
[null,null,null,null,null,null,"",""]
[null,null,null,null,null,null,"",""]
[]
[]
[]
[]
[]
[]
[]
[]
[null,null,null,null,null,null,"",""]
[null,null,null,null,null,null,"",""]
[]
[]
[]
[]
[]
[]
[null,null,null,null,null,null,"",""]
[null,null,null,null,null,null,"",""]
[null,null,null,null,null,null,"",""]
[null,null,null,null,null,null,"",""]
[]
[]
[]
[]
[]
[]
[]
[null,null,null,null,null,null,"",""]
[null,null,null,null,null,null,"",""]
[]
[]
[]
[]
[]
[]
[]
[]
[]
[]
[]
[]
[null,null,null,null,null,null,"",""]
[null,null,null,null,null,null,"",""]
[]
[]
[]
[]
[]
[]
[]
[null,null,null,null,null,null,"",""]
[null,null,null,null,null,null,"",""]
[]
[]
[]
[]
[]
[]
[]
[]
[null,null,null,null,null,null,"",""]
[null,null,null,null,null,null,"",""]
[null,null,null,null,null,null,"",""]
[]
[]
[]
[]
[]
[]
[]
[]
[]
[]
[]
[null,null,null,null,null,null,"",""]
[null,null,null,null,null,null,"",""]
[null,null,null,null,null,null,"",""]
[]
[]
[]
[null,null,null,null,null,null,"",""]
[null,null,null,null,null,null,"",""]
[]
[]
[]
[]
[]
[]
[null,null,null,null,null,null,"",""]
[]
[]
[]
[]
[]
[null,null,null,null,null,null,"",""]
[null,null,null,null,null,null,"",""]
[null,null,null,null,null,null,"",""]
[]
[]
[]
[]
[]
[]
[]
[]
[null,null,null,null,null,null,"",""]
[null,null,null,null,null,null,"",""]
[null,null,null,null,null,null,"",""]
[null,null,null,null,null,null,"",""]
[]
[]
[]
[]
[]
[]
[]
[null,null,null,null,null,null,"",""]
[null,null,null,null,null,null,"",""]
[null,null,null,null,null,null,"",""]
[null,null,null,null,null,null,"",""]
[null,null,null,null,null,null,"",""]
[null,null,null,null,null,null,"",""]
[null,null,null,null,null,null,"",""]
[null,null,null,null,null,null,"",""]
[]
[]
[]
[]
[]
[]
[]
[]
[]
[]
[]
[]
[null,null,null,null,null,null,"",""]
[]
[]
[]
[]
[]
[]
[]
[]
[null,null,null,null,null,null,"",""]
[]
[]
[]
[]
[null,null,null,null,null,null,"",""]
[null,null,null,null,null,null,"",""]
[null,null,null,null,null,null,"",""]
[null,null,null,null,null,null,"",""]
[]
[]
[]
[]
[]
[]
[]
[null,null,null,null,null,null,"",""]
[null,null,null,null,null,null,"",""]
[null,null,null,null,null,null,"",""]
[null,null,null,null,null,null,"",""]
[]
[]
[]
[]
[]
[]
[]
[null,null,null,null,null,null,"",""]
[]
[]
[]
[]
[]
[]
[]
[]
[]
[]
[null,null,null,null,null,null,"",""]
[]
[]
[]
[]
[]
[]
[null,null,null,null,null,null,"",""]
[]
[]
[]
[]
[]
[]
[]
[]
[null,null,null,null,null,null,"",""]
[null,null,null,null,null,null,"",""]
[null,null,null,null,null,null,"",""]
[]
[]
[]
[]
[]
[]
[]
[]
[]
[]
[null,null,null,null,null,null,"",""]
[null,null,null,null,null,null,"",""]
[null,null,null,null,null,null,"",""]
[null,null,null,null,null,null,"",""]
[null,null,null,null,null,null,"",""]
[null,null,null,null,null,null,"",""]
[null,null,null,null,null,null,"",""]
[]
[]
[]
[]
[]
[]
[]
[]
[]
[]
[null,null,null,null,null,null,"",""]
[null,null,null,null,null,null,"",""]
[]
[]
[]
[]
[]
[]
[]
[]
[null,null,null,null,null,null,"",""]
[null,null,null,null,null,null,"",""]
[null,null,null,null,null,null,"",""]
[]
[]
[]
[]
[]
[]
[]
[]
[null,null,null,null,null,null,"",""]
[null,null,null,null,null,null,"",""]
[null,null,null,null,null,null,"",""]
[null,null,null,null,null,null,"",""]
[null,null,null,null,null,null,"",""]
[]
[]
[]
[]
[]
[]
[]
[]
[]
[]
[null,null,null,null,null,null,"",""]
[null,null,null,null,null,null,"",""]
[null,null,null,null,null,null,"",""]
[]
[]
[]
[]
[]
[]
[]
[null,null,null,null,null,null,"",""]
[null,null,null,null,null,null,"",""]
[null,null,null,null,null,null,"",""]
[]
[]
[]
[]
[]
[]
[null,null,null,null,null,null,"",""]
[null,null,null,null,null,null,"",""]
[null,null,null,null,null,null,"",""]
[]
[]
[]
[]
[]
[]
[]
[]
[]
[null,null,null,null,null,null,"",""]
[null,null,null,null,null,null,"",""]
[null,null,null,null,null,null,"",""]
[]
[]
[null,null,null,null,null,null,"",""]
[null,null,null,null,null,null,"",""]
[null,null,null,null,null,null,"",""]
[null,null,null,null,null,null,"",""]
[]
[]
[]
[]
[null,null,null,null,null,null,"",""]
[]
[null,null,null,null,null,null,"Mo Sudell",1.4]
[]
[]
[]
[]
[null,null,null,null,null,null,"",""]
[null,null,null,null,null,null,"",""]
[]
[]
[]
[null,null,null,null,null,null,"",""]
[null,null,null,null,null,null,"",""]
[null,null,null,null,null,null,"",""]
[]
[]
[null,null,null,null,null,null,"",""]
[]
[]
[]
[]
[]
[null,null,null,null,null,null,"",""]
[]
[null,null,null,null,null,null,"",""]
[]
[]
[null,null,null,null,null,null,"",""]
[null,null,null,null,null,null,"",""]
[]
[]
[]
[]
[]
[null,null,null,null,null,null,"",""]
[null,null,null,null,null,null,"",""]
[null,null,null,null,null,null,"",""]
[null,null,null,null,null,null,"",""]
[]
[]
[]
[null,null,null,null,null,null,"",""]
[]
[]
[]
[null,null,null,null,null,null,"",""]
[]
[]
[null,null,null,null,null,null,"",""]
[]
[]
[]
[null,null,null,null,null,null,"",""]
[]
[]
[]
[]
[null,null,null,null,null,null,"",""]
[null,null,null,null,null,null,"",""]
[null,null,null,null,null,null,"",""]
[]
[]
[]
[]
[null,null,null,null,null,null,"",""]
[null,null,null,null,null,null,"",""]
[null,null,null,null,null,null,"",""]
[null,null,null,null,null,null,"",""]
[]
[]
[]
[null,null,null,null,null,null,"",""]
[]
[]
[]
[]
[null,null,null,null,null,null,"",""]
[]
[null,null,null,null,null,null,"",""]
[null,null,null,null,null,null,"",""]
[]
[]
[]
[null,null,null,null,null,null,"",""]
[]
[]
[null,null,null,null,null,null,"",""]
[null,null,null,null,null,null,"",""]
[]
[]
[]
[null,null,null,null,null,null,"",""]
[]
[]
[]
[null,null,null,null,null,null,"",""]
[null,null,null,null,null,null,"",""]
[null,null,null,null,null,null,"",""]
[]
[]
[]
[null,null,null,null,null,null,"",""]
[null,null,null,null,null,null,"",""]
[]
[]
[]
[]
[]
[null,null,null,null,null,null,"",""]
[]
[]
[]
[null,null,null,null,null,null,"",""]
[]
[]
[null,null,null,null,null,null,"",""]
[null,null,null,null,null,null,"",""]
[null,null,null,null,null,null,"",""]
[null,null,null,null,null,null,"",""]
[]
[]
[]
[]
[null,null,null,null,null,null,"",""]
[]
[]
[]
[]
[null,null,null,null,null,null,"",""]
[]
[]
[]
[]
[]
[null,null,null,null,null,null,"",""]
[null,null,null,null,null,null,"",""]
[]
[]
[]
[]
[null,null,null,null,null,null,"",""]
[]
[null,null,null,null,null,null,"",""]
[]
[]
[null,null,null,null,null,null,"",""]
[null,null,null,null,null,null,"",""]
[null,null,null,null,null,null,"",""]
[null,null,null,null,null,null,"",""]
[null,null,null,null,null,null,"",""]
[]
[]
[]
[null,null,null,null,null,null,"",""]
[]
[]
[]
[]
[]
[null,null,null,null,null,null,"",""]
[null,null,null,null,null,null,"",""]
[]
[null,null,null,null,null,null,"",""]
[null,null,null,null,null,null,"",""]
[null,null,null,null,null,null,"",""]
[]
[]
[]
[]
[]
[]
[]
[]
[null,null,null,null,null,null,"",""]

{"sheet":"Owners","index":4,"n_rows":16,"n_cols":1,"rows_kept":16,"cut":false,"hidden":true,"merged":[]}
["Jimmy"]
["Paul/Kel"]
["Brad"]
["Dave"]
["Graham"]
["Mo"]
["Bolshy"]
["Andy"]
["Pete"]
["Fid"]
["John M"]
["John W"]
["Nigel"]
["Griff"]
["Rob/Steve"]
["Antony"]

{"sheet":"Bids","index":5,"n_rows":1048576,"n_cols":10,"rows_kept":4500,"cut":true,"hidden":false,"merged":[[0,4,0,8]],"bounds":{"rows_first":2000,"rows_last":500,"rows_between":2000,"halvings":0}}
["`",null,null,null,{"$f":"CONCATENATE(AuctionName,\" - Results\")","v":"DL21 - G1 - Goalkeepers added - Results"}]
["Winner","Code","Ref","Cat","Pos","Player","Team","Owner","Bid","Released"]
[null,{"$f":"IF($C3=\"\",\"\",INDEX(Players!A:A,MATCH($C3,Players!$B:$B,0)))","v":""},null,{"$f":"IF($C3=\"\",\"\",INDEX(Players!C:C,MATCH($C3,Players!$B:$B,0)))","v":""},{"$f":"IF($C3=\"\",\"\",INDEX(Players!D:D,MATCH($C3,Players!$B:$B,0)))","v":""},{"$f":"IF($C3=\"\",\"\",INDEX(Players!E:E,MATCH($C3,Players!$B:$B,0)))","v":""},{"$f":"IF($C3=\"\",\"\",INDEX(Players!F:F,MATCH($C3,Players!$B:$B,0)))","v":""}]
[null,{"$f":"IF($C4=\"\",\"\",INDEX(Players!A:A,MATCH($C4,Players!$B:$B,0)))","v":""},null,{"$f":"IF($C4=\"\",\"\",INDEX(Players!C:C,MATCH($C4,Players!$B:$B,0)))","v":""},{"$f":"IF($C4=\"\",\"\",INDEX(Players!D:D,MATCH($C4,Players!$B:$B,0)))","v":""},{"$f":"IF($C4=\"\",\"\",INDEX(Players!E:E,MATCH($C4,Players!$B:$B,0)))","v":""},{"$f":"IF($C4=\"\",\"\",INDEX(Players!F:F,MATCH($C4,Players!$B:$B,0)))","v":""}]
[null,{"$f":"IF($C5=\"\",\"\",INDEX(Players!A:A,MATCH($C5,Players!$B:$B,0)))","v":""},null,{"$f":"IF($C5=\"\",\"\",INDEX(Players!C:C,MATCH($C5,Players!$B:$B,0)))","v":""},{"$f":"IF($C5=\"\",\"\",INDEX(Players!D:D,MATCH($C5,Players!$B:$B,0)))","v":""},{"$f":"IF($C5=\"\",\"\",INDEX(Players!E:E,MATCH($C5,Players!$B:$B,0)))","v":""},{"$f":"IF($C5=\"\",\"\",INDEX(Players!F:F,MATCH($C5,Players!$B:$B,0)))","v":""}]
[null,{"$f":"IF($C6=\"\",\"\",INDEX(Players!A:A,MATCH($C6,Players!$B:$B,0)))","v":""},null,{"$f":"IF($C6=\"\",\"\",INDEX(Players!C:C,MATCH($C6,Players!$B:$B,0)))","v":""},{"$f":"IF($C6=\"\",\"\",INDEX(Players!D:D,MATCH($C6,Players!$B:$B,0)))","v":""},{"$f":"IF($C6=\"\",\"\",INDEX(Players!E:E,MATCH($C6,Players!$B:$B,0)))","v":""},{"$f":"IF($C6=\"\",\"\",INDEX(Players!F:F,MATCH($C6,Players!$B:$B,0)))","v":""}]
[null,{"$f":"IF($C7=\"\",\"\",INDEX(Players!A:A,MATCH($C7,Players!$B:$B,0)))","v":""},null,{"$f":"IF($C7=\"\",\"\",INDEX(Players!C:C,MATCH($C7,Players!$B:$B,0)))","v":""},{"$f":"IF($C7=\"\",\"\",INDEX(Players!D:D,MATCH($C7,Players!$B:$B,0)))","v":""},{"$f":"IF($C7=\"\",\"\",INDEX(Players!E:E,MATCH($C7,Players!$B:$B,0)))","v":""},{"$f":"IF($C7=\"\",\"\",INDEX(Players!F:F,MATCH($C7,Players!$B:$B,0)))","v":""}]
[null,{"$f":"IF($C8=\"\",\"\",INDEX(Players!A:A,MATCH($C8,Players!$B:$B,0)))","v":""},null,{"$f":"IF($C8=\"\",\"\",INDEX(Players!C:C,MATCH($C8,Players!$B:$B,0)))","v":""},{"$f":"IF($C8=\"\",\"\",INDEX(Players!D:D,MATCH($C8,Players!$B:$B,0)))","v":""},{"$f":"IF($C8=\"\",\"\",INDEX(Players!E:E,MATCH($C8,Players!$B:$B,0)))","v":""},{"$f":"IF($C8=\"\",\"\",INDEX(Players!F:F,MATCH($C8,Players!$B:$B,0)))","v":""}]
[null,{"$f":"IF($C9=\"\",\"\",INDEX(Players!A:A,MATCH($C9,Players!$B:$B,0)))","v":""},null,{"$f":"IF($C9=\"\",\"\",INDEX(Players!C:C,MATCH($C9,Players!$B:$B,0)))","v":""},{"$f":"IF($C9=\"\",\"\",INDEX(Players!D:D,MATCH($C9,Players!$B:$B,0)))","v":""},{"$f":"IF($C9=\"\",\"\",INDEX(Players!E:E,MATCH($C9,Players!$B:$B,0)))","v":""},{"$f":"IF($C9=\"\",\"\",INDEX(Players!F:F,MATCH($C9,Players!$B:$B,0)))","v":""}]
[null,{"$f":"IF($C10=\"\",\"\",INDEX(Players!A:A,MATCH($C10,Players!$B:$B,0)))","v":""},null,{"$f":"IF($C10=\"\",\"\",INDEX(Players!C:C,MATCH($C10,Players!$B:$B,0)))","v":""},{"$f":"IF($C10=\"\",\"\",INDEX(Players!D:D,MATCH($C10,Players!$B:$B,0)))","v":""},{"$f":"IF($C10=\"\",\"\",INDEX(Players!E:E,MATCH($C10,Players!$B:$B,0)))","v":""},{"$f":"IF($C10=\"\",\"\",INDEX(Players!F:F,MATCH($C10,Players!$B:$B,0)))","v":""}]
[null,{"$f":"IF($C11=\"\",\"\",INDEX(Players!A:A,MATCH($C11,Players!$B:$B,0)))","v":""},null,{"$f":"IF($C11=\"\",\"\",INDEX(Players!C:C,MATCH($C11,Players!$B:$B,0)))","v":""},{"$f":"IF($C11=\"\",\"\",INDEX(Players!D:D,MATCH($C11,Players!$B:$B,0)))","v":""},{"$f":"IF($C11=\"\",\"\",INDEX(Players!E:E,MATCH($C11,Players!$B:$B,0)))","v":""},{"$f":"IF($C11=\"\",\"\",INDEX(Players!F:F,MATCH($C11,Players!$B:$B,0)))","v":""}]
[null,{"$f":"IF($C12=\"\",\"\",INDEX(Players!A:A,MATCH($C12,Players!$B:$B,0)))","v":""},null,{"$f":"IF($C12=\"\",\"\",INDEX(Players!C:C,MATCH($C12,Players!$B:$B,0)))","v":""},{"$f":"IF($C12=\"\",\"\",INDEX(Players!D:D,MATCH($C12,Players!$B:$B,0)))","v":""},{"$f":"IF($C12=\"\",\"\",INDEX(Players!E:E,MATCH($C12,Players!$B:$B,0)))","v":""},{"$f":"IF($C12=\"\",\"\",INDEX(Players!F:F,MATCH($C12,Players!$B:$B,0)))","v":""}]
[null,{"$f":"IF($C13=\"\",\"\",INDEX(Players!A:A,MATCH($C13,Players!$B:$B,0)))","v":""},null,{"$f":"IF($C13=\"\",\"\",INDEX(Players!C:C,MATCH($C13,Players!$B:$B,0)))","v":""},{"$f":"IF($C13=\"\",\"\",INDEX(Players!D:D,MATCH($C13,Players!$B:$B,0)))","v":""},{"$f":"IF($C13=\"\",\"\",INDEX(Players!E:E,MATCH($C13,Players!$B:$B,0)))","v":""},{"$f":"IF($C13=\"\",\"\",INDEX(Players!F:F,MATCH($C13,Players!$B:$B,0)))","v":""}]
[null,{"$f":"IF($C14=\"\",\"\",INDEX(Players!A:A,MATCH($C14,Players!$B:$B,0)))","v":""},null,{"$f":"IF($C14=\"\",\"\",INDEX(Players!C:C,MATCH($C14,Players!$B:$B,0)))","v":""},{"$f":"IF($C14=\"\",\"\",INDEX(Players!D:D,MATCH($C14,Players!$B:$B,0)))","v":""},{"$f":"IF($C14=\"\",\"\",INDEX(Players!E:E,MATCH($C14,Players!$B:$B,0)))","v":""},{"$f":"IF($C14=\"\",\"\",INDEX(Players!F:F,MATCH($C14,Players!$B:$B,0)))","v":""}]
[null,{"$f":"IF($C15=\"\",\"\",INDEX(Players!A:A,MATCH($C15,Players!$B:$B,0)))","v":""},null,{"$f":"IF($C15=\"\",\"\",INDEX(Players!C:C,MATCH($C15,Players!$B:$B,0)))","v":""},{"$f":"IF($C15=\"\",\"\",INDEX(Players!D:D,MATCH($C15,Players!$B:$B,0)))","v":""},{"$f":"IF($C15=\"\",\"\",INDEX(Players!E:E,MATCH($C15,Players!$B:$B,0)))","v":""},{"$f":"IF($C15=\"\",\"\",INDEX(Players!F:F,MATCH($C15,Players!$B:$B,0)))","v":""}]
[null,{"$f":"IF($C16=\"\",\"\",INDEX(Players!A:A,MATCH($C16,Players!$B:$B,0)))","v":""},null,{"$f":"IF($C16=\"\",\"\",INDEX(Players!C:C,MATCH($C16,Players!$B:$B,0)))","v":""},{"$f":"IF($C16=\"\",\"\",INDEX(Players!D:D,MATCH($C16,Players!$B:$B,0)))","v":""},{"$f":"IF($C16=\"\",\"\",INDEX(Players!E:E,MATCH($C16,Players!$B:$B,0)))","v":""},{"$f":"IF($C16=\"\",\"\",INDEX(Players!F:F,MATCH($C16,Players!$B:$B,0)))","v":""}]
[null,{"$f":"IF($C17=\"\",\"\",INDEX(Players!A:A,MATCH($C17,Players!$B:$B,0)))","v":""},null,{"$f":"IF($C17=\"\",\"\",INDEX(Players!C:C,MATCH($C17,Players!$B:$B,0)))","v":""},{"$f":"IF($C17=\"\",\"\",INDEX(Players!D:D,MATCH($C17,Players!$B:$B,0)))","v":""},{"$f":"IF($C17=\"\",\"\",INDEX(Players!E:E,MATCH($C17,Players!$B:$B,0)))","v":""},{"$f":"IF($C17=\"\",\"\",INDEX(Players!F:F,MATCH($C17,Players!$B:$B,0)))","v":""}]
[null,{"$f":"IF($C18=\"\",\"\",INDEX(Players!A:A,MATCH($C18,Players!$B:$B,0)))","v":""},null,{"$f":"IF($C18=\"\",\"\",INDEX(Players!C:C,MATCH($C18,Players!$B:$B,0)))","v":""},{"$f":"IF($C18=\"\",\"\",INDEX(Players!D:D,MATCH($C18,Players!$B:$B,0)))","v":""},{"$f":"IF($C18=\"\",\"\",INDEX(Players!E:E,MATCH($C18,Players!$B:$B,0)))","v":""},{"$f":"IF($C18=\"\",\"\",INDEX(Players!F:F,MATCH($C18,Players!$B:$B,0)))","v":""}]
[null,{"$f":"IF($C19=\"\",\"\",INDEX(Players!A:A,MATCH($C19,Players!$B:$B,0)))","v":""},null,{"$f":"IF($C19=\"\",\"\",INDEX(Players!C:C,MATCH($C19,Players!$B:$B,0)))","v":""},{"$f":"IF($C19=\"\",\"\",INDEX(Players!D:D,MATCH($C19,Players!$B:$B,0)))","v":""},{"$f":"IF($C19=\"\",\"\",INDEX(Players!E:E,MATCH($C19,Players!$B:$B,0)))","v":""},{"$f":"IF($C19=\"\",\"\",INDEX(Players!F:F,MATCH($C19,Players!$B:$B,0)))","v":""}]
[null,{"$f":"IF($C20=\"\",\"\",INDEX(Players!A:A,MATCH($C20,Players!$B:$B,0)))","v":""},null,{"$f":"IF($C20=\"\",\"\",INDEX(Players!C:C,MATCH($C20,Players!$B:$B,0)))","v":""},{"$f":"IF($C20=\"\",\"\",INDEX(Players!D:D,MATCH($C20,Players!$B:$B,0)))","v":""},{"$f":"IF($C20=\"\",\"\",INDEX(Players!E:E,MATCH($C20,Players!$B:$B,0)))","v":""},{"$f":"IF($C20=\"\",\"\",INDEX(Players!F:F,MATCH($C20,Players!$B:$B,0)))","v":""}]
[null,{"$f":"IF($C21=\"\",\"\",INDEX(Players!A:A,MATCH($C21,Players!$B:$B,0)))","v":""},null,{"$f":"IF($C21=\"\",\"\",INDEX(Players!C:C,MATCH($C21,Players!$B:$B,0)))","v":""},{"$f":"IF($C21=\"\",\"\",INDEX(Players!D:D,MATCH($C21,Players!$B:$B,0)))","v":""},{"$f":"IF($C21=\"\",\"\",INDEX(Players!E:E,MATCH($C21,Players!$B:$B,0)))","v":""},{"$f":"IF($C21=\"\",\"\",INDEX(Players!F:F,MATCH($C21,Players!$B:$B,0)))","v":""}]
[null,{"$f":"IF($C22=\"\",\"\",INDEX(Players!A:A,MATCH($C22,Players!$B:$B,0)))","v":""},null,{"$f":"IF($C22=\"\",\"\",INDEX(Players!C:C,MATCH($C22,Players!$B:$B,0)))","v":""},{"$f":"IF($C22=\"\",\"\",INDEX(Players!D:D,MATCH($C22,Players!$B:$B,0)))","v":""},{"$f":"IF($C22=\"\",\"\",INDEX(Players!E:E,MATCH($C22,Players!$B:$B,0)))","v":""},{"$f":"IF($C22=\"\",\"\",INDEX(Players!F:F,MATCH($C22,Players!$B:$B,0)))","v":""}]
[null,{"$f":"IF($C23=\"\",\"\",INDEX(Players!A:A,MATCH($C23,Players!$B:$B,0)))","v":""},null,{"$f":"IF($C23=\"\",\"\",INDEX(Players!C:C,MATCH($C23,Players!$B:$B,0)))","v":""},{"$f":"IF($C23=\"\",\"\",INDEX(Players!D:D,MATCH($C23,Players!$B:$B,0)))","v":""},{"$f":"IF($C23=\"\",\"\",INDEX(Players!E:E,MATCH($C23,Players!$B:$B,0)))","v":""},{"$f":"IF($C23=\"\",\"\",INDEX(Players!F:F,MATCH($C23,Players!$B:$B,0)))","v":""}]
[null,{"$f":"IF($C24=\"\",\"\",INDEX(Players!A:A,MATCH($C24,Players!$B:$B,0)))","v":""},null,{"$f":"IF($C24=\"\",\"\",INDEX(Players!C:C,MATCH($C24,Players!$B:$B,0)))","v":""},{"$f":"IF($C24=\"\",\"\",INDEX(Players!D:D,MATCH($C24,Players!$B:$B,0)))","v":""},{"$f":"IF($C24=\"\",\"\",INDEX(Players!E:E,MATCH($C24,Players!$B:$B,0)))","v":""},{"$f":"IF($C24=\"\",\"\",INDEX(Players!F:F,MATCH($C24,Players!$B:$B,0)))","v":""}]
[null,{"$f":"IF($C25=\"\",\"\",INDEX(Players!A:A,MATCH($C25,Players!$B:$B,0)))","v":""},null,{"$f":"IF($C25=\"\",\"\",INDEX(Players!C:C,MATCH($C25,Players!$B:$B,0)))","v":""},{"$f":"IF($C25=\"\",\"\",INDEX(Players!D:D,MATCH($C25,Players!$B:$B,0)))","v":""},{"$f":"IF($C25=\"\",\"\",INDEX(Players!E:E,MATCH($C25,Players!$B:$B,0)))","v":""},{"$f":"IF($C25=\"\",\"\",INDEX(Players!F:F,MATCH($C25,Players!$B:$B,0)))","v":""}]
[null,{"$f":"IF($C26=\"\",\"\",INDEX(Players!A:A,MATCH($C26,Players!$B:$B,0)))","v":""},null,{"$f":"IF($C26=\"\",\"\",INDEX(Players!C:C,MATCH($C26,Players!$B:$B,0)))","v":""},{"$f":"IF($C26=\"\",\"\",INDEX(Players!D:D,MATCH($C26,Players!$B:$B,0)))","v":""},{"$f":"IF($C26=\"\",\"\",INDEX(Players!E:E,MATCH($C26,Players!$B:$B,0)))","v":""},{"$f":"IF($C26=\"\",\"\",INDEX(Players!F:F,MATCH($C26,Players!$B:$B,0)))","v":""}]
[null,{"$f":"IF($C27=\"\",\"\",INDEX(Players!A:A,MATCH($C27,Players!$B:$B,0)))","v":""},null,{"$f":"IF($C27=\"\",\"\",INDEX(Players!C:C,MATCH($C27,Players!$B:$B,0)))","v":""},{"$f":"IF($C27=\"\",\"\",INDEX(Players!D:D,MATCH($C27,Players!$B:$B,0)))","v":""},{"$f":"IF($C27=\"\",\"\",INDEX(Players!E:E,MATCH($C27,Players!$B:$B,0)))","v":""},{"$f":"IF($C27=\"\",\"\",INDEX(Players!F:F,MATCH($C27,Players!$B:$B,0)))","v":""}]
[null,{"$f":"IF($C28=\"\",\"\",INDEX(Players!A:A,MATCH($C28,Players!$B:$B,0)))","v":""},null,{"$f":"IF($C28=\"\",\"\",INDEX(Players!C:C,MATCH($C28,Players!$B:$B,0)))","v":""},{"$f":"IF($C28=\"\",\"\",INDEX(Players!D:D,MATCH($C28,Players!$B:$B,0)))","v":""},{"$f":"IF($C28=\"\",\"\",INDEX(Players!E:E,MATCH($C28,Players!$B:$B,0)))","v":""},{"$f":"IF($C28=\"\",\"\",INDEX(Players!F:F,MATCH($C28,Players!$B:$B,0)))","v":""}]
[null,{"$f":"IF($C29=\"\",\"\",INDEX(Players!A:A,MATCH($C29,Players!$B:$B,0)))","v":""},null,{"$f":"IF($C29=\"\",\"\",INDEX(Players!C:C,MATCH($C29,Players!$B:$B,0)))","v":""},{"$f":"IF($C29=\"\",\"\",INDEX(Players!D:D,MATCH($C29,Players!$B:$B,0)))","v":""},{"$f":"IF($C29=\"\",\"\",INDEX(Players!E:E,MATCH($C29,Players!$B:$B,0)))","v":""},{"$f":"IF($C29=\"\",\"\",INDEX(Players!F:F,MATCH($C29,Players!$B:$B,0)))","v":""}]
[null,{"$f":"IF($C30=\"\",\"\",INDEX(Players!A:A,MATCH($C30,Players!$B:$B,0)))","v":""},null,{"$f":"IF($C30=\"\",\"\",INDEX(Players!C:C,MATCH($C30,Players!$B:$B,0)))","v":""},{"$f":"IF($C30=\"\",\"\",INDEX(Players!D:D,MATCH($C30,Players!$B:$B,0)))","v":""},{"$f":"IF($C30=\"\",\"\",INDEX(Players!E:E,MATCH($C30,Players!$B:$B,0)))","v":""},{"$f":"IF($C30=\"\",\"\",INDEX(Players!F:F,MATCH($C30,Players!$B:$B,0)))","v":""}]
[null,{"$f":"IF($C31=\"\",\"\",INDEX(Players!A:A,MATCH($C31,Players!$B:$B,0)))","v":""},null,{"$f":"IF($C31=\"\",\"\",INDEX(Players!C:C,MATCH($C31,Players!$B:$B,0)))","v":""},{"$f":"IF($C31=\"\",\"\",INDEX(Players!D:D,MATCH($C31,Players!$B:$B,0)))","v":""},{"$f":"IF($C31=\"\",\"\",INDEX(Players!E:E,MATCH($C31,Players!$B:$B,0)))","v":""},{"$f":"IF($C31=\"\",\"\",INDEX(Players!F:F,MATCH($C31,Players!$B:$B,0)))","v":""}]
[null,{"$f":"IF($C32=\"\",\"\",INDEX(Players!A:A,MATCH($C32,Players!$B:$B,0)))","v":""},null,{"$f":"IF($C32=\"\",\"\",INDEX(Players!C:C,MATCH($C32,Players!$B:$B,0)))","v":""},{"$f":"IF($C32=\"\",\"\",INDEX(Players!D:D,MATCH($C32,Players!$B:$B,0)))","v":""},{"$f":"IF($C32=\"\",\"\",INDEX(Players!E:E,MATCH($C32,Players!$B:$B,0)))","v":""},{"$f":"IF($C32=\"\",\"\",INDEX(Players!F:F,MATCH($C32,Players!$B:$B,0)))","v":""}]
[null,{"$f":"IF($C33=\"\",\"\",INDEX(Players!A:A,MATCH($C33,Players!$B:$B,0)))","v":""},null,{"$f":"IF($C33=\"\",\"\",INDEX(Players!C:C,MATCH($C33,Players!$B:$B,0)))","v":""},{"$f":"IF($C33=\"\",\"\",INDEX(Players!D:D,MATCH($C33,Players!$B:$B,0)))","v":""},{"$f":"IF($C33=\"\",\"\",INDEX(Players!E:E,MATCH($C33,Players!$B:$B,0)))","v":""},{"$f":"IF($C33=\"\",\"\",INDEX(Players!F:F,MATCH($C33,Players!$B:$B,0)))","v":""}]
[null,{"$f":"IF($C34=\"\",\"\",INDEX(Players!A:A,MATCH($C34,Players!$B:$B,0)))","v":""},null,{"$f":"IF($C34=\"\",\"\",INDEX(Players!C:C,MATCH($C34,Players!$B:$B,0)))","v":""},{"$f":"IF($C34=\"\",\"\",INDEX(Players!D:D,MATCH($C34,Players!$B:$B,0)))","v":""},{"$f":"IF($C34=\"\",\"\",INDEX(Players!E:E,MATCH($C34,Players!$B:$B,0)))","v":""},{"$f":"IF($C34=\"\",\"\",INDEX(Players!F:F,MATCH($C34,Players!$B:$B,0)))","v":""}]
[null,{"$f":"IF($C35=\"\",\"\",INDEX(Players!A:A,MATCH($C35,Players!$B:$B,0)))","v":""},null,{"$f":"IF($C35=\"\",\"\",INDEX(Players!C:C,MATCH($C35,Players!$B:$B,0)))","v":""},{"$f":"IF($C35=\"\",\"\",INDEX(Players!D:D,MATCH($C35,Players!$B:$B,0)))","v":""},{"$f":"IF($C35=\"\",\"\",INDEX(Players!E:E,MATCH($C35,Players!$B:$B,0)))","v":""},{"$f":"IF($C35=\"\",\"\",INDEX(Players!F:F,MATCH($C35,Players!$B:$B,0)))","v":""}]
[null,{"$f":"IF($C36=\"\",\"\",INDEX(Players!A:A,MATCH($C36,Players!$B:$B,0)))","v":""},null,{"$f":"IF($C36=\"\",\"\",INDEX(Players!C:C,MATCH($C36,Players!$B:$B,0)))","v":""},{"$f":"IF($C36=\"\",\"\",INDEX(Players!D:D,MATCH($C36,Players!$B:$B,0)))","v":""},{"$f":"IF($C36=\"\",\"\",INDEX(Players!E:E,MATCH($C36,Players!$B:$B,0)))","v":""},{"$f":"IF($C36=\"\",\"\",INDEX(Players!F:F,MATCH($C36,Players!$B:$B,0)))","v":""}]
[null,{"$f":"IF($C37=\"\",\"\",INDEX(Players!A:A,MATCH($C37,Players!$B:$B,0)))","v":""},null,{"$f":"IF($C37=\"\",\"\",INDEX(Players!C:C,MATCH($C37,Players!$B:$B,0)))","v":""},{"$f":"IF($C37=\"\",\"\",INDEX(Players!D:D,MATCH($C37,Players!$B:$B,0)))","v":""},{"$f":"IF($C37=\"\",\"\",INDEX(Players!E:E,MATCH($C37,Players!$B:$B,0)))","v":""},{"$f":"IF($C37=\"\",\"\",INDEX(Players!F:F,MATCH($C37,Players!$B:$B,0)))","v":""}]
[null,{"$f":"IF($C38=\"\",\"\",INDEX(Players!A:A,MATCH($C38,Players!$B:$B,0)))","v":""},null,{"$f":"IF($C38=\"\",\"\",INDEX(Players!C:C,MATCH($C38,Players!$B:$B,0)))","v":""},{"$f":"IF($C38=\"\",\"\",INDEX(Players!D:D,MATCH($C38,Players!$B:$B,0)))","v":""},{"$f":"IF($C38=\"\",\"\",INDEX(Players!E:E,MATCH($C38,Players!$B:$B,0)))","v":""},{"$f":"IF($C38=\"\",\"\",INDEX(Players!F:F,MATCH($C38,Players!$B:$B,0)))","v":""}]
[null,{"$f":"IF($C39=\"\",\"\",INDEX(Players!A:A,MATCH($C39,Players!$B:$B,0)))","v":""},null,{"$f":"IF($C39=\"\",\"\",INDEX(Players!C:C,MATCH($C39,Players!$B:$B,0)))","v":""},{"$f":"IF($C39=\"\",\"\",INDEX(Players!D:D,MATCH($C39,Players!$B:$B,0)))","v":""},{"$f":"IF($C39=\"\",\"\",INDEX(Players!E:E,MATCH($C39,Players!$B:$B,0)))","v":""},{"$f":"IF($C39=\"\",\"\",INDEX(Players!F:F,MATCH($C39,Players!$B:$B,0)))","v":""}]
[null,{"$f":"IF($C40=\"\",\"\",INDEX(Players!A:A,MATCH($C40,Players!$B:$B,0)))","v":""},null,{"$f":"IF($C40=\"\",\"\",INDEX(Players!C:C,MATCH($C40,Players!$B:$B,0)))","v":""},{"$f":"IF($C40=\"\",\"\",INDEX(Players!D:D,MATCH($C40,Players!$B:$B,0)))","v":""},{"$f":"IF($C40=\"\",\"\",INDEX(Players!E:E,MATCH($C40,Players!$B:$B,0)))","v":""},{"$f":"IF($C40=\"\",\"\",INDEX(Players!F:F,MATCH($C40,Players!$B:$B,0)))","v":""}]
[null,{"$f":"IF($C41=\"\",\"\",INDEX(Players!A:A,MATCH($C41,Players!$B:$B,0)))","v":""},null,{"$f":"IF($C41=\"\",\"\",INDEX(Players!C:C,MATCH($C41,Players!$B:$B,0)))","v":""},{"$f":"IF($C41=\"\",\"\",INDEX(Players!D:D,MATCH($C41,Players!$B:$B,0)))","v":""},{"$f":"IF($C41=\"\",\"\",INDEX(Players!E:E,MATCH($C41,Players!$B:$B,0)))","v":""},{"$f":"IF($C41=\"\",\"\",INDEX(Players!F:F,MATCH($C41,Players!$B:$B,0)))","v":""}]
[null,{"$f":"IF($C42=\"\",\"\",INDEX(Players!A:A,MATCH($C42,Players!$B:$B,0)))","v":""},null,{"$f":"IF($C42=\"\",\"\",INDEX(Players!C:C,MATCH($C42,Players!$B:$B,0)))","v":""},{"$f":"IF($C42=\"\",\"\",INDEX(Players!D:D,MATCH($C42,Players!$B:$B,0)))","v":""},{"$f":"IF($C42=\"\",\"\",INDEX(Players!E:E,MATCH($C42,Players!$B:$B,0)))","v":""},{"$f":"IF($C42=\"\",\"\",INDEX(Players!F:F,MATCH($C42,Players!$B:$B,0)))","v":""}]
[null,{"$f":"IF($C43=\"\",\"\",INDEX(Players!A:A,MATCH($C43,Players!$B:$B,0)))","v":""},null,{"$f":"IF($C43=\"\",\"\",INDEX(Players!C:C,MATCH($C43,Players!$B:$B,0)))","v":""},{"$f":"IF($C43=\"\",\"\",INDEX(Players!D:D,MATCH($C43,Players!$B:$B,0)))","v":""},{"$f":"IF($C43=\"\",\"\",INDEX(Players!E:E,MATCH($C43,Players!$B:$B,0)))","v":""},{"$f":"IF($C43=\"\",\"\",INDEX(Players!F:F,MATCH($C43,Players!$B:$B,0)))","v":""}]
[null,{"$f":"IF($C44=\"\",\"\",INDEX(Players!A:A,MATCH($C44,Players!$B:$B,0)))","v":""},null,{"$f":"IF($C44=\"\",\"\",INDEX(Players!C:C,MATCH($C44,Players!$B:$B,0)))","v":""},{"$f":"IF($C44=\"\",\"\",INDEX(Players!D:D,MATCH($C44,Players!$B:$B,0)))","v":""},{"$f":"IF($C44=\"\",\"\",INDEX(Players!E:E,MATCH($C44,Players!$B:$B,0)))","v":""},{"$f":"IF($C44=\"\",\"\",INDEX(Players!F:F,MATCH($C44,Players!$B:$B,0)))","v":""}]
[null,{"$f":"IF($C45=\"\",\"\",INDEX(Players!A:A,MATCH($C45,Players!$B:$B,0)))","v":""},null,{"$f":"IF($C45=\"\",\"\",INDEX(Players!C:C,MATCH($C45,Players!$B:$B,0)))","v":""},{"$f":"IF($C45=\"\",\"\",INDEX(Players!D:D,MATCH($C45,Players!$B:$B,0)))","v":""},{"$f":"IF($C45=\"\",\"\",INDEX(Players!E:E,MATCH($C45,Players!$B:$B,0)))","v":""},{"$f":"IF($C45=\"\",\"\",INDEX(Players!F:F,MATCH($C45,Players!$B:$B,0)))","v":""}]
[null,{"$f":"IF($C46=\"\",\"\",INDEX(Players!A:A,MATCH($C46,Players!$B:$B,0)))","v":""},null,{"$f":"IF($C46=\"\",\"\",INDEX(Players!C:C,MATCH($C46,Players!$B:$B,0)))","v":""},{"$f":"IF($C46=\"\",\"\",INDEX(Players!D:D,MATCH($C46,Players!$B:$B,0)))","v":""},{"$f":"IF($C46=\"\",\"\",INDEX(Players!E:E,MATCH($C46,Players!$B:$B,0)))","v":""},{"$f":"IF($C46=\"\",\"\",INDEX(Players!F:F,MATCH($C46,Players!$B:$B,0)))","v":""}]
[null,{"$f":"IF($C47=\"\",\"\",INDEX(Players!A:A,MATCH($C47,Players!$B:$B,0)))","v":""},null,{"$f":"IF($C47=\"\",\"\",INDEX(Players!C:C,MATCH($C47,Players!$B:$B,0)))","v":""},{"$f":"IF($C47=\"\",\"\",INDEX(Players!D:D,MATCH($C47,Players!$B:$B,0)))","v":""},{"$f":"IF($C47=\"\",\"\",INDEX(Players!E:E,MATCH($C47,Players!$B:$B,0)))","v":""},{"$f":"IF($C47=\"\",\"\",INDEX(Players!F:F,MATCH($C47,Players!$B:$B,0)))","v":""}]
[null,{"$f":"IF($C48=\"\",\"\",INDEX(Players!A:A,MATCH($C48,Players!$B:$B,0)))","v":""},null,{"$f":"IF($C48=\"\",\"\",INDEX(Players!C:C,MATCH($C48,Players!$B:$B,0)))","v":""},{"$f":"IF($C48=\"\",\"\",INDEX(Players!D:D,MATCH($C48,Players!$B:$B,0)))","v":""},{"$f":"IF($C48=\"\",\"\",INDEX(Players!E:E,MATCH($C48,Players!$B:$B,0)))","v":""},{"$f":"IF($C48=\"\",\"\",INDEX(Players!F:F,MATCH($C48,Players!$B:$B,0)))","v":""}]
[null,{"$f":"IF($C49=\"\",\"\",INDEX(Players!A:A,MATCH($C49,Players!$B:$B,0)))","v":""},null,{"$f":"IF($C49=\"\",\"\",INDEX(Players!C:C,MATCH($C49,Players!$B:$B,0)))","v":""},{"$f":"IF($C49=\"\",\"\",INDEX(Players!D:D,MATCH($C49,Players!$B:$B,0)))","v":""},{"$f":"IF($C49=\"\",\"\",INDEX(Players!E:E,MATCH($C49,Players!$B:$B,0)))","v":""},{"$f":"IF($C49=\"\",\"\",INDEX(Players!F:F,MATCH($C49,Players!$B:$B,0)))","v":""}]
[null,{"$f":"IF($C50=\"\",\"\",INDEX(Players!A:A,MATCH($C50,Players!$B:$B,0)))","v":""},null,{"$f":"IF($C50=\"\",\"\",INDEX(Players!C:C,MATCH($C50,Players!$B:$B,0)))","v":""},{"$f":"IF($C50=\"\",\"\",INDEX(Players!D:D,MATCH($C50,Players!$B:$B,0)))","v":""},{"$f":"IF($C50=\"\",\"\",INDEX(Players!E:E,MATCH($C50,Players!$B:$B,0)))","v":""},{"$f":"IF($C50=\"\",\"\",INDEX(Players!F:F,MATCH($C50,Players!$B:$B,0)))","v":""}]
[null,{"$f":"IF($C51=\"\",\"\",INDEX(Players!A:A,MATCH($C51,Players!$B:$B,0)))","v":""},null,{"$f":"IF($C51=\"\",\"\",INDEX(Players!C:C,MATCH($C51,Players!$B:$B,0)))","v":""},{"$f":"IF($C51=\"\",\"\",INDEX(Players!D:D,MATCH($C51,Players!$B:$B,0)))","v":""},{"$f":"IF($C51=\"\",\"\",INDEX(Players!E:E,MATCH($C51,Players!$B:$B,0)))","v":""},{"$f":"IF($C51=\"\",\"\",INDEX(Players!F:F,MATCH($C51,Players!$B:$B,0)))","v":""}]
[null,{"$f":"IF($C52=\"\",\"\",INDEX(Players!A:A,MATCH($C52,Players!$B:$B,0)))","v":""},null,{"$f":"IF($C52=\"\",\"\",INDEX(Players!C:C,MATCH($C52,Players!$B:$B,0)))","v":""},{"$f":"IF($C52=\"\",\"\",INDEX(Players!D:D,MATCH($C52,Players!$B:$B,0)))","v":""},{"$f":"IF($C52=\"\",\"\",INDEX(Players!E:E,MATCH($C52,Players!$B:$B,0)))","v":""},{"$f":"IF($C52=\"\",\"\",INDEX(Players!F:F,MATCH($C52,Players!$B:$B,0)))","v":""}]
[null,{"$f":"IF($C53=\"\",\"\",INDEX(Players!A:A,MATCH($C53,Players!$B:$B,0)))","v":""},null,{"$f":"IF($C53=\"\",\"\",INDEX(Players!C:C,MATCH($C53,Players!$B:$B,0)))","v":""},{"$f":"IF($C53=\"\",\"\",INDEX(Players!D:D,MATCH($C53,Players!$B:$B,0)))","v":""},{"$f":"IF($C53=\"\",\"\",INDEX(Players!E:E,MATCH($C53,Players!$B:$B,0)))","v":""},{"$f":"IF($C53=\"\",\"\",INDEX(Players!F:F,MATCH($C53,Players!$B:$B,0)))","v":""}]
[null,{"$f":"IF($C54=\"\",\"\",INDEX(Players!A:A,MATCH($C54,Players!$B:$B,0)))","v":""},null,{"$f":"IF($C54=\"\",\"\",INDEX(Players!C:C,MATCH($C54,Players!$B:$B,0)))","v":""},{"$f":"IF($C54=\"\",\"\",INDEX(Players!D:D,MATCH($C54,Players!$B:$B,0)))","v":""},{"$f":"IF($C54=\"\",\"\",INDEX(Players!E:E,MATCH($C54,Players!$B:$B,0)))","v":""},{"$f":"IF($C54=\"\",\"\",INDEX(Players!F:F,MATCH($C54,Players!$B:$B,0)))","v":""}]
[null,{"$f":"IF($C55=\"\",\"\",INDEX(Players!A:A,MATCH($C55,Players!$B:$B,0)))","v":""},null,{"$f":"IF($C55=\"\",\"\",INDEX(Players!C:C,MATCH($C55,Players!$B:$B,0)))","v":""},{"$f":"IF($C55=\"\",\"\",INDEX(Players!D:D,MATCH($C55,Players!$B:$B,0)))","v":""},{"$f":"IF($C55=\"\",\"\",INDEX(Players!E:E,MATCH($C55,Players!$B:$B,0)))","v":""},{"$f":"IF($C55=\"\",\"\",INDEX(Players!F:F,MATCH($C55,Players!$B:$B,0)))","v":""}]
[null,{"$f":"IF($C56=\"\",\"\",INDEX(Players!A:A,MATCH($C56,Players!$B:$B,0)))","v":""},null,{"$f":"IF($C56=\"\",\"\",INDEX(Players!C:C,MATCH($C56,Players!$B:$B,0)))","v":""},{"$f":"IF($C56=\"\",\"\",INDEX(Players!D:D,MATCH($C56,Players!$B:$B,0)))","v":""},{"$f":"IF($C56=\"\",\"\",INDEX(Players!E:E,MATCH($C56,Players!$B:$B,0)))","v":""},{"$f":"IF($C56=\"\",\"\",INDEX(Players!F:F,MATCH($C56,Players!$B:$B,0)))","v":""}]
[null,{"$f":"IF($C57=\"\",\"\",INDEX(Players!A:A,MATCH($C57,Players!$B:$B,0)))","v":""},null,{"$f":"IF($C57=\"\",\"\",INDEX(Players!C:C,MATCH($C57,Players!$B:$B,0)))","v":""},{"$f":"IF($C57=\"\",\"\",INDEX(Players!D:D,MATCH($C57,Players!$B:$B,0)))","v":""},{"$f":"IF($C57=\"\",\"\",INDEX(Players!E:E,MATCH($C57,Players!$B:$B,0)))","v":""},{"$f":"IF($C57=\"\",\"\",INDEX(Players!F:F,MATCH($C57,Players!$B:$B,0)))","v":""}]
[null,{"$f":"IF($C58=\"\",\"\",INDEX(Players!A:A,MATCH($C58,Players!$B:$B,0)))","v":""},null,{"$f":"IF($C58=\"\",\"\",INDEX(Players!C:C,MATCH($C58,Players!$B:$B,0)))","v":""},{"$f":"IF($C58=\"\",\"\",INDEX(Players!D:D,MATCH($C58,Players!$B:$B,0)))","v":""},{"$f":"IF($C58=\"\",\"\",INDEX(Players!E:E,MATCH($C58,Players!$B:$B,0)))","v":""},{"$f":"IF($C58=\"\",\"\",INDEX(Players!F:F,MATCH($C58,Players!$B:$B,0)))","v":""}]
[null,{"$f":"IF($C59=\"\",\"\",INDEX(Players!A:A,MATCH($C59,Players!$B:$B,0)))","v":""},null,{"$f":"IF($C59=\"\",\"\",INDEX(Players!C:C,MATCH($C59,Players!$B:$B,0)))","v":""},{"$f":"IF($C59=\"\",\"\",INDEX(Players!D:D,MATCH($C59,Players!$B:$B,0)))","v":""},{"$f":"IF($C59=\"\",\"\",INDEX(Players!E:E,MATCH($C59,Players!$B:$B,0)))","v":""},{"$f":"IF($C59=\"\",\"\",INDEX(Players!F:F,MATCH($C59,Players!$B:$B,0)))","v":""}]
[null,{"$f":"IF($C60=\"\",\"\",INDEX(Players!A:A,MATCH($C60,Players!$B:$B,0)))","v":""},null,{"$f":"IF($C60=\"\",\"\",INDEX(Players!C:C,MATCH($C60,Players!$B:$B,0)))","v":""},{"$f":"IF($C60=\"\",\"\",INDEX(Players!D:D,MATCH($C60,Players!$B:$B,0)))","v":""},{"$f":"IF($C60=\"\",\"\",INDEX(Players!E:E,MATCH($C60,Players!$B:$B,0)))","v":""},{"$f":"IF($C60=\"\",\"\",INDEX(Players!F:F,MATCH($C60,Players!$B:$B,0)))","v":""}]
[null,{"$f":"IF($C61=\"\",\"\",INDEX(Players!A:A,MATCH($C61,Players!$B:$B,0)))","v":""},null,{"$f":"IF($C61=\"\",\"\",INDEX(Players!C:C,MATCH($C61,Players!$B:$B,0)))","v":""},{"$f":"IF($C61=\"\",\"\",INDEX(Players!D:D,MATCH($C61,Players!$B:$B,0)))","v":""},{"$f":"IF($C61=\"\",\"\",INDEX(Players!E:E,MATCH($C61,Players!$B:$B,0)))","v":""},{"$f":"IF($C61=\"\",\"\",INDEX(Players!F:F,MATCH($C61,Players!$B:$B,0)))","v":""}]
[null,{"$f":"IF($C62=\"\",\"\",INDEX(Players!A:A,MATCH($C62,Players!$B:$B,0)))","v":""},null,{"$f":"IF($C62=\"\",\"\",INDEX(Players!C:C,MATCH($C62,Players!$B:$B,0)))","v":""},{"$f":"IF($C62=\"\",\"\",INDEX(Players!D:D,MATCH($C62,Players!$B:$B,0)))","v":""},{"$f":"IF($C62=\"\",\"\",INDEX(Players!E:E,MATCH($C62,Players!$B:$B,0)))","v":""},{"$f":"IF($C62=\"\",\"\",INDEX(Players!F:F,MATCH($C62,Players!$B:$B,0)))","v":""}]
[null,{"$f":"IF($C63=\"\",\"\",INDEX(Players!A:A,MATCH($C63,Players!$B:$B,0)))","v":""},null,{"$f":"IF($C63=\"\",\"\",INDEX(Players!C:C,MATCH($C63,Players!$B:$B,0)))","v":""},{"$f":"IF($C63=\"\",\"\",INDEX(Players!D:D,MATCH($C63,Players!$B:$B,0)))","v":""},{"$f":"IF($C63=\"\",\"\",INDEX(Players!E:E,MATCH($C63,Players!$B:$B,0)))","v":""},{"$f":"IF($C63=\"\",\"\",INDEX(Players!F:F,MATCH($C63,Players!$B:$B,0)))","v":""}]
[null,{"$f":"IF($C64=\"\",\"\",INDEX(Players!A:A,MATCH($C64,Players!$B:$B,0)))","v":""},null,{"$f":"IF($C64=\"\",\"\",INDEX(Players!C:C,MATCH($C64,Players!$B:$B,0)))","v":""},{"$f":"IF($C64=\"\",\"\",INDEX(Players!D:D,MATCH($C64,Players!$B:$B,0)))","v":""},{"$f":"IF($C64=\"\",\"\",INDEX(Players!E:E,MATCH($C64,Players!$B:$B,0)))","v":""},{"$f":"IF($C64=\"\",\"\",INDEX(Players!F:F,MATCH($C64,Players!$B:$B,0)))","v":""}]
[null,{"$f":"IF($C65=\"\",\"\",INDEX(Players!A:A,MATCH($C65,Players!$B:$B,0)))","v":""},null,{"$f":"IF($C65=\"\",\"\",INDEX(Players!C:C,MATCH($C65,Players!$B:$B,0)))","v":""},{"$f":"IF($C65=\"\",\"\",INDEX(Players!D:D,MATCH($C65,Players!$B:$B,0)))","v":""},{"$f":"IF($C65=\"\",\"\",INDEX(Players!E:E,MATCH($C65,Players!$B:$B,0)))","v":""},{"$f":"IF($C65=\"\",\"\",INDEX(Players!F:F,MATCH($C65,Players!$B:$B,0)))","v":""}]
[null,{"$f":"IF($C66=\"\",\"\",INDEX(Players!A:A,MATCH($C66,Players!$B:$B,0)))","v":""},null,{"$f":"IF($C66=\"\",\"\",INDEX(Players!C:C,MATCH($C66,Players!$B:$B,0)))","v":""},{"$f":"IF($C66=\"\",\"\",INDEX(Players!D:D,MATCH($C66,Players!$B:$B,0)))","v":""},{"$f":"IF($C66=\"\",\"\",INDEX(Players!E:E,MATCH($C66,Players!$B:$B,0)))","v":""},{"$f":"IF($C66=\"\",\"\",INDEX(Players!F:F,MATCH($C66,Players!$B:$B,0)))","v":""}]
[null,{"$f":"IF($C67=\"\",\"\",INDEX(Players!A:A,MATCH($C67,Players!$B:$B,0)))","v":""},null,{"$f":"IF($C67=\"\",\"\",INDEX(Players!C:C,MATCH($C67,Players!$B:$B,0)))","v":""},{"$f":"IF($C67=\"\",\"\",INDEX(Players!D:D,MATCH($C67,Players!$B:$B,0)))","v":""},{"$f":"IF($C67=\"\",\"\",INDEX(Players!E:E,MATCH($C67,Players!$B:$B,0)))","v":""},{"$f":"IF($C67=\"\",\"\",INDEX(Players!F:F,MATCH($C67,Players!$B:$B,0)))","v":""}]
[null,{"$f":"IF($C68=\"\",\"\",INDEX(Players!A:A,MATCH($C68,Players!$B:$B,0)))","v":""},null,{"$f":"IF($C68=\"\",\"\",INDEX(Players!C:C,MATCH($C68,Players!$B:$B,0)))","v":""},{"$f":"IF($C68=\"\",\"\",INDEX(Players!D:D,MATCH($C68,Players!$B:$B,0)))","v":""},{"$f":"IF($C68=\"\",\"\",INDEX(Players!E:E,MATCH($C68,Players!$B:$B,0)))","v":""},{"$f":"IF($C68=\"\",\"\",INDEX(Players!F:F,MATCH($C68,Players!$B:$B,0)))","v":""}]
[null,{"$f":"IF($C69=\"\",\"\",INDEX(Players!A:A,MATCH($C69,Players!$B:$B,0)))","v":""},null,{"$f":"IF($C69=\"\",\"\",INDEX(Players!C:C,MATCH($C69,Players!$B:$B,0)))","v":""},{"$f":"IF($C69=\"\",\"\",INDEX(Players!D:D,MATCH($C69,Players!$B:$B,0)))","v":""},{"$f":"IF($C69=\"\",\"\",INDEX(Players!E:E,MATCH($C69,Players!$B:$B,0)))","v":""},{"$f":"IF($C69=\"\",\"\",INDEX(Players!F:F,MATCH($C69,Players!$B:$B,0)))","v":""}]
[null,{"$f":"IF($C70=\"\",\"\",INDEX(Players!A:A,MATCH($C70,Players!$B:$B,0)))","v":""},null,{"$f":"IF($C70=\"\",\"\",INDEX(Players!C:C,MATCH($C70,Players!$B:$B,0)))","v":""},{"$f":"IF($C70=\"\",\"\",INDEX(Players!D:D,MATCH($C70,Players!$B:$B,0)))","v":""},{"$f":"IF($C70=\"\",\"\",INDEX(Players!E:E,MATCH($C70,Players!$B:$B,0)))","v":""},{"$f":"IF($C70=\"\",\"\",INDEX(Players!F:F,MATCH($C70,Players!$B:$B,0)))","v":""}]
[null,{"$f":"IF($C71=\"\",\"\",INDEX(Players!A:A,MATCH($C71,Players!$B:$B,0)))","v":""},null,{"$f":"IF($C71=\"\",\"\",INDEX(Players!C:C,MATCH($C71,Players!$B:$B,0)))","v":""},{"$f":"IF($C71=\"\",\"\",INDEX(Players!D:D,MATCH($C71,Players!$B:$B,0)))","v":""},{"$f":"IF($C71=\"\",\"\",INDEX(Players!E:E,MATCH($C71,Players!$B:$B,0)))","v":""},{"$f":"IF($C71=\"\",\"\",INDEX(Players!F:F,MATCH($C71,Players!$B:$B,0)))","v":""}]
[null,{"$f":"IF($C72=\"\",\"\",INDEX(Players!A:A,MATCH($C72,Players!$B:$B,0)))","v":""},null,{"$f":"IF($C72=\"\",\"\",INDEX(Players!C:C,MATCH($C72,Players!$B:$B,0)))","v":""},{"$f":"IF($C72=\"\",\"\",INDEX(Players!D:D,MATCH($C72,Players!$B:$B,0)))","v":""},{"$f":"IF($C72=\"\",\"\",INDEX(Players!E:E,MATCH($C72,Players!$B:$B,0)))","v":""},{"$f":"IF($C72=\"\",\"\",INDEX(Players!F:F,MATCH($C72,Players!$B:$B,0)))","v":""}]
[null,{"$f":"IF($C73=\"\",\"\",INDEX(Players!A:A,MATCH($C73,Players!$B:$B,0)))","v":""},null,{"$f":"IF($C73=\"\",\"\",INDEX(Players!C:C,MATCH($C73,Players!$B:$B,0)))","v":""},{"$f":"IF($C73=\"\",\"\",INDEX(Players!D:D,MATCH($C73,Players!$B:$B,0)))","v":""},{"$f":"IF($C73=\"\",\"\",INDEX(Players!E:E,MATCH($C73,Players!$B:$B,0)))","v":""},{"$f":"IF($C73=\"\",\"\",INDEX(Players!F:F,MATCH($C73,Players!$B:$B,0)))","v":""}]
[null,{"$f":"IF($C74=\"\",\"\",INDEX(Players!A:A,MATCH($C74,Players!$B:$B,0)))","v":""},null,{"$f":"IF($C74=\"\",\"\",INDEX(Players!C:C,MATCH($C74,Players!$B:$B,0)))","v":""},{"$f":"IF($C74=\"\",\"\",INDEX(Players!D:D,MATCH($C74,Players!$B:$B,0)))","v":""},{"$f":"IF($C74=\"\",\"\",INDEX(Players!E:E,MATCH($C74,Players!$B:$B,0)))","v":""},{"$f":"IF($C74=\"\",\"\",INDEX(Players!F:F,MATCH($C74,Players!$B:$B,0)))","v":""}]
[null,{"$f":"IF($C75=\"\",\"\",INDEX(Players!A:A,MATCH($C75,Players!$B:$B,0)))","v":""},null,{"$f":"IF($C75=\"\",\"\",INDEX(Players!C:C,MATCH($C75,Players!$B:$B,0)))","v":""},{"$f":"IF($C75=\"\",\"\",INDEX(Players!D:D,MATCH($C75,Players!$B:$B,0)))","v":""},{"$f":"IF($C75=\"\",\"\",INDEX(Players!E:E,MATCH($C75,Players!$B:$B,0)))","v":""},{"$f":"IF($C75=\"\",\"\",INDEX(Players!F:F,MATCH($C75,Players!$B:$B,0)))","v":""}]
[null,{"$f":"IF($C76=\"\",\"\",INDEX(Players!A:A,MATCH($C76,Players!$B:$B,0)))","v":""},null,{"$f":"IF($C76=\"\",\"\",INDEX(Players!C:C,MATCH($C76,Players!$B:$B,0)))","v":""},{"$f":"IF($C76=\"\",\"\",INDEX(Players!D:D,MATCH($C76,Players!$B:$B,0)))","v":""},{"$f":"IF($C76=\"\",\"\",INDEX(Players!E:E,MATCH($C76,Players!$B:$B,0)))","v":""},{"$f":"IF($C76=\"\",\"\",INDEX(Players!F:F,MATCH($C76,Players!$B:$B,0)))","v":""}]
[null,{"$f":"IF($C77=\"\",\"\",INDEX(Players!A:A,MATCH($C77,Players!$B:$B,0)))","v":""},null,{"$f":"IF($C77=\"\",\"\",INDEX(Players!C:C,MATCH($C77,Players!$B:$B,0)))","v":""},{"$f":"IF($C77=\"\",\"\",INDEX(Players!D:D,MATCH($C77,Players!$B:$B,0)))","v":""},{"$f":"IF($C77=\"\",\"\",INDEX(Players!E:E,MATCH($C77,Players!$B:$B,0)))","v":""},{"$f":"IF($C77=\"\",\"\",INDEX(Players!F:F,MATCH($C77,Players!$B:$B,0)))","v":""}]
[null,{"$f":"IF($C78=\"\",\"\",INDEX(Players!A:A,MATCH($C78,Players!$B:$B,0)))","v":""},null,{"$f":"IF($C78=\"\",\"\",INDEX(Players!C:C,MATCH($C78,Players!$B:$B,0)))","v":""},{"$f":"IF($C78=\"\",\"\",INDEX(Players!D:D,MATCH($C78,Players!$B:$B,0)))","v":""},{"$f":"IF($C78=\"\",\"\",INDEX(Players!E:E,MATCH($C78,Players!$B:$B,0)))","v":""},{"$f":"IF($C78=\"\",\"\",INDEX(Players!F:F,MATCH($C78,Players!$B:$B,0)))","v":""}]
[null,{"$f":"IF($C79=\"\",\"\",INDEX(Players!A:A,MATCH($C79,Players!$B:$B,0)))","v":""},null,{"$f":"IF($C79=\"\",\"\",INDEX(Players!C:C,MATCH($C79,Players!$B:$B,0)))","v":""},{"$f":"IF($C79=\"\",\"\",INDEX(Players!D:D,MATCH($C79,Players!$B:$B,0)))","v":""},{"$f":"IF($C79=\"\",\"\",INDEX(Players!E:E,MATCH($C79,Players!$B:$B,0)))","v":""},{"$f":"IF($C79=\"\",\"\",INDEX(Players!F:F,MATCH($C79,Players!$B:$B,0)))","v":""}]
[null,{"$f":"IF($C80=\"\",\"\",INDEX(Players!A:A,MATCH($C80,Players!$B:$B,0)))","v":""},null,{"$f":"IF($C80=\"\",\"\",INDEX(Players!C:C,MATCH($C80,Players!$B:$B,0)))","v":""},{"$f":"IF($C80=\"\",\"\",INDEX(Players!D:D,MATCH($C80,Players!$B:$B,0)))","v":""},{"$f":"IF($C80=\"\",\"\",INDEX(Players!E:E,MATCH($C80,Players!$B:$B,0)))","v":""},{"$f":"IF($C80=\"\",\"\",INDEX(Players!F:F,MATCH($C80,Players!$B:$B,0)))","v":""}]
[null,{"$f":"IF($C81=\"\",\"\",INDEX(Players!A:A,MATCH($C81,Players!$B:$B,0)))","v":""},null,{"$f":"IF($C81=\"\",\"\",INDEX(Players!C:C,MATCH($C81,Players!$B:$B,0)))","v":""},{"$f":"IF($C81=\"\",\"\",INDEX(Players!D:D,MATCH($C81,Players!$B:$B,0)))","v":""},{"$f":"IF($C81=\"\",\"\",INDEX(Players!E:E,MATCH($C81,Players!$B:$B,0)))","v":""},{"$f":"IF($C81=\"\",\"\",INDEX(Players!F:F,MATCH($C81,Players!$B:$B,0)))","v":""}]
[null,{"$f":"IF($C82=\"\",\"\",INDEX(Players!A:A,MATCH($C82,Players!$B:$B,0)))","v":""},null,{"$f":"IF($C82=\"\",\"\",INDEX(Players!C:C,MATCH($C82,Players!$B:$B,0)))","v":""},{"$f":"IF($C82=\"\",\"\",INDEX(Players!D:D,MATCH($C82,Players!$B:$B,0)))","v":""},{"$f":"IF($C82=\"\",\"\",INDEX(Players!E:E,MATCH($C82,Players!$B:$B,0)))","v":""},{"$f":"IF($C82=\"\",\"\",INDEX(Players!F:F,MATCH($C82,Players!$B:$B,0)))","v":""}]
[null,{"$f":"IF($C83=\"\",\"\",INDEX(Players!A:A,MATCH($C83,Players!$B:$B,0)))","v":""},null,{"$f":"IF($C83=\"\",\"\",INDEX(Players!C:C,MATCH($C83,Players!$B:$B,0)))","v":""},{"$f":"IF($C83=\"\",\"\",INDEX(Players!D:D,MATCH($C83,Players!$B:$B,0)))","v":""},{"$f":"IF($C83=\"\",\"\",INDEX(Players!E:E,MATCH($C83,Players!$B:$B,0)))","v":""},{"$f":"IF($C83=\"\",\"\",INDEX(Players!F:F,MATCH($C83,Players!$B:$B,0)))","v":""}]
[null,{"$f":"IF($C84=\"\",\"\",INDEX(Players!A:A,MATCH($C84,Players!$B:$B,0)))","v":""},null,{"$f":"IF($C84=\"\",\"\",INDEX(Players!C:C,MATCH($C84,Players!$B:$B,0)))","v":""},{"$f":"IF($C84=\"\",\"\",INDEX(Players!D:D,MATCH($C84,Players!$B:$B,0)))","v":""},{"$f":"IF($C84=\"\",\"\",INDEX(Players!E:E,MATCH($C84,Players!$B:$B,0)))","v":""},{"$f":"IF($C84=\"\",\"\",INDEX(Players!F:F,MATCH($C84,Players!$B:$B,0)))","v":""}]
[null,{"$f":"IF($C85=\"\",\"\",INDEX(Players!A:A,MATCH($C85,Players!$B:$B,0)))","v":""},null,{"$f":"IF($C85=\"\",\"\",INDEX(Players!C:C,MATCH($C85,Players!$B:$B,0)))","v":""},{"$f":"IF($C85=\"\",\"\",INDEX(Players!D:D,MATCH($C85,Players!$B:$B,0)))","v":""},{"$f":"IF($C85=\"\",\"\",INDEX(Players!E:E,MATCH($C85,Players!$B:$B,0)))","v":""},{"$f":"IF($C85=\"\",\"\",INDEX(Players!F:F,MATCH($C85,Players!$B:$B,0)))","v":""}]
[null,{"$f":"IF($C86=\"\",\"\",INDEX(Players!A:A,MATCH($C86,Players!$B:$B,0)))","v":""},null,{"$f":"IF($C86=\"\",\"\",INDEX(Players!C:C,MATCH($C86,Players!$B:$B,0)))","v":""},{"$f":"IF($C86=\"\",\"\",INDEX(Players!D:D,MATCH($C86,Players!$B:$B,0)))","v":""},{"$f":"IF($C86=\"\",\"\",INDEX(Players!E:E,MATCH($C86,Players!$B:$B,0)))","v":""},{"$f":"IF($C86=\"\",\"\",INDEX(Players!F:F,MATCH($C86,Players!$B:$B,0)))","v":""}]
[null,{"$f":"IF($C87=\"\",\"\",INDEX(Players!A:A,MATCH($C87,Players!$B:$B,0)))","v":""},null,{"$f":"IF($C87=\"\",\"\",INDEX(Players!C:C,MATCH($C87,Players!$B:$B,0)))","v":""},{"$f":"IF($C87=\"\",\"\",INDEX(Players!D:D,MATCH($C87,Players!$B:$B,0)))","v":""},{"$f":"IF($C87=\"\",\"\",INDEX(Players!E:E,MATCH($C87,Players!$B:$B,0)))","v":""},{"$f":"IF($C87=\"\",\"\",INDEX(Players!F:F,MATCH($C87,Players!$B:$B,0)))","v":""}]
[null,{"$f":"IF($C88=\"\",\"\",INDEX(Players!A:A,MATCH($C88,Players!$B:$B,0)))","v":""},null,{"$f":"IF($C88=\"\",\"\",INDEX(Players!C:C,MATCH($C88,Players!$B:$B,0)))","v":""},{"$f":"IF($C88=\"\",\"\",INDEX(Players!D:D,MATCH($C88,Players!$B:$B,0)))","v":""},{"$f":"IF($C88=\"\",\"\",INDEX(Players!E:E,MATCH($C88,Players!$B:$B,0)))","v":""},{"$f":"IF($C88=\"\",\"\",INDEX(Players!F:F,MATCH($C88,Players!$B:$B,0)))","v":""}]
[null,{"$f":"IF($C89=\"\",\"\",INDEX(Players!A:A,MATCH($C89,Players!$B:$B,0)))","v":""},null,{"$f":"IF($C89=\"\",\"\",INDEX(Players!C:C,MATCH($C89,Players!$B:$B,0)))","v":""},{"$f":"IF($C89=\"\",\"\",INDEX(Players!D:D,MATCH($C89,Players!$B:$B,0)))","v":""},{"$f":"IF($C89=\"\",\"\",INDEX(Players!E:E,MATCH($C89,Players!$B:$B,0)))","v":""},{"$f":"IF($C89=\"\",\"\",INDEX(Players!F:F,MATCH($C89,Players!$B:$B,0)))","v":""}]
[null,{"$f":"IF($C90=\"\",\"\",INDEX(Players!A:A,MATCH($C90,Players!$B:$B,0)))","v":""},null,{"$f":"IF($C90=\"\",\"\",INDEX(Players!C:C,MATCH($C90,Players!$B:$B,0)))","v":""},{"$f":"IF($C90=\"\",\"\",INDEX(Players!D:D,MATCH($C90,Players!$B:$B,0)))","v":""},{"$f":"IF($C90=\"\",\"\",INDEX(Players!E:E,MATCH($C90,Players!$B:$B,0)))","v":""},{"$f":"IF($C90=\"\",\"\",INDEX(Players!F:F,MATCH($C90,Players!$B:$B,0)))","v":""}]
[null,{"$f":"IF($C91=\"\",\"\",INDEX(Players!A:A,MATCH($C91,Players!$B:$B,0)))","v":""},null,{"$f":"IF($C91=\"\",\"\",INDEX(Players!C:C,MATCH($C91,Players!$B:$B,0)))","v":""},{"$f":"IF($C91=\"\",\"\",INDEX(Players!D:D,MATCH($C91,Players!$B:$B,0)))","v":""},{"$f":"IF($C91=\"\",\"\",INDEX(Players!E:E,MATCH($C91,Players!$B:$B,0)))","v":""},{"$f":"IF($C91=\"\",\"\",INDEX(Players!F:F,MATCH($C91,Players!$B:$B,0)))","v":""}]
[null,{"$f":"IF($C92=\"\",\"\",INDEX(Players!A:A,MATCH($C92,Players!$B:$B,0)))","v":""},null,{"$f":"IF($C92=\"\",\"\",INDEX(Players!C:C,MATCH($C92,Players!$B:$B,0)))","v":""},{"$f":"IF($C92=\"\",\"\",INDEX(Players!D:D,MATCH($C92,Players!$B:$B,0)))","v":""},{"$f":"IF($C92=\"\",\"\",INDEX(Players!E:E,MATCH($C92,Players!$B:$B,0)))","v":""},{"$f":"IF($C92=\"\",\"\",INDEX(Players!F:F,MATCH($C92,Players!$B:$B,0)))","v":""}]
[null,{"$f":"IF($C93=\"\",\"\",INDEX(Players!A:A,MATCH($C93,Players!$B:$B,0)))","v":""},null,{"$f":"IF($C93=\"\",\"\",INDEX(Players!C:C,MATCH($C93,Players!$B:$B,0)))","v":""},{"$f":"IF($C93=\"\",\"\",INDEX(Players!D:D,MATCH($C93,Players!$B:$B,0)))","v":""},{"$f":"IF($C93=\"\",\"\",INDEX(Players!E:E,MATCH($C93,Players!$B:$B,0)))","v":""},{"$f":"IF($C93=\"\",\"\",INDEX(Players!F:F,MATCH($C93,Players!$B:$B,0)))","v":""}]
[null,{"$f":"IF($C94=\"\",\"\",INDEX(Players!A:A,MATCH($C94,Players!$B:$B,0)))","v":""},null,{"$f":"IF($C94=\"\",\"\",INDEX(Players!C:C,MATCH($C94,Players!$B:$B,0)))","v":""},{"$f":"IF($C94=\"\",\"\",INDEX(Players!D:D,MATCH($C94,Players!$B:$B,0)))","v":""},{"$f":"IF($C94=\"\",\"\",INDEX(Players!E:E,MATCH($C94,Players!$B:$B,0)))","v":""},{"$f":"IF($C94=\"\",\"\",INDEX(Players!F:F,MATCH($C94,Players!$B:$B,0)))","v":""}]
[null,{"$f":"IF($C95=\"\",\"\",INDEX(Players!A:A,MATCH($C95,Players!$B:$B,0)))","v":""},null,{"$f":"IF($C95=\"\",\"\",INDEX(Players!C:C,MATCH($C95,Players!$B:$B,0)))","v":""},{"$f":"IF($C95=\"\",\"\",INDEX(Players!D:D,MATCH($C95,Players!$B:$B,0)))","v":""},{"$f":"IF($C95=\"\",\"\",INDEX(Players!E:E,MATCH($C95,Players!$B:$B,0)))","v":""},{"$f":"IF($C95=\"\",\"\",INDEX(Players!F:F,MATCH($C95,Players!$B:$B,0)))","v":""}]
[null,{"$f":"IF($C96=\"\",\"\",INDEX(Players!A:A,MATCH($C96,Players!$B:$B,0)))","v":""},null,{"$f":"IF($C96=\"\",\"\",INDEX(Players!C:C,MATCH($C96,Players!$B:$B,0)))","v":""},{"$f":"IF($C96=\"\",\"\",INDEX(Players!D:D,MATCH($C96,Players!$B:$B,0)))","v":""},{"$f":"IF($C96=\"\",\"\",INDEX(Players!E:E,MATCH($C96,Players!$B:$B,0)))","v":""},{"$f":"IF($C96=\"\",\"\",INDEX(Players!F:F,MATCH($C96,Players!$B:$B,0)))","v":""}]
[null,{"$f":"IF($C97=\"\",\"\",INDEX(Players!A:A,MATCH($C97,Players!$B:$B,0)))","v":""},null,{"$f":"IF($C97=\"\",\"\",INDEX(Players!C:C,MATCH($C97,Players!$B:$B,0)))","v":""},{"$f":"IF($C97=\"\",\"\",INDEX(Players!D:D,MATCH($C97,Players!$B:$B,0)))","v":""},{"$f":"IF($C97=\"\",\"\",INDEX(Players!E:E,MATCH($C97,Players!$B:$B,0)))","v":""},{"$f":"IF($C97=\"\",\"\",INDEX(Players!F:F,MATCH($C97,Players!$B:$B,0)))","v":""}]
[null,{"$f":"IF($C98=\"\",\"\",INDEX(Players!A:A,MATCH($C98,Players!$B:$B,0)))","v":""},null,{"$f":"IF($C98=\"\",\"\",INDEX(Players!C:C,MATCH($C98,Players!$B:$B,0)))","v":""},{"$f":"IF($C98=\"\",\"\",INDEX(Players!D:D,MATCH($C98,Players!$B:$B,0)))","v":""},{"$f":"IF($C98=\"\",\"\",INDEX(Players!E:E,MATCH($C98,Players!$B:$B,0)))","v":""},{"$f":"IF($C98=\"\",\"\",INDEX(Players!F:F,MATCH($C98,Players!$B:$B,0)))","v":""}]
[null,{"$f":"IF($C99=\"\",\"\",INDEX(Players!A:A,MATCH($C99,Players!$B:$B,0)))","v":""},null,{"$f":"IF($C99=\"\",\"\",INDEX(Players!C:C,MATCH($C99,Players!$B:$B,0)))","v":""},{"$f":"IF($C99=\"\",\"\",INDEX(Players!D:D,MATCH($C99,Players!$B:$B,0)))","v":""},{"$f":"IF($C99=\"\",\"\",INDEX(Players!E:E,MATCH($C99,Players!$B:$B,0)))","v":""},{"$f":"IF($C99=\"\",\"\",INDEX(Players!F:F,MATCH($C99,Players!$B:$B,0)))","v":""}]
[null,{"$f":"IF($C100=\"\",\"\",INDEX(Players!A:A,MATCH($C100,Players!$B:$B,0)))","v":""},null,{"$f":"IF($C100=\"\",\"\",INDEX(Players!C:C,MATCH($C100,Players!$B:$B,0)))","v":""},{"$f":"IF($C100=\"\",\"\",INDEX(Players!D:D,MATCH($C100,Players!$B:$B,0)))","v":""},{"$f":"IF($C100=\"\",\"\",INDEX(Players!E:E,MATCH($C100,Players!$B:$B,0)))","v":""},{"$f":"IF($C100=\"\",\"\",INDEX(Players!F:F,MATCH($C100,Players!$B:$B,0)))","v":""}]
[null,{"$f":"IF($C101=\"\",\"\",INDEX(Players!A:A,MATCH($C101,Players!$B:$B,0)))","v":""},null,{"$f":"IF($C101=\"\",\"\",INDEX(Players!C:C,MATCH($C101,Players!$B:$B,0)))","v":""},{"$f":"IF($C101=\"\",\"\",INDEX(Players!D:D,MATCH($C101,Players!$B:$B,0)))","v":""},{"$f":"IF($C101=\"\",\"\",INDEX(Players!E:E,MATCH($C101,Players!$B:$B,0)))","v":""},{"$f":"IF($C101=\"\",\"\",INDEX(Players!F:F,MATCH($C101,Players!$B:$B,0)))","v":""}]
[null,{"$f":"IF($C102=\"\",\"\",INDEX(Players!A:A,MATCH($C102,Players!$B:$B,0)))","v":""},null,{"$f":"IF($C102=\"\",\"\",INDEX(Players!C:C,MATCH($C102,Players!$B:$B,0)))","v":""},{"$f":"IF($C102=\"\",\"\",INDEX(Players!D:D,MATCH($C102,Players!$B:$B,0)))","v":""},{"$f":"IF($C102=\"\",\"\",INDEX(Players!E:E,MATCH($C102,Players!$B:$B,0)))","v":""},{"$f":"IF($C102=\"\",\"\",INDEX(Players!F:F,MATCH($C102,Players!$B:$B,0)))","v":""}]
[null,{"$f":"IF($C103=\"\",\"\",INDEX(Players!A:A,MATCH($C103,Players!$B:$B,0)))","v":""},null,{"$f":"IF($C103=\"\",\"\",INDEX(Players!C:C,MATCH($C103,Players!$B:$B,0)))","v":""},{"$f":"IF($C103=\"\",\"\",INDEX(Players!D:D,MATCH($C103,Players!$B:$B,0)))","v":""},{"$f":"IF($C103=\"\",\"\",INDEX(Players!E:E,MATCH($C103,Players!$B:$B,0)))","v":""},{"$f":"IF($C103=\"\",\"\",INDEX(Players!F:F,MATCH($C103,Players!$B:$B,0)))","v":""}]
[null,{"$f":"IF($C104=\"\",\"\",INDEX(Players!A:A,MATCH($C104,Players!$B:$B,0)))","v":""},null,{"$f":"IF($C104=\"\",\"\",INDEX(Players!C:C,MATCH($C104,Players!$B:$B,0)))","v":""},{"$f":"IF($C104=\"\",\"\",INDEX(Players!D:D,MATCH($C104,Players!$B:$B,0)))","v":""},{"$f":"IF($C104=\"\",\"\",INDEX(Players!E:E,MATCH($C104,Players!$B:$B,0)))","v":""},{"$f":"IF($C104=\"\",\"\",INDEX(Players!F:F,MATCH($C104,Players!$B:$B,0)))","v":""}]
[null,{"$f":"IF($C105=\"\",\"\",INDEX(Players!A:A,MATCH($C105,Players!$B:$B,0)))","v":""},null,{"$f":"IF($C105=\"\",\"\",INDEX(Players!C:C,MATCH($C105,Players!$B:$B,0)))","v":""},{"$f":"IF($C105=\"\",\"\",INDEX(Players!D:D,MATCH($C105,Players!$B:$B,0)))","v":""},{"$f":"IF($C105=\"\",\"\",INDEX(Players!E:E,MATCH($C105,Players!$B:$B,0)))","v":""},{"$f":"IF($C105=\"\",\"\",INDEX(Players!F:F,MATCH($C105,Players!$B:$B,0)))","v":""}]
[null,{"$f":"IF($C106=\"\",\"\",INDEX(Players!A:A,MATCH($C106,Players!$B:$B,0)))","v":""},null,{"$f":"IF($C106=\"\",\"\",INDEX(Players!C:C,MATCH($C106,Players!$B:$B,0)))","v":""},{"$f":"IF($C106=\"\",\"\",INDEX(Players!D:D,MATCH($C106,Players!$B:$B,0)))","v":""},{"$f":"IF($C106=\"\",\"\",INDEX(Players!E:E,MATCH($C106,Players!$B:$B,0)))","v":""},{"$f":"IF($C106=\"\",\"\",INDEX(Players!F:F,MATCH($C106,Players!$B:$B,0)))","v":""}]
[null,{"$f":"IF($C107=\"\",\"\",INDEX(Players!A:A,MATCH($C107,Players!$B:$B,0)))","v":""},null,{"$f":"IF($C107=\"\",\"\",INDEX(Players!C:C,MATCH($C107,Players!$B:$B,0)))","v":""},{"$f":"IF($C107=\"\",\"\",INDEX(Players!D:D,MATCH($C107,Players!$B:$B,0)))","v":""},{"$f":"IF($C107=\"\",\"\",INDEX(Players!E:E,MATCH($C107,Players!$B:$B,0)))","v":""},{"$f":"IF($C107=\"\",\"\",INDEX(Players!F:F,MATCH($C107,Players!$B:$B,0)))","v":""}]
[null,{"$f":"IF($C108=\"\",\"\",INDEX(Players!A:A,MATCH($C108,Players!$B:$B,0)))","v":""},null,{"$f":"IF($C108=\"\",\"\",INDEX(Players!C:C,MATCH($C108,Players!$B:$B,0)))","v":""},{"$f":"IF($C108=\"\",\"\",INDEX(Players!D:D,MATCH($C108,Players!$B:$B,0)))","v":""},{"$f":"IF($C108=\"\",\"\",INDEX(Players!E:E,MATCH($C108,Players!$B:$B,0)))","v":""},{"$f":"IF($C108=\"\",\"\",INDEX(Players!F:F,MATCH($C108,Players!$B:$B,0)))","v":""}]
[null,{"$f":"IF($C109=\"\",\"\",INDEX(Players!A:A,MATCH($C109,Players!$B:$B,0)))","v":""},null,{"$f":"IF($C109=\"\",\"\",INDEX(Players!C:C,MATCH($C109,Players!$B:$B,0)))","v":""},{"$f":"IF($C109=\"\",\"\",INDEX(Players!D:D,MATCH($C109,Players!$B:$B,0)))","v":""},{"$f":"IF($C109=\"\",\"\",INDEX(Players!E:E,MATCH($C109,Players!$B:$B,0)))","v":""},{"$f":"IF($C109=\"\",\"\",INDEX(Players!F:F,MATCH($C109,Players!$B:$B,0)))","v":""}]
[null,{"$f":"IF($C110=\"\",\"\",INDEX(Players!A:A,MATCH($C110,Players!$B:$B,0)))","v":""},null,{"$f":"IF($C110=\"\",\"\",INDEX(Players!C:C,MATCH($C110,Players!$B:$B,0)))","v":""},{"$f":"IF($C110=\"\",\"\",INDEX(Players!D:D,MATCH($C110,Players!$B:$B,0)))","v":""},{"$f":"IF($C110=\"\",\"\",INDEX(Players!E:E,MATCH($C110,Players!$B:$B,0)))","v":""},{"$f":"IF($C110=\"\",\"\",INDEX(Players!F:F,MATCH($C110,Players!$B:$B,0)))","v":""}]
[null,{"$f":"IF($C111=\"\",\"\",INDEX(Players!A:A,MATCH($C111,Players!$B:$B,0)))","v":""},null,{"$f":"IF($C111=\"\",\"\",INDEX(Players!C:C,MATCH($C111,Players!$B:$B,0)))","v":""},{"$f":"IF($C111=\"\",\"\",INDEX(Players!D:D,MATCH($C111,Players!$B:$B,0)))","v":""},{"$f":"IF($C111=\"\",\"\",INDEX(Players!E:E,MATCH($C111,Players!$B:$B,0)))","v":""},{"$f":"IF($C111=\"\",\"\",INDEX(Players!F:F,MATCH($C111,Players!$B:$B,0)))","v":""}]
[null,{"$f":"IF($C112=\"\",\"\",INDEX(Players!A:A,MATCH($C112,Players!$B:$B,0)))","v":""},null,{"$f":"IF($C112=\"\",\"\",INDEX(Players!C:C,MATCH($C112,Players!$B:$B,0)))","v":""},{"$f":"IF($C112=\"\",\"\",INDEX(Players!D:D,MATCH($C112,Players!$B:$B,0)))","v":""},{"$f":"IF($C112=\"\",\"\",INDEX(Players!E:E,MATCH($C112,Players!$B:$B,0)))","v":""},{"$f":"IF($C112=\"\",\"\",INDEX(Players!F:F,MATCH($C112,Players!$B:$B,0)))","v":""}]
[null,{"$f":"IF($C113=\"\",\"\",INDEX(Players!A:A,MATCH($C113,Players!$B:$B,0)))","v":""},null,{"$f":"IF($C113=\"\",\"\",INDEX(Players!C:C,MATCH($C113,Players!$B:$B,0)))","v":""},{"$f":"IF($C113=\"\",\"\",INDEX(Players!D:D,MATCH($C113,Players!$B:$B,0)))","v":""},{"$f":"IF($C113=\"\",\"\",INDEX(Players!E:E,MATCH($C113,Players!$B:$B,0)))","v":""},{"$f":"IF($C113=\"\",\"\",INDEX(Players!F:F,MATCH($C113,Players!$B:$B,0)))","v":""}]
[null,{"$f":"IF($C114=\"\",\"\",INDEX(Players!A:A,MATCH($C114,Players!$B:$B,0)))","v":""},null,{"$f":"IF($C114=\"\",\"\",INDEX(Players!C:C,MATCH($C114,Players!$B:$B,0)))","v":""},{"$f":"IF($C114=\"\",\"\",INDEX(Players!D:D,MATCH($C114,Players!$B:$B,0)))","v":""},{"$f":"IF($C114=\"\",\"\",INDEX(Players!E:E,MATCH($C114,Players!$B:$B,0)))","v":""},{"$f":"IF($C114=\"\",\"\",INDEX(Players!F:F,MATCH($C114,Players!$B:$B,0)))","v":""}]
[null,{"$f":"IF($C115=\"\",\"\",INDEX(Players!A:A,MATCH($C115,Players!$B:$B,0)))","v":""},null,{"$f":"IF($C115=\"\",\"\",INDEX(Players!C:C,MATCH($C115,Players!$B:$B,0)))","v":""},{"$f":"IF($C115=\"\",\"\",INDEX(Players!D:D,MATCH($C115,Players!$B:$B,0)))","v":""},{"$f":"IF($C115=\"\",\"\",INDEX(Players!E:E,MATCH($C115,Players!$B:$B,0)))","v":""},{"$f":"IF($C115=\"\",\"\",INDEX(Players!F:F,MATCH($C115,Players!$B:$B,0)))","v":""}]
[null,{"$f":"IF($C116=\"\",\"\",INDEX(Players!A:A,MATCH($C116,Players!$B:$B,0)))","v":""},null,{"$f":"IF($C116=\"\",\"\",INDEX(Players!C:C,MATCH($C116,Players!$B:$B,0)))","v":""},{"$f":"IF($C116=\"\",\"\",INDEX(Players!D:D,MATCH($C116,Players!$B:$B,0)))","v":""},{"$f":"IF($C116=\"\",\"\",INDEX(Players!E:E,MATCH($C116,Players!$B:$B,0)))","v":""},{"$f":"IF($C116=\"\",\"\",INDEX(Players!F:F,MATCH($C116,Players!$B:$B,0)))","v":""}]
[null,{"$f":"IF($C117=\"\",\"\",INDEX(Players!A:A,MATCH($C117,Players!$B:$B,0)))","v":""},null,{"$f":"IF($C117=\"\",\"\",INDEX(Players!C:C,MATCH($C117,Players!$B:$B,0)))","v":""},{"$f":"IF($C117=\"\",\"\",INDEX(Players!D:D,MATCH($C117,Players!$B:$B,0)))","v":""},{"$f":"IF($C117=\"\",\"\",INDEX(Players!E:E,MATCH($C117,Players!$B:$B,0)))","v":""},{"$f":"IF($C117=\"\",\"\",INDEX(Players!F:F,MATCH($C117,Players!$B:$B,0)))","v":""}]
[null,{"$f":"IF($C118=\"\",\"\",INDEX(Players!A:A,MATCH($C118,Players!$B:$B,0)))","v":""},null,{"$f":"IF($C118=\"\",\"\",INDEX(Players!C:C,MATCH($C118,Players!$B:$B,0)))","v":""},{"$f":"IF($C118=\"\",\"\",INDEX(Players!D:D,MATCH($C118,Players!$B:$B,0)))","v":""},{"$f":"IF($C118=\"\",\"\",INDEX(Players!E:E,MATCH($C118,Players!$B:$B,0)))","v":""},{"$f":"IF($C118=\"\",\"\",INDEX(Players!F:F,MATCH($C118,Players!$B:$B,0)))","v":""}]
[null,{"$f":"IF($C119=\"\",\"\",INDEX(Players!A:A,MATCH($C119,Players!$B:$B,0)))","v":""},null,{"$f":"IF($C119=\"\",\"\",INDEX(Players!C:C,MATCH($C119,Players!$B:$B,0)))","v":""},{"$f":"IF($C119=\"\",\"\",INDEX(Players!D:D,MATCH($C119,Players!$B:$B,0)))","v":""},{"$f":"IF($C119=\"\",\"\",INDEX(Players!E:E,MATCH($C119,Players!$B:$B,0)))","v":""},{"$f":"IF($C119=\"\",\"\",INDEX(Players!F:F,MATCH($C119,Players!$B:$B,0)))","v":""}]
[null,{"$f":"IF($C120=\"\",\"\",INDEX(Players!A:A,MATCH($C120,Players!$B:$B,0)))","v":""},null,{"$f":"IF($C120=\"\",\"\",INDEX(Players!C:C,MATCH($C120,Players!$B:$B,0)))","v":""},{"$f":"IF($C120=\"\",\"\",INDEX(Players!D:D,MATCH($C120,Players!$B:$B,0)))","v":""},{"$f":"IF($C120=\"\",\"\",INDEX(Players!E:E,MATCH($C120,Players!$B:$B,0)))","v":""},{"$f":"IF($C120=\"\",\"\",INDEX(Players!F:F,MATCH($C120,Players!$B:$B,0)))","v":""}]
[null,{"$f":"IF($C121=\"\",\"\",INDEX(Players!A:A,MATCH($C121,Players!$B:$B,0)))","v":""},null,{"$f":"IF($C121=\"\",\"\",INDEX(Players!C:C,MATCH($C121,Players!$B:$B,0)))","v":""},{"$f":"IF($C121=\"\",\"\",INDEX(Players!D:D,MATCH($C121,Players!$B:$B,0)))","v":""},{"$f":"IF($C121=\"\",\"\",INDEX(Players!E:E,MATCH($C121,Players!$B:$B,0)))","v":""},{"$f":"IF($C121=\"\",\"\",INDEX(Players!F:F,MATCH($C121,Players!$B:$B,0)))","v":""}]
[null,{"$f":"IF($C122=\"\",\"\",INDEX(Players!A:A,MATCH($C122,Players!$B:$B,0)))","v":""},null,{"$f":"IF($C122=\"\",\"\",INDEX(Players!C:C,MATCH($C122,Players!$B:$B,0)))","v":""},{"$f":"IF($C122=\"\",\"\",INDEX(Players!D:D,MATCH($C122,Players!$B:$B,0)))","v":""},{"$f":"IF($C122=\"\",\"\",INDEX(Players!E:E,MATCH($C122,Players!$B:$B,0)))","v":""},{"$f":"IF($C122=\"\",\"\",INDEX(Players!F:F,MATCH($C122,Players!$B:$B,0)))","v":""}]
[null,{"$f":"IF($C123=\"\",\"\",INDEX(Players!A:A,MATCH($C123,Players!$B:$B,0)))","v":""},null,{"$f":"IF($C123=\"\",\"\",INDEX(Players!C:C,MATCH($C123,Players!$B:$B,0)))","v":""},{"$f":"IF($C123=\"\",\"\",INDEX(Players!D:D,MATCH($C123,Players!$B:$B,0)))","v":""},{"$f":"IF($C123=\"\",\"\",INDEX(Players!E:E,MATCH($C123,Players!$B:$B,0)))","v":""},{"$f":"IF($C123=\"\",\"\",INDEX(Players!F:F,MATCH($C123,Players!$B:$B,0)))","v":""}]
[null,{"$f":"IF($C124=\"\",\"\",INDEX(Players!A:A,MATCH($C124,Players!$B:$B,0)))","v":""},null,{"$f":"IF($C124=\"\",\"\",INDEX(Players!C:C,MATCH($C124,Players!$B:$B,0)))","v":""},{"$f":"IF($C124=\"\",\"\",INDEX(Players!D:D,MATCH($C124,Players!$B:$B,0)))","v":""},{"$f":"IF($C124=\"\",\"\",INDEX(Players!E:E,MATCH($C124,Players!$B:$B,0)))","v":""},{"$f":"IF($C124=\"\",\"\",INDEX(Players!F:F,MATCH($C124,Players!$B:$B,0)))","v":""}]
[null,{"$f":"IF($C125=\"\",\"\",INDEX(Players!A:A,MATCH($C125,Players!$B:$B,0)))","v":""},null,{"$f":"IF($C125=\"\",\"\",INDEX(Players!C:C,MATCH($C125,Players!$B:$B,0)))","v":""},{"$f":"IF($C125=\"\",\"\",INDEX(Players!D:D,MATCH($C125,Players!$B:$B,0)))","v":""},{"$f":"IF($C125=\"\",\"\",INDEX(Players!E:E,MATCH($C125,Players!$B:$B,0)))","v":""},{"$f":"IF($C125=\"\",\"\",INDEX(Players!F:F,MATCH($C125,Players!$B:$B,0)))","v":""}]
[null,{"$f":"IF($C126=\"\",\"\",INDEX(Players!A:A,MATCH($C126,Players!$B:$B,0)))","v":""},null,{"$f":"IF($C126=\"\",\"\",INDEX(Players!C:C,MATCH($C126,Players!$B:$B,0)))","v":""},{"$f":"IF($C126=\"\",\"\",INDEX(Players!D:D,MATCH($C126,Players!$B:$B,0)))","v":""},{"$f":"IF($C126=\"\",\"\",INDEX(Players!E:E,MATCH($C126,Players!$B:$B,0)))","v":""},{"$f":"IF($C126=\"\",\"\",INDEX(Players!F:F,MATCH($C126,Players!$B:$B,0)))","v":""}]
[null,{"$f":"IF($C127=\"\",\"\",INDEX(Players!A:A,MATCH($C127,Players!$B:$B,0)))","v":""},null,{"$f":"IF($C127=\"\",\"\",INDEX(Players!C:C,MATCH($C127,Players!$B:$B,0)))","v":""},{"$f":"IF($C127=\"\",\"\",INDEX(Players!D:D,MATCH($C127,Players!$B:$B,0)))","v":""},{"$f":"IF($C127=\"\",\"\",INDEX(Players!E:E,MATCH($C127,Players!$B:$B,0)))","v":""},{"$f":"IF($C127=\"\",\"\",INDEX(Players!F:F,MATCH($C127,Players!$B:$B,0)))","v":""}]
[null,{"$f":"IF($C128=\"\",\"\",INDEX(Players!A:A,MATCH($C128,Players!$B:$B,0)))","v":""},null,{"$f":"IF($C128=\"\",\"\",INDEX(Players!C:C,MATCH($C128,Players!$B:$B,0)))","v":""},{"$f":"IF($C128=\"\",\"\",INDEX(Players!D:D,MATCH($C128,Players!$B:$B,0)))","v":""},{"$f":"IF($C128=\"\",\"\",INDEX(Players!E:E,MATCH($C128,Players!$B:$B,0)))","v":""},{"$f":"IF($C128=\"\",\"\",INDEX(Players!F:F,MATCH($C128,Players!$B:$B,0)))","v":""}]
[null,{"$f":"IF($C129=\"\",\"\",INDEX(Players!A:A,MATCH($C129,Players!$B:$B,0)))","v":""},null,{"$f":"IF($C129=\"\",\"\",INDEX(Players!C:C,MATCH($C129,Players!$B:$B,0)))","v":""},{"$f":"IF($C129=\"\",\"\",INDEX(Players!D:D,MATCH($C129,Players!$B:$B,0)))","v":""},{"$f":"IF($C129=\"\",\"\",INDEX(Players!E:E,MATCH($C129,Players!$B:$B,0)))","v":""},{"$f":"IF($C129=\"\",\"\",INDEX(Players!F:F,MATCH($C129,Players!$B:$B,0)))","v":""}]
[null,{"$f":"IF($C130=\"\",\"\",INDEX(Players!A:A,MATCH($C130,Players!$B:$B,0)))","v":""},null,{"$f":"IF($C130=\"\",\"\",INDEX(Players!C:C,MATCH($C130,Players!$B:$B,0)))","v":""},{"$f":"IF($C130=\"\",\"\",INDEX(Players!D:D,MATCH($C130,Players!$B:$B,0)))","v":""},{"$f":"IF($C130=\"\",\"\",INDEX(Players!E:E,MATCH($C130,Players!$B:$B,0)))","v":""},{"$f":"IF($C130=\"\",\"\",INDEX(Players!F:F,MATCH($C130,Players!$B:$B,0)))","v":""}]
[null,{"$f":"IF($C131=\"\",\"\",INDEX(Players!A:A,MATCH($C131,Players!$B:$B,0)))","v":""},null,{"$f":"IF($C131=\"\",\"\",INDEX(Players!C:C,MATCH($C131,Players!$B:$B,0)))","v":""},{"$f":"IF($C131=\"\",\"\",INDEX(Players!D:D,MATCH($C131,Players!$B:$B,0)))","v":""},{"$f":"IF($C131=\"\",\"\",INDEX(Players!E:E,MATCH($C131,Players!$B:$B,0)))","v":""},{"$f":"IF($C131=\"\",\"\",INDEX(Players!F:F,MATCH($C131,Players!$B:$B,0)))","v":""}]
[null,{"$f":"IF($C132=\"\",\"\",INDEX(Players!A:A,MATCH($C132,Players!$B:$B,0)))","v":""},null,{"$f":"IF($C132=\"\",\"\",INDEX(Players!C:C,MATCH($C132,Players!$B:$B,0)))","v":""},{"$f":"IF($C132=\"\",\"\",INDEX(Players!D:D,MATCH($C132,Players!$B:$B,0)))","v":""},{"$f":"IF($C132=\"\",\"\",INDEX(Players!E:E,MATCH($C132,Players!$B:$B,0)))","v":""},{"$f":"IF($C132=\"\",\"\",INDEX(Players!F:F,MATCH($C132,Players!$B:$B,0)))","v":""}]
[null,{"$f":"IF($C133=\"\",\"\",INDEX(Players!A:A,MATCH($C133,Players!$B:$B,0)))","v":""},null,{"$f":"IF($C133=\"\",\"\",INDEX(Players!C:C,MATCH($C133,Players!$B:$B,0)))","v":""},{"$f":"IF($C133=\"\",\"\",INDEX(Players!D:D,MATCH($C133,Players!$B:$B,0)))","v":""},{"$f":"IF($C133=\"\",\"\",INDEX(Players!E:E,MATCH($C133,Players!$B:$B,0)))","v":""},{"$f":"IF($C133=\"\",\"\",INDEX(Players!F:F,MATCH($C133,Players!$B:$B,0)))","v":""}]
[null,{"$f":"IF($C134=\"\",\"\",INDEX(Players!A:A,MATCH($C134,Players!$B:$B,0)))","v":""},null,{"$f":"IF($C134=\"\",\"\",INDEX(Players!C:C,MATCH($C134,Players!$B:$B,0)))","v":""},{"$f":"IF($C134=\"\",\"\",INDEX(Players!D:D,MATCH($C134,Players!$B:$B,0)))","v":""},{"$f":"IF($C134=\"\",\"\",INDEX(Players!E:E,MATCH($C134,Players!$B:$B,0)))","v":""},{"$f":"IF($C134=\"\",\"\",INDEX(Players!F:F,MATCH($C134,Players!$B:$B,0)))","v":""}]
[null,{"$f":"IF($C135=\"\",\"\",INDEX(Players!A:A,MATCH($C135,Players!$B:$B,0)))","v":""},null,{"$f":"IF($C135=\"\",\"\",INDEX(Players!C:C,MATCH($C135,Players!$B:$B,0)))","v":""},{"$f":"IF($C135=\"\",\"\",INDEX(Players!D:D,MATCH($C135,Players!$B:$B,0)))","v":""},{"$f":"IF($C135=\"\",\"\",INDEX(Players!E:E,MATCH($C135,Players!$B:$B,0)))","v":""},{"$f":"IF($C135=\"\",\"\",INDEX(Players!F:F,MATCH($C135,Players!$B:$B,0)))","v":""}]
[null,{"$f":"IF($C136=\"\",\"\",INDEX(Players!A:A,MATCH($C136,Players!$B:$B,0)))","v":""},null,{"$f":"IF($C136=\"\",\"\",INDEX(Players!C:C,MATCH($C136,Players!$B:$B,0)))","v":""},{"$f":"IF($C136=\"\",\"\",INDEX(Players!D:D,MATCH($C136,Players!$B:$B,0)))","v":""},{"$f":"IF($C136=\"\",\"\",INDEX(Players!E:E,MATCH($C136,Players!$B:$B,0)))","v":""},{"$f":"IF($C136=\"\",\"\",INDEX(Players!F:F,MATCH($C136,Players!$B:$B,0)))","v":""}]
[null,{"$f":"IF($C137=\"\",\"\",INDEX(Players!A:A,MATCH($C137,Players!$B:$B,0)))","v":""},null,{"$f":"IF($C137=\"\",\"\",INDEX(Players!C:C,MATCH($C137,Players!$B:$B,0)))","v":""},{"$f":"IF($C137=\"\",\"\",INDEX(Players!D:D,MATCH($C137,Players!$B:$B,0)))","v":""},{"$f":"IF($C137=\"\",\"\",INDEX(Players!E:E,MATCH($C137,Players!$B:$B,0)))","v":""},{"$f":"IF($C137=\"\",\"\",INDEX(Players!F:F,MATCH($C137,Players!$B:$B,0)))","v":""}]
[null,{"$f":"IF($C138=\"\",\"\",INDEX(Players!A:A,MATCH($C138,Players!$B:$B,0)))","v":""},null,{"$f":"IF($C138=\"\",\"\",INDEX(Players!C:C,MATCH($C138,Players!$B:$B,0)))","v":""},{"$f":"IF($C138=\"\",\"\",INDEX(Players!D:D,MATCH($C138,Players!$B:$B,0)))","v":""},{"$f":"IF($C138=\"\",\"\",INDEX(Players!E:E,MATCH($C138,Players!$B:$B,0)))","v":""},{"$f":"IF($C138=\"\",\"\",INDEX(Players!F:F,MATCH($C138,Players!$B:$B,0)))","v":""}]
[null,{"$f":"IF($C139=\"\",\"\",INDEX(Players!A:A,MATCH($C139,Players!$B:$B,0)))","v":""},null,{"$f":"IF($C139=\"\",\"\",INDEX(Players!C:C,MATCH($C139,Players!$B:$B,0)))","v":""},{"$f":"IF($C139=\"\",\"\",INDEX(Players!D:D,MATCH($C139,Players!$B:$B,0)))","v":""},{"$f":"IF($C139=\"\",\"\",INDEX(Players!E:E,MATCH($C139,Players!$B:$B,0)))","v":""},{"$f":"IF($C139=\"\",\"\",INDEX(Players!F:F,MATCH($C139,Players!$B:$B,0)))","v":""}]
[null,{"$f":"IF($C140=\"\",\"\",INDEX(Players!A:A,MATCH($C140,Players!$B:$B,0)))","v":""},null,{"$f":"IF($C140=\"\",\"\",INDEX(Players!C:C,MATCH($C140,Players!$B:$B,0)))","v":""},{"$f":"IF($C140=\"\",\"\",INDEX(Players!D:D,MATCH($C140,Players!$B:$B,0)))","v":""},{"$f":"IF($C140=\"\",\"\",INDEX(Players!E:E,MATCH($C140,Players!$B:$B,0)))","v":""},{"$f":"IF($C140=\"\",\"\",INDEX(Players!F:F,MATCH($C140,Players!$B:$B,0)))","v":""}]
[null,{"$f":"IF($C141=\"\",\"\",INDEX(Players!A:A,MATCH($C141,Players!$B:$B,0)))","v":""},null,{"$f":"IF($C141=\"\",\"\",INDEX(Players!C:C,MATCH($C141,Players!$B:$B,0)))","v":""},{"$f":"IF($C141=\"\",\"\",INDEX(Players!D:D,MATCH($C141,Players!$B:$B,0)))","v":""},{"$f":"IF($C141=\"\",\"\",INDEX(Players!E:E,MATCH($C141,Players!$B:$B,0)))","v":""},{"$f":"IF($C141=\"\",\"\",INDEX(Players!F:F,MATCH($C141,Players!$B:$B,0)))","v":""}]
[null,{"$f":"IF($C142=\"\",\"\",INDEX(Players!A:A,MATCH($C142,Players!$B:$B,0)))","v":""},null,{"$f":"IF($C142=\"\",\"\",INDEX(Players!C:C,MATCH($C142,Players!$B:$B,0)))","v":""},{"$f":"IF($C142=\"\",\"\",INDEX(Players!D:D,MATCH($C142,Players!$B:$B,0)))","v":""},{"$f":"IF($C142=\"\",\"\",INDEX(Players!E:E,MATCH($C142,Players!$B:$B,0)))","v":""},{"$f":"IF($C142=\"\",\"\",INDEX(Players!F:F,MATCH($C142,Players!$B:$B,0)))","v":""}]
[null,{"$f":"IF($C143=\"\",\"\",INDEX(Players!A:A,MATCH($C143,Players!$B:$B,0)))","v":""},null,{"$f":"IF($C143=\"\",\"\",INDEX(Players!C:C,MATCH($C143,Players!$B:$B,0)))","v":""},{"$f":"IF($C143=\"\",\"\",INDEX(Players!D:D,MATCH($C143,Players!$B:$B,0)))","v":""},{"$f":"IF($C143=\"\",\"\",INDEX(Players!E:E,MATCH($C143,Players!$B:$B,0)))","v":""},{"$f":"IF($C143=\"\",\"\",INDEX(Players!F:F,MATCH($C143,Players!$B:$B,0)))","v":""}]
[null,{"$f":"IF($C144=\"\",\"\",INDEX(Players!A:A,MATCH($C144,Players!$B:$B,0)))","v":""},null,{"$f":"IF($C144=\"\",\"\",INDEX(Players!C:C,MATCH($C144,Players!$B:$B,0)))","v":""},{"$f":"IF($C144=\"\",\"\",INDEX(Players!D:D,MATCH($C144,Players!$B:$B,0)))","v":""},{"$f":"IF($C144=\"\",\"\",INDEX(Players!E:E,MATCH($C144,Players!$B:$B,0)))","v":""},{"$f":"IF($C144=\"\",\"\",INDEX(Players!F:F,MATCH($C144,Players!$B:$B,0)))","v":""}]
[null,{"$f":"IF($C145=\"\",\"\",INDEX(Players!A:A,MATCH($C145,Players!$B:$B,0)))","v":""},null,{"$f":"IF($C145=\"\",\"\",INDEX(Players!C:C,MATCH($C145,Players!$B:$B,0)))","v":""},{"$f":"IF($C145=\"\",\"\",INDEX(Players!D:D,MATCH($C145,Players!$B:$B,0)))","v":""},{"$f":"IF($C145=\"\",\"\",INDEX(Players!E:E,MATCH($C145,Players!$B:$B,0)))","v":""},{"$f":"IF($C145=\"\",\"\",INDEX(Players!F:F,MATCH($C145,Players!$B:$B,0)))","v":""}]
[null,{"$f":"IF($C146=\"\",\"\",INDEX(Players!A:A,MATCH($C146,Players!$B:$B,0)))","v":""},null,{"$f":"IF($C146=\"\",\"\",INDEX(Players!C:C,MATCH($C146,Players!$B:$B,0)))","v":""},{"$f":"IF($C146=\"\",\"\",INDEX(Players!D:D,MATCH($C146,Players!$B:$B,0)))","v":""},{"$f":"IF($C146=\"\",\"\",INDEX(Players!E:E,MATCH($C146,Players!$B:$B,0)))","v":""},{"$f":"IF($C146=\"\",\"\",INDEX(Players!F:F,MATCH($C146,Players!$B:$B,0)))","v":""}]
[null,{"$f":"IF($C147=\"\",\"\",INDEX(Players!A:A,MATCH($C147,Players!$B:$B,0)))","v":""},null,{"$f":"IF($C147=\"\",\"\",INDEX(Players!C:C,MATCH($C147,Players!$B:$B,0)))","v":""},{"$f":"IF($C147=\"\",\"\",INDEX(Players!D:D,MATCH($C147,Players!$B:$B,0)))","v":""},{"$f":"IF($C147=\"\",\"\",INDEX(Players!E:E,MATCH($C147,Players!$B:$B,0)))","v":""},{"$f":"IF($C147=\"\",\"\",INDEX(Players!F:F,MATCH($C147,Players!$B:$B,0)))","v":""}]
[null,{"$f":"IF($C148=\"\",\"\",INDEX(Players!A:A,MATCH($C148,Players!$B:$B,0)))","v":""},null,{"$f":"IF($C148=\"\",\"\",INDEX(Players!C:C,MATCH($C148,Players!$B:$B,0)))","v":""},{"$f":"IF($C148=\"\",\"\",INDEX(Players!D:D,MATCH($C148,Players!$B:$B,0)))","v":""},{"$f":"IF($C148=\"\",\"\",INDEX(Players!E:E,MATCH($C148,Players!$B:$B,0)))","v":""},{"$f":"IF($C148=\"\",\"\",INDEX(Players!F:F,MATCH($C148,Players!$B:$B,0)))","v":""}]
[null,{"$f":"IF($C149=\"\",\"\",INDEX(Players!A:A,MATCH($C149,Players!$B:$B,0)))","v":""},null,{"$f":"IF($C149=\"\",\"\",INDEX(Players!C:C,MATCH($C149,Players!$B:$B,0)))","v":""},{"$f":"IF($C149=\"\",\"\",INDEX(Players!D:D,MATCH($C149,Players!$B:$B,0)))","v":""},{"$f":"IF($C149=\"\",\"\",INDEX(Players!E:E,MATCH($C149,Players!$B:$B,0)))","v":""},{"$f":"IF($C149=\"\",\"\",INDEX(Players!F:F,MATCH($C149,Players!$B:$B,0)))","v":""}]
[null,{"$f":"IF($C150=\"\",\"\",INDEX(Players!A:A,MATCH($C150,Players!$B:$B,0)))","v":""},null,{"$f":"IF($C150=\"\",\"\",INDEX(Players!C:C,MATCH($C150,Players!$B:$B,0)))","v":""},{"$f":"IF($C150=\"\",\"\",INDEX(Players!D:D,MATCH($C150,Players!$B:$B,0)))","v":""},{"$f":"IF($C150=\"\",\"\",INDEX(Players!E:E,MATCH($C150,Players!$B:$B,0)))","v":""},{"$f":"IF($C150=\"\",\"\",INDEX(Players!F:F,MATCH($C150,Players!$B:$B,0)))","v":""}]
[null,{"$f":"IF($C151=\"\",\"\",INDEX(Players!A:A,MATCH($C151,Players!$B:$B,0)))","v":""},null,{"$f":"IF($C151=\"\",\"\",INDEX(Players!C:C,MATCH($C151,Players!$B:$B,0)))","v":""},{"$f":"IF($C151=\"\",\"\",INDEX(Players!D:D,MATCH($C151,Players!$B:$B,0)))","v":""},{"$f":"IF($C151=\"\",\"\",INDEX(Players!E:E,MATCH($C151,Players!$B:$B,0)))","v":""},{"$f":"IF($C151=\"\",\"\",INDEX(Players!F:F,MATCH($C151,Players!$B:$B,0)))","v":""}]
[null,{"$f":"IF($C152=\"\",\"\",INDEX(Players!A:A,MATCH($C152,Players!$B:$B,0)))","v":""},null,{"$f":"IF($C152=\"\",\"\",INDEX(Players!C:C,MATCH($C152,Players!$B:$B,0)))","v":""},{"$f":"IF($C152=\"\",\"\",INDEX(Players!D:D,MATCH($C152,Players!$B:$B,0)))","v":""},{"$f":"IF($C152=\"\",\"\",INDEX(Players!E:E,MATCH($C152,Players!$B:$B,0)))","v":""},{"$f":"IF($C152=\"\",\"\",INDEX(Players!F:F,MATCH($C152,Players!$B:$B,0)))","v":""}]
[null,{"$f":"IF($C153=\"\",\"\",INDEX(Players!A:A,MATCH($C153,Players!$B:$B,0)))","v":""},null,{"$f":"IF($C153=\"\",\"\",INDEX(Players!C:C,MATCH($C153,Players!$B:$B,0)))","v":""},{"$f":"IF($C153=\"\",\"\",INDEX(Players!D:D,MATCH($C153,Players!$B:$B,0)))","v":""},{"$f":"IF($C153=\"\",\"\",INDEX(Players!E:E,MATCH($C153,Players!$B:$B,0)))","v":""},{"$f":"IF($C153=\"\",\"\",INDEX(Players!F:F,MATCH($C153,Players!$B:$B,0)))","v":""}]
[null,{"$f":"IF($C154=\"\",\"\",INDEX(Players!A:A,MATCH($C154,Players!$B:$B,0)))","v":""},null,{"$f":"IF($C154=\"\",\"\",INDEX(Players!C:C,MATCH($C154,Players!$B:$B,0)))","v":""},{"$f":"IF($C154=\"\",\"\",INDEX(Players!D:D,MATCH($C154,Players!$B:$B,0)))","v":""},{"$f":"IF($C154=\"\",\"\",INDEX(Players!E:E,MATCH($C154,Players!$B:$B,0)))","v":""},{"$f":"IF($C154=\"\",\"\",INDEX(Players!F:F,MATCH($C154,Players!$B:$B,0)))","v":""}]
[null,{"$f":"IF($C155=\"\",\"\",INDEX(Players!A:A,MATCH($C155,Players!$B:$B,0)))","v":""},null,{"$f":"IF($C155=\"\",\"\",INDEX(Players!C:C,MATCH($C155,Players!$B:$B,0)))","v":""},{"$f":"IF($C155=\"\",\"\",INDEX(Players!D:D,MATCH($C155,Players!$B:$B,0)))","v":""},{"$f":"IF($C155=\"\",\"\",INDEX(Players!E:E,MATCH($C155,Players!$B:$B,0)))","v":""},{"$f":"IF($C155=\"\",\"\",INDEX(Players!F:F,MATCH($C155,Players!$B:$B,0)))","v":""}]
[null,{"$f":"IF($C156=\"\",\"\",INDEX(Players!A:A,MATCH($C156,Players!$B:$B,0)))","v":""},null,{"$f":"IF($C156=\"\",\"\",INDEX(Players!C:C,MATCH($C156,Players!$B:$B,0)))","v":""},{"$f":"IF($C156=\"\",\"\",INDEX(Players!D:D,MATCH($C156,Players!$B:$B,0)))","v":""},{"$f":"IF($C156=\"\",\"\",INDEX(Players!E:E,MATCH($C156,Players!$B:$B,0)))","v":""},{"$f":"IF($C156=\"\",\"\",INDEX(Players!F:F,MATCH($C156,Players!$B:$B,0)))","v":""}]
[null,{"$f":"IF($C157=\"\",\"\",INDEX(Players!A:A,MATCH($C157,Players!$B:$B,0)))","v":""},null,{"$f":"IF($C157=\"\",\"\",INDEX(Players!C:C,MATCH($C157,Players!$B:$B,0)))","v":""},{"$f":"IF($C157=\"\",\"\",INDEX(Players!D:D,MATCH($C157,Players!$B:$B,0)))","v":""},{"$f":"IF($C157=\"\",\"\",INDEX(Players!E:E,MATCH($C157,Players!$B:$B,0)))","v":""},{"$f":"IF($C157=\"\",\"\",INDEX(Players!F:F,MATCH($C157,Players!$B:$B,0)))","v":""}]
[null,{"$f":"IF($C158=\"\",\"\",INDEX(Players!A:A,MATCH($C158,Players!$B:$B,0)))","v":""},null,{"$f":"IF($C158=\"\",\"\",INDEX(Players!C:C,MATCH($C158,Players!$B:$B,0)))","v":""},{"$f":"IF($C158=\"\",\"\",INDEX(Players!D:D,MATCH($C158,Players!$B:$B,0)))","v":""},{"$f":"IF($C158=\"\",\"\",INDEX(Players!E:E,MATCH($C158,Players!$B:$B,0)))","v":""},{"$f":"IF($C158=\"\",\"\",INDEX(Players!F:F,MATCH($C158,Players!$B:$B,0)))","v":""}]
[null,{"$f":"IF($C159=\"\",\"\",INDEX(Players!A:A,MATCH($C159,Players!$B:$B,0)))","v":""},null,{"$f":"IF($C159=\"\",\"\",INDEX(Players!C:C,MATCH($C159,Players!$B:$B,0)))","v":""},{"$f":"IF($C159=\"\",\"\",INDEX(Players!D:D,MATCH($C159,Players!$B:$B,0)))","v":""},{"$f":"IF($C159=\"\",\"\",INDEX(Players!E:E,MATCH($C159,Players!$B:$B,0)))","v":""},{"$f":"IF($C159=\"\",\"\",INDEX(Players!F:F,MATCH($C159,Players!$B:$B,0)))","v":""}]
[null,{"$f":"IF($C160=\"\",\"\",INDEX(Players!A:A,MATCH($C160,Players!$B:$B,0)))","v":""},null,{"$f":"IF($C160=\"\",\"\",INDEX(Players!C:C,MATCH($C160,Players!$B:$B,0)))","v":""},{"$f":"IF($C160=\"\",\"\",INDEX(Players!D:D,MATCH($C160,Players!$B:$B,0)))","v":""},{"$f":"IF($C160=\"\",\"\",INDEX(Players!E:E,MATCH($C160,Players!$B:$B,0)))","v":""},{"$f":"IF($C160=\"\",\"\",INDEX(Players!F:F,MATCH($C160,Players!$B:$B,0)))","v":""}]
[null,{"$f":"IF($C161=\"\",\"\",INDEX(Players!A:A,MATCH($C161,Players!$B:$B,0)))","v":""},null,{"$f":"IF($C161=\"\",\"\",INDEX(Players!C:C,MATCH($C161,Players!$B:$B,0)))","v":""},{"$f":"IF($C161=\"\",\"\",INDEX(Players!D:D,MATCH($C161,Players!$B:$B,0)))","v":""},{"$f":"IF($C161=\"\",\"\",INDEX(Players!E:E,MATCH($C161,Players!$B:$B,0)))","v":""},{"$f":"IF($C161=\"\",\"\",INDEX(Players!F:F,MATCH($C161,Players!$B:$B,0)))","v":""}]
[null,{"$f":"IF($C162=\"\",\"\",INDEX(Players!A:A,MATCH($C162,Players!$B:$B,0)))","v":""},null,{"$f":"IF($C162=\"\",\"\",INDEX(Players!C:C,MATCH($C162,Players!$B:$B,0)))","v":""},{"$f":"IF($C162=\"\",\"\",INDEX(Players!D:D,MATCH($C162,Players!$B:$B,0)))","v":""},{"$f":"IF($C162=\"\",\"\",INDEX(Players!E:E,MATCH($C162,Players!$B:$B,0)))","v":""},{"$f":"IF($C162=\"\",\"\",INDEX(Players!F:F,MATCH($C162,Players!$B:$B,0)))","v":""}]
[null,{"$f":"IF($C163=\"\",\"\",INDEX(Players!A:A,MATCH($C163,Players!$B:$B,0)))","v":""},null,{"$f":"IF($C163=\"\",\"\",INDEX(Players!C:C,MATCH($C163,Players!$B:$B,0)))","v":""},{"$f":"IF($C163=\"\",\"\",INDEX(Players!D:D,MATCH($C163,Players!$B:$B,0)))","v":""},{"$f":"IF($C163=\"\",\"\",INDEX(Players!E:E,MATCH($C163,Players!$B:$B,0)))","v":""},{"$f":"IF($C163=\"\",\"\",INDEX(Players!F:F,MATCH($C163,Players!$B:$B,0)))","v":""}]
[null,{"$f":"IF($C164=\"\",\"\",INDEX(Players!A:A,MATCH($C164,Players!$B:$B,0)))","v":""},null,{"$f":"IF($C164=\"\",\"\",INDEX(Players!C:C,MATCH($C164,Players!$B:$B,0)))","v":""},{"$f":"IF($C164=\"\",\"\",INDEX(Players!D:D,MATCH($C164,Players!$B:$B,0)))","v":""},{"$f":"IF($C164=\"\",\"\",INDEX(Players!E:E,MATCH($C164,Players!$B:$B,0)))","v":""},{"$f":"IF($C164=\"\",\"\",INDEX(Players!F:F,MATCH($C164,Players!$B:$B,0)))","v":""}]
[null,{"$f":"IF($C165=\"\",\"\",INDEX(Players!A:A,MATCH($C165,Players!$B:$B,0)))","v":""},null,{"$f":"IF($C165=\"\",\"\",INDEX(Players!C:C,MATCH($C165,Players!$B:$B,0)))","v":""},{"$f":"IF($C165=\"\",\"\",INDEX(Players!D:D,MATCH($C165,Players!$B:$B,0)))","v":""},{"$f":"IF($C165=\"\",\"\",INDEX(Players!E:E,MATCH($C165,Players!$B:$B,0)))","v":""},{"$f":"IF($C165=\"\",\"\",INDEX(Players!F:F,MATCH($C165,Players!$B:$B,0)))","v":""}]
[null,{"$f":"IF($C166=\"\",\"\",INDEX(Players!A:A,MATCH($C166,Players!$B:$B,0)))","v":""},null,{"$f":"IF($C166=\"\",\"\",INDEX(Players!C:C,MATCH($C166,Players!$B:$B,0)))","v":""},{"$f":"IF($C166=\"\",\"\",INDEX(Players!D:D,MATCH($C166,Players!$B:$B,0)))","v":""},{"$f":"IF($C166=\"\",\"\",INDEX(Players!E:E,MATCH($C166,Players!$B:$B,0)))","v":""},{"$f":"IF($C166=\"\",\"\",INDEX(Players!F:F,MATCH($C166,Players!$B:$B,0)))","v":""}]
[null,{"$f":"IF($C167=\"\",\"\",INDEX(Players!A:A,MATCH($C167,Players!$B:$B,0)))","v":""},null,{"$f":"IF($C167=\"\",\"\",INDEX(Players!C:C,MATCH($C167,Players!$B:$B,0)))","v":""},{"$f":"IF($C167=\"\",\"\",INDEX(Players!D:D,MATCH($C167,Players!$B:$B,0)))","v":""},{"$f":"IF($C167=\"\",\"\",INDEX(Players!E:E,MATCH($C167,Players!$B:$B,0)))","v":""},{"$f":"IF($C167=\"\",\"\",INDEX(Players!F:F,MATCH($C167,Players!$B:$B,0)))","v":""}]
[null,{"$f":"IF($C168=\"\",\"\",INDEX(Players!A:A,MATCH($C168,Players!$B:$B,0)))","v":""},null,{"$f":"IF($C168=\"\",\"\",INDEX(Players!C:C,MATCH($C168,Players!$B:$B,0)))","v":""},{"$f":"IF($C168=\"\",\"\",INDEX(Players!D:D,MATCH($C168,Players!$B:$B,0)))","v":""},{"$f":"IF($C168=\"\",\"\",INDEX(Players!E:E,MATCH($C168,Players!$B:$B,0)))","v":""},{"$f":"IF($C168=\"\",\"\",INDEX(Players!F:F,MATCH($C168,Players!$B:$B,0)))","v":""}]
[null,{"$f":"IF($C169=\"\",\"\",INDEX(Players!A:A,MATCH($C169,Players!$B:$B,0)))","v":""},null,{"$f":"IF($C169=\"\",\"\",INDEX(Players!C:C,MATCH($C169,Players!$B:$B,0)))","v":""},{"$f":"IF($C169=\"\",\"\",INDEX(Players!D:D,MATCH($C169,Players!$B:$B,0)))","v":""},{"$f":"IF($C169=\"\",\"\",INDEX(Players!E:E,MATCH($C169,Players!$B:$B,0)))","v":""},{"$f":"IF($C169=\"\",\"\",INDEX(Players!F:F,MATCH($C169,Players!$B:$B,0)))","v":""}]
[null,{"$f":"IF($C170=\"\",\"\",INDEX(Players!A:A,MATCH($C170,Players!$B:$B,0)))","v":""},null,{"$f":"IF($C170=\"\",\"\",INDEX(Players!C:C,MATCH($C170,Players!$B:$B,0)))","v":""},{"$f":"IF($C170=\"\",\"\",INDEX(Players!D:D,MATCH($C170,Players!$B:$B,0)))","v":""},{"$f":"IF($C170=\"\",\"\",INDEX(Players!E:E,MATCH($C170,Players!$B:$B,0)))","v":""},{"$f":"IF($C170=\"\",\"\",INDEX(Players!F:F,MATCH($C170,Players!$B:$B,0)))","v":""}]
[null,{"$f":"IF($C171=\"\",\"\",INDEX(Players!A:A,MATCH($C171,Players!$B:$B,0)))","v":""},null,{"$f":"IF($C171=\"\",\"\",INDEX(Players!C:C,MATCH($C171,Players!$B:$B,0)))","v":""},{"$f":"IF($C171=\"\",\"\",INDEX(Players!D:D,MATCH($C171,Players!$B:$B,0)))","v":""},{"$f":"IF($C171=\"\",\"\",INDEX(Players!E:E,MATCH($C171,Players!$B:$B,0)))","v":""},{"$f":"IF($C171=\"\",\"\",INDEX(Players!F:F,MATCH($C171,Players!$B:$B,0)))","v":""}]
[null,{"$f":"IF($C172=\"\",\"\",INDEX(Players!A:A,MATCH($C172,Players!$B:$B,0)))","v":""},null,{"$f":"IF($C172=\"\",\"\",INDEX(Players!C:C,MATCH($C172,Players!$B:$B,0)))","v":""},{"$f":"IF($C172=\"\",\"\",INDEX(Players!D:D,MATCH($C172,Players!$B:$B,0)))","v":""},{"$f":"IF($C172=\"\",\"\",INDEX(Players!E:E,MATCH($C172,Players!$B:$B,0)))","v":""},{"$f":"IF($C172=\"\",\"\",INDEX(Players!F:F,MATCH($C172,Players!$B:$B,0)))","v":""}]
[null,{"$f":"IF($C173=\"\",\"\",INDEX(Players!A:A,MATCH($C173,Players!$B:$B,0)))","v":""},null,{"$f":"IF($C173=\"\",\"\",INDEX(Players!C:C,MATCH($C173,Players!$B:$B,0)))","v":""},{"$f":"IF($C173=\"\",\"\",INDEX(Players!D:D,MATCH($C173,Players!$B:$B,0)))","v":""},{"$f":"IF($C173=\"\",\"\",INDEX(Players!E:E,MATCH($C173,Players!$B:$B,0)))","v":""},{"$f":"IF($C173=\"\",\"\",INDEX(Players!F:F,MATCH($C173,Players!$B:$B,0)))","v":""}]
[null,{"$f":"IF($C174=\"\",\"\",INDEX(Players!A:A,MATCH($C174,Players!$B:$B,0)))","v":""},null,{"$f":"IF($C174=\"\",\"\",INDEX(Players!C:C,MATCH($C174,Players!$B:$B,0)))","v":""},{"$f":"IF($C174=\"\",\"\",INDEX(Players!D:D,MATCH($C174,Players!$B:$B,0)))","v":""},{"$f":"IF($C174=\"\",\"\",INDEX(Players!E:E,MATCH($C174,Players!$B:$B,0)))","v":""},{"$f":"IF($C174=\"\",\"\",INDEX(Players!F:F,MATCH($C174,Players!$B:$B,0)))","v":""}]
[null,{"$f":"IF($C175=\"\",\"\",INDEX(Players!A:A,MATCH($C175,Players!$B:$B,0)))","v":""},null,{"$f":"IF($C175=\"\",\"\",INDEX(Players!C:C,MATCH($C175,Players!$B:$B,0)))","v":""},{"$f":"IF($C175=\"\",\"\",INDEX(Players!D:D,MATCH($C175,Players!$B:$B,0)))","v":""},{"$f":"IF($C175=\"\",\"\",INDEX(Players!E:E,MATCH($C175,Players!$B:$B,0)))","v":""},{"$f":"IF($C175=\"\",\"\",INDEX(Players!F:F,MATCH($C175,Players!$B:$B,0)))","v":""}]
[null,{"$f":"IF($C176=\"\",\"\",INDEX(Players!A:A,MATCH($C176,Players!$B:$B,0)))","v":""},null,{"$f":"IF($C176=\"\",\"\",INDEX(Players!C:C,MATCH($C176,Players!$B:$B,0)))","v":""},{"$f":"IF($C176=\"\",\"\",INDEX(Players!D:D,MATCH($C176,Players!$B:$B,0)))","v":""},{"$f":"IF($C176=\"\",\"\",INDEX(Players!E:E,MATCH($C176,Players!$B:$B,0)))","v":""},{"$f":"IF($C176=\"\",\"\",INDEX(Players!F:F,MATCH($C176,Players!$B:$B,0)))","v":""}]
[null,{"$f":"IF($C177=\"\",\"\",INDEX(Players!A:A,MATCH($C177,Players!$B:$B,0)))","v":""},null,{"$f":"IF($C177=\"\",\"\",INDEX(Players!C:C,MATCH($C177,Players!$B:$B,0)))","v":""},{"$f":"IF($C177=\"\",\"\",INDEX(Players!D:D,MATCH($C177,Players!$B:$B,0)))","v":""},{"$f":"IF($C177=\"\",\"\",INDEX(Players!E:E,MATCH($C177,Players!$B:$B,0)))","v":""},{"$f":"IF($C177=\"\",\"\",INDEX(Players!F:F,MATCH($C177,Players!$B:$B,0)))","v":""}]
[null,{"$f":"IF($C178=\"\",\"\",INDEX(Players!A:A,MATCH($C178,Players!$B:$B,0)))","v":""},null,{"$f":"IF($C178=\"\",\"\",INDEX(Players!C:C,MATCH($C178,Players!$B:$B,0)))","v":""},{"$f":"IF($C178=\"\",\"\",INDEX(Players!D:D,MATCH($C178,Players!$B:$B,0)))","v":""},{"$f":"IF($C178=\"\",\"\",INDEX(Players!E:E,MATCH($C178,Players!$B:$B,0)))","v":""},{"$f":"IF($C178=\"\",\"\",INDEX(Players!F:F,MATCH($C178,Players!$B:$B,0)))","v":""}]
[null,{"$f":"IF($C179=\"\",\"\",INDEX(Players!A:A,MATCH($C179,Players!$B:$B,0)))","v":""},null,{"$f":"IF($C179=\"\",\"\",INDEX(Players!C:C,MATCH($C179,Players!$B:$B,0)))","v":""},{"$f":"IF($C179=\"\",\"\",INDEX(Players!D:D,MATCH($C179,Players!$B:$B,0)))","v":""},{"$f":"IF($C179=\"\",\"\",INDEX(Players!E:E,MATCH($C179,Players!$B:$B,0)))","v":""},{"$f":"IF($C179=\"\",\"\",INDEX(Players!F:F,MATCH($C179,Players!$B:$B,0)))","v":""}]
[null,{"$f":"IF($C180=\"\",\"\",INDEX(Players!A:A,MATCH($C180,Players!$B:$B,0)))","v":""},null,{"$f":"IF($C180=\"\",\"\",INDEX(Players!C:C,MATCH($C180,Players!$B:$B,0)))","v":""},{"$f":"IF($C180=\"\",\"\",INDEX(Players!D:D,MATCH($C180,Players!$B:$B,0)))","v":""},{"$f":"IF($C180=\"\",\"\",INDEX(Players!E:E,MATCH($C180,Players!$B:$B,0)))","v":""},{"$f":"IF($C180=\"\",\"\",INDEX(Players!F:F,MATCH($C180,Players!$B:$B,0)))","v":""}]
[null,{"$f":"IF($C181=\"\",\"\",INDEX(Players!A:A,MATCH($C181,Players!$B:$B,0)))","v":""},null,{"$f":"IF($C181=\"\",\"\",INDEX(Players!C:C,MATCH($C181,Players!$B:$B,0)))","v":""},{"$f":"IF($C181=\"\",\"\",INDEX(Players!D:D,MATCH($C181,Players!$B:$B,0)))","v":""},{"$f":"IF($C181=\"\",\"\",INDEX(Players!E:E,MATCH($C181,Players!$B:$B,0)))","v":""},{"$f":"IF($C181=\"\",\"\",INDEX(Players!F:F,MATCH($C181,Players!$B:$B,0)))","v":""}]
[null,{"$f":"IF($C182=\"\",\"\",INDEX(Players!A:A,MATCH($C182,Players!$B:$B,0)))","v":""},null,{"$f":"IF($C182=\"\",\"\",INDEX(Players!C:C,MATCH($C182,Players!$B:$B,0)))","v":""},{"$f":"IF($C182=\"\",\"\",INDEX(Players!D:D,MATCH($C182,Players!$B:$B,0)))","v":""},{"$f":"IF($C182=\"\",\"\",INDEX(Players!E:E,MATCH($C182,Players!$B:$B,0)))","v":""},{"$f":"IF($C182=\"\",\"\",INDEX(Players!F:F,MATCH($C182,Players!$B:$B,0)))","v":""}]
[null,{"$f":"IF($C183=\"\",\"\",INDEX(Players!A:A,MATCH($C183,Players!$B:$B,0)))","v":""},null,{"$f":"IF($C183=\"\",\"\",INDEX(Players!C:C,MATCH($C183,Players!$B:$B,0)))","v":""},{"$f":"IF($C183=\"\",\"\",INDEX(Players!D:D,MATCH($C183,Players!$B:$B,0)))","v":""},{"$f":"IF($C183=\"\",\"\",INDEX(Players!E:E,MATCH($C183,Players!$B:$B,0)))","v":""},{"$f":"IF($C183=\"\",\"\",INDEX(Players!F:F,MATCH($C183,Players!$B:$B,0)))","v":""}]
[null,{"$f":"IF($C184=\"\",\"\",INDEX(Players!A:A,MATCH($C184,Players!$B:$B,0)))","v":""},null,{"$f":"IF($C184=\"\",\"\",INDEX(Players!C:C,MATCH($C184,Players!$B:$B,0)))","v":""},{"$f":"IF($C184=\"\",\"\",INDEX(Players!D:D,MATCH($C184,Players!$B:$B,0)))","v":""},{"$f":"IF($C184=\"\",\"\",INDEX(Players!E:E,MATCH($C184,Players!$B:$B,0)))","v":""},{"$f":"IF($C184=\"\",\"\",INDEX(Players!F:F,MATCH($C184,Players!$B:$B,0)))","v":""}]
[null,{"$f":"IF($C185=\"\",\"\",INDEX(Players!A:A,MATCH($C185,Players!$B:$B,0)))","v":""},null,{"$f":"IF($C185=\"\",\"\",INDEX(Players!C:C,MATCH($C185,Players!$B:$B,0)))","v":""},{"$f":"IF($C185=\"\",\"\",INDEX(Players!D:D,MATCH($C185,Players!$B:$B,0)))","v":""},{"$f":"IF($C185=\"\",\"\",INDEX(Players!E:E,MATCH($C185,Players!$B:$B,0)))","v":""},{"$f":"IF($C185=\"\",\"\",INDEX(Players!F:F,MATCH($C185,Players!$B:$B,0)))","v":""}]
[null,{"$f":"IF($C186=\"\",\"\",INDEX(Players!A:A,MATCH($C186,Players!$B:$B,0)))","v":""},null,{"$f":"IF($C186=\"\",\"\",INDEX(Players!C:C,MATCH($C186,Players!$B:$B,0)))","v":""},{"$f":"IF($C186=\"\",\"\",INDEX(Players!D:D,MATCH($C186,Players!$B:$B,0)))","v":""},{"$f":"IF($C186=\"\",\"\",INDEX(Players!E:E,MATCH($C186,Players!$B:$B,0)))","v":""},{"$f":"IF($C186=\"\",\"\",INDEX(Players!F:F,MATCH($C186,Players!$B:$B,0)))","v":""}]
[null,{"$f":"IF($C187=\"\",\"\",INDEX(Players!A:A,MATCH($C187,Players!$B:$B,0)))","v":""},null,{"$f":"IF($C187=\"\",\"\",INDEX(Players!C:C,MATCH($C187,Players!$B:$B,0)))","v":""},{"$f":"IF($C187=\"\",\"\",INDEX(Players!D:D,MATCH($C187,Players!$B:$B,0)))","v":""},{"$f":"IF($C187=\"\",\"\",INDEX(Players!E:E,MATCH($C187,Players!$B:$B,0)))","v":""},{"$f":"IF($C187=\"\",\"\",INDEX(Players!F:F,MATCH($C187,Players!$B:$B,0)))","v":""}]
[null,{"$f":"IF($C188=\"\",\"\",INDEX(Players!A:A,MATCH($C188,Players!$B:$B,0)))","v":""},null,{"$f":"IF($C188=\"\",\"\",INDEX(Players!C:C,MATCH($C188,Players!$B:$B,0)))","v":""},{"$f":"IF($C188=\"\",\"\",INDEX(Players!D:D,MATCH($C188,Players!$B:$B,0)))","v":""},{"$f":"IF($C188=\"\",\"\",INDEX(Players!E:E,MATCH($C188,Players!$B:$B,0)))","v":""},{"$f":"IF($C188=\"\",\"\",INDEX(Players!F:F,MATCH($C188,Players!$B:$B,0)))","v":""}]
[null,{"$f":"IF($C189=\"\",\"\",INDEX(Players!A:A,MATCH($C189,Players!$B:$B,0)))","v":""},null,{"$f":"IF($C189=\"\",\"\",INDEX(Players!C:C,MATCH($C189,Players!$B:$B,0)))","v":""},{"$f":"IF($C189=\"\",\"\",INDEX(Players!D:D,MATCH($C189,Players!$B:$B,0)))","v":""},{"$f":"IF($C189=\"\",\"\",INDEX(Players!E:E,MATCH($C189,Players!$B:$B,0)))","v":""},{"$f":"IF($C189=\"\",\"\",INDEX(Players!F:F,MATCH($C189,Players!$B:$B,0)))","v":""}]
[null,{"$f":"IF($C190=\"\",\"\",INDEX(Players!A:A,MATCH($C190,Players!$B:$B,0)))","v":""},null,{"$f":"IF($C190=\"\",\"\",INDEX(Players!C:C,MATCH($C190,Players!$B:$B,0)))","v":""},{"$f":"IF($C190=\"\",\"\",INDEX(Players!D:D,MATCH($C190,Players!$B:$B,0)))","v":""},{"$f":"IF($C190=\"\",\"\",INDEX(Players!E:E,MATCH($C190,Players!$B:$B,0)))","v":""},{"$f":"IF($C190=\"\",\"\",INDEX(Players!F:F,MATCH($C190,Players!$B:$B,0)))","v":""}]
[null,{"$f":"IF($C191=\"\",\"\",INDEX(Players!A:A,MATCH($C191,Players!$B:$B,0)))","v":""},null,{"$f":"IF($C191=\"\",\"\",INDEX(Players!C:C,MATCH($C191,Players!$B:$B,0)))","v":""},{"$f":"IF($C191=\"\",\"\",INDEX(Players!D:D,MATCH($C191,Players!$B:$B,0)))","v":""},{"$f":"IF($C191=\"\",\"\",INDEX(Players!E:E,MATCH($C191,Players!$B:$B,0)))","v":""},{"$f":"IF($C191=\"\",\"\",INDEX(Players!F:F,MATCH($C191,Players!$B:$B,0)))","v":""}]
[null,{"$f":"IF($C192=\"\",\"\",INDEX(Players!A:A,MATCH($C192,Players!$B:$B,0)))","v":""},null,{"$f":"IF($C192=\"\",\"\",INDEX(Players!C:C,MATCH($C192,Players!$B:$B,0)))","v":""},{"$f":"IF($C192=\"\",\"\",INDEX(Players!D:D,MATCH($C192,Players!$B:$B,0)))","v":""},{"$f":"IF($C192=\"\",\"\",INDEX(Players!E:E,MATCH($C192,Players!$B:$B,0)))","v":""},{"$f":"IF($C192=\"\",\"\",INDEX(Players!F:F,MATCH($C192,Players!$B:$B,0)))","v":""}]
[null,{"$f":"IF($C193=\"\",\"\",INDEX(Players!A:A,MATCH($C193,Players!$B:$B,0)))","v":""},null,{"$f":"IF($C193=\"\",\"\",INDEX(Players!C:C,MATCH($C193,Players!$B:$B,0)))","v":""},{"$f":"IF($C193=\"\",\"\",INDEX(Players!D:D,MATCH($C193,Players!$B:$B,0)))","v":""},{"$f":"IF($C193=\"\",\"\",INDEX(Players!E:E,MATCH($C193,Players!$B:$B,0)))","v":""},{"$f":"IF($C193=\"\",\"\",INDEX(Players!F:F,MATCH($C193,Players!$B:$B,0)))","v":""}]
[null,{"$f":"IF($C194=\"\",\"\",INDEX(Players!A:A,MATCH($C194,Players!$B:$B,0)))","v":""},null,{"$f":"IF($C194=\"\",\"\",INDEX(Players!C:C,MATCH($C194,Players!$B:$B,0)))","v":""},{"$f":"IF($C194=\"\",\"\",INDEX(Players!D:D,MATCH($C194,Players!$B:$B,0)))","v":""},{"$f":"IF($C194=\"\",\"\",INDEX(Players!E:E,MATCH($C194,Players!$B:$B,0)))","v":""},{"$f":"IF($C194=\"\",\"\",INDEX(Players!F:F,MATCH($C194,Players!$B:$B,0)))","v":""}]
[null,{"$f":"IF($C195=\"\",\"\",INDEX(Players!A:A,MATCH($C195,Players!$B:$B,0)))","v":""},null,{"$f":"IF($C195=\"\",\"\",INDEX(Players!C:C,MATCH($C195,Players!$B:$B,0)))","v":""},{"$f":"IF($C195=\"\",\"\",INDEX(Players!D:D,MATCH($C195,Players!$B:$B,0)))","v":""},{"$f":"IF($C195=\"\",\"\",INDEX(Players!E:E,MATCH($C195,Players!$B:$B,0)))","v":""},{"$f":"IF($C195=\"\",\"\",INDEX(Players!F:F,MATCH($C195,Players!$B:$B,0)))","v":""}]
[null,{"$f":"IF($C196=\"\",\"\",INDEX(Players!A:A,MATCH($C196,Players!$B:$B,0)))","v":""},null,{"$f":"IF($C196=\"\",\"\",INDEX(Players!C:C,MATCH($C196,Players!$B:$B,0)))","v":""},{"$f":"IF($C196=\"\",\"\",INDEX(Players!D:D,MATCH($C196,Players!$B:$B,0)))","v":""},{"$f":"IF($C196=\"\",\"\",INDEX(Players!E:E,MATCH($C196,Players!$B:$B,0)))","v":""},{"$f":"IF($C196=\"\",\"\",INDEX(Players!F:F,MATCH($C196,Players!$B:$B,0)))","v":""}]
[null,{"$f":"IF($C197=\"\",\"\",INDEX(Players!A:A,MATCH($C197,Players!$B:$B,0)))","v":""},null,{"$f":"IF($C197=\"\",\"\",INDEX(Players!C:C,MATCH($C197,Players!$B:$B,0)))","v":""},{"$f":"IF($C197=\"\",\"\",INDEX(Players!D:D,MATCH($C197,Players!$B:$B,0)))","v":""},{"$f":"IF($C197=\"\",\"\",INDEX(Players!E:E,MATCH($C197,Players!$B:$B,0)))","v":""},{"$f":"IF($C197=\"\",\"\",INDEX(Players!F:F,MATCH($C197,Players!$B:$B,0)))","v":""}]
[null,{"$f":"IF($C198=\"\",\"\",INDEX(Players!A:A,MATCH($C198,Players!$B:$B,0)))","v":""},null,{"$f":"IF($C198=\"\",\"\",INDEX(Players!C:C,MATCH($C198,Players!$B:$B,0)))","v":""},{"$f":"IF($C198=\"\",\"\",INDEX(Players!D:D,MATCH($C198,Players!$B:$B,0)))","v":""},{"$f":"IF($C198=\"\",\"\",INDEX(Players!E:E,MATCH($C198,Players!$B:$B,0)))","v":""},{"$f":"IF($C198=\"\",\"\",INDEX(Players!F:F,MATCH($C198,Players!$B:$B,0)))","v":""}]
[null,{"$f":"IF($C199=\"\",\"\",INDEX(Players!A:A,MATCH($C199,Players!$B:$B,0)))","v":""},null,{"$f":"IF($C199=\"\",\"\",INDEX(Players!C:C,MATCH($C199,Players!$B:$B,0)))","v":""},{"$f":"IF($C199=\"\",\"\",INDEX(Players!D:D,MATCH($C199,Players!$B:$B,0)))","v":""},{"$f":"IF($C199=\"\",\"\",INDEX(Players!E:E,MATCH($C199,Players!$B:$B,0)))","v":""},{"$f":"IF($C199=\"\",\"\",INDEX(Players!F:F,MATCH($C199,Players!$B:$B,0)))","v":""}]
[null,{"$f":"IF($C200=\"\",\"\",INDEX(Players!A:A,MATCH($C200,Players!$B:$B,0)))","v":""},null,{"$f":"IF($C200=\"\",\"\",INDEX(Players!C:C,MATCH($C200,Players!$B:$B,0)))","v":""},{"$f":"IF($C200=\"\",\"\",INDEX(Players!D:D,MATCH($C200,Players!$B:$B,0)))","v":""},{"$f":"IF($C200=\"\",\"\",INDEX(Players!E:E,MATCH($C200,Players!$B:$B,0)))","v":""},{"$f":"IF($C200=\"\",\"\",INDEX(Players!F:F,MATCH($C200,Players!$B:$B,0)))","v":""}]
[]
[]
[]
[]
[]
[]
[]
[]
[]
[]
[]
[]
[]
[]
[]
[]
[]
[]
[]
[]
[]
[]
[]
[]
[]
[]
[]
[]
[]
[]
[]
[]
[]
[]
[]
[]
[]
[]
[]
[]
[]
[]
[]
[]
[]
[]
[]
[]
[]
[]
[]
[]
[]
[]
[]
[]
[]
[]
[]
[]
[]
[]
[]
[]
[]
[]
[]
[]
[]
[]
[]
[]
[]
[]
[]
[]
[]
[]
[]
[]
[]
[]
[]
[]
[]
[]
[]
[]
[]
[]
[]
[]
[]
[]
[]
[]
[]
[]
[]
[]
[]
[]
[]
[]
[]
[]
[]
[]
[]
[]
[]
[]
[]
[]
[]
[]
[]
[]
[]
[]
[]
[]
[]
[]
[]
[]
[]
[]
[]
[]
[]
[]
[]
[]
[]
[]
[]
[]
[]
[]
[]
[]
[]
[]
[]
[]
[]
[]
[]
[]
[]
[]
[]
[]
[]
[]
[]
[]
[]
[]
[]
[]
[]
[]
[]
[]
[]
[]
[]
[]
[]
[]
[]
[]
[]
[]
[]
[]
[]
[]
[]
[]
[]
[]
[]
[]
[]
[]
[]
[]
[]
[]
[]
[]
[]
[]
[]
[]
[]
[]
[]
[]
[]
[]
[]
[]
[]
[]
[]
[]
[]
[]
[]
[]
[]
[]
[]
[]
[]
[]
[]
[]
[]
[]
[]
[]
[]
[]
[]
[]
[]
[]
[]
[]
[]
[]
[]
[]
[]
[]
[]
[]
[]
[]
[]
[]
[]
[]
[]
[]
[]
[]
[]
[]
[]
[]
[]
[]
[]
[]
[]
[]
[]
[]
[]
[]
[]
[]
[]
[]
[]
[]
[]
[]
[]
[]
[]
[]
[]
[]
[]
[]
[]
[]
[]
[]
[]
[]
[]
[]
[]
[]
[]
[]
[]
[]
[]
[]
[]
[]
[]
[]
[]
[]
[]
[]
[]
[]
[]
[]
[]
[]
[]
[]
[]
[]
[]
[]
[]
[]
[]
[]
[]
[]
[]
[]
[]
[]
[]
[]
[]
[]
[]
[]
[]
[]
[]
[]
[]
[]
[]
[]
[]
[]
[]
[]
[]
[]
[]
[]
[]
[]
[]
[]
[]
[]
[]
[]
[]
[]
[]
[]
[]
[]
[]
[]
[]
[]
[]
[]
[]
[]
[]
[]
[]
[]
[]
[]
[]
[]
[]
[]
[]
[]
[]
[]
[]
[]
[]
[]
[]
[]
[]
[]
[]
[]
[]
[]
[]
[]
[]
[]
[]
[]
[]
[]
[]
[]
[]
[]
[]
[]
[]
[]
[]
[]
[]
[]
[]
[]
[]
[]
[]
[]
[]
[]
[]
[]
[]
[]
[]
[]
[]
[]
[]
[]
[]
[]
[]
[]
[]
[]
[]
[]
[]
[]
[]
[]
[]
[]
[]
[]
[]
[]
[]
[]
[]
[]
[]
[]
[]
[]
[]
[]
[]
[]
[]
[]
[]
[]
[]
[]
[]
[]
[]
[]
[]
[]
[]
[]
[]
[]
[]
[]
[]
[]
[]
[]
[]
[]
[]
[]
[]
[]
[]
[]
[]
[]
[]
[]
[]
[]
[]
[]
[]
[]
[]
[]
[]
[]
[]
[]
[]
[]
[]
[]
[]
[]
[]
[]
[]
[]
[]
[]
[]
[]
[]
[]
[]
[]
[]
[]
[]
[]
[]
[]
[]
[]
[]
[]
[]
[]
[]
[]
[]
[]
[]
[]
[]
[]
[]
[]
[]
[]
[]
[]
[]
[]
[]
[]
[]
[]
[]
[]
[]
[]
[]
[]
[]
[]
[]
[]
[]
[]
[]
[]
[]
[]
[]
[]
[]
[]
[]
[]
[]
[]
[]
[]
[]
[]
[]
[]
[]
[]
[]
[]
[]
[]
[]
[]
[]
[]
[]
[]
[]
[]
[]
[]
[]
[]
[]
[]
[]
[]
[]
[]
[]
[]
[]
[]
[]
[]
[]
[]
[]
[]
[]
[]
[]
[]
[]
[]
[]
[]
[]
[]
[]
[]
[]
[]
[]
[]
[]
[]
[]
[]
[]
[]
[]
[]
[]
[]
[]
[]
[]
[]
[]
[]
[]
[]
[]
[]
[]
[]
[]
[]
[]
[]
[]
[]
[]
[]
[]
[]
[]
[]
[]
[]
[]
[]
[]
[]
[]
[]
[]
[]
[]
[]
[]
[]
[]
[]
[]
[]
[]
[]
[]
[]
[]
[]
[]
[]
[]
[]
[]
[]
[]
[]
[]
[]
[]
[]
[]
[]
[]
[]
[]
[]
[]
[]
[]
[]
[]
[]
[]
[]
[]
[]
[]
[]
[]
[]
[]
[]
[]
[]
[]
[]
[]
[]
[]
[]
[]
[]
[]
[]
[]
[]
[]
[]
[]
[]
[]
[]
[]
[]
[]
[]
[]
[]
[]
[]
[]
[]
[]
[]
[]
[]
[]
[]
[]
[]
[]
[]
[]
[]
[]
[]
[]
[]
[]
[]
[]
[]
[]
[]
[]
[]
[]
[]
[]
[]
[]
[]
[]
[]
[]
[]
[]
[]
[]
[]
[]
[]
[]
[]
[]
[]
[]
[]
[]
[]
[]
[]
[]
[]
[]
[]
[]
[]
[]
[]
[]
[]
[]
[]
[]
[]
[]
[]
[]
[]
[]
[]
[]
[]
[]
[]
[]
[]
[]
[]
[]
[]
[]
[]
[]
[]
[]
[]
[]
[]
[]
[]
[]
[]
[]
[]
[]
[]
[]
[]
[]
[]
[]
[]
[]
[]
[]
[]
[]
[]
[]
[]
[]
[]
[]
[]
[]
[]
[]
[]
[]
[]
[]
[]
[]
[]
[]
[]
[]
[]
[]
[]
[]
[]
[]
[]
[]
[]
[]
[]
[]
[]
[]
[]
[]
[]
[]
[]
[]
[]
[]
[]
[]
[]
[]
[]
[]
[]
[]
[]
[]
[]
[]
[]
[]
[]
[]
[]
[]
[]
[]
[]
[]
[]
[]
[]
[]
[]
[]
[]
[]
[]
[]
[]
[]
[]
[]
[]
[]
[]
[]
[]
[]
[]
[]
[]
[]
[]
[]
[]
[]
[]
[]
[]
[]
[]
[]
[]
[]
[]
[]
[]
[]
[]
[]
[]
[]
[]
[]
[]
[]
[]
[]
[]
[]
[]
[]
[]
[]
[]
[]
[]
[]
[]
[]
[]
[]
[]
[]
[]
[]
[]
[]
[]
[]
[]
[]
[]
[]
[]
[]
[]
[]
[]
[]
[]
[]
[]
[]
[]
[]
[]
[]
[]
[]
[]
[]
[]
[]
[]
[]
[]
[]
[]
[]
[]
[]
[]
[]
[]
[]
[]
[]
[]
[]
[]
[]
[]
[]
[]
[]
[]
[]
[]
[]
[]
[]
[]
[]
[]
[]
[]
[]
[]
[]
[]
[]
[]
[]
[]
[]
[]
[]
[]
[]
[]
[]
[]
[]
[]
[]
[]
[]
[]
[]
[]
[]
[]
[]
[]
[]
[]
[]
[]
[]
[]
[]
[]
[]
[]
[]
[]
[]
[]
[]
[]
[]
[]
[]
[]
[]
[]
[]
[]
[]
[]
[]
[]
[]
[]
[]
[]
[]
[]
[]
[]
[]
[]
[]
[]
[]
[]
[]
[]
[]
[]
[]
[]
[]
[]
[]
[]
[]
[]
[]
[]
[]
[]
[]
[]
[]
[]
[]
[]
[]
[]
[]
[]
[]
[]
[]
[]
[]
[]
[]
[]
[]
[]
[]
[]
[]
[]
[]
[]
[]
[]
[]
[]
[]
[]
[]
[]
[]
[]
[]
[]
[]
[]
[]
[]
[]
[]
[]
[]
[]
[]
[]
[]
[]
[]
[]
[]
[]
[]
[]
[]
[]
[]
[]
[]
[]
[]
[]
[]
[]
[]
[]
[]
[]
[]
[]
[]
[]
[]
[]
[]
[]
[]
[]
[]
[]
[]
[]
[]
[]
[]
[]
[]
[]
[]
[]
[]
[]
[]
[]
[]
[]
[]
[]
[]
[]
[]
[]
[]
[]
[]
[]
[]
[]
[]
[]
[]
[]
[]
[]
[]
[]
[]
[]
[]
[]
[]
[]
[]
[]
[]
[]
[]
[]
[]
[]
[]
[]
[]
[]
[]
[]
[]
[]
[]
[]
[]
[]
[]
[]
[]
[]
[]
[]
[]
[]
[]
[]
[]
[]
[]
[]
[]
[]
[]
[]
[]
[]
[]
[]
[]
[]
[]
[]
[]
[]
[]
[]
[]
[]
[]
[]
[]
[]
[]
[]
[]
[]
[]
[]
[]
[]
[]
[]
[]
[]
[]
[]
[]
[]
[]
[]
[]
[]
[]
[]
[]
[]
[]
[]
[]
[]
[]
[]
[]
[]
[]
[]
[]
[]
[]
[]
[]
[]
[]
[]
[]
[]
[]
[]
[]
[]
[]
[]
[]
[]
[]
[]
[]
[]
[]
[]
[]
[]
[]
[]
[]
[]
[]
[]
[]
[]
[]
[]
[]
[]
[]
[]
[]
[]
[]
[]
[]
[]
[]
[]
[]
[]
[]
[]
[]
[]
[]
[]
[]
[]
[]
[]
[]
[]
[]
[]
[]
[]
[]
[]
[]
[]
[]
[]
[]
[]
[]
[]
[]
[]
[]
[]
[]
[]
[]
[]
[]
[]
[]
[]
[]
[]
[]
[]
[]
[]
[]
[]
[]
[]
[]
[]
[]
[]
[]
[]
[]
[]
[]
[]
[]
[]
[]
[]
[]
[]
[]
[]
[]
[]
[]
[]
[]
[]
[]
[]
[]
[]
[]
[]
[]
[]
[]
[]
[]
[]
[]
[]
[]
[]
[]
[]
[]
[]
[]
[]
[]
[]
[]
[]
[]
[]
[]
[]
[]
[]
[]
[]
[]
[]
[]
[]
[]
[]
[]
[]
[]
[]
[]
[]
[]
[]
[]
[]
[]
[]
[]
[]
[]
[]
[]
[]
[]
[]
[]
[]
[]
[]
[]
[]
[]
[]
[]
[]
[]
[]
[]
[]
[]
[]
[]
[]
[]
[]
[]
[]
[]
[]
[]
[]
[]
[]
[]
[]
[]
[]
[]
[]
[]
[]
[]
[]
[]
[]
[]
[]
[]
[]
[]
[]
[]
[]
[]
[]
[]
[]
[]
[]
[]
[]
[]
[]
[]
[]
[]
[]
[]
[]
[]
[]
[]
[]
[]
[]
[]
[]
[]
[]
[]
[]
[]
[]
[]
[]
[]
[]
[]
[]
[]
[]
[]
[]
[]
[]
[]
[]
[]
[]
[]
[]
[]
[]
[]
[]
[]
[]
[]
[]
[]
[]
[]
[]
[]
[]
[]
[]
[]
[]
[]
[]
[]
[]
[]
[]
[]
[]
[]
[]
[]
[]
[]
[]
[]
[]
[]
[]
[]
[]
[]
[]
[]
[]
[]
[]
[]
[]
[]
[]
[]
[]
[]
[]
[]
[]
[]
[]
[]
[]
[]
[]
[]
[]
[]
[]
[]
[]
[]
[]
[]
[]
[]
[]
[]
[]
[]
[]
[]
[]
[]
[]
[]
[]
[]
[]
[]
[]
[]
[]
[]
[]
[]
[]
[]
[]
[]
[]
[]
[]
[]
[]
[]
[]
[]
[]
[]
[]
[]
[]
[]
[]
[]
[]
[]
[]
[]
[]
[]
[]
[]
[]
[]
[]
[]
[]
[]
[]
[]
[]
[]
[]
[]
[]
[]
[]
[]
[]
[]
[]
[]
[]
[]
[]
[]
[]
[]
[]
[]
[]
[]
[]
[]
[]
[]
[]
[]
[]
[]
[]
[]
[]
[]
[]
[]
[]
[]
[]
[]
[]
[]
[]
[]
[]
[]
[]
[]
[]
[]
[]
[]
[]
[]
[]
[]
[]
[]
[]
[]
[]
[]
[]
[]
[]
[]
[]
[]
[]
[]
[]
[]
[]
[]
[]
[]
[]
[]
[]
[]
[]
[]
[]
[]
[]
[]
[]
[]
[]
[]
[]
[]
[]
[]
[]
[]
[]
[]
[]
[]
[]
[]
[]
[]
[]
[]
[]
[]
[]
[]
[]
[]
[]
[]
[]
[]
[]
[]
[]
[]
[]
[]
[]
[]
[]
[]
[]
[]
[]
[]
[]
[]
[]
[]
[]
[]
[]
[]
[]
[]
[]
[]
[]
[]
[]
[]
[]
[]
[]
[]
[]
[]
[]
[]
[]
[]
[]
[]
[]
[]
[]
[]
[]
[]
[]
[]
[]
[]
[]
[]
[]
[]
[]
[]
[]
[]
[]
[]
[]
[]
[]
[]
[]
[]
[]
[]
[]
[]
[]
[]
[]
[]
[]
[]
[]
[]
[]
[]
[]
[]
[]
[]
[]
[]
[]
[]
[]
[]
[]
[]
[]
[]
[]
[]
[]
[]
[]
[]
[]
[]
[]
[]
[]
[]
[]
[]
[]
[]
[]
[]
[]
[]
[]
[]
[]
[]
[]
[]
[]
[]
[]
[]
[]
[]
[]
[]
[]
[]
[]
[]
[]
[]
[]
[]
[]
[]
[]
[]
[]
[]
[]
[]
[]
[]
[]
[]
[]
[]
[]
[]
[]
[]
[]
[]
[]
[]
[]
[]
[]
[]
[]
[]
[]
[]
[]
[]
[]
[]
[]
[]
[]
[]
[]
[]
[]
[]
[]
[]
[]
[]
[]
[]
[]
[]
[]
[]
[]
[]
[]
[]
[]
[]
[]
[]
[]
[]
[]
[]
[]
[]
[]
[]
[]
[]
[]
[]
[]
[]
[]
[]
[]
[]
[]
[]
[]
[]
[]
[]
[]
[]
[]
[]
[]
[]
[]
[]
[]
[]
[]
[]
[]
[]
[]
[]
[]
[]
[]
[]
[]
[]
[]
[]
[]
[]
[]
[]
[]
[]
[]
[]
[]
[]
[]
[]
[]
[]
[]
[]
[]
[]
[]
[]
[]
[]
[]
[]
[]
[]
[]
[]
[]
[]
[]
[]
[]
[]
[]
[]
[]
[]
[]
[]
[]
[]
[]
[]
[]
[]
[]
[]
[]
[]
[]
[]
[]
[]
[]
[]
[]
[]
[]
[]
[]
[]
[]
[]
[]
[]
[]
[]
[]
[]
[]
[]
[]
[]
[]
[]
[]
[]
[]
[]
[]
[]
[]
[]
[]
[]
[]
[]
[]
[]
[]
[]
[]
[]
[]
[]
[]
[]
[]
[]
[]
[]
[]
[]
[]
[]
[]
[]
[]
[]
[]
[]
[]
[]
[]
[]
[]
[]
[]
[]
[]
[]
[]
[]
[]
[]
[]
[]
[]
[]
[]
[]
[]
[]
[]
[]
[]
[]
[]
[]
[]
[]
[]
[]
[]
[]
[]
[]
[]
[]
[]
[]
[]
[]
[]
[]
[]
[]
[]
[]
[]
[]
[]
[]
[]
[]
[]
[]
[]
[]
[]
[]
[]
[]
[]
[]
[]
[]
[]
[]
[]
[]
[]
[]
[]
[]
[]
[]
[]
[]
[]
[]
[]
[]
[]
[]
[]
[]
[]
[]
[]
[]
[]
[]
[]
[]
[]
[]
[]
[]
[]
[]
[]
[]
[]
[]
[]
[]
[]
[]
[]
[]
[]
[]
[]
[]
[]
[]
[]
[]
[]
[]
[]
[]
[]
[]
[]
[]
[]
[]
[]
[]
[]
[]
[]
[]
[]
[]
[]
[]
[]
[]
[]
[]
[]
[]
[]
[]
[]
[]
[]
[]
[]
[]
[]
[]
[]
[]
[]
[]
[]
[]
[]
[]
[]
[]
[]
[]
[]
[]
[]
[]
[]
[]
[]
[]
[]
[]
[]
[]
[]
[]
[]
[]
[]
[]
[]
[]
[]
[]
[]
[]
[]
[]
[]
[]
[]
[]
[]
[]
[]
[]
[]
[]
[]
[]
[]
[]
[]
[]
[]
[]
[]
[]
[]
[]
[]
[]
[]
[]
[]
[]
[]
[]
[]
[]
[]
[]
[]
[]
[]
[]
[]
[]
[]
[]
[]
[]
[]
[]
[]
[]
[]
[]
[]
[]
[]
[]
[]
[]
[]
[]
[]
[]
[]
[]
[]
[]
[]
[]
[]
[]
[]
[]
[]
[]
[]
[]
[]
[]
[]
[]
[]
[]
[]
[]
[]
[]
[]
[]
[]
[]
[]
[]
[]
[]
[]
[]
[]
[]
[]
[]
[]
[]
[]
[]
[]
[]
[]
[]
[]
[]
[]
[]
[]
[]
[]
[]
[]
[]
[]
[]
[]
[]
[]
[]
[]
[]
[]
[]
[]
[]
[]
[]
[]
[]
[]
[]
[]
[]
[]
[]
[]
[]
[]
[]
[]
[]
[]
[]
[]
[]
[]
[]
[]
[]
[]
[]
[]
[]
[]
[]
[]
[]
[]
[]
[]
[]
[]
[]
[]
[]
[]
[]
[]
[]
[]
[]
[]
[]
[]
[]
[]
[]
[]
[]
[]
[]
[]
[]
[]
[]
[]
[]
[]
[]
[]
[]
[]
[]
[]
[]
[]
[]
[]
[]
[]
[]
[]
[]
[]
[]
[]
[]
[]
[]
[]
[]
[]
[]
[]
[]
[]
[]
[]
[]
[]
[]
[]
[]
[]
[]
[]
[]
[]
[]
[]
[]
[]
[]
[]
[]
[]
[]
[]
[]
[]
[]
[]
[]
[]
[]
[]
[]
[]
[]
[]
[]
[]
[]
[]
[]
[]
[]
[]
[]
[]
[]
[]
[]
[]
[]
[]
[]
[]
[]
[]
[]
[]
[]
[]
[]
[]
[]
[]
[]
[]
[]
[]
[]
[]
[]
[]
[]
[]
[]
[]
[]
[]
[]
[]
[]
[]
[]
[]
[]
[]
[]
[]
[]
[]
[]
[]
[]
[]
[]
[]
[]
[]
[]
[]
[]
[]
[]
[]
[]
[]
[]
[]
[]
[]
[]
[]
[]
[]
[]
[]
[]
[]
[]
[]
[]
[]
[]
[]
[]
[]
[]
[]
[]
[]
[]
[]
[]
[]
[]
[]
[]
[]
[]
[]
[]
[]
[]
[]
[]
[]
[]
[]
[]
[]
[]
[]
[]
[]
[]
[]
[]
[]
[]
[]
[]
[]
[]
[]
[]
[]
[]
[]
[]
[]
[]
[]
[]
[]
[]
[]
[]
[]
[]
[]
[]
[]
[]
[]
[]
[]
[]
[]
[]
[]
[]
[]
[]
[]
[]
[]
[]
[]
[]
[]
[]
[]
[]
[]
[]
[]
[]
[]
[]
[]
[]
[]
[]
[]
[]
[]
[]
[]
[]
[]
[]
[]
[]
[]
[]
[]
[]
[]
[]
[]
[]
[]
[]
[]
[]
[]
[]
[]
[]
[]
[]
[]
[]
[]
[]
[]
[]
[]
[]
[]
[]
[]
[]
[]
[]
[]
[]
[]
[]
[]
[]
[]
[]
[]
[]
[]
[]
[]
[]
[]
[]
[]
[]
[]
[]
[]
[]
[]
[]
[]
[]
[]
[]
[]
[]
[]
[]
[]
[]
[]
[]
[]
[]
[]
[]
[]
[]
[]
[]
[]
[]
[]
[]
[]
[]
[]
[]
[]
[]
[]
[]
[]
[]
[]
[]
[]
[]
[]
[]
[]
[]
[]
[]
[]
[]
[]
[]
[]
[]
[]
[]
[]
[]
[]
[]
[]
[]
[]
[]
[]
[]
[]
[]
[]
[]
[]
[]
[]
[]
[]
[]
[]
[]
[]
[]
[]
[]
[]
[]
[]
[]
[]
[]
[]
[]
[]
[]
[]
[]
[]
[]
[]
[]
[]
[]
[]
[]
[]
[]
[]
[]
[]
[]
[]
[]
[]
[]
[]
[]
[]
[]
[]
[]
[]
[]
[]
[]
[]
[]
[]
[]
[]
[]
[]
[]
[]
[]
[]
[]
[]
[]
[]
[]
[]
[]
[]
[]
[]
[]
[]
[]
[]
[]
[]
[]
[]
[]
[]
[]
[]
[]
[]
[]
[]
[]
[]
[]
[]
[]
[]
[]
[]
[]
[]
[]
[]
[]
[]
[]
[]
[]
[]
[]
[]
[]
[]
[]
[]
[]
[]
[]
[]
[]
[]
[]
[]
[]
[]
[]
[]
[]
[]
[]
[]
[]
[]
[]
[]
[]
[]
[]
[]
[]
[]
[]
[]
[]
[]
[]
[]
[]
[]
[]
[]
[]
[]
[]
[]
[]
[]
[]
[]
[]
[]
[]
[]
[]
[]
[]
[]
[]
[]
[]
[]
[]
[]
[]
[]
[]
[]
[]
[]
[]
[]
[]
[]
[]
[]
[]
[]
[]
[]
[]
[]
[]
[]
[]
[]
[]
[]
[]
[]
[]
[]
[]
[]
[]
[]
[]
[]
[]
[]
[]
[]
[]
[]
[]
[]
[]
[]
[]
[]
[]
[]
[]
[]
[]
[]
[]
[]
[]
[]
[]
[]
[]
[]
[]
[]
[]
[]
[]
[]
[]
[]
[]
[]
[]
[]
[]
[]
[]
[]
[]
[]
[]
[]
[]
[]
[]
[]
[]
[]
[]
[]
[]
[]
[]
[]
[]
[]
[]
[]
[]
[]
[]
[]
[]
[]
[]
[]
[]
[]
[]
[]
[]
[]
[]
[]
[]
[]
[]
[]
[]
[]
[]
[]
[]
[]
[]
[]
[]
[]
[]
[]
[]
[]
[]
[]
[]
[]
[]
[]
[]
[]
[]
[]
[]
[]
[]
[]
[]
[]
[]
[]
[]
[]
[]
[]
[]
[]
[]
[]
[]
[]
[]
[]
[]
[]
[]
[]
[]
[]
[]
[]
[]
[]
[]
[]
[]
[]
[]
[]
[]
[]
[]
[]
[]
[]
[]
[]
[]
[]
[]
[]
[]
[]
[]
[]
[]
[]
[]
[]
[]
[]
[]
[]
[]
[]
[]
[]
[]
[]
[]
[]
[]
[]
[]
[]
[]
[]
[]
[]
[]
[]
[]
[]
[]
[]
[]
[]
[]
[]
[]
[]
[]
[]
[]
[]
[]
[]
[]
[]
[]
[]
[]
[]
[]
[]
[]
[]
[]
[]
[]
[]
[]
[]
[]
[]
[]
[]
[]
[]
[]
[]
[]
[]
[]
[]
[]
[]
[]
[]
[]
[]
[]
[]
[]
[]
[]
[]
[]
[]
[]
[]
[]
[]
[]
[]
[]
[]
[]
[]
[]
[]
[]
[]
[]
[]
[]
[]
[]
[]
[]
[]
[]
[]
[]
[]
[]
[]
[]
[]
[]
[]
[]
[]
[]
[]
[]
[]
[]
[]
[]
[]
[]
[]
[]
[]
[]
[]
[]
[]
[]
[]
[]
[]
[]
[]
[]
[]
[]
[]
[]
[]
[]
[]
[]
[]
[]
[]
[]
[]
[]
[]
[]
[]
[]
[]
[]
[]
[]
[]
[]
[]
[]
[]
[]
[]
[]
[]
[]
[]
[]
[]
[]
[]
[]
[]
[]
[]
[]
[]
[]
[]
[]
[]
[]
[]
[]
[]
[]
[]
[]
[]
[]
[]
[]
[]
[]
[]
[]
[]
[]
[]
[]
[]
[]
[]
[]
[]
[]
[]
[]
[]
[]
[]
[]
[]
[]
[]
[]
[]
[]
[]
[]
[]
[]
[]
[]
[]
[]
[]
[]
[]
[]
[]
[]
[]
[]
[]
[]
[]
[]
[]
[]
[]
[]
[]
[]
[]
[]
[]
[]
[]
[]
[]
[]
[]
[]
[]
[]
[]
[]
[]
[]
[]
[]
[]
[]
[]
[]
[]
[]
[]
[]
[]
[]
[]
[]
[]
[]
[]
[]
[]
[]
[]
[]
[]
[]
[]
[]
[]
[]
[]
[]
[]
[]
[]
[]
[]
[]
[]
[]
[]
[]
[]
[]
[]
[]
[]
[]
[]
[]
[]
[]
[]
[]
[]
[]
[]
[]
[]
[]
[]
[]
[]
[]
[]
[]
[]
[]
[]
[]
[]
[]
[]
[]
[]
[]
[]
[]
[]
[]
[]
[]
[]
[]
[]
[]
[]
[]
[]
[]
[]
[]
[]
[]
[]
[]
[]
[]
[]
[]
[]
[]
[]
[]
[]
[]
[]
[]
[]
[]
[]
[]
[]
[]
[]
[]
[]
[]
[]
[]
[]
[]
[]
[]
[]
[]
[]
[]
[]
[]
[]
[]
[]
[]
[]
[]
[]
[]
[]
[]
[]
[]
[]
[]
[]
[]
[]
[]
[]
[]
[]
[]
[]
[]
[]
[]
[]
[]
[]
[]
[]
[]
[]
[]
[]
[]
[]
[]
[]
[]
[]
[]
[]
[]
[]
[]
[]
[]
[]
[]
[]
[]
[]
[]
[]
[]
[]
[]
[]
[]
[]
[]
[]
[]
[]
[]
[]
[]
[]
[]
[]
[]
[]
[]
[]
[]
[]
[]
[]
[]
[]
[]
[]
[]
[]
[]
[]
[]
[]
[]
[]
[]
[]
[]
[]
[]
[]
[]
[]
[]
[]
[]
[]
[]
[]
[]
[]
[]
[]
[]
[]
[]
[]
[]
[]
[]
[]
[]
[]
[]
[]
[]
[]
[]
[]
[]
[]
[]
[]
[]
[]
[]
[]
[]
[]
[]
[]
[]
[]
[]
[]
[]
[]
[]
[]
[]
[]
[]
[]
[]
[]
[]
[]
[]
[]
[]
[]
[]
[]
[]
[]
[]
[]
[]
[]
[]
[]
[]
[]
[]
[]
[]
[]
[]
[]
[]
[]
[]
[]
[]
[]
[]
[]
[]
[]
[]
[]
[]
[]
[]
[]
[]
[]
[]
[]
[]
[]
[]
[]
[]
[]
[]
[]
[]
[]
[]
[]
[]
[]
[]
[]
[]
[]
[]
[]
[]
[]
[]
[]
[]
[]
[]
[]
[]
[]
[]
[]
[]
[]
[]
[]
[]
[]
[]
[]
[]
[]
[]
[]
[]
[]
[]
[]
[]
[]
[]
[]
[]
[]
[]
[]
[]
[]
[]
[]
[]
[]
[]
[]
[]
[]
[]
[]
[]
[]
[]
[]
[]
[]
[]
[]
[]
[]
[]
[]
[]
[]
[]
[]
[]
[]
[]
[]
[]
[]
[]
[]
[]
[]
[]
[]
[]
[]
[]
[]
[]
[]
[]
[]
[]
[]
[]
[]
[]
[]
[]
[]
[]
[]
[]
[]
[]
[]
[]
[]
[]
[]
[]
[]
[]
[]
[]
[]
[]
[]
[]
[]
[]
[]
[]
[]
[]
[]
[]
[]
[]
[]
[]
[]
[]
[]
[]
[]
[]
[]
[]
[]
[]
[]
[]
[]
[]
[]
[]
[]
[]
[]
[]
[]
[]
[]
[]
[]
[]
[]
[]
[]
[]
[]
[]
[]
[]
[]
[]
[]
[]
[]
[]
[]
[]
[]
[]
[]
[]
[]
[]
[]
[]
[]
[]
[]
[]
[]
[]
[]
[]
[]
[]
[]
[]
[]
[]
[]
[]
[]
[]
[]
[]
[]
[]
[]
[]
[]
[]
[]
[]
[]
[]
[]
[]
[]
[]
[]
[]
[]
[]
[]
[]
[]
[]
[]
[]
[]
[]
[]
[]
[]
[]
[]
[]
[]
[]
[]
[]
[]
[]
[]
[]
[]
[]
[]
[]
[]
[]
[]
[]
[]
[]
[]
[]
[]
[]
[]
[]
[]
[]
[]
[]
[]
[]
[]
[]
[]
[]
[]
[]
[]
[]
[]
[]
[]
[]
[]
[]
[]
[]
[]
[]
[]
[]
[]
[]
[]
[]
[]
[]
[]
[]
[]
[]
[]
[]
[]
[]
[]
[]
[]
[]
[]
[]
[]
[]
[]
[]
[]
[]
[]
[]
[]
[]
[]
[]
[]
[]
[]
[]
[]
[]
[]
[]
[]
[]
[]
[]
[]
[]
[]
[]
[]
[]
[]
[]
[]
["*"]

{"sheet":"Signed","index":6,"n_rows":1,"n_cols":8,"rows_kept":1,"cut":false,"hidden":false,"merged":[]}
["Sort","Ref","Cat","Pos","Player","Team","Owner","Bid"]

{"sheet":"SquadSize","index":7,"n_rows":5,"n_cols":2,"rows_kept":5,"cut":false,"hidden":false,"merged":[]}
[]
[]
["Count of Player","Pos"]
["Owner","Grand Total"]
["Grand Total"]

{"sheet":"Spending","index":8,"n_rows":5,"n_cols":3,"rows_kept":5,"cut":false,"hidden":false,"merged":[]}
[]
[]
[null,"Winner","Data"]
[]
["Owner"]