{"text_format":"1","workbook":"xlsx","n_sheets":9,"sheets":["Notes","Funds","Defenders","Players","Owners","Bids","Spending","Signed","SquadPosition"],"not_rendered":{"charts":0,"images":0,"macros":1,"external_links":0,"defined_names":8,"comments":0,"pivot_tables":2},"unopened":[],"bounds":{"document_bytes":16777216,"sheet_cells":100000,"rows_first":2000,"rows_last":500,"rows_between":2000,"halvings":0,"cell_chars":16384,"cell_head_chars":4096},"cells_cut":0,"cells_raw":0,"read":"whole","date_system":"1900"}

{"sheet":"Notes","index":0,"n_rows":28,"n_cols":2,"rows_kept":28,"cut":false,"hidden":false,"merged":[]}
["Email Auction Notes and Rules"]
[]
[null,"DL21 - M6 Midfielders Round #2"]
[]
["Funds:","Check the Funds tab to see the amount of money you have left to spend"]
[]
["Defenders:","The 'Defenders Free' tab (if completed) shows how many keepers and defenders can still be bought for each team. Only 5 defenders are permitted in the pool from any one real club"]
[]
["Players:","To make a bid for a player, select your name from the drop-down list."]
[null,"You can only bid for a maximum of two goalkeepers in the first two rounds of the auction"]
[null,"Enter the Bid amount in mulitples of £100k, where £100k=0.1, £1,000,000=1.0, £5,100,000=5.1"]
[null,"If a successful bid will take your overall squad number to more than 18 you must be available at bid-closing time to nominate a player to release. If you know already who you plan to release, enter the player's name in the Release column"]
[]
["Signed:","All owned players prior to this auction, for information"]
[]
["Squads: ","Number of players by position per Owner prior to this auction, for information"]
[]
["Submitting:","When you have decided on your bids, send a simple list of Player Ref numbers and Bid Amount via email or WhatsApp to Chris Griffin at cgriffin18@hotmail.com"]
[]
["Deadlines:","Round G1 bids - 5pm, Sunday, 18th October - Goalkeepers added in"]
[null,"Round G2 bids - 5pm, Wednesday, 21st October"]
[null,"Round F3 bids - 5pm, Sunday, 25th October - Defenders added in"]
[null,"Round F4 bids - 5pm, Wednesday, 28th October"]
[null,"Round M5 bids - 5pm, Sunday, 1st November - Midfielders added in"]
[null,"Round M6 bids - 5pm, Wednesday, 4th November"]
[null,"Round D7 bids - 5pm, Sunday, 8th November - Forwards added in"]
[null,"Round D8 bids - 5pm, Wednesday, 11th November"]
[null,"Round X9 bids - 5pm, Sunday, 15th November - Final mop-up"]

{"sheet":"Funds","index":1,"n_rows":18,"n_cols":30,"rows_kept":18,"cut":false,"hidden":false,"merged":[[0,16,0,18],[1,23,1,24],[0,10,0,11],[0,5,0,9],[0,12,0,13],[0,14,0,15]]}
[null,null,null,null,null,"Squad (Pre-this auction)",null,null,null,null,"Keepers",null,"Forwards",null,"Midfielders",null,"Defenders & Mop-up"]
["ID","Owner","Team Name","Opening","Balance","GK","Def","Mid","Fwd","Total","G1","G2","F3","F4","M5","M6","D7","D8","X9","Balance",null,"Spend",null,"Latest Round Spend",null,null,"GK","DEF","MID","FWD"]
["ACL","Andy Clucas","Breast Homage Albion",50,{"$f":"T3","v":10.300000000000004},{"$f":"IF(SquadPosition!$M$3=\"OK\",AA3,\"\")","v":2},{"$f":"IF(SquadPosition!$N$3=\"OK\",AB3,\"\")","v":""},{"$f":"IF(SquadPosition!$O$3=\"OK\",AC3,\"\")","v":4},{"$f":"IF(SquadPosition!$P$3=\"OK\",AD3,\"\")","v":10},{"$f":"SUM(F3:I3)","v":16},0.6,0,20.499999999999996,14.5,4.1000000000000005,null,null,null,null,{"$f":"D3-SUM(K3:S3)","v":10.300000000000004},null,{"$f":"IF(ISERROR(INDEX(Spending!B:B,MATCH(B3,Spending!A:A,0))),0,INDEX(Spending!B:B,MATCH(B3,Spending!A:A,0)))","v":4.1000000000000005},null,{"$f":"B3","v":"Andy Clucas"},{"$f":"IF(V3=0,\"\",V3)","v":4.1000000000000005},null,{"$f":"IF(ISERROR(INDEX(SquadPosition!M:M,MATCH($B3,SquadPosition!$L:$L,0))),\"\",INDEX(SquadPosition!M:M,MATCH($B3,SquadPosition!$L:$L,0)))","v":2},{"$f":"IF(ISERROR(INDEX(SquadPosition!N:N,MATCH($B3,SquadPosition!$L:$L,0))),\"\",INDEX(SquadPosition!N:N,MATCH($B3,SquadPosition!$L:$L,0)))","v":16},{"$f":"IF(ISERROR(INDEX(SquadPosition!O:O,MATCH($B3,SquadPosition!$L:$L,0))),\"\",INDEX(SquadPosition!O:O,MATCH($B3,SquadPosition!$L:$L,0)))","v":4},{"$f":"IF(ISERROR(INDEX(SquadPosition!P:P,MATCH($B3,SquadPosition!$L:$L,0))),\"\",INDEX(SquadPosition!P:P,MATCH($B3,SquadPosition!$L:$L,0)))","v":10}]
["CG","Chris Griffin","The Jordi Gomez Love-in",50,1.5,{"$f":"IF(SquadPosition!$M$3=\"OK\",AA4,\"\")","v":2},{"$f":"IF(SquadPosition!$N$3=\"OK\",AB4,\"\")","v":""},{"$f":"IF(SquadPosition!$O$3=\"OK\",AC4,\"\")","v":0},{"$f":"IF(SquadPosition!$P$3=\"OK\",AD4,\"\")","v":9},11,0.3,2.2999999999999998,27.6,18.299999999999997,0,null,null,null,null,1.5,null,{"$f":"IF(ISERROR(INDEX(Spending!B:B,MATCH(B4,Spending!A:A,0))),0,INDEX(Spending!B:B,MATCH(B4,Spending!A:A,0)))","v":0},null,{"$f":"B4","v":"Chris Griffin"},{"$f":"IF(V4=0,\"\",V4)","v":""},null,{"$f":"IF(ISERROR(INDEX(SquadPosition!M:M,MATCH($B4,SquadPosition!$L:$L,0))),\"\",INDEX(SquadPosition!M:M,MATCH($B4,SquadPosition!$L:$L,0)))","v":2},{"$f":"IF(ISERROR(INDEX(SquadPosition!N:N,MATCH($B4,SquadPosition!$L:$L,0))),\"\",INDEX(SquadPosition!N:N,MATCH($B4,SquadPosition!$L:$L,0)))","v":11},{"$f":"IF(ISERROR(INDEX(SquadPosition!O:O,MATCH($B4,SquadPosition!$L:$L,0))),\"\",INDEX(SquadPosition!O:O,MATCH($B4,SquadPosition!$L:$L,0)))","v":0},{"$f":"IF(ISERROR(INDEX(SquadPosition!P:P,MATCH($B4,SquadPosition!$L:$L,0))),\"\",INDEX(SquadPosition!P:P,MATCH($B4,SquadPosition!$L:$L,0)))","v":9}]
["CH","Carl Hogg","Hogg's Roast FC",50,6.8999999999999986,{"$f":"IF(SquadPosition!$M$3=\"OK\",AA5,\"\")","v":2},{"$f":"IF(SquadPosition!$N$3=\"OK\",AB5,\"\")","v":""},{"$f":"IF(SquadPosition!$O$3=\"OK\",AC5,\"\")","v":3},{"$f":"IF(SquadPosition!$P$3=\"OK\",AD5,\"\")","v":7},12,0.3,0.7,38.5,0,3.6,null,null,null,null,6.8999999999999986,null,{"$f":"IF(ISERROR(INDEX(Spending!B:B,MATCH(B5,Spending!A:A,0))),0,INDEX(Spending!B:B,MATCH(B5,Spending!A:A,0)))","v":3.6},null,"Carl Hogg",3.6,null,{"$f":"IF(ISERROR(INDEX(SquadPosition!M:M,MATCH($B5,SquadPosition!$L:$L,0))),\"\",INDEX(SquadPosition!M:M,MATCH($B5,SquadPosition!$L:$L,0)))","v":2},{"$f":"IF(ISERROR(INDEX(SquadPosition!N:N,MATCH($B5,SquadPosition!$L:$L,0))),\"\",INDEX(SquadPosition!N:N,MATCH($B5,SquadPosition!$L:$L,0)))","v":12},{"$f":"IF(ISERROR(INDEX(SquadPosition!O:O,MATCH($B5,SquadPosition!$L:$L,0))),\"\",INDEX(SquadPosition!O:O,MATCH($B5,SquadPosition!$L:$L,0)))","v":3},{"$f":"IF(ISERROR(INDEX(SquadPosition!P:P,MATCH($B5,SquadPosition!$L:$L,0))),\"\",INDEX(SquadPosition!P:P,MATCH($B5,SquadPosition!$L:$L,0)))","v":7}]
["DS","Dave Sumner","People's Front of Springfield",50,6.1000000000000014,{"$f":"IF(SquadPosition!$M$3=\"OK\",AA6,\"\")","v":2},{"$f":"IF(SquadPosition!$N$3=\"OK\",AB6,\"\")","v":""},{"$f":"IF(SquadPosition!$O$3=\"OK\",AC6,\"\")","v":5},{"$f":"IF(SquadPosition!$P$3=\"OK\",AD6,\"\")","v":7},14,0.5,0.5,4,33.6,5.3,null,null,null,null,6.1000000000000014,null,{"$f":"IF(ISERROR(INDEX(Spending!B:B,MATCH(B6,Spending!A:A,0))),0,INDEX(Spending!B:B,MATCH(B6,Spending!A:A,0)))","v":5.3},null,"Dave Sumner",5.3,null,{"$f":"IF(ISERROR(INDEX(SquadPosition!M:M,MATCH($B6,SquadPosition!$L:$L,0))),\"\",INDEX(SquadPosition!M:M,MATCH($B6,SquadPosition!$L:$L,0)))","v":2},{"$f":"IF(ISERROR(INDEX(SquadPosition!N:N,MATCH($B6,SquadPosition!$L:$L,0))),\"\",INDEX(SquadPosition!N:N,MATCH($B6,SquadPosition!$L:$L,0)))","v":14},{"$f":"IF(ISERROR(INDEX(SquadPosition!O:O,MATCH($B6,SquadPosition!$L:$L,0))),\"\",INDEX(SquadPosition!O:O,MATCH($B6,SquadPosition!$L:$L,0)))","v":5},{"$f":"IF(ISERROR(INDEX(SquadPosition!P:P,MATCH($B6,SquadPosition!$L:$L,0))),\"\",INDEX(SquadPosition!P:P,MATCH($B6,SquadPosition!$L:$L,0)))","v":7}]
["GM","Graham Miller","Sporting Anattyjacket",50,8.5999999999999943,{"$f":"IF(SquadPosition!$M$3=\"OK\",AA7,\"\")","v":2},{"$f":"IF(SquadPosition!$N$3=\"OK\",AB7,\"\")","v":""},{"$f":"IF(SquadPosition!$O$3=\"OK\",AC7,\"\")","v":5},{"$f":"IF(SquadPosition!$P$3=\"OK\",AD7,\"\")","v":7},14,0.6,0,19.7,0,21.1,null,null,null,null,8.5999999999999943,null,{"$f":"IF(ISERROR(INDEX(Spending!B:B,MATCH(B7,Spending!A:A,0))),0,INDEX(Spending!B:B,MATCH(B7,Spending!A:A,0)))","v":21.1},null,"Graham Miller",21.1,null,{"$f":"IF(ISERROR(INDEX(SquadPosition!M:M,MATCH($B7,SquadPosition!$L:$L,0))),\"\",INDEX(SquadPosition!M:M,MATCH($B7,SquadPosition!$L:$L,0)))","v":2},{"$f":"IF(ISERROR(INDEX(SquadPosition!N:N,MATCH($B7,SquadPosition!$L:$L,0))),\"\",INDEX(SquadPosition!N:N,MATCH($B7,SquadPosition!$L:$L,0)))","v":14},{"$f":"IF(ISERROR(INDEX(SquadPosition!O:O,MATCH($B7,SquadPosition!$L:$L,0))),\"\",INDEX(SquadPosition!O:O,MATCH($B7,SquadPosition!$L:$L,0)))","v":5},{"$f":"IF(ISERROR(INDEX(SquadPosition!P:P,MATCH($B7,SquadPosition!$L:$L,0))),\"\",INDEX(SquadPosition!P:P,MATCH($B7,SquadPosition!$L:$L,0)))","v":7}]
["HB","Howard Bradley","Brush It, Munch And Gag Back",50,3.6999999999999957,{"$f":"IF(SquadPosition!$M$3=\"OK\",AA8,\"\")","v":2},{"$f":"IF(SquadPosition!$N$3=\"OK\",AB8,\"\")","v":""},{"$f":"IF(SquadPosition!$O$3=\"OK\",AC8,\"\")","v":4},{"$f":"IF(SquadPosition!$P$3=\"OK\",AD8,\"\")","v":7},13,1.3,1.7,25.8,0.3,17.200000000000003,null,null,null,null,3.6999999999999957,null,{"$f":"IF(ISERROR(INDEX(Spending!B:B,MATCH(B8,Spending!A:A,0))),0,INDEX(Spending!B:B,MATCH(B8,Spending!A:A,0)))","v":17.200000000000003},null,"Howard Bradley",17.200000000000003,null,{"$f":"IF(ISERROR(INDEX(SquadPosition!M:M,MATCH($B8,SquadPosition!$L:$L,0))),\"\",INDEX(SquadPosition!M:M,MATCH($B8,SquadPosition!$L:$L,0)))","v":2},{"$f":"IF(ISERROR(INDEX(SquadPosition!N:N,MATCH($B8,SquadPosition!$L:$L,0))),\"\",INDEX(SquadPosition!N:N,MATCH($B8,SquadPosition!$L:$L,0)))","v":13},{"$f":"IF(ISERROR(INDEX(SquadPosition!O:O,MATCH($B8,SquadPosition!$L:$L,0))),\"\",INDEX(SquadPosition!O:O,MATCH($B8,SquadPosition!$L:$L,0)))","v":4},{"$f":"IF(ISERROR(INDEX(SquadPosition!P:P,MATCH($B8,SquadPosition!$L:$L,0))),\"\",INDEX(SquadPosition!P:P,MATCH($B8,SquadPosition!$L:$L,0)))","v":7}]
["JB","Liam Murphy","10 Man Wigan",50,4.0999999999999943,{"$f":"IF(SquadPosition!$M$3=\"OK\",AA9,\"\")","v":2},{"$f":"IF(SquadPosition!$N$3=\"OK\",AB9,\"\")","v":""},{"$f":"IF(SquadPosition!$O$3=\"OK\",AC9,\"\")","v":2},{"$f":"IF(SquadPosition!$P$3=\"OK\",AD9,\"\")","v":7},11,0.3,0.2,42,0.2,3.1999999999999997,null,null,null,null,4.0999999999999943,null,{"$f":"IF(ISERROR(INDEX(Spending!B:B,MATCH(B9,Spending!A:A,0))),0,INDEX(Spending!B:B,MATCH(B9,Spending!A:A,0)))","v":3.1999999999999997},null,"Liam Murphy",3.1999999999999997,null,{"$f":"IF(ISERROR(INDEX(SquadPosition!M:M,MATCH($B9,SquadPosition!$L:$L,0))),\"\",INDEX(SquadPosition!M:M,MATCH($B9,SquadPosition!$L:$L,0)))","v":2},{"$f":"IF(ISERROR(INDEX(SquadPosition!N:N,MATCH($B9,SquadPosition!$L:$L,0))),\"\",INDEX(SquadPosition!N:N,MATCH($B9,SquadPosition!$L:$L,0)))","v":11},{"$f":"IF(ISERROR(INDEX(SquadPosition!O:O,MATCH($B9,SquadPosition!$L:$L,0))),\"\",INDEX(SquadPosition!O:O,MATCH($B9,SquadPosition!$L:$L,0)))","v":2},{"$f":"IF(ISERROR(INDEX(SquadPosition!P:P,MATCH($B9,SquadPosition!$L:$L,0))),\"\",INDEX(SquadPosition!P:P,MATCH($B9,SquadPosition!$L:$L,0)))","v":7}]
["JM","John Murphy","Jean Pierre's Tap-ins",50,3.0999999999999943,{"$f":"IF(SquadPosition!$M$3=\"OK\",AA10,\"\")","v":2},{"$f":"IF(SquadPosition!$N$3=\"OK\",AB10,\"\")","v":""},{"$f":"IF(SquadPosition!$O$3=\"OK\",AC10,\"\")","v":5},{"$f":"IF(SquadPosition!$P$3=\"OK\",AD10,\"\")","v":8},15,0.6,0,21.900000000000002,0,24.4,null,null,null,null,3.0999999999999943,null,{"$f":"IF(ISERROR(INDEX(Spending!B:B,MATCH(B10,Spending!A:A,0))),0,INDEX(Spending!B:B,MATCH(B10,Spending!A:A,0)))","v":24.4},null,"John Murphy",24.4,null,{"$f":"IF(ISERROR(INDEX(SquadPosition!M:M,MATCH($B10,SquadPosition!$L:$L,0))),\"\",INDEX(SquadPosition!M:M,MATCH($B10,SquadPosition!$L:$L,0)))","v":2},{"$f":"IF(ISERROR(INDEX(SquadPosition!N:N,MATCH($B10,SquadPosition!$L:$L,0))),\"\",INDEX(SquadPosition!N:N,MATCH($B10,SquadPosition!$L:$L,0)))","v":15},{"$f":"IF(ISERROR(INDEX(SquadPosition!O:O,MATCH($B10,SquadPosition!$L:$L,0))),\"\",INDEX(SquadPosition!O:O,MATCH($B10,SquadPosition!$L:$L,0)))","v":5},{"$f":"IF(ISERROR(INDEX(SquadPosition!P:P,MATCH($B10,SquadPosition!$L:$L,0))),\"\",INDEX(SquadPosition!P:P,MATCH($B10,SquadPosition!$L:$L,0)))","v":8}]
["MS","Mo Sudell","Locomotive Leighpzig",50,21.4,{"$f":"IF(SquadPosition!$M$3=\"OK\",AA11,\"\")","v":2},{"$f":"IF(SquadPosition!$N$3=\"OK\",AB11,\"\")","v":""},{"$f":"IF(SquadPosition!$O$3=\"OK\",AC11,\"\")","v":5},{"$f":"IF(SquadPosition!$P$3=\"OK\",AD11,\"\")","v":6},13,0,0.6,10.1,11.3,6.6,null,null,null,null,21.4,null,{"$f":"IF(ISERROR(INDEX(Spending!B:B,MATCH(B11,Spending!A:A,0))),0,INDEX(Spending!B:B,MATCH(B11,Spending!A:A,0)))","v":6.6},null,"Mo Sudell",6.6,null,{"$f":"IF(ISERROR(INDEX(SquadPosition!M:M,MATCH($B11,SquadPosition!$L:$L,0))),\"\",INDEX(SquadPosition!M:M,MATCH($B11,SquadPosition!$L:$L,0)))","v":2},{"$f":"IF(ISERROR(INDEX(SquadPosition!N:N,MATCH($B11,SquadPosition!$L:$L,0))),\"\",INDEX(SquadPosition!N:N,MATCH($B11,SquadPosition!$L:$L,0)))","v":13},{"$f":"IF(ISERROR(INDEX(SquadPosition!O:O,MATCH($B11,SquadPosition!$L:$L,0))),\"\",INDEX(SquadPosition!O:O,MATCH($B11,SquadPosition!$L:$L,0)))","v":5},{"$f":"IF(ISERROR(INDEX(SquadPosition!P:P,MATCH($B11,SquadPosition!$L:$L,0))),\"\",INDEX(SquadPosition!P:P,MATCH($B11,SquadPosition!$L:$L,0)))","v":6}]
["NH","Nigel Heyes","Real Madridicule United",50,1.5,{"$f":"IF(SquadPosition!$M$3=\"OK\",AA12,\"\")","v":2},{"$f":"IF(SquadPosition!$N$3=\"OK\",AB12,\"\")","v":""},{"$f":"IF(SquadPosition!$O$3=\"OK\",AC12,\"\")","v":3},{"$f":"IF(SquadPosition!$P$3=\"OK\",AD12,\"\")","v":6},11,1.6,0,45.8,0.2,0.89999999999999991,null,null,null,null,1.5,null,{"$f":"IF(ISERROR(INDEX(Spending!B:B,MATCH(B12,Spending!A:A,0))),0,INDEX(Spending!B:B,MATCH(B12,Spending!A:A,0)))","v":0.89999999999999991},null,"Nigel Heyes",0.89999999999999991,null,{"$f":"IF(ISERROR(INDEX(SquadPosition!M:M,MATCH($B12,SquadPosition!$L:$L,0))),\"\",INDEX(SquadPosition!M:M,MATCH($B12,SquadPosition!$L:$L,0)))","v":2},{"$f":"IF(ISERROR(INDEX(SquadPosition!N:N,MATCH($B12,SquadPosition!$L:$L,0))),\"\",INDEX(SquadPosition!N:N,MATCH($B12,SquadPosition!$L:$L,0)))","v":11},{"$f":"IF(ISERROR(INDEX(SquadPosition!O:O,MATCH($B12,SquadPosition!$L:$L,0))),\"\",INDEX(SquadPosition!O:O,MATCH($B12,SquadPosition!$L:$L,0)))","v":3},{"$f":"IF(ISERROR(INDEX(SquadPosition!P:P,MATCH($B12,SquadPosition!$L:$L,0))),\"\",INDEX(SquadPosition!P:P,MATCH($B12,SquadPosition!$L:$L,0)))","v":6}]
["NHU","Nigel Hughes","Atletico Standish",50,11.399999999999999,{"$f":"IF(SquadPosition!$M$3=\"OK\",AA13,\"\")","v":2},{"$f":"IF(SquadPosition!$N$3=\"OK\",AB13,\"\")","v":""},{"$f":"IF(SquadPosition!$O$3=\"OK\",AC13,\"\")","v":1},{"$f":"IF(SquadPosition!$P$3=\"OK\",AD13,\"\")","v":12},15,0,0.3,37,0.6,0.7,null,null,null,null,11.399999999999999,null,{"$f":"IF(ISERROR(INDEX(Spending!B:B,MATCH(B13,Spending!A:A,0))),0,INDEX(Spending!B:B,MATCH(B13,Spending!A:A,0)))","v":0.7},null,"Nigel Hughes",0.7,null,{"$f":"IF(ISERROR(INDEX(SquadPosition!M:M,MATCH($B13,SquadPosition!$L:$L,0))),\"\",INDEX(SquadPosition!M:M,MATCH($B13,SquadPosition!$L:$L,0)))","v":2},{"$f":"IF(ISERROR(INDEX(SquadPosition!N:N,MATCH($B13,SquadPosition!$L:$L,0))),\"\",INDEX(SquadPosition!N:N,MATCH($B13,SquadPosition!$L:$L,0)))","v":15},{"$f":"IF(ISERROR(INDEX(SquadPosition!O:O,MATCH($B13,SquadPosition!$L:$L,0))),\"\",INDEX(SquadPosition!O:O,MATCH($B13,SquadPosition!$L:$L,0)))","v":1},{"$f":"IF(ISERROR(INDEX(SquadPosition!P:P,MATCH($B13,SquadPosition!$L:$L,0))),\"\",INDEX(SquadPosition!P:P,MATCH($B13,SquadPosition!$L:$L,0)))","v":12}]
["PFA","Paul Fairhurst","Earby Blues",50,5.7000000000000028,{"$f":"IF(SquadPosition!$M$3=\"OK\",AA14,\"\")","v":2},{"$f":"IF(SquadPosition!$N$3=\"OK\",AB14,\"\")","v":""},{"$f":"IF(SquadPosition!$O$3=\"OK\",AC14,\"\")","v":4},{"$f":"IF(SquadPosition!$P$3=\"OK\",AD14,\"\")","v":7},13,4.9000000000000004,0,35.200000000000003,0.9,3.3000000000000003,null,null,null,null,5.7000000000000028,null,{"$f":"IF(ISERROR(INDEX(Spending!B:B,MATCH(B14,Spending!A:A,0))),0,INDEX(Spending!B:B,MATCH(B14,Spending!A:A,0)))","v":3.3000000000000003},null,"Paul Fairhurst",3.3000000000000003,null,{"$f":"IF(ISERROR(INDEX(SquadPosition!M:M,MATCH($B14,SquadPosition!$L:$L,0))),\"\",INDEX(SquadPosition!M:M,MATCH($B14,SquadPosition!$L:$L,0)))","v":2},{"$f":"IF(ISERROR(INDEX(SquadPosition!N:N,MATCH($B14,SquadPosition!$L:$L,0))),\"\",INDEX(SquadPosition!N:N,MATCH($B14,SquadPosition!$L:$L,0)))","v":13},{"$f":"IF(ISERROR(INDEX(SquadPosition!O:O,MATCH($B14,SquadPosition!$L:$L,0))),\"\",INDEX(SquadPosition!O:O,MATCH($B14,SquadPosition!$L:$L,0)))","v":4},{"$f":"IF(ISERROR(INDEX(SquadPosition!P:P,MATCH($B14,SquadPosition!$L:$L,0))),\"\",INDEX(SquadPosition!P:P,MATCH($B14,SquadPosition!$L:$L,0)))","v":7}]
["SW","Steve Waterhouse","20Legend",50,9.7999999999999972,{"$f":"IF(SquadPosition!$M$3=\"OK\",AA15,\"\")","v":2},{"$f":"IF(SquadPosition!$N$3=\"OK\",AB15,\"\")","v":""},{"$f":"IF(SquadPosition!$O$3=\"OK\",AC15,\"\")","v":3},{"$f":"IF(SquadPosition!$P$3=\"OK\",AD15,\"\")","v":9},14,0.6,0,22.4,12.499999999999998,4.7,null,null,null,null,9.7999999999999972,null,{"$f":"IF(ISERROR(INDEX(Spending!B:B,MATCH(B15,Spending!A:A,0))),0,INDEX(Spending!B:B,MATCH(B15,Spending!A:A,0)))","v":4.7},null,"Steve Waterhouse",4.7,null,{"$f":"IF(ISERROR(INDEX(SquadPosition!M:M,MATCH($B15,SquadPosition!$L:$L,0))),\"\",INDEX(SquadPosition!M:M,MATCH($B15,SquadPosition!$L:$L,0)))","v":2},{"$f":"IF(ISERROR(INDEX(SquadPosition!N:N,MATCH($B15,SquadPosition!$L:$L,0))),\"\",INDEX(SquadPosition!N:N,MATCH($B15,SquadPosition!$L:$L,0)))","v":14},{"$f":"IF(ISERROR(INDEX(SquadPosition!O:O,MATCH($B15,SquadPosition!$L:$L,0))),\"\",INDEX(SquadPosition!O:O,MATCH($B15,SquadPosition!$L:$L,0)))","v":3},{"$f":"IF(ISERROR(INDEX(SquadPosition!P:P,MATCH($B15,SquadPosition!$L:$L,0))),\"\",INDEX(SquadPosition!P:P,MATCH($B15,SquadPosition!$L:$L,0)))","v":9}]
["PG","Paul Greenwood","Paul Greenwood's Amateur Hour",50,50,{"$f":"IF(SquadPosition!$M$3=\"OK\",AA16,\"\")","v":""},{"$f":"IF(SquadPosition!$N$3=\"OK\",AB16,\"\")","v":""},{"$f":"IF(SquadPosition!$O$3=\"OK\",AC16,\"\")","v":""},{"$f":"IF(SquadPosition!$P$3=\"OK\",AD16,\"\")","v":""},0,0,0,0,0,0,null,null,null,null,50,null,{"$f":"IF(ISERROR(INDEX(Spending!B:B,MATCH(B16,Spending!A:A,0))),0,INDEX(Spending!B:B,MATCH(B16,Spending!A:A,0)))","v":0},null,"Paul Greenwood","",null,{"$f":"IF(ISERROR(INDEX(SquadPosition!M:M,MATCH($B16,SquadPosition!$L:$L,0))),\"\",INDEX(SquadPosition!M:M,MATCH($B16,SquadPosition!$L:$L,0)))","v":""},{"$f":"IF(ISERROR(INDEX(SquadPosition!N:N,MATCH($B16,SquadPosition!$L:$L,0))),\"\",INDEX(SquadPosition!N:N,MATCH($B16,SquadPosition!$L:$L,0)))","v":""},{"$f":"IF(ISERROR(INDEX(SquadPosition!O:O,MATCH($B16,SquadPosition!$L:$L,0))),\"\",INDEX(SquadPosition!O:O,MATCH($B16,SquadPosition!$L:$L,0)))","v":""},{"$f":"IF(ISERROR(INDEX(SquadPosition!P:P,MATCH($B16,SquadPosition!$L:$L,0))),\"\",INDEX(SquadPosition!P:P,MATCH($B16,SquadPosition!$L:$L,0)))","v":""}]
["LG","Luke Greenwood","Luke Greenwood's Amateur Hour",50,50,{"$f":"IF(SquadPosition!$M$3=\"OK\",AA17,\"\")","v":""},{"$f":"IF(SquadPosition!$N$3=\"OK\",AB17,\"\")","v":""},{"$f":"IF(SquadPosition!$O$3=\"OK\",AC17,\"\")","v":""},{"$f":"IF(SquadPosition!$P$3=\"OK\",AD17,\"\")","v":""},0,0,0,0,0,0,null,null,null,null,50,null,{"$f":"IF(ISERROR(INDEX(Spending!B:B,MATCH(B17,Spending!A:A,0))),0,INDEX(Spending!B:B,MATCH(B17,Spending!A:A,0)))","v":0},null,"Luke Greenwood","",null,{"$f":"IF(ISERROR(INDEX(SquadPosition!M:M,MATCH($B17,SquadPosition!$L:$L,0))),\"\",INDEX(SquadPosition!M:M,MATCH($B17,SquadPosition!$L:$L,0)))","v":""},{"$f":"IF(ISERROR(INDEX(SquadPosition!N:N,MATCH($B17,SquadPosition!$L:$L,0))),\"\",INDEX(SquadPosition!N:N,MATCH($B17,SquadPosition!$L:$L,0)))","v":""},{"$f":"IF(ISERROR(INDEX(SquadPosition!O:O,MATCH($B17,SquadPosition!$L:$L,0))),\"\",INDEX(SquadPosition!O:O,MATCH($B17,SquadPosition!$L:$L,0)))","v":""},{"$f":"IF(ISERROR(INDEX(SquadPosition!P:P,MATCH($B17,SquadPosition!$L:$L,0))),\"\",INDEX(SquadPosition!P:P,MATCH($B17,SquadPosition!$L:$L,0)))","v":""}]
["V3","Vacancy #3",null,50,50,{"$f":"IF(SquadPosition!$M$3=\"OK\",AA18,\"\")","v":""},{"$f":"IF(SquadPosition!$N$3=\"OK\",AB18,\"\")","v":""},{"$f":"IF(SquadPosition!$O$3=\"OK\",AC18,\"\")","v":""},{"$f":"IF(SquadPosition!$P$3=\"OK\",AD18,\"\")","v":""},0,0,0,0,0,0,null,null,null,null,50,null,{"$f":"IF(ISERROR(INDEX(Spending!B:B,MATCH(B18,Spending!A:A,0))),0,INDEX(Spending!B:B,MATCH(B18,Spending!A:A,0)))","v":0},null,"Vacancy #3","",null,{"$f":"IF(ISERROR(INDEX(SquadPosition!M:M,MATCH($B18,SquadPosition!$L:$L,0))),\"\",INDEX(SquadPosition!M:M,MATCH($B18,SquadPosition!$L:$L,0)))","v":""},{"$f":"IF(ISERROR(INDEX(SquadPosition!N:N,MATCH($B18,SquadPosition!$L:$L,0))),\"\",INDEX(SquadPosition!N:N,MATCH($B18,SquadPosition!$L:$L,0)))","v":""},{"$f":"IF(ISERROR(INDEX(SquadPosition!O:O,MATCH($B18,SquadPosition!$L:$L,0))),\"\",INDEX(SquadPosition!O:O,MATCH($B18,SquadPosition!$L:$L,0)))","v":""},{"$f":"IF(ISERROR(INDEX(SquadPosition!P:P,MATCH($B18,SquadPosition!$L:$L,0))),\"\",INDEX(SquadPosition!P:P,MATCH($B18,SquadPosition!$L:$L,0)))","v":""}]

{"sheet":"Defenders","index":2,"n_rows":47,"n_cols":10,"rows_kept":47,"cut":false,"hidden":false,"merged":[]}
["Team","GK Signed","Def Signed","GK Available","Def Available",null,null,"From DLC Pool Pivot ↓ (admin only)"]
[null,null,null,{"$f":"IF(1-B2=0,\"\",1-B2)","v":1},{"$f":"IF(5-C2=0,\"\",5-C2)","v":5},null,null,"Arsenal",3,1]
[null,null,null,{"$f":"IF(1-B3=0,\"\",1-B3)","v":1},{"$f":"IF(5-C3=0,\"\",5-C3)","v":5},null,null,"Aston Villa",2,2]
[null,null,null,1,5,null,null,"Barnsley",1]
[null,null,null,1,5,null,null,"Birmingham City",2]
[null,null,null,1,5,null,null,"Blackburn Rovers",2,1]
[null,null,null,1,5,null,null,"Bournemouth",2,2]
[null,null,null,1,5,null,null,"Brentford",4]
[null,null,null,1,5,null,null,"Brighton & Hove Albion",2,1]
[null,null,null,1,5,null,null,"Bristol City",4,1]
[null,null,null,1,5,null,null,"Burnley",4]
[null,null,null,1,5,null,null,"Cardiff City",2,3]
[null,null,null,1,5,null,null,"Charlton Athletic",2]
[null,null,null,1,5,null,null,"Chelsea",3,5]
[null,null,null,1,5,null,null,"Crystal Palace",3,3]
[null,null,null,1,5,null,null,"Derby County",3]
[null,null,null,1,5,null,null,"Everton",4,1]
[null,null,null,1,5,null,null,"Fiorentina",1]
[null,null,null,1,5,null,null,"Fulham",4,2]
[null,null,null,1,5,null,null,"Huddersfield Town",2]
[null,null,null,1,5,null,null,"Hull City",2]
[null,null,null,1,5,null,null,"Inter Milan",1]
[null,null,null,1,5,null,null,"Leeds United",3,2]
[null,null,null,1,5,null,null,"Leicester City",2,3]
[null,null,null,1,5,null,null,"Liverpool",3,2]
[null,null,null,1,5,null,null,"Luton Town",3]
[null,null,null,1,5,null,null,"Manchester City",5,4]
[null,null,null,1,5,null,null,"Manchester United",3,2]
[null,null,null,1,5,null,null,"Middlesbrough",2,1]
[null,null,null,1,5,null,null,"Millwall",2,1]
[null,null,null,1,5,null,null,"Newcastle United",2,1]
[null,null,null,1,5,null,null,"Norwich City",1,1]
[null,null,null,1,5,null,null,"Nottingham Forest",2,3]
[null,null,null,1,5,null,null,"Preston North End",4,2]
[null,null,null,1,5,null,null,"Queens Park Rangers",2]
[null,null,null,1,5,null,null,"Reading",3,2]
[null,null,null,1,5,null,null,"Sheffield United",2]
[null,null,null,1,5,null,null,"Sheffield Wednesday",2,1]
[null,null,null,1,5,null,null,"Southampton",2,2]
[null,null,null,1,5,null,null,"Stoke City",3]
[null,null,null,1,5,null,null,"Swansea City",null,4]
[null,null,null,1,5,null,null,"Tottenham Hotspur",3,3]
[null,null,null,1,5,null,null,"Watford",4,2]
[null,null,null,1,5,null,null,"West Bromwich Albion",4,2]
[null,null,null,1,5,null,null,"West Ham United",4,3]
[null,null,null,null,null,null,null,"Wigan Athletic",2,2]
[null,null,null,null,null,null,null,"Wolverhampton Wanderers",1,4]

{"sheet":"Players","index":3,"n_rows":481,"n_cols":9,"rows_kept":481,"cut":false,"hidden":false,"merged":[]}
["Sort ↕","Cat","Ref","Pos","Player","Team","Owner","Bid","Release"]
["D","A",4159,"FWD","Mesut Ozil","Arsenal"]
["D","B",5600,"FWD","Nicolas Pepe","Arsenal"]
["D","D",5731,"FWD","Bukayo Saka","Arsenal"]
["D","D",5698,"FWD","Reiss Nelson","Arsenal"]
["C","A",5859,"MID","Thomas Partey","Arsenal"]
["C","D",4832,"MID","Ainsley Maitland-Niles","Arsenal"]
["C","D",5705,"MID","Gabriel Martinelli","Arsenal"]
["C","D",4927,"MID","Granit Xhaka","Arsenal"]
["C","D",5488,"MID","Joe Willock","Arsenal"]
["C","D",4863,"MID","Mohamed Elneny","Arsenal"]
["D","C",5245,"FWD","Mamadou Thiam","Barnsley"]
["D","D",5742,"FWD","Elliot Simoes","Barnsley"]
["D","D",5654,"FWD","Patrick Schmidt","Barnsley"]
["C","D",4414,"MID","Alex Mowatt","Barnsley"]
["C","D",5249,"MID","Cameron McGeehan","Barnsley"]
["C","D",5862,"MID","Herbie Kane","Barnsley"]
["C","D",5753,"MID","Luke Thomas","Barnsley"]
["C","D",2942,"MID","Matty James","Barnsley"]
["C","D",5723,"MID","Mike-Steven Bahre","Barnsley"]
["A","A",5800,"GK","Jack Walton","Barnsley"]
["D","D",4442,"FWD","Jefferson Montero","Birmingham"]
["D","D",5647,"FWD","Jonathan Leko","Birmingham"]
["C","D",3695,"MID","Adam Clayton","Birmingham"]
["C","D",3692,"MID","Craig Gardner","Birmingham"]
["C","D",5743,"MID","Dan Crowley","Birmingham"]
["C","D",4599,"MID","Gary Gardner","Birmingham"]
["C","D",5707,"MID","Ivan Sunjic","Birmingham"]
["C","D",4603,"MID","Jon-Miguel Toral","Birmingham"]
["C","D",5567,"MID","Kerim Mrabti","Birmingham"]
["C","D",5126,"MID","Maikel Kieftenbeld","Birmingham"]
["C","D",5711,"MID","Odin Bailey","Birmingham"]
["D","C",4956,"FWD","Sam Gallagher","Blackburn"]
["D","C",4161,"FWD","Stewart Downing","Blackburn"]
["D","D",5073,"FWD","Dominic Samuel","Blackburn"]
["C","D",5516,"MID","Brad Lyons","Blackburn"]
["C","D",3988,"MID","Corry Evans","Blackburn"]
["C","D",5863,"MID","Harvey Elliott","Blackburn"]
["C","D",5562,"MID","Joe Rothwell","Blackburn"]
["C","D",3697,"MID","Lewis Holtby","Blackburn"]
["C","D",4762,"MID","Sacha Petshi","Blackburn"]
["C","D",5297,"MID","Tom Trybull","Blackburn"]
["D","D",3970,"FWD","Andrew Surman","Bournemouth"]
["D","D",5700,"FWD","Sam Surridge","Bournemouth"]
["C","D",4242,"MID","Dan Gosling","Bournemouth"]
["C","D",4913,"MID","Emerson Hyndman","Bournemouth"]
["C","D",2784,"MID","Junior Stanislas","Bournemouth"]
["C","D",4775,"MID","Lewis Cook","Bournemouth"]
["C","D",5072,"MID","Philip Billing","Bournemouth"]
["C","D",5844,"MID","Rodgrogo Riquelme","Bournemouth"]
["D","C",4849,"FWD","Sergi Canos","Brentford"]
["C","C",5849,"MID","Vitaly Janelt","Brentford"]
["C","D",5606,"MID","Dru Yearwood","Brentford"]
["C","D",5290,"MID","Emiliano Marcondes","Brentford"]
["C","D",5056,"MID","Josh Clarke","Brentford"]
["C","D",4400,"MID","Josh McEachran","Brentford"]
["C","D",5338,"MID","Kamohelo Mokotjo","Brentford"]
["C","D",5619,"MID","Mathias Jensen","Brentford"]
["C","D",4908,"MID","Nico Yennaris","Brentford"]
["A","A",5802,"GK","Luke Daniels","Brentford"]
["D","C",4265,"FWD","Adam Lallana","Brighton"]
["D","D",5712,"FWD","Aaron Connolly","Brighton"]
["D","D",5389,"FWD","Alirera Jahanbakhsh","Brighton"]
["D","D",5194,"FWD","Jose Izquierdo","Brighton"]
["D","D",5333,"FWD","Jurgen Locadia","Brighton"]
["C","D",4639,"MID","Baram Kayal","Brighton"]
["C","D",5166,"MID","Davy Propper","Brighton"]
["C","D",5273,"MID","Pascal Gross","Brighton"]
["C","D",4618,"MID","Solly March","Brighton"]
["C","D",5509,"MID","Yves Bissouma","Brighton"]
["D","C",4350,"FWD","Andreas Weimann","Bristol C"]
["D","D",5734,"FWD","Rodri","Bristol C"]
["C","D",5646,"MID","Adam Nagy","Bristol C"]
["C","D",5259,"MID","Callum O'Dowda","Bristol C"]
["C","D",4097,"MID","Chris Brunt","Bristol C"]
["C","D",5637,"MID","Han-Noah Massengo","Bristol C"]
["C","D",5630,"MID","Joe Williams","Bristol C"]
["C","D",4774,"MID","Josh Brownhill","Bristol C"]
["C","D",5269,"MID","Korey Smith","Bristol C"]
["C","D",5052,"MID","Marcus Henriksen","Bristol C"]
["C","D",1960,"MID","Tommy Rowe","Bristol C"]
["C","D",5868,"MID","Tyreeq Bakinson","Bristol C"]
["A","A",4998,"GK","Dan Bentley","Bristol C"]
["D","A",3728,"FWD","Ashley Barnes","Burnley"]
["D","B",5504,"FWD","Dwight McNeil","Burnley"]
["D","B",3618,"FWD","Jay Rodriguez","Burnley"]
["D","B",4260,"FWD","Matej Vydra","Burnley"]
["D","D",3580,"FWD","Aaron Lennon","Burnley"]
["C","D",2582,"MID","Dale Stephens","Burnley"]
["C","D",2632,"MID","Jack Cork","Burnley"]
["C","D",4584,"MID","Johann Berg Gudmundsson","Burnley"]
["C","D",4234,"MID","Robbie Brady","Burnley"]
["C","D",4952,"MID","Steven Defour","Burnley"]
["D","B",5336,"FWD","Harry Wilson","Cardiff"]
["D","B",5244,"FWD","Isaac Vassell","Cardiff"]
["D","B",5629,"FWD","Robert Glatzel","Cardiff"]
["D","C",3467,"FWD","Junior Hoilett","Cardiff"]
["D","D",5752,"FWD","Gavin Whyte","Cardiff"]
["D","D",3488,"FWD","Josh Murphy","Cardiff"]
["D","D",3668,"FWD","Lee Tomlin","Cardiff"]
["D","D",5205,"FWD","Nathaniel Mendez-Laing","Cardiff"]
["C","A",5473,"MID","Will Vaulks","Cardiff"]
["C","D",4236,"MID","Jamie Ward","Cardiff"]
["C","D",3832,"MID","Leandro Bacuna","Cardiff"]
["C","D",4898,"MID","Marlon Pack","Cardiff"]
["C","D",2265,"MID","Stuart O'Keefe","Cardiff"]
["D","A",4149,"FWD","Olivier Giroud","Chelsea"]
["D","B",4758,"FWD","Pedro","Chelsea"]
["D","C",5487,"FWD","Callum Hudson-Odoi","Chelsea"]
["C","D",5234,"MID","Charly Musanda","Chelsea"]
["C","D",5904,"MID","Hakim Ziyech","Chelsea"]
["C","D",3132,"MID","Marcus Alonso","Chelsea"]
["C","D",5439,"MID","Mateo Kovacic","Chelsea"]
["C","D",4743,"MID","N'Gole Kante","Chelsea"]
["A","A",5796,"GK","Edouard Mendy","Chelsea"]
["D","D",4780,"FWD","Tyler Walker","Coventry"]
["A","A",5803,"GK","Marko Marosi","Coventry"]
["D","A",4541,"FWD","Tom Lawrence","Derby"]
["D","D",4086,"FWD","Wayne Rooney","Derby"]
["C","D",4015,"MID","Colin Kazim-Richards","Derby"]
["C","D",5527,"MID","Duane Holmes","Derby"]
["C","D",5059,"MID","George Evans","Derby"]
["C","D",5716,"MID","Graeme Shinnie","Derby"]
["C","D",3953,"MID","Ikechi Anya","Derby"]
["C","D",5739,"MID","Jason Knight","Derby"]
["C","D",5834,"MID","Kamil Jozwiak","Derby"]
["C","D",5790,"MID","Louie Sibley","Derby"]
["C","D",4004,"MID","Tom Huddlestone","Derby"]
["A","A",3612,"GK","David Marshall","Derby"]
["D","A",4902,"FWD","Alex Iwobi","Everton"]
["D","D",4887,"FWD","Oumar Niasse","Everton"]
["C","A",5128,"MID","Abdoulaye Doucoure","Everton"]
["C","A",5823,"MID","Allan","Everton"]
["C","B",5247,"MID","Kieran Dowell","Everton"]
["C","C",5431,"MID","Andre Gomes","Everton"]
["C","D",5435,"MID","Bernard","Everton"]
["C","D",2974,"MID","Fabien Delph","Everton"]
["C","D",5634,"MID","Jean-Philippe Gbamin","Everton"]
["C","D",5094,"MID","Tom Davies","Everton"]
["D","A",4319,"FWD","Anthony Knockaert","Forest"]
["D","A",4477,"FWD","Joe Lolley","Forest"]
["D","C",2144,"FWD","Harry Arter","Forest"]
["D","D",5246,"FWD","Jason Cummings","Forest"]
["D","D",5767,"FWD","Joia Nuno Da Costa","Forest"]
["D","D",5694,"FWD","Lyle Taylor","Forest"]
["D","D",5820,"FWD","Miguel Angel Guerrero","Forest"]
["D","D",5299,"FWD","Rafa Mir","Forest"]
["C","D",3456,"MID","Adlene Guedioura","Forest"]
["C","D",5854,"MID","Cafu","Forest"]
["C","D",5235,"MID","Claudio Yacob","Forest"]
["C","D",5812,"MID","Fouad Bachirou","Forest"]
["C","D",3122,"MID","Jack Colback","Forest"]
["C","D",4836,"MID","Luke Freeman","Forest"]
["C","D",5457,"MID","Panagiotis Tachtsidis","Forest"]
["C","D",5545,"MID","Ryan Yates","Forest"]
["D","A",4726,"FWD","Aleksandar Mitrovic","Fulham"]
["D","B",4977,"FWD","Bobby Reid","Fulham"]
["D","C",5024,"FWD","Ivan Cavaleiro","Fulham"]
["C","B",4256,"MID","Tom Cairney","Fulham"]
["C","D",5455,"MID","Harrison Reed","Fulham"]
["C","D",5145,"MID","Ibrahima Cisse","Fulham"]
["C","D",5051,"MID","Josh Onomah","Fulham"]
["C","D",4005,"MID","Kevin McDonald","Fulham"]
["C","D",5459,"MID","Lucca De La Torre","Fulham"]
["C","D",5167,"MID","Mario Lemina","Fulham"]
["C","D",5013,"MID","Neeskens Kebano","Fulham"]
["C","D",4905,"MID","Ruben Loftus-Cheek","Fulham"]
["A","A",5797,"GK","Alphonse Areola","Fulham"]
["D","D",2684,"FWD","Danny Ward","Huddersfield"]
["C","D",4572,"MID","Alex Pritchard","Huddersfield"]
["C","D",3859,"MID","Danny Williams","Huddersfield"]
["C","D",5467,"MID","Emile Smith-Rowe","Huddersfield"]
["C","D",4991,"MID","Jonathan Hogg","Huddersfield"]
["C","D",5554,"MID","Juninho Bacuna","Huddersfield"]
["C","D",5730,"MID","Matthew Daly","Huddersfield"]
["A","A",2733,"GK","Ben Hamer","Huddersfield"]
["D","A",3566,"FWD","Pablo Hernandez","Leeds"]
["D","A",5857,"FWD","Raphinha","Leeds"]
["D","A",5816,"FWD","Rodrigo","Leeds"]
["D","C",5443,"FWD","Mat Klich","Leeds"]
["D","D",5696,"FWD","Joe Gelhardt","Leeds"]
["D","D",5326,"FWD","Tyler Roberts","Leeds"]
["C","A",4926,"MID","Helder Costa","Leeds"]
["C","B",5265,"MID","Ezgjan Alioski","Leeds"]
["C","C",4502,"MID","Stuart Dallas","Leeds"]
["C","D",4500,"MID","Adam Forshaw","Leeds"]
["C","D",3463,"MID","Eunan O'Kane","Leeds"]
["C","D",3520,"MID","Vurnon Anita","Leeds"]
["D","C",4608,"FWD","Demarai Gray","Leicester"]
["D","C",4850,"FWD","Kelechi Iheanacho","Leicester"]
["D","D",5318,"FWD","Fousseni Diabate","Leicester"]
["C","D",5289,"MID","Adrien Silva","Leicester"]
["C","D",5837,"MID","Cenzig Under","Leicester"]
["C","D",4892,"MID","Daniel Amartey","Leicester"]
["C","D",5645,"MID","Dennis Praet","Leicester"]
["C","D",4136,"MID","Marc Albrighton","Leicester"]
["C","D",4947,"MID","Nampalys Mendy","Leicester"]
["C","D",5090,"MID","Onyinye Ndidi","Leicester"]
["D","D",5740,"FWD","Takumi Minamino","Liverpool"]
["C","A",5835,"MID","Thiago","Liverpool"]
["C","C",3727,"MID","Alex Oxlade-Chamberlain","Liverpool"]
["C","D",5754,"MID","Curtis Jones","Liverpool"]
["C","D",5428,"MID","Fabinho","Liverpool"]
["C","D",4717,"MID","Georginio Wijnaldum","Liverpool"]
["C","D",3592,"MID","James Milner","Liverpool"]
["C","D",2826,"MID","Jordan Henderson","Liverpool"]
["C","D",5558,"MID","Naby Keita","Liverpool"]
["C","D",4748,"MID","Xherdan Shaqiri","Liverpool"]
["A","A",5366,"GK","Alisson","Liverpool"]
["D","D",4718,"FWD","Elliiot Lee","Luton"]
["D","D",5693,"FWD","Harry Cornick","Luton"]
["C","D",5728,"MID","George Moncur","Luton"]
["C","D",4063,"MID","Jacob Butterfield","Luton"]
["C","D",4609,"MID","Jorge Grant","Luton"]
["C","D",4367,"MID","Kazenga Lua-Lua","Luton"]
["C","D",5655,"MID","Luke Bolton","Luton"]
["C","D",3287,"MID","Luke Guttridge","Luton"]
["C","D",3493,"MID","Nathan Doyle","Luton"]
["C","D",5714,"MID","Pelly Ruddock","Luton"]
["C","D",4484,"MID","Ryan Hall","Luton"]
["C","D",4589,"MID","Ryan Tunnicliffe","Luton"]
["A","A",5621,"GK","Simon Sluga","Luton"]
["C","A",5174,"MID","Bernardo Silva","Man C"]
["C","C",4936,"MID","Ilkay Gundogan","Man C"]
["C","D",5162,"MID","Benjamin Mendy","Man C"]
["C","D",5440,"MID","Daniel Arzani","Man C"]
["C","D",5596,"MID","Rodri","Man C"]
["D","A",5818,"FWD","Donny van de Beek","Man U"]
["D","B",5335,"FWD","Dan James","Man U"]
["D","C",4357,"FWD","Jesse Lingard","Man U"]
["D","D",4549,"FWD","Odion Ighalo","Man U"]
["C","A",4957,"MID","Paul Pogba","Man U"]
["C","C",4405,"MID","Nemanja Matic","Man U"]
["C","D",4828,"MID","Andreas Pereira","Man U"]
["C","D",5860,"MID","Facundo Pellistri","Man U"]
["C","D",5414,"MID","Fred","Man U"]
["C","D",4275,"MID","Juan Mata","Man U"]
["C","D",5557,"MID","Scott McTominay","Man U"]
["A","A",4141,"GK","David De Gea","Man U"]
["D","C",5076,"FWD","Ashley Fletcher","Middlesbro"]
["D","D",5751,"FWD","Patrick Roberts","Middlesbro"]
["D","D",2707,"FWD","Rudy Gestede","Middlesbro"]
["C","D",4910,"MID","George Saville","Middlesbro"]
["C","D",4111,"MID","Jonathon Howson","Middlesbro"]
["C","D",5480,"MID","Lewis Wing","Middlesbro"]
["C","D",3785,"MID","Ravel Morrison","Middlesbro"]
["C","D",4880,"MID","Sam Morsy","Middlesbro"]
["D","B",3830,"FWD","Matt Smith","Millwall"]
["D","C",4988,"FWD","Jon Dadi Bodvarsson","Millwall"]
["D","C",5807,"FWD","Troy Parrott","Millwall"]
["D","D",4659,"FWD","Aiden O'Brien","Millwall"]
["D","D",5046,"FWD","Tom Bradshaw","Millwall"]
["C","D",5546,"MID","Ben Thompson","Millwall"]
["C","D",5476,"MID","Connor Mahoney","Millwall"]
["C","D",4888,"MID","Jiri Skalak","Millwall"]
["C","D",5281,"MID","Mahlon Romeo","Millwall"]
["C","D",5484,"MID","Ryan Leonard","Millwall"]
["C","D",4920,"MID","Ryan Woods","Millwall"]
["C","D",3956,"MID","Shane Ferguson","Millwall"]
["C","D",4486,"MID","Shaun Williams","Millwall"]
["A","A",4999,"GK","Bartosz Bialkowski","Millwall"]
["D","A",5598,"FWD","Joelinton","Newcastle"]
["D","B",5536,"FWD","Miguel Almiron","Newcastle"]
["D","C",5602,"FWD","Allan Saint-Maximin","Newcastle"]
["D","D",4168,"FWD","Andy Carroll","Newcastle"]
["D","D",4075,"FWD","Christian Atsu","Newcastle"]
["D","D",5385,"FWD","Yoshinori Muto","Newcastle"]
["C","A",3899,"MID","Jonjo Shelvey","Newcastle"]
["C","A",3672,"MID","Matt Ritchie","Newcastle"]
["C","C",1963,"MID","Jeff Hendrick","Newcastle"]
["C","C",3660,"MID","Ryan Fraser","Newcastle"]
["C","D",5520,"MID","Callum Roberts","Newcastle"]
["C","D",5250,"MID","Isaac Hayden","Newcastle"]
["C","D",5713,"MID","Matty Longstaff","Newcastle"]
["C","D",4614,"MID","Nabil Bentaleb","Newcastle"]
["C","D",5522,"MID","Sean Longstaff","Newcastle"]
["C","D",5763,"MID","Valentino Lazaro","Newcastle"]
["D","C",4150,"FWD","Jordan Rhodes","Norwich"]
["D","D",5316,"FWD","Dennis Srbeny","Norwich"]
["D","D",5584,"FWD","Josip Drmic","Norwich"]
["C","C",5280,"MID","Marco Steipermann","Norwich"]
["C","D",5612,"MID","Aidan Fitzpatrick","Norwich"]
["C","D",3539,"MID","Alexander Tettey","Norwich"]
["C","D",5580,"MID","Daniel Adshead","Norwich"]
["C","D",5608,"MID","Ibrahim Amadou","Norwich"]
["C","D",5794,"MID","Jacob Lungi Sorenson","Norwich"]
["C","D",5547,"MID","Kenny McLean","Norwich"]
["C","D",5315,"MID","Moritz Leitner","Norwich"]
["C","D",5811,"MID","Oliver Skipp","Norwich"]
["C","D",5761,"MID","Ondrej Duda","Norwich"]
["C","D",5314,"MID","Onel Hernandez","Norwich"]
["D","A",4152,"FWD","Christian Benteke","Palace"]
["D","B",3769,"FWD","Andros Townsend","Palace"]
["D","B",4737,"FWD","Jordan Ayew","Palace"]
["D","C",5350,"FWD","Eberechi Eze","Palace"]
["D","D",5292,"FWD","Cenk Tosun","Palace"]
["D","D",4587,"FWD","Sullay Kaikai","Palace"]
["C","B",5262,"MID","Luka Phillips","Palace"]
["C","D",4616,"MID","Chiekhou Kouyate","Palace"]
["C","D",3131,"MID","James McArthur","Palace"]
["C","D",4364,"MID","James McCarthy","Palace"]
["C","D",2799,"MID","Jeffrey Schlupp","Palace"]
["C","D",3195,"MID","Jordan Mutch","Palace"]
["C","D",5384,"MID","Max Meyer","Palace"]
["C","D",5437,"MID","Victor Camarasa","Palace"]
["D","A",5508,"FWD","Jayden Stockley","Preston"]
["D","B",5227,"FWD","Sean Maguire","Preston"]
["D","C",4094,"FWD","David Nugent","Preston"]
["D","D",5332,"FWD","Billy Bodin","Preston"]
["D","D",5845,"FWD","Emil Ris Jakobsen","Preston"]
["D","D",5291,"FWD","Louis Moult","Preston"]
["D","D",3579,"FWD","Paul Gallagher","Preston"]
["C","D",4869,"MID","Ben Pearson","Preston"]
["C","D",5529,"MID","Brad Potts","Preston"]
["C","D",4848,"MID","Brandon Barker","Preston"]
["C","D",5226,"MID","Josh Harrop","Preston"]
["A","A",5177,"GK","Declan Rudd","Preston"]
["D","D",5303,"FWD","Aramide Oteh","QPR"]
["D","D",5650,"FWD","Chris Willock","QPR"]
["D","D",5500,"FWD","Jack Clarke","QPR"]
["C","A",4197,"MID","Albert Adomah","QPR"]
["C","D",5541,"MID","Bright Osavi-Samuel","QPR"]
["C","D",5795,"MID","George Thomas","QPR"]
["C","D",5083,"MID","Josh Scowen","QPR"]
["C","D",5733,"MID","Luke Amos","QPR"]
["C","D",2142,"MID","Marc Pugh","QPR"]
["C","D",5298,"MID","Paul Smyth","QPR"]
["C","D",5028,"MID","Pawal Wszolek","QPR"]
["C","D",4069,"MID","Tom Carroll","QPR"]
["A","A",5375,"GK","Joe Lumley","QPR"]
["D","D",5568,"FWD","Danny Loader","Reading"]
["D","D",5704,"FWD","Lucas Boye","Reading"]
["D","D",5353,"FWD","Sam Smith","Reading"]
["D","D",3661,"FWD","Sone Aluko","Reading"]
["C","C",4986,"MID","John Swift","Reading"]
["C","C",5538,"MID","Pele","Reading"]
["C","D",5850,"MID","Alfa Semedo","Reading"]
["C","D",5561,"MID","Andy Rinomhota","Reading"]
["C","D",4613,"MID","Callum Harriott","Reading"]
["C","D",4255,"MID","Charlie Adam","Reading"]
["C","D",2943,"MID","Gareth McCleary","Reading"]
["C","D",5278,"MID","Joey van den Berg","Reading"]
["C","D",5514,"MID","Ovie Ejaria","Reading"]
["D","B",5255,"FWD","Florian Jozefzoon","Rotherham"]
["A","A",5185,"GK","Jamal Blackman","Rotherham"]
["D","C",4233,"FWD","Billy Sharp","Sheff U"]
["D","C",4122,"FWD","Dave McGoldrick","Sheff U"]
["D","D",4929,"FWD","Lys Mousset","Sheff U"]
["D","D",5776,"FWD","Richairo Zivkovic","Sheff U"]
["C","B",4457,"MID","John Lundstram","Sheff U"]
["C","B",3212,"MID","Oliver Norwood","Sheff U"]
["C","D",4654,"MID","Ben Osborn","Sheff U"]
["C","D",3117,"MID","Chris Basham","Sheff U"]
["C","D",5828,"MID","Ethan Ampadu","Sheff U"]
["C","D",3516,"MID","Jack Rodwell","Sheff U"]
["C","D",5239,"MID","John Fleck","Sheff U"]
["C","D",4444,"MID","Muhamed Besic","Sheff U"]
["C","D",5300,"MID","Nathan Thomas","Sheff U"]
["C","D",5274,"MID","Samir Carruthers","Sheff U"]
["C","D",5773,"MID","Sander Berge","Sheff U"]
["D","B",5034,"FWD","Izzy Brown","Sheff W"]
["D","B",5458,"FWD","Jack Marriott","Sheff W"]
["D","C",4979,"FWD","Elias Kachunga","Sheff W"]
["D","C",4388,"FWD","Fernando Forestieri","Sheff W"]
["D","D",3961,"FWD","Atdhe Nuhiu","Sheff W"]
["D","D",4286,"FWD","Connor Wickham","Sheff W"]
["D","D",4712,"FWD","Marco Matias","Sheff W"]
["D","D",4495,"FWD","Moses Odubajo","Sheff W"]
["C","D",5766,"MID","Alessio Da Cruz","Sheff W"]
["C","D",4041,"MID","Barry Bannan","Sheff W"]
["C","D",4579,"MID","Jacob Murphy","Sheff W"]
["C","D",5344,"MID","Joel Pelupessy","Sheff W"]
["C","D",4622,"MID","Kadeem Harris","Sheff W"]
["C","D",3233,"MID","Kieran Lee","Sheff W"]
["C","D",3783,"MID","Massimo Luongo","Sheff W"]
["A","A",5804,"GK","Cameron Dawson","Sheff W"]
["D","D",5499,"FWD","Michael Obafemi","Southampton"]
["D","D",5576,"FWD","Moussa Djenepo","Southampton"]
["D","D",3689,"FWD","Shane Long","Southampton"]
["C","A",4318,"MID","Nathan Redmond","Southampton"]
["C","C",5851,"MID","Ibrahima Diallo","Southampton"]
["C","D",5408,"MID","Mohammed Elyounoussi","Southampton"]
["C","D",3932,"MID","Oriol Romeu","Southampton"]
["C","D",3303,"MID","Steven Davis","Southampton"]
["C","D",5410,"MID","Stuart Armstrong","Southampton"]
["C","D",5746,"MID","Will Smallbone","Southampton"]
["D","A",5848,"FWD","Carlos Vinicius","Spurs"]
["D","A",4785,"FWD","Dele Alli","Spurs"]
["D","B",4355,"FWD","Erik Lamela","Spurs"]
["D","D",5770,"FWD","Steve Bergwijn","Spurs"]
["C","A",5592,"MID","Giovani Lo Celso","Spurs"]
["C","B",4816,"MID","Matt Doherty","Spurs"]
["C","C",5595,"MID","Tanguy Ndombele","Spurs"]
["C","D",4449,"MID","Eric Dier","Spurs"]
["C","D",5758,"MID","Gedson Fernandes","Spurs"]
["C","D",5074,"MID","Harry Winks","Spurs"]
["C","D",4246,"MID","Moussa Dembele","Spurs"]
["C","D",3688,"MID","Moussa Sissoko","Spurs"]
["C","D",4939,"MID","Pierre Hojbjerg","Spurs"]
["D","B",4561,"FWD","Lee Gregory","Stoke"]
["D","B",4108,"FWD","Sam Vokes","Stoke"]
["D","D",5718,"FWD","Jacob Brown","Stoke"]
["D","D",4144,"FWD","Tom Ince","Stoke"]
["C","B",3589,"MID","Joe Allen","Stoke"]
["C","D",5328,"MID","Badou Niaye","Stoke"]
["C","D",3099,"MID","Jon Obi Mikel","Stoke"]
["C","D",2254,"MID","Jordan Cousins","Stoke"]
["C","D",5422,"MID","Oghenekaro Etobo","Stoke"]
["A","A",4996,"GK","Adam Davies","Stoke"]
["D","D",5099,"FWD","Ryan Manning","Swansea"]
["C","A",3096,"MID","Nathan Dyer","Swansea"]
["C","D",5636,"MID","Aldo Kalulu","Swansea"]
["C","D",5141,"MID","Barrie McKay","Swansea"]
["C","D",5726,"MID","George Byers","Swansea"]
["C","D",5543,"MID","George Byers","Swansea"]
["C","D",5465,"MID","Jay Fulton","Swansea"]
["C","D",5788,"MID","Jordan Garrick","Swansea"]
["C","D",4980,"MID","Kasey Palmer","Swansea"]
["C","D",4619,"MID","Matt Grimes","Swansea"]
["C","D",5137,"MID","Roque Mesa","Swansea"]
["C","D",4088,"MID","Wayne Routledge","Swansea"]
["C","D",5709,"MID","Yan Dhanda","Swansea"]
["D","A",4580,"FWD","Jota","Villa"]
["D","B",5623,"FWD","Trezequet","Villa"]
["D","B",5577,"FWD","Wesley","Villa"]
["D","C",5486,"FWD","Anwar El Ghazi","Villa"]
["D","D",4896,"FWD","Bertrand Traore","Villa"]
["D","D",5197,"FWD","Keinan Davis","Villa"]
["C","A",4981,"MID","Connor Hourihane","Villa"]
["C","C",5346,"MID","Matthew Cash","Villa"]
["C","D",5101,"MID","Birkir Bjarnason","Villa"]
["C","D",2874,"MID","Danny Drinkwater","Villa"]
["C","D",5625,"MID","Douglas Luiz","Villa"]
["C","D",4129,"MID","Henri Lansbury","Villa"]
["C","D",5632,"MID","Marvelous Nakamba","Villa"]
["C","D",2683,"MID","Mile Jedinak","Villa"]
["D","B",4503,"FWD","Andre Gray","Watford"]
["D","C",3685,"FWD","Glenn Murray","Watford"]
["D","D",5294,"FWD","Andre Carrillo","Watford"]
["D","D",5826,"FWD","Stipe Perica","Watford"]
["C","D",4012,"MID","Etienne Capoue","Watford"]
["C","D",5760,"MID","Ignacio Pussetto","Watford"]
["C","D",4208,"MID","Nathaniel Chalobah","Watford"]
["C","D",5498,"MID","Quina","Watford"]
["C","D",5748,"MID","Tom Dele-Bashiru","Watford"]
["D","B",5107,"FWD","Kamil Grosicki","West Brom"]
["D","B",5690,"FWD","Karlan Grant","West Brom"]
["D","C",4139,"FWD","Charlie Austin","West Brom"]
["D","D",4777,"FWD","Callum Robinson","West Brom"]
["C","B",5063,"MID","Romaine Sawyers","West Brom"]
["C","C",5555,"MID","Kyle Edwards","West Brom"]
["C","C",4186,"MID","Matt Phillips","West Brom"]
["C","D",5692,"MID","Conor Gallagher","West Brom"]
["C","D",5735,"MID","Filip Krovinovic","West Brom"]
["C","D",4046,"MID","Gareth Barry","West Brom"]
["C","D",5208,"MID","Grzegorz Krychwowiak","West Brom"]
["C","D",4269,"MID","Hal Robson-Kanu","West Brom"]
["C","D",4007,"MID","Jake Livermore","West Brom"]
["C","D",5569,"MID","Rakeem Harper","West Brom"]
["C","D",5014,"MID","Stefan Johansen","West Brom"]
["D","A",5620,"FWD","Sebastian Haller","West Ham"]
["D","C",4729,"FWD","Manuel Lanzini","West Ham"]
["D","D",5368,"FWD","Andriy Yarmolenko","West Ham"]
["C","C",5517,"MID","Declan Rice","West Ham"]
["C","C",3702,"MID","Robert Snodgrass","West Ham"]
["C","D",4675,"MID","Carlos Sanchez","West Ham"]
["C","D",4125,"MID","Jack Wilshire","West Ham"]
["C","D",2886,"MID","Mark Noble","West Ham"]
["D","A",5822,"FWD","Fabio Silva","Wolves"]
["C","A",5829,"MID","Vitor Ferreira","Wolves"]
["C","B",4750,"MID","Adama Traore","Wolves"]
["C","B",3421,"MID","Joao Moutinho","Wolves"]
["C","B",5436,"MID","Leo Dendoncker","Wolves"]
["C","D",3966,"MID","Alfred N'Diaye","Wolves"]
["C","D",5702,"MID","Bruno Jordao","Wolves"]
["C","D",5771,"MID","Daniel Podence","Wolves"]
["C","D",4644,"MID","Jack Price","Wolves"]
["C","D",5387,"MID","Jonny","Wolves"]
["C","D",4872,"MID","Michal Zyro","Wolves"]
["C","D",5037,"MID","Romain Saiss","Wolves"]
["A","A",5805,"GK","Ryan Allsop","Wycombe"]

{"sheet":"Owners","index":4,"n_rows":16,"n_cols":1,"rows_kept":16,"cut":false,"hidden":true,"merged":[]}
["Jimmy"]
["Paul/Kel"]
["Brad"]
["Dave"]
["Graham"]
["Mo"]
["Bolshy"]
["Andy"]
["Pete"]
["Fid"]
["John M"]
["John W"]
["Nigel"]
["Griff"]
["Rob/Steve"]
["Antony"]

{"sheet":"Bids","index":5,"n_rows":1048573,"n_cols":12,"rows_kept":4500,"cut":true,"hidden":false,"merged":[[0,4,0,8]],"bounds":{"rows_first":2000,"rows_last":500,"rows_between":2000,"halvings":0}}
["`",null,null,null,{"$f":"CONCATENATE(AuctionName,\" - Results\")","v":"DL21 - M6 Midfielders Round #2 - Results"}]
["Winner","Sort","Ref","Cat","Pos","Player","Team","Owner","Bid","Released","High","Single"]
["*",{"$f":"IF($C3=\"\",\"\",INDEX(Players!A:A,MATCH($C3,Players!$C:$C,0)))","v":{"$error":"#N/A"}},4598,{"$f":"IF($C3=\"\",\"\",INDEX(Players!B:B,MATCH($C3,Players!$C:$C,0)))","v":{"$error":"#N/A"}},{"$f":"IF($C3=\"\",\"\",INDEX(Players!D:D,MATCH($C3,Players!$C:$C,0)))","v":{"$error":"#N/A"}},{"$f":"IF($C3=\"\",\"\",INDEX(Players!E:E,MATCH($C3,Players!$C:$C,0)))","v":{"$error":"#N/A"}},{"$f":"IF($C3=\"\",\"\",INDEX(Players!F:F,MATCH($C3,Players!$C:$C,0)))","v":{"$error":"#N/A"}},"John Murphy",0.2,null,{"$f":"IF(C3=\"\",0,IF(A3=\"\",0,I3))","v":0.2}]
["*",{"$f":"IF($C4=\"\",\"\",INDEX(Players!A:A,MATCH($C4,Players!$C:$C,0)))","v":{"$error":"#N/A"}},5171,{"$f":"IF($C4=\"\",\"\",INDEX(Players!B:B,MATCH($C4,Players!$C:$C,0)))","v":{"$error":"#N/A"}},{"$f":"IF($C4=\"\",\"\",INDEX(Players!D:D,MATCH($C4,Players!$C:$C,0)))","v":{"$error":"#N/A"}},{"$f":"IF($C4=\"\",\"\",INDEX(Players!E:E,MATCH($C4,Players!$C:$C,0)))","v":{"$error":"#N/A"}},{"$f":"IF($C4=\"\",\"\",INDEX(Players!F:F,MATCH($C4,Players!$C:$C,0)))","v":{"$error":"#N/A"}},"John Murphy",0.2,null,0.2]
["*",{"$f":"IF($C5=\"\",\"\",INDEX(Players!A:A,MATCH($C5,Players!$C:$C,0)))","v":{"$error":"#N/A"}},4191,{"$f":"IF($C5=\"\",\"\",INDEX(Players!B:B,MATCH($C5,Players!$C:$C,0)))","v":{"$error":"#N/A"}},{"$f":"IF($C5=\"\",\"\",INDEX(Players!D:D,MATCH($C5,Players!$C:$C,0)))","v":{"$error":"#N/A"}},{"$f":"IF($C5=\"\",\"\",INDEX(Players!E:E,MATCH($C5,Players!$C:$C,0)))","v":{"$error":"#N/A"}},{"$f":"IF($C5=\"\",\"\",INDEX(Players!F:F,MATCH($C5,Players!$C:$C,0)))","v":{"$error":"#N/A"}},"Howard Bradley",0.3,null,0.3]
[null,{"$f":"IF($C6=\"\",\"\",INDEX(Players!A:A,MATCH($C6,Players!$C:$C,0)))","v":{"$error":"#N/A"}},4191,{"$f":"IF($C6=\"\",\"\",INDEX(Players!B:B,MATCH($C6,Players!$C:$C,0)))","v":{"$error":"#N/A"}},{"$f":"IF($C6=\"\",\"\",INDEX(Players!D:D,MATCH($C6,Players!$C:$C,0)))","v":{"$error":"#N/A"}},{"$f":"IF($C6=\"\",\"\",INDEX(Players!E:E,MATCH($C6,Players!$C:$C,0)))","v":{"$error":"#N/A"}},{"$f":"IF($C6=\"\",\"\",INDEX(Players!F:F,MATCH($C6,Players!$C:$C,0)))","v":{"$error":"#N/A"}},"Carl Hogg",0.2,null,0]
["*",{"$f":"IF($C7=\"\",\"\",INDEX(Players!A:A,MATCH($C7,Players!$C:$C,0)))","v":{"$error":"#N/A"}},5741,{"$f":"IF($C7=\"\",\"\",INDEX(Players!B:B,MATCH($C7,Players!$C:$C,0)))","v":{"$error":"#N/A"}},{"$f":"IF($C7=\"\",\"\",INDEX(Players!D:D,MATCH($C7,Players!$C:$C,0)))","v":{"$error":"#N/A"}},{"$f":"IF($C7=\"\",\"\",INDEX(Players!E:E,MATCH($C7,Players!$C:$C,0)))","v":{"$error":"#N/A"}},{"$f":"IF($C7=\"\",\"\",INDEX(Players!F:F,MATCH($C7,Players!$C:$C,0)))","v":{"$error":"#N/A"}},"Carl Hogg",0.2,null,0.2]
["!",{"$f":"IF($C8=\"\",\"\",INDEX(Players!A:A,MATCH($C8,Players!$C:$C,0)))","v":{"$error":"#N/A"}},4841,{"$f":"IF($C8=\"\",\"\",INDEX(Players!B:B,MATCH($C8,Players!$C:$C,0)))","v":{"$error":"#N/A"}},{"$f":"IF($C8=\"\",\"\",INDEX(Players!D:D,MATCH($C8,Players!$C:$C,0)))","v":{"$error":"#N/A"}},{"$f":"IF($C8=\"\",\"\",INDEX(Players!E:E,MATCH($C8,Players!$C:$C,0)))","v":{"$error":"#N/A"}},{"$f":"IF($C8=\"\",\"\",INDEX(Players!F:F,MATCH($C8,Players!$C:$C,0)))","v":{"$error":"#N/A"}},"Chris Griffin",0.6,null,0.6]
["*",{"$f":"IF($C9=\"\",\"\",INDEX(Players!A:A,MATCH($C9,Players!$C:$C,0)))","v":{"$error":"#N/A"}},4841,{"$f":"IF($C9=\"\",\"\",INDEX(Players!B:B,MATCH($C9,Players!$C:$C,0)))","v":{"$error":"#N/A"}},{"$f":"IF($C9=\"\",\"\",INDEX(Players!D:D,MATCH($C9,Players!$C:$C,0)))","v":{"$error":"#N/A"}},{"$f":"IF($C9=\"\",\"\",INDEX(Players!E:E,MATCH($C9,Players!$C:$C,0)))","v":{"$error":"#N/A"}},{"$f":"IF($C9=\"\",\"\",INDEX(Players!F:F,MATCH($C9,Players!$C:$C,0)))","v":{"$error":"#N/A"}},"Nigel Hughes",0.7,null,0.7]
["*",{"$f":"IF($C10=\"\",\"\",INDEX(Players!A:A,MATCH($C10,Players!$C:$C,0)))","v":{"$error":"#N/A"}},5176,{"$f":"IF($C10=\"\",\"\",INDEX(Players!B:B,MATCH($C10,Players!$C:$C,0)))","v":{"$error":"#N/A"}},{"$f":"IF($C10=\"\",\"\",INDEX(Players!D:D,MATCH($C10,Players!$C:$C,0)))","v":{"$error":"#N/A"}},{"$f":"IF($C10=\"\",\"\",INDEX(Players!E:E,MATCH($C10,Players!$C:$C,0)))","v":{"$error":"#N/A"}},{"$f":"IF($C10=\"\",\"\",INDEX(Players!F:F,MATCH($C10,Players!$C:$C,0)))","v":{"$error":"#N/A"}},"Mo Sudell",0.5,null,0.5]
[null,{"$f":"IF($C11=\"\",\"\",INDEX(Players!A:A,MATCH($C11,Players!$C:$C,0)))","v":{"$error":"#N/A"}},5176,{"$f":"IF($C11=\"\",\"\",INDEX(Players!B:B,MATCH($C11,Players!$C:$C,0)))","v":{"$error":"#N/A"}},{"$f":"IF($C11=\"\",\"\",INDEX(Players!D:D,MATCH($C11,Players!$C:$C,0)))","v":{"$error":"#N/A"}},{"$f":"IF($C11=\"\",\"\",INDEX(Players!E:E,MATCH($C11,Players!$C:$C,0)))","v":{"$error":"#N/A"}},{"$f":"IF($C11=\"\",\"\",INDEX(Players!F:F,MATCH($C11,Players!$C:$C,0)))","v":{"$error":"#N/A"}},"Carl Hogg",0.2,null,0]
["*",{"$f":"IF($C12=\"\",\"\",INDEX(Players!A:A,MATCH($C12,Players!$C:$C,0)))","v":{"$error":"#N/A"}},2625,{"$f":"IF($C12=\"\",\"\",INDEX(Players!B:B,MATCH($C12,Players!$C:$C,0)))","v":{"$error":"#N/A"}},{"$f":"IF($C12=\"\",\"\",INDEX(Players!D:D,MATCH($C12,Players!$C:$C,0)))","v":{"$error":"#N/A"}},{"$f":"IF($C12=\"\",\"\",INDEX(Players!E:E,MATCH($C12,Players!$C:$C,0)))","v":{"$error":"#N/A"}},{"$f":"IF($C12=\"\",\"\",INDEX(Players!F:F,MATCH($C12,Players!$C:$C,0)))","v":{"$error":"#N/A"}},"Nigel Heyes",0.3,null,0.3]
["*",{"$f":"IF($C13=\"\",\"\",INDEX(Players!A:A,MATCH($C13,Players!$C:$C,0)))","v":{"$error":"#N/A"}},5901,{"$f":"IF($C13=\"\",\"\",INDEX(Players!B:B,MATCH($C13,Players!$C:$C,0)))","v":{"$error":"#N/A"}},{"$f":"IF($C13=\"\",\"\",INDEX(Players!D:D,MATCH($C13,Players!$C:$C,0)))","v":{"$error":"#N/A"}},{"$f":"IF($C13=\"\",\"\",INDEX(Players!E:E,MATCH($C13,Players!$C:$C,0)))","v":{"$error":"#N/A"}},{"$f":"IF($C13=\"\",\"\",INDEX(Players!F:F,MATCH($C13,Players!$C:$C,0)))","v":{"$error":"#N/A"}},"Paul Fairhurst",0.8,null,0.8]
["*",{"$f":"IF($C14=\"\",\"\",INDEX(Players!A:A,MATCH($C14,Players!$C:$C,0)))","v":{"$error":"#N/A"}},5624,{"$f":"IF($C14=\"\",\"\",INDEX(Players!B:B,MATCH($C14,Players!$C:$C,0)))","v":{"$error":"#N/A"}},{"$f":"IF($C14=\"\",\"\",INDEX(Players!D:D,MATCH($C14,Players!$C:$C,0)))","v":{"$error":"#N/A"}},{"$f":"IF($C14=\"\",\"\",INDEX(Players!E:E,MATCH($C14,Players!$C:$C,0)))","v":{"$error":"#N/A"}},{"$f":"IF($C14=\"\",\"\",INDEX(Players!F:F,MATCH($C14,Players!$C:$C,0)))","v":{"$error":"#N/A"}},"Steve Waterhouse",2.2000000000000002,null,2.2000000000000002]
["*",{"$f":"IF($C15=\"\",\"\",INDEX(Players!A:A,MATCH($C15,Players!$C:$C,0)))","v":{"$error":"#N/A"}},4838,{"$f":"IF($C15=\"\",\"\",INDEX(Players!B:B,MATCH($C15,Players!$C:$C,0)))","v":{"$error":"#N/A"}},{"$f":"IF($C15=\"\",\"\",INDEX(Players!D:D,MATCH($C15,Players!$C:$C,0)))","v":{"$error":"#N/A"}},{"$f":"IF($C15=\"\",\"\",INDEX(Players!E:E,MATCH($C15,Players!$C:$C,0)))","v":{"$error":"#N/A"}},{"$f":"IF($C15=\"\",\"\",INDEX(Players!F:F,MATCH($C15,Players!$C:$C,0)))","v":{"$error":"#N/A"}},"Mo Sudell",1,null,1]
["*",{"$f":"IF($C16=\"\",\"\",INDEX(Players!A:A,MATCH($C16,Players!$C:$C,0)))","v":{"$error":"#N/A"}},5261,{"$f":"IF($C16=\"\",\"\",INDEX(Players!B:B,MATCH($C16,Players!$C:$C,0)))","v":{"$error":"#N/A"}},{"$f":"IF($C16=\"\",\"\",INDEX(Players!D:D,MATCH($C16,Players!$C:$C,0)))","v":{"$error":"#N/A"}},{"$f":"IF($C16=\"\",\"\",INDEX(Players!E:E,MATCH($C16,Players!$C:$C,0)))","v":{"$error":"#N/A"}},{"$f":"IF($C16=\"\",\"\",INDEX(Players!F:F,MATCH($C16,Players!$C:$C,0)))","v":{"$error":"#N/A"}},"Steve Waterhouse",0.3,null,0.3]
["*",{"$f":"IF($C17=\"\",\"\",INDEX(Players!A:A,MATCH($C17,Players!$C:$C,0)))","v":{"$error":"#N/A"}},5475,{"$f":"IF($C17=\"\",\"\",INDEX(Players!B:B,MATCH($C17,Players!$C:$C,0)))","v":{"$error":"#N/A"}},{"$f":"IF($C17=\"\",\"\",INDEX(Players!D:D,MATCH($C17,Players!$C:$C,0)))","v":{"$error":"#N/A"}},{"$f":"IF($C17=\"\",\"\",INDEX(Players!E:E,MATCH($C17,Players!$C:$C,0)))","v":{"$error":"#N/A"}},{"$f":"IF($C17=\"\",\"\",INDEX(Players!F:F,MATCH($C17,Players!$C:$C,0)))","v":{"$error":"#N/A"}},"Graham Miller",6.7,null,6.7]
[null,{"$f":"IF($C18=\"\",\"\",INDEX(Players!A:A,MATCH($C18,Players!$C:$C,0)))","v":{"$error":"#N/A"}},5475,{"$f":"IF($C18=\"\",\"\",INDEX(Players!B:B,MATCH($C18,Players!$C:$C,0)))","v":{"$error":"#N/A"}},{"$f":"IF($C18=\"\",\"\",INDEX(Players!D:D,MATCH($C18,Players!$C:$C,0)))","v":{"$error":"#N/A"}},{"$f":"IF($C18=\"\",\"\",INDEX(Players!E:E,MATCH($C18,Players!$C:$C,0)))","v":{"$error":"#N/A"}},{"$f":"IF($C18=\"\",\"\",INDEX(Players!F:F,MATCH($C18,Players!$C:$C,0)))","v":{"$error":"#N/A"}},"Howard Bradley",2.7,null,0]
[null,{"$f":"IF($C19=\"\",\"\",INDEX(Players!A:A,MATCH($C19,Players!$C:$C,0)))","v":{"$error":"#N/A"}},5475,{"$f":"IF($C19=\"\",\"\",INDEX(Players!B:B,MATCH($C19,Players!$C:$C,0)))","v":{"$error":"#N/A"}},{"$f":"IF($C19=\"\",\"\",INDEX(Players!D:D,MATCH($C19,Players!$C:$C,0)))","v":{"$error":"#N/A"}},{"$f":"IF($C19=\"\",\"\",INDEX(Players!E:E,MATCH($C19,Players!$C:$C,0)))","v":{"$error":"#N/A"}},{"$f":"IF($C19=\"\",\"\",INDEX(Players!F:F,MATCH($C19,Players!$C:$C,0)))","v":{"$error":"#N/A"}},"Dave Sumner",2.1,null,0]
[null,{"$f":"IF($C20=\"\",\"\",INDEX(Players!A:A,MATCH($C20,Players!$C:$C,0)))","v":{"$error":"#N/A"}},5475,{"$f":"IF($C20=\"\",\"\",INDEX(Players!B:B,MATCH($C20,Players!$C:$C,0)))","v":{"$error":"#N/A"}},{"$f":"IF($C20=\"\",\"\",INDEX(Players!D:D,MATCH($C20,Players!$C:$C,0)))","v":{"$error":"#N/A"}},{"$f":"IF($C20=\"\",\"\",INDEX(Players!E:E,MATCH($C20,Players!$C:$C,0)))","v":{"$error":"#N/A"}},{"$f":"IF($C20=\"\",\"\",INDEX(Players!F:F,MATCH($C20,Players!$C:$C,0)))","v":{"$error":"#N/A"}},"Nigel Heyes",0.3,null,0]
["*",{"$f":"IF($C21=\"\",\"\",INDEX(Players!A:A,MATCH($C21,Players!$C:$C,0)))","v":{"$error":"#N/A"}},5461,{"$f":"IF($C21=\"\",\"\",INDEX(Players!B:B,MATCH($C21,Players!$C:$C,0)))","v":{"$error":"#N/A"}},{"$f":"IF($C21=\"\",\"\",INDEX(Players!D:D,MATCH($C21,Players!$C:$C,0)))","v":{"$error":"#N/A"}},{"$f":"IF($C21=\"\",\"\",INDEX(Players!E:E,MATCH($C21,Players!$C:$C,0)))","v":{"$error":"#N/A"}},{"$f":"IF($C21=\"\",\"\",INDEX(Players!F:F,MATCH($C21,Players!$C:$C,0)))","v":{"$error":"#N/A"}},"Liam Murphy",0.2,null,0.2]
["*",{"$f":"IF($C22=\"\",\"\",INDEX(Players!A:A,MATCH($C22,Players!$C:$C,0)))","v":{"$error":"#N/A"}},4196,{"$f":"IF($C22=\"\",\"\",INDEX(Players!B:B,MATCH($C22,Players!$C:$C,0)))","v":{"$error":"#N/A"}},{"$f":"IF($C22=\"\",\"\",INDEX(Players!D:D,MATCH($C22,Players!$C:$C,0)))","v":{"$error":"#N/A"}},{"$f":"IF($C22=\"\",\"\",INDEX(Players!E:E,MATCH($C22,Players!$C:$C,0)))","v":{"$error":"#N/A"}},{"$f":"IF($C22=\"\",\"\",INDEX(Players!F:F,MATCH($C22,Players!$C:$C,0)))","v":{"$error":"#N/A"}},"Graham Miller",0.2,null,0.2]
["*",{"$f":"IF($C23=\"\",\"\",INDEX(Players!A:A,MATCH($C23,Players!$C:$C,0)))","v":{"$error":"#N/A"}},5243,{"$f":"IF($C23=\"\",\"\",INDEX(Players!B:B,MATCH($C23,Players!$C:$C,0)))","v":{"$error":"#N/A"}},{"$f":"IF($C23=\"\",\"\",INDEX(Players!D:D,MATCH($C23,Players!$C:$C,0)))","v":{"$error":"#N/A"}},{"$f":"IF($C23=\"\",\"\",INDEX(Players!E:E,MATCH($C23,Players!$C:$C,0)))","v":{"$error":"#N/A"}},{"$f":"IF($C23=\"\",\"\",INDEX(Players!F:F,MATCH($C23,Players!$C:$C,0)))","v":{"$error":"#N/A"}},"Howard Bradley",4.3,null,4.3]
[null,{"$f":"IF($C24=\"\",\"\",INDEX(Players!A:A,MATCH($C24,Players!$C:$C,0)))","v":{"$error":"#N/A"}},5243,{"$f":"IF($C24=\"\",\"\",INDEX(Players!B:B,MATCH($C24,Players!$C:$C,0)))","v":{"$error":"#N/A"}},{"$f":"IF($C24=\"\",\"\",INDEX(Players!D:D,MATCH($C24,Players!$C:$C,0)))","v":{"$error":"#N/A"}},{"$f":"IF($C24=\"\",\"\",INDEX(Players!E:E,MATCH($C24,Players!$C:$C,0)))","v":{"$error":"#N/A"}},{"$f":"IF($C24=\"\",\"\",INDEX(Players!F:F,MATCH($C24,Players!$C:$C,0)))","v":{"$error":"#N/A"}},"Steve Waterhouse",2.6,null,0]
[null,{"$f":"IF($C25=\"\",\"\",INDEX(Players!A:A,MATCH($C25,Players!$C:$C,0)))","v":{"$error":"#N/A"}},5243,{"$f":"IF($C25=\"\",\"\",INDEX(Players!B:B,MATCH($C25,Players!$C:$C,0)))","v":{"$error":"#N/A"}},{"$f":"IF($C25=\"\",\"\",INDEX(Players!D:D,MATCH($C25,Players!$C:$C,0)))","v":{"$error":"#N/A"}},{"$f":"IF($C25=\"\",\"\",INDEX(Players!E:E,MATCH($C25,Players!$C:$C,0)))","v":{"$error":"#N/A"}},{"$f":"IF($C25=\"\",\"\",INDEX(Players!F:F,MATCH($C25,Players!$C:$C,0)))","v":{"$error":"#N/A"}},"Mo Sudell",2.5,null,0]
[null,{"$f":"IF($C26=\"\",\"\",INDEX(Players!A:A,MATCH($C26,Players!$C:$C,0)))","v":{"$error":"#N/A"}},5243,{"$f":"IF($C26=\"\",\"\",INDEX(Players!B:B,MATCH($C26,Players!$C:$C,0)))","v":{"$error":"#N/A"}},{"$f":"IF($C26=\"\",\"\",INDEX(Players!D:D,MATCH($C26,Players!$C:$C,0)))","v":{"$error":"#N/A"}},{"$f":"IF($C26=\"\",\"\",INDEX(Players!E:E,MATCH($C26,Players!$C:$C,0)))","v":{"$error":"#N/A"}},{"$f":"IF($C26=\"\",\"\",INDEX(Players!F:F,MATCH($C26,Players!$C:$C,0)))","v":{"$error":"#N/A"}},"Nigel Hughes",1.1000000000000001,null,0]
[null,{"$f":"IF($C27=\"\",\"\",INDEX(Players!A:A,MATCH($C27,Players!$C:$C,0)))","v":{"$error":"#N/A"}},5243,{"$f":"IF($C27=\"\",\"\",INDEX(Players!B:B,MATCH($C27,Players!$C:$C,0)))","v":{"$error":"#N/A"}},{"$f":"IF($C27=\"\",\"\",INDEX(Players!D:D,MATCH($C27,Players!$C:$C,0)))","v":{"$error":"#N/A"}},{"$f":"IF($C27=\"\",\"\",INDEX(Players!E:E,MATCH($C27,Players!$C:$C,0)))","v":{"$error":"#N/A"}},{"$f":"IF($C27=\"\",\"\",INDEX(Players!F:F,MATCH($C27,Players!$C:$C,0)))","v":{"$error":"#N/A"}},"Nigel Heyes",0.3,null,0]
["*",{"$f":"IF($C28=\"\",\"\",INDEX(Players!A:A,MATCH($C28,Players!$C:$C,0)))","v":"C"},5863,{"$f":"IF($C28=\"\",\"\",INDEX(Players!B:B,MATCH($C28,Players!$C:$C,0)))","v":"D"},{"$f":"IF($C28=\"\",\"\",INDEX(Players!D:D,MATCH($C28,Players!$C:$C,0)))","v":"MID"},{"$f":"IF($C28=\"\",\"\",INDEX(Players!E:E,MATCH($C28,Players!$C:$C,0)))","v":"Harvey Elliott"},{"$f":"IF($C28=\"\",\"\",INDEX(Players!F:F,MATCH($C28,Players!$C:$C,0)))","v":"Blackburn"},"Liam Murphy",2.8,null,2.8]
["*",{"$f":"IF($C29=\"\",\"\",INDEX(Players!A:A,MATCH($C29,Players!$C:$C,0)))","v":{"$error":"#N/A"}},5732,{"$f":"IF($C29=\"\",\"\",INDEX(Players!B:B,MATCH($C29,Players!$C:$C,0)))","v":{"$error":"#N/A"}},{"$f":"IF($C29=\"\",\"\",INDEX(Players!D:D,MATCH($C29,Players!$C:$C,0)))","v":{"$error":"#N/A"}},{"$f":"IF($C29=\"\",\"\",INDEX(Players!E:E,MATCH($C29,Players!$C:$C,0)))","v":{"$error":"#N/A"}},{"$f":"IF($C29=\"\",\"\",INDEX(Players!F:F,MATCH($C29,Players!$C:$C,0)))","v":{"$error":"#N/A"}},"Andy Clucas",0.4,null,0.4]
["*",{"$f":"IF($C30=\"\",\"\",INDEX(Players!A:A,MATCH($C30,Players!$C:$C,0)))","v":{"$error":"#N/A"}},5325,{"$f":"IF($C30=\"\",\"\",INDEX(Players!B:B,MATCH($C30,Players!$C:$C,0)))","v":{"$error":"#N/A"}},{"$f":"IF($C30=\"\",\"\",INDEX(Players!D:D,MATCH($C30,Players!$C:$C,0)))","v":{"$error":"#N/A"}},{"$f":"IF($C30=\"\",\"\",INDEX(Players!E:E,MATCH($C30,Players!$C:$C,0)))","v":{"$error":"#N/A"}},{"$f":"IF($C30=\"\",\"\",INDEX(Players!F:F,MATCH($C30,Players!$C:$C,0)))","v":{"$error":"#N/A"}},"Paul Fairhurst",0.1,null,0.1]
["*",{"$f":"IF($C31=\"\",\"\",INDEX(Players!A:A,MATCH($C31,Players!$C:$C,0)))","v":{"$error":"#N/A"}},5242,{"$f":"IF($C31=\"\",\"\",INDEX(Players!B:B,MATCH($C31,Players!$C:$C,0)))","v":{"$error":"#N/A"}},{"$f":"IF($C31=\"\",\"\",INDEX(Players!D:D,MATCH($C31,Players!$C:$C,0)))","v":{"$error":"#N/A"}},{"$f":"IF($C31=\"\",\"\",INDEX(Players!E:E,MATCH($C31,Players!$C:$C,0)))","v":{"$error":"#N/A"}},{"$f":"IF($C31=\"\",\"\",INDEX(Players!F:F,MATCH($C31,Players!$C:$C,0)))","v":{"$error":"#N/A"}},"Graham Miller",7.2,null,7.2]
[null,{"$f":"IF($C32=\"\",\"\",INDEX(Players!A:A,MATCH($C32,Players!$C:$C,0)))","v":{"$error":"#N/A"}},5242,{"$f":"IF($C32=\"\",\"\",INDEX(Players!B:B,MATCH($C32,Players!$C:$C,0)))","v":{"$error":"#N/A"}},{"$f":"IF($C32=\"\",\"\",INDEX(Players!D:D,MATCH($C32,Players!$C:$C,0)))","v":{"$error":"#N/A"}},{"$f":"IF($C32=\"\",\"\",INDEX(Players!E:E,MATCH($C32,Players!$C:$C,0)))","v":{"$error":"#N/A"}},{"$f":"IF($C32=\"\",\"\",INDEX(Players!F:F,MATCH($C32,Players!$C:$C,0)))","v":{"$error":"#N/A"}},"Andy Clucas",4.3,null,0]
[null,{"$f":"IF($C33=\"\",\"\",INDEX(Players!A:A,MATCH($C33,Players!$C:$C,0)))","v":{"$error":"#N/A"}},5242,{"$f":"IF($C33=\"\",\"\",INDEX(Players!B:B,MATCH($C33,Players!$C:$C,0)))","v":{"$error":"#N/A"}},{"$f":"IF($C33=\"\",\"\",INDEX(Players!D:D,MATCH($C33,Players!$C:$C,0)))","v":{"$error":"#N/A"}},{"$f":"IF($C33=\"\",\"\",INDEX(Players!E:E,MATCH($C33,Players!$C:$C,0)))","v":{"$error":"#N/A"}},{"$f":"IF($C33=\"\",\"\",INDEX(Players!F:F,MATCH($C33,Players!$C:$C,0)))","v":{"$error":"#N/A"}},"Liam Murphy",0.2,null,0]
["*",{"$f":"IF($C34=\"\",\"\",INDEX(Players!A:A,MATCH($C34,Players!$C:$C,0)))","v":{"$error":"#N/A"}},4306,{"$f":"IF($C34=\"\",\"\",INDEX(Players!B:B,MATCH($C34,Players!$C:$C,0)))","v":{"$error":"#N/A"}},{"$f":"IF($C34=\"\",\"\",INDEX(Players!D:D,MATCH($C34,Players!$C:$C,0)))","v":{"$error":"#N/A"}},{"$f":"IF($C34=\"\",\"\",INDEX(Players!E:E,MATCH($C34,Players!$C:$C,0)))","v":{"$error":"#N/A"}},{"$f":"IF($C34=\"\",\"\",INDEX(Players!F:F,MATCH($C34,Players!$C:$C,0)))","v":{"$error":"#N/A"}},"Nigel Heyes",0.3,null,0.3]
["*",{"$f":"IF($C35=\"\",\"\",INDEX(Players!A:A,MATCH($C35,Players!$C:$C,0)))","v":{"$error":"#N/A"}},4669,{"$f":"IF($C35=\"\",\"\",INDEX(Players!B:B,MATCH($C35,Players!$C:$C,0)))","v":{"$error":"#N/A"}},{"$f":"IF($C35=\"\",\"\",INDEX(Players!D:D,MATCH($C35,Players!$C:$C,0)))","v":{"$error":"#N/A"}},{"$f":"IF($C35=\"\",\"\",INDEX(Players!E:E,MATCH($C35,Players!$C:$C,0)))","v":{"$error":"#N/A"}},{"$f":"IF($C35=\"\",\"\",INDEX(Players!F:F,MATCH($C35,Players!$C:$C,0)))","v":{"$error":"#N/A"}},"Dave Sumner",1.6,null,{"$f":"IF(C35=\"\",0,IF(A35=\"\",0,I35))","v":1.6}]
[null,{"$f":"IF($C36=\"\",\"\",INDEX(Players!A:A,MATCH($C36,Players!$C:$C,0)))","v":{"$error":"#N/A"}},4669,{"$f":"IF($C36=\"\",\"\",INDEX(Players!B:B,MATCH($C36,Players!$C:$C,0)))","v":{"$error":"#N/A"}},{"$f":"IF($C36=\"\",\"\",INDEX(Players!D:D,MATCH($C36,Players!$C:$C,0)))","v":{"$error":"#N/A"}},{"$f":"IF($C36=\"\",\"\",INDEX(Players!E:E,MATCH($C36,Players!$C:$C,0)))","v":{"$error":"#N/A"}},{"$f":"IF($C36=\"\",\"\",INDEX(Players!F:F,MATCH($C36,Players!$C:$C,0)))","v":{"$error":"#N/A"}},"Carl Hogg",1.1000000000000001,null,0]
["*",{"$f":"IF($C37=\"\",\"\",INDEX(Players!A:A,MATCH($C37,Players!$C:$C,0)))","v":{"$error":"#N/A"}},4406,{"$f":"IF($C37=\"\",\"\",INDEX(Players!B:B,MATCH($C37,Players!$C:$C,0)))","v":{"$error":"#N/A"}},{"$f":"IF($C37=\"\",\"\",INDEX(Players!D:D,MATCH($C37,Players!$C:$C,0)))","v":{"$error":"#N/A"}},{"$f":"IF($C37=\"\",\"\",INDEX(Players!E:E,MATCH($C37,Players!$C:$C,0)))","v":{"$error":"#N/A"}},{"$f":"IF($C37=\"\",\"\",INDEX(Players!F:F,MATCH($C37,Players!$C:$C,0)))","v":{"$error":"#N/A"}},"Andy Clucas",3.1,null,3.1]
[null,{"$f":"IF($C38=\"\",\"\",INDEX(Players!A:A,MATCH($C38,Players!$C:$C,0)))","v":{"$error":"#N/A"}},4406,{"$f":"IF($C38=\"\",\"\",INDEX(Players!B:B,MATCH($C38,Players!$C:$C,0)))","v":{"$error":"#N/A"}},{"$f":"IF($C38=\"\",\"\",INDEX(Players!D:D,MATCH($C38,Players!$C:$C,0)))","v":{"$error":"#N/A"}},{"$f":"IF($C38=\"\",\"\",INDEX(Players!E:E,MATCH($C38,Players!$C:$C,0)))","v":{"$error":"#N/A"}},{"$f":"IF($C38=\"\",\"\",INDEX(Players!F:F,MATCH($C38,Players!$C:$C,0)))","v":{"$error":"#N/A"}},"Chris Griffin",0.2,null,0]
["*",{"$f":"IF($C39=\"\",\"\",INDEX(Players!A:A,MATCH($C39,Players!$C:$C,0)))","v":{"$error":"#N/A"}},4864,{"$f":"IF($C39=\"\",\"\",INDEX(Players!B:B,MATCH($C39,Players!$C:$C,0)))","v":{"$error":"#N/A"}},{"$f":"IF($C39=\"\",\"\",INDEX(Players!D:D,MATCH($C39,Players!$C:$C,0)))","v":{"$error":"#N/A"}},{"$f":"IF($C39=\"\",\"\",INDEX(Players!E:E,MATCH($C39,Players!$C:$C,0)))","v":{"$error":"#N/A"}},{"$f":"IF($C39=\"\",\"\",INDEX(Players!F:F,MATCH($C39,Players!$C:$C,0)))","v":{"$error":"#N/A"}},"Howard Bradley",7.3,null,7.3]
[null,{"$f":"IF($C40=\"\",\"\",INDEX(Players!A:A,MATCH($C40,Players!$C:$C,0)))","v":{"$error":"#N/A"}},4864,{"$f":"IF($C40=\"\",\"\",INDEX(Players!B:B,MATCH($C40,Players!$C:$C,0)))","v":{"$error":"#N/A"}},{"$f":"IF($C40=\"\",\"\",INDEX(Players!D:D,MATCH($C40,Players!$C:$C,0)))","v":{"$error":"#N/A"}},{"$f":"IF($C40=\"\",\"\",INDEX(Players!E:E,MATCH($C40,Players!$C:$C,0)))","v":{"$error":"#N/A"}},{"$f":"IF($C40=\"\",\"\",INDEX(Players!F:F,MATCH($C40,Players!$C:$C,0)))","v":{"$error":"#N/A"}},"Andy Clucas",4.7,null,0]
[null,{"$f":"IF($C41=\"\",\"\",INDEX(Players!A:A,MATCH($C41,Players!$C:$C,0)))","v":{"$error":"#N/A"}},4864,{"$f":"IF($C41=\"\",\"\",INDEX(Players!B:B,MATCH($C41,Players!$C:$C,0)))","v":{"$error":"#N/A"}},{"$f":"IF($C41=\"\",\"\",INDEX(Players!D:D,MATCH($C41,Players!$C:$C,0)))","v":{"$error":"#N/A"}},{"$f":"IF($C41=\"\",\"\",INDEX(Players!E:E,MATCH($C41,Players!$C:$C,0)))","v":{"$error":"#N/A"}},{"$f":"IF($C41=\"\",\"\",INDEX(Players!F:F,MATCH($C41,Players!$C:$C,0)))","v":{"$error":"#N/A"}},"Carl Hogg",2.2000000000000002,null,0]
[null,{"$f":"IF($C42=\"\",\"\",INDEX(Players!A:A,MATCH($C42,Players!$C:$C,0)))","v":{"$error":"#N/A"}},4864,{"$f":"IF($C42=\"\",\"\",INDEX(Players!B:B,MATCH($C42,Players!$C:$C,0)))","v":{"$error":"#N/A"}},{"$f":"IF($C42=\"\",\"\",INDEX(Players!D:D,MATCH($C42,Players!$C:$C,0)))","v":{"$error":"#N/A"}},{"$f":"IF($C42=\"\",\"\",INDEX(Players!E:E,MATCH($C42,Players!$C:$C,0)))","v":{"$error":"#N/A"}},{"$f":"IF($C42=\"\",\"\",INDEX(Players!F:F,MATCH($C42,Players!$C:$C,0)))","v":{"$error":"#N/A"}},"Mo Sudell",1.5,null,0]
[null,{"$f":"IF($C43=\"\",\"\",INDEX(Players!A:A,MATCH($C43,Players!$C:$C,0)))","v":{"$error":"#N/A"}},4864,{"$f":"IF($C43=\"\",\"\",INDEX(Players!B:B,MATCH($C43,Players!$C:$C,0)))","v":{"$error":"#N/A"}},{"$f":"IF($C43=\"\",\"\",INDEX(Players!D:D,MATCH($C43,Players!$C:$C,0)))","v":{"$error":"#N/A"}},{"$f":"IF($C43=\"\",\"\",INDEX(Players!E:E,MATCH($C43,Players!$C:$C,0)))","v":{"$error":"#N/A"}},{"$f":"IF($C43=\"\",\"\",INDEX(Players!F:F,MATCH($C43,Players!$C:$C,0)))","v":{"$error":"#N/A"}},"Chris Griffin",0.6,null,0]
[null,{"$f":"IF($C44=\"\",\"\",INDEX(Players!A:A,MATCH($C44,Players!$C:$C,0)))","v":{"$error":"#N/A"}},4864,{"$f":"IF($C44=\"\",\"\",INDEX(Players!B:B,MATCH($C44,Players!$C:$C,0)))","v":{"$error":"#N/A"}},{"$f":"IF($C44=\"\",\"\",INDEX(Players!D:D,MATCH($C44,Players!$C:$C,0)))","v":{"$error":"#N/A"}},{"$f":"IF($C44=\"\",\"\",INDEX(Players!E:E,MATCH($C44,Players!$C:$C,0)))","v":{"$error":"#N/A"}},{"$f":"IF($C44=\"\",\"\",INDEX(Players!F:F,MATCH($C44,Players!$C:$C,0)))","v":{"$error":"#N/A"}},"Nigel Heyes",0.3,null,0]
["*",{"$f":"IF($C45=\"\",\"\",INDEX(Players!A:A,MATCH($C45,Players!$C:$C,0)))","v":{"$error":"#N/A"}},5380,{"$f":"IF($C45=\"\",\"\",INDEX(Players!B:B,MATCH($C45,Players!$C:$C,0)))","v":{"$error":"#N/A"}},{"$f":"IF($C45=\"\",\"\",INDEX(Players!D:D,MATCH($C45,Players!$C:$C,0)))","v":{"$error":"#N/A"}},{"$f":"IF($C45=\"\",\"\",INDEX(Players!E:E,MATCH($C45,Players!$C:$C,0)))","v":{"$error":"#N/A"}},{"$f":"IF($C45=\"\",\"\",INDEX(Players!F:F,MATCH($C45,Players!$C:$C,0)))","v":{"$error":"#N/A"}},"John Murphy",4.4000000000000004,null,4.4000000000000004]
["*",{"$f":"IF($C46=\"\",\"\",INDEX(Players!A:A,MATCH($C46,Players!$C:$C,0)))","v":{"$error":"#N/A"}},4010,{"$f":"IF($C46=\"\",\"\",INDEX(Players!B:B,MATCH($C46,Players!$C:$C,0)))","v":{"$error":"#N/A"}},{"$f":"IF($C46=\"\",\"\",INDEX(Players!D:D,MATCH($C46,Players!$C:$C,0)))","v":{"$error":"#N/A"}},{"$f":"IF($C46=\"\",\"\",INDEX(Players!E:E,MATCH($C46,Players!$C:$C,0)))","v":{"$error":"#N/A"}},{"$f":"IF($C46=\"\",\"\",INDEX(Players!F:F,MATCH($C46,Players!$C:$C,0)))","v":{"$error":"#N/A"}},"Dave Sumner",1,null,1]
["*",{"$f":"IF($C47=\"\",\"\",INDEX(Players!A:A,MATCH($C47,Players!$C:$C,0)))","v":{"$error":"#N/A"}},5363,{"$f":"IF($C47=\"\",\"\",INDEX(Players!B:B,MATCH($C47,Players!$C:$C,0)))","v":{"$error":"#N/A"}},{"$f":"IF($C47=\"\",\"\",INDEX(Players!D:D,MATCH($C47,Players!$C:$C,0)))","v":{"$error":"#N/A"}},{"$f":"IF($C47=\"\",\"\",INDEX(Players!E:E,MATCH($C47,Players!$C:$C,0)))","v":{"$error":"#N/A"}},{"$f":"IF($C47=\"\",\"\",INDEX(Players!F:F,MATCH($C47,Players!$C:$C,0)))","v":{"$error":"#N/A"}},"Steve Waterhouse",2.2000000000000002,null,2.2000000000000002]
["*",{"$f":"IF($C48=\"\",\"\",INDEX(Players!A:A,MATCH($C48,Players!$C:$C,0)))","v":{"$error":"#N/A"}},5902,{"$f":"IF($C48=\"\",\"\",INDEX(Players!B:B,MATCH($C48,Players!$C:$C,0)))","v":{"$error":"#N/A"}},{"$f":"IF($C48=\"\",\"\",INDEX(Players!D:D,MATCH($C48,Players!$C:$C,0)))","v":{"$error":"#N/A"}},{"$f":"IF($C48=\"\",\"\",INDEX(Players!E:E,MATCH($C48,Players!$C:$C,0)))","v":{"$error":"#N/A"}},{"$f":"IF($C48=\"\",\"\",INDEX(Players!F:F,MATCH($C48,Players!$C:$C,0)))","v":{"$error":"#N/A"}},"Paul Fairhurst",2.1,null,2.1]
["*",{"$f":"IF($C49=\"\",\"\",INDEX(Players!A:A,MATCH($C49,Players!$C:$C,0)))","v":{"$error":"#N/A"}},5395,{"$f":"IF($C49=\"\",\"\",INDEX(Players!B:B,MATCH($C49,Players!$C:$C,0)))","v":{"$error":"#N/A"}},{"$f":"IF($C49=\"\",\"\",INDEX(Players!D:D,MATCH($C49,Players!$C:$C,0)))","v":{"$error":"#N/A"}},{"$f":"IF($C49=\"\",\"\",INDEX(Players!E:E,MATCH($C49,Players!$C:$C,0)))","v":{"$error":"#N/A"}},{"$f":"IF($C49=\"\",\"\",INDEX(Players!F:F,MATCH($C49,Players!$C:$C,0)))","v":{"$error":"#N/A"}},"Andy Clucas",0.2,null,0.2]
["*",{"$f":"IF($C50=\"\",\"\",INDEX(Players!A:A,MATCH($C50,Players!$C:$C,0)))","v":{"$error":"#N/A"}},5566,{"$f":"IF($C50=\"\",\"\",INDEX(Players!B:B,MATCH($C50,Players!$C:$C,0)))","v":{"$error":"#N/A"}},{"$f":"IF($C50=\"\",\"\",INDEX(Players!D:D,MATCH($C50,Players!$C:$C,0)))","v":{"$error":"#N/A"}},{"$f":"IF($C50=\"\",\"\",INDEX(Players!E:E,MATCH($C50,Players!$C:$C,0)))","v":{"$error":"#N/A"}},{"$f":"IF($C50=\"\",\"\",INDEX(Players!F:F,MATCH($C50,Players!$C:$C,0)))","v":{"$error":"#N/A"}},"Howard Bradley",0.6,null,0.6]
["*",{"$f":"IF($C51=\"\",\"\",INDEX(Players!A:A,MATCH($C51,Players!$C:$C,0)))","v":{"$error":"#N/A"}},5587,{"$f":"IF($C51=\"\",\"\",INDEX(Players!B:B,MATCH($C51,Players!$C:$C,0)))","v":{"$error":"#N/A"}},{"$f":"IF($C51=\"\",\"\",INDEX(Players!D:D,MATCH($C51,Players!$C:$C,0)))","v":{"$error":"#N/A"}},{"$f":"IF($C51=\"\",\"\",INDEX(Players!E:E,MATCH($C51,Players!$C:$C,0)))","v":{"$error":"#N/A"}},{"$f":"IF($C51=\"\",\"\",INDEX(Players!F:F,MATCH($C51,Players!$C:$C,0)))","v":{"$error":"#N/A"}},"Carl Hogg",1.1000000000000001,null,1.1000000000000001]
[null,{"$f":"IF($C52=\"\",\"\",INDEX(Players!A:A,MATCH($C52,Players!$C:$C,0)))","v":{"$error":"#N/A"}},5587,{"$f":"IF($C52=\"\",\"\",INDEX(Players!B:B,MATCH($C52,Players!$C:$C,0)))","v":{"$error":"#N/A"}},{"$f":"IF($C52=\"\",\"\",INDEX(Players!D:D,MATCH($C52,Players!$C:$C,0)))","v":{"$error":"#N/A"}},{"$f":"IF($C52=\"\",\"\",INDEX(Players!E:E,MATCH($C52,Players!$C:$C,0)))","v":{"$error":"#N/A"}},{"$f":"IF($C52=\"\",\"\",INDEX(Players!F:F,MATCH($C52,Players!$C:$C,0)))","v":{"$error":"#N/A"}},"Nigel Heyes",0.3,null,0]
["*",{"$f":"IF($C53=\"\",\"\",INDEX(Players!A:A,MATCH($C53,Players!$C:$C,0)))","v":{"$error":"#N/A"}},5697,{"$f":"IF($C53=\"\",\"\",INDEX(Players!B:B,MATCH($C53,Players!$C:$C,0)))","v":{"$error":"#N/A"}},{"$f":"IF($C53=\"\",\"\",INDEX(Players!D:D,MATCH($C53,Players!$C:$C,0)))","v":{"$error":"#N/A"}},{"$f":"IF($C53=\"\",\"\",INDEX(Players!E:E,MATCH($C53,Players!$C:$C,0)))","v":{"$error":"#N/A"}},{"$f":"IF($C53=\"\",\"\",INDEX(Players!F:F,MATCH($C53,Players!$C:$C,0)))","v":{"$error":"#N/A"}},"Dave Sumner",0.2,null,0.2]
["*",{"$f":"IF($C54=\"\",\"\",INDEX(Players!A:A,MATCH($C54,Players!$C:$C,0)))","v":{"$error":"#N/A"}},5232,{"$f":"IF($C54=\"\",\"\",INDEX(Players!B:B,MATCH($C54,Players!$C:$C,0)))","v":{"$error":"#N/A"}},{"$f":"IF($C54=\"\",\"\",INDEX(Players!D:D,MATCH($C54,Players!$C:$C,0)))","v":{"$error":"#N/A"}},{"$f":"IF($C54=\"\",\"\",INDEX(Players!E:E,MATCH($C54,Players!$C:$C,0)))","v":{"$error":"#N/A"}},{"$f":"IF($C54=\"\",\"\",INDEX(Players!F:F,MATCH($C54,Players!$C:$C,0)))","v":{"$error":"#N/A"}},"Mo Sudell",2.6,null,2.6]
["*",{"$f":"IF($C55=\"\",\"\",INDEX(Players!A:A,MATCH($C55,Players!$C:$C,0)))","v":{"$error":"#N/A"}},5392,{"$f":"IF($C55=\"\",\"\",INDEX(Players!B:B,MATCH($C55,Players!$C:$C,0)))","v":{"$error":"#N/A"}},{"$f":"IF($C55=\"\",\"\",INDEX(Players!D:D,MATCH($C55,Players!$C:$C,0)))","v":{"$error":"#N/A"}},{"$f":"IF($C55=\"\",\"\",INDEX(Players!E:E,MATCH($C55,Players!$C:$C,0)))","v":{"$error":"#N/A"}},{"$f":"IF($C55=\"\",\"\",INDEX(Players!F:F,MATCH($C55,Players!$C:$C,0)))","v":{"$error":"#N/A"}},"John Murphy",3,null,3]
[null,{"$f":"IF($C56=\"\",\"\",INDEX(Players!A:A,MATCH($C56,Players!$C:$C,0)))","v":{"$error":"#N/A"}},5392,{"$f":"IF($C56=\"\",\"\",INDEX(Players!B:B,MATCH($C56,Players!$C:$C,0)))","v":{"$error":"#N/A"}},{"$f":"IF($C56=\"\",\"\",INDEX(Players!D:D,MATCH($C56,Players!$C:$C,0)))","v":{"$error":"#N/A"}},{"$f":"IF($C56=\"\",\"\",INDEX(Players!E:E,MATCH($C56,Players!$C:$C,0)))","v":{"$error":"#N/A"}},{"$f":"IF($C56=\"\",\"\",INDEX(Players!F:F,MATCH($C56,Players!$C:$C,0)))","v":{"$error":"#N/A"}},"Steve Waterhouse",2.2000000000000002,null,0]
[null,{"$f":"IF($C57=\"\",\"\",INDEX(Players!A:A,MATCH($C57,Players!$C:$C,0)))","v":{"$error":"#N/A"}},5392,{"$f":"IF($C57=\"\",\"\",INDEX(Players!B:B,MATCH($C57,Players!$C:$C,0)))","v":{"$error":"#N/A"}},{"$f":"IF($C57=\"\",\"\",INDEX(Players!D:D,MATCH($C57,Players!$C:$C,0)))","v":{"$error":"#N/A"}},{"$f":"IF($C57=\"\",\"\",INDEX(Players!E:E,MATCH($C57,Players!$C:$C,0)))","v":{"$error":"#N/A"}},{"$f":"IF($C57=\"\",\"\",INDEX(Players!F:F,MATCH($C57,Players!$C:$C,0)))","v":{"$error":"#N/A"}},"Liam Murphy",0.2,null,0]
[null,{"$f":"IF($C58=\"\",\"\",INDEX(Players!A:A,MATCH($C58,Players!$C:$C,0)))","v":{"$error":"#N/A"}},5392,{"$f":"IF($C58=\"\",\"\",INDEX(Players!B:B,MATCH($C58,Players!$C:$C,0)))","v":{"$error":"#N/A"}},{"$f":"IF($C58=\"\",\"\",INDEX(Players!D:D,MATCH($C58,Players!$C:$C,0)))","v":{"$error":"#N/A"}},{"$f":"IF($C58=\"\",\"\",INDEX(Players!E:E,MATCH($C58,Players!$C:$C,0)))","v":{"$error":"#N/A"}},{"$f":"IF($C58=\"\",\"\",INDEX(Players!F:F,MATCH($C58,Players!$C:$C,0)))","v":{"$error":"#N/A"}},"Nigel Heyes",0.1,null,0]
[null,{"$f":"IF($C59=\"\",\"\",INDEX(Players!A:A,MATCH($C59,Players!$C:$C,0)))","v":{"$error":"#N/A"}},5392,{"$f":"IF($C59=\"\",\"\",INDEX(Players!B:B,MATCH($C59,Players!$C:$C,0)))","v":{"$error":"#N/A"}},{"$f":"IF($C59=\"\",\"\",INDEX(Players!D:D,MATCH($C59,Players!$C:$C,0)))","v":{"$error":"#N/A"}},{"$f":"IF($C59=\"\",\"\",INDEX(Players!E:E,MATCH($C59,Players!$C:$C,0)))","v":{"$error":"#N/A"}},{"$f":"IF($C59=\"\",\"\",INDEX(Players!F:F,MATCH($C59,Players!$C:$C,0)))","v":{"$error":"#N/A"}},"Graham Miller",0.1,null,0]
["*",{"$f":"IF($C60=\"\",\"\",INDEX(Players!A:A,MATCH($C60,Players!$C:$C,0)))","v":{"$error":"#N/A"}},5651,{"$f":"IF($C60=\"\",\"\",INDEX(Players!B:B,MATCH($C60,Players!$C:$C,0)))","v":{"$error":"#N/A"}},{"$f":"IF($C60=\"\",\"\",INDEX(Players!D:D,MATCH($C60,Players!$C:$C,0)))","v":{"$error":"#N/A"}},{"$f":"IF($C60=\"\",\"\",INDEX(Players!E:E,MATCH($C60,Players!$C:$C,0)))","v":{"$error":"#N/A"}},{"$f":"IF($C60=\"\",\"\",INDEX(Players!F:F,MATCH($C60,Players!$C:$C,0)))","v":{"$error":"#N/A"}},"Carl Hogg",1.1000000000000001,null,1.1000000000000001]
["*",{"$f":"IF($C61=\"\",\"\",INDEX(Players!A:A,MATCH($C61,Players!$C:$C,0)))","v":{"$error":"#N/A"}},5578,{"$f":"IF($C61=\"\",\"\",INDEX(Players!B:B,MATCH($C61,Players!$C:$C,0)))","v":{"$error":"#N/A"}},{"$f":"IF($C61=\"\",\"\",INDEX(Players!D:D,MATCH($C61,Players!$C:$C,0)))","v":{"$error":"#N/A"}},{"$f":"IF($C61=\"\",\"\",INDEX(Players!E:E,MATCH($C61,Players!$C:$C,0)))","v":{"$error":"#N/A"}},{"$f":"IF($C61=\"\",\"\",INDEX(Players!F:F,MATCH($C61,Players!$C:$C,0)))","v":{"$error":"#N/A"}},"Mo Sudell",1,null,1]
["*",{"$f":"IF($C62=\"\",\"\",INDEX(Players!A:A,MATCH($C62,Players!$C:$C,0)))","v":{"$error":"#N/A"}},5460,{"$f":"IF($C62=\"\",\"\",INDEX(Players!B:B,MATCH($C62,Players!$C:$C,0)))","v":{"$error":"#N/A"}},{"$f":"IF($C62=\"\",\"\",INDEX(Players!D:D,MATCH($C62,Players!$C:$C,0)))","v":{"$error":"#N/A"}},{"$f":"IF($C62=\"\",\"\",INDEX(Players!E:E,MATCH($C62,Players!$C:$C,0)))","v":{"$error":"#N/A"}},{"$f":"IF($C62=\"\",\"\",INDEX(Players!F:F,MATCH($C62,Players!$C:$C,0)))","v":{"$error":"#N/A"}},"John Murphy",12.6,null,12.6]
[null,{"$f":"IF($C63=\"\",\"\",INDEX(Players!A:A,MATCH($C63,Players!$C:$C,0)))","v":{"$error":"#N/A"}},5460,{"$f":"IF($C63=\"\",\"\",INDEX(Players!B:B,MATCH($C63,Players!$C:$C,0)))","v":{"$error":"#N/A"}},{"$f":"IF($C63=\"\",\"\",INDEX(Players!D:D,MATCH($C63,Players!$C:$C,0)))","v":{"$error":"#N/A"}},{"$f":"IF($C63=\"\",\"\",INDEX(Players!E:E,MATCH($C63,Players!$C:$C,0)))","v":{"$error":"#N/A"}},{"$f":"IF($C63=\"\",\"\",INDEX(Players!F:F,MATCH($C63,Players!$C:$C,0)))","v":{"$error":"#N/A"}},"Liam Murphy",3.2,null,0]
[null,{"$f":"IF($C64=\"\",\"\",INDEX(Players!A:A,MATCH($C64,Players!$C:$C,0)))","v":{"$error":"#N/A"}},5460,{"$f":"IF($C64=\"\",\"\",INDEX(Players!B:B,MATCH($C64,Players!$C:$C,0)))","v":{"$error":"#N/A"}},{"$f":"IF($C64=\"\",\"\",INDEX(Players!D:D,MATCH($C64,Players!$C:$C,0)))","v":{"$error":"#N/A"}},{"$f":"IF($C64=\"\",\"\",INDEX(Players!E:E,MATCH($C64,Players!$C:$C,0)))","v":{"$error":"#N/A"}},{"$f":"IF($C64=\"\",\"\",INDEX(Players!F:F,MATCH($C64,Players!$C:$C,0)))","v":{"$error":"#N/A"}},"Steve Waterhouse",2.6,null,0]
[null,{"$f":"IF($C65=\"\",\"\",INDEX(Players!A:A,MATCH($C65,Players!$C:$C,0)))","v":{"$error":"#N/A"}},5460,{"$f":"IF($C65=\"\",\"\",INDEX(Players!B:B,MATCH($C65,Players!$C:$C,0)))","v":{"$error":"#N/A"}},{"$f":"IF($C65=\"\",\"\",INDEX(Players!D:D,MATCH($C65,Players!$C:$C,0)))","v":{"$error":"#N/A"}},{"$f":"IF($C65=\"\",\"\",INDEX(Players!E:E,MATCH($C65,Players!$C:$C,0)))","v":{"$error":"#N/A"}},{"$f":"IF($C65=\"\",\"\",INDEX(Players!F:F,MATCH($C65,Players!$C:$C,0)))","v":{"$error":"#N/A"}},"Dave Sumner",2.6,null,0]
[null,{"$f":"IF($C66=\"\",\"\",INDEX(Players!A:A,MATCH($C66,Players!$C:$C,0)))","v":{"$error":"#N/A"}},5460,{"$f":"IF($C66=\"\",\"\",INDEX(Players!B:B,MATCH($C66,Players!$C:$C,0)))","v":{"$error":"#N/A"}},{"$f":"IF($C66=\"\",\"\",INDEX(Players!D:D,MATCH($C66,Players!$C:$C,0)))","v":{"$error":"#N/A"}},{"$f":"IF($C66=\"\",\"\",INDEX(Players!E:E,MATCH($C66,Players!$C:$C,0)))","v":{"$error":"#N/A"}},{"$f":"IF($C66=\"\",\"\",INDEX(Players!F:F,MATCH($C66,Players!$C:$C,0)))","v":{"$error":"#N/A"}},"Nigel Hughes",2.6,null,0]
[null,{"$f":"IF($C67=\"\",\"\",INDEX(Players!A:A,MATCH($C67,Players!$C:$C,0)))","v":{"$error":"#N/A"}},5460,{"$f":"IF($C67=\"\",\"\",INDEX(Players!B:B,MATCH($C67,Players!$C:$C,0)))","v":{"$error":"#N/A"}},{"$f":"IF($C67=\"\",\"\",INDEX(Players!D:D,MATCH($C67,Players!$C:$C,0)))","v":{"$error":"#N/A"}},{"$f":"IF($C67=\"\",\"\",INDEX(Players!E:E,MATCH($C67,Players!$C:$C,0)))","v":{"$error":"#N/A"}},{"$f":"IF($C67=\"\",\"\",INDEX(Players!F:F,MATCH($C67,Players!$C:$C,0)))","v":{"$error":"#N/A"}},"Andy Clucas",0.3,null,{"$f":"IF(C67=\"\",0,IF(A67=\"\",0,I67))","v":0}]
[null,{"$f":"IF($C68=\"\",\"\",INDEX(Players!A:A,MATCH($C68,Players!$C:$C,0)))","v":{"$error":"#N/A"}},5460,{"$f":"IF($C68=\"\",\"\",INDEX(Players!B:B,MATCH($C68,Players!$C:$C,0)))","v":{"$error":"#N/A"}},{"$f":"IF($C68=\"\",\"\",INDEX(Players!D:D,MATCH($C68,Players!$C:$C,0)))","v":{"$error":"#N/A"}},{"$f":"IF($C68=\"\",\"\",INDEX(Players!E:E,MATCH($C68,Players!$C:$C,0)))","v":{"$error":"#N/A"}},{"$f":"IF($C68=\"\",\"\",INDEX(Players!F:F,MATCH($C68,Players!$C:$C,0)))","v":{"$error":"#N/A"}},"Graham Miller",0.1,null,0]
["*",{"$f":"IF($C69=\"\",\"\",INDEX(Players!A:A,MATCH($C69,Players!$C:$C,0)))","v":{"$error":"#N/A"}},4325,{"$f":"IF($C69=\"\",\"\",INDEX(Players!B:B,MATCH($C69,Players!$C:$C,0)))","v":{"$error":"#N/A"}},{"$f":"IF($C69=\"\",\"\",INDEX(Players!D:D,MATCH($C69,Players!$C:$C,0)))","v":{"$error":"#N/A"}},{"$f":"IF($C69=\"\",\"\",INDEX(Players!E:E,MATCH($C69,Players!$C:$C,0)))","v":{"$error":"#N/A"}},{"$f":"IF($C69=\"\",\"\",INDEX(Players!F:F,MATCH($C69,Players!$C:$C,0)))","v":{"$error":"#N/A"}},"John Murphy",3,null,3]
["*",{"$f":"IF($C70=\"\",\"\",INDEX(Players!A:A,MATCH($C70,Players!$C:$C,0)))","v":{"$error":"#N/A"}},5143,{"$f":"IF($C70=\"\",\"\",INDEX(Players!B:B,MATCH($C70,Players!$C:$C,0)))","v":{"$error":"#N/A"}},{"$f":"IF($C70=\"\",\"\",INDEX(Players!D:D,MATCH($C70,Players!$C:$C,0)))","v":{"$error":"#N/A"}},{"$f":"IF($C70=\"\",\"\",INDEX(Players!E:E,MATCH($C70,Players!$C:$C,0)))","v":{"$error":"#N/A"}},{"$f":"IF($C70=\"\",\"\",INDEX(Players!F:F,MATCH($C70,Players!$C:$C,0)))","v":{"$error":"#N/A"}},"Graham Miller",6.7,null,6.7]
[null,{"$f":"IF($C71=\"\",\"\",INDEX(Players!A:A,MATCH($C71,Players!$C:$C,0)))","v":{"$error":"#N/A"}},5143,{"$f":"IF($C71=\"\",\"\",INDEX(Players!B:B,MATCH($C71,Players!$C:$C,0)))","v":{"$error":"#N/A"}},{"$f":"IF($C71=\"\",\"\",INDEX(Players!D:D,MATCH($C71,Players!$C:$C,0)))","v":{"$error":"#N/A"}},{"$f":"IF($C71=\"\",\"\",INDEX(Players!E:E,MATCH($C71,Players!$C:$C,0)))","v":{"$error":"#N/A"}},{"$f":"IF($C71=\"\",\"\",INDEX(Players!F:F,MATCH($C71,Players!$C:$C,0)))","v":{"$error":"#N/A"}},"Steve Waterhouse",0.2,null,0]
["*",{"$f":"IF($C72=\"\",\"\",INDEX(Players!A:A,MATCH($C72,Players!$C:$C,0)))","v":{"$error":"#N/A"}},4740,{"$f":"IF($C72=\"\",\"\",INDEX(Players!B:B,MATCH($C72,Players!$C:$C,0)))","v":{"$error":"#N/A"}},{"$f":"IF($C72=\"\",\"\",INDEX(Players!D:D,MATCH($C72,Players!$C:$C,0)))","v":{"$error":"#N/A"}},{"$f":"IF($C72=\"\",\"\",INDEX(Players!E:E,MATCH($C72,Players!$C:$C,0)))","v":{"$error":"#N/A"}},{"$f":"IF($C72=\"\",\"\",INDEX(Players!F:F,MATCH($C72,Players!$C:$C,0)))","v":{"$error":"#N/A"}},"Mo Sudell",1.5,null,1.5]
["*",{"$f":"IF($C73=\"\",\"\",INDEX(Players!A:A,MATCH($C73,Players!$C:$C,0)))","v":{"$error":"#N/A"}},5900,{"$f":"IF($C73=\"\",\"\",INDEX(Players!B:B,MATCH($C73,Players!$C:$C,0)))","v":{"$error":"#N/A"}},{"$f":"IF($C73=\"\",\"\",INDEX(Players!D:D,MATCH($C73,Players!$C:$C,0)))","v":{"$error":"#N/A"}},{"$f":"IF($C73=\"\",\"\",INDEX(Players!E:E,MATCH($C73,Players!$C:$C,0)))","v":{"$error":"#N/A"}},{"$f":"IF($C73=\"\",\"\",INDEX(Players!F:F,MATCH($C73,Players!$C:$C,0)))","v":{"$error":"#N/A"}},"Paul Fairhurst",0.3,null,0.3]
["*",{"$f":"IF($C74=\"\",\"\",INDEX(Players!A:A,MATCH($C74,Players!$C:$C,0)))","v":{"$error":"#N/A"}},3771,{"$f":"IF($C74=\"\",\"\",INDEX(Players!B:B,MATCH($C74,Players!$C:$C,0)))","v":{"$error":"#N/A"}},{"$f":"IF($C74=\"\",\"\",INDEX(Players!D:D,MATCH($C74,Players!$C:$C,0)))","v":{"$error":"#N/A"}},{"$f":"IF($C74=\"\",\"\",INDEX(Players!E:E,MATCH($C74,Players!$C:$C,0)))","v":{"$error":"#N/A"}},{"$f":"IF($C74=\"\",\"\",INDEX(Players!F:F,MATCH($C74,Players!$C:$C,0)))","v":{"$error":"#N/A"}},"Nigel Heyes",0.3,null,0.3]
["*",{"$f":"IF($C75=\"\",\"\",INDEX(Players!A:A,MATCH($C75,Players!$C:$C,0)))","v":{"$error":"#N/A"}},4632,{"$f":"IF($C75=\"\",\"\",INDEX(Players!B:B,MATCH($C75,Players!$C:$C,0)))","v":{"$error":"#N/A"}},{"$f":"IF($C75=\"\",\"\",INDEX(Players!D:D,MATCH($C75,Players!$C:$C,0)))","v":{"$error":"#N/A"}},{"$f":"IF($C75=\"\",\"\",INDEX(Players!E:E,MATCH($C75,Players!$C:$C,0)))","v":{"$error":"#N/A"}},{"$f":"IF($C75=\"\",\"\",INDEX(Players!F:F,MATCH($C75,Players!$C:$C,0)))","v":{"$error":"#N/A"}},"Howard Bradley",4.7,null,4.7]
[null,{"$f":"IF($C76=\"\",\"\",INDEX(Players!A:A,MATCH($C76,Players!$C:$C,0)))","v":{"$error":"#N/A"}},4632,{"$f":"IF($C76=\"\",\"\",INDEX(Players!B:B,MATCH($C76,Players!$C:$C,0)))","v":{"$error":"#N/A"}},{"$f":"IF($C76=\"\",\"\",INDEX(Players!D:D,MATCH($C76,Players!$C:$C,0)))","v":{"$error":"#N/A"}},{"$f":"IF($C76=\"\",\"\",INDEX(Players!E:E,MATCH($C76,Players!$C:$C,0)))","v":{"$error":"#N/A"}},{"$f":"IF($C76=\"\",\"\",INDEX(Players!F:F,MATCH($C76,Players!$C:$C,0)))","v":{"$error":"#N/A"}},"Liam Murphy",0.2,null,0]
["*",{"$f":"IF($C77=\"\",\"\",INDEX(Players!A:A,MATCH($C77,Players!$C:$C,0)))","v":{"$error":"#N/A"}},5781,{"$f":"IF($C77=\"\",\"\",INDEX(Players!B:B,MATCH($C77,Players!$C:$C,0)))","v":{"$error":"#N/A"}},{"$f":"IF($C77=\"\",\"\",INDEX(Players!D:D,MATCH($C77,Players!$C:$C,0)))","v":{"$error":"#N/A"}},{"$f":"IF($C77=\"\",\"\",INDEX(Players!E:E,MATCH($C77,Players!$C:$C,0)))","v":{"$error":"#N/A"}},{"$f":"IF($C77=\"\",\"\",INDEX(Players!F:F,MATCH($C77,Players!$C:$C,0)))","v":{"$error":"#N/A"}},"Dave Sumner",0.2,null,0.2]
["*",{"$f":"IF($C78=\"\",\"\",INDEX(Players!A:A,MATCH($C78,Players!$C:$C,0)))","v":{"$error":"#N/A"}},5491,{"$f":"IF($C78=\"\",\"\",INDEX(Players!B:B,MATCH($C78,Players!$C:$C,0)))","v":{"$error":"#N/A"}},{"$f":"IF($C78=\"\",\"\",INDEX(Players!D:D,MATCH($C78,Players!$C:$C,0)))","v":{"$error":"#N/A"}},{"$f":"IF($C78=\"\",\"\",INDEX(Players!E:E,MATCH($C78,Players!$C:$C,0)))","v":{"$error":"#N/A"}},{"$f":"IF($C78=\"\",\"\",INDEX(Players!F:F,MATCH($C78,Players!$C:$C,0)))","v":{"$error":"#N/A"}},"Andy Clucas",0.4,null,0.4]
["*",{"$f":"IF($C79=\"\",\"\",INDEX(Players!A:A,MATCH($C79,Players!$C:$C,0)))","v":{"$error":"#N/A"}},4238,{"$f":"IF($C79=\"\",\"\",INDEX(Players!B:B,MATCH($C79,Players!$C:$C,0)))","v":{"$error":"#N/A"}},{"$f":"IF($C79=\"\",\"\",INDEX(Players!D:D,MATCH($C79,Players!$C:$C,0)))","v":{"$error":"#N/A"}},{"$f":"IF($C79=\"\",\"\",INDEX(Players!E:E,MATCH($C79,Players!$C:$C,0)))","v":{"$error":"#N/A"}},{"$f":"IF($C79=\"\",\"\",INDEX(Players!F:F,MATCH($C79,Players!$C:$C,0)))","v":{"$error":"#N/A"}},"John Murphy",1,null,1]
["*",{"$f":"IF($C80=\"\",\"\",INDEX(Players!A:A,MATCH($C80,Players!$C:$C,0)))","v":{"$error":"#N/A"}},5768,{"$f":"IF($C80=\"\",\"\",INDEX(Players!B:B,MATCH($C80,Players!$C:$C,0)))","v":{"$error":"#N/A"}},{"$f":"IF($C80=\"\",\"\",INDEX(Players!D:D,MATCH($C80,Players!$C:$C,0)))","v":{"$error":"#N/A"}},{"$f":"IF($C80=\"\",\"\",INDEX(Players!E:E,MATCH($C80,Players!$C:$C,0)))","v":{"$error":"#N/A"}},{"$f":"IF($C80=\"\",\"\",INDEX(Players!F:F,MATCH($C80,Players!$C:$C,0)))","v":{"$error":"#N/A"}},"Graham Miller",0.3,null,0.3]
["*",{"$f":"IF($C81=\"\",\"\",INDEX(Players!A:A,MATCH($C81,Players!$C:$C,0)))","v":{"$error":"#N/A"}},4368,{"$f":"IF($C81=\"\",\"\",INDEX(Players!B:B,MATCH($C81,Players!$C:$C,0)))","v":{"$error":"#N/A"}},{"$f":"IF($C81=\"\",\"\",INDEX(Players!D:D,MATCH($C81,Players!$C:$C,0)))","v":{"$error":"#N/A"}},{"$f":"IF($C81=\"\",\"\",INDEX(Players!E:E,MATCH($C81,Players!$C:$C,0)))","v":{"$error":"#N/A"}},{"$f":"IF($C81=\"\",\"\",INDEX(Players!F:F,MATCH($C81,Players!$C:$C,0)))","v":{"$error":"#N/A"}},"Liam Murphy",0.2,null,0.2]
["*",{"$f":"IF($C82=\"\",\"\",INDEX(Players!A:A,MATCH($C82,Players!$C:$C,0)))","v":{"$error":"#N/A"}},5534,{"$f":"IF($C82=\"\",\"\",INDEX(Players!B:B,MATCH($C82,Players!$C:$C,0)))","v":{"$error":"#N/A"}},{"$f":"IF($C82=\"\",\"\",INDEX(Players!D:D,MATCH($C82,Players!$C:$C,0)))","v":{"$error":"#N/A"}},{"$f":"IF($C82=\"\",\"\",INDEX(Players!E:E,MATCH($C82,Players!$C:$C,0)))","v":{"$error":"#N/A"}},{"$f":"IF($C82=\"\",\"\",INDEX(Players!F:F,MATCH($C82,Players!$C:$C,0)))","v":{"$error":"#N/A"}},"Dave Sumner",2.2999999999999998,null,2.2999999999999998]
["*",{"$f":"IF($C83=\"\",\"\",INDEX(Players!A:A,MATCH($C83,Players!$C:$C,0)))","v":{"$error":"#N/A"}},5903,{"$f":"IF($C83=\"\",\"\",INDEX(Players!B:B,MATCH($C83,Players!$C:$C,0)))","v":{"$error":"#N/A"}},{"$f":"IF($C83=\"\",\"\",INDEX(Players!D:D,MATCH($C83,Players!$C:$C,0)))","v":{"$error":"#N/A"}},{"$f":"IF($C83=\"\",\"\",INDEX(Players!E:E,MATCH($C83,Players!$C:$C,0)))","v":{"$error":"#N/A"}},{"$f":"IF($C83=\"\",\"\",INDEX(Players!F:F,MATCH($C83,Players!$C:$C,0)))","v":{"$error":"#N/A"}},"Carl Hogg",1.2,null,1.2]
[null,{"$f":"IF($C84=\"\",\"\",INDEX(Players!A:A,MATCH($C84,Players!$C:$C,0)))","v":""},null,{"$f":"IF($C84=\"\",\"\",INDEX(Players!B:B,MATCH($C84,Players!$C:$C,0)))","v":""},{"$f":"IF($C84=\"\",\"\",INDEX(Players!D:D,MATCH($C84,Players!$C:$C,0)))","v":""},{"$f":"IF($C84=\"\",\"\",INDEX(Players!E:E,MATCH($C84,Players!$C:$C,0)))","v":""},{"$f":"IF($C84=\"\",\"\",INDEX(Players!F:F,MATCH($C84,Players!$C:$C,0)))","v":""},null,null,null,0]
[null,{"$f":"IF($C85=\"\",\"\",INDEX(Players!A:A,MATCH($C85,Players!$C:$C,0)))","v":""},null,{"$f":"IF($C85=\"\",\"\",INDEX(Players!B:B,MATCH($C85,Players!$C:$C,0)))","v":""},{"$f":"IF($C85=\"\",\"\",INDEX(Players!D:D,MATCH($C85,Players!$C:$C,0)))","v":""},{"$f":"IF($C85=\"\",\"\",INDEX(Players!E:E,MATCH($C85,Players!$C:$C,0)))","v":""},{"$f":"IF($C85=\"\",\"\",INDEX(Players!F:F,MATCH($C85,Players!$C:$C,0)))","v":""},null,null,null,0]
[null,{"$f":"IF($C86=\"\",\"\",INDEX(Players!A:A,MATCH($C86,Players!$C:$C,0)))","v":""},null,{"$f":"IF($C86=\"\",\"\",INDEX(Players!B:B,MATCH($C86,Players!$C:$C,0)))","v":""},{"$f":"IF($C86=\"\",\"\",INDEX(Players!D:D,MATCH($C86,Players!$C:$C,0)))","v":""},{"$f":"IF($C86=\"\",\"\",INDEX(Players!E:E,MATCH($C86,Players!$C:$C,0)))","v":""},{"$f":"IF($C86=\"\",\"\",INDEX(Players!F:F,MATCH($C86,Players!$C:$C,0)))","v":""},null,null,null,0]
[null,{"$f":"IF($C87=\"\",\"\",INDEX(Players!A:A,MATCH($C87,Players!$C:$C,0)))","v":""},null,{"$f":"IF($C87=\"\",\"\",INDEX(Players!B:B,MATCH($C87,Players!$C:$C,0)))","v":""},{"$f":"IF($C87=\"\",\"\",INDEX(Players!D:D,MATCH($C87,Players!$C:$C,0)))","v":""},{"$f":"IF($C87=\"\",\"\",INDEX(Players!E:E,MATCH($C87,Players!$C:$C,0)))","v":""},{"$f":"IF($C87=\"\",\"\",INDEX(Players!F:F,MATCH($C87,Players!$C:$C,0)))","v":""},null,null,null,0]
[null,{"$f":"IF($C88=\"\",\"\",INDEX(Players!A:A,MATCH($C88,Players!$C:$C,0)))","v":""},null,{"$f":"IF($C88=\"\",\"\",INDEX(Players!B:B,MATCH($C88,Players!$C:$C,0)))","v":""},{"$f":"IF($C88=\"\",\"\",INDEX(Players!D:D,MATCH($C88,Players!$C:$C,0)))","v":""},{"$f":"IF($C88=\"\",\"\",INDEX(Players!E:E,MATCH($C88,Players!$C:$C,0)))","v":""},{"$f":"IF($C88=\"\",\"\",INDEX(Players!F:F,MATCH($C88,Players!$C:$C,0)))","v":""},null,null,null,0]
[null,{"$f":"IF($C89=\"\",\"\",INDEX(Players!A:A,MATCH($C89,Players!$C:$C,0)))","v":""},null,{"$f":"IF($C89=\"\",\"\",INDEX(Players!B:B,MATCH($C89,Players!$C:$C,0)))","v":""},{"$f":"IF($C89=\"\",\"\",INDEX(Players!D:D,MATCH($C89,Players!$C:$C,0)))","v":""},{"$f":"IF($C89=\"\",\"\",INDEX(Players!E:E,MATCH($C89,Players!$C:$C,0)))","v":""},{"$f":"IF($C89=\"\",\"\",INDEX(Players!F:F,MATCH($C89,Players!$C:$C,0)))","v":""},null,null,null,0]
[null,{"$f":"IF($C90=\"\",\"\",INDEX(Players!A:A,MATCH($C90,Players!$C:$C,0)))","v":""},null,{"$f":"IF($C90=\"\",\"\",INDEX(Players!B:B,MATCH($C90,Players!$C:$C,0)))","v":""},{"$f":"IF($C90=\"\",\"\",INDEX(Players!D:D,MATCH($C90,Players!$C:$C,0)))","v":""},{"$f":"IF($C90=\"\",\"\",INDEX(Players!E:E,MATCH($C90,Players!$C:$C,0)))","v":""},{"$f":"IF($C90=\"\",\"\",INDEX(Players!F:F,MATCH($C90,Players!$C:$C,0)))","v":""},null,null,null,0]
[null,{"$f":"IF($C91=\"\",\"\",INDEX(Players!A:A,MATCH($C91,Players!$C:$C,0)))","v":""},null,{"$f":"IF($C91=\"\",\"\",INDEX(Players!B:B,MATCH($C91,Players!$C:$C,0)))","v":""},{"$f":"IF($C91=\"\",\"\",INDEX(Players!D:D,MATCH($C91,Players!$C:$C,0)))","v":""},{"$f":"IF($C91=\"\",\"\",INDEX(Players!E:E,MATCH($C91,Players!$C:$C,0)))","v":""},{"$f":"IF($C91=\"\",\"\",INDEX(Players!F:F,MATCH($C91,Players!$C:$C,0)))","v":""},null,null,null,0]
[null,{"$f":"IF($C92=\"\",\"\",INDEX(Players!A:A,MATCH($C92,Players!$C:$C,0)))","v":""},null,{"$f":"IF($C92=\"\",\"\",INDEX(Players!B:B,MATCH($C92,Players!$C:$C,0)))","v":""},{"$f":"IF($C92=\"\",\"\",INDEX(Players!D:D,MATCH($C92,Players!$C:$C,0)))","v":""},{"$f":"IF($C92=\"\",\"\",INDEX(Players!E:E,MATCH($C92,Players!$C:$C,0)))","v":""},{"$f":"IF($C92=\"\",\"\",INDEX(Players!F:F,MATCH($C92,Players!$C:$C,0)))","v":""},null,null,null,0]
[null,{"$f":"IF($C93=\"\",\"\",INDEX(Players!A:A,MATCH($C93,Players!$C:$C,0)))","v":""},null,{"$f":"IF($C93=\"\",\"\",INDEX(Players!B:B,MATCH($C93,Players!$C:$C,0)))","v":""},{"$f":"IF($C93=\"\",\"\",INDEX(Players!D:D,MATCH($C93,Players!$C:$C,0)))","v":""},{"$f":"IF($C93=\"\",\"\",INDEX(Players!E:E,MATCH($C93,Players!$C:$C,0)))","v":""},{"$f":"IF($C93=\"\",\"\",INDEX(Players!F:F,MATCH($C93,Players!$C:$C,0)))","v":""},null,null,null,0]
[null,{"$f":"IF($C94=\"\",\"\",INDEX(Players!A:A,MATCH($C94,Players!$C:$C,0)))","v":""},null,{"$f":"IF($C94=\"\",\"\",INDEX(Players!B:B,MATCH($C94,Players!$C:$C,0)))","v":""},{"$f":"IF($C94=\"\",\"\",INDEX(Players!D:D,MATCH($C94,Players!$C:$C,0)))","v":""},{"$f":"IF($C94=\"\",\"\",INDEX(Players!E:E,MATCH($C94,Players!$C:$C,0)))","v":""},{"$f":"IF($C94=\"\",\"\",INDEX(Players!F:F,MATCH($C94,Players!$C:$C,0)))","v":""},null,null,null,0]
[null,{"$f":"IF($C95=\"\",\"\",INDEX(Players!A:A,MATCH($C95,Players!$C:$C,0)))","v":""},null,{"$f":"IF($C95=\"\",\"\",INDEX(Players!B:B,MATCH($C95,Players!$C:$C,0)))","v":""},{"$f":"IF($C95=\"\",\"\",INDEX(Players!D:D,MATCH($C95,Players!$C:$C,0)))","v":""},{"$f":"IF($C95=\"\",\"\",INDEX(Players!E:E,MATCH($C95,Players!$C:$C,0)))","v":""},{"$f":"IF($C95=\"\",\"\",INDEX(Players!F:F,MATCH($C95,Players!$C:$C,0)))","v":""},null,null,null,0]
[null,{"$f":"IF($C96=\"\",\"\",INDEX(Players!A:A,MATCH($C96,Players!$C:$C,0)))","v":""},null,{"$f":"IF($C96=\"\",\"\",INDEX(Players!B:B,MATCH($C96,Players!$C:$C,0)))","v":""},{"$f":"IF($C96=\"\",\"\",INDEX(Players!D:D,MATCH($C96,Players!$C:$C,0)))","v":""},{"$f":"IF($C96=\"\",\"\",INDEX(Players!E:E,MATCH($C96,Players!$C:$C,0)))","v":""},{"$f":"IF($C96=\"\",\"\",INDEX(Players!F:F,MATCH($C96,Players!$C:$C,0)))","v":""},null,null,null,0]
[null,{"$f":"IF($C97=\"\",\"\",INDEX(Players!A:A,MATCH($C97,Players!$C:$C,0)))","v":""},null,{"$f":"IF($C97=\"\",\"\",INDEX(Players!B:B,MATCH($C97,Players!$C:$C,0)))","v":""},{"$f":"IF($C97=\"\",\"\",INDEX(Players!D:D,MATCH($C97,Players!$C:$C,0)))","v":""},{"$f":"IF($C97=\"\",\"\",INDEX(Players!E:E,MATCH($C97,Players!$C:$C,0)))","v":""},{"$f":"IF($C97=\"\",\"\",INDEX(Players!F:F,MATCH($C97,Players!$C:$C,0)))","v":""},null,null,null,0]
[null,{"$f":"IF($C98=\"\",\"\",INDEX(Players!A:A,MATCH($C98,Players!$C:$C,0)))","v":""},null,{"$f":"IF($C98=\"\",\"\",INDEX(Players!B:B,MATCH($C98,Players!$C:$C,0)))","v":""},{"$f":"IF($C98=\"\",\"\",INDEX(Players!D:D,MATCH($C98,Players!$C:$C,0)))","v":""},{"$f":"IF($C98=\"\",\"\",INDEX(Players!E:E,MATCH($C98,Players!$C:$C,0)))","v":""},{"$f":"IF($C98=\"\",\"\",INDEX(Players!F:F,MATCH($C98,Players!$C:$C,0)))","v":""},null,null,null,0]
[null,{"$f":"IF($C99=\"\",\"\",INDEX(Players!A:A,MATCH($C99,Players!$C:$C,0)))","v":""},null,{"$f":"IF($C99=\"\",\"\",INDEX(Players!B:B,MATCH($C99,Players!$C:$C,0)))","v":""},{"$f":"IF($C99=\"\",\"\",INDEX(Players!D:D,MATCH($C99,Players!$C:$C,0)))","v":""},{"$f":"IF($C99=\"\",\"\",INDEX(Players!E:E,MATCH($C99,Players!$C:$C,0)))","v":""},{"$f":"IF($C99=\"\",\"\",INDEX(Players!F:F,MATCH($C99,Players!$C:$C,0)))","v":""},null,null,null,{"$f":"IF(C99=\"\",0,IF(A99=\"\",0,I99))","v":0}]
[null,{"$f":"IF($C100=\"\",\"\",INDEX(Players!A:A,MATCH($C100,Players!$C:$C,0)))","v":""},null,{"$f":"IF($C100=\"\",\"\",INDEX(Players!B:B,MATCH($C100,Players!$C:$C,0)))","v":""},{"$f":"IF($C100=\"\",\"\",INDEX(Players!D:D,MATCH($C100,Players!$C:$C,0)))","v":""},{"$f":"IF($C100=\"\",\"\",INDEX(Players!E:E,MATCH($C100,Players!$C:$C,0)))","v":""},{"$f":"IF($C100=\"\",\"\",INDEX(Players!F:F,MATCH($C100,Players!$C:$C,0)))","v":""},null,null,null,0]
[null,{"$f":"IF($C101=\"\",\"\",INDEX(Players!A:A,MATCH($C101,Players!$C:$C,0)))","v":""},null,{"$f":"IF($C101=\"\",\"\",INDEX(Players!B:B,MATCH($C101,Players!$C:$C,0)))","v":""},{"$f":"IF($C101=\"\",\"\",INDEX(Players!D:D,MATCH($C101,Players!$C:$C,0)))","v":""},{"$f":"IF($C101=\"\",\"\",INDEX(Players!E:E,MATCH($C101,Players!$C:$C,0)))","v":""},{"$f":"IF($C101=\"\",\"\",INDEX(Players!F:F,MATCH($C101,Players!$C:$C,0)))","v":""},null,null,null,0]
[null,{"$f":"IF($C102=\"\",\"\",INDEX(Players!A:A,MATCH($C102,Players!$C:$C,0)))","v":""},null,{"$f":"IF($C102=\"\",\"\",INDEX(Players!B:B,MATCH($C102,Players!$C:$C,0)))","v":""},{"$f":"IF($C102=\"\",\"\",INDEX(Players!D:D,MATCH($C102,Players!$C:$C,0)))","v":""},{"$f":"IF($C102=\"\",\"\",INDEX(Players!E:E,MATCH($C102,Players!$C:$C,0)))","v":""},{"$f":"IF($C102=\"\",\"\",INDEX(Players!F:F,MATCH($C102,Players!$C:$C,0)))","v":""},null,null,null,0]
[null,{"$f":"IF($C103=\"\",\"\",INDEX(Players!A:A,MATCH($C103,Players!$C:$C,0)))","v":""},null,{"$f":"IF($C103=\"\",\"\",INDEX(Players!B:B,MATCH($C103,Players!$C:$C,0)))","v":""},{"$f":"IF($C103=\"\",\"\",INDEX(Players!D:D,MATCH($C103,Players!$C:$C,0)))","v":""},{"$f":"IF($C103=\"\",\"\",INDEX(Players!E:E,MATCH($C103,Players!$C:$C,0)))","v":""},{"$f":"IF($C103=\"\",\"\",INDEX(Players!F:F,MATCH($C103,Players!$C:$C,0)))","v":""},null,null,null,0]
[null,{"$f":"IF($C104=\"\",\"\",INDEX(Players!A:A,MATCH($C104,Players!$C:$C,0)))","v":""},null,{"$f":"IF($C104=\"\",\"\",INDEX(Players!B:B,MATCH($C104,Players!$C:$C,0)))","v":""},{"$f":"IF($C104=\"\",\"\",INDEX(Players!D:D,MATCH($C104,Players!$C:$C,0)))","v":""},{"$f":"IF($C104=\"\",\"\",INDEX(Players!E:E,MATCH($C104,Players!$C:$C,0)))","v":""},{"$f":"IF($C104=\"\",\"\",INDEX(Players!F:F,MATCH($C104,Players!$C:$C,0)))","v":""},null,null,null,0]
[null,{"$f":"IF($C105=\"\",\"\",INDEX(Players!A:A,MATCH($C105,Players!$C:$C,0)))","v":""},null,{"$f":"IF($C105=\"\",\"\",INDEX(Players!B:B,MATCH($C105,Players!$C:$C,0)))","v":""},{"$f":"IF($C105=\"\",\"\",INDEX(Players!D:D,MATCH($C105,Players!$C:$C,0)))","v":""},{"$f":"IF($C105=\"\",\"\",INDEX(Players!E:E,MATCH($C105,Players!$C:$C,0)))","v":""},{"$f":"IF($C105=\"\",\"\",INDEX(Players!F:F,MATCH($C105,Players!$C:$C,0)))","v":""},null,null,null,0]
[null,{"$f":"IF($C106=\"\",\"\",INDEX(Players!A:A,MATCH($C106,Players!$C:$C,0)))","v":""},null,{"$f":"IF($C106=\"\",\"\",INDEX(Players!B:B,MATCH($C106,Players!$C:$C,0)))","v":""},{"$f":"IF($C106=\"\",\"\",INDEX(Players!D:D,MATCH($C106,Players!$C:$C,0)))","v":""},{"$f":"IF($C106=\"\",\"\",INDEX(Players!E:E,MATCH($C106,Players!$C:$C,0)))","v":""},{"$f":"IF($C106=\"\",\"\",INDEX(Players!F:F,MATCH($C106,Players!$C:$C,0)))","v":""},null,null,null,0]
[null,{"$f":"IF($C107=\"\",\"\",INDEX(Players!A:A,MATCH($C107,Players!$C:$C,0)))","v":""},null,{"$f":"IF($C107=\"\",\"\",INDEX(Players!B:B,MATCH($C107,Players!$C:$C,0)))","v":""},{"$f":"IF($C107=\"\",\"\",INDEX(Players!D:D,MATCH($C107,Players!$C:$C,0)))","v":""},{"$f":"IF($C107=\"\",\"\",INDEX(Players!E:E,MATCH($C107,Players!$C:$C,0)))","v":""},{"$f":"IF($C107=\"\",\"\",INDEX(Players!F:F,MATCH($C107,Players!$C:$C,0)))","v":""},null,null,null,0]
[null,{"$f":"IF($C108=\"\",\"\",INDEX(Players!A:A,MATCH($C108,Players!$C:$C,0)))","v":""},null,{"$f":"IF($C108=\"\",\"\",INDEX(Players!B:B,MATCH($C108,Players!$C:$C,0)))","v":""},{"$f":"IF($C108=\"\",\"\",INDEX(Players!D:D,MATCH($C108,Players!$C:$C,0)))","v":""},{"$f":"IF($C108=\"\",\"\",INDEX(Players!E:E,MATCH($C108,Players!$C:$C,0)))","v":""},{"$f":"IF($C108=\"\",\"\",INDEX(Players!F:F,MATCH($C108,Players!$C:$C,0)))","v":""},null,null,null,0]
[null,{"$f":"IF($C109=\"\",\"\",INDEX(Players!A:A,MATCH($C109,Players!$C:$C,0)))","v":""},null,{"$f":"IF($C109=\"\",\"\",INDEX(Players!B:B,MATCH($C109,Players!$C:$C,0)))","v":""},{"$f":"IF($C109=\"\",\"\",INDEX(Players!D:D,MATCH($C109,Players!$C:$C,0)))","v":""},{"$f":"IF($C109=\"\",\"\",INDEX(Players!E:E,MATCH($C109,Players!$C:$C,0)))","v":""},{"$f":"IF($C109=\"\",\"\",INDEX(Players!F:F,MATCH($C109,Players!$C:$C,0)))","v":""},null,null,null,0]
[null,{"$f":"IF($C110=\"\",\"\",INDEX(Players!A:A,MATCH($C110,Players!$C:$C,0)))","v":""},null,{"$f":"IF($C110=\"\",\"\",INDEX(Players!B:B,MATCH($C110,Players!$C:$C,0)))","v":""},{"$f":"IF($C110=\"\",\"\",INDEX(Players!D:D,MATCH($C110,Players!$C:$C,0)))","v":""},{"$f":"IF($C110=\"\",\"\",INDEX(Players!E:E,MATCH($C110,Players!$C:$C,0)))","v":""},{"$f":"IF($C110=\"\",\"\",INDEX(Players!F:F,MATCH($C110,Players!$C:$C,0)))","v":""},null,null,null,0]
[null,{"$f":"IF($C111=\"\",\"\",INDEX(Players!A:A,MATCH($C111,Players!$C:$C,0)))","v":""},null,{"$f":"IF($C111=\"\",\"\",INDEX(Players!B:B,MATCH($C111,Players!$C:$C,0)))","v":""},{"$f":"IF($C111=\"\",\"\",INDEX(Players!D:D,MATCH($C111,Players!$C:$C,0)))","v":""},{"$f":"IF($C111=\"\",\"\",INDEX(Players!E:E,MATCH($C111,Players!$C:$C,0)))","v":""},{"$f":"IF($C111=\"\",\"\",INDEX(Players!F:F,MATCH($C111,Players!$C:$C,0)))","v":""},null,null,null,0]
[null,{"$f":"IF($C112=\"\",\"\",INDEX(Players!A:A,MATCH($C112,Players!$C:$C,0)))","v":""},null,{"$f":"IF($C112=\"\",\"\",INDEX(Players!B:B,MATCH($C112,Players!$C:$C,0)))","v":""},{"$f":"IF($C112=\"\",\"\",INDEX(Players!D:D,MATCH($C112,Players!$C:$C,0)))","v":""},{"$f":"IF($C112=\"\",\"\",INDEX(Players!E:E,MATCH($C112,Players!$C:$C,0)))","v":""},{"$f":"IF($C112=\"\",\"\",INDEX(Players!F:F,MATCH($C112,Players!$C:$C,0)))","v":""},null,null,null,0]
[null,{"$f":"IF($C113=\"\",\"\",INDEX(Players!A:A,MATCH($C113,Players!$C:$C,0)))","v":""},null,{"$f":"IF($C113=\"\",\"\",INDEX(Players!B:B,MATCH($C113,Players!$C:$C,0)))","v":""},{"$f":"IF($C113=\"\",\"\",INDEX(Players!D:D,MATCH($C113,Players!$C:$C,0)))","v":""},{"$f":"IF($C113=\"\",\"\",INDEX(Players!E:E,MATCH($C113,Players!$C:$C,0)))","v":""},{"$f":"IF($C113=\"\",\"\",INDEX(Players!F:F,MATCH($C113,Players!$C:$C,0)))","v":""},null,null,null,0]
[null,{"$f":"IF($C114=\"\",\"\",INDEX(Players!A:A,MATCH($C114,Players!$C:$C,0)))","v":""},null,{"$f":"IF($C114=\"\",\"\",INDEX(Players!B:B,MATCH($C114,Players!$C:$C,0)))","v":""},{"$f":"IF($C114=\"\",\"\",INDEX(Players!D:D,MATCH($C114,Players!$C:$C,0)))","v":""},{"$f":"IF($C114=\"\",\"\",INDEX(Players!E:E,MATCH($C114,Players!$C:$C,0)))","v":""},{"$f":"IF($C114=\"\",\"\",INDEX(Players!F:F,MATCH($C114,Players!$C:$C,0)))","v":""},null,null,null,0]
[null,{"$f":"IF($C115=\"\",\"\",INDEX(Players!A:A,MATCH($C115,Players!$C:$C,0)))","v":""},null,{"$f":"IF($C115=\"\",\"\",INDEX(Players!B:B,MATCH($C115,Players!$C:$C,0)))","v":""},{"$f":"IF($C115=\"\",\"\",INDEX(Players!D:D,MATCH($C115,Players!$C:$C,0)))","v":""},{"$f":"IF($C115=\"\",\"\",INDEX(Players!E:E,MATCH($C115,Players!$C:$C,0)))","v":""},{"$f":"IF($C115=\"\",\"\",INDEX(Players!F:F,MATCH($C115,Players!$C:$C,0)))","v":""},null,null,null,0]
[null,{"$f":"IF($C116=\"\",\"\",INDEX(Players!A:A,MATCH($C116,Players!$C:$C,0)))","v":""},null,{"$f":"IF($C116=\"\",\"\",INDEX(Players!B:B,MATCH($C116,Players!$C:$C,0)))","v":""},{"$f":"IF($C116=\"\",\"\",INDEX(Players!D:D,MATCH($C116,Players!$C:$C,0)))","v":""},{"$f":"IF($C116=\"\",\"\",INDEX(Players!E:E,MATCH($C116,Players!$C:$C,0)))","v":""},{"$f":"IF($C116=\"\",\"\",INDEX(Players!F:F,MATCH($C116,Players!$C:$C,0)))","v":""},null,null,null,0]
[null,{"$f":"IF($C117=\"\",\"\",INDEX(Players!A:A,MATCH($C117,Players!$C:$C,0)))","v":""},null,{"$f":"IF($C117=\"\",\"\",INDEX(Players!B:B,MATCH($C117,Players!$C:$C,0)))","v":""},{"$f":"IF($C117=\"\",\"\",INDEX(Players!D:D,MATCH($C117,Players!$C:$C,0)))","v":""},{"$f":"IF($C117=\"\",\"\",INDEX(Players!E:E,MATCH($C117,Players!$C:$C,0)))","v":""},{"$f":"IF($C117=\"\",\"\",INDEX(Players!F:F,MATCH($C117,Players!$C:$C,0)))","v":""},null,null,null,0]
[null,{"$f":"IF($C118=\"\",\"\",INDEX(Players!A:A,MATCH($C118,Players!$C:$C,0)))","v":""},null,{"$f":"IF($C118=\"\",\"\",INDEX(Players!B:B,MATCH($C118,Players!$C:$C,0)))","v":""},{"$f":"IF($C118=\"\",\"\",INDEX(Players!D:D,MATCH($C118,Players!$C:$C,0)))","v":""},{"$f":"IF($C118=\"\",\"\",INDEX(Players!E:E,MATCH($C118,Players!$C:$C,0)))","v":""},{"$f":"IF($C118=\"\",\"\",INDEX(Players!F:F,MATCH($C118,Players!$C:$C,0)))","v":""},null,null,null,0]
[null,{"$f":"IF($C119=\"\",\"\",INDEX(Players!A:A,MATCH($C119,Players!$C:$C,0)))","v":""},null,{"$f":"IF($C119=\"\",\"\",INDEX(Players!B:B,MATCH($C119,Players!$C:$C,0)))","v":""},{"$f":"IF($C119=\"\",\"\",INDEX(Players!D:D,MATCH($C119,Players!$C:$C,0)))","v":""},{"$f":"IF($C119=\"\",\"\",INDEX(Players!E:E,MATCH($C119,Players!$C:$C,0)))","v":""},{"$f":"IF($C119=\"\",\"\",INDEX(Players!F:F,MATCH($C119,Players!$C:$C,0)))","v":""},null,null,null,0]
[null,{"$f":"IF($C120=\"\",\"\",INDEX(Players!A:A,MATCH($C120,Players!$C:$C,0)))","v":""},null,{"$f":"IF($C120=\"\",\"\",INDEX(Players!B:B,MATCH($C120,Players!$C:$C,0)))","v":""},{"$f":"IF($C120=\"\",\"\",INDEX(Players!D:D,MATCH($C120,Players!$C:$C,0)))","v":""},{"$f":"IF($C120=\"\",\"\",INDEX(Players!E:E,MATCH($C120,Players!$C:$C,0)))","v":""},{"$f":"IF($C120=\"\",\"\",INDEX(Players!F:F,MATCH($C120,Players!$C:$C,0)))","v":""},null,null,null,0]
[null,{"$f":"IF($C121=\"\",\"\",INDEX(Players!A:A,MATCH($C121,Players!$C:$C,0)))","v":""},null,{"$f":"IF($C121=\"\",\"\",INDEX(Players!B:B,MATCH($C121,Players!$C:$C,0)))","v":""},{"$f":"IF($C121=\"\",\"\",INDEX(Players!D:D,MATCH($C121,Players!$C:$C,0)))","v":""},{"$f":"IF($C121=\"\",\"\",INDEX(Players!E:E,MATCH($C121,Players!$C:$C,0)))","v":""},{"$f":"IF($C121=\"\",\"\",INDEX(Players!F:F,MATCH($C121,Players!$C:$C,0)))","v":""},null,null,null,0]
[null,{"$f":"IF($C122=\"\",\"\",INDEX(Players!A:A,MATCH($C122,Players!$C:$C,0)))","v":""},null,{"$f":"IF($C122=\"\",\"\",INDEX(Players!B:B,MATCH($C122,Players!$C:$C,0)))","v":""},{"$f":"IF($C122=\"\",\"\",INDEX(Players!D:D,MATCH($C122,Players!$C:$C,0)))","v":""},{"$f":"IF($C122=\"\",\"\",INDEX(Players!E:E,MATCH($C122,Players!$C:$C,0)))","v":""},{"$f":"IF($C122=\"\",\"\",INDEX(Players!F:F,MATCH($C122,Players!$C:$C,0)))","v":""},null,null,null,0]
[null,{"$f":"IF($C123=\"\",\"\",INDEX(Players!A:A,MATCH($C123,Players!$C:$C,0)))","v":""},null,{"$f":"IF($C123=\"\",\"\",INDEX(Players!B:B,MATCH($C123,Players!$C:$C,0)))","v":""},{"$f":"IF($C123=\"\",\"\",INDEX(Players!D:D,MATCH($C123,Players!$C:$C,0)))","v":""},{"$f":"IF($C123=\"\",\"\",INDEX(Players!E:E,MATCH($C123,Players!$C:$C,0)))","v":""},{"$f":"IF($C123=\"\",\"\",INDEX(Players!F:F,MATCH($C123,Players!$C:$C,0)))","v":""},null,null,null,0]
[null,{"$f":"IF($C124=\"\",\"\",INDEX(Players!A:A,MATCH($C124,Players!$C:$C,0)))","v":""},null,{"$f":"IF($C124=\"\",\"\",INDEX(Players!B:B,MATCH($C124,Players!$C:$C,0)))","v":""},{"$f":"IF($C124=\"\",\"\",INDEX(Players!D:D,MATCH($C124,Players!$C:$C,0)))","v":""},{"$f":"IF($C124=\"\",\"\",INDEX(Players!E:E,MATCH($C124,Players!$C:$C,0)))","v":""},{"$f":"IF($C124=\"\",\"\",INDEX(Players!F:F,MATCH($C124,Players!$C:$C,0)))","v":""},null,null,null,0]
[null,{"$f":"IF($C125=\"\",\"\",INDEX(Players!A:A,MATCH($C125,Players!$C:$C,0)))","v":""},null,{"$f":"IF($C125=\"\",\"\",INDEX(Players!B:B,MATCH($C125,Players!$C:$C,0)))","v":""},{"$f":"IF($C125=\"\",\"\",INDEX(Players!D:D,MATCH($C125,Players!$C:$C,0)))","v":""},{"$f":"IF($C125=\"\",\"\",INDEX(Players!E:E,MATCH($C125,Players!$C:$C,0)))","v":""},{"$f":"IF($C125=\"\",\"\",INDEX(Players!F:F,MATCH($C125,Players!$C:$C,0)))","v":""},null,null,null,0]
[null,{"$f":"IF($C126=\"\",\"\",INDEX(Players!A:A,MATCH($C126,Players!$C:$C,0)))","v":""},null,{"$f":"IF($C126=\"\",\"\",INDEX(Players!B:B,MATCH($C126,Players!$C:$C,0)))","v":""},{"$f":"IF($C126=\"\",\"\",INDEX(Players!D:D,MATCH($C126,Players!$C:$C,0)))","v":""},{"$f":"IF($C126=\"\",\"\",INDEX(Players!E:E,MATCH($C126,Players!$C:$C,0)))","v":""},{"$f":"IF($C126=\"\",\"\",INDEX(Players!F:F,MATCH($C126,Players!$C:$C,0)))","v":""},null,null,null,0]
[null,{"$f":"IF($C127=\"\",\"\",INDEX(Players!A:A,MATCH($C127,Players!$C:$C,0)))","v":""},null,{"$f":"IF($C127=\"\",\"\",INDEX(Players!B:B,MATCH($C127,Players!$C:$C,0)))","v":""},{"$f":"IF($C127=\"\",\"\",INDEX(Players!D:D,MATCH($C127,Players!$C:$C,0)))","v":""},{"$f":"IF($C127=\"\",\"\",INDEX(Players!E:E,MATCH($C127,Players!$C:$C,0)))","v":""},{"$f":"IF($C127=\"\",\"\",INDEX(Players!F:F,MATCH($C127,Players!$C:$C,0)))","v":""},null,null,null,0]
[null,{"$f":"IF($C128=\"\",\"\",INDEX(Players!A:A,MATCH($C128,Players!$C:$C,0)))","v":""},null,{"$f":"IF($C128=\"\",\"\",INDEX(Players!B:B,MATCH($C128,Players!$C:$C,0)))","v":""},{"$f":"IF($C128=\"\",\"\",INDEX(Players!D:D,MATCH($C128,Players!$C:$C,0)))","v":""},{"$f":"IF($C128=\"\",\"\",INDEX(Players!E:E,MATCH($C128,Players!$C:$C,0)))","v":""},{"$f":"IF($C128=\"\",\"\",INDEX(Players!F:F,MATCH($C128,Players!$C:$C,0)))","v":""},null,null,null,0]
[null,{"$f":"IF($C129=\"\",\"\",INDEX(Players!A:A,MATCH($C129,Players!$C:$C,0)))","v":""},null,{"$f":"IF($C129=\"\",\"\",INDEX(Players!B:B,MATCH($C129,Players!$C:$C,0)))","v":""},{"$f":"IF($C129=\"\",\"\",INDEX(Players!D:D,MATCH($C129,Players!$C:$C,0)))","v":""},{"$f":"IF($C129=\"\",\"\",INDEX(Players!E:E,MATCH($C129,Players!$C:$C,0)))","v":""},{"$f":"IF($C129=\"\",\"\",INDEX(Players!F:F,MATCH($C129,Players!$C:$C,0)))","v":""},null,null,null,0]
[null,{"$f":"IF($C130=\"\",\"\",INDEX(Players!A:A,MATCH($C130,Players!$C:$C,0)))","v":""},null,{"$f":"IF($C130=\"\",\"\",INDEX(Players!B:B,MATCH($C130,Players!$C:$C,0)))","v":""},{"$f":"IF($C130=\"\",\"\",INDEX(Players!D:D,MATCH($C130,Players!$C:$C,0)))","v":""},{"$f":"IF($C130=\"\",\"\",INDEX(Players!E:E,MATCH($C130,Players!$C:$C,0)))","v":""},{"$f":"IF($C130=\"\",\"\",INDEX(Players!F:F,MATCH($C130,Players!$C:$C,0)))","v":""},null,null,null,0]
[null,{"$f":"IF($C131=\"\",\"\",INDEX(Players!A:A,MATCH($C131,Players!$C:$C,0)))","v":""},null,{"$f":"IF($C131=\"\",\"\",INDEX(Players!B:B,MATCH($C131,Players!$C:$C,0)))","v":""},{"$f":"IF($C131=\"\",\"\",INDEX(Players!D:D,MATCH($C131,Players!$C:$C,0)))","v":""},{"$f":"IF($C131=\"\",\"\",INDEX(Players!E:E,MATCH($C131,Players!$C:$C,0)))","v":""},{"$f":"IF($C131=\"\",\"\",INDEX(Players!F:F,MATCH($C131,Players!$C:$C,0)))","v":""},null,null,null,{"$f":"IF(C131=\"\",0,IF(A131=\"\",0,I131))","v":0}]
[null,{"$f":"IF($C132=\"\",\"\",INDEX(Players!A:A,MATCH($C132,Players!$C:$C,0)))","v":""},null,{"$f":"IF($C132=\"\",\"\",INDEX(Players!B:B,MATCH($C132,Players!$C:$C,0)))","v":""},{"$f":"IF($C132=\"\",\"\",INDEX(Players!D:D,MATCH($C132,Players!$C:$C,0)))","v":""},{"$f":"IF($C132=\"\",\"\",INDEX(Players!E:E,MATCH($C132,Players!$C:$C,0)))","v":""},{"$f":"IF($C132=\"\",\"\",INDEX(Players!F:F,MATCH($C132,Players!$C:$C,0)))","v":""},null,null,null,0]
[null,{"$f":"IF($C133=\"\",\"\",INDEX(Players!A:A,MATCH($C133,Players!$C:$C,0)))","v":""},null,{"$f":"IF($C133=\"\",\"\",INDEX(Players!B:B,MATCH($C133,Players!$C:$C,0)))","v":""},{"$f":"IF($C133=\"\",\"\",INDEX(Players!D:D,MATCH($C133,Players!$C:$C,0)))","v":""},{"$f":"IF($C133=\"\",\"\",INDEX(Players!E:E,MATCH($C133,Players!$C:$C,0)))","v":""},{"$f":"IF($C133=\"\",\"\",INDEX(Players!F:F,MATCH($C133,Players!$C:$C,0)))","v":""},null,null,null,0]
[null,{"$f":"IF($C134=\"\",\"\",INDEX(Players!A:A,MATCH($C134,Players!$C:$C,0)))","v":""},null,{"$f":"IF($C134=\"\",\"\",INDEX(Players!B:B,MATCH($C134,Players!$C:$C,0)))","v":""},{"$f":"IF($C134=\"\",\"\",INDEX(Players!D:D,MATCH($C134,Players!$C:$C,0)))","v":""},{"$f":"IF($C134=\"\",\"\",INDEX(Players!E:E,MATCH($C134,Players!$C:$C,0)))","v":""},{"$f":"IF($C134=\"\",\"\",INDEX(Players!F:F,MATCH($C134,Players!$C:$C,0)))","v":""},null,null,null,0]
[null,{"$f":"IF($C135=\"\",\"\",INDEX(Players!A:A,MATCH($C135,Players!$C:$C,0)))","v":""},null,{"$f":"IF($C135=\"\",\"\",INDEX(Players!B:B,MATCH($C135,Players!$C:$C,0)))","v":""},{"$f":"IF($C135=\"\",\"\",INDEX(Players!D:D,MATCH($C135,Players!$C:$C,0)))","v":""},{"$f":"IF($C135=\"\",\"\",INDEX(Players!E:E,MATCH($C135,Players!$C:$C,0)))","v":""},{"$f":"IF($C135=\"\",\"\",INDEX(Players!F:F,MATCH($C135,Players!$C:$C,0)))","v":""},null,null,null,0]
[null,{"$f":"IF($C136=\"\",\"\",INDEX(Players!A:A,MATCH($C136,Players!$C:$C,0)))","v":""},null,{"$f":"IF($C136=\"\",\"\",INDEX(Players!B:B,MATCH($C136,Players!$C:$C,0)))","v":""},{"$f":"IF($C136=\"\",\"\",INDEX(Players!D:D,MATCH($C136,Players!$C:$C,0)))","v":""},{"$f":"IF($C136=\"\",\"\",INDEX(Players!E:E,MATCH($C136,Players!$C:$C,0)))","v":""},{"$f":"IF($C136=\"\",\"\",INDEX(Players!F:F,MATCH($C136,Players!$C:$C,0)))","v":""},null,null,null,0]
[null,{"$f":"IF($C137=\"\",\"\",INDEX(Players!A:A,MATCH($C137,Players!$C:$C,0)))","v":""},null,{"$f":"IF($C137=\"\",\"\",INDEX(Players!B:B,MATCH($C137,Players!$C:$C,0)))","v":""},{"$f":"IF($C137=\"\",\"\",INDEX(Players!D:D,MATCH($C137,Players!$C:$C,0)))","v":""},{"$f":"IF($C137=\"\",\"\",INDEX(Players!E:E,MATCH($C137,Players!$C:$C,0)))","v":""},{"$f":"IF($C137=\"\",\"\",INDEX(Players!F:F,MATCH($C137,Players!$C:$C,0)))","v":""},null,null,null,0]
[null,{"$f":"IF($C138=\"\",\"\",INDEX(Players!A:A,MATCH($C138,Players!$C:$C,0)))","v":""},null,{"$f":"IF($C138=\"\",\"\",INDEX(Players!B:B,MATCH($C138,Players!$C:$C,0)))","v":""},{"$f":"IF($C138=\"\",\"\",INDEX(Players!D:D,MATCH($C138,Players!$C:$C,0)))","v":""},{"$f":"IF($C138=\"\",\"\",INDEX(Players!E:E,MATCH($C138,Players!$C:$C,0)))","v":""},{"$f":"IF($C138=\"\",\"\",INDEX(Players!F:F,MATCH($C138,Players!$C:$C,0)))","v":""},null,null,null,0]
[null,{"$f":"IF($C139=\"\",\"\",INDEX(Players!A:A,MATCH($C139,Players!$C:$C,0)))","v":""},null,{"$f":"IF($C139=\"\",\"\",INDEX(Players!B:B,MATCH($C139,Players!$C:$C,0)))","v":""},{"$f":"IF($C139=\"\",\"\",INDEX(Players!D:D,MATCH($C139,Players!$C:$C,0)))","v":""},{"$f":"IF($C139=\"\",\"\",INDEX(Players!E:E,MATCH($C139,Players!$C:$C,0)))","v":""},{"$f":"IF($C139=\"\",\"\",INDEX(Players!F:F,MATCH($C139,Players!$C:$C,0)))","v":""},null,null,null,0]
[null,{"$f":"IF($C140=\"\",\"\",INDEX(Players!A:A,MATCH($C140,Players!$C:$C,0)))","v":""},null,{"$f":"IF($C140=\"\",\"\",INDEX(Players!B:B,MATCH($C140,Players!$C:$C,0)))","v":""},{"$f":"IF($C140=\"\",\"\",INDEX(Players!D:D,MATCH($C140,Players!$C:$C,0)))","v":""},{"$f":"IF($C140=\"\",\"\",INDEX(Players!E:E,MATCH($C140,Players!$C:$C,0)))","v":""},{"$f":"IF($C140=\"\",\"\",INDEX(Players!F:F,MATCH($C140,Players!$C:$C,0)))","v":""},null,null,null,0]
[null,{"$f":"IF($C141=\"\",\"\",INDEX(Players!A:A,MATCH($C141,Players!$C:$C,0)))","v":""},null,{"$f":"IF($C141=\"\",\"\",INDEX(Players!B:B,MATCH($C141,Players!$C:$C,0)))","v":""},{"$f":"IF($C141=\"\",\"\",INDEX(Players!D:D,MATCH($C141,Players!$C:$C,0)))","v":""},{"$f":"IF($C141=\"\",\"\",INDEX(Players!E:E,MATCH($C141,Players!$C:$C,0)))","v":""},{"$f":"IF($C141=\"\",\"\",INDEX(Players!F:F,MATCH($C141,Players!$C:$C,0)))","v":""},null,null,null,0]
[null,{"$f":"IF($C142=\"\",\"\",INDEX(Players!A:A,MATCH($C142,Players!$C:$C,0)))","v":""},null,{"$f":"IF($C142=\"\",\"\",INDEX(Players!B:B,MATCH($C142,Players!$C:$C,0)))","v":""},{"$f":"IF($C142=\"\",\"\",INDEX(Players!D:D,MATCH($C142,Players!$C:$C,0)))","v":""},{"$f":"IF($C142=\"\",\"\",INDEX(Players!E:E,MATCH($C142,Players!$C:$C,0)))","v":""},{"$f":"IF($C142=\"\",\"\",INDEX(Players!F:F,MATCH($C142,Players!$C:$C,0)))","v":""},null,null,null,0]
[null,{"$f":"IF($C143=\"\",\"\",INDEX(Players!A:A,MATCH($C143,Players!$C:$C,0)))","v":""},null,{"$f":"IF($C143=\"\",\"\",INDEX(Players!B:B,MATCH($C143,Players!$C:$C,0)))","v":""},{"$f":"IF($C143=\"\",\"\",INDEX(Players!D:D,MATCH($C143,Players!$C:$C,0)))","v":""},{"$f":"IF($C143=\"\",\"\",INDEX(Players!E:E,MATCH($C143,Players!$C:$C,0)))","v":""},{"$f":"IF($C143=\"\",\"\",INDEX(Players!F:F,MATCH($C143,Players!$C:$C,0)))","v":""},null,null,null,0]
[null,{"$f":"IF($C144=\"\",\"\",INDEX(Players!A:A,MATCH($C144,Players!$C:$C,0)))","v":""},null,{"$f":"IF($C144=\"\",\"\",INDEX(Players!B:B,MATCH($C144,Players!$C:$C,0)))","v":""},{"$f":"IF($C144=\"\",\"\",INDEX(Players!D:D,MATCH($C144,Players!$C:$C,0)))","v":""},{"$f":"IF($C144=\"\",\"\",INDEX(Players!E:E,MATCH($C144,Players!$C:$C,0)))","v":""},{"$f":"IF($C144=\"\",\"\",INDEX(Players!F:F,MATCH($C144,Players!$C:$C,0)))","v":""},null,null,null,0]
[null,{"$f":"IF($C145=\"\",\"\",INDEX(Players!A:A,MATCH($C145,Players!$C:$C,0)))","v":""},null,{"$f":"IF($C145=\"\",\"\",INDEX(Players!B:B,MATCH($C145,Players!$C:$C,0)))","v":""},{"$f":"IF($C145=\"\",\"\",INDEX(Players!D:D,MATCH($C145,Players!$C:$C,0)))","v":""},{"$f":"IF($C145=\"\",\"\",INDEX(Players!E:E,MATCH($C145,Players!$C:$C,0)))","v":""},{"$f":"IF($C145=\"\",\"\",INDEX(Players!F:F,MATCH($C145,Players!$C:$C,0)))","v":""},null,null,null,0]
[null,{"$f":"IF($C146=\"\",\"\",INDEX(Players!A:A,MATCH($C146,Players!$C:$C,0)))","v":""},null,{"$f":"IF($C146=\"\",\"\",INDEX(Players!B:B,MATCH($C146,Players!$C:$C,0)))","v":""},{"$f":"IF($C146=\"\",\"\",INDEX(Players!D:D,MATCH($C146,Players!$C:$C,0)))","v":""},{"$f":"IF($C146=\"\",\"\",INDEX(Players!E:E,MATCH($C146,Players!$C:$C,0)))","v":""},{"$f":"IF($C146=\"\",\"\",INDEX(Players!F:F,MATCH($C146,Players!$C:$C,0)))","v":""},null,null,null,0]
[null,{"$f":"IF($C147=\"\",\"\",INDEX(Players!A:A,MATCH($C147,Players!$C:$C,0)))","v":""},null,{"$f":"IF($C147=\"\",\"\",INDEX(Players!B:B,MATCH($C147,Players!$C:$C,0)))","v":""},{"$f":"IF($C147=\"\",\"\",INDEX(Players!D:D,MATCH($C147,Players!$C:$C,0)))","v":""},{"$f":"IF($C147=\"\",\"\",INDEX(Players!E:E,MATCH($C147,Players!$C:$C,0)))","v":""},{"$f":"IF($C147=\"\",\"\",INDEX(Players!F:F,MATCH($C147,Players!$C:$C,0)))","v":""},null,null,null,0]
[null,{"$f":"IF($C148=\"\",\"\",INDEX(Players!A:A,MATCH($C148,Players!$C:$C,0)))","v":""},null,{"$f":"IF($C148=\"\",\"\",INDEX(Players!B:B,MATCH($C148,Players!$C:$C,0)))","v":""},{"$f":"IF($C148=\"\",\"\",INDEX(Players!D:D,MATCH($C148,Players!$C:$C,0)))","v":""},{"$f":"IF($C148=\"\",\"\",INDEX(Players!E:E,MATCH($C148,Players!$C:$C,0)))","v":""},{"$f":"IF($C148=\"\",\"\",INDEX(Players!F:F,MATCH($C148,Players!$C:$C,0)))","v":""},null,null,null,0]
[null,{"$f":"IF($C149=\"\",\"\",INDEX(Players!A:A,MATCH($C149,Players!$C:$C,0)))","v":""},null,{"$f":"IF($C149=\"\",\"\",INDEX(Players!B:B,MATCH($C149,Players!$C:$C,0)))","v":""},{"$f":"IF($C149=\"\",\"\",INDEX(Players!D:D,MATCH($C149,Players!$C:$C,0)))","v":""},{"$f":"IF($C149=\"\",\"\",INDEX(Players!E:E,MATCH($C149,Players!$C:$C,0)))","v":""},{"$f":"IF($C149=\"\",\"\",INDEX(Players!F:F,MATCH($C149,Players!$C:$C,0)))","v":""},null,null,null,0]
[null,{"$f":"IF($C150=\"\",\"\",INDEX(Players!A:A,MATCH($C150,Players!$C:$C,0)))","v":""},null,{"$f":"IF($C150=\"\",\"\",INDEX(Players!B:B,MATCH($C150,Players!$C:$C,0)))","v":""},{"$f":"IF($C150=\"\",\"\",INDEX(Players!D:D,MATCH($C150,Players!$C:$C,0)))","v":""},{"$f":"IF($C150=\"\",\"\",INDEX(Players!E:E,MATCH($C150,Players!$C:$C,0)))","v":""},{"$f":"IF($C150=\"\",\"\",INDEX(Players!F:F,MATCH($C150,Players!$C:$C,0)))","v":""},null,null,null,0]
[null,{"$f":"IF($C151=\"\",\"\",INDEX(Players!A:A,MATCH($C151,Players!$C:$C,0)))","v":""},null,{"$f":"IF($C151=\"\",\"\",INDEX(Players!B:B,MATCH($C151,Players!$C:$C,0)))","v":""},{"$f":"IF($C151=\"\",\"\",INDEX(Players!D:D,MATCH($C151,Players!$C:$C,0)))","v":""},{"$f":"IF($C151=\"\",\"\",INDEX(Players!E:E,MATCH($C151,Players!$C:$C,0)))","v":""},{"$f":"IF($C151=\"\",\"\",INDEX(Players!F:F,MATCH($C151,Players!$C:$C,0)))","v":""},null,null,null,0]
[null,{"$f":"IF($C152=\"\",\"\",INDEX(Players!A:A,MATCH($C152,Players!$C:$C,0)))","v":""},null,{"$f":"IF($C152=\"\",\"\",INDEX(Players!B:B,MATCH($C152,Players!$C:$C,0)))","v":""},{"$f":"IF($C152=\"\",\"\",INDEX(Players!D:D,MATCH($C152,Players!$C:$C,0)))","v":""},{"$f":"IF($C152=\"\",\"\",INDEX(Players!E:E,MATCH($C152,Players!$C:$C,0)))","v":""},{"$f":"IF($C152=\"\",\"\",INDEX(Players!F:F,MATCH($C152,Players!$C:$C,0)))","v":""},null,null,null,0]
[null,{"$f":"IF($C153=\"\",\"\",INDEX(Players!A:A,MATCH($C153,Players!$C:$C,0)))","v":""},null,{"$f":"IF($C153=\"\",\"\",INDEX(Players!B:B,MATCH($C153,Players!$C:$C,0)))","v":""},{"$f":"IF($C153=\"\",\"\",INDEX(Players!D:D,MATCH($C153,Players!$C:$C,0)))","v":""},{"$f":"IF($C153=\"\",\"\",INDEX(Players!E:E,MATCH($C153,Players!$C:$C,0)))","v":""},{"$f":"IF($C153=\"\",\"\",INDEX(Players!F:F,MATCH($C153,Players!$C:$C,0)))","v":""},null,null,null,0]
[null,{"$f":"IF($C154=\"\",\"\",INDEX(Players!A:A,MATCH($C154,Players!$C:$C,0)))","v":""},null,{"$f":"IF($C154=\"\",\"\",INDEX(Players!B:B,MATCH($C154,Players!$C:$C,0)))","v":""},{"$f":"IF($C154=\"\",\"\",INDEX(Players!D:D,MATCH($C154,Players!$C:$C,0)))","v":""},{"$f":"IF($C154=\"\",\"\",INDEX(Players!E:E,MATCH($C154,Players!$C:$C,0)))","v":""},{"$f":"IF($C154=\"\",\"\",INDEX(Players!F:F,MATCH($C154,Players!$C:$C,0)))","v":""},null,null,null,0]
[null,{"$f":"IF($C155=\"\",\"\",INDEX(Players!A:A,MATCH($C155,Players!$C:$C,0)))","v":""},null,{"$f":"IF($C155=\"\",\"\",INDEX(Players!B:B,MATCH($C155,Players!$C:$C,0)))","v":""},{"$f":"IF($C155=\"\",\"\",INDEX(Players!D:D,MATCH($C155,Players!$C:$C,0)))","v":""},{"$f":"IF($C155=\"\",\"\",INDEX(Players!E:E,MATCH($C155,Players!$C:$C,0)))","v":""},{"$f":"IF($C155=\"\",\"\",INDEX(Players!F:F,MATCH($C155,Players!$C:$C,0)))","v":""},null,null,null,0]
[null,{"$f":"IF($C156=\"\",\"\",INDEX(Players!A:A,MATCH($C156,Players!$C:$C,0)))","v":""},null,{"$f":"IF($C156=\"\",\"\",INDEX(Players!B:B,MATCH($C156,Players!$C:$C,0)))","v":""},{"$f":"IF($C156=\"\",\"\",INDEX(Players!D:D,MATCH($C156,Players!$C:$C,0)))","v":""},{"$f":"IF($C156=\"\",\"\",INDEX(Players!E:E,MATCH($C156,Players!$C:$C,0)))","v":""},{"$f":"IF($C156=\"\",\"\",INDEX(Players!F:F,MATCH($C156,Players!$C:$C,0)))","v":""},null,null,null,0]
[null,{"$f":"IF($C157=\"\",\"\",INDEX(Players!A:A,MATCH($C157,Players!$C:$C,0)))","v":""},null,{"$f":"IF($C157=\"\",\"\",INDEX(Players!B:B,MATCH($C157,Players!$C:$C,0)))","v":""},{"$f":"IF($C157=\"\",\"\",INDEX(Players!D:D,MATCH($C157,Players!$C:$C,0)))","v":""},{"$f":"IF($C157=\"\",\"\",INDEX(Players!E:E,MATCH($C157,Players!$C:$C,0)))","v":""},{"$f":"IF($C157=\"\",\"\",INDEX(Players!F:F,MATCH($C157,Players!$C:$C,0)))","v":""},null,null,null,0]
[null,{"$f":"IF($C158=\"\",\"\",INDEX(Players!A:A,MATCH($C158,Players!$C:$C,0)))","v":""},null,{"$f":"IF($C158=\"\",\"\",INDEX(Players!B:B,MATCH($C158,Players!$C:$C,0)))","v":""},{"$f":"IF($C158=\"\",\"\",INDEX(Players!D:D,MATCH($C158,Players!$C:$C,0)))","v":""},{"$f":"IF($C158=\"\",\"\",INDEX(Players!E:E,MATCH($C158,Players!$C:$C,0)))","v":""},{"$f":"IF($C158=\"\",\"\",INDEX(Players!F:F,MATCH($C158,Players!$C:$C,0)))","v":""},null,null,null,0]
[null,{"$f":"IF($C159=\"\",\"\",INDEX(Players!A:A,MATCH($C159,Players!$C:$C,0)))","v":""},null,{"$f":"IF($C159=\"\",\"\",INDEX(Players!B:B,MATCH($C159,Players!$C:$C,0)))","v":""},{"$f":"IF($C159=\"\",\"\",INDEX(Players!D:D,MATCH($C159,Players!$C:$C,0)))","v":""},{"$f":"IF($C159=\"\",\"\",INDEX(Players!E:E,MATCH($C159,Players!$C:$C,0)))","v":""},{"$f":"IF($C159=\"\",\"\",INDEX(Players!F:F,MATCH($C159,Players!$C:$C,0)))","v":""},null,null,null,0]
[null,{"$f":"IF($C160=\"\",\"\",INDEX(Players!A:A,MATCH($C160,Players!$C:$C,0)))","v":""},null,{"$f":"IF($C160=\"\",\"\",INDEX(Players!B:B,MATCH($C160,Players!$C:$C,0)))","v":""},{"$f":"IF($C160=\"\",\"\",INDEX(Players!D:D,MATCH($C160,Players!$C:$C,0)))","v":""},{"$f":"IF($C160=\"\",\"\",INDEX(Players!E:E,MATCH($C160,Players!$C:$C,0)))","v":""},{"$f":"IF($C160=\"\",\"\",INDEX(Players!F:F,MATCH($C160,Players!$C:$C,0)))","v":""},null,null,null,0]
[null,{"$f":"IF($C161=\"\",\"\",INDEX(Players!A:A,MATCH($C161,Players!$C:$C,0)))","v":""},null,{"$f":"IF($C161=\"\",\"\",INDEX(Players!B:B,MATCH($C161,Players!$C:$C,0)))","v":""},{"$f":"IF($C161=\"\",\"\",INDEX(Players!D:D,MATCH($C161,Players!$C:$C,0)))","v":""},{"$f":"IF($C161=\"\",\"\",INDEX(Players!E:E,MATCH($C161,Players!$C:$C,0)))","v":""},{"$f":"IF($C161=\"\",\"\",INDEX(Players!F:F,MATCH($C161,Players!$C:$C,0)))","v":""},null,null,null,0]
[null,{"$f":"IF($C162=\"\",\"\",INDEX(Players!A:A,MATCH($C162,Players!$C:$C,0)))","v":""},null,{"$f":"IF($C162=\"\",\"\",INDEX(Players!B:B,MATCH($C162,Players!$C:$C,0)))","v":""},{"$f":"IF($C162=\"\",\"\",INDEX(Players!D:D,MATCH($C162,Players!$C:$C,0)))","v":""},{"$f":"IF($C162=\"\",\"\",INDEX(Players!E:E,MATCH($C162,Players!$C:$C,0)))","v":""},{"$f":"IF($C162=\"\",\"\",INDEX(Players!F:F,MATCH($C162,Players!$C:$C,0)))","v":""},null,null,null,0]
[null,{"$f":"IF($C163=\"\",\"\",INDEX(Players!A:A,MATCH($C163,Players!$C:$C,0)))","v":""},null,{"$f":"IF($C163=\"\",\"\",INDEX(Players!B:B,MATCH($C163,Players!$C:$C,0)))","v":""},{"$f":"IF($C163=\"\",\"\",INDEX(Players!D:D,MATCH($C163,Players!$C:$C,0)))","v":""},{"$f":"IF($C163=\"\",\"\",INDEX(Players!E:E,MATCH($C163,Players!$C:$C,0)))","v":""},{"$f":"IF($C163=\"\",\"\",INDEX(Players!F:F,MATCH($C163,Players!$C:$C,0)))","v":""},null,null,null,{"$f":"IF(C163=\"\",0,IF(A163=\"\",0,I163))","v":0}]
[null,{"$f":"IF($C164=\"\",\"\",INDEX(Players!A:A,MATCH($C164,Players!$C:$C,0)))","v":""},null,{"$f":"IF($C164=\"\",\"\",INDEX(Players!B:B,MATCH($C164,Players!$C:$C,0)))","v":""},{"$f":"IF($C164=\"\",\"\",INDEX(Players!D:D,MATCH($C164,Players!$C:$C,0)))","v":""},{"$f":"IF($C164=\"\",\"\",INDEX(Players!E:E,MATCH($C164,Players!$C:$C,0)))","v":""},{"$f":"IF($C164=\"\",\"\",INDEX(Players!F:F,MATCH($C164,Players!$C:$C,0)))","v":""},null,null,null,0]
[null,{"$f":"IF($C165=\"\",\"\",INDEX(Players!A:A,MATCH($C165,Players!$C:$C,0)))","v":""},null,{"$f":"IF($C165=\"\",\"\",INDEX(Players!B:B,MATCH($C165,Players!$C:$C,0)))","v":""},{"$f":"IF($C165=\"\",\"\",INDEX(Players!D:D,MATCH($C165,Players!$C:$C,0)))","v":""},{"$f":"IF($C165=\"\",\"\",INDEX(Players!E:E,MATCH($C165,Players!$C:$C,0)))","v":""},{"$f":"IF($C165=\"\",\"\",INDEX(Players!F:F,MATCH($C165,Players!$C:$C,0)))","v":""},null,null,null,0]
[null,{"$f":"IF($C166=\"\",\"\",INDEX(Players!A:A,MATCH($C166,Players!$C:$C,0)))","v":""},null,{"$f":"IF($C166=\"\",\"\",INDEX(Players!B:B,MATCH($C166,Players!$C:$C,0)))","v":""},{"$f":"IF($C166=\"\",\"\",INDEX(Players!D:D,MATCH($C166,Players!$C:$C,0)))","v":""},{"$f":"IF($C166=\"\",\"\",INDEX(Players!E:E,MATCH($C166,Players!$C:$C,0)))","v":""},{"$f":"IF($C166=\"\",\"\",INDEX(Players!F:F,MATCH($C166,Players!$C:$C,0)))","v":""},null,null,null,0]
[null,{"$f":"IF($C167=\"\",\"\",INDEX(Players!A:A,MATCH($C167,Players!$C:$C,0)))","v":""},null,{"$f":"IF($C167=\"\",\"\",INDEX(Players!B:B,MATCH($C167,Players!$C:$C,0)))","v":""},{"$f":"IF($C167=\"\",\"\",INDEX(Players!D:D,MATCH($C167,Players!$C:$C,0)))","v":""},{"$f":"IF($C167=\"\",\"\",INDEX(Players!E:E,MATCH($C167,Players!$C:$C,0)))","v":""},{"$f":"IF($C167=\"\",\"\",INDEX(Players!F:F,MATCH($C167,Players!$C:$C,0)))","v":""},null,null,null,0]
[null,{"$f":"IF($C168=\"\",\"\",INDEX(Players!A:A,MATCH($C168,Players!$C:$C,0)))","v":""},null,{"$f":"IF($C168=\"\",\"\",INDEX(Players!B:B,MATCH($C168,Players!$C:$C,0)))","v":""},{"$f":"IF($C168=\"\",\"\",INDEX(Players!D:D,MATCH($C168,Players!$C:$C,0)))","v":""},{"$f":"IF($C168=\"\",\"\",INDEX(Players!E:E,MATCH($C168,Players!$C:$C,0)))","v":""},{"$f":"IF($C168=\"\",\"\",INDEX(Players!F:F,MATCH($C168,Players!$C:$C,0)))","v":""},null,null,null,0]
[null,{"$f":"IF($C169=\"\",\"\",INDEX(Players!A:A,MATCH($C169,Players!$C:$C,0)))","v":""},null,{"$f":"IF($C169=\"\",\"\",INDEX(Players!B:B,MATCH($C169,Players!$C:$C,0)))","v":""},{"$f":"IF($C169=\"\",\"\",INDEX(Players!D:D,MATCH($C169,Players!$C:$C,0)))","v":""},{"$f":"IF($C169=\"\",\"\",INDEX(Players!E:E,MATCH($C169,Players!$C:$C,0)))","v":""},{"$f":"IF($C169=\"\",\"\",INDEX(Players!F:F,MATCH($C169,Players!$C:$C,0)))","v":""},null,null,null,0]
[null,{"$f":"IF($C170=\"\",\"\",INDEX(Players!A:A,MATCH($C170,Players!$C:$C,0)))","v":""},null,{"$f":"IF($C170=\"\",\"\",INDEX(Players!B:B,MATCH($C170,Players!$C:$C,0)))","v":""},{"$f":"IF($C170=\"\",\"\",INDEX(Players!D:D,MATCH($C170,Players!$C:$C,0)))","v":""},{"$f":"IF($C170=\"\",\"\",INDEX(Players!E:E,MATCH($C170,Players!$C:$C,0)))","v":""},{"$f":"IF($C170=\"\",\"\",INDEX(Players!F:F,MATCH($C170,Players!$C:$C,0)))","v":""},null,null,null,0]
[null,{"$f":"IF($C171=\"\",\"\",INDEX(Players!A:A,MATCH($C171,Players!$C:$C,0)))","v":""},null,{"$f":"IF($C171=\"\",\"\",INDEX(Players!B:B,MATCH($C171,Players!$C:$C,0)))","v":""},{"$f":"IF($C171=\"\",\"\",INDEX(Players!D:D,MATCH($C171,Players!$C:$C,0)))","v":""},{"$f":"IF($C171=\"\",\"\",INDEX(Players!E:E,MATCH($C171,Players!$C:$C,0)))","v":""},{"$f":"IF($C171=\"\",\"\",INDEX(Players!F:F,MATCH($C171,Players!$C:$C,0)))","v":""},null,null,null,0]
[null,{"$f":"IF($C172=\"\",\"\",INDEX(Players!A:A,MATCH($C172,Players!$C:$C,0)))","v":""},null,{"$f":"IF($C172=\"\",\"\",INDEX(Players!B:B,MATCH($C172,Players!$C:$C,0)))","v":""},{"$f":"IF($C172=\"\",\"\",INDEX(Players!D:D,MATCH($C172,Players!$C:$C,0)))","v":""},{"$f":"IF($C172=\"\",\"\",INDEX(Players!E:E,MATCH($C172,Players!$C:$C,0)))","v":""},{"$f":"IF($C172=\"\",\"\",INDEX(Players!F:F,MATCH($C172,Players!$C:$C,0)))","v":""},null,null,null,0]
[null,{"$f":"IF($C173=\"\",\"\",INDEX(Players!A:A,MATCH($C173,Players!$C:$C,0)))","v":""},null,{"$f":"IF($C173=\"\",\"\",INDEX(Players!B:B,MATCH($C173,Players!$C:$C,0)))","v":""},{"$f":"IF($C173=\"\",\"\",INDEX(Players!D:D,MATCH($C173,Players!$C:$C,0)))","v":""},{"$f":"IF($C173=\"\",\"\",INDEX(Players!E:E,MATCH($C173,Players!$C:$C,0)))","v":""},{"$f":"IF($C173=\"\",\"\",INDEX(Players!F:F,MATCH($C173,Players!$C:$C,0)))","v":""},null,null,null,0]
[null,{"$f":"IF($C174=\"\",\"\",INDEX(Players!A:A,MATCH($C174,Players!$C:$C,0)))","v":""},null,{"$f":"IF($C174=\"\",\"\",INDEX(Players!B:B,MATCH($C174,Players!$C:$C,0)))","v":""},{"$f":"IF($C174=\"\",\"\",INDEX(Players!D:D,MATCH($C174,Players!$C:$C,0)))","v":""},{"$f":"IF($C174=\"\",\"\",INDEX(Players!E:E,MATCH($C174,Players!$C:$C,0)))","v":""},{"$f":"IF($C174=\"\",\"\",INDEX(Players!F:F,MATCH($C174,Players!$C:$C,0)))","v":""},null,null,null,0]
[null,{"$f":"IF($C175=\"\",\"\",INDEX(Players!A:A,MATCH($C175,Players!$C:$C,0)))","v":""},null,{"$f":"IF($C175=\"\",\"\",INDEX(Players!B:B,MATCH($C175,Players!$C:$C,0)))","v":""},{"$f":"IF($C175=\"\",\"\",INDEX(Players!D:D,MATCH($C175,Players!$C:$C,0)))","v":""},{"$f":"IF($C175=\"\",\"\",INDEX(Players!E:E,MATCH($C175,Players!$C:$C,0)))","v":""},{"$f":"IF($C175=\"\",\"\",INDEX(Players!F:F,MATCH($C175,Players!$C:$C,0)))","v":""},null,null,null,0]
[null,{"$f":"IF($C176=\"\",\"\",INDEX(Players!A:A,MATCH($C176,Players!$C:$C,0)))","v":""},null,{"$f":"IF($C176=\"\",\"\",INDEX(Players!B:B,MATCH($C176,Players!$C:$C,0)))","v":""},{"$f":"IF($C176=\"\",\"\",INDEX(Players!D:D,MATCH($C176,Players!$C:$C,0)))","v":""},{"$f":"IF($C176=\"\",\"\",INDEX(Players!E:E,MATCH($C176,Players!$C:$C,0)))","v":""},{"$f":"IF($C176=\"\",\"\",INDEX(Players!F:F,MATCH($C176,Players!$C:$C,0)))","v":""},null,null,null,0]
[null,{"$f":"IF($C177=\"\",\"\",INDEX(Players!A:A,MATCH($C177,Players!$C:$C,0)))","v":""},null,{"$f":"IF($C177=\"\",\"\",INDEX(Players!B:B,MATCH($C177,Players!$C:$C,0)))","v":""},{"$f":"IF($C177=\"\",\"\",INDEX(Players!D:D,MATCH($C177,Players!$C:$C,0)))","v":""},{"$f":"IF($C177=\"\",\"\",INDEX(Players!E:E,MATCH($C177,Players!$C:$C,0)))","v":""},{"$f":"IF($C177=\"\",\"\",INDEX(Players!F:F,MATCH($C177,Players!$C:$C,0)))","v":""},null,null,null,0]
[null,{"$f":"IF($C178=\"\",\"\",INDEX(Players!A:A,MATCH($C178,Players!$C:$C,0)))","v":""},null,{"$f":"IF($C178=\"\",\"\",INDEX(Players!B:B,MATCH($C178,Players!$C:$C,0)))","v":""},{"$f":"IF($C178=\"\",\"\",INDEX(Players!D:D,MATCH($C178,Players!$C:$C,0)))","v":""},{"$f":"IF($C178=\"\",\"\",INDEX(Players!E:E,MATCH($C178,Players!$C:$C,0)))","v":""},{"$f":"IF($C178=\"\",\"\",INDEX(Players!F:F,MATCH($C178,Players!$C:$C,0)))","v":""},null,null,null,0]
[null,{"$f":"IF($C179=\"\",\"\",INDEX(Players!A:A,MATCH($C179,Players!$C:$C,0)))","v":""},null,{"$f":"IF($C179=\"\",\"\",INDEX(Players!B:B,MATCH($C179,Players!$C:$C,0)))","v":""},{"$f":"IF($C179=\"\",\"\",INDEX(Players!D:D,MATCH($C179,Players!$C:$C,0)))","v":""},{"$f":"IF($C179=\"\",\"\",INDEX(Players!E:E,MATCH($C179,Players!$C:$C,0)))","v":""},{"$f":"IF($C179=\"\",\"\",INDEX(Players!F:F,MATCH($C179,Players!$C:$C,0)))","v":""},null,null,null,0]
[null,{"$f":"IF($C180=\"\",\"\",INDEX(Players!A:A,MATCH($C180,Players!$C:$C,0)))","v":""},null,{"$f":"IF($C180=\"\",\"\",INDEX(Players!B:B,MATCH($C180,Players!$C:$C,0)))","v":""},{"$f":"IF($C180=\"\",\"\",INDEX(Players!D:D,MATCH($C180,Players!$C:$C,0)))","v":""},{"$f":"IF($C180=\"\",\"\",INDEX(Players!E:E,MATCH($C180,Players!$C:$C,0)))","v":""},{"$f":"IF($C180=\"\",\"\",INDEX(Players!F:F,MATCH($C180,Players!$C:$C,0)))","v":""},null,null,null,0]
[null,{"$f":"IF($C181=\"\",\"\",INDEX(Players!A:A,MATCH($C181,Players!$C:$C,0)))","v":""},null,{"$f":"IF($C181=\"\",\"\",INDEX(Players!B:B,MATCH($C181,Players!$C:$C,0)))","v":""},{"$f":"IF($C181=\"\",\"\",INDEX(Players!D:D,MATCH($C181,Players!$C:$C,0)))","v":""},{"$f":"IF($C181=\"\",\"\",INDEX(Players!E:E,MATCH($C181,Players!$C:$C,0)))","v":""},{"$f":"IF($C181=\"\",\"\",INDEX(Players!F:F,MATCH($C181,Players!$C:$C,0)))","v":""},null,null,null,0]
[null,{"$f":"IF($C182=\"\",\"\",INDEX(Players!A:A,MATCH($C182,Players!$C:$C,0)))","v":""},null,{"$f":"IF($C182=\"\",\"\",INDEX(Players!B:B,MATCH($C182,Players!$C:$C,0)))","v":""},{"$f":"IF($C182=\"\",\"\",INDEX(Players!D:D,MATCH($C182,Players!$C:$C,0)))","v":""},{"$f":"IF($C182=\"\",\"\",INDEX(Players!E:E,MATCH($C182,Players!$C:$C,0)))","v":""},{"$f":"IF($C182=\"\",\"\",INDEX(Players!F:F,MATCH($C182,Players!$C:$C,0)))","v":""},null,null,null,0]
[null,{"$f":"IF($C183=\"\",\"\",INDEX(Players!A:A,MATCH($C183,Players!$C:$C,0)))","v":""},null,{"$f":"IF($C183=\"\",\"\",INDEX(Players!B:B,MATCH($C183,Players!$C:$C,0)))","v":""},{"$f":"IF($C183=\"\",\"\",INDEX(Players!D:D,MATCH($C183,Players!$C:$C,0)))","v":""},{"$f":"IF($C183=\"\",\"\",INDEX(Players!E:E,MATCH($C183,Players!$C:$C,0)))","v":""},{"$f":"IF($C183=\"\",\"\",INDEX(Players!F:F,MATCH($C183,Players!$C:$C,0)))","v":""},null,null,null,0]
[null,{"$f":"IF($C184=\"\",\"\",INDEX(Players!A:A,MATCH($C184,Players!$C:$C,0)))","v":""},null,{"$f":"IF($C184=\"\",\"\",INDEX(Players!B:B,MATCH($C184,Players!$C:$C,0)))","v":""},{"$f":"IF($C184=\"\",\"\",INDEX(Players!D:D,MATCH($C184,Players!$C:$C,0)))","v":""},{"$f":"IF($C184=\"\",\"\",INDEX(Players!E:E,MATCH($C184,Players!$C:$C,0)))","v":""},{"$f":"IF($C184=\"\",\"\",INDEX(Players!F:F,MATCH($C184,Players!$C:$C,0)))","v":""},null,null,null,0]
[null,{"$f":"IF($C185=\"\",\"\",INDEX(Players!A:A,MATCH($C185,Players!$C:$C,0)))","v":""},null,{"$f":"IF($C185=\"\",\"\",INDEX(Players!B:B,MATCH($C185,Players!$C:$C,0)))","v":""},{"$f":"IF($C185=\"\",\"\",INDEX(Players!D:D,MATCH($C185,Players!$C:$C,0)))","v":""},{"$f":"IF($C185=\"\",\"\",INDEX(Players!E:E,MATCH($C185,Players!$C:$C,0)))","v":""},{"$f":"IF($C185=\"\",\"\",INDEX(Players!F:F,MATCH($C185,Players!$C:$C,0)))","v":""},null,null,null,0]
[null,{"$f":"IF($C186=\"\",\"\",INDEX(Players!A:A,MATCH($C186,Players!$C:$C,0)))","v":""},null,{"$f":"IF($C186=\"\",\"\",INDEX(Players!B:B,MATCH($C186,Players!$C:$C,0)))","v":""},{"$f":"IF($C186=\"\",\"\",INDEX(Players!D:D,MATCH($C186,Players!$C:$C,0)))","v":""},{"$f":"IF($C186=\"\",\"\",INDEX(Players!E:E,MATCH($C186,Players!$C:$C,0)))","v":""},{"$f":"IF($C186=\"\",\"\",INDEX(Players!F:F,MATCH($C186,Players!$C:$C,0)))","v":""},null,null,null,0]
[null,{"$f":"IF($C187=\"\",\"\",INDEX(Players!A:A,MATCH($C187,Players!$C:$C,0)))","v":""},null,{"$f":"IF($C187=\"\",\"\",INDEX(Players!B:B,MATCH($C187,Players!$C:$C,0)))","v":""},{"$f":"IF($C187=\"\",\"\",INDEX(Players!D:D,MATCH($C187,Players!$C:$C,0)))","v":""},{"$f":"IF($C187=\"\",\"\",INDEX(Players!E:E,MATCH($C187,Players!$C:$C,0)))","v":""},{"$f":"IF($C187=\"\",\"\",INDEX(Players!F:F,MATCH($C187,Players!$C:$C,0)))","v":""},null,null,null,0]
[null,{"$f":"IF($C188=\"\",\"\",INDEX(Players!A:A,MATCH($C188,Players!$C:$C,0)))","v":""},null,{"$f":"IF($C188=\"\",\"\",INDEX(Players!B:B,MATCH($C188,Players!$C:$C,0)))","v":""},{"$f":"IF($C188=\"\",\"\",INDEX(Players!D:D,MATCH($C188,Players!$C:$C,0)))","v":""},{"$f":"IF($C188=\"\",\"\",INDEX(Players!E:E,MATCH($C188,Players!$C:$C,0)))","v":""},{"$f":"IF($C188=\"\",\"\",INDEX(Players!F:F,MATCH($C188,Players!$C:$C,0)))","v":""},null,null,null,0]
[null,{"$f":"IF($C189=\"\",\"\",INDEX(Players!A:A,MATCH($C189,Players!$C:$C,0)))","v":""},null,{"$f":"IF($C189=\"\",\"\",INDEX(Players!B:B,MATCH($C189,Players!$C:$C,0)))","v":""},{"$f":"IF($C189=\"\",\"\",INDEX(Players!D:D,MATCH($C189,Players!$C:$C,0)))","v":""},{"$f":"IF($C189=\"\",\"\",INDEX(Players!E:E,MATCH($C189,Players!$C:$C,0)))","v":""},{"$f":"IF($C189=\"\",\"\",INDEX(Players!F:F,MATCH($C189,Players!$C:$C,0)))","v":""},null,null,null,0]
[null,{"$f":"IF($C190=\"\",\"\",INDEX(Players!A:A,MATCH($C190,Players!$C:$C,0)))","v":""},null,{"$f":"IF($C190=\"\",\"\",INDEX(Players!B:B,MATCH($C190,Players!$C:$C,0)))","v":""},{"$f":"IF($C190=\"\",\"\",INDEX(Players!D:D,MATCH($C190,Players!$C:$C,0)))","v":""},{"$f":"IF($C190=\"\",\"\",INDEX(Players!E:E,MATCH($C190,Players!$C:$C,0)))","v":""},{"$f":"IF($C190=\"\",\"\",INDEX(Players!F:F,MATCH($C190,Players!$C:$C,0)))","v":""},null,null,null,0]
[null,{"$f":"IF($C191=\"\",\"\",INDEX(Players!A:A,MATCH($C191,Players!$C:$C,0)))","v":""},null,{"$f":"IF($C191=\"\",\"\",INDEX(Players!B:B,MATCH($C191,Players!$C:$C,0)))","v":""},{"$f":"IF($C191=\"\",\"\",INDEX(Players!D:D,MATCH($C191,Players!$C:$C,0)))","v":""},{"$f":"IF($C191=\"\",\"\",INDEX(Players!E:E,MATCH($C191,Players!$C:$C,0)))","v":""},{"$f":"IF($C191=\"\",\"\",INDEX(Players!F:F,MATCH($C191,Players!$C:$C,0)))","v":""},null,null,null,0]
[null,{"$f":"IF($C192=\"\",\"\",INDEX(Players!A:A,MATCH($C192,Players!$C:$C,0)))","v":""},null,{"$f":"IF($C192=\"\",\"\",INDEX(Players!B:B,MATCH($C192,Players!$C:$C,0)))","v":""},{"$f":"IF($C192=\"\",\"\",INDEX(Players!D:D,MATCH($C192,Players!$C:$C,0)))","v":""},{"$f":"IF($C192=\"\",\"\",INDEX(Players!E:E,MATCH($C192,Players!$C:$C,0)))","v":""},{"$f":"IF($C192=\"\",\"\",INDEX(Players!F:F,MATCH($C192,Players!$C:$C,0)))","v":""},null,null,null,0]
[null,{"$f":"IF($C193=\"\",\"\",INDEX(Players!A:A,MATCH($C193,Players!$C:$C,0)))","v":""},null,{"$f":"IF($C193=\"\",\"\",INDEX(Players!B:B,MATCH($C193,Players!$C:$C,0)))","v":""},{"$f":"IF($C193=\"\",\"\",INDEX(Players!D:D,MATCH($C193,Players!$C:$C,0)))","v":""},{"$f":"IF($C193=\"\",\"\",INDEX(Players!E:E,MATCH($C193,Players!$C:$C,0)))","v":""},{"$f":"IF($C193=\"\",\"\",INDEX(Players!F:F,MATCH($C193,Players!$C:$C,0)))","v":""},null,null,null,0]
[null,{"$f":"IF($C194=\"\",\"\",INDEX(Players!A:A,MATCH($C194,Players!$C:$C,0)))","v":""},null,{"$f":"IF($C194=\"\",\"\",INDEX(Players!B:B,MATCH($C194,Players!$C:$C,0)))","v":""},{"$f":"IF($C194=\"\",\"\",INDEX(Players!D:D,MATCH($C194,Players!$C:$C,0)))","v":""},{"$f":"IF($C194=\"\",\"\",INDEX(Players!E:E,MATCH($C194,Players!$C:$C,0)))","v":""},{"$f":"IF($C194=\"\",\"\",INDEX(Players!F:F,MATCH($C194,Players!$C:$C,0)))","v":""},null,null,null,0]
[null,{"$f":"IF($C195=\"\",\"\",INDEX(Players!A:A,MATCH($C195,Players!$C:$C,0)))","v":""},null,{"$f":"IF($C195=\"\",\"\",INDEX(Players!B:B,MATCH($C195,Players!$C:$C,0)))","v":""},{"$f":"IF($C195=\"\",\"\",INDEX(Players!D:D,MATCH($C195,Players!$C:$C,0)))","v":""},{"$f":"IF($C195=\"\",\"\",INDEX(Players!E:E,MATCH($C195,Players!$C:$C,0)))","v":""},{"$f":"IF($C195=\"\",\"\",INDEX(Players!F:F,MATCH($C195,Players!$C:$C,0)))","v":""},null,null,null,0]
[null,{"$f":"IF($C196=\"\",\"\",INDEX(Players!A:A,MATCH($C196,Players!$C:$C,0)))","v":""},null,{"$f":"IF($C196=\"\",\"\",INDEX(Players!B:B,MATCH($C196,Players!$C:$C,0)))","v":""},{"$f":"IF($C196=\"\",\"\",INDEX(Players!D:D,MATCH($C196,Players!$C:$C,0)))","v":""},{"$f":"IF($C196=\"\",\"\",INDEX(Players!E:E,MATCH($C196,Players!$C:$C,0)))","v":""},{"$f":"IF($C196=\"\",\"\",INDEX(Players!F:F,MATCH($C196,Players!$C:$C,0)))","v":""},null,null,null,0]
[null,{"$f":"IF($C197=\"\",\"\",INDEX(Players!A:A,MATCH($C197,Players!$C:$C,0)))","v":""},null,{"$f":"IF($C197=\"\",\"\",INDEX(Players!B:B,MATCH($C197,Players!$C:$C,0)))","v":""},{"$f":"IF($C197=\"\",\"\",INDEX(Players!D:D,MATCH($C197,Players!$C:$C,0)))","v":""},{"$f":"IF($C197=\"\",\"\",INDEX(Players!E:E,MATCH($C197,Players!$C:$C,0)))","v":""},{"$f":"IF($C197=\"\",\"\",INDEX(Players!F:F,MATCH($C197,Players!$C:$C,0)))","v":""},null,null,null,0]
[]
[]
[]
[]
[]
[]
[]
[]
[]
[]
[]
[]
[]
[]
[]
[]
[]
[]
[]
[]
[]
[]
[]
[]
[]
[]
[]
[]
[]
[]
[]
[]
[]
[]
[]
[]
[]
[]
[]
[]
[]
[]
[]
[]
[]
[]
[]
[]
[]
[]
[]
[]
[]
[]
[]
[]
[]
[]
[]
[]
[]
[]
[]
[]
[]
[]
[]
[]
[]
[]
[]
[]
[]
[]
[]
[]
[]
[]
[]
[]
[]
[]
[]
[]
[]
[]
[]
[]
[]
[]
[]
[]
[]
[]
[]
[]
[]
[]
[]
[]
[]
[]
[]
[]
[]
[]
[]
[]
[]
[]
[]
[]
[]
[]
[]
[]
[]
[]
[]
[]
[]
[]
[]
[]
[]
[]
[]
[]
[]
[]
[]
[]
[]
[]
[]
[]
[]
[]
[]
[]
[]
[]
[]
[]
[]
[]
[]
[]
[]
[]
[]
[]
[]
[]
[]
[]
[]
[]
[]
[]
[]
[]
[]
[]
[]
[]
[]
[]
[]
[]
[]
[]
[]
[]
[]
[]
[]
[]
[]
[]
[]
[]
[]
[]
[]
[]
[]
[]
[]
[]
[]
[]
[]
[]
[]
[]
[]
[]
[]
[]
[]
[]
[]
[]
[]
[]
[]
[]
[]
[]
[]
[]
[]
[]
[]
[]
[]
[]
[]
[]
[]
[]
[]
[]
[]
[]
[]
[]
[]
[]
[]
[]
[]
[]
[]
[]
[]
[]
[]
[]
[]
[]
[]
[]
[]
[]
[]
[]
[]
[]
[]
[]
[]
[]
[]
[]
[]
[]
[]
[]
[]
[]
[]
[]
[]
[]
[]
[]
[]
[]
[]
[]
[]
[]
[]
[]
[]
[]
[]
[]
[]
[]
[]
[]
[]
[]
[]
[]
[]
[]
[]
[]
[]
[]
[]
[]
[]
[]
[]
[]
[]
[]
[]
[]
[]
[]
[]
[]
[]
[]
[]
[]
[]
[]
[]
[]
[]
[]
[]
[]
[]
[]
[]
[]
[]
[]
[]
[]
[]
[]
[]
[]
[]
[]
[]
[]
[]
[]
[]
[]
[]
[]
[]
[]
[]
[]
[]
[]
[]
[]
[]
[]
[]
[]
[]
[]
[]
[]
[]
[]
[]
[]
[]
[]
[]
[]
[]
[]
[]
[]
[]
[]
[]
[]
[]
[]
[]
[]
[]
[]
[]
[]
[]
[]
[]
[]
[]
[]
[]
[]
[]
[]
[]
[]
[]
[]
[]
[]
[]
[]
[]
[]
[]
[]
[]
[]
[]
[]
[]
[]
[]
[]
[]
[]
[]
[]
[]
[]
[]
[]
[]
[]
[]
[]
[]
[]
[]
[]
[]
[]
[]
[]
[]
[]
[]
[]
[]
[]
[]
[]
[]
[]
[]
[]
[]
[]
[]
[]
[]
[]
[]
[]
[]
[]
[]
[]
[]
[]
[]
[]
[]
[]
[]
[]
[]
[]
[]
[]
[]
[]
[]
[]
[]
[]
[]
[]
[]
[]
[]
[]
[]
[]
[]
[]
[]
[]
[]
[]
[]
[]
[]
[]
[]
[]
[]
[]
[]
[]
[]
[]
[]
[]
[]
[]
[]
[]
[]
[]
[]
[]
[]
[]
[]
[]
[]
[]
[]
[]
[]
[]
[]
[]
[]
[]
[]
[]
[]
[]
[]
[]
[]
[]
[]
[]
[]
[]
[]
[]
[]
[]
[]
[]
[]
[]
[]
[]
[]
[]
[]
[]
[]
[]
[]
[]
[]
[]
[]
[]
[]
[]
[]
[]
[]
[]
[]
[]
[]
[]
[]
[]
[]
[]
[]
[]
[]
[]
[]
[]
[]
[]
[]
[]
[]
[]
[]
[]
[]
[]
[]
[]
[]
[]
[]
[]
[]
[]
[]
[]
[]
[]
[]
[]
[]
[]
[]
[]
[]
[]
[]
[]
[]
[]
[]
[]
[]
[]
[]
[]
[]
[]
[]
[]
[]
[]
[]
[]
[]
[]
[]
[]
[]
[]
[]
[]
[]
[]
[]
[]
[]
[]
[]
[]
[]
[]
[]
[]
[]
[]
[]
[]
[]
[]
[]
[]
[]
[]
[]
[]
[]
[]
[]
[]
[]
[]
[]
[]
[]
[]
[]
[]
[]
[]
[]
[]
[]
[]
[]
[]
[]
[]
[]
[]
[]
[]
[]
[]
[]
[]
[]
[]
[]
[]
[]
[]
[]
[]
[]
[]
[]
[]
[]
[]
[]
[]
[]
[]
[]
[]
[]
[]
[]
[]
[]
[]
[]
[]
[]
[]
[]
[]
[]
[]
[]
[]
[]
[]
[]
[]
[]
[]
[]
[]
[]
[]
[]
[]
[]
[]
[]
[]
[]
[]
[]
[]
[]
[]
[]
[]
[]
[]
[]
[]
[]
[]
[]
[]
[]
[]
[]
[]
[]
[]
[]
[]
[]
[]
[]
[]
[]
[]
[]
[]
[]
[]
[]
[]
[]
[]
[]
[]
[]
[]
[]
[]
[]
[]
[]
[]
[]
[]
[]
[]
[]
[]
[]
[]
[]
[]
[]
[]
[]
[]
[]
[]
[]
[]
[]
[]
[]
[]
[]
[]
[]
[]
[]
[]
[]
[]
[]
[]
[]
[]
[]
[]
[]
[]
[]
[]
[]
[]
[]
[]
[]
[]
[]
[]
[]
[]
[]
[]
[]
[]
[]
[]
[]
[]
[]
[]
[]
[]
[]
[]
[]
[]
[]
[]
[]
[]
[]
[]
[]
[]
[]
[]
[]
[]
[]
[]
[]
[]
[]
[]
[]
[]
[]
[]
[]
[]
[]
[]
[]
[]
[]
[]
[]
[]
[]
[]
[]
[]
[]
[]
[]
[]
[]
[]
[]
[]
[]
[]
[]
[]
[]
[]
[]
[]
[]
[]
[]
[]
[]
[]
[]
[]
[]
[]
[]
[]
[]
[]
[]
[]
[]
[]
[]
[]
[]
[]
[]
[]
[]
[]
[]
[]
[]
[]
[]
[]
[]
[]
[]
[]
[]
[]
[]
[]
[]
[]
[]
[]
[]
[]
[]
[]
[]
[]
[]
[]
[]
[]
[]
[]
[]
[]
[]
[]
[]
[]
[]
[]
[]
[]
[]
[]
[]
[]
[]
[]
[]
[]
[]
[]
[]
[]
[]
[]
[]
[]
[]
[]
[]
[]
[]
[]
[]
[]
[]
[]
[]
[]
[]
[]
[]
[]
[]
[]
[]
[]
[]
[]
[]
[]
[]
[]
[]
[]
[]
[]
[]
[]
[]
[]
[]
[]
[]
[]
[]
[]
[]
[]
[]
[]
[]
[]
[]
[]
[]
[]
[]
[]
[]
[]
[]
[]
[]
[]
[]
[]
[]
[]
[]
[]
[]
[]
[]
[]
[]
[]
[]
[]
[]
[]
[]
[]
[]
[]
[]
[]
[]
[]
[]
[]
[]
[]
[]
[]
[]
[]
[]
[]
[]
[]
[]
[]
[]
[]
[]
[]
[]
[]
[]
[]
[]
[]
[]
[]
[]
[]
[]
[]
[]
[]
[]
[]
[]
[]
[]
[]
[]
[]
[]
[]
[]
[]
[]
[]
[]
[]
[]
[]
[]
[]
[]
[]
[]
[]
[]
[]
[]
[]
[]
[]
[]
[]
[]
[]
[]
[]
[]
[]
[]
[]
[]
[]
[]
[]
[]
[]
[]
[]
[]
[]
[]
[]
[]
[]
[]
[]
[]
[]
[]
[]
[]
[]
[]
[]
[]
[]
[]
[]
[]
[]
[]
[]
[]
[]
[]
[]
[]
[]
[]
[]
[]
[]
[]
[]
[]
[]
[]
[]
[]
[]
[]
[]
[]
[]
[]
[]
[]
[]
[]
[]
[]
[]
[]
[]
[]
[]
[]
[]
[]
[]
[]
[]
[]
[]
[]
[]
[]
[]
[]
[]
[]
[]
[]
[]
[]
[]
[]
[]
[]
[]
[]
[]
[]
[]
[]
[]
[]
[]
[]
[]
[]
[]
[]
[]
[]
[]
[]
[]
[]
[]
[]
[]
[]
[]
[]
[]
[]
[]
[]
[]
[]
[]
[]
[]
[]
[]
[]
[]
[]
[]
[]
[]
[]
[]
[]
[]
[]
[]
[]
[]
[]
[]
[]
[]
[]
[]
[]
[]
[]
[]
[]
[]
[]
[]
[]
[]
[]
[]
[]
[]
[]
[]
[]
[]
[]
[]
[]
[]
[]
[]
[]
[]
[]
[]
[]
[]
[]
[]
[]
[]
[]
[]
[]
[]
[]
[]
[]
[]
[]
[]
[]
[]
[]
[]
[]
[]
[]
[]
[]
[]
[]
[]
[]
[]
[]
[]
[]
[]
[]
[]
[]
[]
[]
[]
[]
[]
[]
[]
[]
[]
[]
[]
[]
[]
[]
[]
[]
[]
[]
[]
[]
[]
[]
[]
[]
[]
[]
[]
[]
[]
[]
[]
[]
[]
[]
[]
[]
[]
[]
[]
[]
[]
[]
[]
[]
[]
[]
[]
[]
[]
[]
[]
[]
[]
[]
[]
[]
[]
[]
[]
[]
[]
[]
[]
[]
[]
[]
[]
[]
[]
[]
[]
[]
[]
[]
[]
[]
[]
[]
[]
[]
[]
[]
[]
[]
[]
[]
[]
[]
[]
[]
[]
[]
[]
[]
[]
[]
[]
[]
[]
[]
[]
[]
[]
[]
[]
[]
[]
[]
[]
[]
[]
[]
[]
[]
[]
[]
[]
[]
[]
[]
[]
[]
[]
[]
[]
[]
[]
[]
[]
[]
[]
[]
[]
[]
[]
[]
[]
[]
[]
[]
[]
[]
[]
[]
[]
[]
[]
[]
[]
[]
[]
[]
[]
[]
[]
[]
[]
[]
[]
[]
[]
[]
[]
[]
[]
[]
[]
[]
[]
[]
[]
[]
[]
[]
[]
[]
[]
[]
[]
[]
[]
[]
[]
[]
[]
[]
[]
[]
[]
[]
[]
[]
[]
[]
[]
[]
[]
[]
[]
[]
[]
[]
[]
[]
[]
[]
[]
[]
[]
[]
[]
[]
[]
[]
[]
[]
[]
[]
[]
[]
[]
[]
[]
[]
[]
[]
[]
[]
[]
[]
[]
[]
[]
[]
[]
[]
[]
[]
[]
[]
[]
[]
[]
[]
[]
[]
[]
[]
[]
[]
[]
[]
[]
[]
[]
[]
[]
[]
[]
[]
[]
[]
[]
[]
[]
[]
[]
[]
[]
[]
[]
[]
[]
[]
[]
[]
[]
[]
[]
[]
[]
[]
[]
[]
[]
[]
[]
[]
[]
[]
[]
[]
[]
[]
[]
[]
[]
[]
[]
[]
[]
[]
[]
[]
[]
[]
[]
[]
[]
[]
[]
[]
[]
[]
[]
[]
[]
[]
[]
[]
[]
[]
[]
[]
[]
[]
[]
[]
[]
[]
[]
[]
[]
[]
[]
[]
[]
[]
[]
[]
[]
[]
[]
[]
[]
[]
[]
[]
[]
[]
[]
[]
[]
[]
[]
[]
[]
[]
[]
[]
[]
[]
[]
[]
[]
[]
[]
[]
[]
[]
[]
[]
[]
[]
[]
[]
[]
[]
[]
[]
[]
[]
[]
[]
[]
[]
[]
[]
[]
[]
[]
[]
[]
[]
[]
[]
[]
[]
[]
[]
[]
[]
[]
[]
[]
[]
[]
[]
[]
[]
[]
[]
[]
[]
[]
[]
[]
[]
[]
[]
[]
[]
[]
[]
[]
[]
[]
[]
[]
[]
[]
[]
[]
[]
[]
[]
[]
[]
[]
[]
[]
[]
[]
[]
[]
[]
[]
[]
[]
[]
[]
[]
[]
[]
[]
[]
[]
[]
[]
[]
[]
[]
[]
[]
[]
[]
[]
[]
[]
[]
[]
[]
[]
[]
[]
[]
[]
[]
[]
[]
[]
[]
[]
[]
[]
[]
[]
[]
[]
[]
[]
[]
[]
[]
[]
[]
[]
[]
[]
[]
[]
[]
[]
[]
[]
[]
[]
[]
[]
[]
[]
[]
[]
[]
[]
[]
[]
[]
[]
[]
[]
[]
[]
[]
[]
[]
[]
[]
[]
[]
[]
[]
[]
[]
[]
[]
[]
[]
[]
[]
[]
[]
[]
[]
[]
[]
[]
[]
[]
[]
[]
[]
[]
[]
[]
[]
[]
[]
[]
[]
[]
[]
[]
[]
[]
[]
[]
[]
[]
[]
[]
[]
[]
[]
[]
[]
[]
[]
[]
[]
[]
[]
[]
[]
[]
[]
[]
[]
[]
[]
[]
[]
[]
[]
[]
[]
[]
[]
[]
[]
[]
[]
[]
[]
[]
[]
[]
[]
[]
[]
[]
[]
[]
[]
[]
[]
[]
[]
[]
[]
[]
[]
[]
[]
[]
[]
[]
[]
[]
[]
[]
[]
[]
[]
[]
[]
[]
[]
[]
[]
[]
[]
[]
[]
[]
[]
[]
[]
[]
[]
[]
[]
[]
[]
[]
[]
[]
[]
[]
[]
[]
[]
[]
[]
[]
[]
[]
[]
[]
[]
[]
[]
[]
[]
[]
[]
[]
[]
[]
[]
[]
[]
[]
[]
[]
[]
[]
[]
[]
[]
[]
[]
[]
[]
[]
[]
[]
[]
[]
[]
[]
[]
[]
[]
[]
[]
[]
[]
[]
[]
[]
[]
[]
[]
[]
[]
[]
[]
[]
[]
[]
[]
[]
[]
[]
[]
[]
[]
[]
[]
[]
[]
[]
[]
[]
[]
[]
[]
[]
[]
[]
[]
[]
[]
[]
[]
[]
[]
[]
[]
[]
[]
[]
[]
[]
[]
[]
[]
[]
[]
[]
[]
[]
[]
[]
[]
[]
[]
[]
[]
[]
[]
[]
[]
[]
[]
[]
[]
[]
[]
[]
[]
[]
[]
[]
[]
[]
[]
[]
[]
[]
[]
[]
[]
[]
[]
[]
[]
[]
[]
[]
[]
[]
[]
[]
[]
[]
[]
[]
[]
[]
[]
[]
[]
[]
[]
[]
[]
[]
[]
[]
[]
[]
[]
[]
[]
[]
[]
[]
[]
[]
[]
[]
[]
[]
[]
[]
[]
[]
[]
[]
[]
[]
[]
[]
[]
[]
[]
[]
[]
[]
[]
[]
[]
[]
[]
[]
[]
[]
[]
[]
[]
[]
[]
[]
[]
[]
[]
[]
[]
[]
[]
[]
[]
[]
[]
[]
[]
[]
[]
[]
[]
[]
[]
[]
[]
[]
[]
[]
[]
[]
[]
[]
[]
[]
[]
[]
[]
[]
[]
[]
[]
[]
[]
[]
[]
[]
[]
[]
[]
[]
[]
[]
[]
[]
[]
[]
[]
[]
[]
[]
[]
[]
[]
[]
[]
[]
[]
[]
[]
[]
[]
[]
[]
[]
[]
[]
[]
[]
[]
[]
[]
[]
[]
[]
[]
[]
[]
[]
[]
[]
[]
[]
[]
[]
[]
[]
[]
[]
[]
[]
[]
[]
[]
[]
[]
[]
[]
[]
[]
[]
[]
[]
[]
[]
[]
[]
[]
[]
[]
[]
[]
[]
[]
[]
[]
[]
[]
[]
[]
[]
[]
[]
[]
[]
[]
[]
[]
[]
[]
[]
[]
[]
[]
[]
[]
[]
[]
[]
[]
[]
[]
[]
[]
[]
[]
[]
[]
[]
[]
[]
[]
[]
[]
[]
[]
[]
[]
[]
[]
[]
[]
[]
[]
[]
[]
[]
[]
[]
[]
[]
[]
[]
[]
[]
[]
[]
[]
[]
[]
[]
[]
[]
[]
[]
[]
[]
[]
[]
[]
[]
[]
[]
[]
[]
[]
[]
[]
[]
[]
[]
[]
[]
[]
[]
[]
[]
[]
[]
[]
[]
[]
[]
[]
[]
[]
[]
[]
[]
[]
[]
[]
[]
[]
[]
[]
[]
[]
[]
[]
[]
[]
[]
[]
[]
[]
[]
[]
[]
[]
[]
[]
[]
[]
[]
[]
[]
[]
[]
[]
[]
[]
[]
[]
[]
[]
[]
[]
[]
[]
[]
[]
[]
[]
[]
[]
[]
[]
[]
[]
[]
[]
[]
[]
[]
[]
[]
[]
[]
[]
[]
[]
[]
[]
[]
[]
[]
[]
[]
[]
[]
[]
[]
[]
[]
[]
[]
[]
[]
[]
[]
[]
[]
[]
[]
[]
[]
[]
[]
[]
[]
[]
[]
[]
[]
[]
[]
[]
[]
[]
[]
[]
[]
[]
[]
[]
[]
[]
[]
[]
[]
[]
[]
[]
[]
[]
[]
[]
[]
[]
[]
[]
[]
[]
[]
[]
[]
[]
[]
[]
[]
[]
[]
[]
[]
[]
[]
[]
[]
[]
[]
[]
[]
[]
[]
[]
[]
[]
[]
[]
[]
[]
[]
[]
[]
[]
[]
[]
[]
[]
[]
[]
[]
[]
[]
[]
[]
[]
[]
[]
[]
[]
[]
[]
[]
[]
[]
[]
[]
[]
[]
[]
[]
[]
[]
[]
[]
[]
[]
[]
[]
[]
[]
[]
[]
[]
[]
[]
[]
[]
[]
[]
[]
[]
[]
[]
[]
[]
[]
[]
[]
[]
[]
[]
[]
[]
[]
[]
[]
[]
[]
[]
[]
[]
[]
[]
[]
[]
[]
[]
[]
[]
[]
[]
[]
[]
[]
[]
[]
[]
[]
[]
[]
[]
[]
[]
[]
[]
[]
[]
[]
[]
[]
[]
[]
[]
[]
[]
[]
[]
[]
[]
[]
[]
[]
[]
[]
[]
[]
[]
[]
[]
[]
[]
[]
[]
[]
[]
[]
[]
[]
[]
[]
[]
[]
[]
[]
[]
[]
[]
[]
[]
[]
[]
[]
[]
[]
[]
[]
[]
[]
[]
[]
[]
[]
[]
[]
[]
[]
[]
[]
[]
[]
[]
[]
[]
[]
[]
[]
[]
[]
[]
[]
[]
[]
[]
[]
[]
[]
[]
[]
[]
[]
[]
[]
[]
[]
[]
[]
[]
[]
[]
[]
[]
[]
[]
[]
[]
[]
[]
[]
[]
[]
[]
[]
[]
[]
[]
[]
[]
[]
[]
[]
[]
[]
[]
[]
[]
[]
[]
[]
[]
[]
[]
[]
[]
[]
[]
[]
[]
[]
[]
[]
[]
[]
[]
[]
[]
[]
[]
[]
[]
[]
[]
[]
[]
[]
[]
[]
[]
[]
[]
[]
[]
[]
[]
[]
[]
[]
[]
[]
[]
[]
[]
[]
[]
[]
[]
[]
[]
[]
[]
[]
[]
[]
[]
[]
[]
[]
[]
[]
[]
[]
[]
[]
[]
[]
[]
[]
[]
[]
[]
[]
[]
[]
[]
[]
[]
[]
[]
[]
[]
[]
[]
[]
[]
[]
[]
[]
[]
[]
[]
[]
[]
[]
[]
[]
[]
[]
[]
[]
[]
[]
[]
[]
[]
[]
[]
[]
[]
[]
[]
[]
[]
[]
[]
[]
[]
[]
[]
[]
[]
[]
[]
[]
[]
[]
[]
[]
[]
[]
[]
[]
[]
[]
[]
[]
[]
[]
[]
[]
[]
[]
[]
[]
[]
[]
[]
[]
[]
[]
[]
[]
[]
[]
[]
[]
[]
[]
[]
[]
[]
[]
[]
[]
[]
[]
[]
[]
[]
[]
[]
[]
[]
[]
[]
[]
[]
[]
[]
[]
[]
[]
[]
[]
[]
[]
[]
[]
[]
[]
[]
[]
[]
[]
[]
[]
[]
[]
[]
[]
[]
[]
[]
[]
[]
[]
[]
[]
[]
[]
[]
[]
[]
[]
[]
[]
[]
[]
[]
[]
[]
[]
[]
[]
[]
[]
[]
[]
[]
[]
[]
[]
[]
[]
[]
[]
[]
[]
[]
[]
[]
[]
[]
[]
[]
[]
[]
[]
[]
[]
[]
[]
[]
[]
[]
[]
[]
[]
[]
[]
[]
[]
[]
[]
[]
[]
[]
[]
[]
[]
[]
[]
[]
[]
[]
[]
[]
[]
[]
[]
[]
[]
[]
[]
[]
[]
[]
[]
[]
[]
[]
[]
[]
[]
[]
[]
[]
[]
[]
[]
[]
[]
[]
[]
[]
[]
[]
[]
[]
[]
[]
[]
[]
[]
[]
[]
[]
[]
[]
[]
[]
[]
[]
[]
[]
[]
[]
[]
[]
[]
[]
[]
[]
[]
[]
[]
[]
[]
[]
[]
[]
[]
[]
[]
[]
[]
[]
[]
[]
[]
[]
[]
[]
[]
[]
[]
[]
[]
[]
[]
[]
[]
[]
[]
[]
[]
[]
[]
[]
[]
[]
[]
[]
[]
[]
[]
[]
[]
[]
[]
[]
[]
[]
[]
[]
[]
[]
[]
[]
[]
[]
[]
[]
[]
[]
[]
[]
[]
[]
[]
[]
[]
[]
[]
[]
[]
[]
[]
[]
[]
[]
[]
[]
[]
[]
[]
[]
[]
[]
[]
[]
[]
[]
[]
[]
[]
[]
[]
[]
[]
[]
[]
[]
[]
[]
[]
[]
[]
[]
[]
[]
[]
[]
[]
[]
[]
[]
[]
[]
[]
[]
[]
[]
[]
[]
[]
[]
[]
[]
[]
[]
[]
[]
[]
[]
[]
[]
[]
[]
[]
[]
[]
[]
[]
[]
[]
[]
[]
[]
[]
[]
[]
[]
[]
[]
[]
[]
[]
[]
[]
[]
[]
[]
[]
[]
[]
[]
[]
[]
[]
[]
[]
[]
[]
[]
[]
[]
[]
[]
[]
[]
[]
[]
[]
[]
[]
[]
[]
[]
[]
[]
[]
[]
[]
[]
[]
[]
[]
[]
[]
[]
[]
[]
[]
[]
[]
[]
[]
[]
[]
[]
[]
[]
[]
[]
[]
[]
[]
[]
[]
[]
[]
[]
[]
[]
[]
[]
[]
[]
[]
[]
[]
[]
[]
[]
[]
[]
[]
[]
[]
[]
[]
[]
[]
[]
[]
[]
[]
[]
[]
[]
[]
[]
[]
[]
[]
[]
[]
[]
[]
[]
[]
[]
[]
[]
[]
[]
[]
[]
[]
[]
[]
[]
[]
[]
[]
[]
[]
[]
[]
[]
[]
[]
[]
[]
[]
[]
[]
[]
[]
[]
[]
[]
[]
[]
[]
[]
[]
[]
[]
[]
[]
[]
[]
[]
[]
[]
[]
[]
[]
[]
[]
[]
[]
[]
[]
[]
[]
[]
[]
[]
[]
[]
[]
[]
[]
[]
[]
[]
[]
[]
[]
[]
[]
[]
[]
[]
[]
[]
[]
[]
[]
[]
[]
[]
[]
[]
[]
[]
[]
[]
[]
[]
[]
[]
[]
[]
[]
[]
[]
[]
[]
[]
[]
[]
[]
[]
[]
[]
[]
[]
[]
[]
[]
[]
[]
[]
[]
[]
[]
[]
[]
[]
[]
[]
[]
[]
[]
[]
[]
[]
[]
[]
[]
[]
[]
[]
[]
[]
[]
[]
[]
[]
[]
[]
[]
[]
[]
[]
[]
[]
[]
[]
[]
[]
[]
[]
[]
[]
[]
[]
[]
[]
[]
[]
[]
[]
[]
[]
[]
[]
[]
[]
[]
[]
[]
[]
[]
[]
[]
[]
[]
[]
[]
[]
[]
[]
[]
[]
[]
[]
[]
[]
[]
[]
[]
[]
[]
[]
[]
[]
[]
[]
[]
[]
[]
[]
[]
[]
[]
[]
[]
[]
[]
[]
[]
[]
[]
[]
[]
[]
[]
[]
[]
[]
[]
[]
[]
[]
[]
[]
[]
[]
[]
[]
[]
[]
[]
[]
[]
[]
[]
[]
[]
[]
[]
[]
[]
[]
[]
[]
[]
[]
[]
[]
[]
[]
[]
[]
[]
[]
[]
[]
[]
[]
[]
[]
[]
[]
[]
[]
[]
[]
[]
[]
[]
[]
[]
[]
[]
[]
[]
[]
[]
[]
[]
[]
[]
[]
[]
[]
[]
[]
[]
[]
[]
[]
[]
[]
[]
[]
[]
[]
[]
[]
[]
[]
[]
[]
[]
[]
[]
[]
[]
[]
[]
[]
[]
[]
[]
[]
[]
[]
[]
[]
[]
[]
[]
[]
[]
[]
[]
[]
[]
[]
[]
[]
[]
[]
[]
[]
[]
[]
[]
[]
[]
[]
[]
[]
[]
[]
[]
[]
[]
[]
[]
[]
[]
[]
[]
[]
[]
[]
[]
[]
[]
[]
[]
[]
[]
[]
[]
[]
[]
[]
[]
[]
[]
[]
[]
[]
[]
[]
[]
[]
[]
[]
[]
[]
[]
[]
[]
[]
[]
[]
[]
[]
[]
[]
[]
[]
[]
[]
[]
[]
[]
[]
[]
[]
[]
[]
[]
[]
[]
[]
[]
[]
[]
[]
[]
[]
[]
[]
[]
[]
[]
[]
[]
[]
[]
[]
[]
[]
[]
[]
[]
[]
[]
[]
[]
[]
[]
[]
[]
[]
[]
[]
[]
[]
[]
[]
[]
[]
[]
[]
[]
[]
[]
[]
[]
[]
[]
[]
[]
[]
[]
[]
[]
[]
[]
[]
[]
[]
[]
[]
[]
[]
[]
[]
[]
[]
[]
[]
[]
[]
[]
[]
[]
[]
[]
[]
[]
[]
[]
[]
[]
[]
[]
[]
[]
[]
[]
[]
[]
[]
[]
[]
[]
[]
[]
[]
[]
[]
[]
[]
[]
[]
[]
[]
[]
[]
[]
[]
[]
[]
[]
[]
[]
[]
[]
[]
[]
[]
[]
[]
[]
[]
[]
[]
[]
[]
[]
[]
[]
[]
[]
[]
[]
[]
[]
[]
[]
[]
[]
[]
[]
[]
[]
[]
[]
[]
[]
[]
[]
[]
[]
[]
[]
[]
[]
[]
[]
[]
[]
[]
[]
[]
[]
[]
[]
[]
[]
[]
[]
[]
[]
[]
[]
[]
[]
[]
[]
[]
[]
[]
[]
[]
[]
[]
[]
[]
[]
[]
[]
[]
[]
[]
[]
[]
[]
[]
[]
[]
[]
[]
[]
[]
[]
[]
[]
[]
[]
[]
[]
[]
[]
[]
[]
[]
[]
[]
[]
[]
[]
[]
[]
[]
[]
[]
[]
[]
[]
[]
[]
[]
[]
[]
[]
[]
[]
[]
[]
[]
[]
[]
[]
[]
[]
[]
[]
[]
[]
[]
[]
[]
[]
[]
[]
[]
[]
[]
[]
[]
[]
[]
[]
[]
[]
[]
[]
[]
[]
[]
[]
[]
[]
[]
[]
[]
[]
[]
[]
[]
[]
[]
[]
[]
[]
[]
[]
[]
[]
[]
[]
[]
[]
[]
[]
[]
[]
[]
[]
[]
[]
[]
[]
[]
[]
[]
[]
[]
[]
[]
[]
[]
[]
[]
[]
[]
[]
[]
[]
[]
[]
[]
[]
[]
[]
[]
[]
[]
[]
[]
[]
[]
[]
[]
[]
[]
[]
[]
[]
[]
[]
[]
[]
[]
[]
[]
[]
[]
[]
[]
[]
[]
[]
[]
[]
[]
[]
[]
[]
[]
[]
[]
[]
[]
[]
[]
[]
[]
[]
[]
[]
[]
[]
[]
[]
[]
[]
[]
[]
[]
[]
[]
[]
[]
[]
[]
[]
[]
[]
[]
[]
[]
[]
[]
[]
[]
[]
[]
[]
[]
[]
[]
[]
[]
[]
[]
[]
[]
[]
[]
[]
[]
[]
[]
[]
[]
[]
[]
[]
[]
[]
[]
[]
[]
[]
[]
[]
[]
[]
[]
[]
[]
[]
[]
[]
[]
[]
[]
[]
[]
[]
[]
[]
[]
[]
[]
[]
[]
[]
[]
[]
[]
[]
[]
[]
[]
[]
[]
[]
[]
[]
[]
[]
[]
[]
[]
[]
[]
[]
[]
[]
[]
[]
[]
[]
[]
[]
[]
[]
[]
[]
[]
[]
[]
[]
["*"]

{"sheet":"Spending","index":6,"n_rows":16,"n_cols":2,"rows_kept":16,"cut":false,"hidden":false,"merged":[]}
["Winner","*"]
[]
["Row Labels","Sum of Bid"]
["Andy Clucas",4.1000000000000005]
["Carl Hogg",3.6]
["Dave Sumner",5.3]
["Graham Miller",21.1]
["Howard Bradley",17.200000000000003]
["John Murphy",24.4]
["Liam Murphy",3.1999999999999997]
["Mo Sudell",6.6]
["Nigel Heyes",0.89999999999999991]
["Nigel Hughes",0.7]
["Paul Fairhurst",3.3000000000000003]
["Steve Waterhouse",4.7]
["Grand Total",95.100000000000009]

{"sheet":"Signed","index":7,"n_rows":173,"n_cols":8,"rows_kept":173,"cut":false,"hidden":false,"merged":[]}
["Sort","Ref","Cat","Pos","Player","Team","Owner","Bid"]
["A","A",5801,"GK","Thomas Kaminski","Blackburn","Chris Griffin",0.3]
["A","A",5799,"GK","Emiliano Martinez","Villa","Andy Clucas",0.6]
["A","A",5798,"GK","Illan Meslier","Leeds","Paul Fairhurst",0.9]
["A","A",5662,"GK","Freddie Woodman","Swansea","Steve Waterhouse",0.6]
["A","A",5660,"GK","Rafael Cabral","Reading","Mo Sudell",0.1]
["A","A",5659,"GK","Guaita Vincente","Palace","Nigel Heyes",0.8]
["A","A",5658,"GK","Marcus Bettinelli","Middlesbro","Nigel Hughes",0.3]
["A","A",5657,"GK","Brice Samba","Forest","Graham Miller",0.6]
["A","A",5656,"GK","Aaron Ramsdale","Sheff U","Howard Bradley",1.7]
["A","A",5379,"GK","Neil Etheridge","Birmingham","Nigel Hughes",0.2]
["A","A",5372,"GK","Martin Dubravka","Newcastle","Liam Murphy",0.3]
["A","A",5370,"GK","Rui Patricio","Wolves","Chris Griffin",2.2999999999999998]
["A","A",5369,"GK","Bernd Leno","Arsenal","Carl Hogg",0.3]
["A","A",5192,"GK","Matthew Ryan","Brighton","Nigel Heyes",0.8]
["A","A",5187,"GK","Ederson","Man C","Steve Waterhouse",0.3]
["A","A",5151,"GK","Sam Johnstone","West Brom","John Murphy",0.3]
["A","A",4795,"GK","Jordan Pickford","Everton","Paul Fairhurst",4]
["A","A",4513,"GK","Alex McCarthy","Southampton","John Murphy",0.3]
["A","A",4420,"GK","Lukasz Fabianski","West Ham","Dave Sumner",0.5]
["A","A",4380,"GK","Kasper Schmeichel","Leicester","Mo Sudell",0.5]
["A","A",4360,"GK","Ben Foster","Watford","Carl Hogg",0.7]
["A","A",4309,"GK","Hugo Lloris","Spurs","Graham Miller",0.3]
["A","A",4223,"GK","Asmir Begovic","Bournemouth","Howard Bradley",1.3]
["A","A",4198,"GK","Tim Krul","Norwich","Andy Clucas",0.1]
["A","A",3240,"GK","Nick Pope","Burnley","Dave Sumner",0.5]
["A","A",1655,"GK","Alex Smithies","Cardiff","Liam Murphy",0.2]
["C","D",5903,"MID","Luka Milivojevic","Palace","Carl Hogg",1.2]
["C","D",5902,"MID","Jordan Shipley","Coventry","Paul Fairhurst",2.1]
["C","D",5901,"MID","Dan Barsaler","Rotherham","Paul Fairhurst",0.8]
["C","D",5900,"MID","Saman Ghoddos","Brentford","Paul Fairhurst",0.3]
["C","D",5781,"MID","Tarique Fosu-Henry","Brentford","Dave Sumner",0.2]
["C","D",5768,"MID","Tomas Soucek","West Ham","Graham Miller",0.3]
["C","D",5732,"MID","Ilias Chair","QPR","Andy Clucas",0.4]
["C","D",5697,"MID","Lewis O'Brien","Huddersfield","Dave Sumner",0.2]
["C","D",5651,"MID","Matheus Pereira","West Brom","Carl Hogg",1.1000000000000001]
["C","A",5624,"MID","Dani Ceballos","Arsenal","Steve Waterhouse",2.2000000000000002]
["C","D",5587,"MID","Leandro Trossard","Brighton","Carl Hogg",1.1000000000000001]
["C","D",5578,"MID","Pablo Fornals","West Ham","Mo Sudell",1]
["C","D",5566,"MID","Josh Da Silva","Brentford","Howard Bradley",0.6]
["C","B",5534,"MID","Youri Tielemans","Leicester","Dave Sumner",2.2999999999999998]
["C","D",5491,"MID","Todd Cantwell","Norwich","Andy Clucas",0.4]
["C","B",5475,"MID","Emiliano Buendia","Norwich","Graham Miller",6.7]
["C","D",5461,"MID","Grady Diangana","West Brom","Liam Murphy",0.2]
["C","D",5460,"MID","Phil Foden","Man C","John Murphy",12.6]
["C","D",5395,"MID","Jorginho","Chelsea","Andy Clucas",0.2]
["C","B",5392,"MID","Mason Mount","Chelsea","John Murphy",3]
["C","D",5380,"MID","Jefferson Lerma","Bournemouth","John Murphy",4.4000000000000004]
["C","A",5363,"MID","John McGinn","Villa","Steve Waterhouse",2.2000000000000002]
["C","D",5325,"MID","Jack Harrison","Leeds","Paul Fairhurst",0.1]
["C","D",5261,"MID","David Brooks","Bournemouth","Steve Waterhouse",0.3]
["C","B",5243,"MID","Harvey Barnes","Leicester","Howard Bradley",4.3]
["C","B",5242,"MID","James Maddison","Leicester","Graham Miller",7.2]
["C","D",5232,"MID","Mario Vrancic","Norwich","Mo Sudell",2.6]
["C","A",5176,"MID","Bradley Dack","Blackburn","Mo Sudell",0.5]
["C","A",5143,"MID","Ruben Neves","Wolves","Graham Miller",6.7]
["C","D",4864,"MID","Jed Wallace","Millwall","Howard Bradley",7.3]
["C","B",4841,"MID","Alan Browne","Preston","Nigel Hughes",0.7]
["C","B",4838,"MID","Daniel Johnson","Preston","Mo Sudell",1]
["C","D",4740,"MID","Sam Clucas","Stoke","Mo Sudell",1.5]
["C","C",4669,"MID","James Ward-Prowse","Southampton","Dave Sumner",1.6]
["C","D",4632,"MID","Sheyi Ojo","Cardiff","Howard Bradley",4.7]
["C","D",4406,"MID","Jamie Paterson","Bristol C","Andy Clucas",3.1]
["C","A",4368,"MID","Will Hughes","Watford","Liam Murphy",0.2]
["C","D",4325,"MID","Ross Barkley","Villa","John Murphy",3]
["C","C",4306,"MID","James McClean","Stoke","Nigel Heyes",0.3]
["C","D",4238,"MID","Tom Cleverley","Watford","John Murphy",1]
["C","A",4196,"MID","Gylfi Sigurdsson","Everton","Graham Miller",0.2]
["C","D",4010,"MID","Joe Ralls","Cardiff","Dave Sumner",1]
["C","D",3771,"MID","Sammy Ameobi","Forest","Nigel Heyes",0.3]
["C","D",2625,"MID","Bradley Johnson","Blackburn","Nigel Heyes",0.3]
["D","D",5899,"FWD","Lyndon Dykes","QPR","Paul Fairhurst",0.3]
["D","A",5871,"FWD","Viktor Gyokeres","Swansea","Paul Fairhurst",0.1]
["D","A",5870,"FWD","Matt Godden","Coventry","John Murphy",1]
["D","D",5869,"FWD","Joao Pedro","Watford","Paul Fairhurst",2.8]
["D","B",5866,"FWD","Scott Kashket","Wycombe","Paul Fairhurst",0.2]
["D","D",5865,"FWD","Freddie Ladapo","Rotherham","Paul Fairhurst",0.1]
["D","A",5856,"FWD","Edinson Cavani","Man U","Steve Waterhouse",4.5999999999999996]
["D","A",5827,"FWD","James Rodriguez","Everton","Dave Sumner",2]
["D","A",5821,"FWD","Kai Havertz","Chelsea","Paul Fairhurst",7]
["D","A",5792,"FWD","Timo Werner","Chelsea","Paul Fairhurst",25]
["D","C",5772,"FWD","Bruno Fernandes","Man U","Carl Hogg",16.100000000000001]
["D","D",5755,"FWD","Rhian Brewster","Sheff U","Carl Hogg",2]
["D","D",5745,"FWD","Adam Idah","Norwich","John Murphy",0.5]
["D","D",5741,"FWD","Pedro Neto","Wolves","Carl Hogg",0.2]
["D","D",5727,"FWD","Jeremie Bela","Birmingham","Nigel Heyes",1.2]
["D","D",5710,"FWD","Conor Chaplin","Barnsley","Mo Sudell",1.1000000000000001]
["D","D",5706,"FWD","Macauley Bonne","QPR","Chris Griffin",0.5]
["D","D",5701,"FWD","Mason Greenwood","Man U","Mo Sudell",5]
["D","D",5691,"FWD","James Collins","Luton","Nigel Hughes",2.4]
["D","D",5644,"FWD","Ismaila Sarr","Watford","Andy Clucas",0.6]
["D","D",5638,"FWD","Bryan Mbeumo","Brentford","Steve Waterhouse",1.6]
["D","D",5631,"FWD","Arnaut Groeneveld","Bournemouth","Steve Waterhouse",1.6]
["D","D",5609,"FWD","George Puscas","Reading","Chris Griffin",0.5]
["D","C",5601,"FWD","Jamal Lowe","Swansea","Chris Griffin",0.3]
["D","D",5583,"FWD","Josh Koroma","Huddersfield","Howard Bradley",1.7]
["D","D",5571,"FWD","Marcus Forss","Brentford","Nigel Hughes",0.6]
["D","D",5521,"FWD","Tyrese Campbell","Stoke","Nigel Hughes",3.1]
["D","B",5507,"FWD","Chrstian Pulisic","Chelsea","Chris Griffin",5.6]
["D","D",5497,"FWD","Said Benrahma","West Ham","Carl Hogg",0.2]
["D","D",5482,"FWD","Mason Bennett","Millwall","Chris Griffin",5.6]
["D","D",5472,"FWD","Yakou Meite","Reading","Andy Clucas",11.6]
["D","D",5441,"FWD","Josh Windass","Sheff W","Dave Sumner",0.1]
["D","C",5421,"FWD","Raul Jiminez","Wolves","Steve Waterhouse",6.6]
["D","A",5407,"FWD","Teemu Pukki","Norwich","John Murphy",5.7]
["D","A",5349,"FWD","Keifer Moore","Cardiff","John Murphy",1.1000000000000001]
["D","B",5334,"FWD","Oli McBurnie","Sheff U","Steve Waterhouse",0.2]
["D","B",5327,"FWD","Lucas Moura","Spurs","Liam Murphy",5]
["D","A",5309,"FWD","Pierre-Emerick Aubameyang","Arsenal","Carl Hogg",16.100000000000001]
["D","B",5258,"FWD","Eddie Nketiah","Arsenal","Graham Miller",2.6]
["D","A",5222,"FWD","Ollie Watkins","Villa","John Murphy",6.5]
["D","A",5206,"FWD","Dominic Calvert-Lewin","Everton","Nigel Heyes",14.2]
["D","B",5171,"FWD","Famara Diedhiou","Bristol C","John Murphy",0.2]
["D","A",5170,"FWD","Jarrod Bowen","West Ham","Mo Sudell",1.1000000000000001]
["D","A",5168,"FWD","Richarlison","Everton","Graham Miller",10.199999999999999]
["D","A",5164,"FWD","Ivan Toney","Brentford","John Murphy",7.1]
["D","A",5163,"FWD","Diogo Jota","Liverpool","Carl Hogg",3.1]
["D","A",5152,"FWD","Neal Maupay","Brighton","Steve Waterhouse",2.1]
["D","C",5149,"FWD","Dominic Solanke","Bournemouth","Howard Bradley",8.3000000000000007]
["D","A",5139,"FWD","Alexandre Lacazette","Arsenal","Nigel Hughes",4.0999999999999996]
["D","B",5129,"FWD","Tom Barkhuizen","Preston","Mo Sudell",1.1000000000000001]
["D","C",5114,"FWD","Ben Brereton","Blackburn","Chris Griffin",6.1]
["D","D",5057,"FWD","Isaac Success","Watford","Dave Sumner",0.1]
["D","A",5039,"FWD","Jack Grealish","Villa","Steve Waterhouse",1.1000000000000001]
["D","B",5022,"FWD","Adam Armstrong","Blackburn","Nigel Heyes",15.1]
["D","B",4990,"FWD","Che Adams","Southampton","Nigel Hughes",1]
["D","A",4976,"FWD","Tammy Abraham","Chelsea","Nigel Hughes",0.7]
["D","A",4962,"FWD","Gabriel Jesus","Man C","Nigel Heyes",1.1000000000000001]
["D","C",4946,"FWD","Michy Batshuayi","Palace","Dave Sumner",0.1]
["D","A",4917,"FWD","Kenneth Zohore","Millwall","Andy Clucas",0.2]
["D","D",4916,"FWD","Scott Hogan","Birmingham","Howard Bradley",0.2]
["D","A",4901,"FWD","Marcus Rashford","Man U","Mo Sudell",10.1]
["D","D",4851,"FWD","Ademola Lookman","Fulham","Graham Miller",0.3]
["D","A",4801,"FWD","Anthony Martial","Man U","Liam Murphy",12.5]
["D","A",4788,"FWD","Heung-Min Son","Spurs","Liam Murphy",14.5]
["D","B",4781,"FWD","Lucas Joao","Reading","Andy Clucas",6.3]
["D","C",4773,"FWD","Jordan Hugill","Norwich","Andy Clucas",1.2]
["D","D",4744,"FWD","Chuba Akpom","Middlesbro","Andy Clucas",0.7]
["D","A",4695,"FWD","Roberto Firmino","Liverpool","Nigel Hughes",10.1]
["D","B",4686,"FWD","Andre Ayew","Swansea","Nigel Hughes",6]
["D","D",4598,"FWD","Ayoze Perez","Leicester","John Murphy",0.2]
["D","A",4594,"FWD","Riyad Mahrez","Man C","Liam Murphy",5]
["D","B",4592,"FWD","Cauley Woodrow","Barnsley","Nigel Hughes",3.1]
["D","A",4539,"FWD","Sadio Mane","Liverpool","Howard Bradley",14.3]
["D","C",4512,"FWD","Jordon Ibe","Derby","Graham Miller",0.7]
["D","A",4485,"FWD","Callum Wilson","Newcastle","Steve Waterhouse",5.6]
["D","A",4454,"FWD","Britt Assombalonga","Middlesbro","Howard Bradley",0.3]
["D","A",4409,"FWD","Mohamed Salah","Liverpool","Dave Sumner",29.3]
["D","B",4404,"FWD","Nahki Wells","Bristol C","Dave Sumner",4]
["D","A",4403,"FWD","Patrick Bamford","Leeds","Andy Clucas",4.2]
["D","A",4389,"FWD","Raheem Sterling","Man C","Steve Waterhouse",11.2]
["D","A",4382,"FWD","Sergio Aguero","Man C","Dave Sumner",2]
["D","A",4338,"FWD","Kevin De Bruyne","Man C","Mo Sudell",3]
["D","A",4308,"FWD","Jamie Vardy","Leicester","Nigel Heyes",14.2]
["D","A",4284,"FWD","Stephen Fletcher","Stoke","Chris Griffin",2.5]
["D","C",4282,"FWD","Fraizer Campbell","Huddersfield","Chris Griffin",2.8]
["D","A",4281,"FWD","Lewis Grabban","Forest","Nigel Hughes",6.1]
["D","A",4231,"FWD","Willian","Arsenal","Liam Murphy",0.2]
["D","B",4191,"FWD","Martyn Waghorn","Derby","Howard Bradley",0.3]
["D","D",4147,"FWD","Nick Powell","Stoke","Andy Clucas",4.3]
["D","A",4146,"FWD","Danny Ings","Southampton","Carl Hogg",1]
["D","A",4135,"FWD","Troy Deeney","Watford","Graham Miller",4.5999999999999996]
["D","A",4133,"FWD","Lucas Jutkiewitcz","Birmingham","Nigel Hughes",0.5]
["D","A",4128,"FWD","Chris Wood","Burnley","Nigel Heyes",0.2]
["D","B",4126,"FWD","Danny Welbeck","Watford","Graham Miller",0.3]
["D","D",4112,"FWD","Chris Martin","Bristol C","Nigel Hughes",0.3]
["D","D",4099,"FWD","Theo Walcott","Southampton","Graham Miller",0.7]
["D","A",4044,"FWD","Gareth Bale","Spurs","Andy Clucas",3.3]
["D","D",4024,"FWD","Scott Sinclair","Preston","Howard Bradley",1.3]
["D","B",3882,"FWD","Wilfrid Zaha","Palace","Liam Murphy",2.5]
["D","A",3773,"FWD","Harry Kane","Spurs","Chris Griffin",22]
["D","B",3634,"FWD","Joshua King","Bournemouth","Andy Clucas",2.4]
["D","A",3496,"FWD","Michail Antonio","West Ham","Liam Murphy",2.5]

{"sheet":"SquadPosition","index":8,"n_rows":20,"n_cols":17,"rows_kept":20,"cut":false,"hidden":false,"merged":[]}
[]
[]
["Count of Player","Pos",null,null,null,null,null,null,null,null,null,null,{"$f":"IF(B4=\"GK\",\"OK\",\"BAD\")","v":"OK"},{"$f":"IF(C4=\"DEF\",\"OK\",\"BAD\")","v":"BAD"},"OK","OK"]
["Owner","GK","MID","FWD","Grand Total",null,null,null,null,null,null,"Owner","GK","DEF","MID","FWD","TOT"]
["Andy Clucas",2,4,10,16,null,null,null,null,null,null,{"$f":"A5","v":"Andy Clucas"},{"$f":"$B5","v":2},{"$f":"$E5","v":16},{"$f":"$C5","v":4},{"$f":"$D5","v":10},{"$f":"$E5","v":16}]
["Carl Hogg",2,3,7,12,null,null,null,null,null,null,{"$f":"A6","v":"Carl Hogg"},{"$f":"$B6","v":2},{"$f":"$E6","v":12},{"$f":"$C6","v":3},{"$f":"$D6","v":7},{"$f":"$E6","v":12}]
["Chris Griffin",2,null,9,11,null,null,null,null,null,null,"Chris Griffin",2,11,0,9,11]
["Dave Sumner",2,5,7,14,null,null,null,null,null,null,"Dave Sumner",2,14,5,7,14]
["Graham Miller",2,5,7,14,null,null,null,null,null,null,"Graham Miller",2,14,5,7,14]
["Howard Bradley",2,4,7,13,null,null,null,null,null,null,"Howard Bradley",2,13,4,7,13]
["John Murphy",2,5,8,15,null,null,null,null,null,null,"John Murphy",2,15,5,8,15]
["Liam Murphy",2,2,7,11,null,null,null,null,null,null,"Liam Murphy",2,11,2,7,11]
["Mo Sudell",2,5,6,13,null,null,null,null,null,null,"Mo Sudell",2,13,5,6,13]
["Nigel Heyes",2,3,6,11,null,null,null,null,null,null,"Nigel Heyes",2,11,3,6,11]
["Nigel Hughes",2,1,12,15,null,null,null,null,null,null,"Nigel Hughes",2,15,1,12,15]
["Paul Fairhurst",2,4,7,13,null,null,null,null,null,null,"Paul Fairhurst",2,13,4,7,13]
["Steve Waterhouse",2,3,9,14,null,null,null,null,null,null,"Steve Waterhouse",2,14,3,9,14]
["Grand Total",26,44,102,172,null,null,null,null,null,null,"Grand Total",26,172,44,102,172]
[null,null,null,null,null,null,null,null,null,null,null,0,0,0,0,0,0]
[null,null,null,null,null,null,null,null,null,null,null,0,0,0,0,0,0]