{"text_format":"1","workbook":"xlsx","n_sheets":22,"sheets":["Home","Players","Fixture","Table","Weekly","Cup","Predictions","Diary","Match","Picks","Results","3of3","TopPicks","Images","PizzaRace","CupDraw","Prizelist","Prizes","Odds","Perms","FAQ","Sample"],"not_rendered":{"charts":0,"images":7,"macros":1,"external_links":0,"defined_names":44,"comments":3,"pivot_tables":3},"unopened":[],"bounds":{"document_bytes":16777216,"sheet_cells":100000,"rows_first":2000,"rows_last":500,"rows_between":2000,"halvings":0,"cell_chars":16384,"cell_head_chars":4096},"cells_cut":0,"cells_raw":0,"read":"whole","date_system":"1900"}

{"sheet":"Home","index":0,"n_rows":8,"n_cols":5,"rows_kept":8,"cut":false,"hidden":false,"merged":[]}
[null,"Click the top left cell in any tab to return Home"]
[null,"Weekly Reports","Useful Info","Admin (Weekly)","Admin (Other)"]
[null,"League Table","Pics for Publication","Add Matches","Calculations"]
[null,"Weekly Results","Prizes - Summary","Add Predictions","Entrants"]
[null,"Cup Draw","Prizes - Divisional Splits","Add Predictions (double-week)","Last Season Places"]
[null,"Season Diary","FAQ","1-2-3 Pivot","Brought Forward"]
[null,"Current Week Fixtures","Sample Bets","Top Picks","End of Season Finance"]
[null,"Current Week Predictions",null,"Cup Draw Raw","Mini Leagues "]

{"sheet":"Players","index":1,"n_rows":65,"n_cols":9,"rows_kept":65,"cut":false,"hidden":false,"merged":[]}
["Prev/Final\nPos","Prev/Final\nDiv","Players","Resigned?","Next\nDiv","Closing \nBalance"]
[1,"A","Kevin Carter","N","A",null,null,"Row Labels","Count of Players"]
[2,"A","Mark Saunders","N","A",null,null,"A",16]
[3,"A","Alick Rocca","N","A",null,null,"B",16]
[4,"A","Alfie Davies","N","A",null,null,"C",16]
[5,"A","Steve Carter","N","A",null,null,"D",14]
[6,"A","Mo Sudell","N","A",null,null,"E",2]
[7,"A","Stephen Troop","N","A",null,null,"(blank)"]
[8,"A","Paul Fiddler","N","A",null,null,"Grand Total",64]
[9,"A","Stephen Barr","N","A"]
[10,"A","Lennie Bow","N","A"]
[1,"B","Mike Penk","N","A"]
[2,"B","Alan Rogers","N","A"]
[3,"B","Oscar Jackson","N","A"]
[4,"B","Gerard Ventom","N","A"]
[5,"B","Rob England","N","A"]
[6,"B","Chris Luck","N","A"]
[11,"A","Steve Baxter","N","B"]
[12,"A","Andy White","N","B"]
[13,"A","Tom Robinson","N","B"]
[15,"A","Phil Miller","N","B"]
[16,"A","Gareth Powell","N","B"]
[7,"B","Barry Birchall","N","B"]
[8,"B","Nigel Heyes","N","B"]
[9,"B","Pete Baron","N","B"]
[1,"C","Dave Bell","N","B"]
[2,"C","John Evans","N","B"]
[3,"C","Paul Allen","N","B"]
[4,"C","Kei Lok Ma","N","B"]
[5,"C","Vinny Topping","N","B"]
[6,"C","Mark Bunn","N","B"]
[7,"C","James Bell","N","B"]
[8,"C","Martin Molyneux","N","B"]
[10,"B","Andy Charleston","N","C"]
[11,"B","Gareth Fallows","N","C"]
[12,"B","Chris Townsend","N","C"]
[13,"B","Paul Fairhurst","N","C"]
[14,"B","Paul Ridgeway","N","C"]
[15,"B","David Dunn","N","C"]
[16,"B","Mal Stott","N","C"]
[9,"C","Chris Griffin","N","C"]
[10,"C","Ian Davies","N","C"]
[1,"D","Sally Williams","N","C"]
[2,"D","Gareth McGuire","N","C"]
[3,"D","Charlie Griffiths","N","C"]
[5,"D","Alan White","N","C"]
[6,"D","Liam Wah","N","C"]
[7,"D","Chris Bow","N","C"]
[8,"D","Jack Walsh","N","C"]
[11,"C","Joel Bent","N","D"]
[12,"C","Ashley Houghton","N","D"]
[13,"C","Dave Orrell","N","D"]
[14,"C","Graham Miller","N","D"]
[15,"C","Nick Blocksidge","N","D"]
[16,"C","Howard Bradley","N","D"]
[9,"D","Simon Greenhalgh","N","D"]
[10,"D","John Ronan","N","D"]
[11,"D","Ben Rosser","N","D"]
[12,"D","Martin Tarbuck","N","D"]
[13,"D","Paul Adderley","N","D"]
[14,"D","Dan Baxter","N","D"]
[15,"D","Lewis Buckley","N","D"]
[16,"D","Paul Barnes","N","D"]
[14,"A","Ste Bentley","Y","E"]
[4,"D","Sophie Bentley","Y","E"]

{"sheet":"Fixture","index":2,"n_rows":47,"n_cols":4,"rows_kept":47,"cut":false,"hidden":false,"merged":[]}
["Date","Competition","Odds","Result"]
[{"$f":"IF(Match!A2=\"\",\"\",Match!A2)","v":"2020-12-11"},{"$f":"IF(Match!C2=\"\",\"\",Match!C2)","v":"Premier"},{"$f":"IF(Match!S2=\"\",\"\",Match!S2)","v":"Leeds  v  West Ham   23/20  27/10  11/5"},{"$f":"IF(Match!T2=\"\",\"\",Match!T2)","v":"Leeds 1-2 West Ham "}]
[{"$f":"IF(Match!A3=\"\",\"\",Match!A3)","v":"2020-12-12"},{"$f":"IF(Match!C3=\"\",\"\",Match!C3)","v":"Premier"},{"$f":"IF(Match!S3=\"\",\"\",Match!S3)","v":"Everton  v  Chelsea   10/3  3/1  3/4"},{"$f":"IF(Match!T3=\"\",\"\",Match!T3)","v":"Everton 1-0 Chelsea "}]
[{"$f":"IF(Match!A4=\"\",\"\",Match!A4)","v":"2020-12-12"},{"$f":"IF(Match!C4=\"\",\"\",Match!C4)","v":"Premier"},{"$f":"IF(Match!S4=\"\",\"\",Match!S4)","v":"Man U  v  Man C   10/3  3/1  3/4"},{"$f":"IF(Match!T4=\"\",\"\",Match!T4)","v":"Man U 0-0 Man C "}]
[{"$f":"IF(Match!A5=\"\",\"\",Match!A5)","v":"2020-12-12"},{"$f":"IF(Match!C5=\"\",\"\",Match!C5)","v":"Premier"},{"$f":"IF(Match!S5=\"\",\"\",Match!S5)","v":"Newcastle  v  West Brom   5/4  11/5  12/5"},{"$f":"IF(Match!T5=\"\",\"\",Match!T5)","v":"Newcastle 2-1 West Brom "}]
[{"$f":"IF(Match!A6=\"\",\"\",Match!A6)","v":"2020-12-12"},{"$f":"IF(Match!C6=\"\",\"\",Match!C6)","v":"Premier"},{"$f":"IF(Match!S6=\"\",\"\",Match!S6)","v":"Wolves  v  Villa   13/10  23/10  11/5"},{"$f":"IF(Match!T6=\"\",\"\",Match!T6)","v":"Wolves 0-1 Villa "}]
[{"$f":"IF(Match!A7=\"\",\"\",Match!A7)","v":"2020-12-12"},{"$f":"IF(Match!C7=\"\",\"\",Match!C7)","v":"Champ"},{"$f":"IF(Match!S7=\"\",\"\",Match!S7)","v":"Birmingham  v  Watford   3/1  11/5  21/20"},{"$f":"IF(Match!T7=\"\",\"\",Match!T7)","v":"Birmingham 0-1 Watford "}]
[{"$f":"IF(Match!A8=\"\",\"\",Match!A8)","v":"2020-12-12"},{"$f":"IF(Match!C8=\"\",\"\",Match!C8)","v":"Champ"},{"$f":"IF(Match!S8=\"\",\"\",Match!S8)","v":"Blackburn  v  Norwich   6/4  5/2  7/4"},{"$f":"IF(Match!T8=\"\",\"\",Match!T8)","v":"Blackburn 1-2 Norwich "}]
[{"$f":"IF(Match!A9=\"\",\"\",Match!A9)","v":"2020-12-12"},{"$f":"IF(Match!C9=\"\",\"\",Match!C9)","v":"Champ"},{"$f":"IF(Match!S9=\"\",\"\",Match!S9)","v":"Bournemouth  v  Huddersfield   13/20  29/10  9/2"},{"$f":"IF(Match!T9=\"\",\"\",Match!T9)","v":"Bournemouth 5-0 Huddersfield "}]
[{"$f":"IF(Match!A10=\"\",\"\",Match!A10)","v":"2020-12-12"},{"$f":"IF(Match!C10=\"\",\"\",Match!C10)","v":"Champ"},{"$f":"IF(Match!S10=\"\",\"\",Match!S10)","v":"Cardiff  v  Swansea   29/20  11/5  2/1"},{"$f":"IF(Match!T10=\"\",\"\",Match!T10)","v":"Cardiff 0-2 Swansea "}]
[{"$f":"IF(Match!A11=\"\",\"\",Match!A11)","v":"2020-12-12"},{"$f":"IF(Match!C11=\"\",\"\",Match!C11)","v":"Champ"},{"$f":"IF(Match!S11=\"\",\"\",Match!S11)","v":"Derby  v  Stoke   15/8  11/5  8/5"},{"$f":"IF(Match!T11=\"\",\"\",Match!T11)","v":"Derby 0-0 Stoke "}]
[{"$f":"IF(Match!A12=\"\",\"\",Match!A12)","v":"2020-12-12"},{"$f":"IF(Match!C12=\"\",\"\",Match!C12)","v":"Champ"},{"$f":"IF(Match!S12=\"\",\"\",Match!S12)","v":"Forest  v  Brentford   14/5  11/5  11/10"},{"$f":"IF(Match!T12=\"\",\"\",Match!T12)","v":"Forest 1-3 Brentford "}]
[{"$f":"IF(Match!A13=\"\",\"\",Match!A13)","v":"2020-12-12"},{"$f":"IF(Match!C13=\"\",\"\",Match!C13)","v":"Champ"},{"$f":"IF(Match!S13=\"\",\"\",Match!S13)","v":"Luton  v  Preston   2/1  11/5  6/4"},{"$f":"IF(Match!T13=\"\",\"\",Match!T13)","v":"Luton 3-0 Preston "}]
[{"$f":"IF(Match!A14=\"\",\"\",Match!A14)","v":"2020-12-12"},{"$f":"IF(Match!C14=\"\",\"\",Match!C14)","v":"Champ"},{"$f":"IF(Match!S14=\"\",\"\",Match!S14)","v":"Middlesbro  v  Millwall   23/20  11/5  27/10"},{"$f":"IF(Match!T14=\"\",\"\",Match!T14)","v":"Middlesbro 3-0 Millwall "}]
[{"$f":"IF(Match!A15=\"\",\"\",Match!A15)","v":"2020-12-12"},{"$f":"IF(Match!C15=\"\",\"\",Match!C15)","v":"Champ"},{"$f":"IF(Match!S15=\"\",\"\",Match!S15)","v":"QPR  v  Reading   13/8  23/10  17/10"},{"$f":"IF(Match!T15=\"\",\"\",Match!T15)","v":"QPR 0-1 Reading "}]
[{"$f":"IF(Match!A16=\"\",\"\",Match!A16)","v":"2020-12-12"},{"$f":"IF(Match!C16=\"\",\"\",Match!C16)","v":"Champ"},{"$f":"IF(Match!S16=\"\",\"\",Match!S16)","v":"Rotherham  v  Bristol C   19/10  9/4  6/4"},{"$f":"IF(Match!T16=\"\",\"\",Match!T16)","v":"Rotherham 2-0 Bristol C "}]
[{"$f":"IF(Match!A17=\"\",\"\",Match!A17)","v":"2020-12-12"},{"$f":"IF(Match!C17=\"\",\"\",Match!C17)","v":"Champ"},{"$f":"IF(Match!S17=\"\",\"\",Match!S17)","v":"Sheff W  v  Barnsley   6/4  21/10  21/10"},{"$f":"IF(Match!T17=\"\",\"\",Match!T17)","v":"Sheff W 1-2 Barnsley "}]
[{"$f":"IF(Match!A18=\"\",\"\",Match!A18)","v":"2020-12-12"},{"$f":"IF(Match!C18=\"\",\"\",Match!C18)","v":"Champ"},{"$f":"IF(Match!S18=\"\",\"\",Match!S18)","v":"Wycombe  v  Coventry   21/10  9/4  11/8"},{"$f":"IF(Match!T18=\"\",\"\",Match!T18)","v":"Wycombe 1-2 Coventry "}]
[{"$f":"IF(Match!A19=\"\",\"\",Match!A19)","v":"2020-12-12"},{"$f":"IF(Match!C19=\"\",\"\",Match!C19)","v":"League 1"},{"$f":"IF(Match!S19=\"\",\"\",Match!S19)","v":"Blackpool  v  Oxford   6/5  9/4  12/5"},{"$f":"IF(Match!T19=\"\",\"\",Match!T19)","v":"Blackpool 0-0 Oxford "}]
[{"$f":"IF(Match!A20=\"\",\"\",Match!A20)","v":"2020-12-12"},{"$f":"IF(Match!C20=\"\",\"\",Match!C20)","v":"League 1"},{"$f":"IF(Match!S20=\"\",\"\",Match!S20)","v":"Bristol R  v  Plymouth   29/20  5/2  17/10"},{"$f":"IF(Match!T20=\"\",\"\",Match!T20)","v":"Bristol R 3-0 Plymouth "}]
[{"$f":"IF(Match!A21=\"\",\"\",Match!A21)","v":"2020-12-12"},{"$f":"IF(Match!C21=\"\",\"\",Match!C21)","v":"League 1"},{"$f":"IF(Match!S21=\"\",\"\",Match!S21)","v":"Charlton  v  Wimbledon   19/20  5/2  17/10"},{"$f":"IF(Match!T21=\"\",\"\",Match!T21)","v":"Charlton 5-2 Wimbledon "}]
[{"$f":"IF(Match!A22=\"\",\"\",Match!A22)","v":"2020-12-12"},{"$f":"IF(Match!C22=\"\",\"\",Match!C22)","v":"League 1"},{"$f":"IF(Match!S22=\"\",\"\",Match!S22)","v":"Crewe  v  Northampton   3/4  13/5  15/4"},{"$f":"IF(Match!T22=\"\",\"\",Match!T22)","v":"Crewe 2-1 Northampton "}]
[{"$f":"IF(Match!A23=\"\",\"\",Match!A23)","v":"2020-12-12"},{"$f":"IF(Match!C23=\"\",\"\",Match!C23)","v":"League 1"},{"$f":"IF(Match!S23=\"\",\"\",Match!S23)","v":"Doncaster  v  Gillingham   10/11  13/5  29/10"},{"$f":"IF(Match!T23=\"\",\"\",Match!T23)","v":"Doncaster 2-1 Gillingham "}]
[{"$f":"IF(Match!A24=\"\",\"\",Match!A24)","v":"2020-12-12"},{"$f":"IF(Match!C24=\"\",\"\",Match!C24)","v":"League 1"},{"$f":"IF(Match!S24=\"\",\"\",Match!S24)","v":"Hull  v  Shrewsbury   6/10  14/5  24/5"},{"$f":"IF(Match!T24=\"\",\"\",Match!T24)","v":"Hull 0-1 Shrewsbury "}]
[{"$f":"IF(Match!A25=\"\",\"\",Match!A25)","v":"2020-12-12"},{"$f":"IF(Match!C25=\"\",\"\",Match!C25)","v":"League 1"},{"$f":"IF(Match!S25=\"\",\"\",Match!S25)","v":"Ipswich  v  Portsmouth   21/10  9/4  6/5"},{"$f":"IF(Match!T25=\"\",\"\",Match!T25)","v":"Ipswich 0-2 Portsmouth "}]
[{"$f":"IF(Match!A26=\"\",\"\",Match!A26)","v":"2020-12-12"},{"$f":"IF(Match!C26=\"\",\"\",Match!C26)","v":"League 1"},{"$f":"IF(Match!S26=\"\",\"\",Match!S26)","v":"Lincoln  v  Sunderland   9/5  21/10  8/5"},{"$f":"IF(Match!T26=\"\",\"\",Match!T26)","v":"Lincoln 0-4 Sunderland "}]
[{"$f":"IF(Match!A27=\"\",\"\",Match!A27)","v":"2020-12-12"},{"$f":"IF(Match!C27=\"\",\"\",Match!C27)","v":"League 1"},{"$f":"IF(Match!S27=\"\",\"\",Match!S27)","v":"MK Dons  v  Burton   4/5  27/10  16/5"},{"$f":"IF(Match!T27=\"\",\"\",Match!T27)","v":"MK Dons 1-1 Burton "}]
[{"$f":"IF(Match!A28=\"\",\"\",Match!A28)","v":"2020-12-12"},{"$f":"IF(Match!C28=\"\",\"\",Match!C28)","v":"League 1"},{"$f":"IF(Match!S28=\"\",\"\",Match!S28)","v":"Peterborough  v  Rochdale   8/15  16/5  5/1"},{"$f":"IF(Match!T28=\"\",\"\",Match!T28)","v":"Peterborough 4-1 Rochdale "}]
[{"$f":"IF(Match!A29=\"\",\"\",Match!A29)","v":"2020-12-12"},{"$f":"IF(Match!C29=\"\",\"\",Match!C29)","v":"League 1"},{"$f":"IF(Match!S29=\"\",\"\",Match!S29)","v":"Swindon  v  Fleetwood   23/10  12/5  23/20"},{"$f":"IF(Match!T29=\"\",\"\",Match!T29)","v":"Swindon 0-1 Fleetwood "}]
[{"$f":"IF(Match!A30=\"\",\"\",Match!A30)","v":"2020-12-12"},{"$f":"IF(Match!C30=\"\",\"\",Match!C30)","v":"League 1"},{"$f":"IF(Match!S30=\"\",\"\",Match!S30)","v":"Wigan  v  Accrington   11/5  9/4  5/4"},{"$f":"IF(Match!T30=\"\",\"\",Match!T30)","v":"Wigan 4-3 Accrington "}]
[{"$f":"IF(Match!A31=\"\",\"\",Match!A31)","v":"2020-12-12"},{"$f":"IF(Match!C31=\"\",\"\",Match!C31)","v":"League 2"},{"$f":"IF(Match!S31=\"\",\"\",Match!S31)","v":"Carlisle  v  Stevenage   8/13  14/5  9/2"},{"$f":"IF(Match!T31=\"\",\"\",Match!T31)","v":"Carlisle 4-0 Stevenage "}]
[{"$f":"IF(Match!A32=\"\",\"\",Match!A32)","v":"2020-12-12"},{"$f":"IF(Match!C32=\"\",\"\",Match!C32)","v":"League 2"},{"$f":"IF(Match!S32=\"\",\"\",Match!S32)","v":"Crawley  v  Barrow   29/20  23/10  15/8"},{"$f":"IF(Match!T32=\"\",\"\",Match!T32)","v":"Crawley 4-2 Barrow "}]
[{"$f":"IF(Match!A33=\"\",\"\",Match!A33)","v":"2020-12-12"},{"$f":"IF(Match!C33=\"\",\"\",Match!C33)","v":"League 2"},{"$f":"IF(Match!S33=\"\",\"\",Match!S33)","v":"Exeter  v  Tranmere   10/11  13/5  14/5"},{"$f":"IF(Match!T33=\"\",\"\",Match!T33)","v":"Exeter 5-0 Tranmere "}]
[{"$f":"IF(Match!A34=\"\",\"\",Match!A34)","v":"2020-12-12"},{"$f":"IF(Match!C34=\"\",\"\",Match!C34)","v":"League 2"},{"$f":"IF(Match!S34=\"\",\"\",Match!S34)","v":"Forest Green  v  Cambridge   21/20  23/10  27/10"},{"$f":"IF(Match!T34=\"\",\"\",Match!T34)","v":"Forest Green 2-0 Cambridge "}]
[{"$f":"IF(Match!A35=\"\",\"\",Match!A35)","v":"2020-12-12"},{"$f":"IF(Match!C35=\"\",\"\",Match!C35)","v":"League 2"},{"$f":"IF(Match!S35=\"\",\"\",Match!S35)","v":"Grimsby  v  Mansfield   21/10  9/4  13/10"},{"$f":"IF(Match!T35=\"\",\"\",Match!T35)","v":"Grimsby 1-1 Mansfield "}]
[{"$f":"IF(Match!A36=\"\",\"\",Match!A36)","v":"2020-12-12"},{"$f":"IF(Match!C36=\"\",\"\",Match!C36)","v":"League 2"},{"$f":"IF(Match!S36=\"\",\"\",Match!S36)","v":"Morecambe  v  Harrogate   8/5  23/10  17/10"},{"$f":"IF(Match!T36=\"\",\"\",Match!T36)","v":"Morecambe 1-0 Harrogate "}]
[{"$f":"IF(Match!A37=\"\",\"\",Match!A37)","v":"2020-12-12"},{"$f":"IF(Match!C37=\"\",\"\",Match!C37)","v":"League 2"},{"$f":"IF(Match!S37=\"\",\"\",Match!S37)","v":"Oldham  v  Bradford   7/5  23/10  19/10"},{"$f":"IF(Match!T37=\"\",\"\",Match!T37)","v":"Oldham 3-1 Bradford "}]
[{"$f":"IF(Match!A38=\"\",\"\",Match!A38)","v":"2020-12-12"},{"$f":"IF(Match!C38=\"\",\"\",Match!C38)","v":"League 2"},{"$f":"IF(Match!S38=\"\",\"\",Match!S38)","v":"Orient  v  Newport   2/1  9/4  11/8"},{"$f":"IF(Match!T38=\"\",\"\",Match!T38)","v":"Orient 2-1 Newport "}]
[{"$f":"IF(Match!A39=\"\",\"\",Match!A39)","v":"2020-12-12"},{"$f":"IF(Match!C39=\"\",\"\",Match!C39)","v":"League 2"},{"$f":"IF(Match!S39=\"\",\"\",Match!S39)","v":"Port Vale  v  Colchester   23/20  5/2  23/10"},{"$f":"IF(Match!T39=\"\",\"\",Match!T39)","v":"Port Vale 1-1 Colchester "}]
[{"$f":"IF(Match!A40=\"\",\"\",Match!A40)","v":"2020-12-12"},{"$f":"IF(Match!C40=\"\",\"\",Match!C40)","v":"League 2"},{"$f":"IF(Match!S40=\"\",\"\",Match!S40)","v":"Salford  v  Cheltenham   13/8  9/4  17/10"},{"$f":"IF(Match!T40=\"\",\"\",Match!T40)","v":"Salford 0-0 Cheltenham "}]
[{"$f":"IF(Match!A41=\"\",\"\",Match!A41)","v":"2020-12-12"},{"$f":"IF(Match!C41=\"\",\"\",Match!C41)","v":"League 2"},{"$f":"IF(Match!S41=\"\",\"\",Match!S41)","v":"Southend  v  Scunthorpe   9/4  11/5  13/10"},{"$f":"IF(Match!T41=\"\",\"\",Match!T41)","v":"Southend 1-0 Scunthorpe "}]
[{"$f":"IF(Match!A42=\"\",\"\",Match!A42)","v":"2020-12-12"},{"$f":"IF(Match!C42=\"\",\"\",Match!C42)","v":"League 2"},{"$f":"IF(Match!S42=\"\",\"\",Match!S42)","v":"Walsall  v  Bolton   5/4  9/4  11/5"},{"$f":"IF(Match!T42=\"\",\"\",Match!T42)","v":"Walsall 2-1 Bolton "}]
[{"$f":"IF(Match!A43=\"\",\"\",Match!A43)","v":"2020-12-13"},{"$f":"IF(Match!C43=\"\",\"\",Match!C43)","v":"Premier"},{"$f":"IF(Match!S43=\"\",\"\",Match!S43)","v":"Arsenal  v  Burnley   11/20  3/1  11/2"},{"$f":"IF(Match!T43=\"\",\"\",Match!T43)","v":"Arsenal 0-1 Burnley "}]
[{"$f":"IF(Match!A44=\"\",\"\",Match!A44)","v":"2020-12-13"},{"$f":"IF(Match!C44=\"\",\"\",Match!C44)","v":"Premier"},{"$f":"IF(Match!S44=\"\",\"\",Match!S44)","v":"Fulham  v  Liverpool   8/1  9/2  1/3"},{"$f":"IF(Match!T44=\"\",\"\",Match!T44)","v":"Fulham 1-1 Liverpool "}]
[{"$f":"IF(Match!A45=\"\",\"\",Match!A45)","v":"2020-12-13"},{"$f":"IF(Match!C45=\"\",\"\",Match!C45)","v":"Premier"},{"$f":"IF(Match!S45=\"\",\"\",Match!S45)","v":"Leicester  v  Brighton   1/1  5/2  11/4"},{"$f":"IF(Match!T45=\"\",\"\",Match!T45)","v":"Leicester 3-0 Brighton "}]
[{"$f":"IF(Match!A46=\"\",\"\",Match!A46)","v":"2020-12-13"},{"$f":"IF(Match!C46=\"\",\"\",Match!C46)","v":"Premier"},{"$f":"IF(Match!S46=\"\",\"\",Match!S46)","v":"Palace  v  Spurs   19/5  11/4  8/11"},{"$f":"IF(Match!T46=\"\",\"\",Match!T46)","v":"Palace 1-1 Spurs "}]
[{"$f":"IF(Match!A47=\"\",\"\",Match!A47)","v":"2020-12-13"},{"$f":"IF(Match!C47=\"\",\"\",Match!C47)","v":"Premier"},{"$f":"IF(Match!S47=\"\",\"\",Match!S47)","v":"Southampton  v  Sheff U   8/11  27/10  4/1"},{"$f":"IF(Match!T47=\"\",\"\",Match!T47)","v":"Southampton 3-0 Sheff U"}]

{"sheet":"Table","index":3,"n_rows":72,"n_cols":19,"rows_kept":72,"cut":false,"hidden":false,"merged":[[1,0,16,0],[17,0,32,0],[33,0,48,0],[49,0,69,0]]}
[{"$f":"CONCATENATE(CurrentSeason,\"/Week \",CurrentWeek)","v":"PL36/Week 17"},"Place Prize","Promotion/\nRelegation","Pos","Div","Player","Total\nScore","Total\ncorrect","Week\nScore","Week\nCorrect","Brought\nForward","League\nPlace\nPrize","Weekly\nPrizes","Cup\nPrize","Total\nPrize","Season\nBalance"]
["Division A",{"$f":"CONCATENATE(E2,D2)","v":"A1"},null,1,"A","Gerard Ventom",{"$f":"INDEX(Weekly!F:F,MATCH($F2,Weekly!$E:$E,0))","v":162.68749999999997},{"$f":"INDEX(Weekly!G:G,MATCH($F2,Weekly!$E:$E,0))","v":18},{"$f":"INDEX(Weekly!H:H,MATCH($F2,Weekly!$E:$E,0))","v":46.6},{"$f":"INDEX(Weekly!I:I,MATCH($F2,Weekly!$E:$E,0))","v":3},{"$f":"INDEX(Players!F:F,MATCH($F2,Players!#REF!,0))","v":{"$error":"#REF!"}},{"$f":"INDEX(Prizes!F:F,MATCH($B2,Prizes!A:A,0))","v":108.675},{"$f":"INDEX(Weekly!J:J,MATCH($F2,Weekly!$E:$E,0))","v":10},{"$f":"INDEX(Weekly!K:K,MATCH($F2,Weekly!$E:$E,0))","v":0},{"$f":"INDEX(Weekly!M:M,MATCH($F2,Weekly!$E:$E,0))","v":118.675},{"$f":"O2+K2","v":{"$error":"#REF!"}}]
[null,{"$f":"CONCATENATE(E3,D3)","v":"A2"},null,2,"A","Mike Penk",{"$f":"INDEX(Weekly!F:F,MATCH($F3,Weekly!$E:$E,0))","v":56.675035919540228},{"$f":"INDEX(Weekly!G:G,MATCH($F3,Weekly!$E:$E,0))","v":24},{"$f":"INDEX(Weekly!H:H,MATCH($F3,Weekly!$E:$E,0))","v":-4.8499999999999996},{"$f":"INDEX(Weekly!I:I,MATCH($F3,Weekly!$E:$E,0))","v":1},{"$f":"INDEX(Players!F:F,MATCH($F3,Players!#REF!,0))","v":{"$error":"#REF!"}},{"$f":"INDEX(Prizes!F:F,MATCH($B3,Prizes!A:A,0))","v":77.625},{"$f":"INDEX(Weekly!J:J,MATCH($F3,Weekly!$E:$E,0))","v":15},{"$f":"INDEX(Weekly!K:K,MATCH($F3,Weekly!$E:$E,0))","v":0},{"$f":"INDEX(Weekly!M:M,MATCH($F3,Weekly!$E:$E,0))","v":92.625},{"$f":"O3+K3","v":{"$error":"#REF!"}}]
[null,"A3",null,3,"A","Alan Rogers",{"$f":"INDEX(Weekly!F:F,MATCH($F4,Weekly!$E:$E,0))","v":36.04000000000002},{"$f":"INDEX(Weekly!G:G,MATCH($F4,Weekly!$E:$E,0))","v":18},{"$f":"INDEX(Weekly!H:H,MATCH($F4,Weekly!$E:$E,0))","v":47.080000000000005},{"$f":"INDEX(Weekly!I:I,MATCH($F4,Weekly!$E:$E,0))","v":3},{"$f":"INDEX(Players!F:F,MATCH($F4,Players!#REF!,0))","v":{"$error":"#REF!"}},{"$f":"INDEX(Prizes!F:F,MATCH($B4,Prizes!A:A,0))","v":55.89},{"$f":"INDEX(Weekly!J:J,MATCH($F4,Weekly!$E:$E,0))","v":20},{"$f":"INDEX(Weekly!K:K,MATCH($F4,Weekly!$E:$E,0))","v":0},{"$f":"INDEX(Weekly!M:M,MATCH($F4,Weekly!$E:$E,0))","v":75.89},{"$f":"O4+K4","v":{"$error":"#REF!"}},null,null,"Promotion and Relegation Key"]
[null,"A4",null,4,"A","Alfie Davies",{"$f":"INDEX(Weekly!F:F,MATCH($F5,Weekly!$E:$E,0))","v":22.661250000000003},{"$f":"INDEX(Weekly!G:G,MATCH($F5,Weekly!$E:$E,0))","v":21},{"$f":"INDEX(Weekly!H:H,MATCH($F5,Weekly!$E:$E,0))","v":50.275000000000006},{"$f":"INDEX(Weekly!I:I,MATCH($F5,Weekly!$E:$E,0))","v":3},{"$f":"INDEX(Players!F:F,MATCH($F5,Players!#REF!,0))","v":{"$error":"#REF!"}},{"$f":"INDEX(Prizes!F:F,MATCH($B5,Prizes!A:A,0))","v":37.26},{"$f":"INDEX(Weekly!J:J,MATCH($F5,Weekly!$E:$E,0))","v":15},{"$f":"INDEX(Weekly!K:K,MATCH($F5,Weekly!$E:$E,0))","v":0},{"$f":"INDEX(Weekly!M:M,MATCH($F5,Weekly!$E:$E,0))","v":52.26},{"$f":"O5+K5","v":{"$error":"#REF!"}},null,null,"No change"]
[null,"A5",null,5,"A","Mark Saunders",{"$f":"INDEX(Weekly!F:F,MATCH($F6,Weekly!$E:$E,0))","v":13.422500000000008},{"$f":"INDEX(Weekly!G:G,MATCH($F6,Weekly!$E:$E,0))","v":28},{"$f":"INDEX(Weekly!H:H,MATCH($F6,Weekly!$E:$E,0))","v":4.6666666666666661},{"$f":"INDEX(Weekly!I:I,MATCH($F6,Weekly!$E:$E,0))","v":2},{"$f":"INDEX(Players!F:F,MATCH($F6,Players!#REF!,0))","v":{"$error":"#REF!"}},{"$f":"INDEX(Prizes!F:F,MATCH($B6,Prizes!A:A,0))","v":21.734999999999999},{"$f":"INDEX(Weekly!J:J,MATCH($F6,Weekly!$E:$E,0))","v":10},{"$f":"INDEX(Weekly!K:K,MATCH($F6,Weekly!$E:$E,0))","v":0},{"$f":"INDEX(Weekly!M:M,MATCH($F6,Weekly!$E:$E,0))","v":31.734999999999999},{"$f":"O6+K6","v":{"$error":"#REF!"}},null,null,"Promoted to Division above"]
[null,"A6",null,6,"A","Alick Rocca",{"$f":"INDEX(Weekly!F:F,MATCH($F7,Weekly!$E:$E,0))","v":8.9732954545454593},{"$f":"INDEX(Weekly!G:G,MATCH($F7,Weekly!$E:$E,0))","v":20},{"$f":"INDEX(Weekly!H:H,MATCH($F7,Weekly!$E:$E,0))","v":-7},{"$f":"INDEX(Weekly!I:I,MATCH($F7,Weekly!$E:$E,0))","v":0},{"$f":"INDEX(Players!F:F,MATCH($F7,Players!#REF!,0))","v":{"$error":"#REF!"}},{"$f":"INDEX(Prizes!F:F,MATCH($B7,Prizes!A:A,0))","v":9.3149999999999995},{"$f":"INDEX(Weekly!J:J,MATCH($F7,Weekly!$E:$E,0))","v":10},{"$f":"INDEX(Weekly!K:K,MATCH($F7,Weekly!$E:$E,0))","v":0},{"$f":"INDEX(Weekly!M:M,MATCH($F7,Weekly!$E:$E,0))","v":19.314999999999998},{"$f":"O7+K7","v":{"$error":"#REF!"}},null,null,"Relegated to Division below"]
[null,"A7",null,7,"A","Stephen Barr",{"$f":"INDEX(Weekly!F:F,MATCH($F8,Weekly!$E:$E,0))","v":7.9334696969696976},{"$f":"INDEX(Weekly!G:G,MATCH($F8,Weekly!$E:$E,0))","v":23},{"$f":"INDEX(Weekly!H:H,MATCH($F8,Weekly!$E:$E,0))","v":0.8636363636363642},{"$f":"INDEX(Weekly!I:I,MATCH($F8,Weekly!$E:$E,0))","v":2},{"$f":"INDEX(Players!F:F,MATCH($F8,Players!#REF!,0))","v":{"$error":"#REF!"}},{"$f":"INDEX(Prizes!F:F,MATCH($B8,Prizes!A:A,0))","v":0},{"$f":"INDEX(Weekly!J:J,MATCH($F8,Weekly!$E:$E,0))","v":5},{"$f":"INDEX(Weekly!K:K,MATCH($F8,Weekly!$E:$E,0))","v":0},{"$f":"INDEX(Weekly!M:M,MATCH($F8,Weekly!$E:$E,0))","v":5},{"$f":"O8+K8","v":{"$error":"#REF!"}},null,null,"Best two up to Div A, Worst two down to Div B"]
[null,"A8",null,8,"A","Chris Luck",{"$f":"INDEX(Weekly!F:F,MATCH($F9,Weekly!$E:$E,0))","v":-1.2805288461538442},{"$f":"INDEX(Weekly!G:G,MATCH($F9,Weekly!$E:$E,0))","v":22},{"$f":"INDEX(Weekly!H:H,MATCH($F9,Weekly!$E:$E,0))","v":-4.75},{"$f":"INDEX(Weekly!I:I,MATCH($F9,Weekly!$E:$E,0))","v":1},{"$f":"INDEX(Players!F:F,MATCH($F9,Players!#REF!,0))","v":{"$error":"#REF!"}},{"$f":"INDEX(Prizes!F:F,MATCH($B9,Prizes!A:A,0))","v":0},{"$f":"INDEX(Weekly!J:J,MATCH($F9,Weekly!$E:$E,0))","v":10},{"$f":"INDEX(Weekly!K:K,MATCH($F9,Weekly!$E:$E,0))","v":0},{"$f":"INDEX(Weekly!M:M,MATCH($F9,Weekly!$E:$E,0))","v":10},{"$f":"O9+K9","v":{"$error":"#REF!"}},null,null,"Best two up to Div B, Worst two down to Div C"]
[null,"A9","Play-off",9,"A","Steve Carter",{"$f":"INDEX(Weekly!F:F,MATCH($F10,Weekly!$E:$E,0))","v":-10.941628787878789},{"$f":"INDEX(Weekly!G:G,MATCH($F10,Weekly!$E:$E,0))","v":23},{"$f":"INDEX(Weekly!H:H,MATCH($F10,Weekly!$E:$E,0))","v":1.75},{"$f":"INDEX(Weekly!I:I,MATCH($F10,Weekly!$E:$E,0))","v":2},{"$f":"INDEX(Players!F:F,MATCH($F10,Players!#REF!,0))","v":{"$error":"#REF!"}},{"$f":"INDEX(Prizes!F:F,MATCH($B10,Prizes!A:A,0))","v":0},{"$f":"INDEX(Weekly!J:J,MATCH($F10,Weekly!$E:$E,0))","v":5},{"$f":"INDEX(Weekly!K:K,MATCH($F10,Weekly!$E:$E,0))","v":0},{"$f":"INDEX(Weekly!M:M,MATCH($F10,Weekly!$E:$E,0))","v":5},{"$f":"O10+K10","v":{"$error":"#REF!"}},null,null,"Best two up to Div C, Worst two down to Div D"]
[null,"A10","Play-off",10,"A","Stephen Troop",{"$f":"INDEX(Weekly!F:F,MATCH($F11,Weekly!$E:$E,0))","v":-16.922115384615381},{"$f":"INDEX(Weekly!G:G,MATCH($F11,Weekly!$E:$E,0))","v":19},{"$f":"INDEX(Weekly!H:H,MATCH($F11,Weekly!$E:$E,0))","v":-7},{"$f":"INDEX(Weekly!I:I,MATCH($F11,Weekly!$E:$E,0))","v":0},{"$f":"INDEX(Players!F:F,MATCH($F11,Players!#REF!,0))","v":{"$error":"#REF!"}},{"$f":"INDEX(Prizes!F:F,MATCH($B11,Prizes!A:A,0))","v":0},{"$f":"INDEX(Weekly!J:J,MATCH($F11,Weekly!$E:$E,0))","v":5},{"$f":"INDEX(Weekly!K:K,MATCH($F11,Weekly!$E:$E,0))","v":0},{"$f":"INDEX(Weekly!M:M,MATCH($F11,Weekly!$E:$E,0))","v":5},{"$f":"O11+K11","v":{"$error":"#REF!"}}]
[null,"A11","↓",11,"A","Oscar Jackson",{"$f":"INDEX(Weekly!F:F,MATCH($F12,Weekly!$E:$E,0))","v":-29.654873737373734},{"$f":"INDEX(Weekly!G:G,MATCH($F12,Weekly!$E:$E,0))","v":19},{"$f":"INDEX(Weekly!H:H,MATCH($F12,Weekly!$E:$E,0))","v":-5.0909090909090908},{"$f":"INDEX(Weekly!I:I,MATCH($F12,Weekly!$E:$E,0))","v":1},{"$f":"INDEX(Players!F:F,MATCH($F12,Players!#REF!,0))","v":{"$error":"#REF!"}},{"$f":"INDEX(Prizes!F:F,MATCH($B12,Prizes!A:A,0))","v":0},{"$f":"INDEX(Weekly!J:J,MATCH($F12,Weekly!$E:$E,0))","v":5},{"$f":"INDEX(Weekly!K:K,MATCH($F12,Weekly!$E:$E,0))","v":0},{"$f":"INDEX(Weekly!M:M,MATCH($F12,Weekly!$E:$E,0))","v":5},{"$f":"O12+K12","v":{"$error":"#REF!"}}]
[null,"A12","↓",12,"A","Paul Fiddler",{"$f":"INDEX(Weekly!F:F,MATCH($F13,Weekly!$E:$E,0))","v":-35.569691142191139},{"$f":"INDEX(Weekly!G:G,MATCH($F13,Weekly!$E:$E,0))","v":23},{"$f":"INDEX(Weekly!H:H,MATCH($F13,Weekly!$E:$E,0))","v":-5.05},{"$f":"INDEX(Weekly!I:I,MATCH($F13,Weekly!$E:$E,0))","v":1},{"$f":"INDEX(Players!F:F,MATCH($F13,Players!#REF!,0))","v":{"$error":"#REF!"}},{"$f":"INDEX(Prizes!F:F,MATCH($B13,Prizes!A:A,0))","v":0},{"$f":"INDEX(Weekly!J:J,MATCH($F13,Weekly!$E:$E,0))","v":5},{"$f":"INDEX(Weekly!K:K,MATCH($F13,Weekly!$E:$E,0))","v":0},{"$f":"INDEX(Weekly!M:M,MATCH($F13,Weekly!$E:$E,0))","v":5},{"$f":"O13+K13","v":{"$error":"#REF!"}}]
[null,"A13","↓",13,"A","Lennie Bow",{"$f":"INDEX(Weekly!F:F,MATCH($F14,Weekly!$E:$E,0))","v":-36.608435314685316},{"$f":"INDEX(Weekly!G:G,MATCH($F14,Weekly!$E:$E,0))","v":23},{"$f":"INDEX(Weekly!H:H,MATCH($F14,Weekly!$E:$E,0))","v":-1.069230769230769},{"$f":"INDEX(Weekly!I:I,MATCH($F14,Weekly!$E:$E,0))","v":2},{"$f":"INDEX(Players!F:F,MATCH($F14,Players!#REF!,0))","v":{"$error":"#REF!"}},{"$f":"INDEX(Prizes!F:F,MATCH($B14,Prizes!A:A,0))","v":0},{"$f":"INDEX(Weekly!J:J,MATCH($F14,Weekly!$E:$E,0))","v":5},{"$f":"INDEX(Weekly!K:K,MATCH($F14,Weekly!$E:$E,0))","v":0},{"$f":"INDEX(Weekly!M:M,MATCH($F14,Weekly!$E:$E,0))","v":5},{"$f":"O14+K14","v":{"$error":"#REF!"}}]
[null,"A14","↓",14,"A","Mo Sudell",{"$f":"INDEX(Weekly!F:F,MATCH($F15,Weekly!$E:$E,0))","v":-43.033850149850153},{"$f":"INDEX(Weekly!G:G,MATCH($F15,Weekly!$E:$E,0))","v":20},{"$f":"INDEX(Weekly!H:H,MATCH($F15,Weekly!$E:$E,0))","v":-5.384615384615385},{"$f":"INDEX(Weekly!I:I,MATCH($F15,Weekly!$E:$E,0))","v":1},{"$f":"INDEX(Players!F:F,MATCH($F15,Players!#REF!,0))","v":{"$error":"#REF!"}},{"$f":"INDEX(Prizes!F:F,MATCH($B15,Prizes!A:A,0))","v":0},{"$f":"INDEX(Weekly!J:J,MATCH($F15,Weekly!$E:$E,0))","v":0},{"$f":"INDEX(Weekly!K:K,MATCH($F15,Weekly!$E:$E,0))","v":0},{"$f":"INDEX(Weekly!M:M,MATCH($F15,Weekly!$E:$E,0))","v":0},{"$f":"O15+K15","v":{"$error":"#REF!"}}]
[null,"A15","↓",15,"A","Kevin Carter",{"$f":"INDEX(Weekly!F:F,MATCH($F16,Weekly!$E:$E,0))","v":-44.91508806008806},{"$f":"INDEX(Weekly!G:G,MATCH($F16,Weekly!$E:$E,0))","v":22},{"$f":"INDEX(Weekly!H:H,MATCH($F16,Weekly!$E:$E,0))","v":0.18181818181818166},{"$f":"INDEX(Weekly!I:I,MATCH($F16,Weekly!$E:$E,0))","v":2},{"$f":"INDEX(Players!F:F,MATCH($F16,Players!#REF!,0))","v":{"$error":"#REF!"}},{"$f":"INDEX(Prizes!F:F,MATCH($B16,Prizes!A:A,0))","v":0},{"$f":"INDEX(Weekly!J:J,MATCH($F16,Weekly!$E:$E,0))","v":0},{"$f":"INDEX(Weekly!K:K,MATCH($F16,Weekly!$E:$E,0))","v":0},{"$f":"INDEX(Weekly!M:M,MATCH($F16,Weekly!$E:$E,0))","v":0},{"$f":"O16+K16","v":{"$error":"#REF!"}}]
[null,"A16","↓",16,"A","Rob England",{"$f":"INDEX(Weekly!F:F,MATCH($F17,Weekly!$E:$E,0))","v":-63.055561302681994},{"$f":"INDEX(Weekly!G:G,MATCH($F17,Weekly!$E:$E,0))","v":14},{"$f":"INDEX(Weekly!H:H,MATCH($F17,Weekly!$E:$E,0))","v":-3.9},{"$f":"INDEX(Weekly!I:I,MATCH($F17,Weekly!$E:$E,0))","v":1},{"$f":"INDEX(Players!F:F,MATCH($F17,Players!#REF!,0))","v":{"$error":"#REF!"}},{"$f":"INDEX(Prizes!F:F,MATCH($B17,Prizes!A:A,0))","v":0},{"$f":"INDEX(Weekly!J:J,MATCH($F17,Weekly!$E:$E,0))","v":0},{"$f":"INDEX(Weekly!K:K,MATCH($F17,Weekly!$E:$E,0))","v":0},{"$f":"INDEX(Weekly!M:M,MATCH($F17,Weekly!$E:$E,0))","v":0},{"$f":"O17+K17","v":{"$error":"#REF!"}}]
["Division B","B1","↑",1,"B","Barry Birchall",{"$f":"INDEX(Weekly!F:F,MATCH($F18,Weekly!$E:$E,0))","v":488.92794705294693},{"$f":"INDEX(Weekly!G:G,MATCH($F18,Weekly!$E:$E,0))","v":24},{"$f":"INDEX(Weekly!H:H,MATCH($F18,Weekly!$E:$E,0))","v":-7},{"$f":"INDEX(Weekly!I:I,MATCH($F18,Weekly!$E:$E,0))","v":0},{"$f":"INDEX(Players!F:F,MATCH($F18,Players!#REF!,0))","v":{"$error":"#REF!"}},{"$f":"INDEX(Prizes!F:F,MATCH($B18,Prizes!A:A,0))","v":72.45},{"$f":"INDEX(Weekly!J:J,MATCH($F18,Weekly!$E:$E,0))","v":10},{"$f":"INDEX(Weekly!K:K,MATCH($F18,Weekly!$E:$E,0))","v":0},{"$f":"INDEX(Weekly!M:M,MATCH($F18,Weekly!$E:$E,0))","v":82.45},{"$f":"O18+K18","v":{"$error":"#REF!"}}]
[null,"B2","↑",2,"B","Pete Baron",{"$f":"INDEX(Weekly!F:F,MATCH($F19,Weekly!$E:$E,0))","v":117.90765517241378},{"$f":"INDEX(Weekly!G:G,MATCH($F19,Weekly!$E:$E,0))","v":22},{"$f":"INDEX(Weekly!H:H,MATCH($F19,Weekly!$E:$E,0))","v":-4},{"$f":"INDEX(Weekly!I:I,MATCH($F19,Weekly!$E:$E,0))","v":1},{"$f":"INDEX(Players!F:F,MATCH($F19,Players!#REF!,0))","v":{"$error":"#REF!"}},{"$f":"INDEX(Prizes!F:F,MATCH($B19,Prizes!A:A,0))","v":51.75},{"$f":"INDEX(Weekly!J:J,MATCH($F19,Weekly!$E:$E,0))","v":25},{"$f":"INDEX(Weekly!K:K,MATCH($F19,Weekly!$E:$E,0))","v":0},{"$f":"INDEX(Weekly!M:M,MATCH($F19,Weekly!$E:$E,0))","v":76.75},{"$f":"O19+K19","v":{"$error":"#REF!"}}]
[null,"B3","↑",3,"B","Nigel Heyes",{"$f":"INDEX(Weekly!F:F,MATCH($F20,Weekly!$E:$E,0))","v":43.156393939393929},{"$f":"INDEX(Weekly!G:G,MATCH($F20,Weekly!$E:$E,0))","v":30},{"$f":"INDEX(Weekly!H:H,MATCH($F20,Weekly!$E:$E,0))","v":-3.8},{"$f":"INDEX(Weekly!I:I,MATCH($F20,Weekly!$E:$E,0))","v":1},{"$f":"INDEX(Players!F:F,MATCH($F20,Players!#REF!,0))","v":{"$error":"#REF!"}},{"$f":"INDEX(Prizes!F:F,MATCH($B20,Prizes!A:A,0))","v":37.26},{"$f":"INDEX(Weekly!J:J,MATCH($F20,Weekly!$E:$E,0))","v":5},{"$f":"INDEX(Weekly!K:K,MATCH($F20,Weekly!$E:$E,0))","v":0},{"$f":"INDEX(Weekly!M:M,MATCH($F20,Weekly!$E:$E,0))","v":42.26},{"$f":"O20+K20","v":{"$error":"#REF!"}}]
[null,"B4","↑",4,"B","Kei Lok Ma",{"$f":"INDEX(Weekly!F:F,MATCH($F21,Weekly!$E:$E,0))","v":37.019999999999996},{"$f":"INDEX(Weekly!G:G,MATCH($F21,Weekly!$E:$E,0))","v":19},{"$f":"INDEX(Weekly!H:H,MATCH($F21,Weekly!$E:$E,0))","v":4.1875},{"$f":"INDEX(Weekly!I:I,MATCH($F21,Weekly!$E:$E,0))","v":2},{"$f":"INDEX(Players!F:F,MATCH($F21,Players!#REF!,0))","v":{"$error":"#REF!"}},{"$f":"INDEX(Prizes!F:F,MATCH($B21,Prizes!A:A,0))","v":24.84},{"$f":"INDEX(Weekly!J:J,MATCH($F21,Weekly!$E:$E,0))","v":20},{"$f":"INDEX(Weekly!K:K,MATCH($F21,Weekly!$E:$E,0))","v":0},{"$f":"INDEX(Weekly!M:M,MATCH($F21,Weekly!$E:$E,0))","v":44.84},{"$f":"O21+K21","v":{"$error":"#REF!"}}]
[null,"B5","↑",5,"B","Steve Baxter",{"$f":"INDEX(Weekly!F:F,MATCH($F22,Weekly!$E:$E,0))","v":13.324233821733827},{"$f":"INDEX(Weekly!G:G,MATCH($F22,Weekly!$E:$E,0))","v":28},{"$f":"INDEX(Weekly!H:H,MATCH($F22,Weekly!$E:$E,0))","v":-7},{"$f":"INDEX(Weekly!I:I,MATCH($F22,Weekly!$E:$E,0))","v":0},{"$f":"INDEX(Players!F:F,MATCH($F22,Players!#REF!,0))","v":{"$error":"#REF!"}},{"$f":"INDEX(Prizes!F:F,MATCH($B22,Prizes!A:A,0))","v":14.49},{"$f":"INDEX(Weekly!J:J,MATCH($F22,Weekly!$E:$E,0))","v":10},{"$f":"INDEX(Weekly!K:K,MATCH($F22,Weekly!$E:$E,0))","v":0},{"$f":"INDEX(Weekly!M:M,MATCH($F22,Weekly!$E:$E,0))","v":24.490000000000002},{"$f":"O22+K22","v":{"$error":"#REF!"}}]
[null,"B6","↑",6,"B","Andy White",{"$f":"INDEX(Weekly!F:F,MATCH($F23,Weekly!$E:$E,0))","v":8.2256508264462873},{"$f":"INDEX(Weekly!G:G,MATCH($F23,Weekly!$E:$E,0))","v":25},{"$f":"INDEX(Weekly!H:H,MATCH($F23,Weekly!$E:$E,0))","v":1.75},{"$f":"INDEX(Weekly!I:I,MATCH($F23,Weekly!$E:$E,0))","v":2},{"$f":"INDEX(Players!F:F,MATCH($F23,Players!#REF!,0))","v":{"$error":"#REF!"}},{"$f":"INDEX(Prizes!F:F,MATCH($B23,Prizes!A:A,0))","v":6.21},{"$f":"INDEX(Weekly!J:J,MATCH($F23,Weekly!$E:$E,0))","v":10},{"$f":"INDEX(Weekly!K:K,MATCH($F23,Weekly!$E:$E,0))","v":0},{"$f":"INDEX(Weekly!M:M,MATCH($F23,Weekly!$E:$E,0))","v":16.21},{"$f":"O23+K23","v":{"$error":"#REF!"}}]
[null,"B7","Play-off",7,"B","Phil Miller",{"$f":"INDEX(Weekly!F:F,MATCH($F24,Weekly!$E:$E,0))","v":-7.9911472231472196},{"$f":"INDEX(Weekly!G:G,MATCH($F24,Weekly!$E:$E,0))","v":25},{"$f":"INDEX(Weekly!H:H,MATCH($F24,Weekly!$E:$E,0))","v":-7},{"$f":"INDEX(Weekly!I:I,MATCH($F24,Weekly!$E:$E,0))","v":0},{"$f":"INDEX(Players!F:F,MATCH($F24,Players!#REF!,0))","v":{"$error":"#REF!"}},{"$f":"INDEX(Prizes!F:F,MATCH($B24,Prizes!A:A,0))","v":0},{"$f":"INDEX(Weekly!J:J,MATCH($F24,Weekly!$E:$E,0))","v":5},{"$f":"INDEX(Weekly!K:K,MATCH($F24,Weekly!$E:$E,0))","v":0},{"$f":"INDEX(Weekly!M:M,MATCH($F24,Weekly!$E:$E,0))","v":5},{"$f":"O24+K24","v":{"$error":"#REF!"}}]
[null,"B8","Play-off",8,"B","Mark Bunn",{"$f":"INDEX(Weekly!F:F,MATCH($F25,Weekly!$E:$E,0))","v":-9.6373209549071603},{"$f":"INDEX(Weekly!G:G,MATCH($F25,Weekly!$E:$E,0))","v":19},{"$f":"INDEX(Weekly!H:H,MATCH($F25,Weekly!$E:$E,0))","v":-4.3},{"$f":"INDEX(Weekly!I:I,MATCH($F25,Weekly!$E:$E,0))","v":1},{"$f":"INDEX(Players!F:F,MATCH($F25,Players!#REF!,0))","v":{"$error":"#REF!"}},{"$f":"INDEX(Prizes!F:F,MATCH($B25,Prizes!A:A,0))","v":0},{"$f":"INDEX(Weekly!J:J,MATCH($F25,Weekly!$E:$E,0))","v":5},{"$f":"INDEX(Weekly!K:K,MATCH($F25,Weekly!$E:$E,0))","v":0},{"$f":"INDEX(Weekly!M:M,MATCH($F25,Weekly!$E:$E,0))","v":5},{"$f":"O25+K25","v":{"$error":"#REF!"}}]
[null,"B9","Play-off",9,"B","Vinny Topping",{"$f":"INDEX(Weekly!F:F,MATCH($F26,Weekly!$E:$E,0))","v":-11.956666666666665},{"$f":"INDEX(Weekly!G:G,MATCH($F26,Weekly!$E:$E,0))","v":21},{"$f":"INDEX(Weekly!H:H,MATCH($F26,Weekly!$E:$E,0))","v":2.2375000000000007},{"$f":"INDEX(Weekly!I:I,MATCH($F26,Weekly!$E:$E,0))","v":2},{"$f":"INDEX(Players!F:F,MATCH($F26,Players!#REF!,0))","v":{"$error":"#REF!"}},{"$f":"INDEX(Prizes!F:F,MATCH($B26,Prizes!A:A,0))","v":0},{"$f":"INDEX(Weekly!J:J,MATCH($F26,Weekly!$E:$E,0))","v":5},{"$f":"INDEX(Weekly!K:K,MATCH($F26,Weekly!$E:$E,0))","v":0},{"$f":"INDEX(Weekly!M:M,MATCH($F26,Weekly!$E:$E,0))","v":5},{"$f":"O26+K26","v":{"$error":"#REF!"}}]
[null,"B10","Play-off",10,"B","James Bell",{"$f":"INDEX(Weekly!F:F,MATCH($F27,Weekly!$E:$E,0))","v":-23.803333333333342},{"$f":"INDEX(Weekly!G:G,MATCH($F27,Weekly!$E:$E,0))","v":12},{"$f":"INDEX(Weekly!H:H,MATCH($F27,Weekly!$E:$E,0))","v":-7},{"$f":"INDEX(Weekly!I:I,MATCH($F27,Weekly!$E:$E,0))","v":0},{"$f":"INDEX(Players!F:F,MATCH($F27,Players!#REF!,0))","v":{"$error":"#REF!"}},{"$f":"INDEX(Prizes!F:F,MATCH($B27,Prizes!A:A,0))","v":0},{"$f":"INDEX(Weekly!J:J,MATCH($F27,Weekly!$E:$E,0))","v":10},{"$f":"INDEX(Weekly!K:K,MATCH($F27,Weekly!$E:$E,0))","v":0},{"$f":"INDEX(Weekly!M:M,MATCH($F27,Weekly!$E:$E,0))","v":10},{"$f":"O27+K27","v":{"$error":"#REF!"}}]
[null,"B11","↓",11,"B","Paul Allen",{"$f":"INDEX(Weekly!F:F,MATCH($F28,Weekly!$E:$E,0))","v":-40.423553050397885},{"$f":"INDEX(Weekly!G:G,MATCH($F28,Weekly!$E:$E,0))","v":18},{"$f":"INDEX(Weekly!H:H,MATCH($F28,Weekly!$E:$E,0))","v":1.4400000000000013},{"$f":"INDEX(Weekly!I:I,MATCH($F28,Weekly!$E:$E,0))","v":2},{"$f":"INDEX(Players!F:F,MATCH($F28,Players!#REF!,0))","v":{"$error":"#REF!"}},{"$f":"INDEX(Prizes!F:F,MATCH($B28,Prizes!A:A,0))","v":0},{"$f":"INDEX(Weekly!J:J,MATCH($F28,Weekly!$E:$E,0))","v":5},{"$f":"INDEX(Weekly!K:K,MATCH($F28,Weekly!$E:$E,0))","v":0},{"$f":"INDEX(Weekly!M:M,MATCH($F28,Weekly!$E:$E,0))","v":5},{"$f":"O28+K28","v":{"$error":"#REF!"}}]
[null,"B12","↓",12,"B","Martin Molyneux",{"$f":"INDEX(Weekly!F:F,MATCH($F29,Weekly!$E:$E,0))","v":-42.375547785547781},{"$f":"INDEX(Weekly!G:G,MATCH($F29,Weekly!$E:$E,0))","v":19},{"$f":"INDEX(Weekly!H:H,MATCH($F29,Weekly!$E:$E,0))","v":5.6363636363636367},{"$f":"INDEX(Weekly!I:I,MATCH($F29,Weekly!$E:$E,0))","v":2},{"$f":"INDEX(Players!F:F,MATCH($F29,Players!#REF!,0))","v":{"$error":"#REF!"}},{"$f":"INDEX(Prizes!F:F,MATCH($B29,Prizes!A:A,0))","v":0},{"$f":"INDEX(Weekly!J:J,MATCH($F29,Weekly!$E:$E,0))","v":0},{"$f":"INDEX(Weekly!K:K,MATCH($F29,Weekly!$E:$E,0))","v":0},{"$f":"INDEX(Weekly!M:M,MATCH($F29,Weekly!$E:$E,0))","v":0},{"$f":"O29+K29","v":{"$error":"#REF!"}}]
[null,"B13","↓",13,"B","Tom Robinson",{"$f":"INDEX(Weekly!F:F,MATCH($F30,Weekly!$E:$E,0))","v":-52.165757575757581},{"$f":"INDEX(Weekly!G:G,MATCH($F30,Weekly!$E:$E,0))","v":16},{"$f":"INDEX(Weekly!H:H,MATCH($F30,Weekly!$E:$E,0))","v":-4.8499999999999996},{"$f":"INDEX(Weekly!I:I,MATCH($F30,Weekly!$E:$E,0))","v":1},{"$f":"INDEX(Players!F:F,MATCH($F30,Players!#REF!,0))","v":{"$error":"#REF!"}},{"$f":"INDEX(Prizes!F:F,MATCH($B30,Prizes!A:A,0))","v":0},{"$f":"INDEX(Weekly!J:J,MATCH($F30,Weekly!$E:$E,0))","v":5},{"$f":"INDEX(Weekly!K:K,MATCH($F30,Weekly!$E:$E,0))","v":0},{"$f":"INDEX(Weekly!M:M,MATCH($F30,Weekly!$E:$E,0))","v":5},{"$f":"O30+K30","v":{"$error":"#REF!"}}]
[null,"B14","↓",14,"B","John Evans",{"$f":"INDEX(Weekly!F:F,MATCH($F31,Weekly!$E:$E,0))","v":-53.54},{"$f":"INDEX(Weekly!G:G,MATCH($F31,Weekly!$E:$E,0))","v":14},{"$f":"INDEX(Weekly!H:H,MATCH($F31,Weekly!$E:$E,0))","v":-3.8},{"$f":"INDEX(Weekly!I:I,MATCH($F31,Weekly!$E:$E,0))","v":1},{"$f":"INDEX(Players!F:F,MATCH($F31,Players!#REF!,0))","v":{"$error":"#REF!"}},{"$f":"INDEX(Prizes!F:F,MATCH($B31,Prizes!A:A,0))","v":0},{"$f":"INDEX(Weekly!J:J,MATCH($F31,Weekly!$E:$E,0))","v":0},{"$f":"INDEX(Weekly!K:K,MATCH($F31,Weekly!$E:$E,0))","v":0},{"$f":"INDEX(Weekly!M:M,MATCH($F31,Weekly!$E:$E,0))","v":0},{"$f":"O31+K31","v":{"$error":"#REF!"}}]
[null,"B15","↓",15,"B","Gareth Powell",{"$f":"INDEX(Weekly!F:F,MATCH($F32,Weekly!$E:$E,0))","v":-64.975769230769231},{"$f":"INDEX(Weekly!G:G,MATCH($F32,Weekly!$E:$E,0))","v":14},{"$f":"INDEX(Weekly!H:H,MATCH($F32,Weekly!$E:$E,0))","v":-4.3},{"$f":"INDEX(Weekly!I:I,MATCH($F32,Weekly!$E:$E,0))","v":1},{"$f":"INDEX(Players!F:F,MATCH($F32,Players!#REF!,0))","v":{"$error":"#REF!"}},{"$f":"INDEX(Prizes!F:F,MATCH($B32,Prizes!A:A,0))","v":0},{"$f":"INDEX(Weekly!J:J,MATCH($F32,Weekly!$E:$E,0))","v":0},{"$f":"INDEX(Weekly!K:K,MATCH($F32,Weekly!$E:$E,0))","v":0},{"$f":"INDEX(Weekly!M:M,MATCH($F32,Weekly!$E:$E,0))","v":0},{"$f":"O32+K32","v":{"$error":"#REF!"}}]
[null,"B16","↓",16,"B","Dave Bell",{"$f":"INDEX(Weekly!F:F,MATCH($F33,Weekly!$E:$E,0))","v":-65.466666666666669},{"$f":"INDEX(Weekly!G:G,MATCH($F33,Weekly!$E:$E,0))","v":8},{"$f":"INDEX(Weekly!H:H,MATCH($F33,Weekly!$E:$E,0))","v":1.3333333333333339},{"$f":"INDEX(Weekly!I:I,MATCH($F33,Weekly!$E:$E,0))","v":1},{"$f":"INDEX(Players!F:F,MATCH($F33,Players!#REF!,0))","v":{"$error":"#REF!"}},{"$f":"INDEX(Prizes!F:F,MATCH($B33,Prizes!A:A,0))","v":0},{"$f":"INDEX(Weekly!J:J,MATCH($F33,Weekly!$E:$E,0))","v":0},{"$f":"INDEX(Weekly!K:K,MATCH($F33,Weekly!$E:$E,0))","v":0},{"$f":"INDEX(Weekly!M:M,MATCH($F33,Weekly!$E:$E,0))","v":0},{"$f":"O33+K33","v":{"$error":"#REF!"}}]
["Division C","C1","↑",1,"C","Andy Charleston",{"$f":"INDEX(Weekly!F:F,MATCH($F34,Weekly!$E:$E,0))","v":871.83333333333348},{"$f":"INDEX(Weekly!G:G,MATCH($F34,Weekly!$E:$E,0))","v":19},{"$f":"INDEX(Weekly!H:H,MATCH($F34,Weekly!$E:$E,0))","v":-2.6666666666666661},{"$f":"INDEX(Weekly!I:I,MATCH($F34,Weekly!$E:$E,0))","v":1},{"$f":"INDEX(Players!F:F,MATCH($F34,Players!#REF!,0))","v":{"$error":"#REF!"}},{"$f":"INDEX(Prizes!F:F,MATCH($B34,Prizes!A:A,0))","v":36.225000000000001},{"$f":"INDEX(Weekly!J:J,MATCH($F34,Weekly!$E:$E,0))","v":15},{"$f":"INDEX(Weekly!K:K,MATCH($F34,Weekly!$E:$E,0))","v":0},{"$f":"INDEX(Weekly!M:M,MATCH($F34,Weekly!$E:$E,0))","v":51.225000000000001},{"$f":"O34+K34","v":{"$error":"#REF!"}}]
[null,"C2","↑",2,"C","Chris Bow",{"$f":"INDEX(Weekly!F:F,MATCH($F35,Weekly!$E:$E,0))","v":225.32410984848482},{"$f":"INDEX(Weekly!G:G,MATCH($F35,Weekly!$E:$E,0))","v":26},{"$f":"INDEX(Weekly!H:H,MATCH($F35,Weekly!$E:$E,0))","v":-2.6666666666666661},{"$f":"INDEX(Weekly!I:I,MATCH($F35,Weekly!$E:$E,0))","v":1},{"$f":"INDEX(Players!F:F,MATCH($F35,Players!#REF!,0))","v":{"$error":"#REF!"}},{"$f":"INDEX(Prizes!F:F,MATCH($B35,Prizes!A:A,0))","v":25.875},{"$f":"INDEX(Weekly!J:J,MATCH($F35,Weekly!$E:$E,0))","v":30},{"$f":"INDEX(Weekly!K:K,MATCH($F35,Weekly!$E:$E,0))","v":0},{"$f":"INDEX(Weekly!M:M,MATCH($F35,Weekly!$E:$E,0))","v":55.875},{"$f":"O35+K35","v":{"$error":"#REF!"}}]
[null,"C3","↑",3,"C","Paul Fairhurst",{"$f":"INDEX(Weekly!F:F,MATCH($F36,Weekly!$E:$E,0))","v":130.96023391812867},{"$f":"INDEX(Weekly!G:G,MATCH($F36,Weekly!$E:$E,0))","v":15},{"$f":"INDEX(Weekly!H:H,MATCH($F36,Weekly!$E:$E,0))","v":-7},{"$f":"INDEX(Weekly!I:I,MATCH($F36,Weekly!$E:$E,0))","v":0},{"$f":"INDEX(Players!F:F,MATCH($F36,Players!#REF!,0))","v":{"$error":"#REF!"}},{"$f":"INDEX(Prizes!F:F,MATCH($B36,Prizes!A:A,0))","v":18.63},{"$f":"INDEX(Weekly!J:J,MATCH($F36,Weekly!$E:$E,0))","v":10},{"$f":"INDEX(Weekly!K:K,MATCH($F36,Weekly!$E:$E,0))","v":0},{"$f":"INDEX(Weekly!M:M,MATCH($F36,Weekly!$E:$E,0))","v":28.63},{"$f":"O36+K36","v":{"$error":"#REF!"}}]
[null,"C4","↑",4,"C","Charlie Griffiths",{"$f":"INDEX(Weekly!F:F,MATCH($F37,Weekly!$E:$E,0))","v":63.657605769230756},{"$f":"INDEX(Weekly!G:G,MATCH($F37,Weekly!$E:$E,0))","v":22},{"$f":"INDEX(Weekly!H:H,MATCH($F37,Weekly!$E:$E,0))","v":-7},{"$f":"INDEX(Weekly!I:I,MATCH($F37,Weekly!$E:$E,0))","v":0},{"$f":"INDEX(Players!F:F,MATCH($F37,Players!#REF!,0))","v":{"$error":"#REF!"}},{"$f":"INDEX(Prizes!F:F,MATCH($B37,Prizes!A:A,0))","v":12.42},{"$f":"INDEX(Weekly!J:J,MATCH($F37,Weekly!$E:$E,0))","v":10},{"$f":"INDEX(Weekly!K:K,MATCH($F37,Weekly!$E:$E,0))","v":0},{"$f":"INDEX(Weekly!M:M,MATCH($F37,Weekly!$E:$E,0))","v":22.42},{"$f":"O37+K37","v":{"$error":"#REF!"}}]
[null,"C5","↑",5,"C","Sally Williams",{"$f":"INDEX(Weekly!F:F,MATCH($F38,Weekly!$E:$E,0))","v":47.024749999999997},{"$f":"INDEX(Weekly!G:G,MATCH($F38,Weekly!$E:$E,0))","v":18},{"$f":"INDEX(Weekly!H:H,MATCH($F38,Weekly!$E:$E,0))","v":-4},{"$f":"INDEX(Weekly!I:I,MATCH($F38,Weekly!$E:$E,0))","v":1},{"$f":"INDEX(Players!F:F,MATCH($F38,Players!#REF!,0))","v":{"$error":"#REF!"}},{"$f":"INDEX(Prizes!F:F,MATCH($B38,Prizes!A:A,0))","v":7.2450000000000001},{"$f":"INDEX(Weekly!J:J,MATCH($F38,Weekly!$E:$E,0))","v":10},{"$f":"INDEX(Weekly!K:K,MATCH($F38,Weekly!$E:$E,0))","v":0},{"$f":"INDEX(Weekly!M:M,MATCH($F38,Weekly!$E:$E,0))","v":17.245000000000001},{"$f":"O38+K38","v":{"$error":"#REF!"}}]
[null,"C6","↑",6,"C","Mal Stott",{"$f":"INDEX(Weekly!F:F,MATCH($F39,Weekly!$E:$E,0))","v":10.153749999999999},{"$f":"INDEX(Weekly!G:G,MATCH($F39,Weekly!$E:$E,0))","v":17},{"$f":"INDEX(Weekly!H:H,MATCH($F39,Weekly!$E:$E,0))","v":-7},{"$f":"INDEX(Weekly!I:I,MATCH($F39,Weekly!$E:$E,0))","v":0},{"$f":"INDEX(Players!F:F,MATCH($F39,Players!#REF!,0))","v":{"$error":"#REF!"}},{"$f":"INDEX(Prizes!F:F,MATCH($B39,Prizes!A:A,0))","v":3.105},{"$f":"INDEX(Weekly!J:J,MATCH($F39,Weekly!$E:$E,0))","v":5},{"$f":"INDEX(Weekly!K:K,MATCH($F39,Weekly!$E:$E,0))","v":0},{"$f":"INDEX(Weekly!M:M,MATCH($F39,Weekly!$E:$E,0))","v":8.1050000000000004},{"$f":"O39+K39","v":{"$error":"#REF!"}}]
[null,"C7","Play-off",7,"C","Chris Griffin",{"$f":"INDEX(Weekly!F:F,MATCH($F40,Weekly!$E:$E,0))","v":5.8090340909090923},{"$f":"INDEX(Weekly!G:G,MATCH($F40,Weekly!$E:$E,0))","v":29},{"$f":"INDEX(Weekly!H:H,MATCH($F40,Weekly!$E:$E,0))","v":1.75},{"$f":"INDEX(Weekly!I:I,MATCH($F40,Weekly!$E:$E,0))","v":2},{"$f":"INDEX(Players!F:F,MATCH($F40,Players!#REF!,0))","v":{"$error":"#REF!"}},{"$f":"INDEX(Prizes!F:F,MATCH($B40,Prizes!A:A,0))","v":0},{"$f":"INDEX(Weekly!J:J,MATCH($F40,Weekly!$E:$E,0))","v":5},{"$f":"INDEX(Weekly!K:K,MATCH($F40,Weekly!$E:$E,0))","v":0},{"$f":"INDEX(Weekly!M:M,MATCH($F40,Weekly!$E:$E,0))","v":5},{"$f":"O40+K40","v":{"$error":"#REF!"}}]
[null,"C8","Play-off",8,"C","Chris Townsend",{"$f":"INDEX(Weekly!F:F,MATCH($F41,Weekly!$E:$E,0))","v":-9.816388888888893},{"$f":"INDEX(Weekly!G:G,MATCH($F41,Weekly!$E:$E,0))","v":18},{"$f":"INDEX(Weekly!H:H,MATCH($F41,Weekly!$E:$E,0))","v":-3.9},{"$f":"INDEX(Weekly!I:I,MATCH($F41,Weekly!$E:$E,0))","v":1},{"$f":"INDEX(Players!F:F,MATCH($F41,Players!#REF!,0))","v":{"$error":"#REF!"}},{"$f":"INDEX(Prizes!F:F,MATCH($B41,Prizes!A:A,0))","v":0},{"$f":"INDEX(Weekly!J:J,MATCH($F41,Weekly!$E:$E,0))","v":5},{"$f":"INDEX(Weekly!K:K,MATCH($F41,Weekly!$E:$E,0))","v":0},{"$f":"INDEX(Weekly!M:M,MATCH($F41,Weekly!$E:$E,0))","v":5},{"$f":"O41+K41","v":{"$error":"#REF!"}}]
[null,"C9","Play-off",9,"C","Alan White",{"$f":"INDEX(Weekly!F:F,MATCH($F42,Weekly!$E:$E,0))","v":-26.993590909090912},{"$f":"INDEX(Weekly!G:G,MATCH($F42,Weekly!$E:$E,0))","v":19},{"$f":"INDEX(Weekly!H:H,MATCH($F42,Weekly!$E:$E,0))","v":0.18181818181818166},{"$f":"INDEX(Weekly!I:I,MATCH($F42,Weekly!$E:$E,0))","v":2},{"$f":"INDEX(Players!F:F,MATCH($F42,Players!#REF!,0))","v":{"$error":"#REF!"}},{"$f":"INDEX(Prizes!F:F,MATCH($B42,Prizes!A:A,0))","v":0},{"$f":"INDEX(Weekly!J:J,MATCH($F42,Weekly!$E:$E,0))","v":5},{"$f":"INDEX(Weekly!K:K,MATCH($F42,Weekly!$E:$E,0))","v":0},{"$f":"INDEX(Weekly!M:M,MATCH($F42,Weekly!$E:$E,0))","v":5},{"$f":"O42+K42","v":{"$error":"#REF!"}}]
[null,"C10","Play-off",10,"C","Gareth McGuire",{"$f":"INDEX(Weekly!F:F,MATCH($F43,Weekly!$E:$E,0))","v":-27.683581504702193},{"$f":"INDEX(Weekly!G:G,MATCH($F43,Weekly!$E:$E,0))","v":23},{"$f":"INDEX(Weekly!H:H,MATCH($F43,Weekly!$E:$E,0))","v":2.9800000000000004},{"$f":"INDEX(Weekly!I:I,MATCH($F43,Weekly!$E:$E,0))","v":2},{"$f":"INDEX(Players!F:F,MATCH($F43,Players!#REF!,0))","v":{"$error":"#REF!"}},{"$f":"INDEX(Prizes!F:F,MATCH($B43,Prizes!A:A,0))","v":0},{"$f":"INDEX(Weekly!J:J,MATCH($F43,Weekly!$E:$E,0))","v":5},{"$f":"INDEX(Weekly!K:K,MATCH($F43,Weekly!$E:$E,0))","v":0},{"$f":"INDEX(Weekly!M:M,MATCH($F43,Weekly!$E:$E,0))","v":5},{"$f":"O43+K43","v":{"$error":"#REF!"}}]
[null,"C11","↓",11,"C","Paul Ridgeway",{"$f":"INDEX(Weekly!F:F,MATCH($F44,Weekly!$E:$E,0))","v":-29.867355769230773},{"$f":"INDEX(Weekly!G:G,MATCH($F44,Weekly!$E:$E,0))","v":18},{"$f":"INDEX(Weekly!H:H,MATCH($F44,Weekly!$E:$E,0))","v":-7},{"$f":"INDEX(Weekly!I:I,MATCH($F44,Weekly!$E:$E,0))","v":0},{"$f":"INDEX(Players!F:F,MATCH($F44,Players!#REF!,0))","v":{"$error":"#REF!"}},{"$f":"INDEX(Prizes!F:F,MATCH($B44,Prizes!A:A,0))","v":0},{"$f":"INDEX(Weekly!J:J,MATCH($F44,Weekly!$E:$E,0))","v":0},{"$f":"INDEX(Weekly!K:K,MATCH($F44,Weekly!$E:$E,0))","v":0},{"$f":"INDEX(Weekly!M:M,MATCH($F44,Weekly!$E:$E,0))","v":0},{"$f":"O44+K44","v":{"$error":"#REF!"}}]
[null,"C12","↓",12,"C","David Dunn",{"$f":"INDEX(Weekly!F:F,MATCH($F45,Weekly!$E:$E,0))","v":-30.395070207570203},{"$f":"INDEX(Weekly!G:G,MATCH($F45,Weekly!$E:$E,0))","v":22},{"$f":"INDEX(Weekly!H:H,MATCH($F45,Weekly!$E:$E,0))","v":1.4499999999999993},{"$f":"INDEX(Weekly!I:I,MATCH($F45,Weekly!$E:$E,0))","v":2},{"$f":"INDEX(Players!F:F,MATCH($F45,Players!#REF!,0))","v":{"$error":"#REF!"}},{"$f":"INDEX(Prizes!F:F,MATCH($B45,Prizes!A:A,0))","v":0},{"$f":"INDEX(Weekly!J:J,MATCH($F45,Weekly!$E:$E,0))","v":5},{"$f":"INDEX(Weekly!K:K,MATCH($F45,Weekly!$E:$E,0))","v":0},{"$f":"INDEX(Weekly!M:M,MATCH($F45,Weekly!$E:$E,0))","v":5},{"$f":"O45+K45","v":{"$error":"#REF!"}}]
[null,"C13","↓",13,"C","Jack Walsh",{"$f":"INDEX(Weekly!F:F,MATCH($F46,Weekly!$E:$E,0))","v":-35.786947940947947},{"$f":"INDEX(Weekly!G:G,MATCH($F46,Weekly!$E:$E,0))","v":18},{"$f":"INDEX(Weekly!H:H,MATCH($F46,Weekly!$E:$E,0))","v":-5.35},{"$f":"INDEX(Weekly!I:I,MATCH($F46,Weekly!$E:$E,0))","v":1},{"$f":"INDEX(Players!F:F,MATCH($F46,Players!#REF!,0))","v":{"$error":"#REF!"}},{"$f":"INDEX(Prizes!F:F,MATCH($B46,Prizes!A:A,0))","v":0},{"$f":"INDEX(Weekly!J:J,MATCH($F46,Weekly!$E:$E,0))","v":0},{"$f":"INDEX(Weekly!K:K,MATCH($F46,Weekly!$E:$E,0))","v":0},{"$f":"INDEX(Weekly!M:M,MATCH($F46,Weekly!$E:$E,0))","v":0},{"$f":"O46+K46","v":{"$error":"#REF!"}}]
[null,"C14","↓",14,"C","Liam Wah",{"$f":"INDEX(Weekly!F:F,MATCH($F47,Weekly!$E:$E,0))","v":-51.192272727272737},{"$f":"INDEX(Weekly!G:G,MATCH($F47,Weekly!$E:$E,0))","v":13},{"$f":"INDEX(Weekly!H:H,MATCH($F47,Weekly!$E:$E,0))","v":8.25},{"$f":"INDEX(Weekly!I:I,MATCH($F47,Weekly!$E:$E,0))","v":2},{"$f":"INDEX(Players!F:F,MATCH($F47,Players!#REF!,0))","v":{"$error":"#REF!"}},{"$f":"INDEX(Prizes!F:F,MATCH($B47,Prizes!A:A,0))","v":0},{"$f":"INDEX(Weekly!J:J,MATCH($F47,Weekly!$E:$E,0))","v":0},{"$f":"INDEX(Weekly!K:K,MATCH($F47,Weekly!$E:$E,0))","v":0},{"$f":"INDEX(Weekly!M:M,MATCH($F47,Weekly!$E:$E,0))","v":0},{"$f":"O47+K47","v":{"$error":"#REF!"}}]
[null,"C15","↓",15,"C","Ian Davies",{"$f":"INDEX(Weekly!F:F,MATCH($F48,Weekly!$E:$E,0))","v":-68.06},{"$f":"INDEX(Weekly!G:G,MATCH($F48,Weekly!$E:$E,0))","v":10},{"$f":"INDEX(Weekly!H:H,MATCH($F48,Weekly!$E:$E,0))","v":-7},{"$f":"INDEX(Weekly!I:I,MATCH($F48,Weekly!$E:$E,0))","v":0},{"$f":"INDEX(Players!F:F,MATCH($F48,Players!#REF!,0))","v":{"$error":"#REF!"}},{"$f":"INDEX(Prizes!F:F,MATCH($B48,Prizes!A:A,0))","v":0},{"$f":"INDEX(Weekly!J:J,MATCH($F48,Weekly!$E:$E,0))","v":0},{"$f":"INDEX(Weekly!K:K,MATCH($F48,Weekly!$E:$E,0))","v":0},{"$f":"INDEX(Weekly!M:M,MATCH($F48,Weekly!$E:$E,0))","v":0},{"$f":"O48+K48","v":{"$error":"#REF!"}}]
[null,"C16","↓",16,"C","Gareth Fallows",{"$f":"INDEX(Weekly!F:F,MATCH($F49,Weekly!$E:$E,0))","v":-119},{"$f":"INDEX(Weekly!G:G,MATCH($F49,Weekly!$E:$E,0))","v":0},{"$f":"INDEX(Weekly!H:H,MATCH($F49,Weekly!$E:$E,0))","v":-7},{"$f":"INDEX(Weekly!I:I,MATCH($F49,Weekly!$E:$E,0))","v":0},{"$f":"INDEX(Players!F:F,MATCH($F49,Players!#REF!,0))","v":{"$error":"#REF!"}},{"$f":"INDEX(Prizes!F:F,MATCH($B49,Prizes!A:A,0))","v":0},{"$f":"INDEX(Weekly!J:J,MATCH($F49,Weekly!$E:$E,0))","v":0},{"$f":"INDEX(Weekly!K:K,MATCH($F49,Weekly!$E:$E,0))","v":0},{"$f":"INDEX(Weekly!M:M,MATCH($F49,Weekly!$E:$E,0))","v":0},{"$f":"O49+K49","v":{"$error":"#REF!"}}]
["Division D","D1","↑",1,"D","Paul Barnes",{"$f":"INDEX(Weekly!F:F,MATCH($F50,Weekly!$E:$E,0))","v":86.010881410256417},{"$f":"INDEX(Weekly!G:G,MATCH($F50,Weekly!$E:$E,0))","v":22},{"$f":"INDEX(Weekly!H:H,MATCH($F50,Weekly!$E:$E,0))","v":-7},{"$f":"INDEX(Weekly!I:I,MATCH($F50,Weekly!$E:$E,0))","v":0},{"$f":"INDEX(Players!F:F,MATCH($F50,Players!#REF!,0))","v":{"$error":"#REF!"}},{"$f":"INDEX(Prizes!F:F,MATCH($B50,Prizes!A:A,0))","v":24.15},{"$f":"INDEX(Weekly!J:J,MATCH($F50,Weekly!$E:$E,0))","v":20},{"$f":"INDEX(Weekly!K:K,MATCH($F50,Weekly!$E:$E,0))","v":0},{"$f":"INDEX(Weekly!M:M,MATCH($F50,Weekly!$E:$E,0))","v":44.15},{"$f":"O50+K50","v":{"$error":"#REF!"}}]
[null,"D2","↑",2,"D","Howard Bradley",{"$f":"INDEX(Weekly!F:F,MATCH($F51,Weekly!$E:$E,0))","v":48.005633116883118},{"$f":"INDEX(Weekly!G:G,MATCH($F51,Weekly!$E:$E,0))","v":22},{"$f":"INDEX(Weekly!H:H,MATCH($F51,Weekly!$E:$E,0))","v":0.58181818181818201},{"$f":"INDEX(Weekly!I:I,MATCH($F51,Weekly!$E:$E,0))","v":2},{"$f":"INDEX(Players!F:F,MATCH($F51,Players!#REF!,0))","v":{"$error":"#REF!"}},{"$f":"INDEX(Prizes!F:F,MATCH($B51,Prizes!A:A,0))","v":17.25},{"$f":"INDEX(Weekly!J:J,MATCH($F51,Weekly!$E:$E,0))","v":10},{"$f":"INDEX(Weekly!K:K,MATCH($F51,Weekly!$E:$E,0))","v":0},{"$f":"INDEX(Weekly!M:M,MATCH($F51,Weekly!$E:$E,0))","v":27.25},{"$f":"O51+K51","v":{"$error":"#REF!"}}]
[null,"D3","↑",3,"D","John Ronan",{"$f":"INDEX(Weekly!F:F,MATCH($F52,Weekly!$E:$E,0))","v":44.840749999999993},{"$f":"INDEX(Weekly!G:G,MATCH($F52,Weekly!$E:$E,0))","v":23},{"$f":"INDEX(Weekly!H:H,MATCH($F52,Weekly!$E:$E,0))","v":0},{"$f":"INDEX(Weekly!I:I,MATCH($F52,Weekly!$E:$E,0))","v":2},{"$f":"INDEX(Players!F:F,MATCH($F52,Players!#REF!,0))","v":{"$error":"#REF!"}},{"$f":"INDEX(Prizes!F:F,MATCH($B52,Prizes!A:A,0))","v":12.42},{"$f":"INDEX(Weekly!J:J,MATCH($F52,Weekly!$E:$E,0))","v":20},{"$f":"INDEX(Weekly!K:K,MATCH($F52,Weekly!$E:$E,0))","v":0},{"$f":"INDEX(Weekly!M:M,MATCH($F52,Weekly!$E:$E,0))","v":32.42},{"$f":"O52+K52","v":{"$error":"#REF!"}}]
[null,"D4","↑",4,"D","Dave Orrell",{"$f":"INDEX(Weekly!F:F,MATCH($F53,Weekly!$E:$E,0))","v":3.7577530248033852},{"$f":"INDEX(Weekly!G:G,MATCH($F53,Weekly!$E:$E,0))","v":23},{"$f":"INDEX(Weekly!H:H,MATCH($F53,Weekly!$E:$E,0))","v":27.776499999999999},{"$f":"INDEX(Weekly!I:I,MATCH($F53,Weekly!$E:$E,0))","v":3},{"$f":"INDEX(Players!F:F,MATCH($F53,Players!#REF!,0))","v":{"$error":"#REF!"}},{"$f":"INDEX(Prizes!F:F,MATCH($B53,Prizes!A:A,0))","v":8.2799999999999994},{"$f":"INDEX(Weekly!J:J,MATCH($F53,Weekly!$E:$E,0))","v":10},{"$f":"INDEX(Weekly!K:K,MATCH($F53,Weekly!$E:$E,0))","v":0},{"$f":"INDEX(Weekly!M:M,MATCH($F53,Weekly!$E:$E,0))","v":18.28},{"$f":"O53+K53","v":{"$error":"#REF!"}}]
[null,"D5","↑",5,"D","Joel Bent",{"$f":"INDEX(Weekly!F:F,MATCH($F54,Weekly!$E:$E,0))","v":-16.478571428571424},{"$f":"INDEX(Weekly!G:G,MATCH($F54,Weekly!$E:$E,0))","v":11},{"$f":"INDEX(Weekly!H:H,MATCH($F54,Weekly!$E:$E,0))","v":-7},{"$f":"INDEX(Weekly!I:I,MATCH($F54,Weekly!$E:$E,0))","v":0},{"$f":"INDEX(Players!F:F,MATCH($F54,Players!#REF!,0))","v":{"$error":"#REF!"}},{"$f":"INDEX(Prizes!F:F,MATCH($B54,Prizes!A:A,0))","v":4.83},{"$f":"INDEX(Weekly!J:J,MATCH($F54,Weekly!$E:$E,0))","v":15},{"$f":"INDEX(Weekly!K:K,MATCH($F54,Weekly!$E:$E,0))","v":0},{"$f":"INDEX(Weekly!M:M,MATCH($F54,Weekly!$E:$E,0))","v":19.829999999999998},{"$f":"O54+K54","v":{"$error":"#REF!"}}]
[null,"D6","↑",6,"D","Graham Miller",{"$f":"INDEX(Weekly!F:F,MATCH($F55,Weekly!$E:$E,0))","v":-24.313397435897436},{"$f":"INDEX(Weekly!G:G,MATCH($F55,Weekly!$E:$E,0))","v":20},{"$f":"INDEX(Weekly!H:H,MATCH($F55,Weekly!$E:$E,0))","v":18.590909090909093},{"$f":"INDEX(Weekly!I:I,MATCH($F55,Weekly!$E:$E,0))","v":3},{"$f":"INDEX(Players!F:F,MATCH($F55,Players!#REF!,0))","v":{"$error":"#REF!"}},{"$f":"INDEX(Prizes!F:F,MATCH($B55,Prizes!A:A,0))","v":2.0699999999999998},{"$f":"INDEX(Weekly!J:J,MATCH($F55,Weekly!$E:$E,0))","v":5},{"$f":"INDEX(Weekly!K:K,MATCH($F55,Weekly!$E:$E,0))","v":0},{"$f":"INDEX(Weekly!M:M,MATCH($F55,Weekly!$E:$E,0))","v":7.07},{"$f":"O55+K55","v":{"$error":"#REF!"}}]
[null,"D7","Play-off",7,"D","Nick Blocksidge",{"$f":"INDEX(Weekly!F:F,MATCH($F56,Weekly!$E:$E,0))","v":-26.964920079920081},{"$f":"INDEX(Weekly!G:G,MATCH($F56,Weekly!$E:$E,0))","v":22},{"$f":"INDEX(Weekly!H:H,MATCH($F56,Weekly!$E:$E,0))","v":-5},{"$f":"INDEX(Weekly!I:I,MATCH($F56,Weekly!$E:$E,0))","v":1},{"$f":"INDEX(Players!F:F,MATCH($F56,Players!#REF!,0))","v":{"$error":"#REF!"}},{"$f":"INDEX(Prizes!F:F,MATCH($B56,Prizes!A:A,0))","v":0},{"$f":"INDEX(Weekly!J:J,MATCH($F56,Weekly!$E:$E,0))","v":0},{"$f":"INDEX(Weekly!K:K,MATCH($F56,Weekly!$E:$E,0))","v":0},{"$f":"INDEX(Weekly!M:M,MATCH($F56,Weekly!$E:$E,0))","v":0},{"$f":"O56+K56","v":{"$error":"#REF!"}}]
[null,"D8","Play-off",8,"D","Martin Tarbuck",{"$f":"INDEX(Weekly!F:F,MATCH($F57,Weekly!$E:$E,0))","v":-27.779090909090904},{"$f":"INDEX(Weekly!G:G,MATCH($F57,Weekly!$E:$E,0))","v":24},{"$f":"INDEX(Weekly!H:H,MATCH($F57,Weekly!$E:$E,0))","v":-5.35},{"$f":"INDEX(Weekly!I:I,MATCH($F57,Weekly!$E:$E,0))","v":1},{"$f":"INDEX(Players!F:F,MATCH($F57,Players!#REF!,0))","v":{"$error":"#REF!"}},{"$f":"INDEX(Prizes!F:F,MATCH($B57,Prizes!A:A,0))","v":0},{"$f":"INDEX(Weekly!J:J,MATCH($F57,Weekly!$E:$E,0))","v":0},{"$f":"INDEX(Weekly!K:K,MATCH($F57,Weekly!$E:$E,0))","v":0},{"$f":"INDEX(Weekly!M:M,MATCH($F57,Weekly!$E:$E,0))","v":0},{"$f":"O57+K57","v":{"$error":"#REF!"}}]
[null,"D9",null,9,"D","Ashley Houghton",{"$f":"INDEX(Weekly!F:F,MATCH($F58,Weekly!$E:$E,0))","v":-44.976351981351982},{"$f":"INDEX(Weekly!G:G,MATCH($F58,Weekly!$E:$E,0))","v":21},{"$f":"INDEX(Weekly!H:H,MATCH($F58,Weekly!$E:$E,0))","v":-0.39160839160839167},{"$f":"INDEX(Weekly!I:I,MATCH($F58,Weekly!$E:$E,0))","v":2},{"$f":"INDEX(Players!F:F,MATCH($F58,Players!#REF!,0))","v":{"$error":"#REF!"}},{"$f":"INDEX(Prizes!F:F,MATCH($B58,Prizes!A:A,0))","v":0},{"$f":"INDEX(Weekly!J:J,MATCH($F58,Weekly!$E:$E,0))","v":0},{"$f":"INDEX(Weekly!K:K,MATCH($F58,Weekly!$E:$E,0))","v":0},{"$f":"INDEX(Weekly!M:M,MATCH($F58,Weekly!$E:$E,0))","v":0},{"$f":"O58+K58","v":{"$error":"#REF!"}}]
[null,"D10",null,10,"D","Paul Adderley",{"$f":"INDEX(Weekly!F:F,MATCH($F59,Weekly!$E:$E,0))","v":-50.316375291375287},{"$f":"INDEX(Weekly!G:G,MATCH($F59,Weekly!$E:$E,0))","v":19},{"$f":"INDEX(Weekly!H:H,MATCH($F59,Weekly!$E:$E,0))","v":-4.25},{"$f":"INDEX(Weekly!I:I,MATCH($F59,Weekly!$E:$E,0))","v":1},{"$f":"INDEX(Players!F:F,MATCH($F59,Players!#REF!,0))","v":{"$error":"#REF!"}},{"$f":"INDEX(Prizes!F:F,MATCH($B59,Prizes!A:A,0))","v":0},{"$f":"INDEX(Weekly!J:J,MATCH($F59,Weekly!$E:$E,0))","v":5},{"$f":"INDEX(Weekly!K:K,MATCH($F59,Weekly!$E:$E,0))","v":0},{"$f":"INDEX(Weekly!M:M,MATCH($F59,Weekly!$E:$E,0))","v":5},{"$f":"O59+K59","v":{"$error":"#REF!"}}]
[null,"D11",null,11,"D","Ben Rosser",{"$f":"INDEX(Weekly!F:F,MATCH($F60,Weekly!$E:$E,0))","v":-50.743749999999991},{"$f":"INDEX(Weekly!G:G,MATCH($F60,Weekly!$E:$E,0))","v":15},{"$f":"INDEX(Weekly!H:H,MATCH($F60,Weekly!$E:$E,0))","v":-7},{"$f":"INDEX(Weekly!I:I,MATCH($F60,Weekly!$E:$E,0))","v":0},{"$f":"INDEX(Players!F:F,MATCH($F60,Players!#REF!,0))","v":{"$error":"#REF!"}},{"$f":"INDEX(Prizes!F:F,MATCH($B60,Prizes!A:A,0))","v":0},{"$f":"INDEX(Weekly!J:J,MATCH($F60,Weekly!$E:$E,0))","v":0},{"$f":"INDEX(Weekly!K:K,MATCH($F60,Weekly!$E:$E,0))","v":0},{"$f":"INDEX(Weekly!M:M,MATCH($F60,Weekly!$E:$E,0))","v":0},{"$f":"O60+K60","v":{"$error":"#REF!"}}]
[null,"D12",null,12,"D","Simon Greenhalgh",{"$f":"INDEX(Weekly!F:F,MATCH($F61,Weekly!$E:$E,0))","v":-62.194318181818183},{"$f":"INDEX(Weekly!G:G,MATCH($F61,Weekly!$E:$E,0))","v":16},{"$f":"INDEX(Weekly!H:H,MATCH($F61,Weekly!$E:$E,0))","v":-3},{"$f":"INDEX(Weekly!I:I,MATCH($F61,Weekly!$E:$E,0))","v":1},{"$f":"INDEX(Players!F:F,MATCH($F61,Players!#REF!,0))","v":{"$error":"#REF!"}},{"$f":"INDEX(Prizes!F:F,MATCH($B61,Prizes!A:A,0))","v":0},{"$f":"INDEX(Weekly!J:J,MATCH($F61,Weekly!$E:$E,0))","v":0},{"$f":"INDEX(Weekly!K:K,MATCH($F61,Weekly!$E:$E,0))","v":0},{"$f":"INDEX(Weekly!M:M,MATCH($F61,Weekly!$E:$E,0))","v":0},{"$f":"O61+K61","v":{"$error":"#REF!"}}]
[null,"D13",null,13,"D","Lewis Buckley",{"$f":"INDEX(Weekly!F:F,MATCH($F62,Weekly!$E:$E,0))","v":-105.235},{"$f":"INDEX(Weekly!G:G,MATCH($F62,Weekly!$E:$E,0))","v":3},{"$f":"INDEX(Weekly!H:H,MATCH($F62,Weekly!$E:$E,0))","v":-7},{"$f":"INDEX(Weekly!I:I,MATCH($F62,Weekly!$E:$E,0))","v":0},{"$f":"INDEX(Players!F:F,MATCH($F62,Players!#REF!,0))","v":{"$error":"#REF!"}},{"$f":"INDEX(Prizes!F:F,MATCH($B62,Prizes!A:A,0))","v":0},{"$f":"INDEX(Weekly!J:J,MATCH($F62,Weekly!$E:$E,0))","v":0},{"$f":"INDEX(Weekly!K:K,MATCH($F62,Weekly!$E:$E,0))","v":0},{"$f":"INDEX(Weekly!M:M,MATCH($F62,Weekly!$E:$E,0))","v":0},{"$f":"O62+K62","v":{"$error":"#REF!"}}]
[null,"D14",null,14,"D","Dan Baxter",{"$f":"INDEX(Weekly!F:F,MATCH($F63,Weekly!$E:$E,0))","v":-116},{"$f":"INDEX(Weekly!G:G,MATCH($F63,Weekly!$E:$E,0))","v":1},{"$f":"INDEX(Weekly!H:H,MATCH($F63,Weekly!$E:$E,0))","v":-7},{"$f":"INDEX(Weekly!I:I,MATCH($F63,Weekly!$E:$E,0))","v":0},{"$f":"INDEX(Players!F:F,MATCH($F63,Players!#REF!,0))","v":{"$error":"#REF!"}},{"$f":"INDEX(Prizes!F:F,MATCH($B63,Prizes!A:A,0))","v":0},{"$f":"INDEX(Weekly!J:J,MATCH($F63,Weekly!$E:$E,0))","v":0},{"$f":"INDEX(Weekly!K:K,MATCH($F63,Weekly!$E:$E,0))","v":0},{"$f":"INDEX(Weekly!M:M,MATCH($F63,Weekly!$E:$E,0))","v":0},{"$f":"O63+K63","v":{"$error":"#REF!"}}]
[]
[]
[null,"",null,null,null,null,null,null,null,null,{"$f":"INDEX(Players!F:F,MATCH($F66,Players!#REF!,0))","v":{"$error":"#REF!"}}]
[null,{"$f":"CONCATENATE(E67,D67)","v":""},null,null,null,null,null,null,null,null,{"$f":"INDEX(Players!F:F,MATCH($F67,Players!#REF!,0))","v":{"$error":"#REF!"}}]
[null,{"$f":"CONCATENATE(E68,D68)","v":""},null,null,null,null,null,null,null,null,{"$f":"INDEX(Players!F:F,MATCH($F68,Players!#REF!,0))","v":{"$error":"#REF!"}}]
[null,{"$f":"CONCATENATE(E69,D69)","v":""},null,null,null,null,null,null,null,null,{"$f":"INDEX(Players!F:F,MATCH($F69,Players!#REF!,0))","v":{"$error":"#REF!"}}]
[]
[]
[null,null,null,null,null,null,null,null,null,null,null,{"$f":"SUM(L2:L70)","v":690},{"$f":"SUM(M2:M70)","v":425},{"$f":"SUM(N2:N70)","v":0},{"$f":"SUM(O2:O70)","v":1115},{"$f":"SUM(P2:P70)","v":{"$error":"#REF!"}}]

{"sheet":"Weekly","index":4,"n_rows":65,"n_cols":76,"rows_kept":65,"cut":false,"hidden":false,"merged":[]}
["Rank Seas","Rank Wk","Pos L/W","Div","Player","Season\nScore","Season\nCorrect","Week\nScore","Week\n? of 3","Weekly\nPrizes","Cup\nPrize","League\nPlace Prize","Total\nPrize","W1","W1Q","W1P","W2","W2Q","W2P","W3","W3Q","W3P","W4","W4Q","W4P","W5","W5Q","W5P","W6","W6Q","W6P","W7","W7Q","W7P","W8","W8Q","W8P","W9","W9Q","W9P","W10","W10Q","W10P","W11","W11Q","W11P","W12","W12Q","W12P","W13","W13Q","W13P","W14","W14Q","W14P","W15","W15Q","W15P","W16","W16Q","W16P","W17","W17Q","W17P","W18","W18Q","W18P","W19","W19Q","W19P","W20","W20Q","W20P","Seas","SeasQ","SeasP"]
[{"$f":"_xlfn.RANK.EQ(F2,totalscores,0)","v":15},{"$f":"_xlfn.RANK.EQ(H2,thisweekscore,0)","v":2},28,{"$f":"INDEX(Table!E:E,MATCH(E2,Table!F:F,0))","v":"A"},"Alan Rogers",{"$f":"+N2+Q2+T2+W2+Z2+AC2+AF2+AI2+AL2+AO2+AR2+AU2+AX2+BA2+BD2+BG2+BJ2+BM2+BP2+BS2","v":36.04000000000002},{"$f":"+O2+R2+U2+X2+AA2+AD2+AG2+AJ2+AM2+AP2+AS2+AV2+AY2+BB2+BE2+BH2+BK2+BN2+BQ2+BT2","v":18},47.080000000000005,3,{"$f":"P2+S2+V2+Y2+AB2+AE2+AH2+AK2+AN2+AQ2+AT2+AW2+AZ2+BC2+BF2+BI2+BL2+BO2+BR2+BU2","v":20},null,{"$f":"INDEX(Table!L:L,MATCH(E2,Table!F:F,0))","v":55.89},{"$f":"K2+J2+L2","v":75.89},6.9600000000000009,2,null,-7,0,null,10.48,2,5,-7,0,null,-4.75,1,null,-3.6,1,null,40.720000000000006,3,10,-7,0,null,-4.55,1,null,-3.9,1,null,-7,0,null,-4.4000000000000004,1,null,-4.0999999999999996,1,null,-7,0,null,-4.5999999999999996,1,null,-4.3,1,null,47.080000000000005,3,5,null,null,null,null,null,null,null,null,null,{"$f":"BS2+BP2+BM2+BJ2+BG2+BD2+BA2+AX2+AU2+AR2+AO2+AL2+AI2+AF2+AC2+Z2+W2+T2+Q2+N2","v":36.040000000000013},{"$f":"BT2+BQ2+BN2+BK2+BH2+BE2+BB2+AY2+AV2+AS2+AP2+AM2+AJ2+AG2+AD2+AA2+X2+U2+R2+O2","v":18},{"$f":"BU2+BR2+BO2+BL2+BI2+BF2+BC2+AZ2+AW2+AT2+AQ2+AN2+AK2+AH2+AE2+AB2+Y2+V2+S2+P2","v":20}]
[36,20,37,{"$f":"INDEX(Table!E:E,MATCH(E3,Table!F:F,0))","v":"C"},"Alan White",-26.993590909090912,19,0.18181818181818166,2,{"$f":"P3+S3+V3+Y3+AB3+AE3+AH3+AK3+AN3+AQ3+AT3+AW3+AZ3+BC3+BF3+BI3+BL3+BO3+BR3+BU3","v":5},null,{"$f":"INDEX(Table!L:L,MATCH(E3,Table!F:F,0))","v":0},{"$f":"K3+J3+L3","v":5},-4.95,1,null,-1.625,2,null,-7,0,null,7.0500000000000007,2,null,-4.0999999999999996,1,null,-5.0909090909090908,1,null,-4.95,1,null,-7,0,null,-4.625,1,null,29.705500000000001,3,5,0.35999999999999943,2,null,-7,0,null,-2.8,1,null,-3.4,1,null,-4.75,1,null,-7,0,null,0.18181818181818166,2,null,null,null,null,null,null,null,null,null,null,-26.993590909090905,19,5]
[16,1,38,{"$f":"INDEX(Table!E:E,MATCH(E4,Table!F:F,0))","v":"A"},"Alfie Davies",22.661250000000003,21,50.275000000000006,3,15,null,{"$f":"INDEX(Table!L:L,MATCH(E4,Table!F:F,0))","v":37.26},52.26,-3.75,1,null,-7,0,null,-7,0,null,-4.45,1,null,-5.5,1,null,-5.65,1,null,-7,0,null,3.78125,2,null,3.75,2,null,0.54999999999999982,2,null,-7,0,null,2.3199999999999985,2,null,-5.5,1,null,13.600000000000001,2,5,4.9849999999999994,2,null,-3.75,1,null,50.275000000000006,3,10,null,null,null,null,null,null,null,null,null,22.66125000000001,21,15]
[20,46,17,{"$f":"INDEX(Table!E:E,MATCH(E5,Table!F:F,0))","v":"A"},"Alick Rocca",8.9732954545454593,20,-7,0,10,null,{"$f":"INDEX(Table!L:L,MATCH(E5,Table!F:F,0))","v":9.3149999999999995},19.314999999999998,-7,0,null,10.806250000000002,3,null,3.9000000000000004,2,null,2.3199999999999985,2,null,24.454545454545457,3,5,-3.6,1,null,-7,0,null,10.0625,2,null,-7,0,null,-3,1,null,0.60000000000000009,1,null,9.6300000000000026,2,5,-3.8,1,null,-3.8,1,null,-7,0,null,-3.6,1,null,-7,0,null,null,null,null,null,null,null,null,null,null,8.9732954545454575,20,10]
[1,25,1,{"$f":"INDEX(Table!E:E,MATCH(E6,Table!F:F,0))","v":"C"},"Andy Charleston",871.83333333333348,19,-2.6666666666666661,1,15,null,{"$f":"INDEX(Table!L:L,MATCH(E6,Table!F:F,0))","v":36.225000000000001},51.225000000000001,1.4499999999999993,2,null,-4.55,1,null,-5.6,1,null,-5,1,null,-7,0,null,10.450000000000003,2,5,-7,0,null,-0.95,1,null,23.2,2,null,-7,0,null,888,3,10,-1.4,1,null,-3.8,1,null,-3.4,1,null,1.5,1,null,-4.4000000000000004,1,null,-2.6666666666666661,1,null,null,null,null,null,null,null,null,null,null,871.83333333333348,19,15]
[21,12,20,{"$f":"INDEX(Table!E:E,MATCH(E7,Table!F:F,0))","v":"B"},"Andy White",8.2256508264462873,25,1.75,2,10,null,{"$f":"INDEX(Table!L:L,MATCH(E7,Table!F:F,0))","v":6.21},16.21,3.8187499999999979,2,null,-4.55,1,null,-5.2,1,null,-4.3,1,null,17.875000000000004,3,5,0.46280991735537214,2,null,-7,0,null,-7,0,null,-5.0909090909090908,1,null,6.1750000000000007,2,null,-1.9999999999999574E-2,2,null,2.5450000000000017,2,null,-5.15,1,null,-4.95,1,null,23.860000000000003,3,5,-5,1,null,1.75,2,null,null,null,null,null,null,null,null,null,null,8.2256508264462909,25,10]
[49,23,48,{"$f":"INDEX(Table!E:E,MATCH(E8,Table!F:F,0))","v":"D"},"Ashley Houghton",-44.976351981351982,21,-0.39160839160839167,2,0,null,{"$f":"INDEX(Table!L:L,MATCH(E8,Table!F:F,0))","v":0},0,0.28000000000000114,2,null,-0.625,2,null,1.8999999999999986,2,null,-7,0,null,-0.79999999999999982,1,null,-7,0,null,1.6000000000000014,2,null,-7,0,null,-4.4000000000000004,1,null,-5.4666666666666668,1,null,-5.15,1,null,-4.625,1,null,-5.25,1,null,-2.3076923076922995E-2,2,null,-4.4000000000000004,1,null,3.375,2,null,-0.39160839160839167,2,null,null,null,null,null,null,null,null,null,null,-44.976351981351975,21,0]
[2,46,2,{"$f":"INDEX(Table!E:E,MATCH(E9,Table!F:F,0))","v":"B"},"Barry Birchall",488.92794705294693,24,-7,0,10,null,{"$f":"INDEX(Table!L:L,MATCH(E9,Table!F:F,0))","v":72.45},82.45,-7,0,null,-1.4428571428571431,2,null,-5.3,1,null,-4.75,1,null,4.0250000000000004,2,null,40.872727272727275,3,5,-5.0000000000000711E-2,2,null,-7,0,null,-4.7,1,null,2.7230769230769241,2,null,473.59999999999991,3,5,-5.4,1,null,10.059999999999999,2,null,-3.3,1,null,7.1899999999999995,2,null,-3.6,1,null,-7,0,null,null,null,null,null,null,null,null,null,null,488.92794705294693,24,10]
[51,46,47,{"$f":"INDEX(Table!E:E,MATCH(E10,Table!F:F,0))","v":"D"},"Ben Rosser",-50.743749999999991,15,-7,0,0,null,{"$f":"INDEX(Table!L:L,MATCH(E10,Table!F:F,0))","v":0},0,-4.95,1,null,-7,0,null,-4.95,1,null,3,1,null,-4.8,1,null,8.03125,2,null,-3.8,1,null,-4.375,1,null,-4.2,1,null,-3.8,1,null,-3.4,1,null,-4.3,1,null,-7,0,null,-3.4,1,null,8.2000000000000011,2,null,-7,0,null,-7,0,null,null,null,null,null,null,null,null,null,null,-50.743749999999999,15,0]
[8,46,8,{"$f":"INDEX(Table!E:E,MATCH(E11,Table!F:F,0))","v":"C"},"Charlie Griffiths",63.657605769230756,22,-7,0,10,null,{"$f":"INDEX(Table!L:L,MATCH(E11,Table!F:F,0))","v":12.42},22.42,-3.6,1,null,10.919999999999998,2,null,-3.8,1,null,2.8274999999999988,2,null,3.8949999999999996,2,null,-7,0,null,-5.15,1,null,45.071875000000006,3,5,-7,0,null,10.45,2,null,42.274000000000001,3,5,-3.9,1,null,-7,0,null,1.6192307692307679,2,null,-4.4000000000000004,1,null,-4.55,1,null,-7,0,null,null,null,null,null,null,null,null,null,null,63.657605769230777,22,10]
[3,25,3,{"$f":"INDEX(Table!E:E,MATCH(E12,Table!F:F,0))","v":"C"},"Chris Bow",225.32410984848482,26,-2.6666666666666661,1,30,null,{"$f":"INDEX(Table!L:L,MATCH(E12,Table!F:F,0))","v":25.875},55.875,43.03,3,10,150.1,3,5,-7,0,null,-4.55,1,null,-4.5999999999999996,1,null,3.9272727272727295,2,null,-5.25,1,null,28.521875000000001,3,5,-4.9000000000000004,1,null,-7,0,null,1.6969696969696955,2,null,2.2937499999999993,2,null,-4.8499999999999996,1,null,41.68,3,10,1.8909090909090907,2,null,-7,0,null,-2.6666666666666661,1,null,null,null,null,null,null,null,null,null,null,225.32410984848485,26,30]
[23,12,21,{"$f":"INDEX(Table!E:E,MATCH(E13,Table!F:F,0))","v":"C"},"Chris Griffin",5.8090340909090923,29,1.75,2,5,null,{"$f":"INDEX(Table!L:L,MATCH(E13,Table!F:F,0))","v":0},5,-5,1,null,-0.28461538461538538,2,null,1.6600000000000001,2,null,-0.6800000000000006,2,null,2.92,2,null,-3.9,1,null,-4.375,1,null,-2.8250000000000002,2,null,19.490909090909092,3,null,-5.2,1,null,-1.92,2,null,-5.4,1,null,16.688124999999999,3,5,2.9846153846153847,2,null,-5.5,1,null,-4.5999999999999996,1,null,1.75,2,null,null,null,null,null,null,null,null,null,null,5.8090340909090905,29,5]
[25,37,22,{"$f":"INDEX(Table!E:E,MATCH(E14,Table!F:F,0))","v":"A"},"Chris Luck",-1.2805288461538442,22,-4.75,1,10,null,{"$f":"INDEX(Table!L:L,MATCH(E14,Table!F:F,0))","v":0},10,-7,0,null,5.1750000000000007,2,null,28.028125000000003,3,10,-7,0,null,5.4550000000000001,2,null,-4.625,1,null,-7,0,null,-4.75,1,null,3.879999999999999,2,null,-3.9,1,null,1.9224999999999994,2,null,-4.625,1,null,3.6549999999999994,2,null,-4.8461538461538467,1,null,3.6999999999999993,2,null,-4.5999999999999996,1,null,-4.75,1,null,null,null,null,null,null,null,null,null,null,-1.280528846153846,22,10]
[28,30,25,{"$f":"INDEX(Table!E:E,MATCH(E15,Table!F:F,0))","v":"C"},"Chris Townsend",-9.816388888888893,18,-3.9,1,5,null,{"$f":"INDEX(Table!L:L,MATCH(E15,Table!F:F,0))","v":0},5,11.375,2,null,4,1,null,-3.7,1,null,10.8,2,null,-7,0,null,-4.8,1,null,-7,0,null,-7,0,null,2.0699999999999985,2,null,-7,0,null,-4.7,1,null,-7,0,null,7.8874999999999993,2,null,-3.3,1,null,-0.78888888888888964,2,null,10.239999999999998,2,5,-3.9,1,null,null,null,null,null,null,null,null,null,null,-9.8163888888888877,18,5]
[61,46,61,{"$f":"INDEX(Table!E:E,MATCH(E16,Table!F:F,0))","v":"D"},"Dan Baxter",-116,1,-7,0,0,null,{"$f":"INDEX(Table!L:L,MATCH(E16,Table!F:F,0))","v":0},0,-7,0,null,-7,0,null,-7,0,null,-7,0,null,-7,0,null,-7,0,null,-7,0,null,-4,1,null,-7,0,null,-7,0,null,-7,0,null,-7,0,null,-7,0,null,-7,0,null,-7,0,null,-7,0,null,-7,0,null,null,null,null,null,null,null,null,null,null,-116,1,0]
[58,17,59,{"$f":"INDEX(Table!E:E,MATCH(E17,Table!F:F,0))","v":"B"},"Dave Bell",-65.466666666666669,8,1.3333333333333339,1,0,null,{"$f":"INDEX(Table!L:L,MATCH(E17,Table!F:F,0))","v":0},0,-7,0,null,4,1,null,3,1,null,-5.2,1,null,3,1,null,-7,0,null,-7,0,null,-7,0,null,-7,0,null,-7,0,null,-3.8,1,null,-7,0,null,-5.5,1,null,-3.3,1,null,-7,0,null,-3,0,null,1.3333333333333339,1,null,null,null,null,null,null,null,null,null,null,-65.466666666666669,8,0]
[24,4,35,{"$f":"INDEX(Table!E:E,MATCH(E18,Table!F:F,0))","v":"D"},"Dave Orrell",3.7577530248033852,23,27.776499999999999,3,10,null,{"$f":"INDEX(Table!L:L,MATCH(E18,Table!F:F,0))","v":8.2799999999999994},18.28,-4.9000000000000004,1,null,28.506249999999994,3,5,-5,1,null,-5.1666666666666661,1,null,-0.75,1,null,-7,0,null,0.25,2,null,-4.4000000000000004,1,null,-4.9000000000000004,1,null,-4.6551724137931032,1,null,-5.15,1,null,-5.4,1,null,1.6099999999999994,2,null,2.7368421052631575,2,null,-4.9000000000000004,1,null,-4.9000000000000004,1,null,27.776499999999999,3,5,null,null,null,null,null,null,null,null,null,3.7577530248033835,23,10]
[41,15,42,{"$f":"INDEX(Table!E:E,MATCH(E19,Table!F:F,0))","v":"C"},"David Dunn",-30.395070207570203,22,1.4499999999999993,2,5,null,{"$f":"INDEX(Table!L:L,MATCH(E19,Table!F:F,0))","v":0},5,-0.15714285714285836,2,null,-1.4615384615384617,2,null,-4.5,1,null,-4.3,1,null,-5.6,1,null,2.1775000000000002,2,null,-5.35,1,null,-7,0,null,1.2750000000000004,2,null,-5.6,1,null,-7,0,null,1.3599999999999994,2,null,-5.05,1,null,13.150000000000002,2,5,-3,0,null,-0.78888888888888964,2,null,1.4499999999999993,2,null,null,null,null,null,null,null,null,null,null,-30.395070207570207,22,5]
[62,46,62,{"$f":"INDEX(Table!E:E,MATCH(E20,Table!F:F,0))","v":"C"},"Gareth Fallows",-119,0,-7,0,0,null,{"$f":"INDEX(Table!L:L,MATCH(E20,Table!F:F,0))","v":0},0,-7,0,null,-7,0,null,-7,0,null,-7,0,null,-7,0,null,-7,0,null,-7,0,null,-7,0,null,-7,0,null,-7,0,null,-7,0,null,-7,0,null,-7,0,null,-7,0,null,-7,0,null,-7,0,null,-7,0,null,null,null,null,null,null,null,null,null,null,-119,0,0]
[37,10,41,{"$f":"INDEX(Table!E:E,MATCH(E21,Table!F:F,0))","v":"C"},"Gareth McGuire",-27.683581504702193,23,2.9800000000000004,2,5,null,{"$f":"INDEX(Table!L:L,MATCH(E21,Table!F:F,0))","v":0},5,-4.8499999999999996,1,null,-5.05,1,null,-0.34999999999999964,2,null,1.4550000000000001,2,null,-7,0,null,-5.0909090909090908,1,null,15.484999999999999,3,5,-4.75,1,null,1.4400000000000013,2,null,-7,0,null,-4.6551724137931032,1,null,-5.4,1,null,1.9000000000000004,2,null,1.3024999999999984,2,null,-3.2,1,null,-4.9000000000000004,1,null,2.9800000000000004,2,null,null,null,null,null,null,null,null,null,null,-27.683581504702197,23,5]
[57,35,57,{"$f":"INDEX(Table!E:E,MATCH(E22,Table!F:F,0))","v":"B"},"Gareth Powell",-64.975769230769231,14,-4.3,1,0,null,{"$f":"INDEX(Table!L:L,MATCH(E22,Table!F:F,0))","v":0},0,-4.8499999999999996,1,null,0.3692307692307697,2,null,-4.95,1,null,-7,0,null,-7,0,null,-7,0,null,-3.75,1,null,-3.75,1,null,-7,0,null,-3.4,1,null,-7,0,null,-4.95,1,null,-4.7,1,null,6.0300000000000011,2,null,5.2750000000000004,2,null,-7,0,null,-4.3,1,null,null,null,null,null,null,null,null,null,null,-64.975769230769231,14,0]
[4,3,6,{"$f":"INDEX(Table!E:E,MATCH(E23,Table!F:F,0))","v":"A"},"Gerard Ventom",162.68749999999997,18,46.6,3,10,null,{"$f":"INDEX(Table!L:L,MATCH(E23,Table!F:F,0))","v":108.675},118.675,7.5,2,null,164.8,3,5,-4.25,1,null,-7,0,null,-3,1,null,-7,0,null,-4.5999999999999996,1,null,-7,0,null,3.1374999999999993,2,null,-3.8,1,null,-7,0,null,-7,0,null,5.9499999999999993,2,null,-3.25,1,null,-4.4000000000000004,1,null,-7,0,null,46.6,3,5,null,null,null,null,null,null,null,null,null,162.68750000000003,18,10]
[34,5,46,{"$f":"INDEX(Table!E:E,MATCH(E24,Table!F:F,0))","v":"D"},"Graham Miller",-24.313397435897436,20,18.590909090909093,3,5,null,{"$f":"INDEX(Table!L:L,MATCH(E24,Table!F:F,0))","v":2.0699999999999998},7.07,1.6074999999999982,2,null,-5.05,1,null,-5.2,1,null,4.7650000000000006,2,null,-7,0,null,-3.9,1,null,-2.6666666666666661,1,null,-7,0,null,-7,0,null,-7,0,null,-1.069230769230769,2,null,-0.53333333333333321,2,null,-4.4000000000000004,1,null,-7,0,null,-5.0909090909090908,1,null,13.633333333333333,3,5,18.590909090909093,3,null,null,null,null,null,null,null,null,null,null,-24.313397435897432,20,5]
[10,19,11,{"$f":"INDEX(Table!E:E,MATCH(E25,Table!F:F,0))","v":"D"},"Howard Bradley",48.005633116883118,22,0.58181818181818201,2,10,null,{"$f":"INDEX(Table!L:L,MATCH(E25,Table!F:F,0))","v":17.25},27.25,-7,0,null,-5.4285714285714288,1,null,-4.3,1,null,-1.5200000000000005,2,null,7.75,2,null,-3.9,1,null,8.9049999999999994,2,null,2.2937499999999993,2,null,80.5,3,10,1.163636363636364,2,null,-1.6400000000000006,2,null,-7,0,null,-4.8,1,null,-7,0,null,-3.6,1,null,-7,0,null,0.58181818181818201,2,null,null,null,null,null,null,null,null,null,null,48.005633116883118,22,10]
[59,46,58,{"$f":"INDEX(Table!E:E,MATCH(E26,Table!F:F,0))","v":"C"},"Ian Davies",-68.06,10,-7,0,0,null,{"$f":"INDEX(Table!L:L,MATCH(E26,Table!F:F,0))","v":0},0,-7,0,null,-4.125,1,null,-7,0,null,-7,0,null,9.16,2,null,-4.0999999999999996,1,null,-7,0,null,-7,0,null,-7,0,null,-3.7,1,null,8.9049999999999994,2,null,-3.7,1,null,-3.9,1,null,-7,0,null,-3.6,1,null,-7,0,null,-7,0,null,null,null,null,null,null,null,null,null,null,-68.06,10,0]
[43,43,39,{"$f":"INDEX(Table!E:E,MATCH(E27,Table!F:F,0))","v":"C"},"Jack Walsh",-35.786947940947947,18,-5.35,1,0,null,{"$f":"INDEX(Table!L:L,MATCH(E27,Table!F:F,0))","v":0},0,-7,0,null,0.6307692307692303,2,null,2.3599999999999994,2,null,-7,0,null,-5.2727272727272725,1,null,-7,0,null,-5.3333333333333339,1,null,-3.1,1,null,0.1454545454545455,2,null,18.312888888888885,3,null,3.9700000000000024,2,null,-3,0,null,-7,0,null,-7,0,null,0.84999999999999964,2,null,-5,1,null,-5.35,1,null,null,null,null,null,null,null,null,null,null,-35.786947940947947,18,0]
[33,46,31,{"$f":"INDEX(Table!E:E,MATCH(E28,Table!F:F,0))","v":"B"},"James Bell",-23.803333333333342,12,-7,0,10,null,{"$f":"INDEX(Table!L:L,MATCH(E28,Table!F:F,0))","v":0},10,-7,0,null,-7,0,null,6.85,2,5,10.479999999999997,2,null,-7,0,null,-3.2,1,null,-7,0,null,-2.4000000000000004,1,null,-7,0,null,27.466666666666661,2,5,0,1,null,0,1,null,-3.8,1,null,-7,0,null,-3.2,1,null,-7,0,null,-7,0,null,null,null,null,null,null,null,null,null,null,-23.803333333333342,12,10]
[31,46,26,{"$f":"INDEX(Table!E:E,MATCH(E29,Table!F:F,0))","v":"D"},"Joel Bent",-16.478571428571424,11,-7,0,15,null,{"$f":"INDEX(Table!L:L,MATCH(E29,Table!F:F,0))","v":4.83},19.829999999999998,-5.4285714285714288,1,null,-5.35,1,null,-2.25,1,null,16.05,2,5,-4.45,1,null,-3.5,1,null,-7,0,null,-7,0,null,-7,0,null,38.200000000000003,2,10,-7,0,null,-7,0,null,-7,0,null,10,1,null,-7,0,null,-3.75,1,null,-7,0,null,null,null,null,null,null,null,null,null,null,-16.478571428571424,11,15]
[54,28,53,{"$f":"INDEX(Table!E:E,MATCH(E30,Table!F:F,0))","v":"B"},"John Evans",-53.54,14,-3.8,1,0,null,{"$f":"INDEX(Table!L:L,MATCH(E30,Table!F:F,0))","v":0},0,-3.75,1,null,-4.375,1,null,-2.4000000000000004,1,null,-4.95,1,null,3.3599999999999994,2,null,-7,0,null,-7,0,null,-7,0,null,7.75,2,null,-3.9,1,null,-4.7,1,null,-7,0,null,-7,0,null,10.125,2,null,-7,0,null,-4.9000000000000004,1,null,-3.8,1,null,null,null,null,null,null,null,null,null,null,-53.54,14,0]
[12,22,13,{"$f":"INDEX(Table!E:E,MATCH(E31,Table!F:F,0))","v":"D"},"John Ronan",44.840749999999993,23,0,2,20,null,{"$f":"INDEX(Table!L:L,MATCH(E31,Table!F:F,0))","v":12.42},32.42,-4.8499999999999996,1,null,-4.8499999999999996,1,null,3.375,2,null,23.11,3,10,-1.625,2,null,-3,0,null,-3,0,null,-3,0,null,33.58,3,5,6,2,null,21.625749999999996,3,5,-4.625,1,null,-5.25,1,null,-7,0,null,-0.75,1,null,-4.9000000000000004,1,null,0,2,null,null,null,null,null,null,null,null,null,null,44.840749999999993,23,20]
[14,9,14,{"$f":"INDEX(Table!E:E,MATCH(E32,Table!F:F,0))","v":"B"},"Kei Lok Ma",37.019999999999996,19,4.1875,2,20,null,{"$f":"INDEX(Table!L:L,MATCH(E32,Table!F:F,0))","v":24.84},44.84,1.6074999999999982,2,null,-7,0,null,-7,0,null,4.7650000000000006,2,null,5.4550000000000001,2,null,-7,0,null,14.400000000000002,2,5,36.224999999999994,3,5,-4.2,1,null,-7,0,null,-4.7,1,null,-7,0,null,-7,0,null,-7,0,null,31.78,3,10,-3.5,1,null,4.1875,2,null,null,null,null,null,null,null,null,null,null,37.019999999999996,19,20]
[48,20,49,{"$f":"INDEX(Table!E:E,MATCH(E33,Table!F:F,0))","v":"A"},"Kevin Carter",-44.91508806008806,22,0.18181818181818166,2,0,null,{"$f":"INDEX(Table!L:L,MATCH(E33,Table!F:F,0))","v":0},0,-7,0,null,8.6730769230769234,3,null,-0.6800000000000006,2,null,-1.17,1,null,-1.454545454545455,2,null,-4.75,1,null,-4.95,1,null,-4.95,1,null,3.1374999999999993,2,null,-5.8666666666666671,1,null,-1.8074074074074078,2,null,-5.6363636363636367,1,null,0.40749999999999975,2,null,-7,0,null,-7,0,null,-5.05,1,null,0.18181818181818166,2,null,null,null,null,null,null,null,null,null,null,-44.915088060088067,22,0]
[{"$f":"_xlfn.RANK.EQ(F34,totalscores,0)","v":44},24,43,{"$f":"INDEX(Table!E:E,MATCH(E34,Table!F:F,0))","v":"A"},"Lennie Bow",{"$f":"+N34+Q34+T34+W34+Z34+AC34+AF34+AI34+AL34+AO34+AR34+AU34+AX34+BA34+BD34+BG34+BJ34+BM34+BP34+BS34","v":-36.608435314685316},{"$f":"+O34+R34+U34+X34+AA34+AD34+AG34+AJ34+AM34+AP34+AS34+AV34+AY34+BB34+BE34+BH34+BK34+BN34+BQ34+BT34","v":23},-1.069230769230769,2,5,null,{"$f":"INDEX(Table!L:L,MATCH(E34,Table!F:F,0))","v":0},5,-5.05,1,null,1.8812499999999996,2,null,-4.7,1,null,-1.6,1,null,1.0999999999999996,2,null,-5.75,1,null,-7,0,null,-7.0000000000000284E-2,2,null,1.3150000000000013,2,null,-5.35,1,null,-5.4666666666666668,1,null,-5.6363636363636367,1,null,-5.25,1,null,-7,0,null,12.770909090909093,3,5,0.26666666666666661,2,null,-1.069230769230769,2,null,null,null,null,null,null,null,null,null,null,{"$f":"BS34+BP34+BM34+BJ34+BG34+BD34+BA34+AX34+AU34+AR34+AO34+AL34+AI34+AF34+AC34+Z34+W34+T34+Q34+N34","v":-36.608435314685309},{"$f":"BT34+BQ34+BN34+BK34+BH34+BE34+BB34+AY34+AV34+AS34+AP34+AM34+AJ34+AG34+AD34+AA34+X34+U34+R34+O34","v":23},{"$f":"BU34+BR34+BO34+BL34+BI34+BF34+BC34+AZ34+AW34+AT34+AQ34+AN34+AK34+AH34+AE34+AB34+Y34+V34+S34+P34","v":5}]
[60,46,60,{"$f":"INDEX(Table!E:E,MATCH(E35,Table!F:F,0))","v":"D"},"Lewis Buckley",-105.235,3,-7,0,0,null,{"$f":"INDEX(Table!L:L,MATCH(E35,Table!F:F,0))","v":0},0,5.1149999999999984,2,null,-5.35,1,null,-7,0,null,-7,0,null,-7,0,null,-7,0,null,-7,0,null,-7,0,null,-7,0,null,-7,0,null,-7,0,null,-7,0,null,-7,0,null,-7,0,null,-7,0,null,-7,0,null,-7,0,null,null,null,null,null,null,null,null,null,null,-105.235,3,0]
[52,6,56,{"$f":"INDEX(Table!E:E,MATCH(E36,Table!F:F,0))","v":"C"},"Liam Wah",-51.192272727272737,13,8.25,2,0,null,{"$f":"INDEX(Table!L:L,MATCH(E36,Table!F:F,0))","v":0},0,4.8999999999999986,2,null,-4.8,1,null,-7,0,null,-7,0,null,-7,0,null,7.99,2,null,-7,0,null,-7,0,null,-2.8,1,null,-7,0,null,-5.35,1,null,-7,0,null,-7,0,null,-7,0,null,1.1449999999999996,2,null,2.4727272727272727,2,null,8.25,2,null,null,null,null,null,null,null,null,null,null,-51.192272727272723,13,0]
[19,46,16,{"$f":"INDEX(Table!E:E,MATCH(E37,Table!F:F,0))","v":"C"},"Mal Stott",10.153749999999999,17,-7,0,5,null,{"$f":"INDEX(Table!L:L,MATCH(E37,Table!F:F,0))","v":3.105},8.1050000000000004,2.5525000000000002,2,null,5.9499999999999993,2,null,-7,0,null,-7,0,null,2.4000000000000004,2,null,-3.9,1,null,-7,0,null,3.78125,2,null,-4.9000000000000004,1,null,9.2200000000000024,2,null,-7,0,null,-7,0,null,-7,0,null,-3.4,1,null,9.8500000000000014,2,null,37.599999999999994,2,5,-7,0,null,null,null,null,null,null,null,null,null,null,10.153749999999997,17,5]
[27,35,24,{"$f":"INDEX(Table!E:E,MATCH(E38,Table!F:F,0))","v":"B"},"Mark Bunn",-9.6373209549071603,19,-4.3,1,5,null,{"$f":"INDEX(Table!L:L,MATCH(E38,Table!F:F,0))","v":0},5,-4.8499999999999996,1,null,-4.5999999999999996,1,null,-4.95,1,null,-7,0,null,10.329999999999998,2,null,7.99,2,null,-7,0,null,-4.95,1,null,-4.625,1,null,35.19844827586207,3,5,-7,0,null,-3.9,1,null,-4.8499999999999996,1,null,3.6692307692307704,2,null,-4.5999999999999996,1,null,-4.2,1,null,-4.3,1,null,null,null,null,null,null,null,null,null,null,-9.6373209549071603,19,5]
[17,8,18,{"$f":"INDEX(Table!E:E,MATCH(E39,Table!F:F,0))","v":"A"},"Mark Saunders",13.422500000000008,28,4.6666666666666661,2,10,null,{"$f":"INDEX(Table!L:L,MATCH(E39,Table!F:F,0))","v":21.734999999999999},31.734999999999999,13.045000000000002,3,5,-5.5,1,null,-7,0,null,-5.2,1,null,13.81818181818182,3,null,-3.9,1,null,-4.8,1,null,0.33750000000000036,2,null,1.4499999999999993,2,null,-3.8,1,null,-1.1600000000000001,2,null,-0.84999999999999964,2,null,4.1333333333333329,2,null,-5,1,null,18.181818181818187,3,5,-5,1,null,4.6666666666666661,2,null,null,null,null,null,null,null,null,null,null,13.422500000000003,28,10]
[46,7,52,{"$f":"INDEX(Table!E:E,MATCH(E40,Table!F:F,0))","v":"B"},"Martin Molyneux",-42.375547785547781,19,5.6363636363636367,2,0,null,{"$f":"INDEX(Table!L:L,MATCH(E40,Table!F:F,0))","v":0},0,-4.95,1,null,-1.375,2,null,-5.2,1,null,-7,0,null,5.6363636363636367,2,null,-0.39160839160839167,2,null,-7,0,null,-3.75,1,null,-5.35,1,null,-5.4666666666666668,1,null,5.9649999999999999,2,null,-7,0,null,-2.8,1,null,-4.95,1,null,2.620000000000001,2,null,-7,0,null,5.6363636363636367,2,null,null,null,null,null,null,null,null,null,null,-42.375547785547788,19,0]
[38,43,33,{"$f":"INDEX(Table!E:E,MATCH(E41,Table!F:F,0))","v":"D"},"Martin Tarbuck",-27.779090909090904,24,-5.35,1,0,null,{"$f":"INDEX(Table!L:L,MATCH(E41,Table!F:F,0))","v":0},0,9.9999999999999645E-2,2,null,-4.7,1,null,-7,0,null,-5,1,null,2.6363636363636367,2,null,-1.1636363636363631,2,null,-5.35,1,null,10.274999999999999,2,null,8,2,null,-4.8499999999999996,1,null,-1.92,2,null,-0.84999999999999964,2,null,-7,0,null,0.31818181818181834,2,null,-1.1749999999999998,2,null,-4.75,1,null,-5.35,1,null,null,null,null,null,null,null,null,null,null,-27.779090909090911,24,0]
[9,38,9,{"$f":"INDEX(Table!E:E,MATCH(E42,Table!F:F,0))","v":"A"},"Mike Penk",56.675035919540228,24,-4.8499999999999996,1,15,null,{"$f":"INDEX(Table!L:L,MATCH(E42,Table!F:F,0))","v":77.625},92.625,-7,0,null,-4.3,1,null,2.4833333333333343,2,null,-4.3,1,null,-3,1,null,1.75,2,null,6,2,null,-7,0,null,57.55,3,5,-4.625,1,null,-4.6551724137931032,1,null,30.086874999999999,3,10,1.7650000000000006,2,null,5.32,2,null,-3.5,1,null,-5.05,1,null,-4.8499999999999996,1,null,null,null,null,null,null,null,null,null,null,56.675035919540235,24,15]
[47,45,44,{"$f":"INDEX(Table!E:E,MATCH(E43,Table!F:F,0))","v":"A"},"Mo Sudell",-43.033850149850153,20,-5.384615384615385,1,0,null,{"$f":"INDEX(Table!L:L,MATCH(E43,Table!F:F,0))","v":0},0,-4.95,1,null,-1.4428571428571431,2,null,-5.6,1,null,-4.5,1,null,5.16,2,null,2.7230769230769241,2,null,-7,0,null,-4.95,1,null,-0.14545454545454461,2,null,10.126000000000001,3,null,4.413333333333334,2,null,-7,0,null,-5.15,1,null,-7,0,null,-5.3333333333333339,1,null,-7,0,null,-5.384615384615385,1,null,null,null,null,null,null,null,null,null,null,-43.033850149850153,20,0]
[35,40,32,{"$f":"INDEX(Table!E:E,MATCH(E44,Table!F:F,0))","v":"D"},"Nick Blocksidge",-26.964920079920081,22,-5,1,0,null,{"$f":"INDEX(Table!L:L,MATCH(E44,Table!F:F,0))","v":0},0,-4.8499999999999996,1,null,-1.4428571428571431,2,null,6.8350000000000009,2,null,-2.8,1,null,-7,0,null,4.9375,2,null,4.1899999999999995,2,null,4.9624999999999986,2,null,-7,0,null,-4.7,1,null,-2,1,null,1.9900000000000002,2,null,-5.15,1,null,-0.24615384615384617,2,null,-4.5999999999999996,1,null,-5.0909090909090908,1,null,-5,1,null,null,null,null,null,null,null,null,null,null,-26.964920079920077,22,0]
[13,28,12,{"$f":"INDEX(Table!E:E,MATCH(E45,Table!F:F,0))","v":"B"},"Nigel Heyes",43.156393939393929,30,-3.8,1,5,null,{"$f":"INDEX(Table!L:L,MATCH(E45,Table!F:F,0))","v":37.26},42.26,-4.8499999999999996,1,null,2.0299999999999994,2,null,0.64166666666666661,2,null,1.4550000000000001,2,null,6.08,2,null,7.99,2,null,7.68,2,null,1.9124999999999996,2,null,0.6800000000000006,2,null,1.163636363636364,2,null,2.9999999999999982,2,null,-7,0,null,24.224499999999995,3,5,2.8000000000000007,2,null,-5.0909090909090908,1,null,4.24,2,null,-3.8,1,null,null,null,null,null,null,null,null,null,null,43.156393939393936,30,5]
[39,42,36,{"$f":"INDEX(Table!E:E,MATCH(E46,Table!F:F,0))","v":"A"},"Oscar Jackson",-29.654873737373734,19,-5.0909090909090908,1,5,null,{"$f":"INDEX(Table!L:L,MATCH(E46,Table!F:F,0))","v":0},5,-5.05,1,null,-5.5,1,null,-7,0,null,-5.3,1,null,-4.5999999999999996,1,null,2.1400000000000006,2,null,-0.29999999999999982,2,null,-4.95,1,null,37.885000000000005,3,5,-7,0,null,-8.0000000000000071E-2,2,null,-5.5555555555555554,1,null,-0.16249999999999964,2,null,-7,0,null,-5.0909090909090908,1,null,-7,0,null,-5.0909090909090908,1,null,null,null,null,null,null,null,null,null,null,-29.65487373737373,19,5]
[50,34,50,{"$f":"INDEX(Table!E:E,MATCH(E47,Table!F:F,0))","v":"D"},"Paul Adderley",-50.316375291375287,19,-4.25,1,5,null,{"$f":"INDEX(Table!L:L,MATCH(E47,Table!F:F,0))","v":0},5,-5,1,null,-1.4615384615384617,2,null,-4.95,1,null,-7,0,null,-1.454545454545455,2,null,0.58181818181818201,2,null,-7,0,null,-7,0,null,-7,0,null,-1.069230769230769,2,null,-4.7,1,null,15.429545454545455,3,5,-7,0,null,-3.3,1,null,-0.24242424242424221,2,null,-4.9000000000000004,1,null,-4.25,1,null,null,null,null,null,null,null,null,null,null,-50.316375291375294,19,5]
[45,16,45,{"$f":"INDEX(Table!E:E,MATCH(E48,Table!F:F,0))","v":"B"},"Paul Allen",-40.423553050397885,18,1.4400000000000013,2,5,null,{"$f":"INDEX(Table!L:L,MATCH(E48,Table!F:F,0))","v":0},5,-4.8499999999999996,1,null,-4.55,1,null,23.201499999999996,3,5,-7,0,null,-5.2,1,null,-7,0,null,-5,1,null,-4.375,1,null,-5.05,1,null,-7,0,null,5.7137931034482765,2,null,-5.4,1,null,-4.5,1,null,1.046153846153846,2,null,-4.9000000000000004,1,null,-7,0,null,1.4400000000000013,2,null,null,null,null,null,null,null,null,null,null,-40.423553050397878,18,5]
[7,46,7,{"$f":"INDEX(Table!E:E,MATCH(E49,Table!F:F,0))","v":"D"},"Paul Barnes",86.010881410256417,22,-7,0,20,null,{"$f":"INDEX(Table!L:L,MATCH(E49,Table!F:F,0))","v":24.15},44.15,-7,0,null,8.6730769230769234,3,null,-5.2,1,null,18.32,2,5,99.8125,3,10,14.530625000000001,3,5,-7,0,null,-3.1,1,null,-4.2,1,null,-7,0,null,-5.4666666666666668,1,null,4.3874999999999993,2,null,-5.15,1,null,-4.8461538461538467,1,null,1.3000000000000007,2,null,-5.05,1,null,-7,0,null,null,null,null,null,null,null,null,null,null,86.010881410256388,22,20]
[5,46,4,{"$f":"INDEX(Table!E:E,MATCH(E50,Table!F:F,0))","v":"C"},"Paul Fairhurst",130.96023391812867,15,-7,0,10,null,{"$f":"INDEX(Table!L:L,MATCH(E50,Table!F:F,0))","v":18.63},28.63,-5,1,null,208.72,3,10,-1.2800000000000002,2,null,-5,1,null,-4.8,1,null,-7,0,null,-3.1,1,null,-3.7,1,null,-4.9000000000000004,1,null,-2.5955555555555563,2,null,-7,0,null,-3,0,null,-3.7,1,null,-5.6842105263157894,1,null,-7,0,null,-7,0,null,-7,0,null,null,null,null,null,null,null,null,null,null,130.96023391812867,15,10]
[42,41,40,{"$f":"INDEX(Table!E:E,MATCH(E51,Table!F:F,0))","v":"A"},"Paul Fiddler",-35.569691142191139,23,-5.05,1,5,null,{"$f":"INDEX(Table!L:L,MATCH(E51,Table!F:F,0))","v":0},5,-0.98500000000000032,2,null,1.2925000000000004,2,null,-0.5600000000000005,2,null,-5.1666666666666661,1,null,-4.55,1,null,-5.384615384615385,1,null,17.162500000000001,3,5,-7,0,null,1.1125000000000007,2,null,-4.8499999999999996,1,null,-0.29090909090909101,2,null,-5.4,1,null,-5.15,1,null,1.1499999999999986,2,null,-7,0,null,-4.9000000000000004,1,null,-5.05,1,null,null,null,null,null,null,null,null,null,null,-35.569691142191147,23,5]
[40,46,34,{"$f":"INDEX(Table!E:E,MATCH(E52,Table!F:F,0))","v":"C"},"Paul Ridgeway",-29.867355769230773,18,-7,0,0,null,{"$f":"INDEX(Table!L:L,MATCH(E52,Table!F:F,0))","v":0},0,5.4199999999999982,2,null,-1.069230769230769,2,null,-4,1,null,-7,0,null,0.16000000000000014,2,null,-7,0,null,-7,0,null,10.987500000000001,2,null,14.359375,3,null,-4.625,1,null,-4.7,1,null,-7,0,null,-3.8,1,null,-3.3,1,null,-1,1,null,-3.3,1,null,-7,0,null,null,null,null,null,null,null,null,null,null,-29.867355769230773,18,0]
[6,32,5,{"$f":"INDEX(Table!E:E,MATCH(E53,Table!F:F,0))","v":"B"},"Pete Baron",117.90765517241378,22,-4,1,25,null,{"$f":"INDEX(Table!L:L,MATCH(E53,Table!F:F,0))","v":51.75},76.75,12,2,5,-7,0,null,-7,0,null,-4.55,1,null,3,1,null,-3.9,1,null,-0.71250000000000036,2,null,70.662499999999994,3,10,-3.7,1,null,3.539655172413795,2,null,-3.9,1,null,0,1,null,3.1999999999999993,2,null,10,1,null,-7,0,null,57.268000000000001,3,10,-4,1,null,null,null,null,null,null,null,null,null,null,117.90765517241378,22,25]
[26,46,23,{"$f":"INDEX(Table!E:E,MATCH(E54,Table!F:F,0))","v":"B"},"Phil Miller",-7.9911472231472196,25,-7,0,5,null,{"$f":"INDEX(Table!L:L,MATCH(E54,Table!F:F,0))","v":0},5,3.0571428571428569,2,null,-4.7,1,null,0.53999999999999915,2,null,14.692,3,null,-3,0,null,-0.28461538461538538,2,null,0.25,2,null,-5,1,null,9.0909090909090935,3,null,-2.7851851851851857,2,null,-7,0,null,-5.4,1,null,-5.15,1,null,13.3986013986014,3,5,-1.6999999999999993,2,null,-7,0,null,-7,0,null,null,null,null,null,null,null,null,null,null,-7.9911472231472196,25,5]
[56,30,54,{"$f":"INDEX(Table!E:E,MATCH(E55,Table!F:F,0))","v":"A"},"Rob England",-63.055561302681994,14,-3.9,1,0,null,{"$f":"INDEX(Table!L:L,MATCH(E55,Table!F:F,0))","v":0},0,-7,0,null,-4.375,1,null,-4.55,1,null,-7,0,null,-0.85999999999999943,2,null,-7,0,null,-7,0,null,-4.95,1,null,-7,0,null,9.007111111111108,3,null,-4.6551724137931032,1,null,-3,0,null,4.9775,2,null,-7,0,null,-4.2,1,null,-4.55,1,null,-3.9,1,null,null,null,null,null,null,null,null,null,null,-63.055561302681994,14,0]
[11,32,10,{"$f":"INDEX(Table!E:E,MATCH(E56,Table!F:F,0))","v":"C"},"Sally Williams",47.024749999999997,18,-4,1,10,null,{"$f":"INDEX(Table!L:L,MATCH(E56,Table!F:F,0))","v":7.2450000000000001},17.245000000000001,8.46875,2,null,-7,0,null,-3.3,1,null,-7,0,null,14,2,null,62.355999999999995,3,10,-7,0,null,-4,1,null,-3.25,1,null,12.579999999999998,2,null,-7,0,null,-7,0,null,-7,0,null,-3.9,1,null,4.9600000000000009,2,null,5.1099999999999994,2,null,-4,1,null,null,null,null,null,null,null,null,null,null,47.024749999999997,18,10]
[55,27,55,{"$f":"INDEX(Table!E:E,MATCH(E57,Table!F:F,0))","v":"D"},"Simon Greenhalgh",-62.194318181818183,16,-3,1,0,null,{"$f":"INDEX(Table!L:L,MATCH(E57,Table!F:F,0))","v":0},0,-7,0,null,-5.5,1,null,-7,0,null,-7,0,null,-1.1818181818181817,2,null,-4.0999999999999996,1,null,-5.25,1,null,-4.375,1,null,6.0124999999999993,2,null,2.4999999999999982,2,null,-7,0,null,-3.7,1,null,-4.9000000000000004,1,null,-7,0,null,0.5,2,null,-4.2,1,null,-3,1,null,null,null,null,null,null,null,null,null,null,-62.194318181818183,16,0]
[22,18,19,{"$f":"INDEX(Table!E:E,MATCH(E58,Table!F:F,0))","v":"A"},"Stephen Barr",7.9334696969696976,23,0.8636363636363642,2,5,null,{"$f":"INDEX(Table!L:L,MATCH(E58,Table!F:F,0))","v":0},5,-4.8499999999999996,1,null,6.7200000000000024,2,null,4.7650000000000006,2,null,-5.3,1,null,29.673999999999999,3,5,-3.6,1,null,-7,0,null,4.8099999999999987,2,null,-7,0,null,-0.90666666666666718,2,null,-5.15,1,null,4.4875000000000007,2,null,6.8200000000000021,2,null,-7,0,null,-5,1,null,-4.4000000000000004,1,null,0.8636363636363642,2,null,null,null,null,null,null,null,null,null,null,7.9334696969697003,23,5]
[32,46,27,{"$f":"INDEX(Table!E:E,MATCH(E59,Table!F:F,0))","v":"A"},"Stephen Troop",-16.922115384615381,19,-7,0,5,null,{"$f":"INDEX(Table!L:L,MATCH(E59,Table!F:F,0))","v":0},5,-4.95,1,null,-1.3307692307692305,2,null,-7,0,null,-7,0,null,-3,1,null,-7,0,null,0.52500000000000036,2,null,-7,0,null,26.526250000000005,3,null,-7,0,null,11.406153846153845,3,null,-4.625,1,null,13.161250000000003,3,5,-3.2,1,null,-2.4350000000000005,2,null,-7,0,null,-7,0,null,null,null,null,null,null,null,null,null,null,-16.922115384615378,19,5]
[18,46,15,{"$f":"INDEX(Table!E:E,MATCH(E60,Table!F:F,0))","v":"B"},"Steve Baxter",13.324233821733827,28,-7,0,10,null,{"$f":"INDEX(Table!L:L,MATCH(E60,Table!F:F,0))","v":14.49},24.490000000000002,10.03857142857143,3,null,0,2,null,0.77500000000000036,2,null,-5.2,1,null,-7,0,null,-0.28461538461538538,2,null,-5.3333333333333339,1,null,-5.75,1,null,-1.7725,2,null,-4.7,1,null,9.9999999999999645E-2,2,null,-5.4,1,null,27.793333333333337,3,10,6.0300000000000011,2,null,10.027777777777779,3,null,1,2,null,-7,0,null,null,null,null,null,null,null,null,null,null,13.324233821733831,28,10]
[29,12,29,{"$f":"INDEX(Table!E:E,MATCH(E61,Table!F:F,0))","v":"A"},"Steve Carter",-10.941628787878789,23,1.75,2,5,null,{"$f":"INDEX(Table!L:L,MATCH(E61,Table!F:F,0))","v":0},5,20.822499999999994,3,5,-4.5999999999999996,1,null,0.64166666666666661,2,null,-4.95,1,null,1.4090909090909101,2,null,-5.05,1,null,-7,0,null,-4.375,1,null,2.036363636363637,2,null,3.9700000000000006,2,null,-7,0,null,2.2937499999999993,2,null,2.2600000000000016,2,null,-7,0,null,-7,0,null,0.84999999999999964,2,null,1.75,2,null,null,null,null,null,null,null,null,null,null,-10.941628787878788,23,5]
[53,38,51,{"$f":"INDEX(Table!E:E,MATCH(E62,Table!F:F,0))","v":"B"},"Tom Robinson",{"$f":"+N62+Q62+T62+W62+Z62+AC62+AF62+AI62+AL62+AO62+AR62+AU62+AX62+BA62+BD62+BG62+BJ62+BM62+BP62+BS62","v":-52.165757575757581},16,-4.8499999999999996,1,{"$f":"P62+S62+V62+Y62+AB62+AE62+AH62+AK62+AN62+AQ62+AT62+AW62+AZ62+BC62+BF62+BI62+BL62+BO62+BR62+BU62","v":5},null,{"$f":"INDEX(Table!L:L,MATCH(E62,Table!F:F,0))","v":0},{"$f":"K62+J62+L62","v":5},-7,0,null,-7,0,null,-7,0,null,3.3849999999999998,2,null,-7,0,null,5.0909090909090899,2,null,-4.9000000000000004,1,null,-4.625,1,null,-5.25,1,null,0,1,null,-5.4666666666666668,1,null,8.4,2,5,-5.3,1,null,-7,0,null,1.25,2,null,-4.9000000000000004,1,null,-4.8499999999999996,1,null,null,null,null,null,null,null,null,null,null,{"$f":"BS62+BP62+BM62+BJ62+BG62+BD62+BA62+AX62+AU62+AR62+AO62+AL62+AI62+AF62+AC62+Z62+W62+T62+Q62+N62","v":-52.165757575757574},16,5]
[30,11,30,{"$f":"INDEX(Table!E:E,MATCH(E63,Table!F:F,0))","v":"B"},"Vinny Topping",-11.956666666666665,21,2.2375000000000007,2,{"$f":"P63+S63+V63+Y63+AB63+AE63+AH63+AK63+AN63+AQ63+AT63+AW63+AZ63+BC63+BF63+BI63+BL63+BO63+BR63+BU63","v":5},null,{"$f":"INDEX(Table!L:L,MATCH(E63,Table!F:F,0))","v":0},{"$f":"K63+J63+L63","v":5},3.625,2,null,3.0625,2,null,-7,0,null,19.3,2,5,-7,0,null,-3.9,1,null,-5,1,null,-4,1,null,8.8000000000000007,2,null,-4.666666666666667,1,null,-3.8,1,null,-4.625,1,null,-4.0999999999999996,1,null,-4.95,1,null,4.9600000000000009,2,null,-4.9000000000000004,1,null,2.2375000000000007,2,null,null,null,null,null,null,null,null,null,null,-11.956666666666663,21,5]
[]
[null,null,null,null,null,null,null,null,null,{"$f":"SUM(J2:J63)","v":425},{"$f":"SUM(K2:K63)","v":0},null,null,null,null,{"$f":"SUM(P2:P63)","v":25},null,null,{"$f":"SUM(S2:S63)","v":25},null,null,{"$f":"SUM(V2:V63)","v":25},null,null,{"$f":"SUM(Y2:Y63)","v":25},null,null,{"$f":"SUM(AB2:AB63)","v":25},null,null,{"$f":"SUM(AE2:AE63)","v":25},null,null,{"$f":"SUM(AH2:AH63)","v":25},null,null,{"$f":"SUM(AK2:AK63)","v":25},null,null,{"$f":"SUM(AN2:AN63)","v":25},null,null,{"$f":"SUM(AQ2:AQ63)","v":25},null,null,{"$f":"SUM(AT2:AT63)","v":25},null,null,{"$f":"SUM(AW2:AW63)","v":25},null,null,{"$f":"SUM(AZ2:AZ63)","v":25},null,null,{"$f":"SUM(BC2:BC63)","v":25},null,null,{"$f":"SUM(BF2:BF63)","v":25},null,null,{"$f":"SUM(BI2:BI63)","v":25},null,null,{"$f":"SUM(BL2:BL63)","v":25},null,null,{"$f":"SUM(BO2:BO63)","v":0},null,null,{"$f":"SUM(BR2:BR63)","v":0},null,null,{"$f":"SUM(BU2:BU63)","v":0},null,null,{"$f":"SUM(BX2:BX63)","v":425}]

{"sheet":"Cup","index":5,"n_rows":94,"n_cols":23,"rows_kept":94,"cut":false,"hidden":false,"merged":[[2,7,3,7],[87,1,88,1],[91,1,92,1],[69,7,70,7],[91,7,92,7],[89,4,90,4],[91,4,92,4],[77,4,78,4],[79,4,80,4],[81,4,82,4],[83,4,84,4],[85,4,86,4],[87,4,88,4],[88,19,89,19],[89,7,90,7],[70,19,71,19],[73,7,74,7],[77,7,78,7],[81,7,82,7],[85,7,86,7],[86,19,87,19],[71,7,72,7],[75,7,76,7],[79,7,80,7],[83,7,84,7],[87,7,88,7]]}
["Menu!A1"]
[null,"Prelim",{"$f":"IF(CupDraw!J1=\"\",\"\",CupDraw!J1)","v":""},null,null,null,null,{"$f":"CupDraw!O1","v":"R1 (64)"},{"$f":"CupDraw!P1","v":"2020-09-26"},null,null,null,null,{"$f":"CupDraw!U1","v":"R2 (32)"},{"$f":"CupDraw!V1","v":"2020-10-17"},null,null,null,null,{"$f":"CupDraw!AA1","v":"R3 (16)"},{"$f":"CupDraw!AB1","v":"2020-11-07"}]
[null,{"$f":"CupDraw!I2","v":1},{"$f":"IF(CupDraw!J2=\"\",\"\",CupDraw!J2)","v":""},{"$f":"IF(CupDraw!K2=\"\",\"\",CupDraw!K2)","v":""},{"$f":"IF(CupDraw!L2=\"\",\"\",CupDraw!L2)","v":""},null,null,{"$f":"CupDraw!O2","v":1},{"$f":"IF(CupDraw!P2=\"\",\"\",CupDraw!P2)","v":"Gerard Ventom"},{"$f":"IF(CupDraw!Q2=\"\",\"\",CupDraw!Q2)","v":-7},{"$f":"IF(CupDraw!R2=\"\",\"\",CupDraw!R2)","v":""},null,null,{"$f":"CupDraw!U2","v":1},{"$f":"CupDraw!V2","v":"Gerard Ventom"},{"$f":"IF(CupDraw!W2=\"\",\"\",CupDraw!W2)","v":-4.5999999999999996},{"$f":"IF(CupDraw!X2=\"\",\"\",CupDraw!X2)","v":""},null,null,{"$f":"CupDraw!AA2","v":1},{"$f":"CupDraw!AB2","v":"Pete Baron"},{"$f":"IF(CupDraw!AC2=\"\",\"\",CupDraw!AC2)","v":3.539655172413795},{"$f":"CupDraw!AD2","v":""}]
[null,null,{"$f":"IF(CupDraw!J3=\"\",\"\",CupDraw!J3)","v":""},{"$f":"IF(CupDraw!K3=\"\",\"\",CupDraw!K3)","v":""},{"$f":"IF(CupDraw!L3=\"\",\"\",CupDraw!L3)","v":""},null,null,{"$f":"CupDraw!O3","v":0},{"$f":"IF(CupDraw!P3=\"\",\"\",CupDraw!P3)","v":"Rob England"},{"$f":"IF(CupDraw!Q3=\"\",\"\",CupDraw!Q3)","v":-10},{"$f":"IF(CupDraw!R3=\"\",\"\",CupDraw!R3)","v":""},null,null,null,{"$f":"CupDraw!V3","v":"Pete Baron"},{"$f":"IF(CupDraw!W3=\"\",\"\",CupDraw!W3)","v":-0.71250000000000036},{"$f":"IF(CupDraw!X3=\"\",\"\",CupDraw!X3)","v":""},null,null,null,{"$f":"CupDraw!AB3","v":"Ben Rosser"},{"$f":"IF(CupDraw!AC3=\"\",\"\",CupDraw!AC3)","v":-3.8}]
[null,{"$f":"CupDraw!I4","v":2},{"$f":"IF(CupDraw!J4=\"\",\"\",CupDraw!J4)","v":""},{"$f":"IF(CupDraw!K4=\"\",\"\",CupDraw!K4)","v":""},{"$f":"IF(CupDraw!L4=\"\",\"\",CupDraw!L4)","v":""},null,null,{"$f":"CupDraw!O4","v":2},{"$f":"IF(CupDraw!P4=\"\",\"\",CupDraw!P4)","v":"Pete Baron"},{"$f":"IF(CupDraw!Q4=\"\",\"\",CupDraw!Q4)","v":-4.55},{"$f":"IF(CupDraw!R4=\"\",\"\",CupDraw!R4)","v":""},null,null,{"$f":"CupDraw!U4","v":2},{"$f":"CupDraw!V4","v":"Ian Davies"},{"$f":"IF(CupDraw!W4=\"\",\"\",CupDraw!W4)","v":-7},{"$f":"IF(CupDraw!X4=\"\",\"\",CupDraw!X4)","v":""},null,null,{"$f":"CupDraw!AA4","v":2},{"$f":"CupDraw!AB4","v":"Phil Miller"},{"$f":"IF(CupDraw!AC4=\"\",\"\",CupDraw!AC4)","v":-2.7851851851851857},{"$f":"CupDraw!AD4","v":""}]
[null,null,{"$f":"IF(CupDraw!J5=\"\",\"\",CupDraw!J5)","v":""},{"$f":"IF(CupDraw!K5=\"\",\"\",CupDraw!K5)","v":""},{"$f":"IF(CupDraw!L5=\"\",\"\",CupDraw!L5)","v":""},null,null,null,{"$f":"IF(CupDraw!P5=\"\",\"\",CupDraw!P5)","v":"Mark Saunders"},{"$f":"IF(CupDraw!Q5=\"\",\"\",CupDraw!Q5)","v":-5.2},{"$f":"IF(CupDraw!R5=\"\",\"\",CupDraw!R5)","v":""},null,null,null,{"$f":"CupDraw!V5","v":"Ben Rosser"},{"$f":"IF(CupDraw!W5=\"\",\"\",CupDraw!W5)","v":-3.8},{"$f":"IF(CupDraw!X5=\"\",\"\",CupDraw!X5)","v":""},null,null,null,{"$f":"CupDraw!AB5","v":"Oscar Jackson"},{"$f":"IF(CupDraw!AC5=\"\",\"\",CupDraw!AC5)","v":-7}]
[null,{"$f":"CupDraw!I6","v":3},{"$f":"IF(CupDraw!J6=\"\",\"\",CupDraw!J6)","v":""},{"$f":"IF(CupDraw!K6=\"\",\"\",CupDraw!K6)","v":""},{"$f":"IF(CupDraw!L6=\"\",\"\",CupDraw!L6)","v":""},null,null,{"$f":"CupDraw!O6","v":3},{"$f":"IF(CupDraw!P6=\"\",\"\",CupDraw!P6)","v":"Dan Baxter"},{"$f":"IF(CupDraw!Q6=\"\",\"\",CupDraw!Q6)","v":-10},{"$f":"IF(CupDraw!R6=\"\",\"\",CupDraw!R6)","v":""},null,null,{"$f":"CupDraw!U6","v":3},{"$f":"CupDraw!V6","v":"Phil Miller"},{"$f":"IF(CupDraw!W6=\"\",\"\",CupDraw!W6)","v":0.25},{"$f":"IF(CupDraw!X6=\"\",\"\",CupDraw!X6)","v":""},null,null,{"$f":"CupDraw!AA6","v":3},{"$f":"CupDraw!AB6","v":"Mike Penk"},{"$f":"IF(CupDraw!AC6=\"\",\"\",CupDraw!AC6)","v":-4.625},{"$f":"CupDraw!AD6","v":""}]
[null,null,{"$f":"IF(CupDraw!J7=\"\",\"\",CupDraw!J7)","v":""},{"$f":"IF(CupDraw!K7=\"\",\"\",CupDraw!K7)","v":""},{"$f":"IF(CupDraw!L7=\"\",\"\",CupDraw!L7)","v":""},null,null,null,{"$f":"IF(CupDraw!P7=\"\",\"\",CupDraw!P7)","v":"Ian Davies"},{"$f":"IF(CupDraw!Q7=\"\",\"\",CupDraw!Q7)","v":-7},{"$f":"IF(CupDraw!R7=\"\",\"\",CupDraw!R7)","v":""},null,null,null,{"$f":"CupDraw!V7","v":"Chris Griffin"},{"$f":"IF(CupDraw!W7=\"\",\"\",CupDraw!W7)","v":-4.375},{"$f":"IF(CupDraw!X7=\"\",\"\",CupDraw!X7)","v":""},null,null,null,{"$f":"CupDraw!AB7","v":"Martin Tarbuck"},{"$f":"IF(CupDraw!AC7=\"\",\"\",CupDraw!AC7)","v":-4.8499999999999996}]
[null,{"$f":"CupDraw!I8","v":4},{"$f":"IF(CupDraw!J8=\"\",\"\",CupDraw!J8)","v":""},{"$f":"IF(CupDraw!K8=\"\",\"\",CupDraw!K8)","v":""},{"$f":"IF(CupDraw!L8=\"\",\"\",CupDraw!L8)","v":""},null,null,{"$f":"CupDraw!O8","v":4},{"$f":"IF(CupDraw!P8=\"\",\"\",CupDraw!P8)","v":"Nick Blocksidge"},{"$f":"IF(CupDraw!Q8=\"\",\"\",CupDraw!Q8)","v":-2.8},{"$f":"IF(CupDraw!R8=\"\",\"\",CupDraw!R8)","v":""},null,null,{"$f":"CupDraw!U8","v":4},{"$f":"CupDraw!V8","v":"Joel Bent"},{"$f":"IF(CupDraw!W8=\"\",\"\",CupDraw!W8)","v":-7},{"$f":"IF(CupDraw!X8=\"\",\"\",CupDraw!X8)","v":""},null,null,{"$f":"CupDraw!AA8","v":4},{"$f":"CupDraw!AB8","v":"Graham Miller"},{"$f":"IF(CupDraw!AC8=\"\",\"\",CupDraw!AC8)","v":-7},{"$f":"CupDraw!AD8","v":""}]
[null,null,{"$f":"IF(CupDraw!J9=\"\",\"\",CupDraw!J9)","v":""},{"$f":"IF(CupDraw!K9=\"\",\"\",CupDraw!K9)","v":""},{"$f":"IF(CupDraw!L9=\"\",\"\",CupDraw!L9)","v":""},null,null,null,{"$f":"IF(CupDraw!P9=\"\",\"\",CupDraw!P9)","v":"Ben Rosser"},{"$f":"IF(CupDraw!Q9=\"\",\"\",CupDraw!Q9)","v":3},{"$f":"IF(CupDraw!R9=\"\",\"\",CupDraw!R9)","v":""},null,null,null,{"$f":"CupDraw!V9","v":"Oscar Jackson"},{"$f":"IF(CupDraw!W9=\"\",\"\",CupDraw!W9)","v":-0.29999999999999982},{"$f":"IF(CupDraw!X9=\"\",\"\",CupDraw!X9)","v":""},null,null,null,{"$f":"CupDraw!AB9","v":"Paul Fairhurst"},{"$f":"IF(CupDraw!AC9=\"\",\"\",CupDraw!AC9)","v":-2.5955555555555563}]
[null,{"$f":"CupDraw!I10","v":5},{"$f":"IF(CupDraw!J10=\"\",\"\",CupDraw!J10)","v":""},{"$f":"IF(CupDraw!K10=\"\",\"\",CupDraw!K10)","v":""},{"$f":"IF(CupDraw!L10=\"\",\"\",CupDraw!L10)","v":""},null,null,{"$f":"CupDraw!O10","v":5},{"$f":"IF(CupDraw!P10=\"\",\"\",CupDraw!P10)","v":"Phil Miller"},{"$f":"IF(CupDraw!Q10=\"\",\"\",CupDraw!Q10)","v":14.692},{"$f":"IF(CupDraw!R10=\"\",\"\",CupDraw!R10)","v":""},null,null,{"$f":"CupDraw!U10","v":5},{"$f":"CupDraw!V10","v":"James Bell"},{"$f":"IF(CupDraw!W10=\"\",\"\",CupDraw!W10)","v":-7},{"$f":"IF(CupDraw!X10=\"\",\"\",CupDraw!X10)","v":""},null,null,{"$f":"CupDraw!AA10","v":5},{"$f":"CupDraw!AB10","v":"Nigel Heyes"},{"$f":"IF(CupDraw!AC10=\"\",\"\",CupDraw!AC10)","v":1.163636363636364},{"$f":"CupDraw!AD10","v":""}]
[null,null,{"$f":"IF(CupDraw!J11=\"\",\"\",CupDraw!J11)","v":""},{"$f":"IF(CupDraw!K11=\"\",\"\",CupDraw!K11)","v":""},{"$f":"IF(CupDraw!L11=\"\",\"\",CupDraw!L11)","v":""},null,null,null,{"$f":"IF(CupDraw!P11=\"\",\"\",CupDraw!P11)","v":"Ashley Houghton"},{"$f":"IF(CupDraw!Q11=\"\",\"\",CupDraw!Q11)","v":-7},{"$f":"IF(CupDraw!R11=\"\",\"\",CupDraw!R11)","v":""},null,null,null,{"$f":"CupDraw!V11","v":"Mike Penk"},{"$f":"IF(CupDraw!W11=\"\",\"\",CupDraw!W11)","v":6},{"$f":"IF(CupDraw!X11=\"\",\"\",CupDraw!X11)","v":""},null,null,null,{"$f":"CupDraw!AB11","v":"Vinny Topping"},{"$f":"IF(CupDraw!AC11=\"\",\"\",CupDraw!AC11)","v":-4.666666666666667}]
[null,{"$f":"CupDraw!I12","v":6},{"$f":"IF(CupDraw!J12=\"\",\"\",CupDraw!J12)","v":""},{"$f":"IF(CupDraw!K12=\"\",\"\",CupDraw!K12)","v":""},{"$f":"IF(CupDraw!L12=\"\",\"\",CupDraw!L12)","v":""},null,null,{"$f":"CupDraw!O12","v":6},{"$f":"IF(CupDraw!P12=\"\",\"\",CupDraw!P12)","v":"Chris Griffin"},{"$f":"IF(CupDraw!Q12=\"\",\"\",CupDraw!Q12)","v":-0.6800000000000006},{"$f":"IF(CupDraw!R12=\"\",\"\",CupDraw!R12)","v":""},null,null,{"$f":"CupDraw!U12","v":6},{"$f":"CupDraw!V12","v":"John Evans"},{"$f":"IF(CupDraw!W12=\"\",\"\",CupDraw!W12)","v":-7},{"$f":"IF(CupDraw!X12=\"\",\"\",CupDraw!X12)","v":""},null,null,{"$f":"CupDraw!AA12","v":6},{"$f":"CupDraw!AB12","v":"Gareth McGuire"},{"$f":"IF(CupDraw!AC12=\"\",\"\",CupDraw!AC12)","v":-4.6551724137931032},{"$f":"CupDraw!AD12","v":""}]
[null,null,{"$f":"IF(CupDraw!J13=\"\",\"\",CupDraw!J13)","v":""},{"$f":"IF(CupDraw!K13=\"\",\"\",CupDraw!K13)","v":""},{"$f":"IF(CupDraw!L13=\"\",\"\",CupDraw!L13)","v":""},null,null,null,{"$f":"IF(CupDraw!P13=\"\",\"\",CupDraw!P13)","v":"Dave Orrell"},{"$f":"IF(CupDraw!Q13=\"\",\"\",CupDraw!Q13)","v":-5.1666666666666661},{"$f":"IF(CupDraw!R13=\"\",\"\",CupDraw!R13)","v":""},null,null,null,{"$f":"CupDraw!V13","v":"Martin Tarbuck"},{"$f":"IF(CupDraw!W13=\"\",\"\",CupDraw!W13)","v":-5.35},{"$f":"IF(CupDraw!X13=\"\",\"\",CupDraw!X13)","v":""},null,null,null,{"$f":"CupDraw!AB13","v":"Chris Townsend"},{"$f":"IF(CupDraw!AC13=\"\",\"\",CupDraw!AC13)","v":-4.7}]
[null,{"$f":"CupDraw!I14","v":7},{"$f":"IF(CupDraw!J14=\"\",\"\",CupDraw!J14)","v":""},{"$f":"IF(CupDraw!K14=\"\",\"\",CupDraw!K14)","v":""},{"$f":"IF(CupDraw!L14=\"\",\"\",CupDraw!L14)","v":""},null,null,{"$f":"CupDraw!O14","v":7},{"$f":"IF(CupDraw!P14=\"\",\"\",CupDraw!P14)","v":"Alick Rocca"},{"$f":"IF(CupDraw!Q14=\"\",\"\",CupDraw!Q14)","v":2.3199999999999985},{"$f":"IF(CupDraw!R14=\"\",\"\",CupDraw!R14)","v":""},null,null,{"$f":"CupDraw!U14","v":7},{"$f":"CupDraw!V14","v":"David Dunn"},{"$f":"IF(CupDraw!W14=\"\",\"\",CupDraw!W14)","v":-5.35},{"$f":"IF(CupDraw!X14=\"\",\"\",CupDraw!X14)","v":""},null,null,{"$f":"CupDraw!AA14","v":7},{"$f":"CupDraw!AB14","v":"Stephen Troop"},{"$f":"IF(CupDraw!AC14=\"\",\"\",CupDraw!AC14)","v":11.406153846153845},{"$f":"CupDraw!AD14","v":""}]
[null,null,{"$f":"IF(CupDraw!J15=\"\",\"\",CupDraw!J15)","v":""},{"$f":"IF(CupDraw!K15=\"\",\"\",CupDraw!K15)","v":""},{"$f":"IF(CupDraw!L15=\"\",\"\",CupDraw!L15)","v":""},null,null,null,{"$f":"IF(CupDraw!P15=\"\",\"\",CupDraw!P15)","v":"Joel Bent"},{"$f":"IF(CupDraw!Q15=\"\",\"\",CupDraw!Q15)","v":16.05},{"$f":"IF(CupDraw!R15=\"\",\"\",CupDraw!R15)","v":""},null,null,null,{"$f":"CupDraw!V15","v":"Graham Miller"},{"$f":"IF(CupDraw!W15=\"\",\"\",CupDraw!W15)","v":-2.6666666666666661},{"$f":"IF(CupDraw!X15=\"\",\"\",CupDraw!X15)","v":""},null,null,null,{"$f":"CupDraw!AB15","v":"Kei Lok Ma"},{"$f":"IF(CupDraw!AC15=\"\",\"\",CupDraw!AC15)","v":-4.7}]
[null,{"$f":"CupDraw!I16","v":8},{"$f":"IF(CupDraw!J16=\"\",\"\",CupDraw!J16)","v":""},{"$f":"IF(CupDraw!K16=\"\",\"\",CupDraw!K16)","v":""},{"$f":"IF(CupDraw!L16=\"\",\"\",CupDraw!L16)","v":""},null,null,{"$f":"CupDraw!O16","v":8},{"$f":"IF(CupDraw!P16=\"\",\"\",CupDraw!P16)","v":"Oscar Jackson"},{"$f":"IF(CupDraw!Q16=\"\",\"\",CupDraw!Q16)","v":-5.3},{"$f":"IF(CupDraw!R16=\"\",\"\",CupDraw!R16)","v":""},null,null,{"$f":"CupDraw!U16","v":8},{"$f":"CupDraw!V16","v":"Tom Robinson"},{"$f":"IF(CupDraw!W16=\"\",\"\",CupDraw!W16)","v":-4.9000000000000004},{"$f":"IF(CupDraw!X16=\"\",\"\",CupDraw!X16)","v":""},null,null,{"$f":"CupDraw!AA16","v":8},{"$f":"CupDraw!AB16","v":"Chris Bow"},{"$f":"IF(CupDraw!AC16=\"\",\"\",CupDraw!AC16)","v":-7},{"$f":"CupDraw!AD16","v":""}]
[null,null,{"$f":"IF(CupDraw!J17=\"\",\"\",CupDraw!J17)","v":""},{"$f":"IF(CupDraw!K17=\"\",\"\",CupDraw!K17)","v":""},{"$f":"IF(CupDraw!L17=\"\",\"\",CupDraw!L17)","v":""},null,null,null,{"$f":"IF(CupDraw!P17=\"\",\"\",CupDraw!P17)","v":"Lennie Bow"},{"$f":"IF(CupDraw!Q17=\"\",\"\",CupDraw!Q17)","v":-5.6},{"$f":"IF(CupDraw!R17=\"\",\"\",CupDraw!R17)","v":""},null,null,null,{"$f":"CupDraw!V17","v":"Paul Fairhurst"},{"$f":"IF(CupDraw!W17=\"\",\"\",CupDraw!W17)","v":-3.1},{"$f":"IF(CupDraw!X17=\"\",\"\",CupDraw!X17)","v":""},null,null,null,{"$f":"CupDraw!AB17","v":"Gareth Powell"},{"$f":"IF(CupDraw!AC17=\"\",\"\",CupDraw!AC17)","v":-3.4}]
[null,{"$f":"CupDraw!I18","v":9},{"$f":"IF(CupDraw!J18=\"\",\"\",CupDraw!J18)","v":""},{"$f":"IF(CupDraw!K18=\"\",\"\",CupDraw!K18)","v":""},{"$f":"IF(CupDraw!L18=\"\",\"\",CupDraw!L18)","v":""},null,null,{"$f":"CupDraw!O18","v":9},{"$f":"IF(CupDraw!P18=\"\",\"\",CupDraw!P18)","v":"Alan Rogers"},{"$f":"IF(CupDraw!Q18=\"\",\"\",CupDraw!Q18)","v":-7},{"$f":"IF(CupDraw!R18=\"\",\"\",CupDraw!R18)","v":""},null,null,{"$f":"CupDraw!U18","v":9},{"$f":"CupDraw!V18","v":"Barry Birchall"},{"$f":"IF(CupDraw!W18=\"\",\"\",CupDraw!W18)","v":-5.0000000000000711E-2},{"$f":"IF(CupDraw!X18=\"\",\"\",CupDraw!X18)","v":""}]
[null,null,{"$f":"IF(CupDraw!J19=\"\",\"\",CupDraw!J19)","v":""},{"$f":"IF(CupDraw!K19=\"\",\"\",CupDraw!K19)","v":""},{"$f":"IF(CupDraw!L19=\"\",\"\",CupDraw!L19)","v":""},null,null,null,{"$f":"IF(CupDraw!P19=\"\",\"\",CupDraw!P19)","v":"James Bell"},{"$f":"IF(CupDraw!Q19=\"\",\"\",CupDraw!Q19)","v":10.479999999999997},{"$f":"IF(CupDraw!R19=\"\",\"\",CupDraw!R19)","v":""},null,null,null,{"$f":"CupDraw!V19","v":"Nigel Heyes"},{"$f":"IF(CupDraw!W19=\"\",\"\",CupDraw!W19)","v":7.68},{"$f":"IF(CupDraw!X19=\"\",\"\",CupDraw!X19)","v":""}]
[null,{"$f":"CupDraw!I20","v":10},{"$f":"IF(CupDraw!J20=\"\",\"\",CupDraw!J20)","v":""},{"$f":"IF(CupDraw!K20=\"\",\"\",CupDraw!K20)","v":""},{"$f":"IF(CupDraw!L20=\"\",\"\",CupDraw!L20)","v":""},null,null,{"$f":"CupDraw!O20","v":10},{"$f":"IF(CupDraw!P20=\"\",\"\",CupDraw!P20)","v":"Mike Penk"},{"$f":"IF(CupDraw!Q20=\"\",\"\",CupDraw!Q20)","v":-4.3},{"$f":"IF(CupDraw!R20=\"\",\"\",CupDraw!R20)","v":""},null,null,{"$f":"CupDraw!U20","v":10},{"$f":"CupDraw!V20","v":"Charlie Griffiths"},{"$f":"IF(CupDraw!W20=\"\",\"\",CupDraw!W20)","v":-5.15},{"$f":"IF(CupDraw!X20=\"\",\"\",CupDraw!X20)","v":""}]
[null,null,{"$f":"IF(CupDraw!J21=\"\",\"\",CupDraw!J21)","v":""},{"$f":"IF(CupDraw!K21=\"\",\"\",CupDraw!K21)","v":""},{"$f":"IF(CupDraw!L21=\"\",\"\",CupDraw!L21)","v":""},null,null,null,{"$f":"IF(CupDraw!P21=\"\",\"\",CupDraw!P21)","v":"Sally Williams"},{"$f":"IF(CupDraw!Q21=\"\",\"\",CupDraw!Q21)","v":-7},{"$f":"IF(CupDraw!R21=\"\",\"\",CupDraw!R21)","v":""},null,null,null,{"$f":"CupDraw!V21","v":"Vinny Topping"},{"$f":"IF(CupDraw!W21=\"\",\"\",CupDraw!W21)","v":-5},{"$f":"IF(CupDraw!X21=\"\",\"\",CupDraw!X21)","v":""},null,null,{"$f":"CupDraw!AA21","v":"Earlier Ties"}]
[null,{"$f":"CupDraw!I22","v":11},{"$f":"IF(CupDraw!J22=\"\",\"\",CupDraw!J22)","v":""},{"$f":"IF(CupDraw!K22=\"\",\"\",CupDraw!K22)","v":""},{"$f":"IF(CupDraw!L22=\"\",\"\",CupDraw!L22)","v":""},null,null,{"$f":"CupDraw!O22","v":11},{"$f":"IF(CupDraw!P22=\"\",\"\",CupDraw!P22)","v":"John Evans"},{"$f":"IF(CupDraw!Q22=\"\",\"\",CupDraw!Q22)","v":-4.95},{"$f":"IF(CupDraw!R22=\"\",\"\",CupDraw!R22)","v":""},null,null,{"$f":"CupDraw!U22","v":11},{"$f":"CupDraw!V22","v":"Gareth McGuire"},{"$f":"IF(CupDraw!W22=\"\",\"\",CupDraw!W22)","v":15.484999999999999},{"$f":"IF(CupDraw!X22=\"\",\"\",CupDraw!X22)","v":""}]
[null,null,{"$f":"IF(CupDraw!J23=\"\",\"\",CupDraw!J23)","v":""},{"$f":"IF(CupDraw!K23=\"\",\"\",CupDraw!K23)","v":""},{"$f":"IF(CupDraw!L23=\"\",\"\",CupDraw!L23)","v":""},null,null,null,{"$f":"IF(CupDraw!P23=\"\",\"\",CupDraw!P23)","v":"Stephen Barr"},{"$f":"IF(CupDraw!Q23=\"\",\"\",CupDraw!Q23)","v":-5.3},{"$f":"IF(CupDraw!R23=\"\",\"\",CupDraw!R23)","v":""},null,null,null,{"$f":"CupDraw!V23","v":"John Ronan"},{"$f":"IF(CupDraw!W23=\"\",\"\",CupDraw!W23)","v":-3},{"$f":"IF(CupDraw!X23=\"\",\"\",CupDraw!X23)","v":""}]
[null,{"$f":"CupDraw!I24","v":12},{"$f":"IF(CupDraw!J24=\"\",\"\",CupDraw!J24)","v":""},{"$f":"IF(CupDraw!K24=\"\",\"\",CupDraw!K24)","v":""},{"$f":"IF(CupDraw!L24=\"\",\"\",CupDraw!L24)","v":""},null,null,{"$f":"CupDraw!O24","v":12},{"$f":"IF(CupDraw!P24=\"\",\"\",CupDraw!P24)","v":"Andy Charleston"},{"$f":"IF(CupDraw!Q24=\"\",\"\",CupDraw!Q24)","v":-7},{"$f":"IF(CupDraw!R24=\"\",\"\",CupDraw!R24)","v":""},null,null,{"$f":"CupDraw!U24","v":12},{"$f":"CupDraw!V24","v":"Paul Adderley"},{"$f":"IF(CupDraw!W24=\"\",\"\",CupDraw!W24)","v":-10},{"$f":"IF(CupDraw!X24=\"\",\"\",CupDraw!X24)","v":""},null,null,null,{"$f":"IF(CupDraw!AB24=\"\",\"\",CupDraw!AB24)","v":"Stephen Troop"},{"$f":"IF(CupDraw!AC24=\"\",\"\",CupDraw!AC24)","v":-7}]
[null,null,{"$f":"IF(CupDraw!J25=\"\",\"\",CupDraw!J25)","v":""},{"$f":"IF(CupDraw!K25=\"\",\"\",CupDraw!K25)","v":""},{"$f":"IF(CupDraw!L25=\"\",\"\",CupDraw!L25)","v":""},null,null,null,{"$f":"IF(CupDraw!P25=\"\",\"\",CupDraw!P25)","v":"Martin Tarbuck"},{"$f":"IF(CupDraw!Q25=\"\",\"\",CupDraw!Q25)","v":2.6363636363636367},{"$f":"IF(CupDraw!R25=\"\",\"\",CupDraw!R25)","v":""},null,null,null,{"$f":"CupDraw!V25","v":"Chris Townsend"},{"$f":"IF(CupDraw!W25=\"\",\"\",CupDraw!W25)","v":-7},{"$f":"IF(CupDraw!X25=\"\",\"\",CupDraw!X25)","v":""},null,null,null,{"$f":"IF(CupDraw!AB25=\"\",\"\",CupDraw!AB25)","v":"Kei Lok Ma"},{"$f":"IF(CupDraw!AC25=\"\",\"\",CupDraw!AC25)","v":-7}]
[null,{"$f":"CupDraw!I26","v":13},{"$f":"IF(CupDraw!J26=\"\",\"\",CupDraw!J26)","v":""},{"$f":"IF(CupDraw!K26=\"\",\"\",CupDraw!K26)","v":""},{"$f":"IF(CupDraw!L26=\"\",\"\",CupDraw!L26)","v":""},null,null,{"$f":"CupDraw!O26","v":13},{"$f":"IF(CupDraw!P26=\"\",\"\",CupDraw!P26)","v":"David Dunn"},{"$f":"IF(CupDraw!Q26=\"\",\"\",CupDraw!Q26)","v":-4.3},{"$f":"IF(CupDraw!R26=\"\",\"\",CupDraw!R26)","v":""},null,null,{"$f":"CupDraw!U26","v":13},{"$f":"CupDraw!V26","v":"Stephen Troop"},{"$f":"IF(CupDraw!W26=\"\",\"\",CupDraw!W26)","v":0.52500000000000036},{"$f":"IF(CupDraw!X26=\"\",\"\",CupDraw!X26)","v":""},null,null,null,{"$f":"IF(CupDraw!AB26=\"\",\"\",CupDraw!AB26)","v":""},{"$f":"IF(CupDraw!AC26=\"\",\"\",CupDraw!AC26)","v":""},{"$f":"CupDraw!AD26","v":""}]
[null,null,{"$f":"IF(CupDraw!J27=\"\",\"\",CupDraw!J27)","v":""},{"$f":"IF(CupDraw!K27=\"\",\"\",CupDraw!K27)","v":""},{"$f":"IF(CupDraw!L27=\"\",\"\",CupDraw!L27)","v":""},null,null,null,{"$f":"IF(CupDraw!P27=\"\",\"\",CupDraw!P27)","v":"Simon Greenhalgh"},{"$f":"IF(CupDraw!Q27=\"\",\"\",CupDraw!Q27)","v":-10},{"$f":"IF(CupDraw!R27=\"\",\"\",CupDraw!R27)","v":""},null,null,null,{"$f":"CupDraw!V27","v":"Steve Carter"},{"$f":"IF(CupDraw!W27=\"\",\"\",CupDraw!W27)","v":-7},{"$f":"IF(CupDraw!X27=\"\",\"\",CupDraw!X27)","v":""},null,null,null,{"$f":"IF(CupDraw!AB27=\"\",\"\",CupDraw!AB27)","v":""},{"$f":"IF(CupDraw!AC27=\"\",\"\",CupDraw!AC27)","v":""}]
[null,{"$f":"CupDraw!I28","v":14},{"$f":"IF(CupDraw!J28=\"\",\"\",CupDraw!J28)","v":""},{"$f":"IF(CupDraw!K28=\"\",\"\",CupDraw!K28)","v":""},{"$f":"IF(CupDraw!L28=\"\",\"\",CupDraw!L28)","v":""},null,null,{"$f":"CupDraw!O28","v":14},{"$f":"IF(CupDraw!P28=\"\",\"\",CupDraw!P28)","v":"Graham Miller"},{"$f":"IF(CupDraw!Q28=\"\",\"\",CupDraw!Q28)","v":4.7650000000000006},{"$f":"IF(CupDraw!R28=\"\",\"\",CupDraw!R28)","v":""},null,null,{"$f":"CupDraw!U28","v":14},{"$f":"CupDraw!V28","v":"Kei Lok Ma"},{"$f":"IF(CupDraw!W28=\"\",\"\",CupDraw!W28)","v":14.400000000000002},{"$f":"IF(CupDraw!X28=\"\",\"\",CupDraw!X28)","v":""},null,null,null,{"$f":"IF(CupDraw!AB28=\"\",\"\",CupDraw!AB28)","v":""},{"$f":"IF(CupDraw!AC28=\"\",\"\",CupDraw!AC28)","v":""},{"$f":"CupDraw!AD28","v":""}]
[null,null,{"$f":"IF(CupDraw!J29=\"\",\"\",CupDraw!J29)","v":""},{"$f":"IF(CupDraw!K29=\"\",\"\",CupDraw!K29)","v":""},{"$f":"IF(CupDraw!L29=\"\",\"\",CupDraw!L29)","v":""},null,null,null,{"$f":"IF(CupDraw!P29=\"\",\"\",CupDraw!P29)","v":"Gareth Fallows"},{"$f":"IF(CupDraw!Q29=\"\",\"\",CupDraw!Q29)","v":-10},{"$f":"IF(CupDraw!R29=\"\",\"\",CupDraw!R29)","v":""},null,null,null,{"$f":"CupDraw!V29","v":"Steve Baxter"},{"$f":"IF(CupDraw!W29=\"\",\"\",CupDraw!W29)","v":-5.3333333333333339},{"$f":"IF(CupDraw!X29=\"\",\"\",CupDraw!X29)","v":""},null,null,null,{"$f":"IF(CupDraw!AB29=\"\",\"\",CupDraw!AB29)","v":""},{"$f":"IF(CupDraw!AC29=\"\",\"\",CupDraw!AC29)","v":""}]
[null,{"$f":"CupDraw!I30","v":15},{"$f":"IF(CupDraw!J30=\"\",\"\",CupDraw!J30)","v":""},{"$f":"IF(CupDraw!K30=\"\",\"\",CupDraw!K30)","v":""},{"$f":"IF(CupDraw!L30=\"\",\"\",CupDraw!L30)","v":""},null,null,{"$f":"CupDraw!O30","v":15},{"$f":"IF(CupDraw!P30=\"\",\"\",CupDraw!P30)","v":"Tom Robinson"},{"$f":"IF(CupDraw!Q30=\"\",\"\",CupDraw!Q30)","v":3.3849999999999998},{"$f":"IF(CupDraw!R30=\"\",\"\",CupDraw!R30)","v":""},null,null,{"$f":"CupDraw!U30","v":15},{"$f":"CupDraw!V30","v":"Paul Barnes"},{"$f":"IF(CupDraw!W30=\"\",\"\",CupDraw!W30)","v":-7},{"$f":"IF(CupDraw!X30=\"\",\"\",CupDraw!X30)","v":""}]
[null,null,{"$f":"IF(CupDraw!J31=\"\",\"\",CupDraw!J31)","v":""},{"$f":"IF(CupDraw!K31=\"\",\"\",CupDraw!K31)","v":""},{"$f":"IF(CupDraw!L31=\"\",\"\",CupDraw!L31)","v":""},null,null,null,{"$f":"IF(CupDraw!P31=\"\",\"\",CupDraw!P31)","v":"Mo Sudell"},{"$f":"IF(CupDraw!Q31=\"\",\"\",CupDraw!Q31)","v":-4.5},{"$f":"IF(CupDraw!R31=\"\",\"\",CupDraw!R31)","v":""},null,null,null,{"$f":"CupDraw!V31","v":"Chris Bow"},{"$f":"IF(CupDraw!W31=\"\",\"\",CupDraw!W31)","v":-5.25},{"$f":"IF(CupDraw!X31=\"\",\"\",CupDraw!X31)","v":""}]
[null,{"$f":"CupDraw!I32","v":16},{"$f":"IF(CupDraw!J32=\"\",\"\",CupDraw!J32)","v":""},{"$f":"IF(CupDraw!K32=\"\",\"\",CupDraw!K32)","v":""},{"$f":"IF(CupDraw!L32=\"\",\"\",CupDraw!L32)","v":""},null,null,{"$f":"CupDraw!O32","v":16},{"$f":"IF(CupDraw!P32=\"\",\"\",CupDraw!P32)","v":"Paul Fairhurst"},{"$f":"IF(CupDraw!Q32=\"\",\"\",CupDraw!Q32)","v":-5},{"$f":"IF(CupDraw!R32=\"\",\"\",CupDraw!R32)","v":""},null,null,{"$f":"CupDraw!U32","v":16},{"$f":"CupDraw!V32","v":"Paul Ridgeway"},{"$f":"IF(CupDraw!W32=\"\",\"\",CupDraw!W32)","v":-7},{"$f":"IF(CupDraw!X32=\"\",\"\",CupDraw!X32)","v":""}]
[null,null,{"$f":"IF(CupDraw!J33=\"\",\"\",CupDraw!J33)","v":""},{"$f":"IF(CupDraw!K33=\"\",\"\",CupDraw!K33)","v":""},{"$f":"IF(CupDraw!L33=\"\",\"\",CupDraw!L33)","v":""},null,null,null,{"$f":"IF(CupDraw!P33=\"\",\"\",CupDraw!P33)","v":"Dave Bell"},{"$f":"IF(CupDraw!Q33=\"\",\"\",CupDraw!Q33)","v":-5.2},{"$f":"IF(CupDraw!R33=\"\",\"\",CupDraw!R33)","v":""},null,null,null,{"$f":"CupDraw!V33","v":"Gareth Powell"},{"$f":"IF(CupDraw!W33=\"\",\"\",CupDraw!W33)","v":-3.75},{"$f":"IF(CupDraw!X33=\"\",\"\",CupDraw!X33)","v":""}]
[null,{"$f":"CupDraw!I34","v":17},{"$f":"IF(CupDraw!J34=\"\",\"\",CupDraw!J34)","v":""},{"$f":"IF(CupDraw!K34=\"\",\"\",CupDraw!K34)","v":""},{"$f":"IF(CupDraw!L34=\"\",\"\",CupDraw!L34)","v":""},null,null,{"$f":"CupDraw!O34","v":17},{"$f":"IF(CupDraw!P34=\"\",\"\",CupDraw!P34)","v":"Barry Birchall"},{"$f":"IF(CupDraw!Q34=\"\",\"\",CupDraw!Q34)","v":-4.75},{"$f":"IF(CupDraw!R34=\"\",\"\",CupDraw!R34)","v":""},null,null,null,null,null,{"$f":"IF(CupDraw!X34=\"\",\"\",CupDraw!X34)","v":""}]
[null,null,{"$f":"IF(CupDraw!J35=\"\",\"\",CupDraw!J35)","v":""},{"$f":"IF(CupDraw!K35=\"\",\"\",CupDraw!K35)","v":""},{"$f":"IF(CupDraw!L35=\"\",\"\",CupDraw!L35)","v":""},null,null,null,{"$f":"IF(CupDraw!P35=\"\",\"\",CupDraw!P35)","v":"Martin Molyneux"},{"$f":"IF(CupDraw!Q35=\"\",\"\",CupDraw!Q35)","v":-7},{"$f":"IF(CupDraw!R35=\"\",\"\",CupDraw!R35)","v":""},null,null,null,null,null,{"$f":"IF(CupDraw!X35=\"\",\"\",CupDraw!X35)","v":""}]
[null,{"$f":"CupDraw!I36","v":18},{"$f":"IF(CupDraw!J36=\"\",\"\",CupDraw!J36)","v":""},{"$f":"IF(CupDraw!K36=\"\",\"\",CupDraw!K36)","v":""},{"$f":"IF(CupDraw!L36=\"\",\"\",CupDraw!L36)","v":""},null,null,{"$f":"CupDraw!O36","v":18},{"$f":"IF(CupDraw!P36=\"\",\"\",CupDraw!P36)","v":"Mal Stott"},{"$f":"IF(CupDraw!Q36=\"\",\"\",CupDraw!Q36)","v":-7},{"$f":"IF(CupDraw!R36=\"\",\"\",CupDraw!R36)","v":""},null,null,null,null,null,{"$f":"IF(CupDraw!X36=\"\",\"\",CupDraw!X36)","v":""}]
[null,null,{"$f":"IF(CupDraw!J37=\"\",\"\",CupDraw!J37)","v":""},{"$f":"IF(CupDraw!K37=\"\",\"\",CupDraw!K37)","v":""},{"$f":"IF(CupDraw!L37=\"\",\"\",CupDraw!L37)","v":""},null,null,null,{"$f":"IF(CupDraw!P37=\"\",\"\",CupDraw!P37)","v":"Nigel Heyes"},{"$f":"IF(CupDraw!Q37=\"\",\"\",CupDraw!Q37)","v":1.4550000000000001},{"$f":"IF(CupDraw!R37=\"\",\"\",CupDraw!R37)","v":""},null,null,{"$f":"CupDraw!U37","v":"Replay"},null,null,{"$f":"IF(CupDraw!X37=\"\",\"\",CupDraw!X37)","v":""}]
[null,{"$f":"CupDraw!I38","v":19},{"$f":"IF(CupDraw!J38=\"\",\"\",CupDraw!J38)","v":""},{"$f":"IF(CupDraw!K38=\"\",\"\",CupDraw!K38)","v":""},{"$f":"IF(CupDraw!L38=\"\",\"\",CupDraw!L38)","v":""},null,null,{"$f":"CupDraw!O38","v":19},{"$f":"IF(CupDraw!P38=\"\",\"\",CupDraw!P38)","v":"Charlie Griffiths"},{"$f":"IF(CupDraw!Q38=\"\",\"\",CupDraw!Q38)","v":2.8274999999999988},{"$f":"IF(CupDraw!R38=\"\",\"\",CupDraw!R38)","v":""},null,null,null,{"$f":"IF(CupDraw!V38=\"\",\"\",CupDraw!V38)","v":""},{"$f":"IF(CupDraw!W38=\"\",\"\",CupDraw!W38)","v":""},{"$f":"IF(CupDraw!X38=\"\",\"\",CupDraw!X38)","v":""},null,null,{"$f":"CupDraw!AA38","v":"QF"},{"$f":"CupDraw!AB38","v":"2020-11-21"}]
[null,null,{"$f":"IF(CupDraw!J39=\"\",\"\",CupDraw!J39)","v":""},{"$f":"IF(CupDraw!K39=\"\",\"\",CupDraw!K39)","v":""},{"$f":"IF(CupDraw!L39=\"\",\"\",CupDraw!L39)","v":""},null,null,null,{"$f":"IF(CupDraw!P39=\"\",\"\",CupDraw!P39)","v":"Andy White"},{"$f":"IF(CupDraw!Q39=\"\",\"\",CupDraw!Q39)","v":-4.3},{"$f":"IF(CupDraw!R39=\"\",\"\",CupDraw!R39)","v":""},null,null,null,{"$f":"IF(CupDraw!V39=\"\",\"\",CupDraw!V39)","v":""},{"$f":"IF(CupDraw!W39=\"\",\"\",CupDraw!W39)","v":""},{"$f":"IF(CupDraw!X39=\"\",\"\",CupDraw!X39)","v":""},null,null,{"$f":"CupDraw!AA39","v":1},{"$f":"CupDraw!AB39","v":"Pete Baron"},{"$f":"IF(CupDraw!AC39=\"\",\"\",CupDraw!AC39)","v":3.1999999999999993},{"$f":"IF(CupDraw!AD39=\"\",\"\",CupDraw!AD39)","v":""}]
[null,{"$f":"CupDraw!I40","v":20},{"$f":"IF(CupDraw!J40=\"\",\"\",CupDraw!J40)","v":""},{"$f":"IF(CupDraw!K40=\"\",\"\",CupDraw!K40)","v":""},{"$f":"IF(CupDraw!L40=\"\",\"\",CupDraw!L40)","v":""},null,null,{"$f":"CupDraw!O40","v":20},{"$f":"IF(CupDraw!P40=\"\",\"\",CupDraw!P40)","v":"Vinny Topping"},{"$f":"IF(CupDraw!Q40=\"\",\"\",CupDraw!Q40)","v":19.3},{"$f":"IF(CupDraw!R40=\"\",\"\",CupDraw!R40)","v":""},null,null,null,{"$f":"IF(CupDraw!V40=\"\",\"\",CupDraw!V40)","v":""},{"$f":"IF(CupDraw!W40=\"\",\"\",CupDraw!W40)","v":""},{"$f":"IF(CupDraw!X40=\"\",\"\",CupDraw!X40)","v":""},null,null,null,{"$f":"CupDraw!AB40","v":"Phil Miller"},{"$f":"IF(CupDraw!AC40=\"\",\"\",CupDraw!AC40)","v":-5.15},{"$f":"IF(CupDraw!AD40=\"\",\"\",CupDraw!AD40)","v":""}]
[null,null,{"$f":"IF(CupDraw!J41=\"\",\"\",CupDraw!J41)","v":""},{"$f":"IF(CupDraw!K41=\"\",\"\",CupDraw!K41)","v":""},{"$f":"IF(CupDraw!L41=\"\",\"\",CupDraw!L41)","v":""},null,null,null,{"$f":"IF(CupDraw!P41=\"\",\"\",CupDraw!P41)","v":"Howard Bradley"},{"$f":"IF(CupDraw!Q41=\"\",\"\",CupDraw!Q41)","v":-1.5200000000000005},{"$f":"IF(CupDraw!R41=\"\",\"\",CupDraw!R41)","v":""},null,null,null,{"$f":"IF(CupDraw!V41=\"\",\"\",CupDraw!V41)","v":""},{"$f":"IF(CupDraw!W41=\"\",\"\",CupDraw!W41)","v":""},{"$f":"IF(CupDraw!X41=\"\",\"\",CupDraw!X41)","v":""},null,null,{"$f":"CupDraw!AA41","v":2},{"$f":"CupDraw!AB41","v":"Mike Penk"},{"$f":"IF(CupDraw!AC41=\"\",\"\",CupDraw!AC41)","v":1.7650000000000006},{"$f":"IF(CupDraw!AD41=\"\",\"\",CupDraw!AD41)","v":""}]
[null,{"$f":"CupDraw!I42","v":21},{"$f":"IF(CupDraw!J42=\"\",\"\",CupDraw!J42)","v":""},{"$f":"IF(CupDraw!K42=\"\",\"\",CupDraw!K42)","v":""},{"$f":"IF(CupDraw!L42=\"\",\"\",CupDraw!L42)","v":""},null,null,{"$f":"CupDraw!O42","v":21},{"$f":"IF(CupDraw!P42=\"\",\"\",CupDraw!P42)","v":"Kevin Carter"},{"$f":"IF(CupDraw!Q42=\"\",\"\",CupDraw!Q42)","v":-5.1666666666666661},{"$f":"IF(CupDraw!R42=\"\",\"\",CupDraw!R42)","v":""},null,null,null,{"$f":"IF(CupDraw!V42=\"\",\"\",CupDraw!V42)","v":""},{"$f":"IF(CupDraw!W42=\"\",\"\",CupDraw!W42)","v":""},{"$f":"IF(CupDraw!X42=\"\",\"\",CupDraw!X42)","v":""},null,null,null,{"$f":"CupDraw!AB42","v":"Paul Fairhurst"},{"$f":"IF(CupDraw!AC42=\"\",\"\",CupDraw!AC42)","v":-3.7},{"$f":"IF(CupDraw!AD42=\"\",\"\",CupDraw!AD42)","v":""}]
[null,null,{"$f":"IF(CupDraw!J43=\"\",\"\",CupDraw!J43)","v":""},{"$f":"IF(CupDraw!K43=\"\",\"\",CupDraw!K43)","v":""},{"$f":"IF(CupDraw!L43=\"\",\"\",CupDraw!L43)","v":""},null,null,null,{"$f":"IF(CupDraw!P43=\"\",\"\",CupDraw!P43)","v":"Gareth McGuire"},{"$f":"IF(CupDraw!Q43=\"\",\"\",CupDraw!Q43)","v":1.4550000000000001},{"$f":"IF(CupDraw!R43=\"\",\"\",CupDraw!R43)","v":""},null,null,null,{"$f":"IF(CupDraw!V43=\"\",\"\",CupDraw!V43)","v":""},{"$f":"IF(CupDraw!W43=\"\",\"\",CupDraw!W43)","v":""},{"$f":"IF(CupDraw!X43=\"\",\"\",CupDraw!X43)","v":""},null,null,{"$f":"CupDraw!AA43","v":3},{"$f":"CupDraw!AB43","v":"Nigel Heyes"},{"$f":"IF(CupDraw!AC43=\"\",\"\",CupDraw!AC43)","v":24.224499999999995},{"$f":"IF(CupDraw!AD43=\"\",\"\",CupDraw!AD43)","v":""}]
[null,{"$f":"CupDraw!I44","v":22},{"$f":"IF(CupDraw!J44=\"\",\"\",CupDraw!J44)","v":""},{"$f":"IF(CupDraw!K44=\"\",\"\",CupDraw!K44)","v":""},{"$f":"IF(CupDraw!L44=\"\",\"\",CupDraw!L44)","v":""},null,null,{"$f":"CupDraw!O44","v":22},{"$f":"IF(CupDraw!P44=\"\",\"\",CupDraw!P44)","v":"Alfie Davies"},{"$f":"IF(CupDraw!Q44=\"\",\"\",CupDraw!Q44)","v":-4.45},{"$f":"IF(CupDraw!R44=\"\",\"\",CupDraw!R44)","v":""},null,null,null,{"$f":"IF(CupDraw!V44=\"\",\"\",CupDraw!V44)","v":""},{"$f":"IF(CupDraw!W44=\"\",\"\",CupDraw!W44)","v":""},{"$f":"IF(CupDraw!X44=\"\",\"\",CupDraw!X44)","v":""},null,null,null,{"$f":"CupDraw!AB44","v":"Gareth McGuire"},{"$f":"IF(CupDraw!AC44=\"\",\"\",CupDraw!AC44)","v":1.9000000000000004},{"$f":"IF(CupDraw!AD44=\"\",\"\",CupDraw!AD44)","v":""}]
[null,null,{"$f":"IF(CupDraw!J45=\"\",\"\",CupDraw!J45)","v":""},{"$f":"IF(CupDraw!K45=\"\",\"\",CupDraw!K45)","v":""},{"$f":"IF(CupDraw!L45=\"\",\"\",CupDraw!L45)","v":""},null,null,null,{"$f":"IF(CupDraw!P45=\"\",\"\",CupDraw!P45)","v":"John Ronan"},{"$f":"IF(CupDraw!Q45=\"\",\"\",CupDraw!Q45)","v":23.11},{"$f":"IF(CupDraw!R45=\"\",\"\",CupDraw!R45)","v":""},null,null,null,{"$f":"IF(CupDraw!V45=\"\",\"\",CupDraw!V45)","v":""},{"$f":"IF(CupDraw!W45=\"\",\"\",CupDraw!W45)","v":""},{"$f":"IF(CupDraw!X45=\"\",\"\",CupDraw!X45)","v":""},null,null,{"$f":"CupDraw!AA45","v":4},{"$f":"CupDraw!AB45","v":"Stephen Troop"},{"$f":"IF(CupDraw!AC45=\"\",\"\",CupDraw!AC45)","v":13.161250000000003},{"$f":"IF(CupDraw!AD45=\"\",\"\",CupDraw!AD45)","v":""}]
[null,{"$f":"CupDraw!I46","v":23},{"$f":"IF(CupDraw!J46=\"\",\"\",CupDraw!J46)","v":""},{"$f":"IF(CupDraw!K46=\"\",\"\",CupDraw!K46)","v":""},{"$f":"IF(CupDraw!L46=\"\",\"\",CupDraw!L46)","v":""},null,null,{"$f":"CupDraw!O46","v":23},{"$f":"IF(CupDraw!P46=\"\",\"\",CupDraw!P46)","v":"Jack Walsh"},{"$f":"IF(CupDraw!Q46=\"\",\"\",CupDraw!Q46)","v":-5.2727272727272725},{"$f":"IF(CupDraw!R46=\"\",\"\",CupDraw!R46)","v":""},null,null,null,{"$f":"IF(CupDraw!V46=\"\",\"\",CupDraw!V46)","v":""},{"$f":"IF(CupDraw!W46=\"\",\"\",CupDraw!W46)","v":""},{"$f":"IF(CupDraw!X46=\"\",\"\",CupDraw!X46)","v":""},null,null,null,{"$f":"CupDraw!AB46","v":"Gareth Powell"},{"$f":"IF(CupDraw!AC46=\"\",\"\",CupDraw!AC46)","v":-4.7},{"$f":"IF(CupDraw!AD46=\"\",\"\",CupDraw!AD46)","v":""}]
[null,null,{"$f":"IF(CupDraw!J47=\"\",\"\",CupDraw!J47)","v":""},{"$f":"IF(CupDraw!K47=\"\",\"\",CupDraw!K47)","v":""},{"$f":"IF(CupDraw!L47=\"\",\"\",CupDraw!L47)","v":""},null,null,null,{"$f":"IF(CupDraw!P47=\"\",\"\",CupDraw!P47)","v":"Paul Adderley"},{"$f":"IF(CupDraw!Q47=\"\",\"\",CupDraw!Q47)","v":-1.454545454545455},{"$f":"IF(CupDraw!R47=\"\",\"\",CupDraw!R47)","v":""},null,null,null,{"$f":"IF(CupDraw!V47=\"\",\"\",CupDraw!V47)","v":""},{"$f":"IF(CupDraw!W47=\"\",\"\",CupDraw!W47)","v":""},{"$f":"IF(CupDraw!X47=\"\",\"\",CupDraw!X47)","v":""}]
[null,{"$f":"CupDraw!I48","v":24},{"$f":"IF(CupDraw!J48=\"\",\"\",CupDraw!J48)","v":""},{"$f":"IF(CupDraw!K48=\"\",\"\",CupDraw!K48)","v":""},{"$f":"IF(CupDraw!L48=\"\",\"\",CupDraw!L48)","v":""},null,null,{"$f":"CupDraw!O48","v":24},{"$f":"IF(CupDraw!P48=\"\",\"\",CupDraw!P48)","v":"Paul Fiddler"},{"$f":"IF(CupDraw!Q48=\"\",\"\",CupDraw!Q48)","v":-5.1666666666666661},{"$f":"IF(CupDraw!R48=\"\",\"\",CupDraw!R48)","v":""}]
[null,null,{"$f":"IF(CupDraw!J49=\"\",\"\",CupDraw!J49)","v":""},{"$f":"IF(CupDraw!K49=\"\",\"\",CupDraw!K49)","v":""},{"$f":"IF(CupDraw!L49=\"\",\"\",CupDraw!L49)","v":""},null,null,null,{"$f":"IF(CupDraw!P49=\"\",\"\",CupDraw!P49)","v":"Chris Townsend"},{"$f":"IF(CupDraw!Q49=\"\",\"\",CupDraw!Q49)","v":10.8},{"$f":"IF(CupDraw!R49=\"\",\"\",CupDraw!R49)","v":""},null,null,null,null,null,null,null,null,{"$f":"CupDraw!AA49","v":"Earlier Ties"}]
[null,{"$f":"CupDraw!I50","v":25},{"$f":"IF(CupDraw!J50=\"\",\"\",CupDraw!J50)","v":""},{"$f":"IF(CupDraw!K50=\"\",\"\",CupDraw!K50)","v":""},{"$f":"IF(CupDraw!L50=\"\",\"\",CupDraw!L50)","v":""},null,null,{"$f":"CupDraw!O50","v":25},{"$f":"IF(CupDraw!P50=\"\",\"\",CupDraw!P50)","v":"Mark Bunn"},{"$f":"IF(CupDraw!Q50=\"\",\"\",CupDraw!Q50)","v":-10},{"$f":"IF(CupDraw!R50=\"\",\"\",CupDraw!R50)","v":""},null,null,null,null,null,null,null,null,null,{"$f":"IF(CupDraw!AB50=\"\",\"\",CupDraw!AB50)","v":""},{"$f":"IF(CupDraw!AC50=\"\",\"\",CupDraw!AC50)","v":""},{"$f":"IF(CupDraw!AD50=\"\",\"\",CupDraw!AD50)","v":""}]
[null,null,{"$f":"IF(CupDraw!J51=\"\",\"\",CupDraw!J51)","v":""},{"$f":"IF(CupDraw!K51=\"\",\"\",CupDraw!K51)","v":""},{"$f":"IF(CupDraw!L51=\"\",\"\",CupDraw!L51)","v":""},null,null,null,{"$f":"IF(CupDraw!P51=\"\",\"\",CupDraw!P51)","v":"Stephen Troop"},{"$f":"IF(CupDraw!Q51=\"\",\"\",CupDraw!Q51)","v":-7},{"$f":"IF(CupDraw!R51=\"\",\"\",CupDraw!R51)","v":""},null,null,null,null,null,null,null,null,null,{"$f":"IF(CupDraw!AB51=\"\",\"\",CupDraw!AB51)","v":""},{"$f":"IF(CupDraw!AC51=\"\",\"\",CupDraw!AC51)","v":""},{"$f":"IF(CupDraw!AD51=\"\",\"\",CupDraw!AD51)","v":""}]
[null,{"$f":"CupDraw!I52","v":26},{"$f":"IF(CupDraw!J52=\"\",\"\",CupDraw!J52)","v":""},{"$f":"IF(CupDraw!K52=\"\",\"\",CupDraw!K52)","v":""},{"$f":"IF(CupDraw!L52=\"\",\"\",CupDraw!L52)","v":""},null,null,{"$f":"CupDraw!O52","v":26},{"$f":"IF(CupDraw!P52=\"\",\"\",CupDraw!P52)","v":"Steve Carter"},{"$f":"IF(CupDraw!Q52=\"\",\"\",CupDraw!Q52)","v":-4.95},{"$f":"IF(CupDraw!R52=\"\",\"\",CupDraw!R52)","v":""},null,null,null,null,null,null,null,null,null,{"$f":"IF(CupDraw!AB52=\"\",\"\",CupDraw!AB52)","v":""},{"$f":"IF(CupDraw!AC52=\"\",\"\",CupDraw!AC52)","v":""},{"$f":"IF(CupDraw!AD52=\"\",\"\",CupDraw!AD52)","v":""}]
[null,null,{"$f":"IF(CupDraw!J53=\"\",\"\",CupDraw!J53)","v":""},{"$f":"IF(CupDraw!K53=\"\",\"\",CupDraw!K53)","v":""},{"$f":"IF(CupDraw!L53=\"\",\"\",CupDraw!L53)","v":""},null,null,null,{"$f":"IF(CupDraw!P53=\"\",\"\",CupDraw!P53)","v":"Liam Wah"},{"$f":"IF(CupDraw!Q53=\"\",\"\",CupDraw!Q53)","v":-10},{"$f":"IF(CupDraw!R53=\"\",\"\",CupDraw!R53)","v":""},null,null,null,null,null,null,null,null,null,{"$f":"IF(CupDraw!AB53=\"\",\"\",CupDraw!AB53)","v":""},{"$f":"IF(CupDraw!AC53=\"\",\"\",CupDraw!AC53)","v":""},{"$f":"IF(CupDraw!AD53=\"\",\"\",CupDraw!AD53)","v":""}]
[null,{"$f":"CupDraw!I54","v":27},{"$f":"IF(CupDraw!J54=\"\",\"\",CupDraw!J54)","v":""},{"$f":"IF(CupDraw!K54=\"\",\"\",CupDraw!K54)","v":""},{"$f":"IF(CupDraw!L54=\"\",\"\",CupDraw!L54)","v":""},null,null,{"$f":"CupDraw!O54","v":27},{"$f":"IF(CupDraw!P54=\"\",\"\",CupDraw!P54)","v":"Paul Allen"},{"$f":"IF(CupDraw!Q54=\"\",\"\",CupDraw!Q54)","v":-7},{"$f":"IF(CupDraw!R54=\"\",\"\",CupDraw!R54)","v":""},null,null,null,null,null,null,null,null,null,{"$f":"IF(CupDraw!AB54=\"\",\"\",CupDraw!AB54)","v":""},{"$f":"IF(CupDraw!AC54=\"\",\"\",CupDraw!AC54)","v":""},{"$f":"IF(CupDraw!AD54=\"\",\"\",CupDraw!AD54)","v":""}]
[null,null,{"$f":"IF(CupDraw!J55=\"\",\"\",CupDraw!J55)","v":""},{"$f":"IF(CupDraw!K55=\"\",\"\",CupDraw!K55)","v":""},{"$f":"IF(CupDraw!L55=\"\",\"\",CupDraw!L55)","v":""},null,null,null,{"$f":"IF(CupDraw!P55=\"\",\"\",CupDraw!P55)","v":"Kei Lok Ma"},{"$f":"IF(CupDraw!Q55=\"\",\"\",CupDraw!Q55)","v":4.7650000000000006},{"$f":"IF(CupDraw!R55=\"\",\"\",CupDraw!R55)","v":""},null,null,null,null,null,null,null,null,null,{"$f":"IF(CupDraw!AB55=\"\",\"\",CupDraw!AB55)","v":""},{"$f":"IF(CupDraw!AC55=\"\",\"\",CupDraw!AC55)","v":""},{"$f":"IF(CupDraw!AD55=\"\",\"\",CupDraw!AD55)","v":""}]
[null,{"$f":"CupDraw!I56","v":28},{"$f":"IF(CupDraw!J56=\"\",\"\",CupDraw!J56)","v":""},{"$f":"IF(CupDraw!K56=\"\",\"\",CupDraw!K56)","v":""},{"$f":"IF(CupDraw!L56=\"\",\"\",CupDraw!L56)","v":""},null,null,{"$f":"CupDraw!O56","v":28},{"$f":"IF(CupDraw!P56=\"\",\"\",CupDraw!P56)","v":"Steve Baxter"},{"$f":"IF(CupDraw!Q56=\"\",\"\",CupDraw!Q56)","v":-5.2},{"$f":"IF(CupDraw!R56=\"\",\"\",CupDraw!R56)","v":""},null,null,null,null,null,null,null,null,null,{"$f":"IF(CupDraw!AB56=\"\",\"\",CupDraw!AB56)","v":""},{"$f":"IF(CupDraw!AC56=\"\",\"\",CupDraw!AC56)","v":""},{"$f":"IF(CupDraw!AD56=\"\",\"\",CupDraw!AD56)","v":""}]
[null,null,{"$f":"IF(CupDraw!J57=\"\",\"\",CupDraw!J57)","v":""},{"$f":"IF(CupDraw!K57=\"\",\"\",CupDraw!K57)","v":""},{"$f":"IF(CupDraw!L57=\"\",\"\",CupDraw!L57)","v":""},null,null,null,{"$f":"IF(CupDraw!P57=\"\",\"\",CupDraw!P57)","v":"Chris Luck"},{"$f":"IF(CupDraw!Q57=\"\",\"\",CupDraw!Q57)","v":-7},{"$f":"IF(CupDraw!R57=\"\",\"\",CupDraw!R57)","v":""},null,null,null,null,null,null,null,null,null,{"$f":"IF(CupDraw!AB57=\"\",\"\",CupDraw!AB57)","v":""},{"$f":"IF(CupDraw!AC57=\"\",\"\",CupDraw!AC57)","v":""},{"$f":"IF(CupDraw!AD57=\"\",\"\",CupDraw!AD57)","v":""}]
[null,{"$f":"CupDraw!I58","v":29},{"$f":"IF(CupDraw!J58=\"\",\"\",CupDraw!J58)","v":""},{"$f":"IF(CupDraw!K58=\"\",\"\",CupDraw!K58)","v":""},{"$f":"IF(CupDraw!L58=\"\",\"\",CupDraw!L58)","v":""},null,null,{"$f":"CupDraw!O58","v":29},{"$f":"IF(CupDraw!P58=\"\",\"\",CupDraw!P58)","v":"Paul Barnes"},{"$f":"IF(CupDraw!Q58=\"\",\"\",CupDraw!Q58)","v":18.32},{"$f":"IF(CupDraw!R58=\"\",\"\",CupDraw!R58)","v":""}]
[null,null,{"$f":"IF(CupDraw!J59=\"\",\"\",CupDraw!J59)","v":""},{"$f":"IF(CupDraw!K59=\"\",\"\",CupDraw!K59)","v":""},{"$f":"IF(CupDraw!L59=\"\",\"\",CupDraw!L59)","v":""},null,null,null,{"$f":"IF(CupDraw!P59=\"\",\"\",CupDraw!P59)","v":"Alan White"},{"$f":"IF(CupDraw!Q59=\"\",\"\",CupDraw!Q59)","v":7.0500000000000007},{"$f":"IF(CupDraw!R59=\"\",\"\",CupDraw!R59)","v":""}]
[null,{"$f":"CupDraw!I60","v":30},{"$f":"IF(CupDraw!J60=\"\",\"\",CupDraw!J60)","v":""},{"$f":"IF(CupDraw!K60=\"\",\"\",CupDraw!K60)","v":""},{"$f":"IF(CupDraw!L60=\"\",\"\",CupDraw!L60)","v":""},null,null,{"$f":"CupDraw!O60","v":30},{"$f":"IF(CupDraw!P60=\"\",\"\",CupDraw!P60)","v":"Chris Bow"},{"$f":"IF(CupDraw!Q60=\"\",\"\",CupDraw!Q60)","v":-4.55},{"$f":"IF(CupDraw!R60=\"\",\"\",CupDraw!R60)","v":""}]
[null,null,{"$f":"IF(CupDraw!J61=\"\",\"\",CupDraw!J61)","v":""},{"$f":"IF(CupDraw!K61=\"\",\"\",CupDraw!K61)","v":""},{"$f":"IF(CupDraw!L61=\"\",\"\",CupDraw!L61)","v":""},null,null,null,{"$f":"IF(CupDraw!P61=\"\",\"\",CupDraw!P61)","v":"Lewis Buckley"},{"$f":"IF(CupDraw!Q61=\"\",\"\",CupDraw!Q61)","v":-10},{"$f":"IF(CupDraw!R61=\"\",\"\",CupDraw!R61)","v":""}]
[null,{"$f":"CupDraw!I62","v":31},{"$f":"IF(CupDraw!J62=\"\",\"\",CupDraw!J62)","v":""},{"$f":"IF(CupDraw!K62=\"\",\"\",CupDraw!K62)","v":""},{"$f":"IF(CupDraw!L62=\"\",\"\",CupDraw!L62)","v":""},null,null,{"$f":"CupDraw!O62","v":31},{"$f":"IF(CupDraw!P62=\"\",\"\",CupDraw!P62)","v":"Paul Ridgeway"},{"$f":"IF(CupDraw!Q62=\"\",\"\",CupDraw!Q62)","v":-7},{"$f":"IF(CupDraw!R62=\"\",\"\",CupDraw!R62)","v":""}]
[null,null,{"$f":"IF(CupDraw!J63=\"\",\"\",CupDraw!J63)","v":""},{"$f":"IF(CupDraw!K63=\"\",\"\",CupDraw!K63)","v":""},{"$f":"IF(CupDraw!L63=\"\",\"\",CupDraw!L63)","v":""},null,null,null,{"$f":"IF(CupDraw!P63=\"\",\"\",CupDraw!P63)","v":"Bye"},{"$f":"IF(CupDraw!Q63=\"\",\"\",CupDraw!Q63)","v":-10},{"$f":"IF(CupDraw!R63=\"\",\"\",CupDraw!R63)","v":""},null,null,null,null,null,null,null,null,{"$f":"CupDraw!AA63","v":"SF"},{"$f":"CupDraw!AB63","v":"2020-12-05"}]
[null,{"$f":"CupDraw!I64","v":32},{"$f":"IF(CupDraw!J64=\"\",\"\",CupDraw!J64)","v":""},{"$f":"IF(CupDraw!K64=\"\",\"\",CupDraw!K64)","v":""},{"$f":"IF(CupDraw!L64=\"\",\"\",CupDraw!L64)","v":""},null,null,{"$f":"CupDraw!O64","v":32},{"$f":"IF(CupDraw!P64=\"\",\"\",CupDraw!P64)","v":"Gareth Powell"},{"$f":"IF(CupDraw!Q64=\"\",\"\",CupDraw!Q64)","v":-7},{"$f":"IF(CupDraw!R64=\"\",\"\",CupDraw!R64)","v":""},null,null,null,null,null,null,null,null,{"$f":"CupDraw!AA64","v":1},{"$f":"IF(CupDraw!AB64=\"\",\"\",CupDraw!AB64)","v":"Pete Baron"},{"$f":"IF(CupDraw!AC64=\"\",\"\",CupDraw!AC64)","v":-7},{"$f":"CupDraw!AD64","v":""}]
[null,null,{"$f":"IF(CupDraw!J65=\"\",\"\",CupDraw!J65)","v":""},{"$f":"IF(CupDraw!K65=\"\",\"\",CupDraw!K65)","v":""},{"$f":"IF(CupDraw!L65=\"\",\"\",CupDraw!L65)","v":""},null,null,null,{"$f":"IF(CupDraw!P65=\"\",\"\",CupDraw!P65)","v":"Bye"},{"$f":"IF(CupDraw!Q65=\"\",\"\",CupDraw!Q65)","v":-10},{"$f":"IF(CupDraw!R65=\"\",\"\",CupDraw!R65)","v":""},null,null,null,null,null,null,null,null,null,{"$f":"CupDraw!AB65","v":"Mike Penk"},{"$f":"IF(CupDraw!AC65=\"\",\"\",CupDraw!AC65)","v":-3.5}]
[null,{"$f":"CupDraw!I66","v":33},{"$f":"IF(CupDraw!J66=\"\",\"\",CupDraw!J66)","v":""},{"$f":"IF(CupDraw!K66=\"\",\"\",CupDraw!K66)","v":""},{"$f":"IF(CupDraw!L66=\"\",\"\",CupDraw!L66)","v":""},null,null,null,null,null,null,null,null,null,null,null,null,null,null,{"$f":"CupDraw!AA66","v":2},{"$f":"CupDraw!AB66","v":"Nigel Heyes"},{"$f":"IF(CupDraw!AC66=\"\",\"\",CupDraw!AC66)","v":-5.0909090909090908},{"$f":"CupDraw!AD66","v":""}]
[null,null,{"$f":"IF(CupDraw!J67=\"\",\"\",CupDraw!J67)","v":""},{"$f":"IF(CupDraw!K67=\"\",\"\",CupDraw!K67)","v":""},{"$f":"IF(CupDraw!L67=\"\",\"\",CupDraw!L67)","v":""},null,null,null,null,null,null,null,null,null,null,null,null,null,null,null,{"$f":"CupDraw!AB67","v":"Stephen Troop"},{"$f":"IF(CupDraw!AC67=\"\",\"\",CupDraw!AC67)","v":-2.4350000000000005}]
[null,{"$f":"CupDraw!I68","v":34},{"$f":"IF(CupDraw!J68=\"\",\"\",CupDraw!J68)","v":""},{"$f":"IF(CupDraw!K68=\"\",\"\",CupDraw!K68)","v":""},{"$f":"IF(CupDraw!L68=\"\",\"\",CupDraw!L68)","v":""},null,null,{"$f":"CupDraw!O68","v":"Earlier ties"}]
[null,null,{"$f":"IF(CupDraw!J69=\"\",\"\",CupDraw!J69)","v":""},{"$f":"IF(CupDraw!K69=\"\",\"\",CupDraw!K69)","v":""},{"$f":"IF(CupDraw!L69=\"\",\"\",CupDraw!L69)","v":""},null,null,{"$f":"IF(CupDraw!O69=\"\",\"\",CupDraw!O69)","v":12},{"$f":"IF(CupDraw!P69=\"\",\"\",CupDraw!P69)","v":"Andy Charleston"},{"$f":"IF(CupDraw!Q69=\"\",\"\",CupDraw!Q69)","v":-5},{"$f":"IF(CupDraw!R69=\"\",\"\",CupDraw!R69)","v":"R"},null,null,null,null,null,null,null,null,{"$f":"CupDraw!AA69","v":"Earlier ties"}]
[null,{"$f":"CupDraw!I70","v":35},{"$f":"IF(CupDraw!J70=\"\",\"\",CupDraw!J70)","v":""},{"$f":"IF(CupDraw!K70=\"\",\"\",CupDraw!K70)","v":""},{"$f":"IF(CupDraw!L70=\"\",\"\",CupDraw!L70)","v":""},null,null,{"$f":"CupDraw!O70","v":0},{"$f":"IF(CupDraw!P70=\"\",\"\",CupDraw!P70)","v":"Martin Tarbuck"},{"$f":"IF(CupDraw!Q70=\"\",\"\",CupDraw!Q70)","v":-5},{"$f":"IF(CupDraw!R70=\"\",\"\",CupDraw!R70)","v":""},null,null,null,null,null,null,null,null,null,{"$f":"IF(CupDraw!AB70=\"\",\"\",CupDraw!AB70)","v":""},{"$f":"IF(CupDraw!AC70=\"\",\"\",CupDraw!AC70)","v":""},{"$f":"CupDraw!AD70","v":""}]
[null,null,{"$f":"IF(CupDraw!J71=\"\",\"\",CupDraw!J71)","v":""},{"$f":"IF(CupDraw!K71=\"\",\"\",CupDraw!K71)","v":""},{"$f":"IF(CupDraw!L71=\"\",\"\",CupDraw!L71)","v":""},null,null,{"$f":"IF(CupDraw!O71=\"\",\"\",CupDraw!O71)","v":23},{"$f":"IF(CupDraw!P71=\"\",\"\",CupDraw!P71)","v":"Jack Walsh"},{"$f":"IF(CupDraw!Q71=\"\",\"\",CupDraw!Q71)","v":-7},{"$f":"IF(CupDraw!R71=\"\",\"\",CupDraw!R71)","v":"R"},null,null,null,null,null,null,null,null,null,{"$f":"IF(CupDraw!AB71=\"\",\"\",CupDraw!AB71)","v":""},{"$f":"IF(CupDraw!AC71=\"\",\"\",CupDraw!AC71)","v":""}]
[null,{"$f":"CupDraw!I72","v":36},{"$f":"IF(CupDraw!J72=\"\",\"\",CupDraw!J72)","v":""},{"$f":"IF(CupDraw!K72=\"\",\"\",CupDraw!K72)","v":""},{"$f":"IF(CupDraw!L72=\"\",\"\",CupDraw!L72)","v":""},null,null,{"$f":"CupDraw!O72","v":0},{"$f":"IF(CupDraw!P72=\"\",\"\",CupDraw!P72)","v":"Paul Adderley"},{"$f":"IF(CupDraw!Q72=\"\",\"\",CupDraw!Q72)","v":-7},{"$f":"IF(CupDraw!R72=\"\",\"\",CupDraw!R72)","v":""},null,null,null,null,null,null,null,null,null,{"$f":"IF(CupDraw!AB72=\"\",\"\",CupDraw!AB72)","v":""},{"$f":"IF(CupDraw!AC72=\"\",\"\",CupDraw!AC72)","v":""},{"$f":"CupDraw!AD72","v":""}]
[null,null,{"$f":"IF(CupDraw!J73=\"\",\"\",CupDraw!J73)","v":""},{"$f":"IF(CupDraw!K73=\"\",\"\",CupDraw!K73)","v":""},{"$f":"IF(CupDraw!L73=\"\",\"\",CupDraw!L73)","v":""},null,null,{"$f":"IF(CupDraw!O73=\"\",\"\",CupDraw!O73)","v":""},{"$f":"IF(CupDraw!P73=\"\",\"\",CupDraw!P73)","v":""},{"$f":"IF(CupDraw!Q73=\"\",\"\",CupDraw!Q73)","v":""},{"$f":"IF(CupDraw!R73=\"\",\"\",CupDraw!R73)","v":""},null,null,null,null,null,null,null,null,null,{"$f":"IF(CupDraw!AB73=\"\",\"\",CupDraw!AB73)","v":""},{"$f":"IF(CupDraw!AC73=\"\",\"\",CupDraw!AC73)","v":""}]
[null,null,null,null,null,null,null,{"$f":"CupDraw!O74","v":0},{"$f":"IF(CupDraw!P74=\"\",\"\",CupDraw!P74)","v":""},{"$f":"IF(CupDraw!Q74=\"\",\"\",CupDraw!Q74)","v":""},{"$f":"IF(CupDraw!R74=\"\",\"\",CupDraw!R74)","v":""}]
[null,null,null,null,null,null,null,{"$f":"IF(CupDraw!O75=\"\",\"\",CupDraw!O75)","v":""},{"$f":"IF(CupDraw!P75=\"\",\"\",CupDraw!P75)","v":""},{"$f":"IF(CupDraw!Q75=\"\",\"\",CupDraw!Q75)","v":""},{"$f":"IF(CupDraw!R75=\"\",\"\",CupDraw!R75)","v":""}]
[null,"Earlier ties",null,null,null,null,null,{"$f":"CupDraw!O76","v":0},{"$f":"IF(CupDraw!P76=\"\",\"\",CupDraw!P76)","v":""},{"$f":"IF(CupDraw!Q76=\"\",\"\",CupDraw!Q76)","v":""},{"$f":"IF(CupDraw!R76=\"\",\"\",CupDraw!R76)","v":""}]
[null,null,{"$f":"IF(CupDraw!J79=\"\",\"\",CupDraw!J79)","v":"Pete Baron"},{"$f":"IF(CupDraw!K79=\"\",\"\",CupDraw!K79)","v":""},{"$f":"IF(CupDraw!L79=\"\",\"\",CupDraw!L79)","v":"R"},null,null,{"$f":"IF(CupDraw!O77=\"\",\"\",CupDraw!O77)","v":""},{"$f":"IF(CupDraw!P77=\"\",\"\",CupDraw!P77)","v":""},{"$f":"IF(CupDraw!Q77=\"\",\"\",CupDraw!Q77)","v":""},{"$f":"IF(CupDraw!R77=\"\",\"\",CupDraw!R77)","v":""}]
[null,null,{"$f":"IF(CupDraw!J80=\"\",\"\",CupDraw!J80)","v":"Chris Townsend"},{"$f":"IF(CupDraw!K80=\"\",\"\",CupDraw!K80)","v":""},null,null,null,{"$f":"CupDraw!O78","v":0},{"$f":"IF(CupDraw!P78=\"\",\"\",CupDraw!P78)","v":""},{"$f":"IF(CupDraw!Q78=\"\",\"\",CupDraw!Q78)","v":""},{"$f":"IF(CupDraw!R78=\"\",\"\",CupDraw!R78)","v":""}]
[null,null,{"$f":"IF(CupDraw!J81=\"\",\"\",CupDraw!J81)","v":""},{"$f":"IF(CupDraw!K81=\"\",\"\",CupDraw!K81)","v":""},{"$f":"IF(CupDraw!L81=\"\",\"\",CupDraw!L81)","v":""},null,null,{"$f":"IF(CupDraw!O79=\"\",\"\",CupDraw!O79)","v":""},{"$f":"IF(CupDraw!P79=\"\",\"\",CupDraw!P79)","v":""},{"$f":"IF(CupDraw!Q79=\"\",\"\",CupDraw!Q79)","v":""},{"$f":"IF(CupDraw!R79=\"\",\"\",CupDraw!R79)","v":""}]
[null,null,{"$f":"IF(CupDraw!J82=\"\",\"\",CupDraw!J82)","v":""},{"$f":"IF(CupDraw!K82=\"\",\"\",CupDraw!K82)","v":""},null,null,null,{"$f":"CupDraw!O80","v":0},{"$f":"IF(CupDraw!P80=\"\",\"\",CupDraw!P80)","v":""},{"$f":"IF(CupDraw!Q80=\"\",\"\",CupDraw!Q80)","v":""},{"$f":"IF(CupDraw!R80=\"\",\"\",CupDraw!R80)","v":""},null,null,null,null,null,null,null,null,{"$f":"CupDraw!AA80","v":"Final"},{"$f":"CupDraw!AB80","v":"2020-12-16"}]
[null,null,{"$f":"IF(CupDraw!J83=\"\",\"\",CupDraw!J83)","v":""},{"$f":"IF(CupDraw!K83=\"\",\"\",CupDraw!K83)","v":""},{"$f":"IF(CupDraw!L83=\"\",\"\",CupDraw!L83)","v":""},null,null,{"$f":"IF(CupDraw!O81=\"\",\"\",CupDraw!O81)","v":""},{"$f":"IF(CupDraw!P81=\"\",\"\",CupDraw!P81)","v":""},{"$f":"IF(CupDraw!Q81=\"\",\"\",CupDraw!Q81)","v":""},{"$f":"IF(CupDraw!R81=\"\",\"\",CupDraw!R81)","v":""},null,null,null,null,null,null,null,null,{"$f":"CupDraw!AA81","v":1},{"$f":"CupDraw!AB81","v":"Mike Penk"},{"$f":"IF(CupDraw!AC81=\"\",\"\",CupDraw!AC81)","v":""},{"$f":"CupDraw!AD81","v":""}]
[null,null,{"$f":"IF(CupDraw!J84=\"\",\"\",CupDraw!J84)","v":""},{"$f":"IF(CupDraw!K84=\"\",\"\",CupDraw!K84)","v":""},{"$f":"IF(CupDraw!L84=\"\",\"\",CupDraw!L84)","v":""},null,null,{"$f":"CupDraw!O82","v":0},{"$f":"IF(CupDraw!P82=\"\",\"\",CupDraw!P82)","v":""},{"$f":"IF(CupDraw!Q82=\"\",\"\",CupDraw!Q82)","v":""},{"$f":"IF(CupDraw!R82=\"\",\"\",CupDraw!R82)","v":""},null,null,null,null,null,null,null,null,null,{"$f":"CupDraw!AB82","v":"Stephen Troop"},{"$f":"IF(CupDraw!AC82=\"\",\"\",CupDraw!AC82)","v":""}]
[null,null,{"$f":"IF(CupDraw!J85=\"\",\"\",CupDraw!J85)","v":""},{"$f":"IF(CupDraw!K85=\"\",\"\",CupDraw!K85)","v":""},{"$f":"IF(CupDraw!L85=\"\",\"\",CupDraw!L85)","v":""},null,null,{"$f":"IF(CupDraw!O83=\"\",\"\",CupDraw!O83)","v":""},{"$f":"IF(CupDraw!P83=\"\",\"\",CupDraw!P83)","v":""},{"$f":"IF(CupDraw!Q83=\"\",\"\",CupDraw!Q83)","v":""},{"$f":"IF(CupDraw!R83=\"\",\"\",CupDraw!R83)","v":""}]
[null,null,{"$f":"IF(CupDraw!J86=\"\",\"\",CupDraw!J86)","v":""},{"$f":"IF(CupDraw!K86=\"\",\"\",CupDraw!K86)","v":""},{"$f":"IF(CupDraw!L86=\"\",\"\",CupDraw!L86)","v":""},null,null,{"$f":"CupDraw!O84","v":0},{"$f":"IF(CupDraw!P84=\"\",\"\",CupDraw!P84)","v":""},{"$f":"IF(CupDraw!Q84=\"\",\"\",CupDraw!Q84)","v":""},{"$f":"IF(CupDraw!R84=\"\",\"\",CupDraw!R84)","v":""}]
[null,null,{"$f":"IF(CupDraw!J87=\"\",\"\",CupDraw!J87)","v":""},{"$f":"IF(CupDraw!K87=\"\",\"\",CupDraw!K87)","v":""},{"$f":"IF(CupDraw!L87=\"\",\"\",CupDraw!L87)","v":""},null,null,{"$f":"IF(CupDraw!O85=\"\",\"\",CupDraw!O85)","v":""},{"$f":"IF(CupDraw!P85=\"\",\"\",CupDraw!P85)","v":""},{"$f":"IF(CupDraw!Q85=\"\",\"\",CupDraw!Q85)","v":""},{"$f":"IF(CupDraw!R85=\"\",\"\",CupDraw!R85)","v":""},null,null,null,null,null,null,null,null,{"$f":"CupDraw!AA85","v":"Earlier ties"}]
[null,null,{"$f":"IF(CupDraw!J88=\"\",\"\",CupDraw!J88)","v":""},{"$f":"IF(CupDraw!K88=\"\",\"\",CupDraw!K88)","v":""},{"$f":"IF(CupDraw!L88=\"\",\"\",CupDraw!L88)","v":""},null,null,{"$f":"CupDraw!O86","v":0},{"$f":"IF(CupDraw!P86=\"\",\"\",CupDraw!P86)","v":""},{"$f":"IF(CupDraw!Q86=\"\",\"\",CupDraw!Q86)","v":""},{"$f":"IF(CupDraw!R86=\"\",\"\",CupDraw!R86)","v":""},null,null,null,null,null,null,null,null,null,{"$f":"IF(CupDraw!AB86=\"\",\"\",CupDraw!AB86)","v":""},{"$f":"IF(CupDraw!AC86=\"\",\"\",CupDraw!AC86)","v":""},{"$f":"IF(CupDraw!AD86=\"\",\"\",CupDraw!AD86)","v":""}]
[null,null,{"$f":"IF(CupDraw!J89=\"\",\"\",CupDraw!J89)","v":""},{"$f":"IF(CupDraw!K89=\"\",\"\",CupDraw!K89)","v":""},{"$f":"IF(CupDraw!L89=\"\",\"\",CupDraw!L89)","v":""},null,null,{"$f":"IF(CupDraw!O87=\"\",\"\",CupDraw!O87)","v":""},{"$f":"IF(CupDraw!P87=\"\",\"\",CupDraw!P87)","v":""},{"$f":"IF(CupDraw!Q87=\"\",\"\",CupDraw!Q87)","v":""},{"$f":"IF(CupDraw!R87=\"\",\"\",CupDraw!R87)","v":""},null,null,null,null,null,null,null,null,null,{"$f":"IF(CupDraw!AB87=\"\",\"\",CupDraw!AB87)","v":""},{"$f":"IF(CupDraw!AC87=\"\",\"\",CupDraw!AC87)","v":""},{"$f":"IF(CupDraw!AD87=\"\",\"\",CupDraw!AD87)","v":""}]
[null,null,{"$f":"IF(CupDraw!J90=\"\",\"\",CupDraw!J90)","v":""},{"$f":"IF(CupDraw!K90=\"\",\"\",CupDraw!K90)","v":""},{"$f":"IF(CupDraw!L90=\"\",\"\",CupDraw!L90)","v":""},null,null,{"$f":"CupDraw!O88","v":0},{"$f":"IF(CupDraw!P88=\"\",\"\",CupDraw!P88)","v":""},{"$f":"IF(CupDraw!Q88=\"\",\"\",CupDraw!Q88)","v":""},{"$f":"IF(CupDraw!R88=\"\",\"\",CupDraw!R88)","v":""},null,null,null,null,null,null,null,null,null,{"$f":"IF(CupDraw!AB88=\"\",\"\",CupDraw!AB88)","v":""},{"$f":"IF(CupDraw!AC88=\"\",\"\",CupDraw!AC88)","v":""},{"$f":"IF(CupDraw!AD88=\"\",\"\",CupDraw!AD88)","v":""}]
[null,null,{"$f":"IF(CupDraw!J91=\"\",\"\",CupDraw!J91)","v":""},{"$f":"IF(CupDraw!K91=\"\",\"\",CupDraw!K91)","v":""},{"$f":"IF(CupDraw!L91=\"\",\"\",CupDraw!L91)","v":""},null,null,{"$f":"IF(CupDraw!O89=\"\",\"\",CupDraw!O89)","v":""},{"$f":"IF(CupDraw!P89=\"\",\"\",CupDraw!P89)","v":""},{"$f":"IF(CupDraw!Q89=\"\",\"\",CupDraw!Q89)","v":""},{"$f":"IF(CupDraw!R89=\"\",\"\",CupDraw!R89)","v":""},null,null,null,null,null,null,null,null,null,{"$f":"IF(CupDraw!AB89=\"\",\"\",CupDraw!AB89)","v":""},{"$f":"IF(CupDraw!AC89=\"\",\"\",CupDraw!AC89)","v":""},{"$f":"IF(CupDraw!AD89=\"\",\"\",CupDraw!AD89)","v":""}]
[null,null,{"$f":"IF(CupDraw!J92=\"\",\"\",CupDraw!J92)","v":""},{"$f":"IF(CupDraw!K92=\"\",\"\",CupDraw!K92)","v":""},{"$f":"IF(CupDraw!L92=\"\",\"\",CupDraw!L92)","v":""},null,null,{"$f":"CupDraw!O90","v":0},{"$f":"IF(CupDraw!P90=\"\",\"\",CupDraw!P90)","v":""},{"$f":"IF(CupDraw!Q90=\"\",\"\",CupDraw!Q90)","v":""},{"$f":"IF(CupDraw!R90=\"\",\"\",CupDraw!R90)","v":""}]
[null,null,{"$f":"IF(CupDraw!J93=\"\",\"\",CupDraw!J93)","v":""},{"$f":"IF(CupDraw!K93=\"\",\"\",CupDraw!K93)","v":""},{"$f":"IF(CupDraw!L93=\"\",\"\",CupDraw!L93)","v":""},null,null,{"$f":"IF(CupDraw!O91=\"\",\"\",CupDraw!O91)","v":""},{"$f":"IF(CupDraw!P91=\"\",\"\",CupDraw!P91)","v":""},{"$f":"IF(CupDraw!Q91=\"\",\"\",CupDraw!Q91)","v":""},{"$f":"IF(CupDraw!R91=\"\",\"\",CupDraw!R91)","v":""}]
[null,null,{"$f":"IF(CupDraw!J94=\"\",\"\",CupDraw!J94)","v":""},{"$f":"IF(CupDraw!K94=\"\",\"\",CupDraw!K94)","v":""},{"$f":"IF(CupDraw!L94=\"\",\"\",CupDraw!L94)","v":""},null,null,{"$f":"CupDraw!O92","v":0},{"$f":"IF(CupDraw!P92=\"\",\"\",CupDraw!P92)","v":""},{"$f":"IF(CupDraw!Q92=\"\",\"\",CupDraw!Q92)","v":""},{"$f":"IF(CupDraw!R92=\"\",\"\",CupDraw!R92)","v":""}]
[null,null,{"$f":"IF(CupDraw!J95=\"\",\"\",CupDraw!J95)","v":""}]

{"sheet":"Predictions","index":6,"n_rows":187,"n_cols":7,"rows_kept":187,"cut":false,"hidden":false,"merged":[]}
[{"$f":"IF(Picks!A1=\"\",\"\",Picks!A1)","v":"Player"},{"$f":"IF(Picks!B1=\"\",\"\",Picks!B1)","v":"Prediction"},{"$f":"IF(Picks!C1=\"\",\"\",Picks!C1)","v":"Match Day"},{"$f":"IF(Picks!D1=\"\",\"\",Picks!D1)","v":"Decimal"},{"$f":"IF(Picks!E1=\"\",\"\",Picks!E1)","v":"Bet in?"},{"$f":"IF(Picks!F1=\"\",\"\",Picks!F1)","v":"Score"},{"$f":"IF(Picks!G1=\"\",\"\",Picks!G1)","v":"Max"}]
[{"$f":"IF(Picks!A2=\"\",\"\",Picks!A2)","v":"Alan Rogers"},{"$f":"IF(Picks!B2=\"\",\"\",Picks!B2)","v":"Morecambe"},{"$f":"IF(Picks!C2=\"\",\"\",Picks!C2)","v":7},{"$f":"IF(Picks!D2=\"\",\"\",Picks!D2)","v":2.6},{"$f":"IF(Picks!E2=\"\",\"\",Picks!E2)","v":"√"},{"$f":"IF(Picks!F2=\"\",\"\",Picks!F2)","v":47.080000000000005},{"$f":"IF(Picks!G2=\"\",\"\",Picks!G2)","v":47.080000000000005}]
[null,{"$f":"IF(Picks!B3=\"\",\"\",Picks!B3)","v":"Oldham"},{"$f":"IF(Picks!C3=\"\",\"\",Picks!C3)","v":7},{"$f":"IF(Picks!D3=\"\",\"\",Picks!D3)","v":2.4},{"$f":"IF(Picks!E3=\"\",\"\",Picks!E3)","v":"√"},{"$f":"IF(Picks!F3=\"\",\"\",Picks!F3)","v":""},{"$f":"IF(Picks!G3=\"\",\"\",Picks!G3)","v":""}]
[null,{"$f":"IF(Picks!B4=\"\",\"\",Picks!B4)","v":"Port Vale draw"},{"$f":"IF(Picks!C4=\"\",\"\",Picks!C4)","v":7},{"$f":"IF(Picks!D4=\"\",\"\",Picks!D4)","v":3.5},{"$f":"IF(Picks!E4=\"\",\"\",Picks!E4)","v":"√"},{"$f":"IF(Picks!F4=\"\",\"\",Picks!F4)","v":""},{"$f":"IF(Picks!G4=\"\",\"\",Picks!G4)","v":""}]
[{"$f":"IF(Picks!A5=\"\",\"\",Picks!A5)","v":"Alan White"},{"$f":"IF(Picks!B5=\"\",\"\",Picks!B5)","v":"Leicester"},{"$f":"IF(Picks!C5=\"\",\"\",Picks!C5)","v":1},{"$f":"IF(Picks!D5=\"\",\"\",Picks!D5)","v":2},{"$f":"IF(Picks!E5=\"\",\"\",Picks!E5)","v":"√"},{"$f":"IF(Picks!F5=\"\",\"\",Picks!F5)","v":0.18181818181818166},{"$f":"IF(Picks!G5=\"\",\"\",Picks!G5)","v":14.314049586776861}]
[null,{"$f":"IF(Picks!B6=\"\",\"\",Picks!B6)","v":"Spurs"},{"$f":"IF(Picks!C6=\"\",\"\",Picks!C6)","v":1},{"$f":"IF(Picks!D6=\"\",\"\",Picks!D6)","v":1.7272727272727273},{"$f":"IF(Picks!E6=\"\",\"\",Picks!E6)","v":"x"},{"$f":"IF(Picks!F6=\"\",\"\",Picks!F6)","v":""},{"$f":"IF(Picks!G6=\"\",\"\",Picks!G6)","v":""}]
[null,{"$f":"IF(Picks!B7=\"\",\"\",Picks!B7)","v":"Southampton"},{"$f":"IF(Picks!C7=\"\",\"\",Picks!C7)","v":1},{"$f":"IF(Picks!D7=\"\",\"\",Picks!D7)","v":1.7272727272727273},{"$f":"IF(Picks!E7=\"\",\"\",Picks!E7)","v":"√"},{"$f":"IF(Picks!F7=\"\",\"\",Picks!F7)","v":""},{"$f":"IF(Picks!G7=\"\",\"\",Picks!G7)","v":""}]
[{"$f":"IF(Picks!A8=\"\",\"\",Picks!A8)","v":"Alfie Davies"},{"$f":"IF(Picks!B8=\"\",\"\",Picks!B8)","v":"Norwich"},{"$f":"IF(Picks!C8=\"\",\"\",Picks!C8)","v":7},{"$f":"IF(Picks!D8=\"\",\"\",Picks!D8)","v":2.75},{"$f":"IF(Picks!E8=\"\",\"\",Picks!E8)","v":"√"},{"$f":"IF(Picks!F8=\"\",\"\",Picks!F8)","v":50.275000000000006},{"$f":"IF(Picks!G8=\"\",\"\",Picks!G8)","v":50.275000000000006}]
[null,{"$f":"IF(Picks!B9=\"\",\"\",Picks!B9)","v":"Derby Draw"},{"$f":"IF(Picks!C9=\"\",\"\",Picks!C9)","v":7},{"$f":"IF(Picks!D9=\"\",\"\",Picks!D9)","v":3.2},{"$f":"IF(Picks!E9=\"\",\"\",Picks!E9)","v":"√"},{"$f":"IF(Picks!F9=\"\",\"\",Picks!F9)","v":""},{"$f":"IF(Picks!G9=\"\",\"\",Picks!G9)","v":""}]
[null,{"$f":"IF(Picks!B10=\"\",\"\",Picks!B10)","v":"Reading"},{"$f":"IF(Picks!C10=\"\",\"\",Picks!C10)","v":7},{"$f":"IF(Picks!D10=\"\",\"\",Picks!D10)","v":2.7},{"$f":"IF(Picks!E10=\"\",\"\",Picks!E10)","v":"√"},{"$f":"IF(Picks!F10=\"\",\"\",Picks!F10)","v":""},{"$f":"IF(Picks!G10=\"\",\"\",Picks!G10)","v":""}]
[{"$f":"IF(Picks!A11=\"\",\"\",Picks!A11)","v":"Alick Rocca"},{"$f":"IF(Picks!B11=\"\",\"\",Picks!B11)","v":"Birmingham Draw"},{"$f":"IF(Picks!C11=\"\",\"\",Picks!C11)","v":7},{"$f":"IF(Picks!D11=\"\",\"\",Picks!D11)","v":3.2},{"$f":"IF(Picks!E11=\"\",\"\",Picks!E11)","v":"x"},{"$f":"IF(Picks!F11=\"\",\"\",Picks!F11)","v":-7},{"$f":"IF(Picks!G11=\"\",\"\",Picks!G11)","v":66.045999999999992}]
[null,{"$f":"IF(Picks!B12=\"\",\"\",Picks!B12)","v":"QPR Draw"},{"$f":"IF(Picks!C12=\"\",\"\",Picks!C12)","v":7},{"$f":"IF(Picks!D12=\"\",\"\",Picks!D12)","v":3.3},{"$f":"IF(Picks!E12=\"\",\"\",Picks!E12)","v":"x"},{"$f":"IF(Picks!F12=\"\",\"\",Picks!F12)","v":""},{"$f":"IF(Picks!G12=\"\",\"\",Picks!G12)","v":""}]
[null,{"$f":"IF(Picks!B13=\"\",\"\",Picks!B13)","v":"Sheff W Draw"},{"$f":"IF(Picks!C13=\"\",\"\",Picks!C13)","v":7},{"$f":"IF(Picks!D13=\"\",\"\",Picks!D13)","v":3.1},{"$f":"IF(Picks!E13=\"\",\"\",Picks!E13)","v":"x"},{"$f":"IF(Picks!F13=\"\",\"\",Picks!F13)","v":""},{"$f":"IF(Picks!G13=\"\",\"\",Picks!G13)","v":""}]
[{"$f":"IF(Picks!A14=\"\",\"\",Picks!A14)","v":"Andy Charleston"},{"$f":"IF(Picks!B14=\"\",\"\",Picks!B14)","v":"Everton"},{"$f":"IF(Picks!C14=\"\",\"\",Picks!C14)","v":7},{"$f":"IF(Picks!D14=\"\",\"\",Picks!D14)","v":4.3333333333333339},{"$f":"IF(Picks!E14=\"\",\"\",Picks!E14)","v":"√"},{"$f":"IF(Picks!F14=\"\",\"\",Picks!F14)","v":-2.6666666666666661},{"$f":"IF(Picks!G14=\"\",\"\",Picks!G14)","v":134.22222222222223}]
[null,{"$f":"IF(Picks!B15=\"\",\"\",Picks!B15)","v":"Man U"},{"$f":"IF(Picks!C15=\"\",\"\",Picks!C15)","v":7},{"$f":"IF(Picks!D15=\"\",\"\",Picks!D15)","v":4.3333333333333339},{"$f":"IF(Picks!E15=\"\",\"\",Picks!E15)","v":"x"},{"$f":"IF(Picks!F15=\"\",\"\",Picks!F15)","v":""},{"$f":"IF(Picks!G15=\"\",\"\",Picks!G15)","v":""}]
[null,{"$f":"IF(Picks!B16=\"\",\"\",Picks!B16)","v":"Birmingham"},{"$f":"IF(Picks!C16=\"\",\"\",Picks!C16)","v":7},{"$f":"IF(Picks!D16=\"\",\"\",Picks!D16)","v":4},{"$f":"IF(Picks!E16=\"\",\"\",Picks!E16)","v":"x"},{"$f":"IF(Picks!F16=\"\",\"\",Picks!F16)","v":""},{"$f":"IF(Picks!G16=\"\",\"\",Picks!G16)","v":""}]
[{"$f":"IF(Picks!A17=\"\",\"\",Picks!A17)","v":"Andy White"},{"$f":"IF(Picks!B17=\"\",\"\",Picks!B17)","v":"Wolves"},{"$f":"IF(Picks!C17=\"\",\"\",Picks!C17)","v":7},{"$f":"IF(Picks!D17=\"\",\"\",Picks!D17)","v":2.2999999999999998},{"$f":"IF(Picks!E17=\"\",\"\",Picks!E17)","v":"x"},{"$f":"IF(Picks!F17=\"\",\"\",Picks!F17)","v":1.75},{"$f":"IF(Picks!G17=\"\",\"\",Picks!G17)","v":24.175000000000004}]
[null,{"$f":"IF(Picks!B18=\"\",\"\",Picks!B18)","v":"Newcastle"},{"$f":"IF(Picks!C18=\"\",\"\",Picks!C18)","v":7},{"$f":"IF(Picks!D18=\"\",\"\",Picks!D18)","v":2.25},{"$f":"IF(Picks!E18=\"\",\"\",Picks!E18)","v":"√"},{"$f":"IF(Picks!F18=\"\",\"\",Picks!F18)","v":""},{"$f":"IF(Picks!G18=\"\",\"\",Picks!G18)","v":""}]
[null,{"$f":"IF(Picks!B19=\"\",\"\",Picks!B19)","v":"Leicester"},{"$f":"IF(Picks!C19=\"\",\"\",Picks!C19)","v":1},{"$f":"IF(Picks!D19=\"\",\"\",Picks!D19)","v":2},{"$f":"IF(Picks!E19=\"\",\"\",Picks!E19)","v":"√"},{"$f":"IF(Picks!F19=\"\",\"\",Picks!F19)","v":""},{"$f":"IF(Picks!G19=\"\",\"\",Picks!G19)","v":""}]
[{"$f":"IF(Picks!A20=\"\",\"\",Picks!A20)","v":"Ashley Houghton"},{"$f":"IF(Picks!B20=\"\",\"\",Picks!B20)","v":"Doncaster"},{"$f":"IF(Picks!C20=\"\",\"\",Picks!C20)","v":7},{"$f":"IF(Picks!D20=\"\",\"\",Picks!D20)","v":1.9090909090909092},{"$f":"IF(Picks!E20=\"\",\"\",Picks!E20)","v":"√"},{"$f":"IF(Picks!F20=\"\",\"\",Picks!F20)","v":-0.39160839160839167},{"$f":"IF(Picks!G20=\"\",\"\",Picks!G20)","v":11.781818181818181}]
[null,{"$f":"IF(Picks!B21=\"\",\"\",Picks!B21)","v":"Hull"},{"$f":"IF(Picks!C21=\"\",\"\",Picks!C21)","v":7},{"$f":"IF(Picks!D21=\"\",\"\",Picks!D21)","v":1.6},{"$f":"IF(Picks!E21=\"\",\"\",Picks!E21)","v":"x"},{"$f":"IF(Picks!F21=\"\",\"\",Picks!F21)","v":""},{"$f":"IF(Picks!G21=\"\",\"\",Picks!G21)","v":""}]
[null,{"$f":"IF(Picks!B22=\"\",\"\",Picks!B22)","v":"Carlisle"},{"$f":"IF(Picks!C22=\"\",\"\",Picks!C22)","v":7},{"$f":"IF(Picks!D22=\"\",\"\",Picks!D22)","v":1.6153846153846154},{"$f":"IF(Picks!E22=\"\",\"\",Picks!E22)","v":"√"},{"$f":"IF(Picks!F22=\"\",\"\",Picks!F22)","v":""},{"$f":"IF(Picks!G22=\"\",\"\",Picks!G22)","v":""}]
[{"$f":"IF(Picks!A23=\"\",\"\",Picks!A23)","v":"Barry Birchall"},{"$f":"IF(Picks!B23=\"\",\"\",Picks!B23)","v":"Plymouth"},{"$f":"IF(Picks!C23=\"\",\"\",Picks!C23)","v":7},{"$f":"IF(Picks!D23=\"\",\"\",Picks!D23)","v":2.7},{"$f":"IF(Picks!E23=\"\",\"\",Picks!E23)","v":"x"},{"$f":"IF(Picks!F23=\"\",\"\",Picks!F23)","v":-7},{"$f":"IF(Picks!G23=\"\",\"\",Picks!G23)","v":68.51600000000002}]
[null,{"$f":"IF(Picks!B24=\"\",\"\",Picks!B24)","v":"Cambridge"},{"$f":"IF(Picks!C24=\"\",\"\",Picks!C24)","v":7},{"$f":"IF(Picks!D24=\"\",\"\",Picks!D24)","v":3.7},{"$f":"IF(Picks!E24=\"\",\"\",Picks!E24)","v":"x"},{"$f":"IF(Picks!F24=\"\",\"\",Picks!F24)","v":""},{"$f":"IF(Picks!G24=\"\",\"\",Picks!G24)","v":""}]
[null,{"$f":"IF(Picks!B25=\"\",\"\",Picks!B25)","v":"Swindon draw"},{"$f":"IF(Picks!C25=\"\",\"\",Picks!C25)","v":7},{"$f":"IF(Picks!D25=\"\",\"\",Picks!D25)","v":3.4},{"$f":"IF(Picks!E25=\"\",\"\",Picks!E25)","v":"x"},{"$f":"IF(Picks!F25=\"\",\"\",Picks!F25)","v":""},{"$f":"IF(Picks!G25=\"\",\"\",Picks!G25)","v":""}]
[{"$f":"IF(Picks!A26=\"\",\"\",Picks!A26)","v":"Ben Rosser"},{"$f":"IF(Picks!B26=\"\",\"\",Picks!B26)","v":"Man U"},{"$f":"IF(Picks!C26=\"\",\"\",Picks!C26)","v":7},{"$f":"IF(Picks!D26=\"\",\"\",Picks!D26)","v":4.3333333333333339},{"$f":"IF(Picks!E26=\"\",\"\",Picks!E26)","v":"x"},{"$f":"IF(Picks!F26=\"\",\"\",Picks!F26)","v":-7},{"$f":"IF(Picks!G26=\"\",\"\",Picks!G26)","v":146.66666666666669}]
[null,{"$f":"IF(Picks!B27=\"\",\"\",Picks!B27)","v":"Everton draw"},{"$f":"IF(Picks!C27=\"\",\"\",Picks!C27)","v":7},{"$f":"IF(Picks!D27=\"\",\"\",Picks!D27)","v":4},{"$f":"IF(Picks!E27=\"\",\"\",Picks!E27)","v":"x"},{"$f":"IF(Picks!F27=\"\",\"\",Picks!F27)","v":""},{"$f":"IF(Picks!G27=\"\",\"\",Picks!G27)","v":""}]
[null,{"$f":"IF(Picks!B28=\"\",\"\",Picks!B28)","v":"Palace"},{"$f":"IF(Picks!C28=\"\",\"\",Picks!C28)","v":1},{"$f":"IF(Picks!D28=\"\",\"\",Picks!D28)","v":4.8},{"$f":"IF(Picks!E28=\"\",\"\",Picks!E28)","v":"x"},{"$f":"IF(Picks!F28=\"\",\"\",Picks!F28)","v":""},{"$f":"IF(Picks!G28=\"\",\"\",Picks!G28)","v":""}]
[{"$f":"IF(Picks!A29=\"\",\"\",Picks!A29)","v":"Charlie Griffiths"},{"$f":"IF(Picks!B29=\"\",\"\",Picks!B29)","v":"Scunthorpe"},{"$f":"IF(Picks!C29=\"\",\"\",Picks!C29)","v":7},{"$f":"IF(Picks!D29=\"\",\"\",Picks!D29)","v":2.2999999999999998},{"$f":"IF(Picks!E29=\"\",\"\",Picks!E29)","v":"x"},{"$f":"IF(Picks!F29=\"\",\"\",Picks!F29)","v":-7},{"$f":"IF(Picks!G29=\"\",\"\",Picks!G29)","v":37.581249999999997}]
[null,{"$f":"IF(Picks!B30=\"\",\"\",Picks!B30)","v":"Accrington"},{"$f":"IF(Picks!C30=\"\",\"\",Picks!C30)","v":7},{"$f":"IF(Picks!D30=\"\",\"\",Picks!D30)","v":2.25},{"$f":"IF(Picks!E30=\"\",\"\",Picks!E30)","v":"x"},{"$f":"IF(Picks!F30=\"\",\"\",Picks!F30)","v":""},{"$f":"IF(Picks!G30=\"\",\"\",Picks!G30)","v":""}]
[null,{"$f":"IF(Picks!B31=\"\",\"\",Picks!B31)","v":"Ipswich draw"},{"$f":"IF(Picks!C31=\"\",\"\",Picks!C31)","v":7},{"$f":"IF(Picks!D31=\"\",\"\",Picks!D31)","v":3.25},{"$f":"IF(Picks!E31=\"\",\"\",Picks!E31)","v":"x"},{"$f":"IF(Picks!F31=\"\",\"\",Picks!F31)","v":""},{"$f":"IF(Picks!G31=\"\",\"\",Picks!G31)","v":""}]
[{"$f":"IF(Picks!A32=\"\",\"\",Picks!A32)","v":"Chris Bow"},{"$f":"IF(Picks!B32=\"\",\"\",Picks!B32)","v":"Everton"},{"$f":"IF(Picks!C32=\"\",\"\",Picks!C32)","v":7},{"$f":"IF(Picks!D32=\"\",\"\",Picks!D32)","v":4.3333333333333339},{"$f":"IF(Picks!E32=\"\",\"\",Picks!E32)","v":"√"},{"$f":"IF(Picks!F32=\"\",\"\",Picks!F32)","v":-2.6666666666666661},{"$f":"IF(Picks!G32=\"\",\"\",Picks!G32)","v":60.2}]
[null,{"$f":"IF(Picks!B33=\"\",\"\",Picks!B33)","v":"Wolves"},{"$f":"IF(Picks!C33=\"\",\"\",Picks!C33)","v":7},{"$f":"IF(Picks!D33=\"\",\"\",Picks!D33)","v":2.2999999999999998},{"$f":"IF(Picks!E33=\"\",\"\",Picks!E33)","v":"x"},{"$f":"IF(Picks!F33=\"\",\"\",Picks!F33)","v":""},{"$f":"IF(Picks!G33=\"\",\"\",Picks!G33)","v":""}]
[null,{"$f":"IF(Picks!B34=\"\",\"\",Picks!B34)","v":"Derby"},{"$f":"IF(Picks!C34=\"\",\"\",Picks!C34)","v":7},{"$f":"IF(Picks!D34=\"\",\"\",Picks!D34)","v":2.875},{"$f":"IF(Picks!E34=\"\",\"\",Picks!E34)","v":"x"},{"$f":"IF(Picks!F34=\"\",\"\",Picks!F34)","v":""},{"$f":"IF(Picks!G34=\"\",\"\",Picks!G34)","v":""}]
[{"$f":"IF(Picks!A35=\"\",\"\",Picks!A35)","v":"Chris Griffin"},{"$f":"IF(Picks!B35=\"\",\"\",Picks!B35)","v":"Newcastle"},{"$f":"IF(Picks!C35=\"\",\"\",Picks!C35)","v":7},{"$f":"IF(Picks!D35=\"\",\"\",Picks!D35)","v":2.25},{"$f":"IF(Picks!E35=\"\",\"\",Picks!E35)","v":"√"},{"$f":"IF(Picks!F35=\"\",\"\",Picks!F35)","v":1.75},{"$f":"IF(Picks!G35=\"\",\"\",Picks!G35)","v":24.174999999999997}]
[null,{"$f":"IF(Picks!B36=\"\",\"\",Picks!B36)","v":"Wolves"},{"$f":"IF(Picks!C36=\"\",\"\",Picks!C36)","v":7},{"$f":"IF(Picks!D36=\"\",\"\",Picks!D36)","v":2.2999999999999998},{"$f":"IF(Picks!E36=\"\",\"\",Picks!E36)","v":"x"},{"$f":"IF(Picks!F36=\"\",\"\",Picks!F36)","v":""},{"$f":"IF(Picks!G36=\"\",\"\",Picks!G36)","v":""}]
[null,{"$f":"IF(Picks!B37=\"\",\"\",Picks!B37)","v":"Leicester"},{"$f":"IF(Picks!C37=\"\",\"\",Picks!C37)","v":1},{"$f":"IF(Picks!D37=\"\",\"\",Picks!D37)","v":2},{"$f":"IF(Picks!E37=\"\",\"\",Picks!E37)","v":"√"},{"$f":"IF(Picks!F37=\"\",\"\",Picks!F37)","v":""},{"$f":"IF(Picks!G37=\"\",\"\",Picks!G37)","v":""}]
[{"$f":"IF(Picks!A38=\"\",\"\",Picks!A38)","v":"Chris Luck"},{"$f":"IF(Picks!B38=\"\",\"\",Picks!B38)","v":"Newcastle"},{"$f":"IF(Picks!C38=\"\",\"\",Picks!C38)","v":7},{"$f":"IF(Picks!D38=\"\",\"\",Picks!D38)","v":2.25},{"$f":"IF(Picks!E38=\"\",\"\",Picks!E38)","v":"√"},{"$f":"IF(Picks!F38=\"\",\"\",Picks!F38)","v":-4.75},{"$f":"IF(Picks!G38=\"\",\"\",Picks!G38)","v":29.537500000000001}]
[null,{"$f":"IF(Picks!B39=\"\",\"\",Picks!B39)","v":"Wolves"},{"$f":"IF(Picks!C39=\"\",\"\",Picks!C39)","v":7},{"$f":"IF(Picks!D39=\"\",\"\",Picks!D39)","v":2.2999999999999998},{"$f":"IF(Picks!E39=\"\",\"\",Picks!E39)","v":"x"},{"$f":"IF(Picks!F39=\"\",\"\",Picks!F39)","v":""},{"$f":"IF(Picks!G39=\"\",\"\",Picks!G39)","v":""}]
[null,{"$f":"IF(Picks!B40=\"\",\"\",Picks!B40)","v":"Blackburn"},{"$f":"IF(Picks!C40=\"\",\"\",Picks!C40)","v":7},{"$f":"IF(Picks!D40=\"\",\"\",Picks!D40)","v":2.5},{"$f":"IF(Picks!E40=\"\",\"\",Picks!E40)","v":"x"},{"$f":"IF(Picks!F40=\"\",\"\",Picks!F40)","v":""},{"$f":"IF(Picks!G40=\"\",\"\",Picks!G40)","v":""}]
[{"$f":"IF(Picks!A41=\"\",\"\",Picks!A41)","v":"Chris Townsend"},{"$f":"IF(Picks!B41=\"\",\"\",Picks!B41)","v":"Barnsley"},{"$f":"IF(Picks!C41=\"\",\"\",Picks!C41)","v":7},{"$f":"IF(Picks!D41=\"\",\"\",Picks!D41)","v":3.1},{"$f":"IF(Picks!E41=\"\",\"\",Picks!E41)","v":"√"},{"$f":"IF(Picks!F41=\"\",\"\",Picks!F41)","v":-3.9},{"$f":"IF(Picks!G41=\"\",\"\",Picks!G41)","v":88.657499999999999}]
[null,{"$f":"IF(Picks!B42=\"\",\"\",Picks!B42)","v":"Ipswich"},{"$f":"IF(Picks!C42=\"\",\"\",Picks!C42)","v":7},{"$f":"IF(Picks!D42=\"\",\"\",Picks!D42)","v":3.1},{"$f":"IF(Picks!E42=\"\",\"\",Picks!E42)","v":"x"},{"$f":"IF(Picks!F42=\"\",\"\",Picks!F42)","v":""},{"$f":"IF(Picks!G42=\"\",\"\",Picks!G42)","v":""}]
[null,{"$f":"IF(Picks!B43=\"\",\"\",Picks!B43)","v":"Northampton"},{"$f":"IF(Picks!C43=\"\",\"\",Picks!C43)","v":7},{"$f":"IF(Picks!D43=\"\",\"\",Picks!D43)","v":4.75},{"$f":"IF(Picks!E43=\"\",\"\",Picks!E43)","v":"x"},{"$f":"IF(Picks!F43=\"\",\"\",Picks!F43)","v":""},{"$f":"IF(Picks!G43=\"\",\"\",Picks!G43)","v":""}]
[{"$f":"IF(Picks!A44=\"\",\"\",Picks!A44)","v":"Dan Baxter"},{"$f":"IF(Picks!B44=\"\",\"\",Picks!B44)","v":""},{"$f":"IF(Picks!C44=\"\",\"\",Picks!C44)","v":""},{"$f":"IF(Picks!D44=\"\",\"\",Picks!D44)","v":""},{"$f":"IF(Picks!E44=\"\",\"\",Picks!E44)","v":""},{"$f":"IF(Picks!F44=\"\",\"\",Picks!F44)","v":-10},{"$f":"IF(Picks!G44=\"\",\"\",Picks!G44)","v":""}]
[null,{"$f":"IF(Picks!B45=\"\",\"\",Picks!B45)","v":""},{"$f":"IF(Picks!C45=\"\",\"\",Picks!C45)","v":""},{"$f":"IF(Picks!D45=\"\",\"\",Picks!D45)","v":""},{"$f":"IF(Picks!E45=\"\",\"\",Picks!E45)","v":""},{"$f":"IF(Picks!F45=\"\",\"\",Picks!F45)","v":""},{"$f":"IF(Picks!G45=\"\",\"\",Picks!G45)","v":""}]
[null,{"$f":"IF(Picks!B46=\"\",\"\",Picks!B46)","v":""},{"$f":"IF(Picks!C46=\"\",\"\",Picks!C46)","v":""},{"$f":"IF(Picks!D46=\"\",\"\",Picks!D46)","v":""},{"$f":"IF(Picks!E46=\"\",\"\",Picks!E46)","v":""},{"$f":"IF(Picks!F46=\"\",\"\",Picks!F46)","v":""},{"$f":"IF(Picks!G46=\"\",\"\",Picks!G46)","v":""}]
[{"$f":"IF(Picks!A47=\"\",\"\",Picks!A47)","v":"Dave Bell"},{"$f":"IF(Picks!B47=\"\",\"\",Picks!B47)","v":"Sheff U"},{"$f":"IF(Picks!C47=\"\",\"\",Picks!C47)","v":1},{"$f":"IF(Picks!D47=\"\",\"\",Picks!D47)","v":5},{"$f":"IF(Picks!E47=\"\",\"\",Picks!E47)","v":"x"},{"$f":"IF(Picks!F47=\"\",\"\",Picks!F47)","v":1.3333333333333339},{"$f":"IF(Picks!G47=\"\",\"\",Picks!G47)","v":45.333333333333343}]
[null,{"$f":"IF(Picks!B48=\"\",\"\",Picks!B48)","v":"Fulham"},{"$f":"IF(Picks!C48=\"\",\"\",Picks!C48)","v":1},{"$f":"IF(Picks!D48=\"\",\"\",Picks!D48)","v":9},{"$f":"IF(Picks!E48=\"\",\"\",Picks!E48)","v":"x"},{"$f":"IF(Picks!F48=\"\",\"\",Picks!F48)","v":""},{"$f":"IF(Picks!G48=\"\",\"\",Picks!G48)","v":""}]
[null,{"$f":"IF(Picks!B49=\"\",\"\",Picks!B49)","v":"Everton"},{"$f":"IF(Picks!C49=\"\",\"\",Picks!C49)","v":7},{"$f":"IF(Picks!D49=\"\",\"\",Picks!D49)","v":4.3333333333333339},{"$f":"IF(Picks!E49=\"\",\"\",Picks!E49)","v":"√"},{"$f":"IF(Picks!F49=\"\",\"\",Picks!F49)","v":""},{"$f":"IF(Picks!G49=\"\",\"\",Picks!G49)","v":""}]
[{"$f":"IF(Picks!A50=\"\",\"\",Picks!A50)","v":"Dave Orrell"},{"$f":"IF(Picks!B50=\"\",\"\",Picks!B50)","v":"Crawley"},{"$f":"IF(Picks!C50=\"\",\"\",Picks!C50)","v":7},{"$f":"IF(Picks!D50=\"\",\"\",Picks!D50)","v":2.4500000000000002},{"$f":"IF(Picks!E50=\"\",\"\",Picks!E50)","v":"√"},{"$f":"IF(Picks!F50=\"\",\"\",Picks!F50)","v":27.776499999999999},{"$f":"IF(Picks!G50=\"\",\"\",Picks!G50)","v":27.776499999999999}]
[null,{"$f":"IF(Picks!B51=\"\",\"\",Picks!B51)","v":"Forest Green"},{"$f":"IF(Picks!C51=\"\",\"\",Picks!C51)","v":7},{"$f":"IF(Picks!D51=\"\",\"\",Picks!D51)","v":2.0499999999999998},{"$f":"IF(Picks!E51=\"\",\"\",Picks!E51)","v":"√"},{"$f":"IF(Picks!F51=\"\",\"\",Picks!F51)","v":""},{"$f":"IF(Picks!G51=\"\",\"\",Picks!G51)","v":""}]
[null,{"$f":"IF(Picks!B52=\"\",\"\",Picks!B52)","v":"Oldham"},{"$f":"IF(Picks!C52=\"\",\"\",Picks!C52)","v":7},{"$f":"IF(Picks!D52=\"\",\"\",Picks!D52)","v":2.4},{"$f":"IF(Picks!E52=\"\",\"\",Picks!E52)","v":"√"},{"$f":"IF(Picks!F52=\"\",\"\",Picks!F52)","v":""},{"$f":"IF(Picks!G52=\"\",\"\",Picks!G52)","v":""}]
[{"$f":"IF(Picks!A53=\"\",\"\",Picks!A53)","v":"David Dunn"},{"$f":"IF(Picks!B53=\"\",\"\",Picks!B53)","v":"Wolves Draw"},{"$f":"IF(Picks!C53=\"\",\"\",Picks!C53)","v":7},{"$f":"IF(Picks!D53=\"\",\"\",Picks!D53)","v":3.3},{"$f":"IF(Picks!E53=\"\",\"\",Picks!E53)","v":"x"},{"$f":"IF(Picks!F53=\"\",\"\",Picks!F53)","v":1.4499999999999993},{"$f":"IF(Picks!G53=\"\",\"\",Picks!G53)","v":32.634999999999991}]
[null,{"$f":"IF(Picks!B54=\"\",\"\",Picks!B54)","v":"Leicester"},{"$f":"IF(Picks!C54=\"\",\"\",Picks!C54)","v":1},{"$f":"IF(Picks!D54=\"\",\"\",Picks!D54)","v":2},{"$f":"IF(Picks!E54=\"\",\"\",Picks!E54)","v":"√"},{"$f":"IF(Picks!F54=\"\",\"\",Picks!F54)","v":""},{"$f":"IF(Picks!G54=\"\",\"\",Picks!G54)","v":""}]
[null,{"$f":"IF(Picks!B55=\"\",\"\",Picks!B55)","v":"Middlesbro"},{"$f":"IF(Picks!C55=\"\",\"\",Picks!C55)","v":7},{"$f":"IF(Picks!D55=\"\",\"\",Picks!D55)","v":2.15},{"$f":"IF(Picks!E55=\"\",\"\",Picks!E55)","v":"√"},{"$f":"IF(Picks!F55=\"\",\"\",Picks!F55)","v":""},{"$f":"IF(Picks!G55=\"\",\"\",Picks!G55)","v":""}]
[{"$f":"IF(Picks!A56=\"\",\"\",Picks!A56)","v":"Gareth Fallows"},{"$f":"IF(Picks!B56=\"\",\"\",Picks!B56)","v":""},{"$f":"IF(Picks!C56=\"\",\"\",Picks!C56)","v":""},{"$f":"IF(Picks!D56=\"\",\"\",Picks!D56)","v":""},{"$f":"IF(Picks!E56=\"\",\"\",Picks!E56)","v":""},{"$f":"IF(Picks!F56=\"\",\"\",Picks!F56)","v":-10},{"$f":"IF(Picks!G56=\"\",\"\",Picks!G56)","v":""}]
[null,{"$f":"IF(Picks!B57=\"\",\"\",Picks!B57)","v":""},{"$f":"IF(Picks!C57=\"\",\"\",Picks!C57)","v":""},{"$f":"IF(Picks!D57=\"\",\"\",Picks!D57)","v":""},{"$f":"IF(Picks!E57=\"\",\"\",Picks!E57)","v":""},{"$f":"IF(Picks!F57=\"\",\"\",Picks!F57)","v":""},{"$f":"IF(Picks!G57=\"\",\"\",Picks!G57)","v":""}]
[null,{"$f":"IF(Picks!B58=\"\",\"\",Picks!B58)","v":""},{"$f":"IF(Picks!C58=\"\",\"\",Picks!C58)","v":""},{"$f":"IF(Picks!D58=\"\",\"\",Picks!D58)","v":""},{"$f":"IF(Picks!E58=\"\",\"\",Picks!E58)","v":""},{"$f":"IF(Picks!F58=\"\",\"\",Picks!F58)","v":""},{"$f":"IF(Picks!G58=\"\",\"\",Picks!G58)","v":""}]
[{"$f":"IF(Picks!A59=\"\",\"\",Picks!A59)","v":"Gareth McGuire"},{"$f":"IF(Picks!B59=\"\",\"\",Picks!B59)","v":"Everton draw"},{"$f":"IF(Picks!C59=\"\",\"\",Picks!C59)","v":7},{"$f":"IF(Picks!D59=\"\",\"\",Picks!D59)","v":4},{"$f":"IF(Picks!E59=\"\",\"\",Picks!E59)","v":"x"},{"$f":"IF(Picks!F59=\"\",\"\",Picks!F59)","v":2.9800000000000004},{"$f":"IF(Picks!G59=\"\",\"\",Picks!G59)","v":46.9}]
[null,{"$f":"IF(Picks!B60=\"\",\"\",Picks!B60)","v":"Watford"},{"$f":"IF(Picks!C60=\"\",\"\",Picks!C60)","v":7},{"$f":"IF(Picks!D60=\"\",\"\",Picks!D60)","v":2.0499999999999998},{"$f":"IF(Picks!E60=\"\",\"\",Picks!E60)","v":"√"},{"$f":"IF(Picks!F60=\"\",\"\",Picks!F60)","v":""},{"$f":"IF(Picks!G60=\"\",\"\",Picks!G60)","v":""}]
[null,{"$f":"IF(Picks!B61=\"\",\"\",Picks!B61)","v":"Sunderland"},{"$f":"IF(Picks!C61=\"\",\"\",Picks!C61)","v":7},{"$f":"IF(Picks!D61=\"\",\"\",Picks!D61)","v":2.6},{"$f":"IF(Picks!E61=\"\",\"\",Picks!E61)","v":"√"},{"$f":"IF(Picks!F61=\"\",\"\",Picks!F61)","v":""},{"$f":"IF(Picks!G61=\"\",\"\",Picks!G61)","v":""}]
[{"$f":"IF(Picks!A62=\"\",\"\",Picks!A62)","v":"Gareth Powell"},{"$f":"IF(Picks!B62=\"\",\"\",Picks!B62)","v":"Chelsea"},{"$f":"IF(Picks!C62=\"\",\"\",Picks!C62)","v":7},{"$f":"IF(Picks!D62=\"\",\"\",Picks!D62)","v":1.75},{"$f":"IF(Picks!E62=\"\",\"\",Picks!E62)","v":"x"},{"$f":"IF(Picks!F62=\"\",\"\",Picks!F62)","v":-4.3},{"$f":"IF(Picks!G62=\"\",\"\",Picks!G62)","v":28.884375000000006}]
[null,{"$f":"IF(Picks!B63=\"\",\"\",Picks!B63)","v":"Salford"},{"$f":"IF(Picks!C63=\"\",\"\",Picks!C63)","v":7},{"$f":"IF(Picks!D63=\"\",\"\",Picks!D63)","v":2.625},{"$f":"IF(Picks!E63=\"\",\"\",Picks!E63)","v":"x"},{"$f":"IF(Picks!F63=\"\",\"\",Picks!F63)","v":""},{"$f":"IF(Picks!G63=\"\",\"\",Picks!G63)","v":""}]
[null,{"$f":"IF(Picks!B64=\"\",\"\",Picks!B64)","v":"Reading"},{"$f":"IF(Picks!C64=\"\",\"\",Picks!C64)","v":7},{"$f":"IF(Picks!D64=\"\",\"\",Picks!D64)","v":2.7},{"$f":"IF(Picks!E64=\"\",\"\",Picks!E64)","v":"√"},{"$f":"IF(Picks!F64=\"\",\"\",Picks!F64)","v":""},{"$f":"IF(Picks!G64=\"\",\"\",Picks!G64)","v":""}]
[{"$f":"IF(Picks!A65=\"\",\"\",Picks!A65)","v":"Gerard Ventom"},{"$f":"IF(Picks!B65=\"\",\"\",Picks!B65)","v":"Wigan"},{"$f":"IF(Picks!C65=\"\",\"\",Picks!C65)","v":7},{"$f":"IF(Picks!D65=\"\",\"\",Picks!D65)","v":3.2},{"$f":"IF(Picks!E65=\"\",\"\",Picks!E65)","v":"√"},{"$f":"IF(Picks!F65=\"\",\"\",Picks!F65)","v":46.6},{"$f":"IF(Picks!G65=\"\",\"\",Picks!G65)","v":46.6}]
[null,{"$f":"IF(Picks!B66=\"\",\"\",Picks!B66)","v":"Walsall"},{"$f":"IF(Picks!C66=\"\",\"\",Picks!C66)","v":7},{"$f":"IF(Picks!D66=\"\",\"\",Picks!D66)","v":2.25},{"$f":"IF(Picks!E66=\"\",\"\",Picks!E66)","v":"√"},{"$f":"IF(Picks!F66=\"\",\"\",Picks!F66)","v":""},{"$f":"IF(Picks!G66=\"\",\"\",Picks!G66)","v":""}]
[null,{"$f":"IF(Picks!B67=\"\",\"\",Picks!B67)","v":"Orient"},{"$f":"IF(Picks!C67=\"\",\"\",Picks!C67)","v":7},{"$f":"IF(Picks!D67=\"\",\"\",Picks!D67)","v":3},{"$f":"IF(Picks!E67=\"\",\"\",Picks!E67)","v":"√"},{"$f":"IF(Picks!F67=\"\",\"\",Picks!F67)","v":""},{"$f":"IF(Picks!G67=\"\",\"\",Picks!G67)","v":""}]
[{"$f":"IF(Picks!A68=\"\",\"\",Picks!A68)","v":"Graham Miller"},{"$f":"IF(Picks!B68=\"\",\"\",Picks!B68)","v":"Newcastle"},{"$f":"IF(Picks!C68=\"\",\"\",Picks!C68)","v":7},{"$f":"IF(Picks!D68=\"\",\"\",Picks!D68)","v":2.25},{"$f":"IF(Picks!E68=\"\",\"\",Picks!E68)","v":"√"},{"$f":"IF(Picks!F68=\"\",\"\",Picks!F68)","v":18.590909090909093},{"$f":"IF(Picks!G68=\"\",\"\",Picks!G68)","v":18.590909090909093}]
[null,{"$f":"IF(Picks!B69=\"\",\"\",Picks!B69)","v":"Leicester"},{"$f":"IF(Picks!C69=\"\",\"\",Picks!C69)","v":1},{"$f":"IF(Picks!D69=\"\",\"\",Picks!D69)","v":2},{"$f":"IF(Picks!E69=\"\",\"\",Picks!E69)","v":"√"},{"$f":"IF(Picks!F69=\"\",\"\",Picks!F69)","v":""},{"$f":"IF(Picks!G69=\"\",\"\",Picks!G69)","v":""}]
[null,{"$f":"IF(Picks!B70=\"\",\"\",Picks!B70)","v":"Southampton"},{"$f":"IF(Picks!C70=\"\",\"\",Picks!C70)","v":1},{"$f":"IF(Picks!D70=\"\",\"\",Picks!D70)","v":1.7272727272727273},{"$f":"IF(Picks!E70=\"\",\"\",Picks!E70)","v":"√"},{"$f":"IF(Picks!F70=\"\",\"\",Picks!F70)","v":""},{"$f":"IF(Picks!G70=\"\",\"\",Picks!G70)","v":""}]
[{"$f":"IF(Picks!A71=\"\",\"\",Picks!A71)","v":"Howard Bradley"},{"$f":"IF(Picks!B71=\"\",\"\",Picks!B71)","v":"Blackpool"},{"$f":"IF(Picks!C71=\"\",\"\",Picks!C71)","v":7},{"$f":"IF(Picks!D71=\"\",\"\",Picks!D71)","v":2.2000000000000002},{"$f":"IF(Picks!E71=\"\",\"\",Picks!E71)","v":"x"},{"$f":"IF(Picks!F71=\"\",\"\",Picks!F71)","v":0.58181818181818201},{"$f":"IF(Picks!G71=\"\",\"\",Picks!G71)","v":19.461818181818185}]
[null,{"$f":"IF(Picks!B72=\"\",\"\",Picks!B72)","v":"Charlton"},{"$f":"IF(Picks!C72=\"\",\"\",Picks!C72)","v":7},{"$f":"IF(Picks!D72=\"\",\"\",Picks!D72)","v":1.95},{"$f":"IF(Picks!E72=\"\",\"\",Picks!E72)","v":"√"},{"$f":"IF(Picks!F72=\"\",\"\",Picks!F72)","v":""},{"$f":"IF(Picks!G72=\"\",\"\",Picks!G72)","v":""}]
[null,{"$f":"IF(Picks!B73=\"\",\"\",Picks!B73)","v":"Doncaster"},{"$f":"IF(Picks!C73=\"\",\"\",Picks!C73)","v":7},{"$f":"IF(Picks!D73=\"\",\"\",Picks!D73)","v":1.9090909090909092},{"$f":"IF(Picks!E73=\"\",\"\",Picks!E73)","v":"√"},{"$f":"IF(Picks!F73=\"\",\"\",Picks!F73)","v":""},{"$f":"IF(Picks!G73=\"\",\"\",Picks!G73)","v":""}]
[{"$f":"IF(Picks!A74=\"\",\"\",Picks!A74)","v":"Ian Davies"},{"$f":"IF(Picks!B74=\"\",\"\",Picks!B74)","v":"Cardiff"},{"$f":"IF(Picks!C74=\"\",\"\",Picks!C74)","v":7},{"$f":"IF(Picks!D74=\"\",\"\",Picks!D74)","v":2.4500000000000002},{"$f":"IF(Picks!E74=\"\",\"\",Picks!E74)","v":"x"},{"$f":"IF(Picks!F74=\"\",\"\",Picks!F74)","v":-7},{"$f":"IF(Picks!G74=\"\",\"\",Picks!G74)","v":56.238999999999997}]
[null,{"$f":"IF(Picks!B75=\"\",\"\",Picks!B75)","v":"Bournemouth draw"},{"$f":"IF(Picks!C75=\"\",\"\",Picks!C75)","v":7},{"$f":"IF(Picks!D75=\"\",\"\",Picks!D75)","v":3.9},{"$f":"IF(Picks!E75=\"\",\"\",Picks!E75)","v":"x"},{"$f":"IF(Picks!F75=\"\",\"\",Picks!F75)","v":""},{"$f":"IF(Picks!G75=\"\",\"\",Picks!G75)","v":""}]
[null,{"$f":"IF(Picks!B76=\"\",\"\",Picks!B76)","v":"Lincoln"},{"$f":"IF(Picks!C76=\"\",\"\",Picks!C76)","v":7},{"$f":"IF(Picks!D76=\"\",\"\",Picks!D76)","v":2.8},{"$f":"IF(Picks!E76=\"\",\"\",Picks!E76)","v":"x"},{"$f":"IF(Picks!F76=\"\",\"\",Picks!F76)","v":""},{"$f":"IF(Picks!G76=\"\",\"\",Picks!G76)","v":""}]
[{"$f":"IF(Picks!A77=\"\",\"\",Picks!A77)","v":"Jack Walsh"},{"$f":"IF(Picks!B77=\"\",\"\",Picks!B77)","v":"Man U"},{"$f":"IF(Picks!C77=\"\",\"\",Picks!C77)","v":7},{"$f":"IF(Picks!D77=\"\",\"\",Picks!D77)","v":4.3333333333333339},{"$f":"IF(Picks!E77=\"\",\"\",Picks!E77)","v":"x"},{"$f":"IF(Picks!F77=\"\",\"\",Picks!F77)","v":-5.35},{"$f":"IF(Picks!G77=\"\",\"\",Picks!G77)","v":38.64}]
[null,{"$f":"IF(Picks!B78=\"\",\"\",Picks!B78)","v":"Wolves"},{"$f":"IF(Picks!C78=\"\",\"\",Picks!C78)","v":7},{"$f":"IF(Picks!D78=\"\",\"\",Picks!D78)","v":2.2999999999999998},{"$f":"IF(Picks!E78=\"\",\"\",Picks!E78)","v":"x"},{"$f":"IF(Picks!F78=\"\",\"\",Picks!F78)","v":""},{"$f":"IF(Picks!G78=\"\",\"\",Picks!G78)","v":""}]
[null,{"$f":"IF(Picks!B79=\"\",\"\",Picks!B79)","v":"Bournemouth"},{"$f":"IF(Picks!C79=\"\",\"\",Picks!C79)","v":7},{"$f":"IF(Picks!D79=\"\",\"\",Picks!D79)","v":1.65},{"$f":"IF(Picks!E79=\"\",\"\",Picks!E79)","v":"√"},{"$f":"IF(Picks!F79=\"\",\"\",Picks!F79)","v":""},{"$f":"IF(Picks!G79=\"\",\"\",Picks!G79)","v":""}]
[{"$f":"IF(Picks!A80=\"\",\"\",Picks!A80)","v":"James Bell"},{"$f":"IF(Picks!B80=\"\",\"\",Picks!B80)","v":"Tranmere"},{"$f":"IF(Picks!C80=\"\",\"\",Picks!C80)","v":7},{"$f":"IF(Picks!D80=\"\",\"\",Picks!D80)","v":3.8},{"$f":"IF(Picks!E80=\"\",\"\",Picks!E80)","v":"x"},{"$f":"IF(Picks!F80=\"\",\"\",Picks!F80)","v":-7},{"$f":"IF(Picks!G80=\"\",\"\",Picks!G80)","v":73.144000000000005}]
[null,{"$f":"IF(Picks!B81=\"\",\"\",Picks!B81)","v":"Cardiff"},{"$f":"IF(Picks!C81=\"\",\"\",Picks!C81)","v":7},{"$f":"IF(Picks!D81=\"\",\"\",Picks!D81)","v":2.4500000000000002},{"$f":"IF(Picks!E81=\"\",\"\",Picks!E81)","v":"x"},{"$f":"IF(Picks!F81=\"\",\"\",Picks!F81)","v":""},{"$f":"IF(Picks!G81=\"\",\"\",Picks!G81)","v":""}]
[null,{"$f":"IF(Picks!B82=\"\",\"\",Picks!B82)","v":"Gillingham"},{"$f":"IF(Picks!C82=\"\",\"\",Picks!C82)","v":7},{"$f":"IF(Picks!D82=\"\",\"\",Picks!D82)","v":3.9},{"$f":"IF(Picks!E82=\"\",\"\",Picks!E82)","v":"x"},{"$f":"IF(Picks!F82=\"\",\"\",Picks!F82)","v":""},{"$f":"IF(Picks!G82=\"\",\"\",Picks!G82)","v":""}]
[{"$f":"IF(Picks!A83=\"\",\"\",Picks!A83)","v":"Joel Bent"},{"$f":"IF(Picks!B83=\"\",\"\",Picks!B83)","v":"Leeds draw"},{"$f":"IF(Picks!C83=\"\",\"\",Picks!C83)","v":6},{"$f":"IF(Picks!D83=\"\",\"\",Picks!D83)","v":3.7},{"$f":"IF(Picks!E83=\"\",\"\",Picks!E83)","v":"x"},{"$f":"IF(Picks!F83=\"\",\"\",Picks!F83)","v":-7},{"$f":"IF(Picks!G83=\"\",\"\",Picks!G83)","v":140.05000000000001}]
[null,{"$f":"IF(Picks!B84=\"\",\"\",Picks!B84)","v":"Bristol R draw"},{"$f":"IF(Picks!C84=\"\",\"\",Picks!C84)","v":7},{"$f":"IF(Picks!D84=\"\",\"\",Picks!D84)","v":3.5},{"$f":"IF(Picks!E84=\"\",\"\",Picks!E84)","v":"x"},{"$f":"IF(Picks!F84=\"\",\"\",Picks!F84)","v":""},{"$f":"IF(Picks!G84=\"\",\"\",Picks!G84)","v":""}]
[null,{"$f":"IF(Picks!B85=\"\",\"\",Picks!B85)","v":"Rochdale"},{"$f":"IF(Picks!C85=\"\",\"\",Picks!C85)","v":7},{"$f":"IF(Picks!D85=\"\",\"\",Picks!D85)","v":6},{"$f":"IF(Picks!E85=\"\",\"\",Picks!E85)","v":"x"},{"$f":"IF(Picks!F85=\"\",\"\",Picks!F85)","v":""},{"$f":"IF(Picks!G85=\"\",\"\",Picks!G85)","v":""}]
[{"$f":"IF(Picks!A86=\"\",\"\",Picks!A86)","v":"John Evans"},{"$f":"IF(Picks!B86=\"\",\"\",Picks!B86)","v":"Derby"},{"$f":"IF(Picks!C86=\"\",\"\",Picks!C86)","v":7},{"$f":"IF(Picks!D86=\"\",\"\",Picks!D86)","v":2.875},{"$f":"IF(Picks!E86=\"\",\"\",Picks!E86)","v":"x"},{"$f":"IF(Picks!F86=\"\",\"\",Picks!F86)","v":-3.8},{"$f":"IF(Picks!G86=\"\",\"\",Picks!G86)","v":50.996874999999996}]
[null,{"$f":"IF(Picks!B87=\"\",\"\",Picks!B87)","v":"Wigan"},{"$f":"IF(Picks!C87=\"\",\"\",Picks!C87)","v":7},{"$f":"IF(Picks!D87=\"\",\"\",Picks!D87)","v":3.2},{"$f":"IF(Picks!E87=\"\",\"\",Picks!E87)","v":"√"},{"$f":"IF(Picks!F87=\"\",\"\",Picks!F87)","v":""},{"$f":"IF(Picks!G87=\"\",\"\",Picks!G87)","v":""}]
[null,{"$f":"IF(Picks!B88=\"\",\"\",Picks!B88)","v":"Salford"},{"$f":"IF(Picks!C88=\"\",\"\",Picks!C88)","v":7},{"$f":"IF(Picks!D88=\"\",\"\",Picks!D88)","v":2.625},{"$f":"IF(Picks!E88=\"\",\"\",Picks!E88)","v":"x"},{"$f":"IF(Picks!F88=\"\",\"\",Picks!F88)","v":""},{"$f":"IF(Picks!G88=\"\",\"\",Picks!G88)","v":""}]
[{"$f":"IF(Picks!A89=\"\",\"\",Picks!A89)","v":"John Ronan"},{"$f":"IF(Picks!B89=\"\",\"\",Picks!B89)","v":"Blackpool"},{"$f":"IF(Picks!C89=\"\",\"\",Picks!C89)","v":7},{"$f":"IF(Picks!D89=\"\",\"\",Picks!D89)","v":2.2000000000000002},{"$f":"IF(Picks!E89=\"\",\"\",Picks!E89)","v":"x"},{"$f":"IF(Picks!F89=\"\",\"\",Picks!F89)","v":0},{"$f":"IF(Picks!G89=\"\",\"\",Picks!G89)","v":17.600000000000001}]
[null,{"$f":"IF(Picks!B90=\"\",\"\",Picks!B90)","v":"Crewe"},{"$f":"IF(Picks!C90=\"\",\"\",Picks!C90)","v":7},{"$f":"IF(Picks!D90=\"\",\"\",Picks!D90)","v":1.75},{"$f":"IF(Picks!E90=\"\",\"\",Picks!E90)","v":"√"},{"$f":"IF(Picks!F90=\"\",\"\",Picks!F90)","v":""},{"$f":"IF(Picks!G90=\"\",\"\",Picks!G90)","v":""}]
[null,{"$f":"IF(Picks!B91=\"\",\"\",Picks!B91)","v":"Exeter"},{"$f":"IF(Picks!C91=\"\",\"\",Picks!C91)","v":7},{"$f":"IF(Picks!D91=\"\",\"\",Picks!D91)","v":1.9090909090909092},{"$f":"IF(Picks!E91=\"\",\"\",Picks!E91)","v":"√"},{"$f":"IF(Picks!F91=\"\",\"\",Picks!F91)","v":""},{"$f":"IF(Picks!G91=\"\",\"\",Picks!G91)","v":""}]
[{"$f":"IF(Picks!A92=\"\",\"\",Picks!A92)","v":"Kei Lok Ma"},{"$f":"IF(Picks!B92=\"\",\"\",Picks!B92)","v":"Wolves draw"},{"$f":"IF(Picks!C92=\"\",\"\",Picks!C92)","v":7},{"$f":"IF(Picks!D92=\"\",\"\",Picks!D92)","v":3.3},{"$f":"IF(Picks!E92=\"\",\"\",Picks!E92)","v":"x"},{"$f":"IF(Picks!F92=\"\",\"\",Picks!F92)","v":4.1875},{"$f":"IF(Picks!G92=\"\",\"\",Picks!G92)","v":44.40625}]
[null,{"$f":"IF(Picks!B93=\"\",\"\",Picks!B93)","v":"Newcastle"},{"$f":"IF(Picks!C93=\"\",\"\",Picks!C93)","v":7},{"$f":"IF(Picks!D93=\"\",\"\",Picks!D93)","v":2.25},{"$f":"IF(Picks!E93=\"\",\"\",Picks!E93)","v":"√"},{"$f":"IF(Picks!F93=\"\",\"\",Picks!F93)","v":""},{"$f":"IF(Picks!G93=\"\",\"\",Picks!G93)","v":""}]
[null,{"$f":"IF(Picks!B94=\"\",\"\",Picks!B94)","v":"Norwich"},{"$f":"IF(Picks!C94=\"\",\"\",Picks!C94)","v":7},{"$f":"IF(Picks!D94=\"\",\"\",Picks!D94)","v":2.75},{"$f":"IF(Picks!E94=\"\",\"\",Picks!E94)","v":"√"},{"$f":"IF(Picks!F94=\"\",\"\",Picks!F94)","v":""},{"$f":"IF(Picks!G94=\"\",\"\",Picks!G94)","v":""}]
[{"$f":"IF(Picks!A95=\"\",\"\",Picks!A95)","v":"Kevin Carter"},{"$f":"IF(Picks!B95=\"\",\"\",Picks!B95)","v":"Southampton"},{"$f":"IF(Picks!C95=\"\",\"\",Picks!C95)","v":1},{"$f":"IF(Picks!D95=\"\",\"\",Picks!D95)","v":1.7272727272727273},{"$f":"IF(Picks!E95=\"\",\"\",Picks!E95)","v":"√"},{"$f":"IF(Picks!F95=\"\",\"\",Picks!F95)","v":0.18181818181818166},{"$f":"IF(Picks!G95=\"\",\"\",Picks!G95)","v":14.314049586776861}]
[null,{"$f":"IF(Picks!B96=\"\",\"\",Picks!B96)","v":"Spurs"},{"$f":"IF(Picks!C96=\"\",\"\",Picks!C96)","v":1},{"$f":"IF(Picks!D96=\"\",\"\",Picks!D96)","v":1.7272727272727273},{"$f":"IF(Picks!E96=\"\",\"\",Picks!E96)","v":"x"},{"$f":"IF(Picks!F96=\"\",\"\",Picks!F96)","v":""},{"$f":"IF(Picks!G96=\"\",\"\",Picks!G96)","v":""}]
[null,{"$f":"IF(Picks!B97=\"\",\"\",Picks!B97)","v":"Leicester"},{"$f":"IF(Picks!C97=\"\",\"\",Picks!C97)","v":1},{"$f":"IF(Picks!D97=\"\",\"\",Picks!D97)","v":2},{"$f":"IF(Picks!E97=\"\",\"\",Picks!E97)","v":"√"},{"$f":"IF(Picks!F97=\"\",\"\",Picks!F97)","v":""},{"$f":"IF(Picks!G97=\"\",\"\",Picks!G97)","v":""}]
[{"$f":"IF(Picks!A98=\"\",\"\",Picks!A98)","v":"Lennie Bow"},{"$f":"IF(Picks!B98=\"\",\"\",Picks!B98)","v":"Bournemouth"},{"$f":"IF(Picks!C98=\"\",\"\",Picks!C98)","v":7},{"$f":"IF(Picks!D98=\"\",\"\",Picks!D98)","v":1.65},{"$f":"IF(Picks!E98=\"\",\"\",Picks!E98)","v":"√"},{"$f":"IF(Picks!F98=\"\",\"\",Picks!F98)","v":-1.069230769230769},{"$f":"IF(Picks!G98=\"\",\"\",Picks!G98)","v":10.02}]
[null,{"$f":"IF(Picks!B99=\"\",\"\",Picks!B99)","v":"Hull"},{"$f":"IF(Picks!C99=\"\",\"\",Picks!C99)","v":7},{"$f":"IF(Picks!D99=\"\",\"\",Picks!D99)","v":1.6},{"$f":"IF(Picks!E99=\"\",\"\",Picks!E99)","v":"x"},{"$f":"IF(Picks!F99=\"\",\"\",Picks!F99)","v":""},{"$f":"IF(Picks!G99=\"\",\"\",Picks!G99)","v":""}]
[null,{"$f":"IF(Picks!B100=\"\",\"\",Picks!B100)","v":"Carlisle"},{"$f":"IF(Picks!C100=\"\",\"\",Picks!C100)","v":7},{"$f":"IF(Picks!D100=\"\",\"\",Picks!D100)","v":1.6153846153846154},{"$f":"IF(Picks!E100=\"\",\"\",Picks!E100)","v":"√"},{"$f":"IF(Picks!F100=\"\",\"\",Picks!F100)","v":""},{"$f":"IF(Picks!G100=\"\",\"\",Picks!G100)","v":""}]
[{"$f":"IF(Picks!A101=\"\",\"\",Picks!A101)","v":"Lewis Buckley"},{"$f":"IF(Picks!B101=\"\",\"\",Picks!B101)","v":""},{"$f":"IF(Picks!C101=\"\",\"\",Picks!C101)","v":""},{"$f":"IF(Picks!D101=\"\",\"\",Picks!D101)","v":""},{"$f":"IF(Picks!E101=\"\",\"\",Picks!E101)","v":""},{"$f":"IF(Picks!F101=\"\",\"\",Picks!F101)","v":-10},{"$f":"IF(Picks!G101=\"\",\"\",Picks!G101)","v":""}]
[null,{"$f":"IF(Picks!B102=\"\",\"\",Picks!B102)","v":""},{"$f":"IF(Picks!C102=\"\",\"\",Picks!C102)","v":""},{"$f":"IF(Picks!D102=\"\",\"\",Picks!D102)","v":""},{"$f":"IF(Picks!E102=\"\",\"\",Picks!E102)","v":""},{"$f":"IF(Picks!F102=\"\",\"\",Picks!F102)","v":""},{"$f":"IF(Picks!G102=\"\",\"\",Picks!G102)","v":""}]
[null,{"$f":"IF(Picks!B103=\"\",\"\",Picks!B103)","v":""},{"$f":"IF(Picks!C103=\"\",\"\",Picks!C103)","v":""},{"$f":"IF(Picks!D103=\"\",\"\",Picks!D103)","v":""},{"$f":"IF(Picks!E103=\"\",\"\",Picks!E103)","v":""},{"$f":"IF(Picks!F103=\"\",\"\",Picks!F103)","v":""},{"$f":"IF(Picks!G103=\"\",\"\",Picks!G103)","v":""}]
[{"$f":"IF(Picks!A104=\"\",\"\",Picks!A104)","v":"Liam Wah"},{"$f":"IF(Picks!B104=\"\",\"\",Picks!B104)","v":"Man U draw"},{"$f":"IF(Picks!C104=\"\",\"\",Picks!C104)","v":7},{"$f":"IF(Picks!D104=\"\",\"\",Picks!D104)","v":4},{"$f":"IF(Picks!E104=\"\",\"\",Picks!E104)","v":"√"},{"$f":"IF(Picks!F104=\"\",\"\",Picks!F104)","v":8.25},{"$f":"IF(Picks!G104=\"\",\"\",Picks!G104)","v":45.625}]
[null,{"$f":"IF(Picks!B105=\"\",\"\",Picks!B105)","v":"Newcastle"},{"$f":"IF(Picks!C105=\"\",\"\",Picks!C105)","v":7},{"$f":"IF(Picks!D105=\"\",\"\",Picks!D105)","v":2.25},{"$f":"IF(Picks!E105=\"\",\"\",Picks!E105)","v":"√"},{"$f":"IF(Picks!F105=\"\",\"\",Picks!F105)","v":""},{"$f":"IF(Picks!G105=\"\",\"\",Picks!G105)","v":""}]
[null,{"$f":"IF(Picks!B106=\"\",\"\",Picks!B106)","v":"Wolves"},{"$f":"IF(Picks!C106=\"\",\"\",Picks!C106)","v":7},{"$f":"IF(Picks!D106=\"\",\"\",Picks!D106)","v":2.2999999999999998},{"$f":"IF(Picks!E106=\"\",\"\",Picks!E106)","v":"x"},{"$f":"IF(Picks!F106=\"\",\"\",Picks!F106)","v":""},{"$f":"IF(Picks!G106=\"\",\"\",Picks!G106)","v":""}]
[{"$f":"IF(Picks!A107=\"\",\"\",Picks!A107)","v":"Mal Stott"},{"$f":"IF(Picks!B107=\"\",\"\",Picks!B107)","v":"Blackpool"},{"$f":"IF(Picks!C107=\"\",\"\",Picks!C107)","v":7},{"$f":"IF(Picks!D107=\"\",\"\",Picks!D107)","v":2.2000000000000002},{"$f":"IF(Picks!E107=\"\",\"\",Picks!E107)","v":"x"},{"$f":"IF(Picks!F107=\"\",\"\",Picks!F107)","v":-7},{"$f":"IF(Picks!G107=\"\",\"\",Picks!G107)","v":45.76}]
[null,{"$f":"IF(Picks!B108=\"\",\"\",Picks!B108)","v":"Forest"},{"$f":"IF(Picks!C108=\"\",\"\",Picks!C108)","v":7},{"$f":"IF(Picks!D108=\"\",\"\",Picks!D108)","v":3.8},{"$f":"IF(Picks!E108=\"\",\"\",Picks!E108)","v":"x"},{"$f":"IF(Picks!F108=\"\",\"\",Picks!F108)","v":""},{"$f":"IF(Picks!G108=\"\",\"\",Picks!G108)","v":""}]
[null,{"$f":"IF(Picks!B109=\"\",\"\",Picks!B109)","v":"Blackburn"},{"$f":"IF(Picks!C109=\"\",\"\",Picks!C109)","v":7},{"$f":"IF(Picks!D109=\"\",\"\",Picks!D109)","v":2.5},{"$f":"IF(Picks!E109=\"\",\"\",Picks!E109)","v":"x"},{"$f":"IF(Picks!F109=\"\",\"\",Picks!F109)","v":""},{"$f":"IF(Picks!G109=\"\",\"\",Picks!G109)","v":""}]
[{"$f":"IF(Picks!A110=\"\",\"\",Picks!A110)","v":"Mark Bunn"},{"$f":"IF(Picks!B110=\"\",\"\",Picks!B110)","v":"Stoke"},{"$f":"IF(Picks!C110=\"\",\"\",Picks!C110)","v":7},{"$f":"IF(Picks!D110=\"\",\"\",Picks!D110)","v":2.6},{"$f":"IF(Picks!E110=\"\",\"\",Picks!E110)","v":"x"},{"$f":"IF(Picks!F110=\"\",\"\",Picks!F110)","v":-4.3},{"$f":"IF(Picks!G110=\"\",\"\",Picks!G110)","v":38.620000000000005}]
[null,{"$f":"IF(Picks!B111=\"\",\"\",Picks!B111)","v":"Reading"},{"$f":"IF(Picks!C111=\"\",\"\",Picks!C111)","v":7},{"$f":"IF(Picks!D111=\"\",\"\",Picks!D111)","v":2.7},{"$f":"IF(Picks!E111=\"\",\"\",Picks!E111)","v":"√"},{"$f":"IF(Picks!F111=\"\",\"\",Picks!F111)","v":""},{"$f":"IF(Picks!G111=\"\",\"\",Picks!G111)","v":""}]
[null,{"$f":"IF(Picks!B112=\"\",\"\",Picks!B112)","v":"Bristol C"},{"$f":"IF(Picks!C112=\"\",\"\",Picks!C112)","v":7},{"$f":"IF(Picks!D112=\"\",\"\",Picks!D112)","v":2.5},{"$f":"IF(Picks!E112=\"\",\"\",Picks!E112)","v":"x"},{"$f":"IF(Picks!F112=\"\",\"\",Picks!F112)","v":""},{"$f":"IF(Picks!G112=\"\",\"\",Picks!G112)","v":""}]
[{"$f":"IF(Picks!A113=\"\",\"\",Picks!A113)","v":"Mark Saunders"},{"$f":"IF(Picks!B113=\"\",\"\",Picks!B113)","v":"Man U draw"},{"$f":"IF(Picks!C113=\"\",\"\",Picks!C113)","v":7},{"$f":"IF(Picks!D113=\"\",\"\",Picks!D113)","v":4},{"$f":"IF(Picks!E113=\"\",\"\",Picks!E113)","v":"√"},{"$f":"IF(Picks!F113=\"\",\"\",Picks!F113)","v":4.6666666666666661},{"$f":"IF(Picks!G113=\"\",\"\",Picks!G113)","v":46.466666666666654}]
[null,{"$f":"IF(Picks!B114=\"\",\"\",Picks!B114)","v":"Wolves draw"},{"$f":"IF(Picks!C114=\"\",\"\",Picks!C114)","v":7},{"$f":"IF(Picks!D114=\"\",\"\",Picks!D114)","v":3.3},{"$f":"IF(Picks!E114=\"\",\"\",Picks!E114)","v":"x"},{"$f":"IF(Picks!F114=\"\",\"\",Picks!F114)","v":""},{"$f":"IF(Picks!G114=\"\",\"\",Picks!G114)","v":""}]
[null,{"$f":"IF(Picks!B115=\"\",\"\",Picks!B115)","v":"Peterborough"},{"$f":"IF(Picks!C115=\"\",\"\",Picks!C115)","v":7},{"$f":"IF(Picks!D115=\"\",\"\",Picks!D115)","v":1.5333333333333332},{"$f":"IF(Picks!E115=\"\",\"\",Picks!E115)","v":"√"},{"$f":"IF(Picks!F115=\"\",\"\",Picks!F115)","v":""},{"$f":"IF(Picks!G115=\"\",\"\",Picks!G115)","v":""}]
[{"$f":"IF(Picks!A116=\"\",\"\",Picks!A116)","v":"Martin Molyneux"},{"$f":"IF(Picks!B116=\"\",\"\",Picks!B116)","v":"Man U Draw"},{"$f":"IF(Picks!C116=\"\",\"\",Picks!C116)","v":7},{"$f":"IF(Picks!D116=\"\",\"\",Picks!D116)","v":4},{"$f":"IF(Picks!E116=\"\",\"\",Picks!E116)","v":"√"},{"$f":"IF(Picks!F116=\"\",\"\",Picks!F116)","v":5.6363636363636367},{"$f":"IF(Picks!G116=\"\",\"\",Picks!G116)","v":29.190082644628099}]
[null,{"$f":"IF(Picks!B117=\"\",\"\",Picks!B117)","v":"Spurs"},{"$f":"IF(Picks!C117=\"\",\"\",Picks!C117)","v":1},{"$f":"IF(Picks!D117=\"\",\"\",Picks!D117)","v":1.7272727272727273},{"$f":"IF(Picks!E117=\"\",\"\",Picks!E117)","v":"x"},{"$f":"IF(Picks!F117=\"\",\"\",Picks!F117)","v":""},{"$f":"IF(Picks!G117=\"\",\"\",Picks!G117)","v":""}]
[null,{"$f":"IF(Picks!B118=\"\",\"\",Picks!B118)","v":"Southampton"},{"$f":"IF(Picks!C118=\"\",\"\",Picks!C118)","v":1},{"$f":"IF(Picks!D118=\"\",\"\",Picks!D118)","v":1.7272727272727273},{"$f":"IF(Picks!E118=\"\",\"\",Picks!E118)","v":"√"},{"$f":"IF(Picks!F118=\"\",\"\",Picks!F118)","v":""},{"$f":"IF(Picks!G118=\"\",\"\",Picks!G118)","v":""}]
[{"$f":"IF(Picks!A119=\"\",\"\",Picks!A119)","v":"Martin Tarbuck"},{"$f":"IF(Picks!B119=\"\",\"\",Picks!B119)","v":"Wolves"},{"$f":"IF(Picks!C119=\"\",\"\",Picks!C119)","v":7},{"$f":"IF(Picks!D119=\"\",\"\",Picks!D119)","v":2.2999999999999998},{"$f":"IF(Picks!E119=\"\",\"\",Picks!E119)","v":"x"},{"$f":"IF(Picks!F119=\"\",\"\",Picks!F119)","v":-5.35},{"$f":"IF(Picks!G119=\"\",\"\",Picks!G119)","v":25.230999999999995}]
[null,{"$f":"IF(Picks!B120=\"\",\"\",Picks!B120)","v":"Bournemouth"},{"$f":"IF(Picks!C120=\"\",\"\",Picks!C120)","v":7},{"$f":"IF(Picks!D120=\"\",\"\",Picks!D120)","v":1.65},{"$f":"IF(Picks!E120=\"\",\"\",Picks!E120)","v":"√"},{"$f":"IF(Picks!F120=\"\",\"\",Picks!F120)","v":""},{"$f":"IF(Picks!G120=\"\",\"\",Picks!G120)","v":""}]
[null,{"$f":"IF(Picks!B121=\"\",\"\",Picks!B121)","v":"Lincoln"},{"$f":"IF(Picks!C121=\"\",\"\",Picks!C121)","v":7},{"$f":"IF(Picks!D121=\"\",\"\",Picks!D121)","v":2.8},{"$f":"IF(Picks!E121=\"\",\"\",Picks!E121)","v":"x"},{"$f":"IF(Picks!F121=\"\",\"\",Picks!F121)","v":""},{"$f":"IF(Picks!G121=\"\",\"\",Picks!G121)","v":""}]
[{"$f":"IF(Picks!A122=\"\",\"\",Picks!A122)","v":"Mike Penk"},{"$f":"IF(Picks!B122=\"\",\"\",Picks!B122)","v":"West Brom"},{"$f":"IF(Picks!C122=\"\",\"\",Picks!C122)","v":7},{"$f":"IF(Picks!D122=\"\",\"\",Picks!D122)","v":3.4},{"$f":"IF(Picks!E122=\"\",\"\",Picks!E122)","v":"x"},{"$f":"IF(Picks!F122=\"\",\"\",Picks!F122)","v":-4.8499999999999996},{"$f":"IF(Picks!G122=\"\",\"\",Picks!G122)","v":43.281999999999996}]
[null,{"$f":"IF(Picks!B123=\"\",\"\",Picks!B123)","v":"Plymouth"},{"$f":"IF(Picks!C123=\"\",\"\",Picks!C123)","v":7},{"$f":"IF(Picks!D123=\"\",\"\",Picks!D123)","v":2.7},{"$f":"IF(Picks!E123=\"\",\"\",Picks!E123)","v":"x"},{"$f":"IF(Picks!F123=\"\",\"\",Picks!F123)","v":""},{"$f":"IF(Picks!G123=\"\",\"\",Picks!G123)","v":""}]
[null,{"$f":"IF(Picks!B124=\"\",\"\",Picks!B124)","v":"Fleetwood"},{"$f":"IF(Picks!C124=\"\",\"\",Picks!C124)","v":7},{"$f":"IF(Picks!D124=\"\",\"\",Picks!D124)","v":2.15},{"$f":"IF(Picks!E124=\"\",\"\",Picks!E124)","v":"√"},{"$f":"IF(Picks!F124=\"\",\"\",Picks!F124)","v":""},{"$f":"IF(Picks!G124=\"\",\"\",Picks!G124)","v":""}]
[{"$f":"IF(Picks!A125=\"\",\"\",Picks!A125)","v":"Mo Sudell"},{"$f":"IF(Picks!B125=\"\",\"\",Picks!B125)","v":"Carlisle"},{"$f":"IF(Picks!C125=\"\",\"\",Picks!C125)","v":7},{"$f":"IF(Picks!D125=\"\",\"\",Picks!D125)","v":1.6153846153846154},{"$f":"IF(Picks!E125=\"\",\"\",Picks!E125)","v":"√"},{"$f":"IF(Picks!F125=\"\",\"\",Picks!F125)","v":-5.384615384615385},{"$f":"IF(Picks!G125=\"\",\"\",Picks!G125)","v":17.84}]
[null,{"$f":"IF(Picks!B126=\"\",\"\",Picks!B126)","v":"Hull"},{"$f":"IF(Picks!C126=\"\",\"\",Picks!C126)","v":7},{"$f":"IF(Picks!D126=\"\",\"\",Picks!D126)","v":1.6},{"$f":"IF(Picks!E126=\"\",\"\",Picks!E126)","v":"x"},{"$f":"IF(Picks!F126=\"\",\"\",Picks!F126)","v":""},{"$f":"IF(Picks!G126=\"\",\"\",Picks!G126)","v":""}]
[null,{"$f":"IF(Picks!B127=\"\",\"\",Picks!B127)","v":"Lincoln"},{"$f":"IF(Picks!C127=\"\",\"\",Picks!C127)","v":7},{"$f":"IF(Picks!D127=\"\",\"\",Picks!D127)","v":2.8},{"$f":"IF(Picks!E127=\"\",\"\",Picks!E127)","v":"x"},{"$f":"IF(Picks!F127=\"\",\"\",Picks!F127)","v":""},{"$f":"IF(Picks!G127=\"\",\"\",Picks!G127)","v":""}]
[{"$f":"IF(Picks!A128=\"\",\"\",Picks!A128)","v":"Nick Blocksidge"},{"$f":"IF(Picks!B128=\"\",\"\",Picks!B128)","v":"Arsenal"},{"$f":"IF(Picks!C128=\"\",\"\",Picks!C128)","v":1},{"$f":"IF(Picks!D128=\"\",\"\",Picks!D128)","v":1.55},{"$f":"IF(Picks!E128=\"\",\"\",Picks!E128)","v":"x"},{"$f":"IF(Picks!F128=\"\",\"\",Picks!F128)","v":-5},{"$f":"IF(Picks!G128=\"\",\"\",Picks!G128)","v":12.863636363636367}]
[null,{"$f":"IF(Picks!B129=\"\",\"\",Picks!B129)","v":"Leicester"},{"$f":"IF(Picks!C129=\"\",\"\",Picks!C129)","v":1},{"$f":"IF(Picks!D129=\"\",\"\",Picks!D129)","v":2},{"$f":"IF(Picks!E129=\"\",\"\",Picks!E129)","v":"√"},{"$f":"IF(Picks!F129=\"\",\"\",Picks!F129)","v":""},{"$f":"IF(Picks!G129=\"\",\"\",Picks!G129)","v":""}]
[null,{"$f":"IF(Picks!B130=\"\",\"\",Picks!B130)","v":"Spurs"},{"$f":"IF(Picks!C130=\"\",\"\",Picks!C130)","v":1},{"$f":"IF(Picks!D130=\"\",\"\",Picks!D130)","v":1.7272727272727273},{"$f":"IF(Picks!E130=\"\",\"\",Picks!E130)","v":"x"},{"$f":"IF(Picks!F130=\"\",\"\",Picks!F130)","v":""},{"$f":"IF(Picks!G130=\"\",\"\",Picks!G130)","v":""}]
[{"$f":"IF(Picks!A131=\"\",\"\",Picks!A131)","v":"Nigel Heyes"},{"$f":"IF(Picks!B131=\"\",\"\",Picks!B131)","v":"Everton draw"},{"$f":"IF(Picks!C131=\"\",\"\",Picks!C131)","v":7},{"$f":"IF(Picks!D131=\"\",\"\",Picks!D131)","v":4},{"$f":"IF(Picks!E131=\"\",\"\",Picks!E131)","v":"x"},{"$f":"IF(Picks!F131=\"\",\"\",Picks!F131)","v":-3.8},{"$f":"IF(Picks!G131=\"\",\"\",Picks!G131)","v":86.5}]
[null,{"$f":"IF(Picks!B132=\"\",\"\",Picks!B132)","v":"Blackburn draw"},{"$f":"IF(Picks!C132=\"\",\"\",Picks!C132)","v":7},{"$f":"IF(Picks!D132=\"\",\"\",Picks!D132)","v":3.5},{"$f":"IF(Picks!E132=\"\",\"\",Picks!E132)","v":"x"},{"$f":"IF(Picks!F132=\"\",\"\",Picks!F132)","v":""},{"$f":"IF(Picks!G132=\"\",\"\",Picks!G132)","v":""}]
[null,{"$f":"IF(Picks!B133=\"\",\"\",Picks!B133)","v":"Derby draw"},{"$f":"IF(Picks!C133=\"\",\"\",Picks!C133)","v":7},{"$f":"IF(Picks!D133=\"\",\"\",Picks!D133)","v":3.2},{"$f":"IF(Picks!E133=\"\",\"\",Picks!E133)","v":"√"},{"$f":"IF(Picks!F133=\"\",\"\",Picks!F133)","v":""},{"$f":"IF(Picks!G133=\"\",\"\",Picks!G133)","v":""}]
[{"$f":"IF(Picks!A134=\"\",\"\",Picks!A134)","v":"Oscar Jackson"},{"$f":"IF(Picks!B134=\"\",\"\",Picks!B134)","v":"Blackpool"},{"$f":"IF(Picks!C134=\"\",\"\",Picks!C134)","v":7},{"$f":"IF(Picks!D134=\"\",\"\",Picks!D134)","v":2.2000000000000002},{"$f":"IF(Picks!E134=\"\",\"\",Picks!E134)","v":"x"},{"$f":"IF(Picks!F134=\"\",\"\",Picks!F134)","v":-5.0909090909090908},{"$f":"IF(Picks!G134=\"\",\"\",Picks!G134)","v":16.203636363636363}]
[null,{"$f":"IF(Picks!B135=\"\",\"\",Picks!B135)","v":"Hull"},{"$f":"IF(Picks!C135=\"\",\"\",Picks!C135)","v":7},{"$f":"IF(Picks!D135=\"\",\"\",Picks!D135)","v":1.6},{"$f":"IF(Picks!E135=\"\",\"\",Picks!E135)","v":"x"},{"$f":"IF(Picks!F135=\"\",\"\",Picks!F135)","v":""},{"$f":"IF(Picks!G135=\"\",\"\",Picks!G135)","v":""}]
[null,{"$f":"IF(Picks!B136=\"\",\"\",Picks!B136)","v":"Exeter"},{"$f":"IF(Picks!C136=\"\",\"\",Picks!C136)","v":7},{"$f":"IF(Picks!D136=\"\",\"\",Picks!D136)","v":1.9090909090909092},{"$f":"IF(Picks!E136=\"\",\"\",Picks!E136)","v":"√"},{"$f":"IF(Picks!F136=\"\",\"\",Picks!F136)","v":""},{"$f":"IF(Picks!G136=\"\",\"\",Picks!G136)","v":""}]
[{"$f":"IF(Picks!A137=\"\",\"\",Picks!A137)","v":"Paul Adderley"},{"$f":"IF(Picks!B137=\"\",\"\",Picks!B137)","v":"QPR"},{"$f":"IF(Picks!C137=\"\",\"\",Picks!C137)","v":7},{"$f":"IF(Picks!D137=\"\",\"\",Picks!D137)","v":2.625},{"$f":"IF(Picks!E137=\"\",\"\",Picks!E137)","v":"x"},{"$f":"IF(Picks!F137=\"\",\"\",Picks!F137)","v":-4.25},{"$f":"IF(Picks!G137=\"\",\"\",Picks!G137)","v":57.25}]
[null,{"$f":"IF(Picks!B138=\"\",\"\",Picks!B138)","v":"Forest"},{"$f":"IF(Picks!C138=\"\",\"\",Picks!C138)","v":7},{"$f":"IF(Picks!D138=\"\",\"\",Picks!D138)","v":3.8},{"$f":"IF(Picks!E138=\"\",\"\",Picks!E138)","v":"x"},{"$f":"IF(Picks!F138=\"\",\"\",Picks!F138)","v":""},{"$f":"IF(Picks!G138=\"\",\"\",Picks!G138)","v":""}]
[null,{"$f":"IF(Picks!B139=\"\",\"\",Picks!B139)","v":"Norwich"},{"$f":"IF(Picks!C139=\"\",\"\",Picks!C139)","v":7},{"$f":"IF(Picks!D139=\"\",\"\",Picks!D139)","v":2.75},{"$f":"IF(Picks!E139=\"\",\"\",Picks!E139)","v":"√"},{"$f":"IF(Picks!F139=\"\",\"\",Picks!F139)","v":""},{"$f":"IF(Picks!G139=\"\",\"\",Picks!G139)","v":""}]
[{"$f":"IF(Picks!A140=\"\",\"\",Picks!A140)","v":"Paul Allen"},{"$f":"IF(Picks!B140=\"\",\"\",Picks!B140)","v":"Charlton"},{"$f":"IF(Picks!C140=\"\",\"\",Picks!C140)","v":7},{"$f":"IF(Picks!D140=\"\",\"\",Picks!D140)","v":1.95},{"$f":"IF(Picks!E140=\"\",\"\",Picks!E140)","v":"√"},{"$f":"IF(Picks!F140=\"\",\"\",Picks!F140)","v":1.4400000000000013},{"$f":"IF(Picks!G140=\"\",\"\",Picks!G140)","v":16.544}]
[null,{"$f":"IF(Picks!B141=\"\",\"\",Picks!B141)","v":"Hull"},{"$f":"IF(Picks!C141=\"\",\"\",Picks!C141)","v":7},{"$f":"IF(Picks!D141=\"\",\"\",Picks!D141)","v":1.6},{"$f":"IF(Picks!E141=\"\",\"\",Picks!E141)","v":"x"},{"$f":"IF(Picks!F141=\"\",\"\",Picks!F141)","v":""},{"$f":"IF(Picks!G141=\"\",\"\",Picks!G141)","v":""}]
[null,{"$f":"IF(Picks!B142=\"\",\"\",Picks!B142)","v":"Portsmouth"},{"$f":"IF(Picks!C142=\"\",\"\",Picks!C142)","v":7},{"$f":"IF(Picks!D142=\"\",\"\",Picks!D142)","v":2.2000000000000002},{"$f":"IF(Picks!E142=\"\",\"\",Picks!E142)","v":"√"},{"$f":"IF(Picks!F142=\"\",\"\",Picks!F142)","v":""},{"$f":"IF(Picks!G142=\"\",\"\",Picks!G142)","v":""}]
[{"$f":"IF(Picks!A143=\"\",\"\",Picks!A143)","v":"Paul Barnes"},{"$f":"IF(Picks!B143=\"\",\"\",Picks!B143)","v":"Man U"},{"$f":"IF(Picks!C143=\"\",\"\",Picks!C143)","v":7},{"$f":"IF(Picks!D143=\"\",\"\",Picks!D143)","v":4.3333333333333339},{"$f":"IF(Picks!E143=\"\",\"\",Picks!E143)","v":"x"},{"$f":"IF(Picks!F143=\"\",\"\",Picks!F143)","v":-7},{"$f":"IF(Picks!G143=\"\",\"\",Picks!G143)","v":79.27272727272728}]
[null,{"$f":"IF(Picks!B144=\"\",\"\",Picks!B144)","v":"Spurs"},{"$f":"IF(Picks!C144=\"\",\"\",Picks!C144)","v":1},{"$f":"IF(Picks!D144=\"\",\"\",Picks!D144)","v":1.7272727272727273},{"$f":"IF(Picks!E144=\"\",\"\",Picks!E144)","v":"x"},{"$f":"IF(Picks!F144=\"\",\"\",Picks!F144)","v":""},{"$f":"IF(Picks!G144=\"\",\"\",Picks!G144)","v":""}]
[null,{"$f":"IF(Picks!B145=\"\",\"\",Picks!B145)","v":"Sheff U"},{"$f":"IF(Picks!C145=\"\",\"\",Picks!C145)","v":1},{"$f":"IF(Picks!D145=\"\",\"\",Picks!D145)","v":5},{"$f":"IF(Picks!E145=\"\",\"\",Picks!E145)","v":"x"},{"$f":"IF(Picks!F145=\"\",\"\",Picks!F145)","v":""},{"$f":"IF(Picks!G145=\"\",\"\",Picks!G145)","v":""}]
[{"$f":"IF(Picks!A146=\"\",\"\",Picks!A146)","v":"Paul Fairhurst"},{"$f":"IF(Picks!B146=\"\",\"\",Picks!B146)","v":"West Brom"},{"$f":"IF(Picks!C146=\"\",\"\",Picks!C146)","v":7},{"$f":"IF(Picks!D146=\"\",\"\",Picks!D146)","v":3.4},{"$f":"IF(Picks!E146=\"\",\"\",Picks!E146)","v":"x"},{"$f":"IF(Picks!F146=\"\",\"\",Picks!F146)","v":-7},{"$f":"IF(Picks!G146=\"\",\"\",Picks!G146)","v":60.551999999999992}]
[null,{"$f":"IF(Picks!B147=\"\",\"\",Picks!B147)","v":"Ipswich"},{"$f":"IF(Picks!C147=\"\",\"\",Picks!C147)","v":7},{"$f":"IF(Picks!D147=\"\",\"\",Picks!D147)","v":3.1},{"$f":"IF(Picks!E147=\"\",\"\",Picks!E147)","v":"x"},{"$f":"IF(Picks!F147=\"\",\"\",Picks!F147)","v":""},{"$f":"IF(Picks!G147=\"\",\"\",Picks!G147)","v":""}]
[null,{"$f":"IF(Picks!B148=\"\",\"\",Picks!B148)","v":"Lincoln"},{"$f":"IF(Picks!C148=\"\",\"\",Picks!C148)","v":7},{"$f":"IF(Picks!D148=\"\",\"\",Picks!D148)","v":2.8},{"$f":"IF(Picks!E148=\"\",\"\",Picks!E148)","v":"x"},{"$f":"IF(Picks!F148=\"\",\"\",Picks!F148)","v":""},{"$f":"IF(Picks!G148=\"\",\"\",Picks!G148)","v":""}]
[{"$f":"IF(Picks!A149=\"\",\"\",Picks!A149)","v":"Paul Fiddler"},{"$f":"IF(Picks!B149=\"\",\"\",Picks!B149)","v":"Hull"},{"$f":"IF(Picks!C149=\"\",\"\",Picks!C149)","v":7},{"$f":"IF(Picks!D149=\"\",\"\",Picks!D149)","v":1.6},{"$f":"IF(Picks!E149=\"\",\"\",Picks!E149)","v":"x"},{"$f":"IF(Picks!F149=\"\",\"\",Picks!F149)","v":-5.05},{"$f":"IF(Picks!G149=\"\",\"\",Picks!G149)","v":16.544}]
[null,{"$f":"IF(Picks!B150=\"\",\"\",Picks!B150)","v":"Charlton"},{"$f":"IF(Picks!C150=\"\",\"\",Picks!C150)","v":7},{"$f":"IF(Picks!D150=\"\",\"\",Picks!D150)","v":1.95},{"$f":"IF(Picks!E150=\"\",\"\",Picks!E150)","v":"√"},{"$f":"IF(Picks!F150=\"\",\"\",Picks!F150)","v":""},{"$f":"IF(Picks!G150=\"\",\"\",Picks!G150)","v":""}]
[null,{"$f":"IF(Picks!B151=\"\",\"\",Picks!B151)","v":"Blackpool"},{"$f":"IF(Picks!C151=\"\",\"\",Picks!C151)","v":7},{"$f":"IF(Picks!D151=\"\",\"\",Picks!D151)","v":2.2000000000000002},{"$f":"IF(Picks!E151=\"\",\"\",Picks!E151)","v":"x"},{"$f":"IF(Picks!F151=\"\",\"\",Picks!F151)","v":""},{"$f":"IF(Picks!G151=\"\",\"\",Picks!G151)","v":""}]
[{"$f":"IF(Picks!A152=\"\",\"\",Picks!A152)","v":"Paul Ridgeway"},{"$f":"IF(Picks!B152=\"\",\"\",Picks!B152)","v":"Leeds"},{"$f":"IF(Picks!C152=\"\",\"\",Picks!C152)","v":6},{"$f":"IF(Picks!D152=\"\",\"\",Picks!D152)","v":2.15},{"$f":"IF(Picks!E152=\"\",\"\",Picks!E152)","v":"x"},{"$f":"IF(Picks!F152=\"\",\"\",Picks!F152)","v":-7},{"$f":"IF(Picks!G152=\"\",\"\",Picks!G152)","v":23.184999999999999}]
[null,{"$f":"IF(Picks!B153=\"\",\"\",Picks!B153)","v":"Chelsea"},{"$f":"IF(Picks!C153=\"\",\"\",Picks!C153)","v":7},{"$f":"IF(Picks!D153=\"\",\"\",Picks!D153)","v":1.75},{"$f":"IF(Picks!E153=\"\",\"\",Picks!E153)","v":"x"},{"$f":"IF(Picks!F153=\"\",\"\",Picks!F153)","v":""},{"$f":"IF(Picks!G153=\"\",\"\",Picks!G153)","v":""}]
[null,{"$f":"IF(Picks!B154=\"\",\"\",Picks!B154)","v":"Stoke"},{"$f":"IF(Picks!C154=\"\",\"\",Picks!C154)","v":7},{"$f":"IF(Picks!D154=\"\",\"\",Picks!D154)","v":2.6},{"$f":"IF(Picks!E154=\"\",\"\",Picks!E154)","v":"x"},{"$f":"IF(Picks!F154=\"\",\"\",Picks!F154)","v":""},{"$f":"IF(Picks!G154=\"\",\"\",Picks!G154)","v":""}]
[{"$f":"IF(Picks!A155=\"\",\"\",Picks!A155)","v":"Pete Baron"},{"$f":"IF(Picks!B155=\"\",\"\",Picks!B155)","v":"Sheff U"},{"$f":"IF(Picks!C155=\"\",\"\",Picks!C155)","v":1},{"$f":"IF(Picks!D155=\"\",\"\",Picks!D155)","v":5},{"$f":"IF(Picks!E155=\"\",\"\",Picks!E155)","v":"x"},{"$f":"IF(Picks!F155=\"\",\"\",Picks!F155)","v":-4},{"$f":"IF(Picks!G155=\"\",\"\",Picks!G155)","v":160}]
[null,{"$f":"IF(Picks!B156=\"\",\"\",Picks!B156)","v":"Rochdale"},{"$f":"IF(Picks!C156=\"\",\"\",Picks!C156)","v":7},{"$f":"IF(Picks!D156=\"\",\"\",Picks!D156)","v":6},{"$f":"IF(Picks!E156=\"\",\"\",Picks!E156)","v":"x"},{"$f":"IF(Picks!F156=\"\",\"\",Picks!F156)","v":""},{"$f":"IF(Picks!G156=\"\",\"\",Picks!G156)","v":""}]
[null,{"$f":"IF(Picks!B157=\"\",\"\",Picks!B157)","v":"Swansea"},{"$f":"IF(Picks!C157=\"\",\"\",Picks!C157)","v":7},{"$f":"IF(Picks!D157=\"\",\"\",Picks!D157)","v":3},{"$f":"IF(Picks!E157=\"\",\"\",Picks!E157)","v":"√"},{"$f":"IF(Picks!F157=\"\",\"\",Picks!F157)","v":""},{"$f":"IF(Picks!G157=\"\",\"\",Picks!G157)","v":""}]
[{"$f":"IF(Picks!A158=\"\",\"\",Picks!A158)","v":"Phil Miller"},{"$f":"IF(Picks!B158=\"\",\"\",Picks!B158)","v":""},{"$f":"IF(Picks!C158=\"\",\"\",Picks!C158)","v":""},{"$f":"IF(Picks!D158=\"\",\"\",Picks!D158)","v":""},{"$f":"IF(Picks!E158=\"\",\"\",Picks!E158)","v":""},{"$f":"IF(Picks!F158=\"\",\"\",Picks!F158)","v":-10},{"$f":"IF(Picks!G158=\"\",\"\",Picks!G158)","v":""}]
[null,{"$f":"IF(Picks!B159=\"\",\"\",Picks!B159)","v":""},{"$f":"IF(Picks!C159=\"\",\"\",Picks!C159)","v":""},{"$f":"IF(Picks!D159=\"\",\"\",Picks!D159)","v":""},{"$f":"IF(Picks!E159=\"\",\"\",Picks!E159)","v":""},{"$f":"IF(Picks!F159=\"\",\"\",Picks!F159)","v":""},{"$f":"IF(Picks!G159=\"\",\"\",Picks!G159)","v":""}]
[null,{"$f":"IF(Picks!B160=\"\",\"\",Picks!B160)","v":""},{"$f":"IF(Picks!C160=\"\",\"\",Picks!C160)","v":""},{"$f":"IF(Picks!D160=\"\",\"\",Picks!D160)","v":""},{"$f":"IF(Picks!E160=\"\",\"\",Picks!E160)","v":""},{"$f":"IF(Picks!F160=\"\",\"\",Picks!F160)","v":""},{"$f":"IF(Picks!G160=\"\",\"\",Picks!G160)","v":""}]
[{"$f":"IF(Picks!A161=\"\",\"\",Picks!A161)","v":"Rob England"},{"$f":"IF(Picks!B161=\"\",\"\",Picks!B161)","v":"Fulham"},{"$f":"IF(Picks!C161=\"\",\"\",Picks!C161)","v":1},{"$f":"IF(Picks!D161=\"\",\"\",Picks!D161)","v":9},{"$f":"IF(Picks!E161=\"\",\"\",Picks!E161)","v":"x"},{"$f":"IF(Picks!F161=\"\",\"\",Picks!F161)","v":-3.9},{"$f":"IF(Picks!G161=\"\",\"\",Picks!G161)","v":238}]
[null,{"$f":"IF(Picks!B162=\"\",\"\",Picks!B162)","v":"Sheff U"},{"$f":"IF(Picks!C162=\"\",\"\",Picks!C162)","v":1},{"$f":"IF(Picks!D162=\"\",\"\",Picks!D162)","v":5},{"$f":"IF(Picks!E162=\"\",\"\",Picks!E162)","v":"x"},{"$f":"IF(Picks!F162=\"\",\"\",Picks!F162)","v":""},{"$f":"IF(Picks!G162=\"\",\"\",Picks!G162)","v":""}]
[null,{"$f":"IF(Picks!B163=\"\",\"\",Picks!B163)","v":"Barnsley"},{"$f":"IF(Picks!C163=\"\",\"\",Picks!C163)","v":7},{"$f":"IF(Picks!D163=\"\",\"\",Picks!D163)","v":3.1},{"$f":"IF(Picks!E163=\"\",\"\",Picks!E163)","v":"√"},{"$f":"IF(Picks!F163=\"\",\"\",Picks!F163)","v":""},{"$f":"IF(Picks!G163=\"\",\"\",Picks!G163)","v":""}]
[{"$f":"IF(Picks!A164=\"\",\"\",Picks!A164)","v":"Sally Williams"},{"$f":"IF(Picks!B164=\"\",\"\",Picks!B164)","v":"Luton"},{"$f":"IF(Picks!C164=\"\",\"\",Picks!C164)","v":7},{"$f":"IF(Picks!D164=\"\",\"\",Picks!D164)","v":3},{"$f":"IF(Picks!E164=\"\",\"\",Picks!E164)","v":"√"},{"$f":"IF(Picks!F164=\"\",\"\",Picks!F164)","v":-4},{"$f":"IF(Picks!G164=\"\",\"\",Picks!G164)","v":59.239999999999995}]
[null,{"$f":"IF(Picks!B165=\"\",\"\",Picks!B165)","v":"Wycombe"},{"$f":"IF(Picks!C165=\"\",\"\",Picks!C165)","v":7},{"$f":"IF(Picks!D165=\"\",\"\",Picks!D165)","v":3.1},{"$f":"IF(Picks!E165=\"\",\"\",Picks!E165)","v":"x"},{"$f":"IF(Picks!F165=\"\",\"\",Picks!F165)","v":""},{"$f":"IF(Picks!G165=\"\",\"\",Picks!G165)","v":""}]
[null,{"$f":"IF(Picks!B166=\"\",\"\",Picks!B166)","v":"Ipswich"},{"$f":"IF(Picks!C166=\"\",\"\",Picks!C166)","v":7},{"$f":"IF(Picks!D166=\"\",\"\",Picks!D166)","v":3.1},{"$f":"IF(Picks!E166=\"\",\"\",Picks!E166)","v":"x"},{"$f":"IF(Picks!F166=\"\",\"\",Picks!F166)","v":""},{"$f":"IF(Picks!G166=\"\",\"\",Picks!G166)","v":""}]
[{"$f":"IF(Picks!A167=\"\",\"\",Picks!A167)","v":"Simon Greenhalgh"},{"$f":"IF(Picks!B167=\"\",\"\",Picks!B167)","v":"Man u Draw"},{"$f":"IF(Picks!C167=\"\",\"\",Picks!C167)","v":7},{"$f":"IF(Picks!D167=\"\",\"\",Picks!D167)","v":4},{"$f":"IF(Picks!E167=\"\",\"\",Picks!E167)","v":"√"},{"$f":"IF(Picks!F167=\"\",\"\",Picks!F167)","v":-3},{"$f":"IF(Picks!G167=\"\",\"\",Picks!G167)","v":38.800000000000004}]
[null,{"$f":"IF(Picks!B168=\"\",\"\",Picks!B168)","v":"Stoke"},{"$f":"IF(Picks!C168=\"\",\"\",Picks!C168)","v":7},{"$f":"IF(Picks!D168=\"\",\"\",Picks!D168)","v":2.6},{"$f":"IF(Picks!E168=\"\",\"\",Picks!E168)","v":"x"},{"$f":"IF(Picks!F168=\"\",\"\",Picks!F168)","v":""},{"$f":"IF(Picks!G168=\"\",\"\",Picks!G168)","v":""}]
[null,{"$f":"IF(Picks!B169=\"\",\"\",Picks!B169)","v":"Hull"},{"$f":"IF(Picks!C169=\"\",\"\",Picks!C169)","v":7},{"$f":"IF(Picks!D169=\"\",\"\",Picks!D169)","v":1.6},{"$f":"IF(Picks!E169=\"\",\"\",Picks!E169)","v":"x"},{"$f":"IF(Picks!F169=\"\",\"\",Picks!F169)","v":""},{"$f":"IF(Picks!G169=\"\",\"\",Picks!G169)","v":""}]
[{"$f":"IF(Picks!A170=\"\",\"\",Picks!A170)","v":"Stephen Barr"},{"$f":"IF(Picks!B170=\"\",\"\",Picks!B170)","v":"Newcastle"},{"$f":"IF(Picks!C170=\"\",\"\",Picks!C170)","v":7},{"$f":"IF(Picks!D170=\"\",\"\",Picks!D170)","v":2.25},{"$f":"IF(Picks!E170=\"\",\"\",Picks!E170)","v":"√"},{"$f":"IF(Picks!F170=\"\",\"\",Picks!F170)","v":0.8636363636363642},{"$f":"IF(Picks!G170=\"\",\"\",Picks!G170)","v":19.920454545454547}]
[null,{"$f":"IF(Picks!B171=\"\",\"\",Picks!B171)","v":"Leeds"},{"$f":"IF(Picks!C171=\"\",\"\",Picks!C171)","v":6},{"$f":"IF(Picks!D171=\"\",\"\",Picks!D171)","v":2.15},{"$f":"IF(Picks!E171=\"\",\"\",Picks!E171)","v":"x"},{"$f":"IF(Picks!F171=\"\",\"\",Picks!F171)","v":""},{"$f":"IF(Picks!G171=\"\",\"\",Picks!G171)","v":""}]
[null,{"$f":"IF(Picks!B172=\"\",\"\",Picks!B172)","v":"Southampton"},{"$f":"IF(Picks!C172=\"\",\"\",Picks!C172)","v":1},{"$f":"IF(Picks!D172=\"\",\"\",Picks!D172)","v":1.7272727272727273},{"$f":"IF(Picks!E172=\"\",\"\",Picks!E172)","v":"√"},{"$f":"IF(Picks!F172=\"\",\"\",Picks!F172)","v":""},{"$f":"IF(Picks!G172=\"\",\"\",Picks!G172)","v":""}]
[{"$f":"IF(Picks!A173=\"\",\"\",Picks!A173)","v":"Stephen Troop"},{"$f":"IF(Picks!B173=\"\",\"\",Picks!B173)","v":"Spurs"},{"$f":"IF(Picks!C173=\"\",\"\",Picks!C173)","v":1},{"$f":"IF(Picks!D173=\"\",\"\",Picks!D173)","v":1.7272727272727273},{"$f":"IF(Picks!E173=\"\",\"\",Picks!E173)","v":"x"},{"$f":"IF(Picks!F173=\"\",\"\",Picks!F173)","v":-7},{"$f":"IF(Picks!G173=\"\",\"\",Picks!G173)","v":23.418181818181825}]
[null,{"$f":"IF(Picks!B174=\"\",\"\",Picks!B174)","v":"Stoke"},{"$f":"IF(Picks!C174=\"\",\"\",Picks!C174)","v":7},{"$f":"IF(Picks!D174=\"\",\"\",Picks!D174)","v":2.6},{"$f":"IF(Picks!E174=\"\",\"\",Picks!E174)","v":"x"},{"$f":"IF(Picks!F174=\"\",\"\",Picks!F174)","v":""},{"$f":"IF(Picks!G174=\"\",\"\",Picks!G174)","v":""}]
[null,{"$f":"IF(Picks!B175=\"\",\"\",Picks!B175)","v":"Blackpool"},{"$f":"IF(Picks!C175=\"\",\"\",Picks!C175)","v":7},{"$f":"IF(Picks!D175=\"\",\"\",Picks!D175)","v":2.2000000000000002},{"$f":"IF(Picks!E175=\"\",\"\",Picks!E175)","v":"x"},{"$f":"IF(Picks!F175=\"\",\"\",Picks!F175)","v":""},{"$f":"IF(Picks!G175=\"\",\"\",Picks!G175)","v":""}]
[{"$f":"IF(Picks!A176=\"\",\"\",Picks!A176)","v":"Steve Baxter"},{"$f":"IF(Picks!B176=\"\",\"\",Picks!B176)","v":"Chelsea"},{"$f":"IF(Picks!C176=\"\",\"\",Picks!C176)","v":7},{"$f":"IF(Picks!D176=\"\",\"\",Picks!D176)","v":1.75},{"$f":"IF(Picks!E176=\"\",\"\",Picks!E176)","v":"x"},{"$f":"IF(Picks!F176=\"\",\"\",Picks!F176)","v":-7},{"$f":"IF(Picks!G176=\"\",\"\",Picks!G176)","v":9.5}]
[null,{"$f":"IF(Picks!B177=\"\",\"\",Picks!B177)","v":"Liverpool"},{"$f":"IF(Picks!C177=\"\",\"\",Picks!C177)","v":1},{"$f":"IF(Picks!D177=\"\",\"\",Picks!D177)","v":1.3333333333333333},{"$f":"IF(Picks!E177=\"\",\"\",Picks!E177)","v":"x"},{"$f":"IF(Picks!F177=\"\",\"\",Picks!F177)","v":""},{"$f":"IF(Picks!G177=\"\",\"\",Picks!G177)","v":""}]
[null,{"$f":"IF(Picks!B178=\"\",\"\",Picks!B178)","v":"Spurs"},{"$f":"IF(Picks!C178=\"\",\"\",Picks!C178)","v":1},{"$f":"IF(Picks!D178=\"\",\"\",Picks!D178)","v":1.7272727272727273},{"$f":"IF(Picks!E178=\"\",\"\",Picks!E178)","v":"x"},{"$f":"IF(Picks!F178=\"\",\"\",Picks!F178)","v":""},{"$f":"IF(Picks!G178=\"\",\"\",Picks!G178)","v":""}]
[{"$f":"IF(Picks!A179=\"\",\"\",Picks!A179)","v":"Steve Carter"},{"$f":"IF(Picks!B179=\"\",\"\",Picks!B179)","v":"Newcastle"},{"$f":"IF(Picks!C179=\"\",\"\",Picks!C179)","v":7},{"$f":"IF(Picks!D179=\"\",\"\",Picks!D179)","v":2.25},{"$f":"IF(Picks!E179=\"\",\"\",Picks!E179)","v":"√"},{"$f":"IF(Picks!F179=\"\",\"\",Picks!F179)","v":1.75},{"$f":"IF(Picks!G179=\"\",\"\",Picks!G179)","v":24.174999999999997}]
[null,{"$f":"IF(Picks!B180=\"\",\"\",Picks!B180)","v":"Wolves"},{"$f":"IF(Picks!C180=\"\",\"\",Picks!C180)","v":7},{"$f":"IF(Picks!D180=\"\",\"\",Picks!D180)","v":2.2999999999999998},{"$f":"IF(Picks!E180=\"\",\"\",Picks!E180)","v":"x"},{"$f":"IF(Picks!F180=\"\",\"\",Picks!F180)","v":""},{"$f":"IF(Picks!G180=\"\",\"\",Picks!G180)","v":""}]
[null,{"$f":"IF(Picks!B181=\"\",\"\",Picks!B181)","v":"Leicester"},{"$f":"IF(Picks!C181=\"\",\"\",Picks!C181)","v":1},{"$f":"IF(Picks!D181=\"\",\"\",Picks!D181)","v":2},{"$f":"IF(Picks!E181=\"\",\"\",Picks!E181)","v":"√"},{"$f":"IF(Picks!F181=\"\",\"\",Picks!F181)","v":""},{"$f":"IF(Picks!G181=\"\",\"\",Picks!G181)","v":""}]
[{"$f":"IF(Picks!A182=\"\",\"\",Picks!A182)","v":"Tom Robinson"},{"$f":"IF(Picks!B182=\"\",\"\",Picks!B182)","v":"Middlesbro"},{"$f":"IF(Picks!C182=\"\",\"\",Picks!C182)","v":7},{"$f":"IF(Picks!D182=\"\",\"\",Picks!D182)","v":2.15},{"$f":"IF(Picks!E182=\"\",\"\",Picks!E182)","v":"√"},{"$f":"IF(Picks!F182=\"\",\"\",Picks!F182)","v":-4.8499999999999996},{"$f":"IF(Picks!G182=\"\",\"\",Picks!G182)","v":34.335999999999999}]
[null,{"$f":"IF(Picks!B183=\"\",\"\",Picks!B183)","v":"Forest draw"},{"$f":"IF(Picks!C183=\"\",\"\",Picks!C183)","v":7},{"$f":"IF(Picks!D183=\"\",\"\",Picks!D183)","v":3.2},{"$f":"IF(Picks!E183=\"\",\"\",Picks!E183)","v":"x"},{"$f":"IF(Picks!F183=\"\",\"\",Picks!F183)","v":""},{"$f":"IF(Picks!G183=\"\",\"\",Picks!G183)","v":""}]
[null,{"$f":"IF(Picks!B184=\"\",\"\",Picks!B184)","v":"Blackpool"},{"$f":"IF(Picks!C184=\"\",\"\",Picks!C184)","v":7},{"$f":"IF(Picks!D184=\"\",\"\",Picks!D184)","v":2.2000000000000002},{"$f":"IF(Picks!E184=\"\",\"\",Picks!E184)","v":"x"},{"$f":"IF(Picks!F184=\"\",\"\",Picks!F184)","v":""},{"$f":"IF(Picks!G184=\"\",\"\",Picks!G184)","v":""}]
[{"$f":"IF(Picks!A185=\"\",\"\",Picks!A185)","v":"Vinny Topping"},{"$f":"IF(Picks!B185=\"\",\"\",Picks!B185)","v":"Newcastle"},{"$f":"IF(Picks!C185=\"\",\"\",Picks!C185)","v":7},{"$f":"IF(Picks!D185=\"\",\"\",Picks!D185)","v":2.25},{"$f":"IF(Picks!E185=\"\",\"\",Picks!E185)","v":"√"},{"$f":"IF(Picks!F185=\"\",\"\",Picks!F185)","v":2.2375000000000007},{"$f":"IF(Picks!G185=\"\",\"\",Picks!G185)","v":33.973750000000003}]
[null,{"$f":"IF(Picks!B186=\"\",\"\",Picks!B186)","v":"Middlesbro"},{"$f":"IF(Picks!C186=\"\",\"\",Picks!C186)","v":7},{"$f":"IF(Picks!D186=\"\",\"\",Picks!D186)","v":2.15},{"$f":"IF(Picks!E186=\"\",\"\",Picks!E186)","v":"√"},{"$f":"IF(Picks!F186=\"\",\"\",Picks!F186)","v":""},{"$f":"IF(Picks!G186=\"\",\"\",Picks!G186)","v":""}]
[null,{"$f":"IF(Picks!B187=\"\",\"\",Picks!B187)","v":"Wycombe"},{"$f":"IF(Picks!C187=\"\",\"\",Picks!C187)","v":7},{"$f":"IF(Picks!D187=\"\",\"\",Picks!D187)","v":3.1},{"$f":"IF(Picks!E187=\"\",\"\",Picks!E187)","v":"x"},{"$f":"IF(Picks!F187=\"\",\"\",Picks!F187)","v":""},{"$f":"IF(Picks!G187=\"\",\"\",Picks!G187)","v":""}]

{"sheet":"Diary","index":7,"n_rows":24,"n_cols":11,"rows_kept":24,"cut":false,"hidden":false,"merged":[[2,1,2,5]]}
[36,2020,"Autumn"]
[]
[null,{"$f":"CONCATENATE(\"Season PL\",$A$1,\" (\",$C$1,\" \",$B$1,\")\")","v":"Season PL36 (Autumn 2020)"},null,null,null,null,null,null,"Weekly actions"]
[null,"Midweek\\\nWeekend of…","3in! PL\nWeek No.","Double/Midweek Fixtures?","Qualifying\nFixtures","PL Cup\nRound",null,null,"Scrape Odds","Issue Odds","Issue Results"]
[null,"2020-09-12",1,null,"Prm\\Chp\\FL1\\FL2",null,null,"FAC\\FL1\\FL2",{"$f":"IF($B5=\"\",\"\",$B5-5)","v":"2020-09-07"},{"$f":"IF($B5=\"\",\"\",$B5-3)","v":"2020-09-09"},{"$f":"IF($B5=\"\",\"\",$B5+2)","v":"2020-09-14"}]
[null,"2020-09-19",2,null,"Prm\\Chp\\FL1\\FL2",null,null,"Prm\\Chp\\FL1\\FL2",{"$f":"IF($B6=\"\",\"\",$B6-5)","v":"2020-09-14"},{"$f":"IF($B6=\"\",\"\",$B6-3)","v":"2020-09-16"},{"$f":"IF($B6=\"\",\"\",$B6+2)","v":"2020-09-21"}]
[null,"2020-09-26",3,"D","Prm\\Chp\\FL1\\FL2",null,null,"INT\\FL1\\FL2\\NL","2020-09-21","2020-09-23","2020-09-28"]
[null,"2020-09-26",4,"D","Prm\\Chp\\FL1\\FL2","Round 1 ",null,"Prm\\Chp\\FAC","2020-09-21","2020-09-23","2020-09-28"]
[null,"2020-10-03",5,null,"Prm\\Chp\\FL1\\FL2","Round 1 Rep",null,null,"2020-09-28","2020-09-30","2020-10-05"]
[null,"2020-10-10",6,null,"INT\\FL1\\FL2\\NL",null,null,null,"2020-10-05","2020-10-07","2020-10-12"]
[null,"2020-10-17",7,null,"Prm\\Chp\\FL1\\FL2","Round 2",null,null,"2020-10-12","2020-10-14","2020-10-19"]
[null,"2020-10-24",8,null,"Prm\\Chp\\FL1\\FL2","Round 2 Rep",null,null,"2020-10-19","2020-10-21","2020-10-26"]
[null,"2020-10-31",9,null,"Prm\\Chp\\FL1\\FL2",null,null,null,"2020-10-26","2020-10-28","2020-11-02"]
[null,"2020-11-07",10,"D","Prm\\Chp\\FAC","Round 3 ",null,null,"2020-11-02","2020-11-04","2020-11-09"]
[null,"2020-11-07",11,"D","Prm\\Chp\\FAC","Round 3 Rep",null,null,"2020-11-02","2020-11-04","2020-11-09"]
[null,"2020-11-14",12,null,"INT\\FL1\\FL2\\NL",null,null,null,"2020-11-09","2020-11-11","2020-11-16"]
[null,"2020-11-21",13,null,"Prm\\Chp\\FL1\\FL2","Quarter-Final ",null,null,"2020-11-16","2020-11-18","2020-11-23"]
[null,"2020-11-28",14,null,"Prm\\Chp\\FAC","Quarter-Final Rep",null,null,"2020-11-23","2020-11-25","2020-11-30"]
[null,"2020-12-05",15,"D","Prm\\Chp\\FL1\\FL2",null,null,null,"2020-11-30","2020-12-02","2020-12-07"]
[null,"2020-12-05",16,"D","Prm\\Chp\\FL1\\FL2","Semi-Final",null,null,"2020-11-30","2020-12-02","2020-12-07"]
[null,"2020-12-12",17,null,"Prm\\Chp\\FL1\\FL2","Semi-Final Rep",null,null,"2020-12-07","2020-12-09","2020-12-14"]
[null,"2020-12-16",18,"M","Prm\\Chp\\FL1\\FL2","Final",null,null,"2020-12-11","2020-12-13","2020-12-18"]
[null,"2020-12-19",19,null,"Prm\\Chp\\FL1\\FL2","Final Rep",null,null,"2020-12-14","2020-12-16","2020-12-21"]
[null,"2020-12-26",20,null,"Prm\\Chp\\FL1\\FL2",null,null,null,"2020-12-21","2020-12-23","2020-12-28"]

{"sheet":"Match","index":8,"n_rows":51,"n_cols":27,"rows_kept":51,"cut":false,"hidden":false,"merged":[]}
["Date","Sequence","Comp","Home","Away","Home\nscore","Away\nscore","H1","H2","D1","D2","A1","A2","Off","Home Trim","Away Trim","HS Trim ","AS Trim","Match Odds","Results","Odds","Home odds","Draw Odds","Away Odds","Home Dec","Draw Dec","Away Dec"]
["2020-12-11",10,"Premier","Leeds","West Ham",1,2,23,20,27,10,11,5,null,{"$f":"TRIM(D2)","v":"Leeds"},{"$f":"TRIM(E2)","v":"West Ham"},{"$f":"TRIM(F2)","v":"1"},{"$f":"TRIM(G2)","v":"2"},{"$f":"IF(A2=\"\",\"\",O2&\"  v  \"&P2&\"   \"&U2)","v":"Leeds  v  West Ham   23/20  27/10  11/5"},{"$f":"O2&\" \"&Q2&\"-\"&R2&\" \"&P2&\" \"&N2","v":"Leeds 1-2 West Ham "},{"$f":"V2&\"  \"&W2&\"  \"&X2","v":"23/20  27/10  11/5"},{"$f":"CONCATENATE(H2,\"/\",I2)","v":"23/20"},{"$f":"CONCATENATE(J2,\"/\",K2)","v":"27/10"},{"$f":"CONCATENATE(L2,\"/\",M2)","v":"11/5"},{"$f":"IF(A2=\"\",\"\",1+(H2/I2))","v":2.15},{"$f":"IF(C2=\"\",\"\",1+(J2/K2))","v":3.7},{"$f":"IF(D2=\"\",\"\",1+(L2/M2))","v":3.2}]
["2020-12-12",10,"Premier","Everton","Chelsea",1,0,10,3,3,1,3,4,null,"Everton","Chelsea","1","0","Everton  v  Chelsea   10/3  3/1  3/4","Everton 1-0 Chelsea ",{"$f":"V3&\"  \"&W3&\"  \"&X3","v":"10/3  3/1  3/4"},"10/3","3/1","3/4",{"$f":"IF(A3=\"\",\"\",1+(H3/I3))","v":4.3333333333333339},{"$f":"IF(C3=\"\",\"\",1+(J3/K3))","v":4},{"$f":"IF(D3=\"\",\"\",1+(L3/M3))","v":1.75}]
["2020-12-12",10,"Premier","Man U","Man C",0,0,10,3,3,1,3,4,null,"Man U","Man C","0","0","Man U  v  Man C   10/3  3/1  3/4","Man U 0-0 Man C ","10/3  3/1  3/4","10/3","3/1","3/4",4.3333333333333339,4,1.75]
["2020-12-12",10,"Premier","Newcastle","West Brom",2,1,5,4,11,5,12,5,null,"Newcastle","West Brom","2","1","Newcastle  v  West Brom   5/4  11/5  12/5","Newcastle 2-1 West Brom ","5/4  11/5  12/5","5/4","11/5","12/5",2.25,3.2,3.4]
["2020-12-12",10,"Premier","Wolves","Villa",0,1,13,10,23,10,11,5,null,"Wolves","Villa","0","1","Wolves  v  Villa   13/10  23/10  11/5","Wolves 0-1 Villa ","13/10  23/10  11/5","13/10","23/10","11/5",2.2999999999999998,3.3,3.2]
["2020-12-12",11,"Champ","Birmingham","Watford",0,1,3,1,11,5,21,20,null,{"$f":"TRIM(D7)","v":"Birmingham"},"Watford","0","1","Birmingham  v  Watford   3/1  11/5  21/20","Birmingham 0-1 Watford ","3/1  11/5  21/20","3/1","11/5","21/20",4,3.2,2.0499999999999998]
["2020-12-12",11,"Champ","Blackburn","Norwich",1,2,6,4,5,2,7,4,null,"Blackburn","Norwich","1","2","Blackburn  v  Norwich   6/4  5/2  7/4","Blackburn 1-2 Norwich ","6/4  5/2  7/4","6/4","5/2","7/4",2.5,3.5,2.75]
["2020-12-12",11,"Champ","Bournemouth","Huddersfield",5,0,13,20,29,10,9,2,null,"Bournemouth","Huddersfield","5","0","Bournemouth  v  Huddersfield   13/20  29/10  9/2","Bournemouth 5-0 Huddersfield ","13/20  29/10  9/2","13/20","29/10","9/2",1.65,3.9,5.5]
["2020-12-12",11,"Champ","Cardiff","Swansea",0,2,29,20,11,5,2,1,null,"Cardiff","Swansea","0","2","Cardiff  v  Swansea   29/20  11/5  2/1","Cardiff 0-2 Swansea ","29/20  11/5  2/1","29/20","11/5","2/1",2.4500000000000002,3.2,3]
["2020-12-12",11,"Champ","Derby","Stoke",0,0,15,8,11,5,8,5,null,"Derby","Stoke","0","0","Derby  v  Stoke   15/8  11/5  8/5","Derby 0-0 Stoke ","15/8  11/5  8/5","15/8","11/5","8/5",2.875,3.2,2.6]
["2020-12-12",11,"Champ","Forest","Brentford",1,3,14,5,11,5,11,10,null,"Forest","Brentford","1","3","Forest  v  Brentford   14/5  11/5  11/10","Forest 1-3 Brentford ","14/5  11/5  11/10","14/5","11/5","11/10",3.8,3.2,2.1]
["2020-12-12",11,"Champ","Luton","Preston",3,0,2,1,11,5,6,4,null,"Luton","Preston","3","0","Luton  v  Preston   2/1  11/5  6/4","Luton 3-0 Preston ","2/1  11/5  6/4","2/1","11/5","6/4",3,3.2,2.5]
["2020-12-12",11,"Champ","Middlesbro","Millwall",3,0,23,20,11,5,27,10,null,"Middlesbro","Millwall","3","0","Middlesbro  v  Millwall   23/20  11/5  27/10","Middlesbro 3-0 Millwall ","23/20  11/5  27/10","23/20","11/5","27/10",2.15,3.2,3.7]
["2020-12-12",11,"Champ","QPR","Reading",0,1,13,8,23,10,17,10,null,"QPR","Reading","0","1","QPR  v  Reading   13/8  23/10  17/10","QPR 0-1 Reading ","13/8  23/10  17/10","13/8","23/10","17/10",2.625,3.3,2.7]
["2020-12-12",11,"Champ","Rotherham","Bristol C",2,0,19,10,9,4,6,4,null,"Rotherham","Bristol C","2","0","Rotherham  v  Bristol C   19/10  9/4  6/4","Rotherham 2-0 Bristol C ","19/10  9/4  6/4","19/10","9/4","6/4",2.9,3.25,2.5]
["2020-12-12",11,"Champ","Sheff W","Barnsley",1,2,6,4,21,10,21,10,null,"Sheff W","Barnsley","1","2","Sheff W  v  Barnsley   6/4  21/10  21/10","Sheff W 1-2 Barnsley ","6/4  21/10  21/10","6/4","21/10","21/10",2.5,3.1,3.1]
["2020-12-12",11,"Champ","Wycombe","Coventry",1,2,21,10,9,4,11,8,null,"Wycombe","Coventry","1","2","Wycombe  v  Coventry   21/10  9/4  11/8","Wycombe 1-2 Coventry ","21/10  9/4  11/8","21/10","9/4","11/8",3.1,3.25,2.375]
["2020-12-12",12,"League 1","Blackpool","Oxford",0,0,6,5,9,4,12,5,null,"Blackpool","Oxford","0","0","Blackpool  v  Oxford   6/5  9/4  12/5","Blackpool 0-0 Oxford ","6/5  9/4  12/5","6/5","9/4","12/5",2.2000000000000002,3.25,3.4]
["2020-12-12",12,"League 1","Bristol R","Plymouth",3,0,29,20,5,2,17,10,null,"Bristol R","Plymouth","3","0","Bristol R  v  Plymouth   29/20  5/2  17/10","Bristol R 3-0 Plymouth ","29/20  5/2  17/10","29/20","5/2","17/10",2.4500000000000002,3.5,2.7]
["2020-12-12",12,"League 1","Charlton","Wimbledon",5,2,19,20,5,2,17,10,null,"Charlton","Wimbledon","5","2","Charlton  v  Wimbledon   19/20  5/2  17/10","Charlton 5-2 Wimbledon ","19/20  5/2  17/10","19/20","5/2","17/10",1.95,3.5,2.7]
["2020-12-12",12,"League 1","Crewe","Northampton",2,1,3,4,13,5,15,4,null,"Crewe","Northampton","2","1","Crewe  v  Northampton   3/4  13/5  15/4","Crewe 2-1 Northampton ","3/4  13/5  15/4","3/4","13/5","15/4",1.75,3.6,4.75]
["2020-12-12",12,"League 1","Doncaster","Gillingham",2,1,10,11,13,5,29,10,null,"Doncaster","Gillingham","2","1","Doncaster  v  Gillingham   10/11  13/5  29/10","Doncaster 2-1 Gillingham ","10/11  13/5  29/10","10/11","13/5","29/10",1.9090909090909092,3.6,3.9]
["2020-12-12",12,"League 1","Hull","Shrewsbury",0,1,6,10,14,5,24,5,null,"Hull","Shrewsbury","0","1","Hull  v  Shrewsbury   6/10  14/5  24/5","Hull 0-1 Shrewsbury ","6/10  14/5  24/5","6/10","14/5","24/5",1.6,3.8,5.8]
["2020-12-12",12,"League 1","Ipswich","Portsmouth",0,2,21,10,9,4,6,5,null,"Ipswich","Portsmouth","0","2","Ipswich  v  Portsmouth   21/10  9/4  6/5","Ipswich 0-2 Portsmouth ","21/10  9/4  6/5","21/10","9/4","6/5",3.1,3.25,2.2000000000000002]
["2020-12-12",12,"League 1","Lincoln","Sunderland",0,4,9,5,21,10,8,5,null,"Lincoln","Sunderland","0","4","Lincoln  v  Sunderland   9/5  21/10  8/5","Lincoln 0-4 Sunderland ","9/5  21/10  8/5","9/5","21/10","8/5",2.8,3.1,2.6]
["2020-12-12",12,"League 1","MK Dons","Burton",1,1,4,5,27,10,16,5,null,"MK Dons","Burton","1","1","MK Dons  v  Burton   4/5  27/10  16/5","MK Dons 1-1 Burton ","4/5  27/10  16/5","4/5","27/10","16/5",1.8,3.7,4.2]
["2020-12-12",12,"League 1","Peterborough","Rochdale",4,1,8,15,16,5,5,1,null,"Peterborough","Rochdale","4","1","Peterborough  v  Rochdale   8/15  16/5  5/1","Peterborough 4-1 Rochdale ","8/15  16/5  5/1","8/15","16/5","5/1",1.5333333333333332,4.2,6]
["2020-12-12",12,"League 1","Swindon","Fleetwood",0,1,23,10,12,5,23,20,null,"Swindon","Fleetwood","0","1","Swindon  v  Fleetwood   23/10  12/5  23/20","Swindon 0-1 Fleetwood ","23/10  12/5  23/20","23/10","12/5","23/20",3.3,3.4,2.15]
["2020-12-12",12,"League 1","Wigan","Accrington",4,3,11,5,9,4,5,4,null,"Wigan","Accrington","4","3","Wigan  v  Accrington   11/5  9/4  5/4","Wigan 4-3 Accrington ","11/5  9/4  5/4","11/5","9/4","5/4",3.2,3.25,2.25]
["2020-12-12",13,"League 2","Carlisle","Stevenage",4,0,8,13,14,5,9,2,null,"Carlisle","Stevenage","4","0","Carlisle  v  Stevenage   8/13  14/5  9/2","Carlisle 4-0 Stevenage ","8/13  14/5  9/2","8/13","14/5","9/2",1.6153846153846154,3.8,5.5]
["2020-12-12",13,"League 2","Crawley","Barrow",4,2,29,20,23,10,15,8,null,"Crawley","Barrow","4","2","Crawley  v  Barrow   29/20  23/10  15/8","Crawley 4-2 Barrow ","29/20  23/10  15/8","29/20","23/10","15/8",2.4500000000000002,3.3,2.875]
["2020-12-12",13,"League 2","Exeter","Tranmere",5,0,10,11,13,5,14,5,null,{"$f":"TRIM(D33)","v":"Exeter"},{"$f":"TRIM(E33)","v":"Tranmere"},{"$f":"TRIM(F33)","v":"5"},{"$f":"TRIM(G33)","v":"0"},"Exeter  v  Tranmere   10/11  13/5  14/5","Exeter 5-0 Tranmere ","10/11  13/5  14/5",{"$f":"CONCATENATE(H33,\"/\",I33)","v":"10/11"},{"$f":"CONCATENATE(J33,\"/\",K33)","v":"13/5"},{"$f":"CONCATENATE(L33,\"/\",M33)","v":"14/5"},1.9090909090909092,3.6,3.8]
["2020-12-12",13,"League 2","Forest Green","Cambridge",2,0,21,20,23,10,27,10,null,"Forest Green","Cambridge","2","0","Forest Green  v  Cambridge   21/20  23/10  27/10","Forest Green 2-0 Cambridge ","21/20  23/10  27/10","21/20","23/10","27/10",2.0499999999999998,3.3,3.7]
["2020-12-12",13,"League 2","Grimsby","Mansfield",1,1,21,10,9,4,13,10,null,"Grimsby","Mansfield","1","1","Grimsby  v  Mansfield   21/10  9/4  13/10","Grimsby 1-1 Mansfield ","21/10  9/4  13/10","21/10","9/4","13/10",3.1,3.25,2.2999999999999998]
["2020-12-12",13,"League 2","Morecambe","Harrogate",1,0,8,5,23,10,17,10,null,"Morecambe","Harrogate","1","0","Morecambe  v  Harrogate   8/5  23/10  17/10","Morecambe 1-0 Harrogate ","8/5  23/10  17/10","8/5","23/10","17/10",2.6,3.3,2.7]
["2020-12-12",13,"League 2","Oldham","Bradford",3,1,7,5,23,10,19,10,null,"Oldham","Bradford","3","1","Oldham  v  Bradford   7/5  23/10  19/10","Oldham 3-1 Bradford ","7/5  23/10  19/10","7/5","23/10","19/10",2.4,3.3,2.9]
["2020-12-12",13,"League 2","Orient","Newport",2,1,2,1,9,4,11,8,null,"Orient","Newport","2","1","Orient  v  Newport   2/1  9/4  11/8","Orient 2-1 Newport ","2/1  9/4  11/8","2/1","9/4","11/8",3,3.25,2.375]
["2020-12-12",13,"League 2","Port Vale","Colchester",1,1,23,20,5,2,23,10,null,"Port Vale","Colchester","1","1","Port Vale  v  Colchester   23/20  5/2  23/10","Port Vale 1-1 Colchester ","23/20  5/2  23/10","23/20","5/2","23/10",2.15,3.5,3.3]
["2020-12-12",13,"League 2","Salford","Cheltenham",0,0,13,8,9,4,17,10,null,"Salford","Cheltenham","0","0","Salford  v  Cheltenham   13/8  9/4  17/10","Salford 0-0 Cheltenham ","13/8  9/4  17/10","13/8","9/4","17/10",2.625,3.25,2.7]
["2020-12-12",13,"League 2","Southend","Scunthorpe",1,0,9,4,11,5,13,10,null,"Southend","Scunthorpe","1","0","Southend  v  Scunthorpe   9/4  11/5  13/10","Southend 1-0 Scunthorpe ","9/4  11/5  13/10","9/4","11/5","13/10",3.25,3.2,2.2999999999999998]
["2020-12-12",13,"League 2","Walsall","Bolton",2,1,5,4,9,4,11,5,null,"Walsall","Bolton","2","1","Walsall  v  Bolton   5/4  9/4  11/5","Walsall 2-1 Bolton ","5/4  9/4  11/5","5/4","9/4","11/5",2.25,3.25,3.2]
["2020-12-13",10,"Premier","Arsenal","Burnley",0,1,11,20,3,1,11,2,null,"Arsenal","Burnley","0","1","Arsenal  v  Burnley   11/20  3/1  11/2","Arsenal 0-1 Burnley ","11/20  3/1  11/2","11/20","3/1","11/2",1.55,4,6.5]
["2020-12-13",10,"Premier","Fulham","Liverpool",1,1,8,1,9,2,1,3,null,"Fulham","Liverpool","1","1","Fulham  v  Liverpool   8/1  9/2  1/3","Fulham 1-1 Liverpool ","8/1  9/2  1/3","8/1","9/2","1/3",9,5.5,1.3333333333333333]
["2020-12-13",10,"Premier","Leicester","Brighton",3,0,1,1,5,2,11,4,null,"Leicester","Brighton","3","0","Leicester  v  Brighton   1/1  5/2  11/4","Leicester 3-0 Brighton ",{"$f":"V45&\"  \"&W45&\"  \"&X45","v":"1/1  5/2  11/4"},"1/1","5/2","11/4",2,3.5,3.75]
["2020-12-13",10,"Premier","Palace","Spurs",1,1,19,5,11,4,8,11,null,"Palace","Spurs","1","1","Palace  v  Spurs   19/5  11/4  8/11","Palace 1-1 Spurs ",{"$f":"V46&\"  \"&W46&\"  \"&X46","v":"19/5  11/4  8/11"},"19/5","11/4","8/11",4.8,3.75,1.7272727272727273]
["2020-12-13",10,"Premier","Southampton","Sheff U",3,0,8,11,27,10,4,1,null,"Southampton","Sheff U","3","0","Southampton  v  Sheff U   8/11  27/10  4/1",{"$f":"O47&\" \"&Q47&\"-\"&R47&\" \"&P47","v":"Southampton 3-0 Sheff U"},{"$f":"V47&\"  \"&W47&\"  \"&X47","v":"8/11  27/10  4/1"},"8/11","27/10","4/1",1.7272727272727273,3.7,5]
[null,null,null,null,null,null,null,null,null,null,null,null,null,null,null,null,null,null,null,null,null,"/",null,null,""]
[null,null,null,null,null,null,null,null,null,null,null,null,null,null,null,null,null,null,null,null,null,"/",null,null,""]
[null,null,null,null,null,null,null,null,null,null,null,null,null,null,null,null,null,null,null,null,null,"/",null,null,""]
[null,null,null,null,null,null,null,null,null,null,null,null,null,null,null,null,null,null,null,null,null,"/",null,null,""]

{"sheet":"Picks","index":9,"n_rows":301,"n_cols":40,"rows_kept":301,"cut":false,"hidden":false,"merged":[]}
["Player","Prediction","Match Day","Decimal","Bet in?","Score","Max",{"$f":"entrants-SUM(H2:H187)","v":4},"Week\nRank","Wk1","Frac","Dec","Bet up ","Points","Wk2","Results",null,"Choices","Odds","Up","Home team","H Score","Away team","A Score",null,null,null,null,null,"`","This Week\nActual Score","This Week\nCorrect","Rank",null,"Player","This Week\nMax Score","This Week\nCorrect","Rank",null,{"$f":"COUNTIF(F2:F187,-10)","v":4}]
[{"$f":"Results!B2","v":"Alan Rogers"},{"$f":"IF(J2=\"\",\"\",TRIM(CLEAN(J2)))","v":"Morecambe"},{"$f":"IF(J2=\"\",\"\",INDEX(Odds!B:B,MATCH(J2,Odds!F:F,0)))","v":"1900-01-07"},{"$f":"IF(J2=\"\",\"\",L2)","v":2.6},{"$f":"IF(J2=\"\",\"\",IF(M2=1,\"√\",\"x\"))","v":"√"},{"$f":"IF(J2=\"\",-10,INDEX(Results!T:T,MATCH(A2,Results!V:V,0)))","v":47.080000000000005},{"$f":"IF(J2=\"\",\"\",INDEX(Results!AI:AI,MATCH(A2,Results!V:V,0)))","v":47.080000000000005},{"$f":"IF(G2=\"\",0,1)","v":1},{"$f":"INDEX(Picks!AG:AG,MATCH(A2,Picks!AD:AD,0))","v":2},"Morecambe",{"$f":"INDEX(Odds!G:G,MATCH(J2,Odds!F:F,0))","v":"8/5"},{"$f":"INDEX(Odds!H:H,MATCH(J2,Odds!F:F,0))","v":2.6},{"$f":"INDEX(Odds!I:I,MATCH(J2,Odds!F:F,0))","v":1},{"$f":"L2*M2","v":2.6},null,{"$f":"IF(Match!A2=\"\",\"\",Match!T2)","v":"Leeds 1-2 West Ham "},null,{"$f":"IF(Odds!F2=\"\",\"\",Odds!F2)","v":"Leeds"},{"$f":"INDEX(Odds!G:G,MATCH(R2,Odds!F:F,0))","v":"23/20"},{"$f":"IF(V2>X2,1,0)","v":0},{"$f":"INDEX(Match!O:O,MATCH(P2,Match!T:T,0))","v":"Leeds"},{"$f":"INDEX(Match!F:F,MATCH(P2,Match!T:T,0))","v":1},{"$f":"INDEX(Match!P:P,MATCH(P2,Match!T:T,0))","v":"West Ham"},{"$f":"INDEX(Match!G:G,MATCH(P2,Match!T:T,0))","v":2},null,null,null,{"$f":"IF(O2=\"\",\"\",INDEX(Odds!G:G,MATCH(O2,Odds!F:F,0)))","v":""},null,"Alfie Davies",{"$f":"INDEX(Picks!F:F,MATCH(AD2,Picks!A:A,0))","v":50.275000000000006},{"$f":"INDEX(Weekly!I:I,MATCH(AD2,Weekly!E:E,0))","v":3},{"$f":"IF(AE2=\"\",\"\",_xlfn.RANK.EQ(AE2,TopScores,0))","v":1},null,"Lewis Buckley",{"$f":"INDEX(Picks!G:G,MATCH(AI2,Picks!A:A,0))","v":""},{"$f":"INDEX(Weekly!I:I,MATCH(AI2,Weekly!E:E,0))","v":0},{"$f":"IF(AJ2=\"\",\"\",_xlfn.RANK.EQ(AJ2,TopMaxScores,0))","v":""}]
[{"$f":"A2","v":"Alan Rogers"},{"$f":"IF(J3=\"\",\"\",J3)","v":"Oldham"},{"$f":"IF(J3=\"\",\"\",INDEX(Odds!B:B,MATCH(J3,Odds!F:F,0)))","v":"1900-01-07"},{"$f":"IF(J3=\"\",\"\",L3)","v":2.4},{"$f":"IF(J3=\"\",\"\",IF(M3=1,\"√\",\"x\"))","v":"√"},null,null,null,null,"Oldham",{"$f":"INDEX(Odds!G:G,MATCH(J3,Odds!F:F,0))","v":"7/5"},{"$f":"INDEX(Odds!H:H,MATCH(J3,Odds!F:F,0))","v":2.4},{"$f":"INDEX(Odds!I:I,MATCH(J3,Odds!F:F,0))","v":1},{"$f":"L3*M3","v":2.4},null,{"$f":"IF(Match!A3=\"\",\"\",Match!T3)","v":"Everton 1-0 Chelsea "},null,{"$f":"IF(Odds!F3=\"\",\"\",Odds!F3)","v":"Everton"},{"$f":"INDEX(Odds!G:G,MATCH(R3,Odds!F:F,0))","v":"10/3"},1,{"$f":"INDEX(Match!O:O,MATCH(P3,Match!T:T,0))","v":"Everton"},{"$f":"INDEX(Match!F:F,MATCH(P3,Match!T:T,0))","v":1},{"$f":"INDEX(Match!P:P,MATCH(P3,Match!T:T,0))","v":"Chelsea"},{"$f":"INDEX(Match!G:G,MATCH(P3,Match!T:T,0))","v":0},null,null,null,{"$f":"IF(O3=\"\",\"\",INDEX(Odds!G:G,MATCH(O3,Odds!F:F,0)))","v":""},null,"Alan Rogers",{"$f":"INDEX(Picks!F:F,MATCH(AD3,Picks!A:A,0))","v":47.080000000000005},{"$f":"INDEX(Weekly!I:I,MATCH(AD3,Weekly!E:E,0))","v":3},{"$f":"IF(AE3=\"\",\"\",_xlfn.RANK.EQ(AE3,TopScores,0))","v":2},null,"Gareth Fallows",{"$f":"INDEX(Picks!G:G,MATCH(AI3,Picks!A:A,0))","v":""},{"$f":"INDEX(Weekly!I:I,MATCH(AI3,Weekly!E:E,0))","v":0},{"$f":"IF(AJ3=\"\",\"\",_xlfn.RANK.EQ(AJ3,TopMaxScores,0))","v":""}]
[{"$f":"A2","v":"Alan Rogers"},"Port Vale draw",{"$f":"IF(J4=\"\",\"\",INDEX(Odds!B:B,MATCH(J4,Odds!F:F,0)))","v":"1900-01-07"},3.5,"√",null,null,null,null,"Port Vale draw",{"$f":"INDEX(Odds!G:G,MATCH(J4,Odds!F:F,0))","v":"5/2"},{"$f":"INDEX(Odds!H:H,MATCH(J4,Odds!F:F,0))","v":3.5},{"$f":"INDEX(Odds!I:I,MATCH(J4,Odds!F:F,0))","v":1},{"$f":"L4*M4","v":3.5},null,{"$f":"IF(Match!A4=\"\",\"\",Match!T4)","v":"Man U 0-0 Man C "},null,{"$f":"IF(Odds!F4=\"\",\"\",Odds!F4)","v":"Man U"},{"$f":"INDEX(Odds!G:G,MATCH(R4,Odds!F:F,0))","v":"10/3"},0,{"$f":"INDEX(Match!O:O,MATCH(P4,Match!T:T,0))","v":"Man U"},{"$f":"INDEX(Match!F:F,MATCH(P4,Match!T:T,0))","v":0},{"$f":"INDEX(Match!P:P,MATCH(P4,Match!T:T,0))","v":"Man C"},{"$f":"INDEX(Match!G:G,MATCH(P4,Match!T:T,0))","v":0},null,null,null,{"$f":"IF(O4=\"\",\"\",INDEX(Odds!G:G,MATCH(O4,Odds!F:F,0)))","v":""},null,"Gerard Ventom",{"$f":"INDEX(Picks!F:F,MATCH(AD4,Picks!A:A,0))","v":46.6},{"$f":"INDEX(Weekly!I:I,MATCH(AD4,Weekly!E:E,0))","v":3},{"$f":"IF(AE4=\"\",\"\",_xlfn.RANK.EQ(AE4,TopScores,0))","v":3},null,"Dan Baxter",{"$f":"INDEX(Picks!G:G,MATCH(AI4,Picks!A:A,0))","v":""},{"$f":"INDEX(Weekly!I:I,MATCH(AI4,Weekly!E:E,0))","v":0},{"$f":"IF(AJ4=\"\",\"\",_xlfn.RANK.EQ(AJ4,TopMaxScores,0))","v":""}]
[{"$f":"Results!B5","v":"Alan White"},{"$f":"IF(J5=\"\",\"\",J5)","v":"Leicester"},{"$f":"IF(J5=\"\",\"\",INDEX(Odds!B:B,MATCH(J5,Odds!F:F,0)))","v":"1900-01-01"},2,"√",{"$f":"IF(J5=\"\",-10,INDEX(Results!T:T,MATCH(A5,Results!V:V,0)))","v":0.18181818181818166},{"$f":"IF(J5=\"\",\"\",INDEX(Results!AI:AI,MATCH(A5,Results!V:V,0)))","v":14.314049586776861},{"$f":"IF(G5=\"\",0,1)","v":1},{"$f":"INDEX(Picks!AG:AG,MATCH(A5,Picks!AD:AD,0))","v":20},"Leicester",{"$f":"INDEX(Odds!G:G,MATCH(J5,Odds!F:F,0))","v":"1/1"},{"$f":"INDEX(Odds!H:H,MATCH(J5,Odds!F:F,0))","v":2},{"$f":"INDEX(Odds!I:I,MATCH(J5,Odds!F:F,0))","v":1},{"$f":"L5*M5","v":2},null,{"$f":"IF(Match!A5=\"\",\"\",Match!T5)","v":"Newcastle 2-1 West Brom "},null,{"$f":"IF(Odds!F5=\"\",\"\",Odds!F5)","v":"Newcastle"},{"$f":"INDEX(Odds!G:G,MATCH(R5,Odds!F:F,0))","v":"5/4"},1,{"$f":"INDEX(Match!O:O,MATCH(P5,Match!T:T,0))","v":"Newcastle"},{"$f":"INDEX(Match!F:F,MATCH(P5,Match!T:T,0))","v":2},{"$f":"INDEX(Match!P:P,MATCH(P5,Match!T:T,0))","v":"West Brom"},{"$f":"INDEX(Match!G:G,MATCH(P5,Match!T:T,0))","v":1},null,null,null,{"$f":"IF(O5=\"\",\"\",INDEX(Odds!G:G,MATCH(O5,Odds!F:F,0)))","v":""},null,"Dave Orrell",{"$f":"INDEX(Picks!F:F,MATCH(AD5,Picks!A:A,0))","v":27.776499999999999},{"$f":"INDEX(Weekly!I:I,MATCH(AD5,Weekly!E:E,0))","v":3},{"$f":"IF(AE5=\"\",\"\",_xlfn.RANK.EQ(AE5,TopScores,0))","v":4},null,"Phil Miller",{"$f":"INDEX(Picks!G:G,MATCH(AI5,Picks!A:A,0))","v":""},{"$f":"INDEX(Weekly!I:I,MATCH(AI5,Weekly!E:E,0))","v":0},{"$f":"IF(AJ5=\"\",\"\",_xlfn.RANK.EQ(AJ5,TopMaxScores,0))","v":""}]
[{"$f":"A5","v":"Alan White"},"Spurs",{"$f":"IF(J6=\"\",\"\",INDEX(Odds!B:B,MATCH(J6,Odds!F:F,0)))","v":"1900-01-01"},1.7272727272727273,"x",null,null,null,null,"Spurs",{"$f":"INDEX(Odds!G:G,MATCH(J6,Odds!F:F,0))","v":"8/11"},{"$f":"INDEX(Odds!H:H,MATCH(J6,Odds!F:F,0))","v":1.7272727272727273},{"$f":"INDEX(Odds!I:I,MATCH(J6,Odds!F:F,0))","v":0},0,null,{"$f":"IF(Match!A6=\"\",\"\",Match!T6)","v":"Wolves 0-1 Villa "},null,{"$f":"IF(Odds!F6=\"\",\"\",Odds!F6)","v":"Wolves"},{"$f":"INDEX(Odds!G:G,MATCH(R6,Odds!F:F,0))","v":"13/10"},0,{"$f":"INDEX(Match!O:O,MATCH(P6,Match!T:T,0))","v":"Wolves"},{"$f":"INDEX(Match!F:F,MATCH(P6,Match!T:T,0))","v":0},{"$f":"INDEX(Match!P:P,MATCH(P6,Match!T:T,0))","v":"Villa"},{"$f":"INDEX(Match!G:G,MATCH(P6,Match!T:T,0))","v":1},null,null,null,{"$f":"IF(O6=\"\",\"\",INDEX(Odds!G:G,MATCH(O6,Odds!F:F,0)))","v":""},null,"Graham Miller",{"$f":"INDEX(Picks!F:F,MATCH(AD6,Picks!A:A,0))","v":18.590909090909093},{"$f":"INDEX(Weekly!I:I,MATCH(AD6,Weekly!E:E,0))","v":3},{"$f":"IF(AE6=\"\",\"\",_xlfn.RANK.EQ(AE6,TopScores,0))","v":5},null,"Rob England",{"$f":"INDEX(Picks!G:G,MATCH(AI6,Picks!A:A,0))","v":238},{"$f":"INDEX(Weekly!I:I,MATCH(AI6,Weekly!E:E,0))","v":1},{"$f":"IF(AJ6=\"\",\"\",_xlfn.RANK.EQ(AJ6,TopMaxScores,0))","v":1}]
[{"$f":"A5","v":"Alan White"},"Southampton",{"$f":"IF(J7=\"\",\"\",INDEX(Odds!B:B,MATCH(J7,Odds!F:F,0)))","v":"1900-01-01"},1.7272727272727273,"√",null,null,null,null,"Southampton",{"$f":"INDEX(Odds!G:G,MATCH(J7,Odds!F:F,0))","v":"8/11"},{"$f":"INDEX(Odds!H:H,MATCH(J7,Odds!F:F,0))","v":1.7272727272727273},{"$f":"INDEX(Odds!I:I,MATCH(J7,Odds!F:F,0))","v":1},1.7272727272727273,null,{"$f":"IF(Match!A7=\"\",\"\",Match!T7)","v":"Birmingham 0-1 Watford "},null,{"$f":"IF(Odds!F7=\"\",\"\",Odds!F7)","v":"Birmingham"},{"$f":"INDEX(Odds!G:G,MATCH(R7,Odds!F:F,0))","v":"3/1"},0,{"$f":"INDEX(Match!O:O,MATCH(P7,Match!T:T,0))","v":"Birmingham"},{"$f":"INDEX(Match!F:F,MATCH(P7,Match!T:T,0))","v":0},{"$f":"INDEX(Match!P:P,MATCH(P7,Match!T:T,0))","v":"Watford"},{"$f":"INDEX(Match!G:G,MATCH(P7,Match!T:T,0))","v":1},null,null,null,{"$f":"IF(O7=\"\",\"\",INDEX(Odds!G:G,MATCH(O7,Odds!F:F,0)))","v":""},null,"Liam Wah",{"$f":"INDEX(Picks!F:F,MATCH(AD7,Picks!A:A,0))","v":8.25},{"$f":"INDEX(Weekly!I:I,MATCH(AD7,Weekly!E:E,0))","v":2},{"$f":"IF(AE7=\"\",\"\",_xlfn.RANK.EQ(AE7,TopScores,0))","v":6},null,"Pete Baron",{"$f":"INDEX(Picks!G:G,MATCH(AI7,Picks!A:A,0))","v":160},{"$f":"INDEX(Weekly!I:I,MATCH(AI7,Weekly!E:E,0))","v":1},{"$f":"IF(AJ7=\"\",\"\",_xlfn.RANK.EQ(AJ7,TopMaxScores,0))","v":2}]
[{"$f":"Results!B8","v":"Alfie Davies"},"Norwich",{"$f":"IF(J8=\"\",\"\",INDEX(Odds!B:B,MATCH(J8,Odds!F:F,0)))","v":"1900-01-07"},2.75,"√",{"$f":"IF(J8=\"\",-10,INDEX(Results!T:T,MATCH(A8,Results!V:V,0)))","v":50.275000000000006},{"$f":"IF(J8=\"\",\"\",INDEX(Results!AI:AI,MATCH(A8,Results!V:V,0)))","v":50.275000000000006},{"$f":"IF(G8=\"\",0,1)","v":1},{"$f":"INDEX(Picks!AG:AG,MATCH(A8,Picks!AD:AD,0))","v":1},"Norwich",{"$f":"INDEX(Odds!G:G,MATCH(J8,Odds!F:F,0))","v":"7/4"},{"$f":"INDEX(Odds!H:H,MATCH(J8,Odds!F:F,0))","v":2.75},{"$f":"INDEX(Odds!I:I,MATCH(J8,Odds!F:F,0))","v":1},2.75,null,{"$f":"IF(Match!A8=\"\",\"\",Match!T8)","v":"Blackburn 1-2 Norwich "},null,{"$f":"IF(Odds!F8=\"\",\"\",Odds!F8)","v":"Blackburn"},{"$f":"INDEX(Odds!G:G,MATCH(R8,Odds!F:F,0))","v":"6/4"},0,{"$f":"INDEX(Match!O:O,MATCH(P8,Match!T:T,0))","v":"Blackburn"},{"$f":"INDEX(Match!F:F,MATCH(P8,Match!T:T,0))","v":1},{"$f":"INDEX(Match!P:P,MATCH(P8,Match!T:T,0))","v":"Norwich"},{"$f":"INDEX(Match!G:G,MATCH(P8,Match!T:T,0))","v":2},null,null,null,{"$f":"IF(O8=\"\",\"\",INDEX(Odds!G:G,MATCH(O8,Odds!F:F,0)))","v":""},null,"Martin Molyneux",{"$f":"INDEX(Picks!F:F,MATCH(AD8,Picks!A:A,0))","v":5.6363636363636367},{"$f":"INDEX(Weekly!I:I,MATCH(AD8,Weekly!E:E,0))","v":2},{"$f":"IF(AE8=\"\",\"\",_xlfn.RANK.EQ(AE8,TopScores,0))","v":7},null,"Ben Rosser",{"$f":"INDEX(Picks!G:G,MATCH(AI8,Picks!A:A,0))","v":146.66666666666669},{"$f":"INDEX(Weekly!I:I,MATCH(AI8,Weekly!E:E,0))","v":0},{"$f":"IF(AJ8=\"\",\"\",_xlfn.RANK.EQ(AJ8,TopMaxScores,0))","v":3}]
[{"$f":"A8","v":"Alfie Davies"},"Derby Draw",{"$f":"IF(J9=\"\",\"\",INDEX(Odds!B:B,MATCH(J9,Odds!F:F,0)))","v":"1900-01-07"},3.2,"√",null,null,null,null,"Derby Draw",{"$f":"INDEX(Odds!G:G,MATCH(J9,Odds!F:F,0))","v":"11/5"},{"$f":"INDEX(Odds!H:H,MATCH(J9,Odds!F:F,0))","v":3.2},{"$f":"INDEX(Odds!I:I,MATCH(J9,Odds!F:F,0))","v":1},3.2,null,{"$f":"IF(Match!A9=\"\",\"\",Match!T9)","v":"Bournemouth 5-0 Huddersfield "},null,{"$f":"IF(Odds!F9=\"\",\"\",Odds!F9)","v":"Bournemouth"},{"$f":"INDEX(Odds!G:G,MATCH(R9,Odds!F:F,0))","v":"13/20"},1,{"$f":"INDEX(Match!O:O,MATCH(P9,Match!T:T,0))","v":"Bournemouth"},{"$f":"INDEX(Match!F:F,MATCH(P9,Match!T:T,0))","v":5},{"$f":"INDEX(Match!P:P,MATCH(P9,Match!T:T,0))","v":"Huddersfield"},{"$f":"INDEX(Match!G:G,MATCH(P9,Match!T:T,0))","v":0},null,null,null,{"$f":"IF(O9=\"\",\"\",INDEX(Odds!G:G,MATCH(O9,Odds!F:F,0)))","v":""},null,"Mark Saunders",{"$f":"INDEX(Picks!F:F,MATCH(AD9,Picks!A:A,0))","v":4.6666666666666661},{"$f":"INDEX(Weekly!I:I,MATCH(AD9,Weekly!E:E,0))","v":2},{"$f":"IF(AE9=\"\",\"\",_xlfn.RANK.EQ(AE9,TopScores,0))","v":8},null,"Joel Bent",{"$f":"INDEX(Picks!G:G,MATCH(AI9,Picks!A:A,0))","v":140.05000000000001},{"$f":"INDEX(Weekly!I:I,MATCH(AI9,Weekly!E:E,0))","v":0},{"$f":"IF(AJ9=\"\",\"\",_xlfn.RANK.EQ(AJ9,TopMaxScores,0))","v":4}]
[{"$f":"A8","v":"Alfie Davies"},"Reading",{"$f":"IF(J10=\"\",\"\",INDEX(Odds!B:B,MATCH(J10,Odds!F:F,0)))","v":"1900-01-07"},2.7,"√",null,null,null,null,"Reading",{"$f":"INDEX(Odds!G:G,MATCH(J10,Odds!F:F,0))","v":"17/10"},{"$f":"INDEX(Odds!H:H,MATCH(J10,Odds!F:F,0))","v":2.7},{"$f":"INDEX(Odds!I:I,MATCH(J10,Odds!F:F,0))","v":1},2.7,null,{"$f":"IF(Match!A10=\"\",\"\",Match!T10)","v":"Cardiff 0-2 Swansea "},null,{"$f":"IF(Odds!F10=\"\",\"\",Odds!F10)","v":"Cardiff"},{"$f":"INDEX(Odds!G:G,MATCH(R10,Odds!F:F,0))","v":"29/20"},0,{"$f":"INDEX(Match!O:O,MATCH(P10,Match!T:T,0))","v":"Cardiff"},{"$f":"INDEX(Match!F:F,MATCH(P10,Match!T:T,0))","v":0},{"$f":"INDEX(Match!P:P,MATCH(P10,Match!T:T,0))","v":"Swansea"},{"$f":"INDEX(Match!G:G,MATCH(P10,Match!T:T,0))","v":2},null,null,null,{"$f":"IF(O10=\"\",\"\",INDEX(Odds!G:G,MATCH(O10,Odds!F:F,0)))","v":""},null,"Kei Lok Ma",{"$f":"INDEX(Picks!F:F,MATCH(AD10,Picks!A:A,0))","v":4.1875},{"$f":"INDEX(Weekly!I:I,MATCH(AD10,Weekly!E:E,0))","v":2},{"$f":"IF(AE10=\"\",\"\",_xlfn.RANK.EQ(AE10,TopScores,0))","v":9},null,"Andy Charleston",{"$f":"INDEX(Picks!G:G,MATCH(AI10,Picks!A:A,0))","v":134.22222222222223},{"$f":"INDEX(Weekly!I:I,MATCH(AI10,Weekly!E:E,0))","v":1},{"$f":"IF(AJ10=\"\",\"\",_xlfn.RANK.EQ(AJ10,TopMaxScores,0))","v":5}]
[{"$f":"Results!B11","v":"Alick Rocca"},"Birmingham Draw",{"$f":"IF(J11=\"\",\"\",INDEX(Odds!B:B,MATCH(J11,Odds!F:F,0)))","v":"1900-01-07"},3.2,"x",{"$f":"IF(J11=\"\",-10,INDEX(Results!T:T,MATCH(A11,Results!V:V,0)))","v":-7},{"$f":"IF(J11=\"\",\"\",INDEX(Results!AI:AI,MATCH(A11,Results!V:V,0)))","v":66.045999999999992},{"$f":"IF(G11=\"\",0,1)","v":1},{"$f":"INDEX(Picks!AG:AG,MATCH(A11,Picks!AD:AD,0))","v":46},"Birmingham Draw",{"$f":"INDEX(Odds!G:G,MATCH(J11,Odds!F:F,0))","v":"11/5"},{"$f":"INDEX(Odds!H:H,MATCH(J11,Odds!F:F,0))","v":3.2},{"$f":"INDEX(Odds!I:I,MATCH(J11,Odds!F:F,0))","v":0},0,null,{"$f":"IF(Match!A11=\"\",\"\",Match!T11)","v":"Derby 0-0 Stoke "},null,{"$f":"IF(Odds!F11=\"\",\"\",Odds!F11)","v":"Derby"},{"$f":"INDEX(Odds!G:G,MATCH(R11,Odds!F:F,0))","v":"15/8"},0,{"$f":"INDEX(Match!O:O,MATCH(P11,Match!T:T,0))","v":"Derby"},{"$f":"INDEX(Match!F:F,MATCH(P11,Match!T:T,0))","v":0},{"$f":"INDEX(Match!P:P,MATCH(P11,Match!T:T,0))","v":"Stoke"},{"$f":"INDEX(Match!G:G,MATCH(P11,Match!T:T,0))","v":0},null,null,null,{"$f":"IF(O11=\"\",\"\",INDEX(Odds!G:G,MATCH(O11,Odds!F:F,0)))","v":""},null,"Gareth McGuire",{"$f":"INDEX(Picks!F:F,MATCH(AD11,Picks!A:A,0))","v":2.9800000000000004},{"$f":"INDEX(Weekly!I:I,MATCH(AD11,Weekly!E:E,0))","v":2},{"$f":"IF(AE11=\"\",\"\",_xlfn.RANK.EQ(AE11,TopScores,0))","v":10},null,"Chris Townsend",{"$f":"INDEX(Picks!G:G,MATCH(AI11,Picks!A:A,0))","v":88.657499999999999},{"$f":"INDEX(Weekly!I:I,MATCH(AI11,Weekly!E:E,0))","v":1},{"$f":"IF(AJ11=\"\",\"\",_xlfn.RANK.EQ(AJ11,TopMaxScores,0))","v":6}]
[{"$f":"A11","v":"Alick Rocca"},"QPR Draw",{"$f":"IF(J12=\"\",\"\",INDEX(Odds!B:B,MATCH(J12,Odds!F:F,0)))","v":"1900-01-07"},3.3,"x",null,null,null,null,"QPR Draw",{"$f":"INDEX(Odds!G:G,MATCH(J12,Odds!F:F,0))","v":"23/10"},{"$f":"INDEX(Odds!H:H,MATCH(J12,Odds!F:F,0))","v":3.3},{"$f":"INDEX(Odds!I:I,MATCH(J12,Odds!F:F,0))","v":0},0,null,{"$f":"IF(Match!A12=\"\",\"\",Match!T12)","v":"Forest 1-3 Brentford "},null,{"$f":"IF(Odds!F12=\"\",\"\",Odds!F12)","v":"Forest"},{"$f":"INDEX(Odds!G:G,MATCH(R12,Odds!F:F,0))","v":"14/5"},0,{"$f":"INDEX(Match!O:O,MATCH(P12,Match!T:T,0))","v":"Forest"},{"$f":"INDEX(Match!F:F,MATCH(P12,Match!T:T,0))","v":1},{"$f":"INDEX(Match!P:P,MATCH(P12,Match!T:T,0))","v":"Brentford"},{"$f":"INDEX(Match!G:G,MATCH(P12,Match!T:T,0))","v":3},null,null,null,{"$f":"IF(O12=\"\",\"\",INDEX(Odds!G:G,MATCH(O12,Odds!F:F,0)))","v":""},null,"Vinny Topping",{"$f":"INDEX(Picks!F:F,MATCH(AD12,Picks!A:A,0))","v":2.2375000000000007},{"$f":"INDEX(Weekly!I:I,MATCH(AD12,Weekly!E:E,0))","v":2},{"$f":"IF(AE12=\"\",\"\",_xlfn.RANK.EQ(AE12,TopScores,0))","v":11},null,"Nigel Heyes",{"$f":"INDEX(Picks!G:G,MATCH(AI12,Picks!A:A,0))","v":86.5},{"$f":"INDEX(Weekly!I:I,MATCH(AI12,Weekly!E:E,0))","v":1},{"$f":"IF(AJ12=\"\",\"\",_xlfn.RANK.EQ(AJ12,TopMaxScores,0))","v":7}]
[{"$f":"A11","v":"Alick Rocca"},{"$f":"IF(J13=\"\",\"\",J13)","v":"Sheff W Draw"},{"$f":"IF(J13=\"\",\"\",INDEX(Odds!B:B,MATCH(J13,Odds!F:F,0)))","v":"1900-01-07"},3.1,"x",null,null,null,null,"Sheff W Draw",{"$f":"INDEX(Odds!G:G,MATCH(J13,Odds!F:F,0))","v":"21/10"},{"$f":"INDEX(Odds!H:H,MATCH(J13,Odds!F:F,0))","v":3.1},{"$f":"INDEX(Odds!I:I,MATCH(J13,Odds!F:F,0))","v":0},0,null,{"$f":"IF(Match!A13=\"\",\"\",Match!T13)","v":"Luton 3-0 Preston "},null,{"$f":"IF(Odds!F13=\"\",\"\",Odds!F13)","v":"Luton"},{"$f":"INDEX(Odds!G:G,MATCH(R13,Odds!F:F,0))","v":"2/1"},1,{"$f":"INDEX(Match!O:O,MATCH(P13,Match!T:T,0))","v":"Luton"},{"$f":"INDEX(Match!F:F,MATCH(P13,Match!T:T,0))","v":3},{"$f":"INDEX(Match!P:P,MATCH(P13,Match!T:T,0))","v":"Preston"},{"$f":"INDEX(Match!G:G,MATCH(P13,Match!T:T,0))","v":0},null,null,null,{"$f":"IF(O13=\"\",\"\",INDEX(Odds!G:G,MATCH(O13,Odds!F:F,0)))","v":""},null,"Steve Carter",{"$f":"INDEX(Picks!F:F,MATCH(AD13,Picks!A:A,0))","v":1.75},{"$f":"INDEX(Weekly!I:I,MATCH(AD13,Weekly!E:E,0))","v":2},{"$f":"IF(AE13=\"\",\"\",_xlfn.RANK.EQ(AE13,TopScores,0))","v":12},null,"Paul Barnes",{"$f":"INDEX(Picks!G:G,MATCH(AI13,Picks!A:A,0))","v":79.27272727272728},{"$f":"INDEX(Weekly!I:I,MATCH(AI13,Weekly!E:E,0))","v":0},{"$f":"IF(AJ13=\"\",\"\",_xlfn.RANK.EQ(AJ13,TopMaxScores,0))","v":8}]
[{"$f":"Results!B14","v":"Andy Charleston"},"Everton",{"$f":"IF(J14=\"\",\"\",INDEX(Odds!B:B,MATCH(J14,Odds!F:F,0)))","v":"1900-01-07"},4.3333333333333339,"√",{"$f":"IF(J14=\"\",-10,INDEX(Results!T:T,MATCH(A14,Results!V:V,0)))","v":-2.6666666666666661},{"$f":"IF(J14=\"\",\"\",INDEX(Results!AI:AI,MATCH(A14,Results!V:V,0)))","v":134.22222222222223},{"$f":"IF(G14=\"\",0,1)","v":1},{"$f":"INDEX(Picks!AG:AG,MATCH(A14,Picks!AD:AD,0))","v":25},"Everton",{"$f":"INDEX(Odds!G:G,MATCH(J14,Odds!F:F,0))","v":"10/3"},{"$f":"INDEX(Odds!H:H,MATCH(J14,Odds!F:F,0))","v":4.3333333333333339},{"$f":"INDEX(Odds!I:I,MATCH(J14,Odds!F:F,0))","v":1},4.3333333333333339,null,{"$f":"IF(Match!A14=\"\",\"\",Match!T14)","v":"Middlesbro 3-0 Millwall "},null,{"$f":"IF(Odds!F14=\"\",\"\",Odds!F14)","v":"Middlesbro"},{"$f":"INDEX(Odds!G:G,MATCH(R14,Odds!F:F,0))","v":"23/20"},1,{"$f":"INDEX(Match!O:O,MATCH(P14,Match!T:T,0))","v":"Middlesbro"},{"$f":"INDEX(Match!F:F,MATCH(P14,Match!T:T,0))","v":3},{"$f":"INDEX(Match!P:P,MATCH(P14,Match!T:T,0))","v":"Millwall"},{"$f":"INDEX(Match!G:G,MATCH(P14,Match!T:T,0))","v":0},null,null,null,{"$f":"IF(O14=\"\",\"\",INDEX(Odds!G:G,MATCH(O14,Odds!F:F,0)))","v":""},null,"Chris Griffin",{"$f":"INDEX(Picks!F:F,MATCH(AD14,Picks!A:A,0))","v":1.75},{"$f":"INDEX(Weekly!I:I,MATCH(AD14,Weekly!E:E,0))","v":2},{"$f":"IF(AE14=\"\",\"\",_xlfn.RANK.EQ(AE14,TopScores,0))","v":12},null,"James Bell",{"$f":"INDEX(Picks!G:G,MATCH(AI14,Picks!A:A,0))","v":73.144000000000005},{"$f":"INDEX(Weekly!I:I,MATCH(AI14,Weekly!E:E,0))","v":0},{"$f":"IF(AJ14=\"\",\"\",_xlfn.RANK.EQ(AJ14,TopMaxScores,0))","v":9}]
[{"$f":"A14","v":"Andy Charleston"},"Man U",{"$f":"IF(J15=\"\",\"\",INDEX(Odds!B:B,MATCH(J15,Odds!F:F,0)))","v":"1900-01-07"},4.3333333333333339,"x",null,null,null,null,"Man U",{"$f":"INDEX(Odds!G:G,MATCH(J15,Odds!F:F,0))","v":"10/3"},{"$f":"INDEX(Odds!H:H,MATCH(J15,Odds!F:F,0))","v":4.3333333333333339},{"$f":"INDEX(Odds!I:I,MATCH(J15,Odds!F:F,0))","v":0},0,null,{"$f":"IF(Match!A15=\"\",\"\",Match!T15)","v":"QPR 0-1 Reading "},null,{"$f":"IF(Odds!F15=\"\",\"\",Odds!F15)","v":"QPR"},{"$f":"INDEX(Odds!G:G,MATCH(R15,Odds!F:F,0))","v":"13/8"},0,{"$f":"INDEX(Match!O:O,MATCH(P15,Match!T:T,0))","v":"QPR"},{"$f":"INDEX(Match!F:F,MATCH(P15,Match!T:T,0))","v":0},{"$f":"INDEX(Match!P:P,MATCH(P15,Match!T:T,0))","v":"Reading"},{"$f":"INDEX(Match!G:G,MATCH(P15,Match!T:T,0))","v":1},null,null,null,{"$f":"IF(O15=\"\",\"\",INDEX(Odds!G:G,MATCH(O15,Odds!F:F,0)))","v":""},null,"Andy White",{"$f":"INDEX(Picks!F:F,MATCH(AD15,Picks!A:A,0))","v":1.75},{"$f":"INDEX(Weekly!I:I,MATCH(AD15,Weekly!E:E,0))","v":2},{"$f":"IF(AE15=\"\",\"\",_xlfn.RANK.EQ(AE15,TopScores,0))","v":12},null,"Barry Birchall",{"$f":"INDEX(Picks!G:G,MATCH(AI15,Picks!A:A,0))","v":68.51600000000002},{"$f":"INDEX(Weekly!I:I,MATCH(AI15,Weekly!E:E,0))","v":0},{"$f":"IF(AJ15=\"\",\"\",_xlfn.RANK.EQ(AJ15,TopMaxScores,0))","v":10}]
[{"$f":"A14","v":"Andy Charleston"},"Birmingham",{"$f":"IF(J16=\"\",\"\",INDEX(Odds!B:B,MATCH(J16,Odds!F:F,0)))","v":"1900-01-07"},4,"x",null,null,null,null,"Birmingham",{"$f":"INDEX(Odds!G:G,MATCH(J16,Odds!F:F,0))","v":"3/1"},{"$f":"INDEX(Odds!H:H,MATCH(J16,Odds!F:F,0))","v":4},{"$f":"INDEX(Odds!I:I,MATCH(J16,Odds!F:F,0))","v":0},0,null,{"$f":"IF(Match!A16=\"\",\"\",Match!T16)","v":"Rotherham 2-0 Bristol C "},null,{"$f":"IF(Odds!F16=\"\",\"\",Odds!F16)","v":"Rotherham"},{"$f":"INDEX(Odds!G:G,MATCH(R16,Odds!F:F,0))","v":"19/10"},1,{"$f":"INDEX(Match!O:O,MATCH(P16,Match!T:T,0))","v":"Rotherham"},{"$f":"INDEX(Match!F:F,MATCH(P16,Match!T:T,0))","v":2},{"$f":"INDEX(Match!P:P,MATCH(P16,Match!T:T,0))","v":"Bristol C"},{"$f":"INDEX(Match!G:G,MATCH(P16,Match!T:T,0))","v":0},null,null,null,{"$f":"IF(O16=\"\",\"\",INDEX(Odds!G:G,MATCH(O16,Odds!F:F,0)))","v":""},null,"David Dunn",{"$f":"INDEX(Picks!F:F,MATCH(AD16,Picks!A:A,0))","v":1.4499999999999993},{"$f":"INDEX(Weekly!I:I,MATCH(AD16,Weekly!E:E,0))","v":2},{"$f":"IF(AE16=\"\",\"\",_xlfn.RANK.EQ(AE16,TopScores,0))","v":15},null,"Alick Rocca",{"$f":"INDEX(Picks!G:G,MATCH(AI16,Picks!A:A,0))","v":66.045999999999992},{"$f":"INDEX(Weekly!I:I,MATCH(AI16,Weekly!E:E,0))","v":0},{"$f":"IF(AJ16=\"\",\"\",_xlfn.RANK.EQ(AJ16,TopMaxScores,0))","v":11}]
[{"$f":"Results!B17","v":"Andy White"},"Wolves",{"$f":"IF(J17=\"\",\"\",INDEX(Odds!B:B,MATCH(J17,Odds!F:F,0)))","v":"1900-01-07"},2.2999999999999998,"x",{"$f":"IF(J17=\"\",-10,INDEX(Results!T:T,MATCH(A17,Results!V:V,0)))","v":1.75},{"$f":"IF(J17=\"\",\"\",INDEX(Results!AI:AI,MATCH(A17,Results!V:V,0)))","v":24.175000000000004},{"$f":"IF(G17=\"\",0,1)","v":1},{"$f":"INDEX(Picks!AG:AG,MATCH(A17,Picks!AD:AD,0))","v":12},"Wolves",{"$f":"INDEX(Odds!G:G,MATCH(J17,Odds!F:F,0))","v":"13/10"},{"$f":"INDEX(Odds!H:H,MATCH(J17,Odds!F:F,0))","v":2.2999999999999998},{"$f":"INDEX(Odds!I:I,MATCH(J17,Odds!F:F,0))","v":0},0,null,{"$f":"IF(Match!A17=\"\",\"\",Match!T17)","v":"Sheff W 1-2 Barnsley "},null,{"$f":"IF(Odds!F17=\"\",\"\",Odds!F17)","v":"Sheff W"},{"$f":"INDEX(Odds!G:G,MATCH(R17,Odds!F:F,0))","v":"6/4"},0,{"$f":"INDEX(Match!O:O,MATCH(P17,Match!T:T,0))","v":"Sheff W"},{"$f":"INDEX(Match!F:F,MATCH(P17,Match!T:T,0))","v":1},{"$f":"INDEX(Match!P:P,MATCH(P17,Match!T:T,0))","v":"Barnsley"},{"$f":"INDEX(Match!G:G,MATCH(P17,Match!T:T,0))","v":2},null,null,null,{"$f":"IF(O17=\"\",\"\",INDEX(Odds!G:G,MATCH(O17,Odds!F:F,0)))","v":""},null,"Paul Allen",{"$f":"INDEX(Picks!F:F,MATCH(AD17,Picks!A:A,0))","v":1.4400000000000013},{"$f":"INDEX(Weekly!I:I,MATCH(AD17,Weekly!E:E,0))","v":2},{"$f":"IF(AE17=\"\",\"\",_xlfn.RANK.EQ(AE17,TopScores,0))","v":16},null,"Paul Fairhurst",{"$f":"INDEX(Picks!G:G,MATCH(AI17,Picks!A:A,0))","v":60.551999999999992},{"$f":"INDEX(Weekly!I:I,MATCH(AI17,Weekly!E:E,0))","v":0},{"$f":"IF(AJ17=\"\",\"\",_xlfn.RANK.EQ(AJ17,TopMaxScores,0))","v":12}]
[{"$f":"A17","v":"Andy White"},{"$f":"IF(J18=\"\",\"\",J18)","v":"Newcastle"},{"$f":"IF(J18=\"\",\"\",INDEX(Odds!B:B,MATCH(J18,Odds!F:F,0)))","v":"1900-01-07"},2.25,"√",null,null,null,null,"Newcastle",{"$f":"INDEX(Odds!G:G,MATCH(J18,Odds!F:F,0))","v":"5/4"},{"$f":"INDEX(Odds!H:H,MATCH(J18,Odds!F:F,0))","v":2.25},{"$f":"INDEX(Odds!I:I,MATCH(J18,Odds!F:F,0))","v":1},2.25,null,{"$f":"IF(Match!A18=\"\",\"\",Match!T18)","v":"Wycombe 1-2 Coventry "},null,{"$f":"IF(Odds!F18=\"\",\"\",Odds!F18)","v":"Wycombe"},{"$f":"INDEX(Odds!G:G,MATCH(R18,Odds!F:F,0))","v":"21/10"},0,{"$f":"INDEX(Match!O:O,MATCH(P18,Match!T:T,0))","v":"Wycombe"},{"$f":"INDEX(Match!F:F,MATCH(P18,Match!T:T,0))","v":1},{"$f":"INDEX(Match!P:P,MATCH(P18,Match!T:T,0))","v":"Coventry"},{"$f":"INDEX(Match!G:G,MATCH(P18,Match!T:T,0))","v":2},null,null,null,{"$f":"IF(O18=\"\",\"\",INDEX(Odds!G:G,MATCH(O18,Odds!F:F,0)))","v":""},null,"Dave Bell",{"$f":"INDEX(Picks!F:F,MATCH(AD18,Picks!A:A,0))","v":1.3333333333333339},{"$f":"INDEX(Weekly!I:I,MATCH(AD18,Weekly!E:E,0))","v":1},{"$f":"IF(AE18=\"\",\"\",_xlfn.RANK.EQ(AE18,TopScores,0))","v":17},null,"Chris Bow",{"$f":"INDEX(Picks!G:G,MATCH(AI18,Picks!A:A,0))","v":60.2},{"$f":"INDEX(Weekly!I:I,MATCH(AI18,Weekly!E:E,0))","v":1},{"$f":"IF(AJ18=\"\",\"\",_xlfn.RANK.EQ(AJ18,TopMaxScores,0))","v":13}]
[{"$f":"A17","v":"Andy White"},"Leicester",{"$f":"IF(J19=\"\",\"\",INDEX(Odds!B:B,MATCH(J19,Odds!F:F,0)))","v":"1900-01-01"},2,"√",null,null,null,null,"Leicester",{"$f":"INDEX(Odds!G:G,MATCH(J19,Odds!F:F,0))","v":"1/1"},{"$f":"INDEX(Odds!H:H,MATCH(J19,Odds!F:F,0))","v":2},{"$f":"INDEX(Odds!I:I,MATCH(J19,Odds!F:F,0))","v":1},2,null,{"$f":"IF(Match!A19=\"\",\"\",Match!T19)","v":"Blackpool 0-0 Oxford "},null,{"$f":"IF(Odds!F19=\"\",\"\",Odds!F19)","v":"Blackpool"},{"$f":"INDEX(Odds!G:G,MATCH(R19,Odds!F:F,0))","v":"6/5"},0,{"$f":"INDEX(Match!O:O,MATCH(P19,Match!T:T,0))","v":"Blackpool"},{"$f":"INDEX(Match!F:F,MATCH(P19,Match!T:T,0))","v":0},{"$f":"INDEX(Match!P:P,MATCH(P19,Match!T:T,0))","v":"Oxford"},{"$f":"INDEX(Match!G:G,MATCH(P19,Match!T:T,0))","v":0},null,null,null,{"$f":"IF(O19=\"\",\"\",INDEX(Odds!G:G,MATCH(O19,Odds!F:F,0)))","v":""},null,"Stephen Barr",{"$f":"INDEX(Picks!F:F,MATCH(AD19,Picks!A:A,0))","v":0.8636363636363642},{"$f":"INDEX(Weekly!I:I,MATCH(AD19,Weekly!E:E,0))","v":2},{"$f":"IF(AE19=\"\",\"\",_xlfn.RANK.EQ(AE19,TopScores,0))","v":18},null,"Sally Williams",{"$f":"INDEX(Picks!G:G,MATCH(AI19,Picks!A:A,0))","v":59.239999999999995},{"$f":"INDEX(Weekly!I:I,MATCH(AI19,Weekly!E:E,0))","v":1},{"$f":"IF(AJ19=\"\",\"\",_xlfn.RANK.EQ(AJ19,TopMaxScores,0))","v":14}]
[{"$f":"Results!B20","v":"Ashley Houghton"},"Doncaster",{"$f":"IF(J20=\"\",\"\",INDEX(Odds!B:B,MATCH(J20,Odds!F:F,0)))","v":"1900-01-07"},1.9090909090909092,"√",{"$f":"IF(J20=\"\",-10,INDEX(Results!T:T,MATCH(A20,Results!V:V,0)))","v":-0.39160839160839167},{"$f":"IF(J20=\"\",\"\",INDEX(Results!AI:AI,MATCH(A20,Results!V:V,0)))","v":11.781818181818181},{"$f":"IF(G20=\"\",0,1)","v":1},{"$f":"INDEX(Picks!AG:AG,MATCH(A20,Picks!AD:AD,0))","v":23},"Doncaster",{"$f":"INDEX(Odds!G:G,MATCH(J20,Odds!F:F,0))","v":"10/11"},{"$f":"INDEX(Odds!H:H,MATCH(J20,Odds!F:F,0))","v":1.9090909090909092},{"$f":"INDEX(Odds!I:I,MATCH(J20,Odds!F:F,0))","v":1},1.9090909090909092,null,{"$f":"IF(Match!A20=\"\",\"\",Match!T20)","v":"Bristol R 3-0 Plymouth "},null,{"$f":"IF(Odds!F20=\"\",\"\",Odds!F20)","v":"Bristol R"},{"$f":"INDEX(Odds!G:G,MATCH(R20,Odds!F:F,0))","v":"29/20"},1,{"$f":"INDEX(Match!O:O,MATCH(P20,Match!T:T,0))","v":"Bristol R"},{"$f":"INDEX(Match!F:F,MATCH(P20,Match!T:T,0))","v":3},{"$f":"INDEX(Match!P:P,MATCH(P20,Match!T:T,0))","v":"Plymouth"},{"$f":"INDEX(Match!G:G,MATCH(P20,Match!T:T,0))","v":0},null,null,null,{"$f":"IF(O20=\"\",\"\",INDEX(Odds!G:G,MATCH(O20,Odds!F:F,0)))","v":""},null,"Howard Bradley",{"$f":"INDEX(Picks!F:F,MATCH(AD20,Picks!A:A,0))","v":0.58181818181818201},{"$f":"INDEX(Weekly!I:I,MATCH(AD20,Weekly!E:E,0))","v":2},{"$f":"IF(AE20=\"\",\"\",_xlfn.RANK.EQ(AE20,TopScores,0))","v":19},null,"Paul Adderley",{"$f":"INDEX(Picks!G:G,MATCH(AI20,Picks!A:A,0))","v":57.25},{"$f":"INDEX(Weekly!I:I,MATCH(AI20,Weekly!E:E,0))","v":1},{"$f":"IF(AJ20=\"\",\"\",_xlfn.RANK.EQ(AJ20,TopMaxScores,0))","v":15}]
[{"$f":"A20","v":"Ashley Houghton"},"Hull",{"$f":"IF(J21=\"\",\"\",INDEX(Odds!B:B,MATCH(J21,Odds!F:F,0)))","v":"1900-01-07"},1.6,"x",null,null,null,null,"Hull",{"$f":"INDEX(Odds!G:G,MATCH(J21,Odds!F:F,0))","v":"6/10"},{"$f":"INDEX(Odds!H:H,MATCH(J21,Odds!F:F,0))","v":1.6},{"$f":"INDEX(Odds!I:I,MATCH(J21,Odds!F:F,0))","v":0},0,null,{"$f":"IF(Match!A21=\"\",\"\",Match!T21)","v":"Charlton 5-2 Wimbledon "},null,{"$f":"IF(Odds!F21=\"\",\"\",Odds!F21)","v":"Charlton"},{"$f":"INDEX(Odds!G:G,MATCH(R21,Odds!F:F,0))","v":"19/20"},1,{"$f":"INDEX(Match!O:O,MATCH(P21,Match!T:T,0))","v":"Charlton"},{"$f":"INDEX(Match!F:F,MATCH(P21,Match!T:T,0))","v":5},{"$f":"INDEX(Match!P:P,MATCH(P21,Match!T:T,0))","v":"Wimbledon"},{"$f":"INDEX(Match!G:G,MATCH(P21,Match!T:T,0))","v":2},null,null,null,{"$f":"IF(O21=\"\",\"\",INDEX(Odds!G:G,MATCH(O21,Odds!F:F,0)))","v":""},null,"Kevin Carter",{"$f":"INDEX(Picks!F:F,MATCH(AD21,Picks!A:A,0))","v":0.18181818181818166},{"$f":"INDEX(Weekly!I:I,MATCH(AD21,Weekly!E:E,0))","v":2},{"$f":"IF(AE21=\"\",\"\",_xlfn.RANK.EQ(AE21,TopScores,0))","v":20},null,"Ian Davies",{"$f":"INDEX(Picks!G:G,MATCH(AI21,Picks!A:A,0))","v":56.238999999999997},{"$f":"INDEX(Weekly!I:I,MATCH(AI21,Weekly!E:E,0))","v":0},{"$f":"IF(AJ21=\"\",\"\",_xlfn.RANK.EQ(AJ21,TopMaxScores,0))","v":16}]
[{"$f":"A20","v":"Ashley Houghton"},"Carlisle",{"$f":"IF(J22=\"\",\"\",INDEX(Odds!B:B,MATCH(J22,Odds!F:F,0)))","v":"1900-01-07"},1.6153846153846154,"√",null,null,null,null,"Carlisle",{"$f":"INDEX(Odds!G:G,MATCH(J22,Odds!F:F,0))","v":"8/13"},{"$f":"INDEX(Odds!H:H,MATCH(J22,Odds!F:F,0))","v":1.6153846153846154},{"$f":"INDEX(Odds!I:I,MATCH(J22,Odds!F:F,0))","v":1},1.6153846153846154,null,{"$f":"IF(Match!A22=\"\",\"\",Match!T22)","v":"Crewe 2-1 Northampton "},null,{"$f":"IF(Odds!F22=\"\",\"\",Odds!F22)","v":"Crewe"},{"$f":"INDEX(Odds!G:G,MATCH(R22,Odds!F:F,0))","v":"3/4"},1,{"$f":"INDEX(Match!O:O,MATCH(P22,Match!T:T,0))","v":"Crewe"},{"$f":"INDEX(Match!F:F,MATCH(P22,Match!T:T,0))","v":2},{"$f":"INDEX(Match!P:P,MATCH(P22,Match!T:T,0))","v":"Northampton"},{"$f":"INDEX(Match!G:G,MATCH(P22,Match!T:T,0))","v":1},null,null,null,{"$f":"IF(O22=\"\",\"\",INDEX(Odds!G:G,MATCH(O22,Odds!F:F,0)))","v":""},null,"Alan White",{"$f":"INDEX(Picks!F:F,MATCH(AD22,Picks!A:A,0))","v":0.18181818181818166},{"$f":"INDEX(Weekly!I:I,MATCH(AD22,Weekly!E:E,0))","v":2},{"$f":"IF(AE22=\"\",\"\",_xlfn.RANK.EQ(AE22,TopScores,0))","v":20},null,"John Evans",{"$f":"INDEX(Picks!G:G,MATCH(AI22,Picks!A:A,0))","v":50.996874999999996},{"$f":"INDEX(Weekly!I:I,MATCH(AI22,Weekly!E:E,0))","v":1},{"$f":"IF(AJ22=\"\",\"\",_xlfn.RANK.EQ(AJ22,TopMaxScores,0))","v":17}]
[{"$f":"Results!B23","v":"Barry Birchall"},"Plymouth",{"$f":"IF(J23=\"\",\"\",INDEX(Odds!B:B,MATCH(J23,Odds!F:F,0)))","v":"1900-01-07"},2.7,"x",{"$f":"IF(J23=\"\",-10,INDEX(Results!T:T,MATCH(A23,Results!V:V,0)))","v":-7},{"$f":"IF(J23=\"\",\"\",INDEX(Results!AI:AI,MATCH(A23,Results!V:V,0)))","v":68.51600000000002},{"$f":"IF(G23=\"\",0,1)","v":1},{"$f":"INDEX(Picks!AG:AG,MATCH(A23,Picks!AD:AD,0))","v":46},"Plymouth",{"$f":"INDEX(Odds!G:G,MATCH(J23,Odds!F:F,0))","v":"17/10"},{"$f":"INDEX(Odds!H:H,MATCH(J23,Odds!F:F,0))","v":2.7},{"$f":"INDEX(Odds!I:I,MATCH(J23,Odds!F:F,0))","v":0},0,null,{"$f":"IF(Match!A23=\"\",\"\",Match!T23)","v":"Doncaster 2-1 Gillingham "},null,{"$f":"IF(Odds!F23=\"\",\"\",Odds!F23)","v":"Doncaster"},{"$f":"INDEX(Odds!G:G,MATCH(R23,Odds!F:F,0))","v":"10/11"},1,{"$f":"INDEX(Match!O:O,MATCH(P23,Match!T:T,0))","v":"Doncaster"},{"$f":"INDEX(Match!F:F,MATCH(P23,Match!T:T,0))","v":2},{"$f":"INDEX(Match!P:P,MATCH(P23,Match!T:T,0))","v":"Gillingham"},{"$f":"INDEX(Match!G:G,MATCH(P23,Match!T:T,0))","v":1},null,null,null,{"$f":"IF(O23=\"\",\"\",INDEX(Odds!G:G,MATCH(O23,Odds!F:F,0)))","v":""},null,"John Ronan",{"$f":"INDEX(Picks!F:F,MATCH(AD23,Picks!A:A,0))","v":0},{"$f":"INDEX(Weekly!I:I,MATCH(AD23,Weekly!E:E,0))","v":2},{"$f":"IF(AE23=\"\",\"\",_xlfn.RANK.EQ(AE23,TopScores,0))","v":22},null,"Alfie Davies",{"$f":"INDEX(Picks!G:G,MATCH(AI23,Picks!A:A,0))","v":50.275000000000006},{"$f":"INDEX(Weekly!I:I,MATCH(AI23,Weekly!E:E,0))","v":3},{"$f":"IF(AJ23=\"\",\"\",_xlfn.RANK.EQ(AJ23,TopMaxScores,0))","v":18}]
[{"$f":"A23","v":"Barry Birchall"},"Cambridge",{"$f":"IF(J24=\"\",\"\",INDEX(Odds!B:B,MATCH(J24,Odds!F:F,0)))","v":"1900-01-07"},3.7,"x",null,null,null,null,"Cambridge",{"$f":"INDEX(Odds!G:G,MATCH(J24,Odds!F:F,0))","v":"27/10"},{"$f":"INDEX(Odds!H:H,MATCH(J24,Odds!F:F,0))","v":3.7},{"$f":"INDEX(Odds!I:I,MATCH(J24,Odds!F:F,0))","v":0},0,null,{"$f":"IF(Match!A24=\"\",\"\",Match!T24)","v":"Hull 0-1 Shrewsbury "},null,{"$f":"IF(Odds!F24=\"\",\"\",Odds!F24)","v":"Hull"},{"$f":"INDEX(Odds!G:G,MATCH(R24,Odds!F:F,0))","v":"6/10"},0,{"$f":"INDEX(Match!O:O,MATCH(P24,Match!T:T,0))","v":"Hull"},{"$f":"INDEX(Match!F:F,MATCH(P24,Match!T:T,0))","v":0},{"$f":"INDEX(Match!P:P,MATCH(P24,Match!T:T,0))","v":"Shrewsbury"},{"$f":"INDEX(Match!G:G,MATCH(P24,Match!T:T,0))","v":1},null,null,null,{"$f":"IF(O24=\"\",\"\",INDEX(Odds!G:G,MATCH(O24,Odds!F:F,0)))","v":""},null,"Ashley Houghton",{"$f":"INDEX(Picks!F:F,MATCH(AD24,Picks!A:A,0))","v":-0.39160839160839167},{"$f":"INDEX(Weekly!I:I,MATCH(AD24,Weekly!E:E,0))","v":2},{"$f":"IF(AE24=\"\",\"\",_xlfn.RANK.EQ(AE24,TopScores,0))","v":23},null,"Alan Rogers",{"$f":"INDEX(Picks!G:G,MATCH(AI24,Picks!A:A,0))","v":47.080000000000005},{"$f":"INDEX(Weekly!I:I,MATCH(AI24,Weekly!E:E,0))","v":3},{"$f":"IF(AJ24=\"\",\"\",_xlfn.RANK.EQ(AJ24,TopMaxScores,0))","v":19}]
[{"$f":"A23","v":"Barry Birchall"},"Swindon draw",{"$f":"IF(J25=\"\",\"\",INDEX(Odds!B:B,MATCH(J25,Odds!F:F,0)))","v":"1900-01-07"},3.4,"x",null,null,null,null,"Swindon draw",{"$f":"INDEX(Odds!G:G,MATCH(J25,Odds!F:F,0))","v":"12/5"},{"$f":"INDEX(Odds!H:H,MATCH(J25,Odds!F:F,0))","v":3.4},{"$f":"INDEX(Odds!I:I,MATCH(J25,Odds!F:F,0))","v":0},0,null,{"$f":"IF(Match!A25=\"\",\"\",Match!T25)","v":"Ipswich 0-2 Portsmouth "},null,{"$f":"IF(Odds!F25=\"\",\"\",Odds!F25)","v":"Ipswich"},{"$f":"INDEX(Odds!G:G,MATCH(R25,Odds!F:F,0))","v":"21/10"},0,{"$f":"INDEX(Match!O:O,MATCH(P25,Match!T:T,0))","v":"Ipswich"},{"$f":"INDEX(Match!F:F,MATCH(P25,Match!T:T,0))","v":0},{"$f":"INDEX(Match!P:P,MATCH(P25,Match!T:T,0))","v":"Portsmouth"},{"$f":"INDEX(Match!G:G,MATCH(P25,Match!T:T,0))","v":2},null,null,null,{"$f":"IF(O25=\"\",\"\",INDEX(Odds!G:G,MATCH(O25,Odds!F:F,0)))","v":""},null,"Lennie Bow",{"$f":"INDEX(Picks!F:F,MATCH(AD25,Picks!A:A,0))","v":-1.069230769230769},{"$f":"INDEX(Weekly!I:I,MATCH(AD25,Weekly!E:E,0))","v":2},{"$f":"IF(AE25=\"\",\"\",_xlfn.RANK.EQ(AE25,TopScores,0))","v":24},null,"Gareth McGuire",{"$f":"INDEX(Picks!G:G,MATCH(AI25,Picks!A:A,0))","v":46.9},{"$f":"INDEX(Weekly!I:I,MATCH(AI25,Weekly!E:E,0))","v":2},{"$f":"IF(AJ25=\"\",\"\",_xlfn.RANK.EQ(AJ25,TopMaxScores,0))","v":20}]
[{"$f":"Results!B26","v":"Ben Rosser"},"Man U",{"$f":"IF(J26=\"\",\"\",INDEX(Odds!B:B,MATCH(J26,Odds!F:F,0)))","v":"1900-01-07"},4.3333333333333339,"x",{"$f":"IF(J26=\"\",-10,INDEX(Results!T:T,MATCH(A26,Results!V:V,0)))","v":-7},{"$f":"IF(J26=\"\",\"\",INDEX(Results!AI:AI,MATCH(A26,Results!V:V,0)))","v":146.66666666666669},{"$f":"IF(G26=\"\",0,1)","v":1},{"$f":"INDEX(Picks!AG:AG,MATCH(A26,Picks!AD:AD,0))","v":46},"Man U",{"$f":"INDEX(Odds!G:G,MATCH(J26,Odds!F:F,0))","v":"10/3"},{"$f":"INDEX(Odds!H:H,MATCH(J26,Odds!F:F,0))","v":4.3333333333333339},{"$f":"INDEX(Odds!I:I,MATCH(J26,Odds!F:F,0))","v":0},0,null,{"$f":"IF(Match!A26=\"\",\"\",Match!T26)","v":"Lincoln 0-4 Sunderland "},null,{"$f":"IF(Odds!F26=\"\",\"\",Odds!F26)","v":"Lincoln"},{"$f":"INDEX(Odds!G:G,MATCH(R26,Odds!F:F,0))","v":"9/5"},0,{"$f":"INDEX(Match!O:O,MATCH(P26,Match!T:T,0))","v":"Lincoln"},{"$f":"INDEX(Match!F:F,MATCH(P26,Match!T:T,0))","v":0},{"$f":"INDEX(Match!P:P,MATCH(P26,Match!T:T,0))","v":"Sunderland"},{"$f":"INDEX(Match!G:G,MATCH(P26,Match!T:T,0))","v":4},null,null,null,{"$f":"IF(O26=\"\",\"\",INDEX(Odds!G:G,MATCH(O26,Odds!F:F,0)))","v":""},null,"Andy Charleston",{"$f":"INDEX(Picks!F:F,MATCH(AD26,Picks!A:A,0))","v":-2.6666666666666661},{"$f":"INDEX(Weekly!I:I,MATCH(AD26,Weekly!E:E,0))","v":1},{"$f":"IF(AE26=\"\",\"\",_xlfn.RANK.EQ(AE26,TopScores,0))","v":25},null,"Gerard Ventom",{"$f":"INDEX(Picks!G:G,MATCH(AI26,Picks!A:A,0))","v":46.6},{"$f":"INDEX(Weekly!I:I,MATCH(AI26,Weekly!E:E,0))","v":3},{"$f":"IF(AJ26=\"\",\"\",_xlfn.RANK.EQ(AJ26,TopMaxScores,0))","v":21}]
[{"$f":"A26","v":"Ben Rosser"},"Everton draw",{"$f":"IF(J27=\"\",\"\",INDEX(Odds!B:B,MATCH(J27,Odds!F:F,0)))","v":"1900-01-07"},4,"x",null,null,null,null,"Everton draw",{"$f":"INDEX(Odds!G:G,MATCH(J27,Odds!F:F,0))","v":"3/1"},{"$f":"INDEX(Odds!H:H,MATCH(J27,Odds!F:F,0))","v":4},{"$f":"INDEX(Odds!I:I,MATCH(J27,Odds!F:F,0))","v":0},0,null,{"$f":"IF(Match!A27=\"\",\"\",Match!T27)","v":"MK Dons 1-1 Burton "},null,{"$f":"IF(Odds!F27=\"\",\"\",Odds!F27)","v":"MK Dons"},{"$f":"INDEX(Odds!G:G,MATCH(R27,Odds!F:F,0))","v":"4/5"},0,{"$f":"INDEX(Match!O:O,MATCH(P27,Match!T:T,0))","v":"MK Dons"},{"$f":"INDEX(Match!F:F,MATCH(P27,Match!T:T,0))","v":1},{"$f":"INDEX(Match!P:P,MATCH(P27,Match!T:T,0))","v":"Burton"},{"$f":"INDEX(Match!G:G,MATCH(P27,Match!T:T,0))","v":1},null,null,null,{"$f":"IF(O27=\"\",\"\",INDEX(Odds!G:G,MATCH(O27,Odds!F:F,0)))","v":""},null,"Chris Bow",{"$f":"INDEX(Picks!F:F,MATCH(AD27,Picks!A:A,0))","v":-2.6666666666666661},{"$f":"INDEX(Weekly!I:I,MATCH(AD27,Weekly!E:E,0))","v":1},{"$f":"IF(AE27=\"\",\"\",_xlfn.RANK.EQ(AE27,TopScores,0))","v":25},null,"Mark Saunders",{"$f":"INDEX(Picks!G:G,MATCH(AI27,Picks!A:A,0))","v":46.466666666666654},{"$f":"INDEX(Weekly!I:I,MATCH(AI27,Weekly!E:E,0))","v":2},{"$f":"IF(AJ27=\"\",\"\",_xlfn.RANK.EQ(AJ27,TopMaxScores,0))","v":22}]
[{"$f":"A26","v":"Ben Rosser"},"Palace",{"$f":"IF(J28=\"\",\"\",INDEX(Odds!B:B,MATCH(J28,Odds!F:F,0)))","v":"1900-01-01"},4.8,"x",null,null,null,null,"Palace",{"$f":"INDEX(Odds!G:G,MATCH(J28,Odds!F:F,0))","v":"19/5"},{"$f":"INDEX(Odds!H:H,MATCH(J28,Odds!F:F,0))","v":4.8},{"$f":"INDEX(Odds!I:I,MATCH(J28,Odds!F:F,0))","v":0},0,null,{"$f":"IF(Match!A28=\"\",\"\",Match!T28)","v":"Peterborough 4-1 Rochdale "},null,{"$f":"IF(Odds!F28=\"\",\"\",Odds!F28)","v":"Peterborough"},{"$f":"INDEX(Odds!G:G,MATCH(R28,Odds!F:F,0))","v":"8/15"},1,{"$f":"INDEX(Match!O:O,MATCH(P28,Match!T:T,0))","v":"Peterborough"},{"$f":"INDEX(Match!F:F,MATCH(P28,Match!T:T,0))","v":4},{"$f":"INDEX(Match!P:P,MATCH(P28,Match!T:T,0))","v":"Rochdale"},{"$f":"INDEX(Match!G:G,MATCH(P28,Match!T:T,0))","v":1},null,null,null,{"$f":"IF(O28=\"\",\"\",INDEX(Odds!G:G,MATCH(O28,Odds!F:F,0)))","v":""},null,"Simon Greenhalgh",{"$f":"INDEX(Picks!F:F,MATCH(AD28,Picks!A:A,0))","v":-3},{"$f":"INDEX(Weekly!I:I,MATCH(AD28,Weekly!E:E,0))","v":1},{"$f":"IF(AE28=\"\",\"\",_xlfn.RANK.EQ(AE28,TopScores,0))","v":27},null,"Mal Stott",{"$f":"INDEX(Picks!G:G,MATCH(AI28,Picks!A:A,0))","v":45.76},{"$f":"INDEX(Weekly!I:I,MATCH(AI28,Weekly!E:E,0))","v":0},{"$f":"IF(AJ28=\"\",\"\",_xlfn.RANK.EQ(AJ28,TopMaxScores,0))","v":23}]
[{"$f":"Results!B29","v":"Charlie Griffiths"},"Scunthorpe",{"$f":"IF(J29=\"\",\"\",INDEX(Odds!B:B,MATCH(J29,Odds!F:F,0)))","v":"1900-01-07"},2.2999999999999998,"x",{"$f":"IF(J29=\"\",-10,INDEX(Results!T:T,MATCH(A29,Results!V:V,0)))","v":-7},{"$f":"IF(J29=\"\",\"\",INDEX(Results!AI:AI,MATCH(A29,Results!V:V,0)))","v":37.581249999999997},{"$f":"IF(G29=\"\",0,1)","v":1},{"$f":"INDEX(Picks!AG:AG,MATCH(A29,Picks!AD:AD,0))","v":46},"Scunthorpe",{"$f":"INDEX(Odds!G:G,MATCH(J29,Odds!F:F,0))","v":"13/10"},{"$f":"INDEX(Odds!H:H,MATCH(J29,Odds!F:F,0))","v":2.2999999999999998},{"$f":"INDEX(Odds!I:I,MATCH(J29,Odds!F:F,0))","v":0},0,null,{"$f":"IF(Match!A29=\"\",\"\",Match!T29)","v":"Swindon 0-1 Fleetwood "},null,{"$f":"IF(Odds!F29=\"\",\"\",Odds!F29)","v":"Swindon"},{"$f":"INDEX(Odds!G:G,MATCH(R29,Odds!F:F,0))","v":"23/10"},0,{"$f":"INDEX(Match!O:O,MATCH(P29,Match!T:T,0))","v":"Swindon"},{"$f":"INDEX(Match!F:F,MATCH(P29,Match!T:T,0))","v":0},{"$f":"INDEX(Match!P:P,MATCH(P29,Match!T:T,0))","v":"Fleetwood"},{"$f":"INDEX(Match!G:G,MATCH(P29,Match!T:T,0))","v":1},null,null,null,{"$f":"IF(O29=\"\",\"\",INDEX(Odds!G:G,MATCH(O29,Odds!F:F,0)))","v":""},null,"Nigel Heyes",{"$f":"INDEX(Picks!F:F,MATCH(AD29,Picks!A:A,0))","v":-3.8},{"$f":"INDEX(Weekly!I:I,MATCH(AD29,Weekly!E:E,0))","v":1},{"$f":"IF(AE29=\"\",\"\",_xlfn.RANK.EQ(AE29,TopScores,0))","v":28},null,"Liam Wah",{"$f":"INDEX(Picks!G:G,MATCH(AI29,Picks!A:A,0))","v":45.625},{"$f":"INDEX(Weekly!I:I,MATCH(AI29,Weekly!E:E,0))","v":2},{"$f":"IF(AJ29=\"\",\"\",_xlfn.RANK.EQ(AJ29,TopMaxScores,0))","v":24}]
[{"$f":"A29","v":"Charlie Griffiths"},"Accrington",{"$f":"IF(J30=\"\",\"\",INDEX(Odds!B:B,MATCH(J30,Odds!F:F,0)))","v":"1900-01-07"},2.25,"x",null,null,null,null,"Accrington",{"$f":"INDEX(Odds!G:G,MATCH(J30,Odds!F:F,0))","v":"5/4"},{"$f":"INDEX(Odds!H:H,MATCH(J30,Odds!F:F,0))","v":2.25},{"$f":"INDEX(Odds!I:I,MATCH(J30,Odds!F:F,0))","v":0},0,null,{"$f":"IF(Match!A30=\"\",\"\",Match!T30)","v":"Wigan 4-3 Accrington "},null,{"$f":"IF(Odds!F30=\"\",\"\",Odds!F30)","v":"Wigan"},{"$f":"INDEX(Odds!G:G,MATCH(R30,Odds!F:F,0))","v":"11/5"},1,{"$f":"INDEX(Match!O:O,MATCH(P30,Match!T:T,0))","v":"Wigan"},{"$f":"INDEX(Match!F:F,MATCH(P30,Match!T:T,0))","v":4},{"$f":"INDEX(Match!P:P,MATCH(P30,Match!T:T,0))","v":"Accrington"},{"$f":"INDEX(Match!G:G,MATCH(P30,Match!T:T,0))","v":3},null,null,null,{"$f":"IF(O30=\"\",\"\",INDEX(Odds!G:G,MATCH(O30,Odds!F:F,0)))","v":""},null,"John Evans",{"$f":"INDEX(Picks!F:F,MATCH(AD30,Picks!A:A,0))","v":-3.8},{"$f":"INDEX(Weekly!I:I,MATCH(AD30,Weekly!E:E,0))","v":1},{"$f":"IF(AE30=\"\",\"\",_xlfn.RANK.EQ(AE30,TopScores,0))","v":28},null,"Dave Bell",{"$f":"INDEX(Picks!G:G,MATCH(AI30,Picks!A:A,0))","v":45.333333333333343},{"$f":"INDEX(Weekly!I:I,MATCH(AI30,Weekly!E:E,0))","v":1},{"$f":"IF(AJ30=\"\",\"\",_xlfn.RANK.EQ(AJ30,TopMaxScores,0))","v":25}]
[{"$f":"A29","v":"Charlie Griffiths"},"Ipswich draw",{"$f":"IF(J31=\"\",\"\",INDEX(Odds!B:B,MATCH(J31,Odds!F:F,0)))","v":"1900-01-07"},3.25,"x",null,null,null,null,"Ipswich draw",{"$f":"INDEX(Odds!G:G,MATCH(J31,Odds!F:F,0))","v":"9/4"},{"$f":"INDEX(Odds!H:H,MATCH(J31,Odds!F:F,0))","v":3.25},{"$f":"INDEX(Odds!I:I,MATCH(J31,Odds!F:F,0))","v":0},0,null,{"$f":"IF(Match!A31=\"\",\"\",Match!T31)","v":"Carlisle 4-0 Stevenage "},null,{"$f":"IF(Odds!F31=\"\",\"\",Odds!F31)","v":"Carlisle"},{"$f":"INDEX(Odds!G:G,MATCH(R31,Odds!F:F,0))","v":"8/13"},1,{"$f":"INDEX(Match!O:O,MATCH(P31,Match!T:T,0))","v":"Carlisle"},{"$f":"INDEX(Match!F:F,MATCH(P31,Match!T:T,0))","v":4},{"$f":"INDEX(Match!P:P,MATCH(P31,Match!T:T,0))","v":"Stevenage"},{"$f":"INDEX(Match!G:G,MATCH(P31,Match!T:T,0))","v":0},null,null,null,{"$f":"IF(O31=\"\",\"\",INDEX(Odds!G:G,MATCH(O31,Odds!F:F,0)))","v":""},null,"Chris Townsend",{"$f":"INDEX(Picks!F:F,MATCH(AD31,Picks!A:A,0))","v":-3.9},{"$f":"INDEX(Weekly!I:I,MATCH(AD31,Weekly!E:E,0))","v":1},{"$f":"IF(AE31=\"\",\"\",_xlfn.RANK.EQ(AE31,TopScores,0))","v":30},null,"Kei Lok Ma",{"$f":"INDEX(Picks!G:G,MATCH(AI31,Picks!A:A,0))","v":44.40625},{"$f":"INDEX(Weekly!I:I,MATCH(AI31,Weekly!E:E,0))","v":2},{"$f":"IF(AJ31=\"\",\"\",_xlfn.RANK.EQ(AJ31,TopMaxScores,0))","v":26}]
[{"$f":"Results!B32","v":"Chris Bow"},"Everton",{"$f":"IF(J32=\"\",\"\",INDEX(Odds!B:B,MATCH(J32,Odds!F:F,0)))","v":"1900-01-07"},4.3333333333333339,"√",{"$f":"IF(J32=\"\",-10,INDEX(Results!T:T,MATCH(A32,Results!V:V,0)))","v":-2.6666666666666661},{"$f":"IF(J32=\"\",\"\",INDEX(Results!AI:AI,MATCH(A32,Results!V:V,0)))","v":60.2},{"$f":"IF(G32=\"\",0,1)","v":1},{"$f":"INDEX(Picks!AG:AG,MATCH(A32,Picks!AD:AD,0))","v":25},"Everton",{"$f":"INDEX(Odds!G:G,MATCH(J32,Odds!F:F,0))","v":"10/3"},{"$f":"INDEX(Odds!H:H,MATCH(J32,Odds!F:F,0))","v":4.3333333333333339},{"$f":"INDEX(Odds!I:I,MATCH(J32,Odds!F:F,0))","v":1},4.3333333333333339,null,{"$f":"IF(Match!A32=\"\",\"\",Match!T32)","v":"Crawley 4-2 Barrow "},null,{"$f":"IF(Odds!F32=\"\",\"\",Odds!F32)","v":"Crawley"},{"$f":"INDEX(Odds!G:G,MATCH(R32,Odds!F:F,0))","v":"29/20"},1,{"$f":"INDEX(Match!O:O,MATCH(P32,Match!T:T,0))","v":"Crawley"},{"$f":"INDEX(Match!F:F,MATCH(P32,Match!T:T,0))","v":4},{"$f":"INDEX(Match!P:P,MATCH(P32,Match!T:T,0))","v":"Barrow"},{"$f":"INDEX(Match!G:G,MATCH(P32,Match!T:T,0))","v":2},null,null,null,{"$f":"IF(O32=\"\",\"\",INDEX(Odds!G:G,MATCH(O32,Odds!F:F,0)))","v":""},null,"Rob England",{"$f":"INDEX(Picks!F:F,MATCH(AD32,Picks!A:A,0))","v":-3.9},{"$f":"INDEX(Weekly!I:I,MATCH(AD32,Weekly!E:E,0))","v":1},{"$f":"IF(AE32=\"\",\"\",_xlfn.RANK.EQ(AE32,TopScores,0))","v":30},null,"Mike Penk",{"$f":"INDEX(Picks!G:G,MATCH(AI32,Picks!A:A,0))","v":43.281999999999996},{"$f":"INDEX(Weekly!I:I,MATCH(AI32,Weekly!E:E,0))","v":1},{"$f":"IF(AJ32=\"\",\"\",_xlfn.RANK.EQ(AJ32,TopMaxScores,0))","v":27}]
[{"$f":"A32","v":"Chris Bow"},"Wolves",{"$f":"IF(J33=\"\",\"\",INDEX(Odds!B:B,MATCH(J33,Odds!F:F,0)))","v":"1900-01-07"},2.2999999999999998,"x",null,null,null,null,"Wolves",{"$f":"INDEX(Odds!G:G,MATCH(J33,Odds!F:F,0))","v":"13/10"},{"$f":"INDEX(Odds!H:H,MATCH(J33,Odds!F:F,0))","v":2.2999999999999998},{"$f":"INDEX(Odds!I:I,MATCH(J33,Odds!F:F,0))","v":0},0,null,{"$f":"IF(Match!A33=\"\",\"\",Match!T33)","v":"Exeter 5-0 Tranmere "},null,{"$f":"IF(Odds!F33=\"\",\"\",Odds!F33)","v":"Exeter"},{"$f":"INDEX(Odds!G:G,MATCH(R33,Odds!F:F,0))","v":"10/11"},1,{"$f":"INDEX(Match!O:O,MATCH(P33,Match!T:T,0))","v":"Exeter"},{"$f":"INDEX(Match!F:F,MATCH(P33,Match!T:T,0))","v":5},{"$f":"INDEX(Match!P:P,MATCH(P33,Match!T:T,0))","v":"Tranmere"},{"$f":"INDEX(Match!G:G,MATCH(P33,Match!T:T,0))","v":0},null,null,null,{"$f":"IF(O33=\"\",\"\",INDEX(Odds!G:G,MATCH(O33,Odds!F:F,0)))","v":""},null,"Pete Baron",{"$f":"INDEX(Picks!F:F,MATCH(AD33,Picks!A:A,0))","v":-4},{"$f":"INDEX(Weekly!I:I,MATCH(AD33,Weekly!E:E,0))","v":1},{"$f":"IF(AE33=\"\",\"\",_xlfn.RANK.EQ(AE33,TopScores,0))","v":32},null,"Simon Greenhalgh",{"$f":"INDEX(Picks!G:G,MATCH(AI33,Picks!A:A,0))","v":38.800000000000004},{"$f":"INDEX(Weekly!I:I,MATCH(AI33,Weekly!E:E,0))","v":1},{"$f":"IF(AJ33=\"\",\"\",_xlfn.RANK.EQ(AJ33,TopMaxScores,0))","v":28}]
[{"$f":"A32","v":"Chris Bow"},"Derby",{"$f":"IF(J34=\"\",\"\",INDEX(Odds!B:B,MATCH(J34,Odds!F:F,0)))","v":"1900-01-07"},2.875,"x",null,null,null,null,"Derby",{"$f":"INDEX(Odds!G:G,MATCH(J34,Odds!F:F,0))","v":"15/8"},{"$f":"INDEX(Odds!H:H,MATCH(J34,Odds!F:F,0))","v":2.875},{"$f":"INDEX(Odds!I:I,MATCH(J34,Odds!F:F,0))","v":0},0,null,{"$f":"IF(Match!A34=\"\",\"\",Match!T34)","v":"Forest Green 2-0 Cambridge "},null,{"$f":"IF(Odds!F34=\"\",\"\",Odds!F34)","v":"Forest Green"},{"$f":"INDEX(Odds!G:G,MATCH(R34,Odds!F:F,0))","v":"21/20"},1,{"$f":"INDEX(Match!O:O,MATCH(P34,Match!T:T,0))","v":"Forest Green"},{"$f":"INDEX(Match!F:F,MATCH(P34,Match!T:T,0))","v":2},{"$f":"INDEX(Match!P:P,MATCH(P34,Match!T:T,0))","v":"Cambridge"},{"$f":"INDEX(Match!G:G,MATCH(P34,Match!T:T,0))","v":0},null,null,null,{"$f":"IF(O34=\"\",\"\",INDEX(Odds!G:G,MATCH(O34,Odds!F:F,0)))","v":""},null,"Sally Williams",{"$f":"INDEX(Picks!F:F,MATCH(AD34,Picks!A:A,0))","v":-4},{"$f":"INDEX(Weekly!I:I,MATCH(AD34,Weekly!E:E,0))","v":1},{"$f":"IF(AE34=\"\",\"\",_xlfn.RANK.EQ(AE34,TopScores,0))","v":32},null,"Jack Walsh",{"$f":"INDEX(Picks!G:G,MATCH(AI34,Picks!A:A,0))","v":38.64},{"$f":"INDEX(Weekly!I:I,MATCH(AI34,Weekly!E:E,0))","v":1},{"$f":"IF(AJ34=\"\",\"\",_xlfn.RANK.EQ(AJ34,TopMaxScores,0))","v":29}]
[{"$f":"Results!B35","v":"Chris Griffin"},"Newcastle",{"$f":"IF(J35=\"\",\"\",INDEX(Odds!B:B,MATCH(J35,Odds!F:F,0)))","v":"1900-01-07"},2.25,"√",{"$f":"IF(J35=\"\",-10,INDEX(Results!T:T,MATCH(A35,Results!V:V,0)))","v":1.75},{"$f":"IF(J35=\"\",\"\",INDEX(Results!AI:AI,MATCH(A35,Results!V:V,0)))","v":24.174999999999997},{"$f":"IF(G35=\"\",0,1)","v":1},{"$f":"INDEX(Picks!AG:AG,MATCH(A35,Picks!AD:AD,0))","v":12},"Newcastle",{"$f":"INDEX(Odds!G:G,MATCH(J35,Odds!F:F,0))","v":"5/4"},{"$f":"INDEX(Odds!H:H,MATCH(J35,Odds!F:F,0))","v":2.25},{"$f":"INDEX(Odds!I:I,MATCH(J35,Odds!F:F,0))","v":1},2.25,null,{"$f":"IF(Match!A35=\"\",\"\",Match!T35)","v":"Grimsby 1-1 Mansfield "},null,{"$f":"IF(Odds!F35=\"\",\"\",Odds!F35)","v":"Grimsby"},{"$f":"INDEX(Odds!G:G,MATCH(R35,Odds!F:F,0))","v":"21/10"},0,{"$f":"INDEX(Match!O:O,MATCH(P35,Match!T:T,0))","v":"Grimsby"},{"$f":"INDEX(Match!F:F,MATCH(P35,Match!T:T,0))","v":1},{"$f":"INDEX(Match!P:P,MATCH(P35,Match!T:T,0))","v":"Mansfield"},{"$f":"INDEX(Match!G:G,MATCH(P35,Match!T:T,0))","v":1},null,null,null,{"$f":"IF(O35=\"\",\"\",INDEX(Odds!G:G,MATCH(O35,Odds!F:F,0)))","v":""},null,"Paul Adderley",{"$f":"INDEX(Picks!F:F,MATCH(AD35,Picks!A:A,0))","v":-4.25},{"$f":"INDEX(Weekly!I:I,MATCH(AD35,Weekly!E:E,0))","v":1},{"$f":"IF(AE35=\"\",\"\",_xlfn.RANK.EQ(AE35,TopScores,0))","v":34},null,"Mark Bunn",{"$f":"INDEX(Picks!G:G,MATCH(AI35,Picks!A:A,0))","v":38.620000000000005},{"$f":"INDEX(Weekly!I:I,MATCH(AI35,Weekly!E:E,0))","v":1},{"$f":"IF(AJ35=\"\",\"\",_xlfn.RANK.EQ(AJ35,TopMaxScores,0))","v":30}]
[{"$f":"A35","v":"Chris Griffin"},"Wolves",{"$f":"IF(J36=\"\",\"\",INDEX(Odds!B:B,MATCH(J36,Odds!F:F,0)))","v":"1900-01-07"},2.2999999999999998,"x",null,null,null,null,"Wolves",{"$f":"INDEX(Odds!G:G,MATCH(J36,Odds!F:F,0))","v":"13/10"},{"$f":"INDEX(Odds!H:H,MATCH(J36,Odds!F:F,0))","v":2.2999999999999998},{"$f":"INDEX(Odds!I:I,MATCH(J36,Odds!F:F,0))","v":0},0,null,{"$f":"IF(Match!A36=\"\",\"\",Match!T36)","v":"Morecambe 1-0 Harrogate "},null,{"$f":"IF(Odds!F36=\"\",\"\",Odds!F36)","v":"Morecambe"},{"$f":"INDEX(Odds!G:G,MATCH(R36,Odds!F:F,0))","v":"8/5"},1,{"$f":"INDEX(Match!O:O,MATCH(P36,Match!T:T,0))","v":"Morecambe"},{"$f":"INDEX(Match!F:F,MATCH(P36,Match!T:T,0))","v":1},{"$f":"INDEX(Match!P:P,MATCH(P36,Match!T:T,0))","v":"Harrogate"},{"$f":"INDEX(Match!G:G,MATCH(P36,Match!T:T,0))","v":0},null,null,null,{"$f":"IF(O36=\"\",\"\",INDEX(Odds!G:G,MATCH(O36,Odds!F:F,0)))","v":""},null,"Mark Bunn",{"$f":"INDEX(Picks!F:F,MATCH(AD36,Picks!A:A,0))","v":-4.3},{"$f":"INDEX(Weekly!I:I,MATCH(AD36,Weekly!E:E,0))","v":1},{"$f":"IF(AE36=\"\",\"\",_xlfn.RANK.EQ(AE36,TopScores,0))","v":35},null,"Charlie Griffiths",{"$f":"INDEX(Picks!G:G,MATCH(AI36,Picks!A:A,0))","v":37.581249999999997},{"$f":"INDEX(Weekly!I:I,MATCH(AI36,Weekly!E:E,0))","v":0},{"$f":"IF(AJ36=\"\",\"\",_xlfn.RANK.EQ(AJ36,TopMaxScores,0))","v":31}]
[{"$f":"A35","v":"Chris Griffin"},"Leicester",{"$f":"IF(J37=\"\",\"\",INDEX(Odds!B:B,MATCH(J37,Odds!F:F,0)))","v":"1900-01-01"},2,"√",null,null,null,null,"Leicester",{"$f":"INDEX(Odds!G:G,MATCH(J37,Odds!F:F,0))","v":"1/1"},{"$f":"INDEX(Odds!H:H,MATCH(J37,Odds!F:F,0))","v":2},{"$f":"INDEX(Odds!I:I,MATCH(J37,Odds!F:F,0))","v":1},2,null,{"$f":"IF(Match!A37=\"\",\"\",Match!T37)","v":"Oldham 3-1 Bradford "},null,{"$f":"IF(Odds!F37=\"\",\"\",Odds!F37)","v":"Oldham"},{"$f":"INDEX(Odds!G:G,MATCH(R37,Odds!F:F,0))","v":"7/5"},1,{"$f":"INDEX(Match!O:O,MATCH(P37,Match!T:T,0))","v":"Oldham"},{"$f":"INDEX(Match!F:F,MATCH(P37,Match!T:T,0))","v":3},{"$f":"INDEX(Match!P:P,MATCH(P37,Match!T:T,0))","v":"Bradford"},{"$f":"INDEX(Match!G:G,MATCH(P37,Match!T:T,0))","v":1},null,null,null,{"$f":"IF(O37=\"\",\"\",INDEX(Odds!G:G,MATCH(O37,Odds!F:F,0)))","v":""},null,"Gareth Powell",{"$f":"INDEX(Picks!F:F,MATCH(AD37,Picks!A:A,0))","v":-4.3},{"$f":"INDEX(Weekly!I:I,MATCH(AD37,Weekly!E:E,0))","v":1},{"$f":"IF(AE37=\"\",\"\",_xlfn.RANK.EQ(AE37,TopScores,0))","v":35},null,"Tom Robinson",{"$f":"INDEX(Picks!G:G,MATCH(AI37,Picks!A:A,0))","v":34.335999999999999},{"$f":"INDEX(Weekly!I:I,MATCH(AI37,Weekly!E:E,0))","v":1},{"$f":"IF(AJ37=\"\",\"\",_xlfn.RANK.EQ(AJ37,TopMaxScores,0))","v":32}]
[{"$f":"Results!B38","v":"Chris Luck"},"Newcastle",{"$f":"IF(J38=\"\",\"\",INDEX(Odds!B:B,MATCH(J38,Odds!F:F,0)))","v":"1900-01-07"},2.25,"√",{"$f":"IF(J38=\"\",-10,INDEX(Results!T:T,MATCH(A38,Results!V:V,0)))","v":-4.75},{"$f":"IF(J38=\"\",\"\",INDEX(Results!AI:AI,MATCH(A38,Results!V:V,0)))","v":29.537500000000001},{"$f":"IF(G38=\"\",0,1)","v":1},{"$f":"INDEX(Picks!AG:AG,MATCH(A38,Picks!AD:AD,0))","v":37},"Newcastle",{"$f":"INDEX(Odds!G:G,MATCH(J38,Odds!F:F,0))","v":"5/4"},{"$f":"INDEX(Odds!H:H,MATCH(J38,Odds!F:F,0))","v":2.25},{"$f":"INDEX(Odds!I:I,MATCH(J38,Odds!F:F,0))","v":1},2.25,null,{"$f":"IF(Match!A38=\"\",\"\",Match!T38)","v":"Orient 2-1 Newport "},null,{"$f":"IF(Odds!F38=\"\",\"\",Odds!F38)","v":"Orient"},{"$f":"INDEX(Odds!G:G,MATCH(R38,Odds!F:F,0))","v":"2/1"},1,{"$f":"INDEX(Match!O:O,MATCH(P38,Match!T:T,0))","v":"Orient"},{"$f":"INDEX(Match!F:F,MATCH(P38,Match!T:T,0))","v":2},{"$f":"INDEX(Match!P:P,MATCH(P38,Match!T:T,0))","v":"Newport"},{"$f":"INDEX(Match!G:G,MATCH(P38,Match!T:T,0))","v":1},null,null,null,{"$f":"IF(O38=\"\",\"\",INDEX(Odds!G:G,MATCH(O38,Odds!F:F,0)))","v":""},null,"Chris Luck",{"$f":"INDEX(Picks!F:F,MATCH(AD38,Picks!A:A,0))","v":-4.75},{"$f":"INDEX(Weekly!I:I,MATCH(AD38,Weekly!E:E,0))","v":1},{"$f":"IF(AE38=\"\",\"\",_xlfn.RANK.EQ(AE38,TopScores,0))","v":37},null,"Vinny Topping",{"$f":"INDEX(Picks!G:G,MATCH(AI38,Picks!A:A,0))","v":33.973750000000003},{"$f":"INDEX(Weekly!I:I,MATCH(AI38,Weekly!E:E,0))","v":2},{"$f":"IF(AJ38=\"\",\"\",_xlfn.RANK.EQ(AJ38,TopMaxScores,0))","v":33}]
[{"$f":"A38","v":"Chris Luck"},"Wolves",{"$f":"IF(J39=\"\",\"\",INDEX(Odds!B:B,MATCH(J39,Odds!F:F,0)))","v":"1900-01-07"},2.2999999999999998,"x",null,null,null,null,"Wolves",{"$f":"INDEX(Odds!G:G,MATCH(J39,Odds!F:F,0))","v":"13/10"},{"$f":"INDEX(Odds!H:H,MATCH(J39,Odds!F:F,0))","v":2.2999999999999998},{"$f":"INDEX(Odds!I:I,MATCH(J39,Odds!F:F,0))","v":0},0,null,{"$f":"IF(Match!A39=\"\",\"\",Match!T39)","v":"Port Vale 1-1 Colchester "},null,{"$f":"IF(Odds!F39=\"\",\"\",Odds!F39)","v":"Port Vale"},{"$f":"INDEX(Odds!G:G,MATCH(R39,Odds!F:F,0))","v":"23/20"},0,{"$f":"INDEX(Match!O:O,MATCH(P39,Match!T:T,0))","v":"Port Vale"},{"$f":"INDEX(Match!F:F,MATCH(P39,Match!T:T,0))","v":1},{"$f":"INDEX(Match!P:P,MATCH(P39,Match!T:T,0))","v":"Colchester"},{"$f":"INDEX(Match!G:G,MATCH(P39,Match!T:T,0))","v":1},null,null,null,{"$f":"IF(O39=\"\",\"\",INDEX(Odds!G:G,MATCH(O39,Odds!F:F,0)))","v":""},null,"Tom Robinson",{"$f":"INDEX(Picks!F:F,MATCH(AD39,Picks!A:A,0))","v":-4.8499999999999996},{"$f":"INDEX(Weekly!I:I,MATCH(AD39,Weekly!E:E,0))","v":1},{"$f":"IF(AE39=\"\",\"\",_xlfn.RANK.EQ(AE39,TopScores,0))","v":38},null,"David Dunn",{"$f":"INDEX(Picks!G:G,MATCH(AI39,Picks!A:A,0))","v":32.634999999999991},{"$f":"INDEX(Weekly!I:I,MATCH(AI39,Weekly!E:E,0))","v":2},{"$f":"IF(AJ39=\"\",\"\",_xlfn.RANK.EQ(AJ39,TopMaxScores,0))","v":34}]
[{"$f":"A38","v":"Chris Luck"},"Blackburn",{"$f":"IF(J40=\"\",\"\",INDEX(Odds!B:B,MATCH(J40,Odds!F:F,0)))","v":"1900-01-07"},2.5,"x",null,null,null,null,"Blackburn",{"$f":"INDEX(Odds!G:G,MATCH(J40,Odds!F:F,0))","v":"6/4"},{"$f":"INDEX(Odds!H:H,MATCH(J40,Odds!F:F,0))","v":2.5},{"$f":"INDEX(Odds!I:I,MATCH(J40,Odds!F:F,0))","v":0},0,null,{"$f":"IF(Match!A40=\"\",\"\",Match!T40)","v":"Salford 0-0 Cheltenham "},null,{"$f":"IF(Odds!F40=\"\",\"\",Odds!F40)","v":"Salford"},{"$f":"INDEX(Odds!G:G,MATCH(R40,Odds!F:F,0))","v":"13/8"},0,{"$f":"INDEX(Match!O:O,MATCH(P40,Match!T:T,0))","v":"Salford"},{"$f":"INDEX(Match!F:F,MATCH(P40,Match!T:T,0))","v":0},{"$f":"INDEX(Match!P:P,MATCH(P40,Match!T:T,0))","v":"Cheltenham"},{"$f":"INDEX(Match!G:G,MATCH(P40,Match!T:T,0))","v":0},null,null,null,{"$f":"IF(O40=\"\",\"\",INDEX(Odds!G:G,MATCH(O40,Odds!F:F,0)))","v":""},null,"Mike Penk",{"$f":"INDEX(Picks!F:F,MATCH(AD40,Picks!A:A,0))","v":-4.8499999999999996},{"$f":"INDEX(Weekly!I:I,MATCH(AD40,Weekly!E:E,0))","v":1},{"$f":"IF(AE40=\"\",\"\",_xlfn.RANK.EQ(AE40,TopScores,0))","v":38},null,"Chris Luck",{"$f":"INDEX(Picks!G:G,MATCH(AI40,Picks!A:A,0))","v":29.537500000000001},{"$f":"INDEX(Weekly!I:I,MATCH(AI40,Weekly!E:E,0))","v":1},{"$f":"IF(AJ40=\"\",\"\",_xlfn.RANK.EQ(AJ40,TopMaxScores,0))","v":35}]
[{"$f":"Results!B41","v":"Chris Townsend"},"Barnsley",{"$f":"IF(J41=\"\",\"\",INDEX(Odds!B:B,MATCH(J41,Odds!F:F,0)))","v":"1900-01-07"},3.1,"√",{"$f":"IF(J41=\"\",-10,INDEX(Results!T:T,MATCH(A41,Results!V:V,0)))","v":-3.9},{"$f":"IF(J41=\"\",\"\",INDEX(Results!AI:AI,MATCH(A41,Results!V:V,0)))","v":88.657499999999999},{"$f":"IF(G41=\"\",0,1)","v":1},{"$f":"INDEX(Picks!AG:AG,MATCH(A41,Picks!AD:AD,0))","v":30},"Barnsley",{"$f":"INDEX(Odds!G:G,MATCH(J41,Odds!F:F,0))","v":"21/10"},{"$f":"INDEX(Odds!H:H,MATCH(J41,Odds!F:F,0))","v":3.1},{"$f":"INDEX(Odds!I:I,MATCH(J41,Odds!F:F,0))","v":1},3.1,null,{"$f":"IF(Match!A41=\"\",\"\",Match!T41)","v":"Southend 1-0 Scunthorpe "},null,{"$f":"IF(Odds!F41=\"\",\"\",Odds!F41)","v":"Southend"},{"$f":"INDEX(Odds!G:G,MATCH(R41,Odds!F:F,0))","v":"9/4"},1,{"$f":"INDEX(Match!O:O,MATCH(P41,Match!T:T,0))","v":"Southend"},{"$f":"INDEX(Match!F:F,MATCH(P41,Match!T:T,0))","v":1},{"$f":"INDEX(Match!P:P,MATCH(P41,Match!T:T,0))","v":"Scunthorpe"},{"$f":"INDEX(Match!G:G,MATCH(P41,Match!T:T,0))","v":0},null,null,null,{"$f":"IF(O41=\"\",\"\",INDEX(Odds!G:G,MATCH(O41,Odds!F:F,0)))","v":""},null,"Nick Blocksidge",{"$f":"INDEX(Picks!F:F,MATCH(AD41,Picks!A:A,0))","v":-5},{"$f":"INDEX(Weekly!I:I,MATCH(AD41,Weekly!E:E,0))","v":1},{"$f":"IF(AE41=\"\",\"\",_xlfn.RANK.EQ(AE41,TopScores,0))","v":40},null,"Martin Molyneux",{"$f":"INDEX(Picks!G:G,MATCH(AI41,Picks!A:A,0))","v":29.190082644628099},{"$f":"INDEX(Weekly!I:I,MATCH(AI41,Weekly!E:E,0))","v":2},{"$f":"IF(AJ41=\"\",\"\",_xlfn.RANK.EQ(AJ41,TopMaxScores,0))","v":36}]
[{"$f":"A41","v":"Chris Townsend"},"Ipswich",{"$f":"IF(J42=\"\",\"\",INDEX(Odds!B:B,MATCH(J42,Odds!F:F,0)))","v":"1900-01-07"},3.1,"x",null,null,null,null,"Ipswich",{"$f":"INDEX(Odds!G:G,MATCH(J42,Odds!F:F,0))","v":"21/10"},{"$f":"INDEX(Odds!H:H,MATCH(J42,Odds!F:F,0))","v":3.1},{"$f":"INDEX(Odds!I:I,MATCH(J42,Odds!F:F,0))","v":0},0,null,{"$f":"IF(Match!A42=\"\",\"\",Match!T42)","v":"Walsall 2-1 Bolton "},null,{"$f":"IF(Odds!F42=\"\",\"\",Odds!F42)","v":"Walsall"},{"$f":"INDEX(Odds!G:G,MATCH(R42,Odds!F:F,0))","v":"5/4"},1,{"$f":"INDEX(Match!O:O,MATCH(P42,Match!T:T,0))","v":"Walsall"},{"$f":"INDEX(Match!F:F,MATCH(P42,Match!T:T,0))","v":2},{"$f":"INDEX(Match!P:P,MATCH(P42,Match!T:T,0))","v":"Bolton"},{"$f":"INDEX(Match!G:G,MATCH(P42,Match!T:T,0))","v":1},null,null,null,{"$f":"IF(O42=\"\",\"\",INDEX(Odds!G:G,MATCH(O42,Odds!F:F,0)))","v":""},null,"Paul Fiddler",{"$f":"INDEX(Picks!F:F,MATCH(AD42,Picks!A:A,0))","v":-5.05},{"$f":"INDEX(Weekly!I:I,MATCH(AD42,Weekly!E:E,0))","v":1},{"$f":"IF(AE42=\"\",\"\",_xlfn.RANK.EQ(AE42,TopScores,0))","v":41},null,"Gareth Powell",{"$f":"INDEX(Picks!G:G,MATCH(AI42,Picks!A:A,0))","v":28.884375000000006},{"$f":"INDEX(Weekly!I:I,MATCH(AI42,Weekly!E:E,0))","v":1},{"$f":"IF(AJ42=\"\",\"\",_xlfn.RANK.EQ(AJ42,TopMaxScores,0))","v":37}]
[{"$f":"A41","v":"Chris Townsend"},"Northampton",{"$f":"IF(J43=\"\",\"\",INDEX(Odds!B:B,MATCH(J43,Odds!F:F,0)))","v":"1900-01-07"},4.75,"x",null,null,null,null,"Northampton",{"$f":"INDEX(Odds!G:G,MATCH(J43,Odds!F:F,0))","v":"15/4"},{"$f":"INDEX(Odds!H:H,MATCH(J43,Odds!F:F,0))","v":4.75},{"$f":"INDEX(Odds!I:I,MATCH(J43,Odds!F:F,0))","v":0},0,null,{"$f":"IF(Match!A43=\"\",\"\",Match!T43)","v":"Arsenal 0-1 Burnley "},null,{"$f":"IF(Odds!F43=\"\",\"\",Odds!F43)","v":"Arsenal"},{"$f":"INDEX(Odds!G:G,MATCH(R43,Odds!F:F,0))","v":"11/20"},0,{"$f":"INDEX(Match!O:O,MATCH(P43,Match!T:T,0))","v":"Arsenal"},{"$f":"INDEX(Match!F:F,MATCH(P43,Match!T:T,0))","v":0},{"$f":"INDEX(Match!P:P,MATCH(P43,Match!T:T,0))","v":"Burnley"},{"$f":"INDEX(Match!G:G,MATCH(P43,Match!T:T,0))","v":1},null,null,null,{"$f":"IF(O43=\"\",\"\",INDEX(Odds!G:G,MATCH(O43,Odds!F:F,0)))","v":""},null,"Oscar Jackson",{"$f":"INDEX(Picks!F:F,MATCH(AD43,Picks!A:A,0))","v":-5.0909090909090908},{"$f":"INDEX(Weekly!I:I,MATCH(AD43,Weekly!E:E,0))","v":1},{"$f":"IF(AE43=\"\",\"\",_xlfn.RANK.EQ(AE43,TopScores,0))","v":42},null,"Dave Orrell",{"$f":"INDEX(Picks!G:G,MATCH(AI43,Picks!A:A,0))","v":27.776499999999999},{"$f":"INDEX(Weekly!I:I,MATCH(AI43,Weekly!E:E,0))","v":3},{"$f":"IF(AJ43=\"\",\"\",_xlfn.RANK.EQ(AJ43,TopMaxScores,0))","v":38}]
[{"$f":"Results!B44","v":"Dan Baxter"},"",{"$f":"IF(J44=\"\",\"\",INDEX(Odds!B:B,MATCH(J44,Odds!F:F,0)))","v":""},"","",{"$f":"IF(J44=\"\",-10,INDEX(Results!T:T,MATCH(A44,Results!V:V,0)))","v":-10},{"$f":"IF(J44=\"\",\"\",INDEX(Results!AI:AI,MATCH(A44,Results!V:V,0)))","v":""},{"$f":"IF(G44=\"\",0,1)","v":0},{"$f":"INDEX(Picks!AG:AG,MATCH(A44,Picks!AD:AD,0))","v":59},null,{"$f":"INDEX(Odds!G:G,MATCH(J44,Odds!F:F,0))","v":{"$error":"#N/A"}},{"$f":"INDEX(Odds!H:H,MATCH(J44,Odds!F:F,0))","v":{"$error":"#N/A"}},{"$f":"INDEX(Odds!I:I,MATCH(J44,Odds!F:F,0))","v":{"$error":"#N/A"}},{"$error":"#N/A"},null,{"$f":"IF(Match!A44=\"\",\"\",Match!T44)","v":"Fulham 1-1 Liverpool "},null,{"$f":"IF(Odds!F44=\"\",\"\",Odds!F44)","v":"Fulham"},{"$f":"INDEX(Odds!G:G,MATCH(R44,Odds!F:F,0))","v":"8/1"},0,{"$f":"INDEX(Match!O:O,MATCH(P44,Match!T:T,0))","v":"Fulham"},{"$f":"INDEX(Match!F:F,MATCH(P44,Match!T:T,0))","v":1},{"$f":"INDEX(Match!P:P,MATCH(P44,Match!T:T,0))","v":"Liverpool"},{"$f":"INDEX(Match!G:G,MATCH(P44,Match!T:T,0))","v":1},null,null,null,{"$f":"IF(O44=\"\",\"\",INDEX(Odds!G:G,MATCH(O44,Odds!F:F,0)))","v":""},null,"Martin Tarbuck",{"$f":"INDEX(Picks!F:F,MATCH(AD44,Picks!A:A,0))","v":-5.35},{"$f":"INDEX(Weekly!I:I,MATCH(AD44,Weekly!E:E,0))","v":1},{"$f":"IF(AE44=\"\",\"\",_xlfn.RANK.EQ(AE44,TopScores,0))","v":43},null,"Martin Tarbuck",{"$f":"INDEX(Picks!G:G,MATCH(AI44,Picks!A:A,0))","v":25.230999999999995},{"$f":"INDEX(Weekly!I:I,MATCH(AI44,Weekly!E:E,0))","v":1},{"$f":"IF(AJ44=\"\",\"\",_xlfn.RANK.EQ(AJ44,TopMaxScores,0))","v":39}]
[{"$f":"A44","v":"Dan Baxter"},"",{"$f":"IF(J45=\"\",\"\",INDEX(Odds!B:B,MATCH(J45,Odds!F:F,0)))","v":""},"","",null,null,null,null,null,{"$f":"INDEX(Odds!G:G,MATCH(J45,Odds!F:F,0))","v":{"$error":"#N/A"}},{"$f":"INDEX(Odds!H:H,MATCH(J45,Odds!F:F,0))","v":{"$error":"#N/A"}},{"$f":"INDEX(Odds!I:I,MATCH(J45,Odds!F:F,0))","v":{"$error":"#N/A"}},{"$error":"#N/A"},null,{"$f":"IF(Match!A45=\"\",\"\",Match!T45)","v":"Leicester 3-0 Brighton "},null,{"$f":"IF(Odds!F45=\"\",\"\",Odds!F45)","v":"Leicester"},{"$f":"INDEX(Odds!G:G,MATCH(R45,Odds!F:F,0))","v":"1/1"},1,{"$f":"INDEX(Match!O:O,MATCH(P45,Match!T:T,0))","v":"Leicester"},{"$f":"INDEX(Match!F:F,MATCH(P45,Match!T:T,0))","v":3},{"$f":"INDEX(Match!P:P,MATCH(P45,Match!T:T,0))","v":"Brighton"},{"$f":"INDEX(Match!G:G,MATCH(P45,Match!T:T,0))","v":0},null,null,null,{"$f":"IF(O45=\"\",\"\",INDEX(Odds!G:G,MATCH(O45,Odds!F:F,0)))","v":""},null,"Jack Walsh",{"$f":"INDEX(Picks!F:F,MATCH(AD45,Picks!A:A,0))","v":-5.35},{"$f":"INDEX(Weekly!I:I,MATCH(AD45,Weekly!E:E,0))","v":1},{"$f":"IF(AE45=\"\",\"\",_xlfn.RANK.EQ(AE45,TopScores,0))","v":43},null,"Andy White",{"$f":"INDEX(Picks!G:G,MATCH(AI45,Picks!A:A,0))","v":24.175000000000004},{"$f":"INDEX(Weekly!I:I,MATCH(AI45,Weekly!E:E,0))","v":2},{"$f":"IF(AJ45=\"\",\"\",_xlfn.RANK.EQ(AJ45,TopMaxScores,0))","v":40}]
[{"$f":"A44","v":"Dan Baxter"},"",{"$f":"IF(J46=\"\",\"\",INDEX(Odds!B:B,MATCH(J46,Odds!F:F,0)))","v":""},"","",null,null,null,null,null,{"$f":"INDEX(Odds!G:G,MATCH(J46,Odds!F:F,0))","v":{"$error":"#N/A"}},{"$f":"INDEX(Odds!H:H,MATCH(J46,Odds!F:F,0))","v":{"$error":"#N/A"}},{"$f":"INDEX(Odds!I:I,MATCH(J46,Odds!F:F,0))","v":{"$error":"#N/A"}},{"$error":"#N/A"},null,{"$f":"IF(Match!A46=\"\",\"\",Match!T46)","v":"Palace 1-1 Spurs "},null,{"$f":"IF(Odds!F46=\"\",\"\",Odds!F46)","v":"Palace"},{"$f":"INDEX(Odds!G:G,MATCH(R46,Odds!F:F,0))","v":"19/5"},0,{"$f":"INDEX(Match!O:O,MATCH(P46,Match!T:T,0))","v":"Palace"},{"$f":"INDEX(Match!F:F,MATCH(P46,Match!T:T,0))","v":1},{"$f":"INDEX(Match!P:P,MATCH(P46,Match!T:T,0))","v":"Spurs"},{"$f":"INDEX(Match!G:G,MATCH(P46,Match!T:T,0))","v":1},null,null,null,{"$f":"IF(O46=\"\",\"\",INDEX(Odds!G:G,MATCH(O46,Odds!F:F,0)))","v":""},null,"Mo Sudell",{"$f":"INDEX(Picks!F:F,MATCH(AD46,Picks!A:A,0))","v":-5.384615384615385},{"$f":"INDEX(Weekly!I:I,MATCH(AD46,Weekly!E:E,0))","v":1},{"$f":"IF(AE46=\"\",\"\",_xlfn.RANK.EQ(AE46,TopScores,0))","v":45},null,"Steve Carter",{"$f":"INDEX(Picks!G:G,MATCH(AI46,Picks!A:A,0))","v":24.174999999999997},{"$f":"INDEX(Weekly!I:I,MATCH(AI46,Weekly!E:E,0))","v":2},{"$f":"IF(AJ46=\"\",\"\",_xlfn.RANK.EQ(AJ46,TopMaxScores,0))","v":41}]
[{"$f":"Results!B47","v":"Dave Bell"},"Sheff U",{"$f":"IF(J47=\"\",\"\",INDEX(Odds!B:B,MATCH(J47,Odds!F:F,0)))","v":"1900-01-01"},5,"x",{"$f":"IF(J47=\"\",-10,INDEX(Results!T:T,MATCH(A47,Results!V:V,0)))","v":1.3333333333333339},{"$f":"IF(J47=\"\",\"\",INDEX(Results!AI:AI,MATCH(A47,Results!V:V,0)))","v":45.333333333333343},{"$f":"IF(G47=\"\",0,1)","v":1},{"$f":"INDEX(Picks!AG:AG,MATCH(A47,Picks!AD:AD,0))","v":17},"Sheff U",{"$f":"INDEX(Odds!G:G,MATCH(J47,Odds!F:F,0))","v":"4/1"},{"$f":"INDEX(Odds!H:H,MATCH(J47,Odds!F:F,0))","v":5},{"$f":"INDEX(Odds!I:I,MATCH(J47,Odds!F:F,0))","v":0},0,null,{"$f":"IF(Match!A47=\"\",\"\",Match!T47)","v":"Southampton 3-0 Sheff U"},null,{"$f":"IF(Odds!F47=\"\",\"\",Odds!F47)","v":"Southampton"},{"$f":"INDEX(Odds!G:G,MATCH(R47,Odds!F:F,0))","v":"8/11"},{"$f":"IF(V47>X47,1,0)","v":1},{"$f":"INDEX(Match!O:O,MATCH(P47,Match!T:T,0))","v":"Southampton"},{"$f":"INDEX(Match!F:F,MATCH(P47,Match!T:T,0))","v":3},{"$f":"INDEX(Match!P:P,MATCH(P47,Match!T:T,0))","v":"Sheff U"},{"$f":"INDEX(Match!G:G,MATCH(P47,Match!T:T,0))","v":0},null,null,null,{"$f":"IF(O47=\"\",\"\",INDEX(Odds!G:G,MATCH(O47,Odds!F:F,0)))","v":""},null,"Mal Stott",{"$f":"INDEX(Picks!F:F,MATCH(AD47,Picks!A:A,0))","v":-7},{"$f":"INDEX(Weekly!I:I,MATCH(AD47,Weekly!E:E,0))","v":0},{"$f":"IF(AE47=\"\",\"\",_xlfn.RANK.EQ(AE47,TopScores,0))","v":46},null,"Chris Griffin",{"$f":"INDEX(Picks!G:G,MATCH(AI47,Picks!A:A,0))","v":24.174999999999997},{"$f":"INDEX(Weekly!I:I,MATCH(AI47,Weekly!E:E,0))","v":2},{"$f":"IF(AJ47=\"\",\"\",_xlfn.RANK.EQ(AJ47,TopMaxScores,0))","v":41}]
[{"$f":"A47","v":"Dave Bell"},"Fulham",{"$f":"IF(J48=\"\",\"\",INDEX(Odds!B:B,MATCH(J48,Odds!F:F,0)))","v":"1900-01-01"},9,"x",null,null,null,null,"Fulham",{"$f":"INDEX(Odds!G:G,MATCH(J48,Odds!F:F,0))","v":"8/1"},{"$f":"INDEX(Odds!H:H,MATCH(J48,Odds!F:F,0))","v":9},{"$f":"INDEX(Odds!I:I,MATCH(J48,Odds!F:F,0))","v":0},0,null,null,null,{"$f":"IF(Odds!F48=\"\",\"\",Odds!F48)","v":"Leeds draw"},{"$f":"INDEX(Odds!G:G,MATCH(R48,Odds!F:F,0))","v":"27/10"},{"$f":"IF(V2=X2,1,0)","v":0},null,null,null,null,null,null,null,{"$f":"IF(O48=\"\",\"\",INDEX(Odds!G:G,MATCH(O48,Odds!F:F,0)))","v":""},null,"Steve Baxter",{"$f":"INDEX(Picks!F:F,MATCH(AD48,Picks!A:A,0))","v":-7},{"$f":"INDEX(Weekly!I:I,MATCH(AD48,Weekly!E:E,0))","v":0},{"$f":"IF(AE48=\"\",\"\",_xlfn.RANK.EQ(AE48,TopScores,0))","v":46},null,"Stephen Troop",{"$f":"INDEX(Picks!G:G,MATCH(AI48,Picks!A:A,0))","v":23.418181818181825},{"$f":"INDEX(Weekly!I:I,MATCH(AI48,Weekly!E:E,0))","v":0},{"$f":"IF(AJ48=\"\",\"\",_xlfn.RANK.EQ(AJ48,TopMaxScores,0))","v":43}]
[{"$f":"A47","v":"Dave Bell"},"Everton",{"$f":"IF(J49=\"\",\"\",INDEX(Odds!B:B,MATCH(J49,Odds!F:F,0)))","v":"1900-01-07"},4.3333333333333339,"√",null,null,null,null,"Everton",{"$f":"INDEX(Odds!G:G,MATCH(J49,Odds!F:F,0))","v":"10/3"},{"$f":"INDEX(Odds!H:H,MATCH(J49,Odds!F:F,0))","v":4.3333333333333339},{"$f":"INDEX(Odds!I:I,MATCH(J49,Odds!F:F,0))","v":1},4.3333333333333339,null,null,null,{"$f":"IF(Odds!F49=\"\",\"\",Odds!F49)","v":"Everton draw"},{"$f":"INDEX(Odds!G:G,MATCH(R49,Odds!F:F,0))","v":"3/1"},0,null,null,null,null,null,null,null,{"$f":"IF(O49=\"\",\"\",INDEX(Odds!G:G,MATCH(O49,Odds!F:F,0)))","v":""},null,"Paul Ridgeway",{"$f":"INDEX(Picks!F:F,MATCH(AD49,Picks!A:A,0))","v":-7},{"$f":"INDEX(Weekly!I:I,MATCH(AD49,Weekly!E:E,0))","v":0},{"$f":"IF(AE49=\"\",\"\",_xlfn.RANK.EQ(AE49,TopScores,0))","v":46},null,"Paul Ridgeway",{"$f":"INDEX(Picks!G:G,MATCH(AI49,Picks!A:A,0))","v":23.184999999999999},{"$f":"INDEX(Weekly!I:I,MATCH(AI49,Weekly!E:E,0))","v":0},{"$f":"IF(AJ49=\"\",\"\",_xlfn.RANK.EQ(AJ49,TopMaxScores,0))","v":44}]
[{"$f":"Results!B50","v":"Dave Orrell"},"Crawley",{"$f":"IF(J50=\"\",\"\",INDEX(Odds!B:B,MATCH(J50,Odds!F:F,0)))","v":"1900-01-07"},2.4500000000000002,"√",{"$f":"IF(J50=\"\",-10,INDEX(Results!T:T,MATCH(A50,Results!V:V,0)))","v":27.776499999999999},{"$f":"IF(J50=\"\",\"\",INDEX(Results!AI:AI,MATCH(A50,Results!V:V,0)))","v":27.776499999999999},{"$f":"IF(G50=\"\",0,1)","v":1},{"$f":"INDEX(Picks!AG:AG,MATCH(A50,Picks!AD:AD,0))","v":4},"Crawley",{"$f":"INDEX(Odds!G:G,MATCH(J50,Odds!F:F,0))","v":"29/20"},{"$f":"INDEX(Odds!H:H,MATCH(J50,Odds!F:F,0))","v":2.4500000000000002},{"$f":"INDEX(Odds!I:I,MATCH(J50,Odds!F:F,0))","v":1},2.4500000000000002,null,null,"`",{"$f":"IF(Odds!F50=\"\",\"\",Odds!F50)","v":"Man U draw"},{"$f":"INDEX(Odds!G:G,MATCH(R50,Odds!F:F,0))","v":"3/1"},1,null,null,null,null,null,null,null,{"$f":"IF(O50=\"\",\"\",INDEX(Odds!G:G,MATCH(O50,Odds!F:F,0)))","v":""},null,"Barry Birchall",{"$f":"INDEX(Picks!F:F,MATCH(AD50,Picks!A:A,0))","v":-7},{"$f":"INDEX(Weekly!I:I,MATCH(AD50,Weekly!E:E,0))","v":0},{"$f":"IF(AE50=\"\",\"\",_xlfn.RANK.EQ(AE50,TopScores,0))","v":46},null,"Stephen Barr",{"$f":"INDEX(Picks!G:G,MATCH(AI50,Picks!A:A,0))","v":19.920454545454547},{"$f":"INDEX(Weekly!I:I,MATCH(AI50,Weekly!E:E,0))","v":2},{"$f":"IF(AJ50=\"\",\"\",_xlfn.RANK.EQ(AJ50,TopMaxScores,0))","v":45}]
[{"$f":"A50","v":"Dave Orrell"},"Forest Green",{"$f":"IF(J51=\"\",\"\",INDEX(Odds!B:B,MATCH(J51,Odds!F:F,0)))","v":"1900-01-07"},2.0499999999999998,"√",null,null,null,null,"Forest Green",{"$f":"INDEX(Odds!G:G,MATCH(J51,Odds!F:F,0))","v":"21/20"},{"$f":"INDEX(Odds!H:H,MATCH(J51,Odds!F:F,0))","v":2.0499999999999998},{"$f":"INDEX(Odds!I:I,MATCH(J51,Odds!F:F,0))","v":1},2.0499999999999998,null,null,null,{"$f":"IF(Odds!F51=\"\",\"\",Odds!F51)","v":"Newcastle draw"},{"$f":"INDEX(Odds!G:G,MATCH(R51,Odds!F:F,0))","v":"11/5"},0,null,null,null,null,null,null,null,{"$f":"IF(O51=\"\",\"\",INDEX(Odds!G:G,MATCH(O51,Odds!F:F,0)))","v":""},null,"Alick Rocca",{"$f":"INDEX(Picks!F:F,MATCH(AD51,Picks!A:A,0))","v":-7},{"$f":"INDEX(Weekly!I:I,MATCH(AD51,Weekly!E:E,0))","v":0},{"$f":"IF(AE51=\"\",\"\",_xlfn.RANK.EQ(AE51,TopScores,0))","v":46},null,"Howard Bradley",{"$f":"INDEX(Picks!G:G,MATCH(AI51,Picks!A:A,0))","v":19.461818181818185},{"$f":"INDEX(Weekly!I:I,MATCH(AI51,Weekly!E:E,0))","v":2},{"$f":"IF(AJ51=\"\",\"\",_xlfn.RANK.EQ(AJ51,TopMaxScores,0))","v":46}]
[{"$f":"A50","v":"Dave Orrell"},"Oldham",{"$f":"IF(J52=\"\",\"\",INDEX(Odds!B:B,MATCH(J52,Odds!F:F,0)))","v":"1900-01-07"},2.4,"√",null,null,null,null,"Oldham",{"$f":"INDEX(Odds!G:G,MATCH(J52,Odds!F:F,0))","v":"7/5"},{"$f":"INDEX(Odds!H:H,MATCH(J52,Odds!F:F,0))","v":2.4},{"$f":"INDEX(Odds!I:I,MATCH(J52,Odds!F:F,0))","v":1},2.4,null,null,null,{"$f":"IF(Odds!F52=\"\",\"\",Odds!F52)","v":"Wolves draw"},{"$f":"INDEX(Odds!G:G,MATCH(R52,Odds!F:F,0))","v":"23/10"},0,null,null,null,null,null,null,null,{"$f":"IF(O52=\"\",\"\",INDEX(Odds!G:G,MATCH(O52,Odds!F:F,0)))","v":""},null,"Joel Bent",{"$f":"INDEX(Picks!F:F,MATCH(AD52,Picks!A:A,0))","v":-7},{"$f":"INDEX(Weekly!I:I,MATCH(AD52,Weekly!E:E,0))","v":0},{"$f":"IF(AE52=\"\",\"\",_xlfn.RANK.EQ(AE52,TopScores,0))","v":46},null,"Graham Miller",{"$f":"INDEX(Picks!G:G,MATCH(AI52,Picks!A:A,0))","v":18.590909090909093},{"$f":"INDEX(Weekly!I:I,MATCH(AI52,Weekly!E:E,0))","v":3},{"$f":"IF(AJ52=\"\",\"\",_xlfn.RANK.EQ(AJ52,TopMaxScores,0))","v":47}]
[{"$f":"Results!B53","v":"David Dunn"},"Wolves Draw",{"$f":"IF(J53=\"\",\"\",INDEX(Odds!B:B,MATCH(J53,Odds!F:F,0)))","v":"1900-01-07"},3.3,"x",{"$f":"IF(J53=\"\",-10,INDEX(Results!T:T,MATCH(A53,Results!V:V,0)))","v":1.4499999999999993},{"$f":"IF(J53=\"\",\"\",INDEX(Results!AI:AI,MATCH(A53,Results!V:V,0)))","v":32.634999999999991},{"$f":"IF(G53=\"\",0,1)","v":1},{"$f":"INDEX(Picks!AG:AG,MATCH(A53,Picks!AD:AD,0))","v":15},"Wolves Draw",{"$f":"INDEX(Odds!G:G,MATCH(J53,Odds!F:F,0))","v":"23/10"},{"$f":"INDEX(Odds!H:H,MATCH(J53,Odds!F:F,0))","v":3.3},{"$f":"INDEX(Odds!I:I,MATCH(J53,Odds!F:F,0))","v":0},0,null,null,null,{"$f":"IF(Odds!F53=\"\",\"\",Odds!F53)","v":"Birmingham draw"},{"$f":"INDEX(Odds!G:G,MATCH(R53,Odds!F:F,0))","v":"11/5"},0,null,null,null,null,null,null,null,{"$f":"IF(O53=\"\",\"\",INDEX(Odds!G:G,MATCH(O53,Odds!F:F,0)))","v":""},null,"Charlie Griffiths",{"$f":"INDEX(Picks!F:F,MATCH(AD53,Picks!A:A,0))","v":-7},{"$f":"INDEX(Weekly!I:I,MATCH(AD53,Weekly!E:E,0))","v":0},{"$f":"IF(AE53=\"\",\"\",_xlfn.RANK.EQ(AE53,TopScores,0))","v":46},null,"Mo Sudell",{"$f":"INDEX(Picks!G:G,MATCH(AI53,Picks!A:A,0))","v":17.84},{"$f":"INDEX(Weekly!I:I,MATCH(AI53,Weekly!E:E,0))","v":1},{"$f":"IF(AJ53=\"\",\"\",_xlfn.RANK.EQ(AJ53,TopMaxScores,0))","v":48}]
[{"$f":"A53","v":"David Dunn"},"Leicester",{"$f":"IF(J54=\"\",\"\",INDEX(Odds!B:B,MATCH(J54,Odds!F:F,0)))","v":"1900-01-01"},2,"√",null,null,null,null,"Leicester",{"$f":"INDEX(Odds!G:G,MATCH(J54,Odds!F:F,0))","v":"1/1"},{"$f":"INDEX(Odds!H:H,MATCH(J54,Odds!F:F,0))","v":2},{"$f":"INDEX(Odds!I:I,MATCH(J54,Odds!F:F,0))","v":1},2,null,null,null,{"$f":"IF(Odds!F54=\"\",\"\",Odds!F54)","v":"Blackburn draw"},{"$f":"INDEX(Odds!G:G,MATCH(R54,Odds!F:F,0))","v":"5/2"},0,null,null,null,null,null,null,null,{"$f":"IF(O54=\"\",\"\",INDEX(Odds!G:G,MATCH(O54,Odds!F:F,0)))","v":""},null,"Paul Barnes",{"$f":"INDEX(Picks!F:F,MATCH(AD54,Picks!A:A,0))","v":-7},{"$f":"INDEX(Weekly!I:I,MATCH(AD54,Weekly!E:E,0))","v":0},{"$f":"IF(AE54=\"\",\"\",_xlfn.RANK.EQ(AE54,TopScores,0))","v":46},null,"John Ronan",{"$f":"INDEX(Picks!G:G,MATCH(AI54,Picks!A:A,0))","v":17.600000000000001},{"$f":"INDEX(Weekly!I:I,MATCH(AI54,Weekly!E:E,0))","v":2},{"$f":"IF(AJ54=\"\",\"\",_xlfn.RANK.EQ(AJ54,TopMaxScores,0))","v":49}]
[{"$f":"A53","v":"David Dunn"},"Middlesbro",{"$f":"IF(J55=\"\",\"\",INDEX(Odds!B:B,MATCH(J55,Odds!F:F,0)))","v":"1900-01-07"},2.15,"√",null,null,null,null,"Middlesbro",{"$f":"INDEX(Odds!G:G,MATCH(J55,Odds!F:F,0))","v":"23/20"},{"$f":"INDEX(Odds!H:H,MATCH(J55,Odds!F:F,0))","v":2.15},{"$f":"INDEX(Odds!I:I,MATCH(J55,Odds!F:F,0))","v":1},2.15,null,null,null,{"$f":"IF(Odds!F55=\"\",\"\",Odds!F55)","v":"Bournemouth draw"},{"$f":"INDEX(Odds!G:G,MATCH(R55,Odds!F:F,0))","v":"29/10"},0,null,null,null,null,null,null,null,{"$f":"IF(O55=\"\",\"\",INDEX(Odds!G:G,MATCH(O55,Odds!F:F,0)))","v":""},null,"Ben Rosser",{"$f":"INDEX(Picks!F:F,MATCH(AD55,Picks!A:A,0))","v":-7},{"$f":"INDEX(Weekly!I:I,MATCH(AD55,Weekly!E:E,0))","v":0},{"$f":"IF(AE55=\"\",\"\",_xlfn.RANK.EQ(AE55,TopScores,0))","v":46},null,"Paul Fiddler",{"$f":"INDEX(Picks!G:G,MATCH(AI55,Picks!A:A,0))","v":16.544},{"$f":"INDEX(Weekly!I:I,MATCH(AI55,Weekly!E:E,0))","v":1},{"$f":"IF(AJ55=\"\",\"\",_xlfn.RANK.EQ(AJ55,TopMaxScores,0))","v":50}]
[{"$f":"Results!B56","v":"Gareth Fallows"},"",{"$f":"IF(J56=\"\",\"\",INDEX(Odds!B:B,MATCH(J56,Odds!F:F,0)))","v":""},"","",{"$f":"IF(J56=\"\",-10,INDEX(Results!T:T,MATCH(A56,Results!V:V,0)))","v":-10},{"$f":"IF(J56=\"\",\"\",INDEX(Results!AI:AI,MATCH(A56,Results!V:V,0)))","v":""},{"$f":"IF(G56=\"\",0,1)","v":0},{"$f":"INDEX(Picks!AG:AG,MATCH(A56,Picks!AD:AD,0))","v":59},null,{"$f":"INDEX(Odds!G:G,MATCH(J56,Odds!F:F,0))","v":{"$error":"#N/A"}},{"$f":"INDEX(Odds!H:H,MATCH(J56,Odds!F:F,0))","v":{"$error":"#N/A"}},{"$f":"INDEX(Odds!I:I,MATCH(J56,Odds!F:F,0))","v":{"$error":"#N/A"}},{"$error":"#N/A"},null,null,null,{"$f":"IF(Odds!F56=\"\",\"\",Odds!F56)","v":"Cardiff draw"},{"$f":"INDEX(Odds!G:G,MATCH(R56,Odds!F:F,0))","v":"11/5"},0,null,null,null,null,null,null,null,{"$f":"IF(O56=\"\",\"\",INDEX(Odds!G:G,MATCH(O56,Odds!F:F,0)))","v":""},null,"Stephen Troop",{"$f":"INDEX(Picks!F:F,MATCH(AD56,Picks!A:A,0))","v":-7},{"$f":"INDEX(Weekly!I:I,MATCH(AD56,Weekly!E:E,0))","v":0},{"$f":"IF(AE56=\"\",\"\",_xlfn.RANK.EQ(AE56,TopScores,0))","v":46},null,"Paul Allen",{"$f":"INDEX(Picks!G:G,MATCH(AI56,Picks!A:A,0))","v":16.544},{"$f":"INDEX(Weekly!I:I,MATCH(AI56,Weekly!E:E,0))","v":2},{"$f":"IF(AJ56=\"\",\"\",_xlfn.RANK.EQ(AJ56,TopMaxScores,0))","v":50}]
[{"$f":"A56","v":"Gareth Fallows"},"",{"$f":"IF(J57=\"\",\"\",INDEX(Odds!B:B,MATCH(J57,Odds!F:F,0)))","v":""},"","",null,null,null,null,null,{"$f":"INDEX(Odds!G:G,MATCH(J57,Odds!F:F,0))","v":{"$error":"#N/A"}},{"$f":"INDEX(Odds!H:H,MATCH(J57,Odds!F:F,0))","v":{"$error":"#N/A"}},{"$f":"INDEX(Odds!I:I,MATCH(J57,Odds!F:F,0))","v":{"$error":"#N/A"}},{"$error":"#N/A"},null,null,null,{"$f":"IF(Odds!F57=\"\",\"\",Odds!F57)","v":"Derby draw"},{"$f":"INDEX(Odds!G:G,MATCH(R57,Odds!F:F,0))","v":"11/5"},1,null,null,null,null,null,null,null,{"$f":"IF(O57=\"\",\"\",INDEX(Odds!G:G,MATCH(O57,Odds!F:F,0)))","v":""},null,"James Bell",{"$f":"INDEX(Picks!F:F,MATCH(AD57,Picks!A:A,0))","v":-7},{"$f":"INDEX(Weekly!I:I,MATCH(AD57,Weekly!E:E,0))","v":0},{"$f":"IF(AE57=\"\",\"\",_xlfn.RANK.EQ(AE57,TopScores,0))","v":46},null,"Oscar Jackson",{"$f":"INDEX(Picks!G:G,MATCH(AI57,Picks!A:A,0))","v":16.203636363636363},{"$f":"INDEX(Weekly!I:I,MATCH(AI57,Weekly!E:E,0))","v":1},{"$f":"IF(AJ57=\"\",\"\",_xlfn.RANK.EQ(AJ57,TopMaxScores,0))","v":52}]
[{"$f":"A56","v":"Gareth Fallows"},"",{"$f":"IF(J58=\"\",\"\",INDEX(Odds!B:B,MATCH(J58,Odds!F:F,0)))","v":""},"","",null,null,null,null,null,{"$f":"INDEX(Odds!G:G,MATCH(J58,Odds!F:F,0))","v":{"$error":"#N/A"}},{"$f":"INDEX(Odds!H:H,MATCH(J58,Odds!F:F,0))","v":{"$error":"#N/A"}},{"$f":"INDEX(Odds!I:I,MATCH(J58,Odds!F:F,0))","v":{"$error":"#N/A"}},{"$error":"#N/A"},null,null,null,{"$f":"IF(Odds!F58=\"\",\"\",Odds!F58)","v":"Forest draw"},{"$f":"INDEX(Odds!G:G,MATCH(R58,Odds!F:F,0))","v":"11/5"},0,null,null,null,null,null,null,null,{"$f":"IF(O58=\"\",\"\",INDEX(Odds!G:G,MATCH(O58,Odds!F:F,0)))","v":""},null,"Ian Davies",{"$f":"INDEX(Picks!F:F,MATCH(AD58,Picks!A:A,0))","v":-7},{"$f":"INDEX(Weekly!I:I,MATCH(AD58,Weekly!E:E,0))","v":0},{"$f":"IF(AE58=\"\",\"\",_xlfn.RANK.EQ(AE58,TopScores,0))","v":46},null,"Alan White",{"$f":"INDEX(Picks!G:G,MATCH(AI58,Picks!A:A,0))","v":14.314049586776861},{"$f":"INDEX(Weekly!I:I,MATCH(AI58,Weekly!E:E,0))","v":2},{"$f":"IF(AJ58=\"\",\"\",_xlfn.RANK.EQ(AJ58,TopMaxScores,0))","v":53}]
[{"$f":"Results!B59","v":"Gareth McGuire"},"Everton draw",{"$f":"IF(J59=\"\",\"\",INDEX(Odds!B:B,MATCH(J59,Odds!F:F,0)))","v":"1900-01-07"},4,"x",{"$f":"IF(J59=\"\",-10,INDEX(Results!T:T,MATCH(A59,Results!V:V,0)))","v":2.9800000000000004},{"$f":"IF(J59=\"\",\"\",INDEX(Results!AI:AI,MATCH(A59,Results!V:V,0)))","v":46.9},{"$f":"IF(G59=\"\",0,1)","v":1},{"$f":"INDEX(Picks!AG:AG,MATCH(A59,Picks!AD:AD,0))","v":10},"Everton draw",{"$f":"INDEX(Odds!G:G,MATCH(J59,Odds!F:F,0))","v":"3/1"},{"$f":"INDEX(Odds!H:H,MATCH(J59,Odds!F:F,0))","v":4},{"$f":"INDEX(Odds!I:I,MATCH(J59,Odds!F:F,0))","v":0},0,null,null,null,{"$f":"IF(Odds!F59=\"\",\"\",Odds!F59)","v":"Luton draw"},{"$f":"INDEX(Odds!G:G,MATCH(R59,Odds!F:F,0))","v":"11/5"},0,null,null,null,null,null,null,null,{"$f":"IF(O59=\"\",\"\",INDEX(Odds!G:G,MATCH(O59,Odds!F:F,0)))","v":""},null,"Paul Fairhurst",{"$f":"INDEX(Picks!F:F,MATCH(AD59,Picks!A:A,0))","v":-7},{"$f":"INDEX(Weekly!I:I,MATCH(AD59,Weekly!E:E,0))","v":0},{"$f":"IF(AE59=\"\",\"\",_xlfn.RANK.EQ(AE59,TopScores,0))","v":46},null,"Kevin Carter",{"$f":"INDEX(Picks!G:G,MATCH(AI59,Picks!A:A,0))","v":14.314049586776861},{"$f":"INDEX(Weekly!I:I,MATCH(AI59,Weekly!E:E,0))","v":2},{"$f":"IF(AJ59=\"\",\"\",_xlfn.RANK.EQ(AJ59,TopMaxScores,0))","v":53}]
[{"$f":"A59","v":"Gareth McGuire"},{"$f":"IF(J60=\"\",\"\",J60)","v":"Watford"},{"$f":"IF(J60=\"\",\"\",INDEX(Odds!B:B,MATCH(J60,Odds!F:F,0)))","v":"1900-01-07"},2.0499999999999998,"√",null,null,null,null,"Watford",{"$f":"INDEX(Odds!G:G,MATCH(J60,Odds!F:F,0))","v":"21/20"},{"$f":"INDEX(Odds!H:H,MATCH(J60,Odds!F:F,0))","v":2.0499999999999998},{"$f":"INDEX(Odds!I:I,MATCH(J60,Odds!F:F,0))","v":1},2.0499999999999998,null,null,null,{"$f":"IF(Odds!F60=\"\",\"\",Odds!F60)","v":"Middlesbro draw"},{"$f":"INDEX(Odds!G:G,MATCH(R60,Odds!F:F,0))","v":"11/5"},0,null,null,null,null,null,null,null,{"$f":"IF(O60=\"\",\"\",INDEX(Odds!G:G,MATCH(O60,Odds!F:F,0)))","v":""},null,"Phil Miller",{"$f":"INDEX(Picks!F:F,MATCH(AD60,Picks!A:A,0))","v":-10},{"$f":"INDEX(Weekly!I:I,MATCH(AD60,Weekly!E:E,0))","v":0},{"$f":"IF(AE60=\"\",\"\",_xlfn.RANK.EQ(AE60,TopScores,0))","v":59},null,"Nick Blocksidge",{"$f":"INDEX(Picks!G:G,MATCH(AI60,Picks!A:A,0))","v":12.863636363636367},{"$f":"INDEX(Weekly!I:I,MATCH(AI60,Weekly!E:E,0))","v":1},{"$f":"IF(AJ60=\"\",\"\",_xlfn.RANK.EQ(AJ60,TopMaxScores,0))","v":55}]
[{"$f":"A59","v":"Gareth McGuire"},{"$f":"IF(J61=\"\",\"\",J61)","v":"Sunderland"},{"$f":"IF(J61=\"\",\"\",INDEX(Odds!B:B,MATCH(J61,Odds!F:F,0)))","v":"1900-01-07"},{"$f":"IF(J61=\"\",\"\",L61)","v":2.6},"√",null,null,null,null,"Sunderland",{"$f":"INDEX(Odds!G:G,MATCH(J61,Odds!F:F,0))","v":"8/5"},{"$f":"INDEX(Odds!H:H,MATCH(J61,Odds!F:F,0))","v":2.6},{"$f":"INDEX(Odds!I:I,MATCH(J61,Odds!F:F,0))","v":1},2.6,null,null,null,{"$f":"IF(Odds!F61=\"\",\"\",Odds!F61)","v":"QPR draw"},{"$f":"INDEX(Odds!G:G,MATCH(R61,Odds!F:F,0))","v":"23/10"},0,null,null,null,null,null,null,null,{"$f":"IF(O61=\"\",\"\",INDEX(Odds!G:G,MATCH(O61,Odds!F:F,0)))","v":""},null,"Lewis Buckley",{"$f":"INDEX(Picks!F:F,MATCH(AD61,Picks!A:A,0))","v":-10},{"$f":"INDEX(Weekly!I:I,MATCH(AD61,Weekly!E:E,0))","v":0},{"$f":"IF(AE61=\"\",\"\",_xlfn.RANK.EQ(AE61,TopScores,0))","v":59},null,"Ashley Houghton",{"$f":"INDEX(Picks!G:G,MATCH(AI61,Picks!A:A,0))","v":11.781818181818181},{"$f":"INDEX(Weekly!I:I,MATCH(AI61,Weekly!E:E,0))","v":2},{"$f":"IF(AJ61=\"\",\"\",_xlfn.RANK.EQ(AJ61,TopMaxScores,0))","v":56}]
[{"$f":"Results!B62","v":"Gareth Powell"},"Chelsea",{"$f":"IF(J62=\"\",\"\",INDEX(Odds!B:B,MATCH(J62,Odds!F:F,0)))","v":"1900-01-07"},1.75,"x",{"$f":"IF(J62=\"\",-10,INDEX(Results!T:T,MATCH(A62,Results!V:V,0)))","v":-4.3},{"$f":"IF(J62=\"\",\"\",INDEX(Results!AI:AI,MATCH(A62,Results!V:V,0)))","v":28.884375000000006},{"$f":"IF(G62=\"\",0,1)","v":1},{"$f":"INDEX(Picks!AG:AG,MATCH(A62,Picks!AD:AD,0))","v":35},"Chelsea",{"$f":"INDEX(Odds!G:G,MATCH(J62,Odds!F:F,0))","v":"3/4"},{"$f":"INDEX(Odds!H:H,MATCH(J62,Odds!F:F,0))","v":1.75},{"$f":"INDEX(Odds!I:I,MATCH(J62,Odds!F:F,0))","v":0},{"$f":"L62*M62","v":0},null,null,null,{"$f":"IF(Odds!F62=\"\",\"\",Odds!F62)","v":"Rotherham draw"},{"$f":"INDEX(Odds!G:G,MATCH(R62,Odds!F:F,0))","v":"9/4"},0,null,null,null,null,null,null,null,{"$f":"IF(O62=\"\",\"\",INDEX(Odds!G:G,MATCH(O62,Odds!F:F,0)))","v":""},null,"Gareth Fallows",{"$f":"INDEX(Picks!F:F,MATCH(AD62,Picks!A:A,0))","v":-10},{"$f":"INDEX(Weekly!I:I,MATCH(AD62,Weekly!E:E,0))","v":0},{"$f":"IF(AE62=\"\",\"\",_xlfn.RANK.EQ(AE62,TopScores,0))","v":59},null,"Lennie Bow",{"$f":"INDEX(Picks!G:G,MATCH(AI62,Picks!A:A,0))","v":10.02},{"$f":"INDEX(Weekly!I:I,MATCH(AI62,Weekly!E:E,0))","v":2},{"$f":"IF(AJ62=\"\",\"\",_xlfn.RANK.EQ(AJ62,TopMaxScores,0))","v":57}]
[{"$f":"A62","v":"Gareth Powell"},{"$f":"IF(J63=\"\",\"\",J63)","v":"Salford"},{"$f":"IF(J63=\"\",\"\",INDEX(Odds!B:B,MATCH(J63,Odds!F:F,0)))","v":"1900-01-07"},{"$f":"IF(J63=\"\",\"\",L63)","v":2.625},{"$f":"IF(J63=\"\",\"\",IF(M63=1,\"√\",\"x\"))","v":"x"},null,null,null,null,"Salford",{"$f":"INDEX(Odds!G:G,MATCH(J63,Odds!F:F,0))","v":"13/8"},{"$f":"INDEX(Odds!H:H,MATCH(J63,Odds!F:F,0))","v":2.625},{"$f":"INDEX(Odds!I:I,MATCH(J63,Odds!F:F,0))","v":0},0,null,null,null,{"$f":"IF(Odds!F63=\"\",\"\",Odds!F63)","v":"Sheff W draw"},{"$f":"INDEX(Odds!G:G,MATCH(R63,Odds!F:F,0))","v":"21/10"},0,null,null,null,null,null,null,null,{"$f":"IF(O63=\"\",\"\",INDEX(Odds!G:G,MATCH(O63,Odds!F:F,0)))","v":""},null,"Dan Baxter",{"$f":"INDEX(Picks!F:F,MATCH(AD63,Picks!A:A,0))","v":-10},{"$f":"INDEX(Weekly!I:I,MATCH(AD63,Weekly!E:E,0))","v":0},{"$f":"IF(AE63=\"\",\"\",_xlfn.RANK.EQ(AE63,TopScores,0))","v":59},null,"Steve Baxter",{"$f":"INDEX(Picks!G:G,MATCH(AI63,Picks!A:A,0))","v":9.5},{"$f":"INDEX(Weekly!I:I,MATCH(AI63,Weekly!E:E,0))","v":0},{"$f":"IF(AJ63=\"\",\"\",_xlfn.RANK.EQ(AJ63,TopMaxScores,0))","v":58}]
[{"$f":"A62","v":"Gareth Powell"},"Reading",{"$f":"IF(J64=\"\",\"\",INDEX(Odds!B:B,MATCH(J64,Odds!F:F,0)))","v":"1900-01-07"},2.7,"√",null,null,null,null,"Reading",{"$f":"INDEX(Odds!G:G,MATCH(J64,Odds!F:F,0))","v":"17/10"},{"$f":"INDEX(Odds!H:H,MATCH(J64,Odds!F:F,0))","v":2.7},{"$f":"INDEX(Odds!I:I,MATCH(J64,Odds!F:F,0))","v":1},2.7,null,null,null,{"$f":"IF(Odds!F64=\"\",\"\",Odds!F64)","v":"Wycombe draw"},{"$f":"INDEX(Odds!G:G,MATCH(R64,Odds!F:F,0))","v":"9/4"},0,null,null,null,null,null,null,null,{"$f":"IF(O64=\"\",\"\",INDEX(Odds!G:G,MATCH(O64,Odds!F:F,0)))","v":""}]
[{"$f":"Results!B65","v":"Gerard Ventom"},"Wigan",{"$f":"IF(J65=\"\",\"\",INDEX(Odds!B:B,MATCH(J65,Odds!F:F,0)))","v":"1900-01-07"},3.2,"√",{"$f":"IF(J65=\"\",-10,INDEX(Results!T:T,MATCH(A65,Results!V:V,0)))","v":46.6},{"$f":"IF(J65=\"\",\"\",INDEX(Results!AI:AI,MATCH(A65,Results!V:V,0)))","v":46.6},{"$f":"IF(G65=\"\",0,1)","v":1},{"$f":"INDEX(Picks!AG:AG,MATCH(A65,Picks!AD:AD,0))","v":3},"Wigan",{"$f":"INDEX(Odds!G:G,MATCH(J65,Odds!F:F,0))","v":"11/5"},{"$f":"INDEX(Odds!H:H,MATCH(J65,Odds!F:F,0))","v":3.2},{"$f":"INDEX(Odds!I:I,MATCH(J65,Odds!F:F,0))","v":1},3.2,null,null,null,{"$f":"IF(Odds!F65=\"\",\"\",Odds!F65)","v":"Blackpool draw"},{"$f":"INDEX(Odds!G:G,MATCH(R65,Odds!F:F,0))","v":"9/4"},1,null,null,null,null,null,null,null,{"$f":"IF(O65=\"\",\"\",INDEX(Odds!G:G,MATCH(O65,Odds!F:F,0)))","v":""}]
[{"$f":"A65","v":"Gerard Ventom"},"Walsall",{"$f":"IF(J66=\"\",\"\",INDEX(Odds!B:B,MATCH(J66,Odds!F:F,0)))","v":"1900-01-07"},2.25,"√",null,null,null,null,"Walsall",{"$f":"INDEX(Odds!G:G,MATCH(J66,Odds!F:F,0))","v":"5/4"},{"$f":"INDEX(Odds!H:H,MATCH(J66,Odds!F:F,0))","v":2.25},{"$f":"INDEX(Odds!I:I,MATCH(J66,Odds!F:F,0))","v":1},2.25,null,null,null,{"$f":"IF(Odds!F66=\"\",\"\",Odds!F66)","v":"Bristol R draw"},{"$f":"INDEX(Odds!G:G,MATCH(R66,Odds!F:F,0))","v":"5/2"},0,null,null,null,null,null,null,null,{"$f":"IF(O66=\"\",\"\",INDEX(Odds!G:G,MATCH(O66,Odds!F:F,0)))","v":""}]
[{"$f":"A65","v":"Gerard Ventom"},"Orient",{"$f":"IF(J67=\"\",\"\",INDEX(Odds!B:B,MATCH(J67,Odds!F:F,0)))","v":"1900-01-07"},3,{"$f":"IF(J67=\"\",\"\",IF(M67=1,\"√\",\"x\"))","v":"√"},null,null,null,null,"Orient",{"$f":"INDEX(Odds!G:G,MATCH(J67,Odds!F:F,0))","v":"2/1"},{"$f":"INDEX(Odds!H:H,MATCH(J67,Odds!F:F,0))","v":3},{"$f":"INDEX(Odds!I:I,MATCH(J67,Odds!F:F,0))","v":1},3,null,null,null,{"$f":"IF(Odds!F67=\"\",\"\",Odds!F67)","v":"Charlton draw"},{"$f":"INDEX(Odds!G:G,MATCH(R67,Odds!F:F,0))","v":"5/2"},0,null,null,null,null,null,null,null,{"$f":"IF(O67=\"\",\"\",INDEX(Odds!G:G,MATCH(O67,Odds!F:F,0)))","v":""}]
[{"$f":"Results!B68","v":"Graham Miller"},"Newcastle",{"$f":"IF(J68=\"\",\"\",INDEX(Odds!B:B,MATCH(J68,Odds!F:F,0)))","v":"1900-01-07"},2.25,"√",{"$f":"IF(J68=\"\",-10,INDEX(Results!T:T,MATCH(A68,Results!V:V,0)))","v":18.590909090909093},{"$f":"IF(J68=\"\",\"\",INDEX(Results!AI:AI,MATCH(A68,Results!V:V,0)))","v":18.590909090909093},{"$f":"IF(G68=\"\",0,1)","v":1},{"$f":"INDEX(Picks!AG:AG,MATCH(A68,Picks!AD:AD,0))","v":5},"Newcastle",{"$f":"INDEX(Odds!G:G,MATCH(J68,Odds!F:F,0))","v":"5/4"},{"$f":"INDEX(Odds!H:H,MATCH(J68,Odds!F:F,0))","v":2.25},{"$f":"INDEX(Odds!I:I,MATCH(J68,Odds!F:F,0))","v":1},2.25,null,null,null,{"$f":"IF(Odds!F68=\"\",\"\",Odds!F68)","v":"Crewe draw"},{"$f":"INDEX(Odds!G:G,MATCH(R68,Odds!F:F,0))","v":"13/5"},0,null,null,null,null,null,null,null,{"$f":"IF(O68=\"\",\"\",INDEX(Odds!G:G,MATCH(O68,Odds!F:F,0)))","v":""}]
[{"$f":"A68","v":"Graham Miller"},"Leicester",{"$f":"IF(J69=\"\",\"\",INDEX(Odds!B:B,MATCH(J69,Odds!F:F,0)))","v":"1900-01-01"},2,"√",null,null,null,null,"Leicester",{"$f":"INDEX(Odds!G:G,MATCH(J69,Odds!F:F,0))","v":"1/1"},{"$f":"INDEX(Odds!H:H,MATCH(J69,Odds!F:F,0))","v":2},{"$f":"INDEX(Odds!I:I,MATCH(J69,Odds!F:F,0))","v":1},2,null,null,null,{"$f":"IF(Odds!F69=\"\",\"\",Odds!F69)","v":"Doncaster draw"},{"$f":"INDEX(Odds!G:G,MATCH(R69,Odds!F:F,0))","v":"13/5"},0,null,null,null,null,null,null,null,{"$f":"IF(O69=\"\",\"\",INDEX(Odds!G:G,MATCH(O69,Odds!F:F,0)))","v":""}]
[{"$f":"A68","v":"Graham Miller"},"Southampton",{"$f":"IF(J70=\"\",\"\",INDEX(Odds!B:B,MATCH(J70,Odds!F:F,0)))","v":"1900-01-01"},1.7272727272727273,"√",null,null,null,null,"Southampton",{"$f":"INDEX(Odds!G:G,MATCH(J70,Odds!F:F,0))","v":"8/11"},{"$f":"INDEX(Odds!H:H,MATCH(J70,Odds!F:F,0))","v":1.7272727272727273},{"$f":"INDEX(Odds!I:I,MATCH(J70,Odds!F:F,0))","v":1},1.7272727272727273,null,null,null,{"$f":"IF(Odds!F70=\"\",\"\",Odds!F70)","v":"Hull draw"},{"$f":"INDEX(Odds!G:G,MATCH(R70,Odds!F:F,0))","v":"14/5"},0,null,null,null,null,null,null,null,{"$f":"IF(O70=\"\",\"\",INDEX(Odds!G:G,MATCH(O70,Odds!F:F,0)))","v":""}]
[{"$f":"Results!B71","v":"Howard Bradley"},{"$f":"IF(J71=\"\",\"\",J71)","v":"Blackpool"},{"$f":"IF(J71=\"\",\"\",INDEX(Odds!B:B,MATCH(J71,Odds!F:F,0)))","v":"1900-01-07"},{"$f":"IF(J71=\"\",\"\",L71)","v":2.2000000000000002},{"$f":"IF(J71=\"\",\"\",IF(M71=1,\"√\",\"x\"))","v":"x"},{"$f":"IF(J71=\"\",-10,INDEX(Results!T:T,MATCH(A71,Results!V:V,0)))","v":0.58181818181818201},{"$f":"IF(J71=\"\",\"\",INDEX(Results!AI:AI,MATCH(A71,Results!V:V,0)))","v":19.461818181818185},{"$f":"IF(G71=\"\",0,1)","v":1},{"$f":"INDEX(Picks!AG:AG,MATCH(A71,Picks!AD:AD,0))","v":19},"Blackpool",{"$f":"INDEX(Odds!G:G,MATCH(J71,Odds!F:F,0))","v":"6/5"},{"$f":"INDEX(Odds!H:H,MATCH(J71,Odds!F:F,0))","v":2.2000000000000002},{"$f":"INDEX(Odds!I:I,MATCH(J71,Odds!F:F,0))","v":0},0,null,null,null,{"$f":"IF(Odds!F71=\"\",\"\",Odds!F71)","v":"Ipswich draw"},{"$f":"INDEX(Odds!G:G,MATCH(R71,Odds!F:F,0))","v":"9/4"},0,null,null,null,null,null,null,null,{"$f":"IF(O71=\"\",\"\",INDEX(Odds!G:G,MATCH(O71,Odds!F:F,0)))","v":""}]
[{"$f":"A71","v":"Howard Bradley"},"Charlton",{"$f":"IF(J72=\"\",\"\",INDEX(Odds!B:B,MATCH(J72,Odds!F:F,0)))","v":"1900-01-07"},1.95,"√",null,null,null,null,"Charlton",{"$f":"INDEX(Odds!G:G,MATCH(J72,Odds!F:F,0))","v":"19/20"},{"$f":"INDEX(Odds!H:H,MATCH(J72,Odds!F:F,0))","v":1.95},{"$f":"INDEX(Odds!I:I,MATCH(J72,Odds!F:F,0))","v":1},1.95,null,null,null,{"$f":"IF(Odds!F72=\"\",\"\",Odds!F72)","v":"Lincoln draw"},{"$f":"INDEX(Odds!G:G,MATCH(R72,Odds!F:F,0))","v":"21/10"},0,null,null,null,null,null,null,null,{"$f":"IF(O72=\"\",\"\",INDEX(Odds!G:G,MATCH(O72,Odds!F:F,0)))","v":""}]
[{"$f":"A71","v":"Howard Bradley"},"Doncaster",{"$f":"IF(J73=\"\",\"\",INDEX(Odds!B:B,MATCH(J73,Odds!F:F,0)))","v":"1900-01-07"},1.9090909090909092,"√",null,null,null,null,"Doncaster",{"$f":"INDEX(Odds!G:G,MATCH(J73,Odds!F:F,0))","v":"10/11"},{"$f":"INDEX(Odds!H:H,MATCH(J73,Odds!F:F,0))","v":1.9090909090909092},{"$f":"INDEX(Odds!I:I,MATCH(J73,Odds!F:F,0))","v":1},1.9090909090909092,null,null,null,{"$f":"IF(Odds!F73=\"\",\"\",Odds!F73)","v":"MK Dons draw"},{"$f":"INDEX(Odds!G:G,MATCH(R73,Odds!F:F,0))","v":"27/10"},1,null,null,null,null,null,null,null,{"$f":"IF(O73=\"\",\"\",INDEX(Odds!G:G,MATCH(O73,Odds!F:F,0)))","v":""}]
[{"$f":"Results!B74","v":"Ian Davies"},"Cardiff",{"$f":"IF(J74=\"\",\"\",INDEX(Odds!B:B,MATCH(J74,Odds!F:F,0)))","v":"1900-01-07"},2.4500000000000002,"x",{"$f":"IF(J74=\"\",-10,INDEX(Results!T:T,MATCH(A74,Results!V:V,0)))","v":-7},{"$f":"IF(J74=\"\",\"\",INDEX(Results!AI:AI,MATCH(A74,Results!V:V,0)))","v":56.238999999999997},{"$f":"IF(G74=\"\",0,1)","v":1},{"$f":"INDEX(Picks!AG:AG,MATCH(A74,Picks!AD:AD,0))","v":46},"Cardiff",{"$f":"INDEX(Odds!G:G,MATCH(J74,Odds!F:F,0))","v":"29/20"},{"$f":"INDEX(Odds!H:H,MATCH(J74,Odds!F:F,0))","v":2.4500000000000002},{"$f":"INDEX(Odds!I:I,MATCH(J74,Odds!F:F,0))","v":0},0,null,null,null,{"$f":"IF(Odds!F74=\"\",\"\",Odds!F74)","v":"Peterborough draw"},{"$f":"INDEX(Odds!G:G,MATCH(R74,Odds!F:F,0))","v":"16/5"},0,null,null,null,null,null,null,null,{"$f":"IF(O74=\"\",\"\",INDEX(Odds!G:G,MATCH(O74,Odds!F:F,0)))","v":""}]
[{"$f":"A74","v":"Ian Davies"},"Bournemouth draw",{"$f":"IF(J75=\"\",\"\",INDEX(Odds!B:B,MATCH(J75,Odds!F:F,0)))","v":"1900-01-07"},3.9,"x",null,null,null,null,"Bournemouth draw",{"$f":"INDEX(Odds!G:G,MATCH(J75,Odds!F:F,0))","v":"29/10"},{"$f":"INDEX(Odds!H:H,MATCH(J75,Odds!F:F,0))","v":3.9},{"$f":"INDEX(Odds!I:I,MATCH(J75,Odds!F:F,0))","v":0},0,null,null,null,{"$f":"IF(Odds!F75=\"\",\"\",Odds!F75)","v":"Swindon draw"},{"$f":"INDEX(Odds!G:G,MATCH(R75,Odds!F:F,0))","v":"12/5"},0,null,null,null,null,null,null,null,{"$f":"IF(O75=\"\",\"\",INDEX(Odds!G:G,MATCH(O75,Odds!F:F,0)))","v":""}]
[{"$f":"A74","v":"Ian Davies"},"Lincoln",{"$f":"IF(J76=\"\",\"\",INDEX(Odds!B:B,MATCH(J76,Odds!F:F,0)))","v":"1900-01-07"},2.8,"x",null,null,null,null,"Lincoln",{"$f":"INDEX(Odds!G:G,MATCH(J76,Odds!F:F,0))","v":"9/5"},{"$f":"INDEX(Odds!H:H,MATCH(J76,Odds!F:F,0))","v":2.8},{"$f":"INDEX(Odds!I:I,MATCH(J76,Odds!F:F,0))","v":0},0,null,null,null,{"$f":"IF(Odds!F76=\"\",\"\",Odds!F76)","v":"Wigan draw"},{"$f":"INDEX(Odds!G:G,MATCH(R76,Odds!F:F,0))","v":"9/4"},0,null,null,null,null,null,null,null,{"$f":"IF(O76=\"\",\"\",INDEX(Odds!G:G,MATCH(O76,Odds!F:F,0)))","v":""}]
[{"$f":"Results!B77","v":"Jack Walsh"},"Man U",{"$f":"IF(J77=\"\",\"\",INDEX(Odds!B:B,MATCH(J77,Odds!F:F,0)))","v":"1900-01-07"},4.3333333333333339,"x",{"$f":"IF(J77=\"\",-10,INDEX(Results!T:T,MATCH(A77,Results!V:V,0)))","v":-5.35},{"$f":"IF(J77=\"\",\"\",INDEX(Results!AI:AI,MATCH(A77,Results!V:V,0)))","v":38.64},{"$f":"IF(G77=\"\",0,1)","v":1},{"$f":"INDEX(Picks!AG:AG,MATCH(A77,Picks!AD:AD,0))","v":43},"Man U",{"$f":"INDEX(Odds!G:G,MATCH(J77,Odds!F:F,0))","v":"10/3"},{"$f":"INDEX(Odds!H:H,MATCH(J77,Odds!F:F,0))","v":4.3333333333333339},{"$f":"INDEX(Odds!I:I,MATCH(J77,Odds!F:F,0))","v":0},0,null,null,null,{"$f":"IF(Odds!F77=\"\",\"\",Odds!F77)","v":"Carlisle draw"},{"$f":"INDEX(Odds!G:G,MATCH(R77,Odds!F:F,0))","v":"14/5"},0,null,null,null,null,null,null,null,{"$f":"IF(O77=\"\",\"\",INDEX(Odds!G:G,MATCH(O77,Odds!F:F,0)))","v":""}]
[{"$f":"A77","v":"Jack Walsh"},"Wolves",{"$f":"IF(J78=\"\",\"\",INDEX(Odds!B:B,MATCH(J78,Odds!F:F,0)))","v":"1900-01-07"},2.2999999999999998,"x",null,null,null,null,"Wolves",{"$f":"INDEX(Odds!G:G,MATCH(J78,Odds!F:F,0))","v":"13/10"},{"$f":"INDEX(Odds!H:H,MATCH(J78,Odds!F:F,0))","v":2.2999999999999998},{"$f":"INDEX(Odds!I:I,MATCH(J78,Odds!F:F,0))","v":0},0,null,null,null,{"$f":"IF(Odds!F78=\"\",\"\",Odds!F78)","v":"Crawley draw"},{"$f":"INDEX(Odds!G:G,MATCH(R78,Odds!F:F,0))","v":"23/10"},0,null,null,null,null,null,null,null,{"$f":"IF(O78=\"\",\"\",INDEX(Odds!G:G,MATCH(O78,Odds!F:F,0)))","v":""}]
[{"$f":"A77","v":"Jack Walsh"},"Bournemouth",{"$f":"IF(J79=\"\",\"\",INDEX(Odds!B:B,MATCH(J79,Odds!F:F,0)))","v":"1900-01-07"},1.65,"√",null,null,null,null,"Bournemouth",{"$f":"INDEX(Odds!G:G,MATCH(J79,Odds!F:F,0))","v":"13/20"},{"$f":"INDEX(Odds!H:H,MATCH(J79,Odds!F:F,0))","v":1.65},{"$f":"INDEX(Odds!I:I,MATCH(J79,Odds!F:F,0))","v":1},1.65,null,null,null,{"$f":"IF(Odds!F79=\"\",\"\",Odds!F79)","v":"Exeter draw"},{"$f":"INDEX(Odds!G:G,MATCH(R79,Odds!F:F,0))","v":"13/5"},0,null,null,null,null,null,null,null,{"$f":"IF(O79=\"\",\"\",INDEX(Odds!G:G,MATCH(O79,Odds!F:F,0)))","v":""}]
[{"$f":"Results!B80","v":"James Bell"},"Tranmere",{"$f":"IF(J80=\"\",\"\",INDEX(Odds!B:B,MATCH(J80,Odds!F:F,0)))","v":"1900-01-07"},3.8,"x",{"$f":"IF(J80=\"\",-10,INDEX(Results!T:T,MATCH(A80,Results!V:V,0)))","v":-7},{"$f":"IF(J80=\"\",\"\",INDEX(Results!AI:AI,MATCH(A80,Results!V:V,0)))","v":73.144000000000005},{"$f":"IF(G80=\"\",0,1)","v":1},{"$f":"INDEX(Picks!AG:AG,MATCH(A80,Picks!AD:AD,0))","v":46},"Tranmere",{"$f":"INDEX(Odds!G:G,MATCH(J80,Odds!F:F,0))","v":"14/5"},{"$f":"INDEX(Odds!H:H,MATCH(J80,Odds!F:F,0))","v":3.8},{"$f":"INDEX(Odds!I:I,MATCH(J80,Odds!F:F,0))","v":0},0,null,null,null,{"$f":"IF(Odds!F80=\"\",\"\",Odds!F80)","v":"Forest Green draw"},{"$f":"INDEX(Odds!G:G,MATCH(R80,Odds!F:F,0))","v":"23/10"},0,null,null,null,null,null,null,null,{"$f":"IF(O80=\"\",\"\",INDEX(Odds!G:G,MATCH(O80,Odds!F:F,0)))","v":""}]
[{"$f":"A80","v":"James Bell"},"Cardiff",{"$f":"IF(J81=\"\",\"\",INDEX(Odds!B:B,MATCH(J81,Odds!F:F,0)))","v":"1900-01-07"},2.4500000000000002,"x",null,null,null,null,"Cardiff",{"$f":"INDEX(Odds!G:G,MATCH(J81,Odds!F:F,0))","v":"29/20"},{"$f":"INDEX(Odds!H:H,MATCH(J81,Odds!F:F,0))","v":2.4500000000000002},{"$f":"INDEX(Odds!I:I,MATCH(J81,Odds!F:F,0))","v":0},0,null,null,null,{"$f":"IF(Odds!F81=\"\",\"\",Odds!F81)","v":"Grimsby draw"},{"$f":"INDEX(Odds!G:G,MATCH(R81,Odds!F:F,0))","v":"9/4"},1,null,null,null,null,null,null,null,{"$f":"IF(O81=\"\",\"\",INDEX(Odds!G:G,MATCH(O81,Odds!F:F,0)))","v":""}]
[{"$f":"A80","v":"James Bell"},"Gillingham",{"$f":"IF(J82=\"\",\"\",INDEX(Odds!B:B,MATCH(J82,Odds!F:F,0)))","v":"1900-01-07"},3.9,"x",null,null,null,null,"Gillingham",{"$f":"INDEX(Odds!G:G,MATCH(J82,Odds!F:F,0))","v":"29/10"},{"$f":"INDEX(Odds!H:H,MATCH(J82,Odds!F:F,0))","v":3.9},{"$f":"INDEX(Odds!I:I,MATCH(J82,Odds!F:F,0))","v":0},0,null,null,null,{"$f":"IF(Odds!F82=\"\",\"\",Odds!F82)","v":"Morecambe draw"},{"$f":"INDEX(Odds!G:G,MATCH(R82,Odds!F:F,0))","v":"23/10"},0,null,null,null,null,null,null,null,{"$f":"IF(O82=\"\",\"\",INDEX(Odds!G:G,MATCH(O82,Odds!F:F,0)))","v":""}]
[{"$f":"Results!B83","v":"Joel Bent"},"Leeds draw",{"$f":"IF(J83=\"\",\"\",INDEX(Odds!B:B,MATCH(J83,Odds!F:F,0)))","v":"1900-01-06"},3.7,"x",{"$f":"IF(J83=\"\",-10,INDEX(Results!T:T,MATCH(A83,Results!V:V,0)))","v":-7},{"$f":"IF(J83=\"\",\"\",INDEX(Results!AI:AI,MATCH(A83,Results!V:V,0)))","v":140.05000000000001},{"$f":"IF(G83=\"\",0,1)","v":1},{"$f":"INDEX(Picks!AG:AG,MATCH(A83,Picks!AD:AD,0))","v":46},"Leeds draw",{"$f":"INDEX(Odds!G:G,MATCH(J83,Odds!F:F,0))","v":"27/10"},{"$f":"INDEX(Odds!H:H,MATCH(J83,Odds!F:F,0))","v":3.7},{"$f":"INDEX(Odds!I:I,MATCH(J83,Odds!F:F,0))","v":0},0,null,null,null,{"$f":"IF(Odds!F83=\"\",\"\",Odds!F83)","v":"Oldham draw"},{"$f":"INDEX(Odds!G:G,MATCH(R83,Odds!F:F,0))","v":"23/10"},0,null,null,null,null,null,null,null,{"$f":"IF(O83=\"\",\"\",INDEX(Odds!G:G,MATCH(O83,Odds!F:F,0)))","v":""}]
[{"$f":"A83","v":"Joel Bent"},"Bristol R draw",{"$f":"IF(J84=\"\",\"\",INDEX(Odds!B:B,MATCH(J84,Odds!F:F,0)))","v":"1900-01-07"},3.5,"x",null,null,null,null,"Bristol R draw",{"$f":"INDEX(Odds!G:G,MATCH(J84,Odds!F:F,0))","v":"5/2"},{"$f":"INDEX(Odds!H:H,MATCH(J84,Odds!F:F,0))","v":3.5},{"$f":"INDEX(Odds!I:I,MATCH(J84,Odds!F:F,0))","v":0},0,null,null,null,{"$f":"IF(Odds!F84=\"\",\"\",Odds!F84)","v":"Orient draw"},{"$f":"INDEX(Odds!G:G,MATCH(R84,Odds!F:F,0))","v":"9/4"},0,null,null,null,null,null,null,null,{"$f":"IF(O84=\"\",\"\",INDEX(Odds!G:G,MATCH(O84,Odds!F:F,0)))","v":""}]
[{"$f":"A83","v":"Joel Bent"},"Rochdale",{"$f":"IF(J85=\"\",\"\",INDEX(Odds!B:B,MATCH(J85,Odds!F:F,0)))","v":"1900-01-07"},6,"x",null,null,null,null,"Rochdale",{"$f":"INDEX(Odds!G:G,MATCH(J85,Odds!F:F,0))","v":"5/1"},{"$f":"INDEX(Odds!H:H,MATCH(J85,Odds!F:F,0))","v":6},{"$f":"INDEX(Odds!I:I,MATCH(J85,Odds!F:F,0))","v":0},0,null,null,null,{"$f":"IF(Odds!F85=\"\",\"\",Odds!F85)","v":"Port Vale draw"},{"$f":"INDEX(Odds!G:G,MATCH(R85,Odds!F:F,0))","v":"5/2"},1,null,null,null,null,null,null,null,{"$f":"IF(O85=\"\",\"\",INDEX(Odds!G:G,MATCH(O85,Odds!F:F,0)))","v":""}]
[{"$f":"Results!B86","v":"John Evans"},"Derby",{"$f":"IF(J86=\"\",\"\",INDEX(Odds!B:B,MATCH(J86,Odds!F:F,0)))","v":"1900-01-07"},2.875,"x",{"$f":"IF(J86=\"\",-10,INDEX(Results!T:T,MATCH(A86,Results!V:V,0)))","v":-3.8},{"$f":"IF(J86=\"\",\"\",INDEX(Results!AI:AI,MATCH(A86,Results!V:V,0)))","v":50.996874999999996},{"$f":"IF(G86=\"\",0,1)","v":1},{"$f":"INDEX(Picks!AG:AG,MATCH(A86,Picks!AD:AD,0))","v":28},"Derby",{"$f":"INDEX(Odds!G:G,MATCH(J86,Odds!F:F,0))","v":"15/8"},{"$f":"INDEX(Odds!H:H,MATCH(J86,Odds!F:F,0))","v":2.875},{"$f":"INDEX(Odds!I:I,MATCH(J86,Odds!F:F,0))","v":0},0,null,null,null,{"$f":"IF(Odds!F86=\"\",\"\",Odds!F86)","v":"Salford draw"},{"$f":"INDEX(Odds!G:G,MATCH(R86,Odds!F:F,0))","v":"9/4"},1,null,null,null,null,null,null,null,{"$f":"IF(O86=\"\",\"\",INDEX(Odds!G:G,MATCH(O86,Odds!F:F,0)))","v":""}]
[{"$f":"A86","v":"John Evans"},"Wigan",{"$f":"IF(J87=\"\",\"\",INDEX(Odds!B:B,MATCH(J87,Odds!F:F,0)))","v":"1900-01-07"},3.2,"√",null,null,null,null,"Wigan",{"$f":"INDEX(Odds!G:G,MATCH(J87,Odds!F:F,0))","v":"11/5"},{"$f":"INDEX(Odds!H:H,MATCH(J87,Odds!F:F,0))","v":3.2},{"$f":"INDEX(Odds!I:I,MATCH(J87,Odds!F:F,0))","v":1},3.2,null,null,null,{"$f":"IF(Odds!F87=\"\",\"\",Odds!F87)","v":"Southend draw"},{"$f":"INDEX(Odds!G:G,MATCH(R87,Odds!F:F,0))","v":"11/5"},0,null,null,null,null,null,null,null,{"$f":"IF(O87=\"\",\"\",INDEX(Odds!G:G,MATCH(O87,Odds!F:F,0)))","v":""}]
[{"$f":"A86","v":"John Evans"},"Salford",{"$f":"IF(J88=\"\",\"\",INDEX(Odds!B:B,MATCH(J88,Odds!F:F,0)))","v":"1900-01-07"},2.625,"x",null,null,null,null,"Salford",{"$f":"INDEX(Odds!G:G,MATCH(J88,Odds!F:F,0))","v":"13/8"},{"$f":"INDEX(Odds!H:H,MATCH(J88,Odds!F:F,0))","v":2.625},{"$f":"INDEX(Odds!I:I,MATCH(J88,Odds!F:F,0))","v":0},0,null,null,null,{"$f":"IF(Odds!F88=\"\",\"\",Odds!F88)","v":"Walsall draw"},{"$f":"INDEX(Odds!G:G,MATCH(R88,Odds!F:F,0))","v":"9/4"},0,null,null,null,null,null,null,null,{"$f":"IF(O88=\"\",\"\",INDEX(Odds!G:G,MATCH(O88,Odds!F:F,0)))","v":""}]
[{"$f":"Results!B89","v":"John Ronan"},"Blackpool",{"$f":"IF(J89=\"\",\"\",INDEX(Odds!B:B,MATCH(J89,Odds!F:F,0)))","v":"1900-01-07"},2.2000000000000002,"x",{"$f":"IF(J89=\"\",-10,INDEX(Results!T:T,MATCH(A89,Results!V:V,0)))","v":0},{"$f":"IF(J89=\"\",\"\",INDEX(Results!AI:AI,MATCH(A89,Results!V:V,0)))","v":17.600000000000001},{"$f":"IF(G89=\"\",0,1)","v":1},{"$f":"INDEX(Picks!AG:AG,MATCH(A89,Picks!AD:AD,0))","v":22},"Blackpool",{"$f":"INDEX(Odds!G:G,MATCH(J89,Odds!F:F,0))","v":"6/5"},{"$f":"INDEX(Odds!H:H,MATCH(J89,Odds!F:F,0))","v":2.2000000000000002},{"$f":"INDEX(Odds!I:I,MATCH(J89,Odds!F:F,0))","v":0},0,null,null,null,{"$f":"IF(Odds!F89=\"\",\"\",Odds!F89)","v":"Arsenal draw"},{"$f":"INDEX(Odds!G:G,MATCH(R89,Odds!F:F,0))","v":"3/1"},0,null,null,null,null,null,null,null,{"$f":"IF(O89=\"\",\"\",INDEX(Odds!G:G,MATCH(O89,Odds!F:F,0)))","v":""}]
[{"$f":"A89","v":"John Ronan"},"Crewe",{"$f":"IF(J90=\"\",\"\",INDEX(Odds!B:B,MATCH(J90,Odds!F:F,0)))","v":"1900-01-07"},1.75,"√",null,null,null,null,"Crewe",{"$f":"INDEX(Odds!G:G,MATCH(J90,Odds!F:F,0))","v":"3/4"},{"$f":"INDEX(Odds!H:H,MATCH(J90,Odds!F:F,0))","v":1.75},{"$f":"INDEX(Odds!I:I,MATCH(J90,Odds!F:F,0))","v":1},1.75,null,null,null,{"$f":"IF(Odds!F90=\"\",\"\",Odds!F90)","v":"Fulham draw"},{"$f":"INDEX(Odds!G:G,MATCH(R90,Odds!F:F,0))","v":"9/2"},1,null,null,null,null,null,null,null,{"$f":"IF(O90=\"\",\"\",INDEX(Odds!G:G,MATCH(O90,Odds!F:F,0)))","v":""}]
[{"$f":"A89","v":"John Ronan"},"Exeter",{"$f":"IF(J91=\"\",\"\",INDEX(Odds!B:B,MATCH(J91,Odds!F:F,0)))","v":"1900-01-07"},1.9090909090909092,"√",null,null,null,null,"Exeter",{"$f":"INDEX(Odds!G:G,MATCH(J91,Odds!F:F,0))","v":"10/11"},{"$f":"INDEX(Odds!H:H,MATCH(J91,Odds!F:F,0))","v":1.9090909090909092},{"$f":"INDEX(Odds!I:I,MATCH(J91,Odds!F:F,0))","v":1},1.9090909090909092,null,null,null,{"$f":"IF(Odds!F91=\"\",\"\",Odds!F91)","v":"Leicester draw"},{"$f":"INDEX(Odds!G:G,MATCH(R91,Odds!F:F,0))","v":"5/2"},0,null,null,null,null,null,null,null,{"$f":"IF(O91=\"\",\"\",INDEX(Odds!G:G,MATCH(O91,Odds!F:F,0)))","v":""}]
[{"$f":"Results!B92","v":"Kei Lok Ma"},"Wolves draw",{"$f":"IF(J92=\"\",\"\",INDEX(Odds!B:B,MATCH(J92,Odds!F:F,0)))","v":"1900-01-07"},3.3,"x",{"$f":"IF(J92=\"\",-10,INDEX(Results!T:T,MATCH(A92,Results!V:V,0)))","v":4.1875},{"$f":"IF(J92=\"\",\"\",INDEX(Results!AI:AI,MATCH(A92,Results!V:V,0)))","v":44.40625},{"$f":"IF(G92=\"\",0,1)","v":1},{"$f":"INDEX(Picks!AG:AG,MATCH(A92,Picks!AD:AD,0))","v":9},"Wolves draw",{"$f":"INDEX(Odds!G:G,MATCH(J92,Odds!F:F,0))","v":"23/10"},{"$f":"INDEX(Odds!H:H,MATCH(J92,Odds!F:F,0))","v":3.3},{"$f":"INDEX(Odds!I:I,MATCH(J92,Odds!F:F,0))","v":0},0,null,null,null,{"$f":"IF(Odds!F92=\"\",\"\",Odds!F92)","v":"Palace draw"},{"$f":"INDEX(Odds!G:G,MATCH(R92,Odds!F:F,0))","v":"11/4"},1,null,null,null,null,null,null,null,{"$f":"IF(O92=\"\",\"\",INDEX(Odds!G:G,MATCH(O92,Odds!F:F,0)))","v":""}]
[{"$f":"A92","v":"Kei Lok Ma"},"Newcastle",{"$f":"IF(J93=\"\",\"\",INDEX(Odds!B:B,MATCH(J93,Odds!F:F,0)))","v":"1900-01-07"},2.25,"√",null,null,null,null,"Newcastle",{"$f":"INDEX(Odds!G:G,MATCH(J93,Odds!F:F,0))","v":"5/4"},{"$f":"INDEX(Odds!H:H,MATCH(J93,Odds!F:F,0))","v":2.25},{"$f":"INDEX(Odds!I:I,MATCH(J93,Odds!F:F,0))","v":1},2.25,null,null,null,{"$f":"IF(Odds!F93=\"\",\"\",Odds!F93)","v":"Southampton draw"},{"$f":"INDEX(Odds!G:G,MATCH(R93,Odds!F:F,0))","v":"27/10"},0,null,null,null,null,null,null,null,{"$f":"IF(O93=\"\",\"\",INDEX(Odds!G:G,MATCH(O93,Odds!F:F,0)))","v":""}]
[{"$f":"A92","v":"Kei Lok Ma"},"Norwich",{"$f":"IF(J94=\"\",\"\",INDEX(Odds!B:B,MATCH(J94,Odds!F:F,0)))","v":"1900-01-07"},2.75,"√",null,null,null,null,"Norwich",{"$f":"INDEX(Odds!G:G,MATCH(J94,Odds!F:F,0))","v":"7/4"},{"$f":"INDEX(Odds!H:H,MATCH(J94,Odds!F:F,0))","v":2.75},{"$f":"INDEX(Odds!I:I,MATCH(J94,Odds!F:F,0))","v":1},2.75,null,null,null,{"$f":"IF(Odds!F94=\"\",\"\",Odds!F94)","v":"West Ham"},{"$f":"INDEX(Odds!G:G,MATCH(R94,Odds!F:F,0))","v":"11/5"},{"$f":"IF(V2<X2,1,0)","v":1},null,null,null,null,null,null,null,{"$f":"IF(O94=\"\",\"\",INDEX(Odds!G:G,MATCH(O94,Odds!F:F,0)))","v":""}]
[{"$f":"Results!B95","v":"Kevin Carter"},"Southampton",{"$f":"IF(J95=\"\",\"\",INDEX(Odds!B:B,MATCH(J95,Odds!F:F,0)))","v":"1900-01-01"},1.7272727272727273,"√",{"$f":"IF(J95=\"\",-10,INDEX(Results!T:T,MATCH(A95,Results!V:V,0)))","v":0.18181818181818166},{"$f":"IF(J95=\"\",\"\",INDEX(Results!AI:AI,MATCH(A95,Results!V:V,0)))","v":14.314049586776861},{"$f":"IF(G95=\"\",0,1)","v":1},{"$f":"INDEX(Picks!AG:AG,MATCH(A95,Picks!AD:AD,0))","v":20},"Southampton",{"$f":"INDEX(Odds!G:G,MATCH(J95,Odds!F:F,0))","v":"8/11"},{"$f":"INDEX(Odds!H:H,MATCH(J95,Odds!F:F,0))","v":1.7272727272727273},{"$f":"INDEX(Odds!I:I,MATCH(J95,Odds!F:F,0))","v":1},1.7272727272727273,null,null,null,{"$f":"IF(Odds!F95=\"\",\"\",Odds!F95)","v":"Chelsea"},{"$f":"INDEX(Odds!G:G,MATCH(R95,Odds!F:F,0))","v":"3/4"},0,null,null,null,null,null,null,null,{"$f":"IF(O95=\"\",\"\",INDEX(Odds!G:G,MATCH(O95,Odds!F:F,0)))","v":""}]
[{"$f":"A95","v":"Kevin Carter"},"Spurs",{"$f":"IF(J96=\"\",\"\",INDEX(Odds!B:B,MATCH(J96,Odds!F:F,0)))","v":"1900-01-01"},1.7272727272727273,"x",null,null,null,null,"Spurs",{"$f":"INDEX(Odds!G:G,MATCH(J96,Odds!F:F,0))","v":"8/11"},{"$f":"INDEX(Odds!H:H,MATCH(J96,Odds!F:F,0))","v":1.7272727272727273},{"$f":"INDEX(Odds!I:I,MATCH(J96,Odds!F:F,0))","v":0},0,null,null,null,{"$f":"IF(Odds!F96=\"\",\"\",Odds!F96)","v":"Man C"},{"$f":"INDEX(Odds!G:G,MATCH(R96,Odds!F:F,0))","v":"3/4"},0,null,null,null,null,null,null,null,{"$f":"IF(O96=\"\",\"\",INDEX(Odds!G:G,MATCH(O96,Odds!F:F,0)))","v":""}]
[{"$f":"A95","v":"Kevin Carter"},"Leicester",{"$f":"IF(J97=\"\",\"\",INDEX(Odds!B:B,MATCH(J97,Odds!F:F,0)))","v":"1900-01-01"},2,"√",null,null,null,null,"Leicester",{"$f":"INDEX(Odds!G:G,MATCH(J97,Odds!F:F,0))","v":"1/1"},{"$f":"INDEX(Odds!H:H,MATCH(J97,Odds!F:F,0))","v":2},{"$f":"INDEX(Odds!I:I,MATCH(J97,Odds!F:F,0))","v":1},2,null,null,null,{"$f":"IF(Odds!F97=\"\",\"\",Odds!F97)","v":"West Brom"},{"$f":"INDEX(Odds!G:G,MATCH(R97,Odds!F:F,0))","v":"12/5"},0,null,null,null,null,null,null,null,{"$f":"IF(O97=\"\",\"\",INDEX(Odds!G:G,MATCH(O97,Odds!F:F,0)))","v":""}]
[{"$f":"Results!B98","v":"Lennie Bow"},"Bournemouth",{"$f":"IF(J98=\"\",\"\",INDEX(Odds!B:B,MATCH(J98,Odds!F:F,0)))","v":"1900-01-07"},1.65,"√",{"$f":"IF(J98=\"\",-10,INDEX(Results!T:T,MATCH(A98,Results!V:V,0)))","v":-1.069230769230769},{"$f":"IF(J98=\"\",\"\",INDEX(Results!AI:AI,MATCH(A98,Results!V:V,0)))","v":10.02},{"$f":"IF(G98=\"\",0,1)","v":1},{"$f":"INDEX(Picks!AG:AG,MATCH(A98,Picks!AD:AD,0))","v":24},"Bournemouth",{"$f":"INDEX(Odds!G:G,MATCH(J98,Odds!F:F,0))","v":"13/20"},{"$f":"INDEX(Odds!H:H,MATCH(J98,Odds!F:F,0))","v":1.65},{"$f":"INDEX(Odds!I:I,MATCH(J98,Odds!F:F,0))","v":1},{"$f":"L98*M98","v":1.65},null,null,null,{"$f":"IF(Odds!F98=\"\",\"\",Odds!F98)","v":"Villa"},{"$f":"INDEX(Odds!G:G,MATCH(R98,Odds!F:F,0))","v":"11/5"},1,null,null,null,null,null,null,null,{"$f":"IF(O98=\"\",\"\",INDEX(Odds!G:G,MATCH(O98,Odds!F:F,0)))","v":""}]
[{"$f":"A98","v":"Lennie Bow"},"Hull",{"$f":"IF(J99=\"\",\"\",INDEX(Odds!B:B,MATCH(J99,Odds!F:F,0)))","v":"1900-01-07"},1.6,"x",null,null,null,null,"Hull",{"$f":"INDEX(Odds!G:G,MATCH(J99,Odds!F:F,0))","v":"6/10"},{"$f":"INDEX(Odds!H:H,MATCH(J99,Odds!F:F,0))","v":1.6},{"$f":"INDEX(Odds!I:I,MATCH(J99,Odds!F:F,0))","v":0},0,null,null,null,{"$f":"IF(Odds!F99=\"\",\"\",Odds!F99)","v":"Watford"},{"$f":"INDEX(Odds!G:G,MATCH(R99,Odds!F:F,0))","v":"21/20"},1,null,null,null,null,null,null,null,{"$f":"IF(O99=\"\",\"\",INDEX(Odds!G:G,MATCH(O99,Odds!F:F,0)))","v":""}]
[{"$f":"A98","v":"Lennie Bow"},"Carlisle",{"$f":"IF(J100=\"\",\"\",INDEX(Odds!B:B,MATCH(J100,Odds!F:F,0)))","v":"1900-01-07"},1.6153846153846154,"√",null,null,null,null,"Carlisle",{"$f":"INDEX(Odds!G:G,MATCH(J100,Odds!F:F,0))","v":"8/13"},{"$f":"INDEX(Odds!H:H,MATCH(J100,Odds!F:F,0))","v":1.6153846153846154},{"$f":"INDEX(Odds!I:I,MATCH(J100,Odds!F:F,0))","v":1},1.6153846153846154,null,null,null,{"$f":"IF(Odds!F100=\"\",\"\",Odds!F100)","v":"Norwich"},{"$f":"INDEX(Odds!G:G,MATCH(R100,Odds!F:F,0))","v":"7/4"},1,null,null,null,null,null,null,null,{"$f":"IF(O100=\"\",\"\",INDEX(Odds!G:G,MATCH(O100,Odds!F:F,0)))","v":""}]
[{"$f":"Results!B101","v":"Lewis Buckley"},"",{"$f":"IF(J101=\"\",\"\",INDEX(Odds!B:B,MATCH(J101,Odds!F:F,0)))","v":""},"","",{"$f":"IF(J101=\"\",-10,INDEX(Results!T:T,MATCH(A101,Results!V:V,0)))","v":-10},{"$f":"IF(J101=\"\",\"\",INDEX(Results!AI:AI,MATCH(A101,Results!V:V,0)))","v":""},{"$f":"IF(G101=\"\",0,1)","v":0},{"$f":"INDEX(Picks!AG:AG,MATCH(A101,Picks!AD:AD,0))","v":59},null,{"$f":"INDEX(Odds!G:G,MATCH(J101,Odds!F:F,0))","v":{"$error":"#N/A"}},{"$f":"INDEX(Odds!H:H,MATCH(J101,Odds!F:F,0))","v":{"$error":"#N/A"}},{"$f":"INDEX(Odds!I:I,MATCH(J101,Odds!F:F,0))","v":{"$error":"#N/A"}},{"$error":"#N/A"},null,null,null,{"$f":"IF(Odds!F101=\"\",\"\",Odds!F101)","v":"Huddersfield"},{"$f":"INDEX(Odds!G:G,MATCH(R101,Odds!F:F,0))","v":"9/2"},0,null,null,null,null,null,null,null,{"$f":"IF(O101=\"\",\"\",INDEX(Odds!G:G,MATCH(O101,Odds!F:F,0)))","v":""}]
[{"$f":"A101","v":"Lewis Buckley"},"",{"$f":"IF(J102=\"\",\"\",INDEX(Odds!B:B,MATCH(J102,Odds!F:F,0)))","v":""},"","",null,null,null,null,null,{"$f":"INDEX(Odds!G:G,MATCH(J102,Odds!F:F,0))","v":{"$error":"#N/A"}},{"$f":"INDEX(Odds!H:H,MATCH(J102,Odds!F:F,0))","v":{"$error":"#N/A"}},{"$f":"INDEX(Odds!I:I,MATCH(J102,Odds!F:F,0))","v":{"$error":"#N/A"}},{"$error":"#N/A"},null,null,null,{"$f":"IF(Odds!F102=\"\",\"\",Odds!F102)","v":"Swansea"},{"$f":"INDEX(Odds!G:G,MATCH(R102,Odds!F:F,0))","v":"2/1"},1,null,null,null,null,null,null,null,{"$f":"IF(O102=\"\",\"\",INDEX(Odds!G:G,MATCH(O102,Odds!F:F,0)))","v":""}]
[{"$f":"A101","v":"Lewis Buckley"},"",{"$f":"IF(J103=\"\",\"\",INDEX(Odds!B:B,MATCH(J103,Odds!F:F,0)))","v":""},"","",null,null,null,null,null,{"$f":"INDEX(Odds!G:G,MATCH(J103,Odds!F:F,0))","v":{"$error":"#N/A"}},{"$f":"INDEX(Odds!H:H,MATCH(J103,Odds!F:F,0))","v":{"$error":"#N/A"}},{"$f":"INDEX(Odds!I:I,MATCH(J103,Odds!F:F,0))","v":{"$error":"#N/A"}},{"$error":"#N/A"},null,null,null,{"$f":"IF(Odds!F103=\"\",\"\",Odds!F103)","v":"Stoke"},{"$f":"INDEX(Odds!G:G,MATCH(R103,Odds!F:F,0))","v":"8/5"},0,null,null,null,null,null,null,null,{"$f":"IF(O103=\"\",\"\",INDEX(Odds!G:G,MATCH(O103,Odds!F:F,0)))","v":""}]
[{"$f":"Results!B104","v":"Liam Wah"},"Man U draw",{"$f":"IF(J104=\"\",\"\",INDEX(Odds!B:B,MATCH(J104,Odds!F:F,0)))","v":"1900-01-07"},4,"√",{"$f":"IF(J104=\"\",-10,INDEX(Results!T:T,MATCH(A104,Results!V:V,0)))","v":8.25},{"$f":"IF(J104=\"\",\"\",INDEX(Results!AI:AI,MATCH(A104,Results!V:V,0)))","v":45.625},{"$f":"IF(G104=\"\",0,1)","v":1},{"$f":"INDEX(Picks!AG:AG,MATCH(A104,Picks!AD:AD,0))","v":6},"Man U draw",{"$f":"INDEX(Odds!G:G,MATCH(J104,Odds!F:F,0))","v":"3/1"},{"$f":"INDEX(Odds!H:H,MATCH(J104,Odds!F:F,0))","v":4},{"$f":"INDEX(Odds!I:I,MATCH(J104,Odds!F:F,0))","v":1},4,null,null,null,{"$f":"IF(Odds!F104=\"\",\"\",Odds!F104)","v":"Brentford"},{"$f":"INDEX(Odds!G:G,MATCH(R104,Odds!F:F,0))","v":"11/10"},1,null,null,null,null,null,null,null,{"$f":"IF(O104=\"\",\"\",INDEX(Odds!G:G,MATCH(O104,Odds!F:F,0)))","v":""}]
[{"$f":"A104","v":"Liam Wah"},"Newcastle",{"$f":"IF(J105=\"\",\"\",INDEX(Odds!B:B,MATCH(J105,Odds!F:F,0)))","v":"1900-01-07"},2.25,"√",null,null,null,null,"Newcastle",{"$f":"INDEX(Odds!G:G,MATCH(J105,Odds!F:F,0))","v":"5/4"},{"$f":"INDEX(Odds!H:H,MATCH(J105,Odds!F:F,0))","v":2.25},{"$f":"INDEX(Odds!I:I,MATCH(J105,Odds!F:F,0))","v":1},2.25,null,null,null,{"$f":"IF(Odds!F105=\"\",\"\",Odds!F105)","v":"Preston"},{"$f":"INDEX(Odds!G:G,MATCH(R105,Odds!F:F,0))","v":"6/4"},0,null,null,null,null,null,null,null,{"$f":"IF(O105=\"\",\"\",INDEX(Odds!G:G,MATCH(O105,Odds!F:F,0)))","v":""}]
[{"$f":"A104","v":"Liam Wah"},"Wolves",{"$f":"IF(J106=\"\",\"\",INDEX(Odds!B:B,MATCH(J106,Odds!F:F,0)))","v":"1900-01-07"},2.2999999999999998,"x",null,null,null,null,"Wolves",{"$f":"INDEX(Odds!G:G,MATCH(J106,Odds!F:F,0))","v":"13/10"},{"$f":"INDEX(Odds!H:H,MATCH(J106,Odds!F:F,0))","v":2.2999999999999998},{"$f":"INDEX(Odds!I:I,MATCH(J106,Odds!F:F,0))","v":0},0,null,null,null,{"$f":"IF(Odds!F106=\"\",\"\",Odds!F106)","v":"Millwall"},{"$f":"INDEX(Odds!G:G,MATCH(R106,Odds!F:F,0))","v":"27/10"},0,null,null,null,null,null,null,null,{"$f":"IF(O106=\"\",\"\",INDEX(Odds!G:G,MATCH(O106,Odds!F:F,0)))","v":""}]
[{"$f":"Results!B107","v":"Mal Stott"},"Blackpool",{"$f":"IF(J107=\"\",\"\",INDEX(Odds!B:B,MATCH(J107,Odds!F:F,0)))","v":"1900-01-07"},2.2000000000000002,"x",{"$f":"IF(J107=\"\",-10,INDEX(Results!T:T,MATCH(A107,Results!V:V,0)))","v":-7},{"$f":"IF(J107=\"\",\"\",INDEX(Results!AI:AI,MATCH(A107,Results!V:V,0)))","v":45.76},{"$f":"IF(G107=\"\",0,1)","v":1},{"$f":"INDEX(Picks!AG:AG,MATCH(A107,Picks!AD:AD,0))","v":46},"Blackpool",{"$f":"INDEX(Odds!G:G,MATCH(J107,Odds!F:F,0))","v":"6/5"},{"$f":"INDEX(Odds!H:H,MATCH(J107,Odds!F:F,0))","v":2.2000000000000002},{"$f":"INDEX(Odds!I:I,MATCH(J107,Odds!F:F,0))","v":0},0,null,null,null,{"$f":"IF(Odds!F107=\"\",\"\",Odds!F107)","v":"Reading"},{"$f":"INDEX(Odds!G:G,MATCH(R107,Odds!F:F,0))","v":"17/10"},1,null,null,null,null,null,null,null,{"$f":"IF(O107=\"\",\"\",INDEX(Odds!G:G,MATCH(O107,Odds!F:F,0)))","v":""}]
[{"$f":"A107","v":"Mal Stott"},"Forest",{"$f":"IF(J108=\"\",\"\",INDEX(Odds!B:B,MATCH(J108,Odds!F:F,0)))","v":"1900-01-07"},3.8,"x",null,null,null,null,"Forest",{"$f":"INDEX(Odds!G:G,MATCH(J108,Odds!F:F,0))","v":"14/5"},{"$f":"INDEX(Odds!H:H,MATCH(J108,Odds!F:F,0))","v":3.8},{"$f":"INDEX(Odds!I:I,MATCH(J108,Odds!F:F,0))","v":0},0,null,null,null,{"$f":"IF(Odds!F108=\"\",\"\",Odds!F108)","v":"Bristol C"},{"$f":"INDEX(Odds!G:G,MATCH(R108,Odds!F:F,0))","v":"6/4"},0,null,null,null,null,null,null,null,{"$f":"IF(O108=\"\",\"\",INDEX(Odds!G:G,MATCH(O108,Odds!F:F,0)))","v":""}]
[{"$f":"A107","v":"Mal Stott"},"Blackburn",{"$f":"IF(J109=\"\",\"\",INDEX(Odds!B:B,MATCH(J109,Odds!F:F,0)))","v":"1900-01-07"},2.5,"x",null,null,null,null,"Blackburn",{"$f":"INDEX(Odds!G:G,MATCH(J109,Odds!F:F,0))","v":"6/4"},{"$f":"INDEX(Odds!H:H,MATCH(J109,Odds!F:F,0))","v":2.5},{"$f":"INDEX(Odds!I:I,MATCH(J109,Odds!F:F,0))","v":0},0,null,null,null,{"$f":"IF(Odds!F109=\"\",\"\",Odds!F109)","v":"Barnsley"},{"$f":"INDEX(Odds!G:G,MATCH(R109,Odds!F:F,0))","v":"21/10"},1,null,null,null,null,null,null,null,{"$f":"IF(O109=\"\",\"\",INDEX(Odds!G:G,MATCH(O109,Odds!F:F,0)))","v":""}]
[{"$f":"Results!B110","v":"Mark Bunn"},{"$f":"IF(J110=\"\",\"\",J110)","v":"Stoke"},{"$f":"IF(J110=\"\",\"\",INDEX(Odds!B:B,MATCH(J110,Odds!F:F,0)))","v":"1900-01-07"},{"$f":"IF(J110=\"\",\"\",L110)","v":2.6},"x",{"$f":"IF(J110=\"\",-10,INDEX(Results!T:T,MATCH(A110,Results!V:V,0)))","v":-4.3},{"$f":"IF(J110=\"\",\"\",INDEX(Results!AI:AI,MATCH(A110,Results!V:V,0)))","v":38.620000000000005},{"$f":"IF(G110=\"\",0,1)","v":1},{"$f":"INDEX(Picks!AG:AG,MATCH(A110,Picks!AD:AD,0))","v":35},"Stoke",{"$f":"INDEX(Odds!G:G,MATCH(J110,Odds!F:F,0))","v":"8/5"},{"$f":"INDEX(Odds!H:H,MATCH(J110,Odds!F:F,0))","v":2.6},{"$f":"INDEX(Odds!I:I,MATCH(J110,Odds!F:F,0))","v":0},0,null,null,null,{"$f":"IF(Odds!F110=\"\",\"\",Odds!F110)","v":"Coventry"},{"$f":"INDEX(Odds!G:G,MATCH(R110,Odds!F:F,0))","v":"11/8"},1,null,null,null,null,null,null,null,{"$f":"IF(O110=\"\",\"\",INDEX(Odds!G:G,MATCH(O110,Odds!F:F,0)))","v":""}]
[{"$f":"A110","v":"Mark Bunn"},"Reading",{"$f":"IF(J111=\"\",\"\",INDEX(Odds!B:B,MATCH(J111,Odds!F:F,0)))","v":"1900-01-07"},2.7,"√",null,null,null,null,"Reading",{"$f":"INDEX(Odds!G:G,MATCH(J111,Odds!F:F,0))","v":"17/10"},{"$f":"INDEX(Odds!H:H,MATCH(J111,Odds!F:F,0))","v":2.7},{"$f":"INDEX(Odds!I:I,MATCH(J111,Odds!F:F,0))","v":1},2.7,null,null,null,{"$f":"IF(Odds!F111=\"\",\"\",Odds!F111)","v":"Oxford"},{"$f":"INDEX(Odds!G:G,MATCH(R111,Odds!F:F,0))","v":"12/5"},0,null,null,null,null,null,null,null,{"$f":"IF(O111=\"\",\"\",INDEX(Odds!G:G,MATCH(O111,Odds!F:F,0)))","v":""}]
[{"$f":"A110","v":"Mark Bunn"},"Bristol C",{"$f":"IF(J112=\"\",\"\",INDEX(Odds!B:B,MATCH(J112,Odds!F:F,0)))","v":"1900-01-07"},2.5,"x",null,null,null,null,"Bristol C",{"$f":"INDEX(Odds!G:G,MATCH(J112,Odds!F:F,0))","v":"6/4"},{"$f":"INDEX(Odds!H:H,MATCH(J112,Odds!F:F,0))","v":2.5},{"$f":"INDEX(Odds!I:I,MATCH(J112,Odds!F:F,0))","v":0},0,null,null,null,{"$f":"IF(Odds!F112=\"\",\"\",Odds!F112)","v":"Plymouth"},{"$f":"INDEX(Odds!G:G,MATCH(R112,Odds!F:F,0))","v":"17/10"},0,null,null,null,null,null,null,null,{"$f":"IF(O112=\"\",\"\",INDEX(Odds!G:G,MATCH(O112,Odds!F:F,0)))","v":""}]
[{"$f":"Results!B113","v":"Mark Saunders"},"Man U draw",{"$f":"IF(J113=\"\",\"\",INDEX(Odds!B:B,MATCH(J113,Odds!F:F,0)))","v":"1900-01-07"},4,"√",{"$f":"IF(J113=\"\",-10,INDEX(Results!T:T,MATCH(A113,Results!V:V,0)))","v":4.6666666666666661},{"$f":"IF(J113=\"\",\"\",INDEX(Results!AI:AI,MATCH(A113,Results!V:V,0)))","v":46.466666666666654},{"$f":"IF(G113=\"\",0,1)","v":1},{"$f":"INDEX(Picks!AG:AG,MATCH(A113,Picks!AD:AD,0))","v":8},"Man U draw",{"$f":"INDEX(Odds!G:G,MATCH(J113,Odds!F:F,0))","v":"3/1"},{"$f":"INDEX(Odds!H:H,MATCH(J113,Odds!F:F,0))","v":4},{"$f":"INDEX(Odds!I:I,MATCH(J113,Odds!F:F,0))","v":1},4,null,null,null,{"$f":"IF(Odds!F113=\"\",\"\",Odds!F113)","v":"Wimbledon"},{"$f":"INDEX(Odds!G:G,MATCH(R113,Odds!F:F,0))","v":"17/10"},0,null,null,null,null,null,null,null,{"$f":"IF(O113=\"\",\"\",INDEX(Odds!G:G,MATCH(O113,Odds!F:F,0)))","v":""}]
[{"$f":"A113","v":"Mark Saunders"},"Wolves draw",{"$f":"IF(J114=\"\",\"\",INDEX(Odds!B:B,MATCH(J114,Odds!F:F,0)))","v":"1900-01-07"},3.3,"x",null,null,null,null,"Wolves draw",{"$f":"INDEX(Odds!G:G,MATCH(J114,Odds!F:F,0))","v":"23/10"},{"$f":"INDEX(Odds!H:H,MATCH(J114,Odds!F:F,0))","v":3.3},{"$f":"INDEX(Odds!I:I,MATCH(J114,Odds!F:F,0))","v":0},0,null,null,null,{"$f":"IF(Odds!F114=\"\",\"\",Odds!F114)","v":"Northampton"},{"$f":"INDEX(Odds!G:G,MATCH(R114,Odds!F:F,0))","v":"15/4"},0,null,null,null,null,null,null,null,{"$f":"IF(O114=\"\",\"\",INDEX(Odds!G:G,MATCH(O114,Odds!F:F,0)))","v":""}]
[{"$f":"A113","v":"Mark Saunders"},"Peterborough",{"$f":"IF(J115=\"\",\"\",INDEX(Odds!B:B,MATCH(J115,Odds!F:F,0)))","v":"1900-01-07"},1.5333333333333332,"√",null,null,null,null,"Peterborough",{"$f":"INDEX(Odds!G:G,MATCH(J115,Odds!F:F,0))","v":"8/15"},{"$f":"INDEX(Odds!H:H,MATCH(J115,Odds!F:F,0))","v":1.5333333333333332},{"$f":"INDEX(Odds!I:I,MATCH(J115,Odds!F:F,0))","v":1},1.5333333333333332,null,null,null,{"$f":"IF(Odds!F115=\"\",\"\",Odds!F115)","v":"Gillingham"},{"$f":"INDEX(Odds!G:G,MATCH(R115,Odds!F:F,0))","v":"29/10"},0,null,null,null,null,null,null,null,{"$f":"IF(O115=\"\",\"\",INDEX(Odds!G:G,MATCH(O115,Odds!F:F,0)))","v":""}]
[{"$f":"Results!B116","v":"Martin Molyneux"},"Man U Draw",{"$f":"IF(J116=\"\",\"\",INDEX(Odds!B:B,MATCH(J116,Odds!F:F,0)))","v":"1900-01-07"},4,"√",{"$f":"IF(J116=\"\",-10,INDEX(Results!T:T,MATCH(A116,Results!V:V,0)))","v":5.6363636363636367},{"$f":"IF(J116=\"\",\"\",INDEX(Results!AI:AI,MATCH(A116,Results!V:V,0)))","v":29.190082644628099},{"$f":"IF(G116=\"\",0,1)","v":1},{"$f":"INDEX(Picks!AG:AG,MATCH(A116,Picks!AD:AD,0))","v":7},"Man U Draw",{"$f":"INDEX(Odds!G:G,MATCH(J116,Odds!F:F,0))","v":"3/1"},{"$f":"INDEX(Odds!H:H,MATCH(J116,Odds!F:F,0))","v":4},{"$f":"INDEX(Odds!I:I,MATCH(J116,Odds!F:F,0))","v":1},4,null,null,null,{"$f":"IF(Odds!F116=\"\",\"\",Odds!F116)","v":"Shrewsbury"},{"$f":"INDEX(Odds!G:G,MATCH(R116,Odds!F:F,0))","v":"24/5"},1,null,null,null,null,null,null,null,{"$f":"IF(O116=\"\",\"\",INDEX(Odds!G:G,MATCH(O116,Odds!F:F,0)))","v":""}]
[{"$f":"A116","v":"Martin Molyneux"},"Spurs",{"$f":"IF(J117=\"\",\"\",INDEX(Odds!B:B,MATCH(J117,Odds!F:F,0)))","v":"1900-01-01"},1.7272727272727273,"x",null,null,null,null,"Spurs",{"$f":"INDEX(Odds!G:G,MATCH(J117,Odds!F:F,0))","v":"8/11"},{"$f":"INDEX(Odds!H:H,MATCH(J117,Odds!F:F,0))","v":1.7272727272727273},{"$f":"INDEX(Odds!I:I,MATCH(J117,Odds!F:F,0))","v":0},0,null,null,null,{"$f":"IF(Odds!F117=\"\",\"\",Odds!F117)","v":"Portsmouth"},{"$f":"INDEX(Odds!G:G,MATCH(R117,Odds!F:F,0))","v":"6/5"},1,null,null,null,null,null,null,null,{"$f":"IF(O117=\"\",\"\",INDEX(Odds!G:G,MATCH(O117,Odds!F:F,0)))","v":""}]
[{"$f":"A116","v":"Martin Molyneux"},"Southampton",{"$f":"IF(J118=\"\",\"\",INDEX(Odds!B:B,MATCH(J118,Odds!F:F,0)))","v":"1900-01-01"},1.7272727272727273,"√",null,null,null,null,"Southampton",{"$f":"INDEX(Odds!G:G,MATCH(J118,Odds!F:F,0))","v":"8/11"},{"$f":"INDEX(Odds!H:H,MATCH(J118,Odds!F:F,0))","v":1.7272727272727273},{"$f":"INDEX(Odds!I:I,MATCH(J118,Odds!F:F,0))","v":1},1.7272727272727273,null,null,null,{"$f":"IF(Odds!F118=\"\",\"\",Odds!F118)","v":"Sunderland"},{"$f":"INDEX(Odds!G:G,MATCH(R118,Odds!F:F,0))","v":"8/5"},1,null,null,null,null,null,null,null,{"$f":"IF(O118=\"\",\"\",INDEX(Odds!G:G,MATCH(O118,Odds!F:F,0)))","v":""}]
[{"$f":"Results!B119","v":"Martin Tarbuck"},"Wolves",{"$f":"IF(J119=\"\",\"\",INDEX(Odds!B:B,MATCH(J119,Odds!F:F,0)))","v":"1900-01-07"},2.2999999999999998,"x",{"$f":"IF(J119=\"\",-10,INDEX(Results!T:T,MATCH(A119,Results!V:V,0)))","v":-5.35},{"$f":"IF(J119=\"\",\"\",INDEX(Results!AI:AI,MATCH(A119,Results!V:V,0)))","v":25.230999999999995},{"$f":"IF(G119=\"\",0,1)","v":1},{"$f":"INDEX(Picks!AG:AG,MATCH(A119,Picks!AD:AD,0))","v":43},"Wolves",{"$f":"INDEX(Odds!G:G,MATCH(J119,Odds!F:F,0))","v":"13/10"},{"$f":"INDEX(Odds!H:H,MATCH(J119,Odds!F:F,0))","v":2.2999999999999998},{"$f":"INDEX(Odds!I:I,MATCH(J119,Odds!F:F,0))","v":0},0,null,null,null,{"$f":"IF(Odds!F119=\"\",\"\",Odds!F119)","v":"Burton"},{"$f":"INDEX(Odds!G:G,MATCH(R119,Odds!F:F,0))","v":"16/5"},0,null,null,null,null,null,null,null,{"$f":"IF(O119=\"\",\"\",INDEX(Odds!G:G,MATCH(O119,Odds!F:F,0)))","v":""}]
[{"$f":"A119","v":"Martin Tarbuck"},"Bournemouth",{"$f":"IF(J120=\"\",\"\",INDEX(Odds!B:B,MATCH(J120,Odds!F:F,0)))","v":"1900-01-07"},1.65,"√",null,null,null,null,"Bournemouth",{"$f":"INDEX(Odds!G:G,MATCH(J120,Odds!F:F,0))","v":"13/20"},{"$f":"INDEX(Odds!H:H,MATCH(J120,Odds!F:F,0))","v":1.65},{"$f":"INDEX(Odds!I:I,MATCH(J120,Odds!F:F,0))","v":1},1.65,null,null,null,{"$f":"IF(Odds!F120=\"\",\"\",Odds!F120)","v":"Rochdale"},{"$f":"INDEX(Odds!G:G,MATCH(R120,Odds!F:F,0))","v":"5/1"},0,null,null,null,null,null,null,null,{"$f":"IF(O120=\"\",\"\",INDEX(Odds!G:G,MATCH(O120,Odds!F:F,0)))","v":""}]
[{"$f":"A119","v":"Martin Tarbuck"},"Lincoln",{"$f":"IF(J121=\"\",\"\",INDEX(Odds!B:B,MATCH(J121,Odds!F:F,0)))","v":"1900-01-07"},2.8,"x",null,null,null,null,"Lincoln",{"$f":"INDEX(Odds!G:G,MATCH(J121,Odds!F:F,0))","v":"9/5"},{"$f":"INDEX(Odds!H:H,MATCH(J121,Odds!F:F,0))","v":2.8},{"$f":"INDEX(Odds!I:I,MATCH(J121,Odds!F:F,0))","v":0},0,null,null,null,{"$f":"IF(Odds!F121=\"\",\"\",Odds!F121)","v":"Fleetwood"},{"$f":"INDEX(Odds!G:G,MATCH(R121,Odds!F:F,0))","v":"23/20"},1,null,null,null,null,null,null,null,{"$f":"IF(O121=\"\",\"\",INDEX(Odds!G:G,MATCH(O121,Odds!F:F,0)))","v":""}]
[{"$f":"Results!B122","v":"Mike Penk"},"West Brom",{"$f":"IF(J122=\"\",\"\",INDEX(Odds!B:B,MATCH(J122,Odds!F:F,0)))","v":"1900-01-07"},3.4,"x",{"$f":"IF(J122=\"\",-10,INDEX(Results!T:T,MATCH(A122,Results!V:V,0)))","v":-4.8499999999999996},{"$f":"IF(J122=\"\",\"\",INDEX(Results!AI:AI,MATCH(A122,Results!V:V,0)))","v":43.281999999999996},{"$f":"IF(G122=\"\",0,1)","v":1},{"$f":"INDEX(Picks!AG:AG,MATCH(A122,Picks!AD:AD,0))","v":38},"West Brom",{"$f":"INDEX(Odds!G:G,MATCH(J122,Odds!F:F,0))","v":"12/5"},{"$f":"INDEX(Odds!H:H,MATCH(J122,Odds!F:F,0))","v":3.4},{"$f":"INDEX(Odds!I:I,MATCH(J122,Odds!F:F,0))","v":0},0,null,null,null,{"$f":"IF(Odds!F122=\"\",\"\",Odds!F122)","v":"Accrington"},{"$f":"INDEX(Odds!G:G,MATCH(R122,Odds!F:F,0))","v":"5/4"},0,null,null,null,null,null,null,null,{"$f":"IF(O122=\"\",\"\",INDEX(Odds!G:G,MATCH(O122,Odds!F:F,0)))","v":""}]
[{"$f":"A122","v":"Mike Penk"},"Plymouth",{"$f":"IF(J123=\"\",\"\",INDEX(Odds!B:B,MATCH(J123,Odds!F:F,0)))","v":"1900-01-07"},2.7,"x",null,null,null,null,"Plymouth",{"$f":"INDEX(Odds!G:G,MATCH(J123,Odds!F:F,0))","v":"17/10"},{"$f":"INDEX(Odds!H:H,MATCH(J123,Odds!F:F,0))","v":2.7},{"$f":"INDEX(Odds!I:I,MATCH(J123,Odds!F:F,0))","v":0},0,null,null,null,{"$f":"IF(Odds!F123=\"\",\"\",Odds!F123)","v":"Stevenage"},{"$f":"INDEX(Odds!G:G,MATCH(R123,Odds!F:F,0))","v":"9/2"},0,null,null,null,null,null,null,null,{"$f":"IF(O123=\"\",\"\",INDEX(Odds!G:G,MATCH(O123,Odds!F:F,0)))","v":""}]
[{"$f":"A122","v":"Mike Penk"},"Fleetwood",{"$f":"IF(J124=\"\",\"\",INDEX(Odds!B:B,MATCH(J124,Odds!F:F,0)))","v":"1900-01-07"},2.15,"√",null,null,null,null,"Fleetwood",{"$f":"INDEX(Odds!G:G,MATCH(J124,Odds!F:F,0))","v":"23/20"},{"$f":"INDEX(Odds!H:H,MATCH(J124,Odds!F:F,0))","v":2.15},{"$f":"INDEX(Odds!I:I,MATCH(J124,Odds!F:F,0))","v":1},2.15,null,null,null,{"$f":"IF(Odds!F124=\"\",\"\",Odds!F124)","v":"Barrow"},{"$f":"INDEX(Odds!G:G,MATCH(R124,Odds!F:F,0))","v":"15/8"},0,null,null,null,null,null,null,null,{"$f":"IF(O124=\"\",\"\",INDEX(Odds!G:G,MATCH(O124,Odds!F:F,0)))","v":""}]
[{"$f":"Results!B125","v":"Mo Sudell"},"Carlisle",{"$f":"IF(J125=\"\",\"\",INDEX(Odds!B:B,MATCH(J125,Odds!F:F,0)))","v":"1900-01-07"},1.6153846153846154,"√",{"$f":"IF(J125=\"\",-10,INDEX(Results!T:T,MATCH(A125,Results!V:V,0)))","v":-5.384615384615385},{"$f":"IF(J125=\"\",\"\",INDEX(Results!AI:AI,MATCH(A125,Results!V:V,0)))","v":17.84},{"$f":"IF(G125=\"\",0,1)","v":1},{"$f":"INDEX(Picks!AG:AG,MATCH(A125,Picks!AD:AD,0))","v":45},"Carlisle",{"$f":"INDEX(Odds!G:G,MATCH(J125,Odds!F:F,0))","v":"8/13"},{"$f":"INDEX(Odds!H:H,MATCH(J125,Odds!F:F,0))","v":1.6153846153846154},{"$f":"INDEX(Odds!I:I,MATCH(J125,Odds!F:F,0))","v":1},1.6153846153846154,null,null,null,{"$f":"IF(Odds!F125=\"\",\"\",Odds!F125)","v":"Tranmere"},{"$f":"INDEX(Odds!G:G,MATCH(R125,Odds!F:F,0))","v":"14/5"},0,null,null,null,null,null,null,null,{"$f":"IF(O125=\"\",\"\",INDEX(Odds!G:G,MATCH(O125,Odds!F:F,0)))","v":""}]
[{"$f":"A125","v":"Mo Sudell"},"Hull",{"$f":"IF(J126=\"\",\"\",INDEX(Odds!B:B,MATCH(J126,Odds!F:F,0)))","v":"1900-01-07"},1.6,"x",null,null,null,null,"Hull",{"$f":"INDEX(Odds!G:G,MATCH(J126,Odds!F:F,0))","v":"6/10"},{"$f":"INDEX(Odds!H:H,MATCH(J126,Odds!F:F,0))","v":1.6},{"$f":"INDEX(Odds!I:I,MATCH(J126,Odds!F:F,0))","v":0},0,null,null,null,{"$f":"IF(Odds!F126=\"\",\"\",Odds!F126)","v":"Cambridge"},{"$f":"INDEX(Odds!G:G,MATCH(R126,Odds!F:F,0))","v":"27/10"},0,null,null,null,null,null,null,null,{"$f":"IF(O126=\"\",\"\",INDEX(Odds!G:G,MATCH(O126,Odds!F:F,0)))","v":""}]
[{"$f":"A125","v":"Mo Sudell"},"Lincoln",{"$f":"IF(J127=\"\",\"\",INDEX(Odds!B:B,MATCH(J127,Odds!F:F,0)))","v":"1900-01-07"},2.8,"x",null,null,null,null,"Lincoln",{"$f":"INDEX(Odds!G:G,MATCH(J127,Odds!F:F,0))","v":"9/5"},{"$f":"INDEX(Odds!H:H,MATCH(J127,Odds!F:F,0))","v":2.8},{"$f":"INDEX(Odds!I:I,MATCH(J127,Odds!F:F,0))","v":0},0,null,null,null,{"$f":"IF(Odds!F127=\"\",\"\",Odds!F127)","v":"Mansfield"},{"$f":"INDEX(Odds!G:G,MATCH(R127,Odds!F:F,0))","v":"13/10"},0,null,null,null,null,null,null,null,{"$f":"IF(O127=\"\",\"\",INDEX(Odds!G:G,MATCH(O127,Odds!F:F,0)))","v":""}]
[{"$f":"Results!B128","v":"Nick Blocksidge"},"Arsenal",{"$f":"IF(J128=\"\",\"\",INDEX(Odds!B:B,MATCH(J128,Odds!F:F,0)))","v":"1900-01-01"},1.55,"x",{"$f":"IF(J128=\"\",-10,INDEX(Results!T:T,MATCH(A128,Results!V:V,0)))","v":-5},{"$f":"IF(J128=\"\",\"\",INDEX(Results!AI:AI,MATCH(A128,Results!V:V,0)))","v":12.863636363636367},{"$f":"IF(G128=\"\",0,1)","v":1},{"$f":"INDEX(Picks!AG:AG,MATCH(A128,Picks!AD:AD,0))","v":40},"Arsenal",{"$f":"INDEX(Odds!G:G,MATCH(J128,Odds!F:F,0))","v":"11/20"},{"$f":"INDEX(Odds!H:H,MATCH(J128,Odds!F:F,0))","v":1.55},{"$f":"INDEX(Odds!I:I,MATCH(J128,Odds!F:F,0))","v":0},0,null,null,null,{"$f":"IF(Odds!F128=\"\",\"\",Odds!F128)","v":"Harrogate"},{"$f":"INDEX(Odds!G:G,MATCH(R128,Odds!F:F,0))","v":"17/10"},0,null,null,null,null,null,null,null,{"$f":"IF(O128=\"\",\"\",INDEX(Odds!G:G,MATCH(O128,Odds!F:F,0)))","v":""}]
[{"$f":"A128","v":"Nick Blocksidge"},"Leicester",{"$f":"IF(J129=\"\",\"\",INDEX(Odds!B:B,MATCH(J129,Odds!F:F,0)))","v":"1900-01-01"},2,"√",null,null,null,null,"Leicester",{"$f":"INDEX(Odds!G:G,MATCH(J129,Odds!F:F,0))","v":"1/1"},{"$f":"INDEX(Odds!H:H,MATCH(J129,Odds!F:F,0))","v":2},{"$f":"INDEX(Odds!I:I,MATCH(J129,Odds!F:F,0))","v":1},2,null,null,null,{"$f":"IF(Odds!F129=\"\",\"\",Odds!F129)","v":"Bradford"},{"$f":"INDEX(Odds!G:G,MATCH(R129,Odds!F:F,0))","v":"19/10"},0,null,null,null,null,null,null,null,{"$f":"IF(O129=\"\",\"\",INDEX(Odds!G:G,MATCH(O129,Odds!F:F,0)))","v":""}]
[{"$f":"A128","v":"Nick Blocksidge"},"Spurs",{"$f":"IF(J130=\"\",\"\",INDEX(Odds!B:B,MATCH(J130,Odds!F:F,0)))","v":"1900-01-01"},1.7272727272727273,"x",null,null,null,null,"Spurs",{"$f":"INDEX(Odds!G:G,MATCH(J130,Odds!F:F,0))","v":"8/11"},{"$f":"INDEX(Odds!H:H,MATCH(J130,Odds!F:F,0))","v":1.7272727272727273},{"$f":"INDEX(Odds!I:I,MATCH(J130,Odds!F:F,0))","v":0},0,null,null,null,{"$f":"IF(Odds!F130=\"\",\"\",Odds!F130)","v":"Newport"},{"$f":"INDEX(Odds!G:G,MATCH(R130,Odds!F:F,0))","v":"11/8"},0,null,null,null,null,null,null,null,{"$f":"IF(O130=\"\",\"\",INDEX(Odds!G:G,MATCH(O130,Odds!F:F,0)))","v":""}]
[{"$f":"Results!B131","v":"Nigel Heyes"},"Everton draw",{"$f":"IF(J131=\"\",\"\",INDEX(Odds!B:B,MATCH(J131,Odds!F:F,0)))","v":"1900-01-07"},4,{"$f":"IF(J131=\"\",\"\",IF(M131=1,\"√\",\"x\"))","v":"x"},{"$f":"IF(J131=\"\",-10,INDEX(Results!T:T,MATCH(A131,Results!V:V,0)))","v":-3.8},{"$f":"IF(J131=\"\",\"\",INDEX(Results!AI:AI,MATCH(A131,Results!V:V,0)))","v":86.5},{"$f":"IF(G131=\"\",0,1)","v":1},{"$f":"INDEX(Picks!AG:AG,MATCH(A131,Picks!AD:AD,0))","v":28},"Everton draw",{"$f":"INDEX(Odds!G:G,MATCH(J131,Odds!F:F,0))","v":"3/1"},{"$f":"INDEX(Odds!H:H,MATCH(J131,Odds!F:F,0))","v":4},{"$f":"INDEX(Odds!I:I,MATCH(J131,Odds!F:F,0))","v":0},0,null,null,null,{"$f":"IF(Odds!F131=\"\",\"\",Odds!F131)","v":"Colchester"},{"$f":"INDEX(Odds!G:G,MATCH(R131,Odds!F:F,0))","v":"23/10"},0,null,null,null,null,null,null,null,{"$f":"IF(O131=\"\",\"\",INDEX(Odds!G:G,MATCH(O131,Odds!F:F,0)))","v":""}]
[{"$f":"A131","v":"Nigel Heyes"},"Blackburn draw",{"$f":"IF(J132=\"\",\"\",INDEX(Odds!B:B,MATCH(J132,Odds!F:F,0)))","v":"1900-01-07"},3.5,"x",null,null,null,null,"Blackburn draw",{"$f":"INDEX(Odds!G:G,MATCH(J132,Odds!F:F,0))","v":"5/2"},{"$f":"INDEX(Odds!H:H,MATCH(J132,Odds!F:F,0))","v":3.5},{"$f":"INDEX(Odds!I:I,MATCH(J132,Odds!F:F,0))","v":0},0,null,null,null,{"$f":"IF(Odds!F132=\"\",\"\",Odds!F132)","v":"Cheltenham"},{"$f":"INDEX(Odds!G:G,MATCH(R132,Odds!F:F,0))","v":"17/10"},0,null,null,null,null,null,null,null,{"$f":"IF(O132=\"\",\"\",INDEX(Odds!G:G,MATCH(O132,Odds!F:F,0)))","v":""}]
[{"$f":"A131","v":"Nigel Heyes"},"Derby draw",{"$f":"IF(J133=\"\",\"\",INDEX(Odds!B:B,MATCH(J133,Odds!F:F,0)))","v":"1900-01-07"},3.2,"√",null,null,null,null,"Derby draw",{"$f":"INDEX(Odds!G:G,MATCH(J133,Odds!F:F,0))","v":"11/5"},{"$f":"INDEX(Odds!H:H,MATCH(J133,Odds!F:F,0))","v":3.2},{"$f":"INDEX(Odds!I:I,MATCH(J133,Odds!F:F,0))","v":1},3.2,null,null,null,{"$f":"IF(Odds!F133=\"\",\"\",Odds!F133)","v":"Scunthorpe"},{"$f":"INDEX(Odds!G:G,MATCH(R133,Odds!F:F,0))","v":"13/10"},0,null,null,null,null,null,null,null,{"$f":"IF(O133=\"\",\"\",INDEX(Odds!G:G,MATCH(O133,Odds!F:F,0)))","v":""}]
[{"$f":"Results!B134","v":"Oscar Jackson"},"Blackpool",{"$f":"IF(J134=\"\",\"\",INDEX(Odds!B:B,MATCH(J134,Odds!F:F,0)))","v":"1900-01-07"},2.2000000000000002,"x",{"$f":"IF(J134=\"\",-10,INDEX(Results!T:T,MATCH(A134,Results!V:V,0)))","v":-5.0909090909090908},{"$f":"IF(J134=\"\",\"\",INDEX(Results!AI:AI,MATCH(A134,Results!V:V,0)))","v":16.203636363636363},{"$f":"IF(G134=\"\",0,1)","v":1},{"$f":"INDEX(Picks!AG:AG,MATCH(A134,Picks!AD:AD,0))","v":42},"Blackpool",{"$f":"INDEX(Odds!G:G,MATCH(J134,Odds!F:F,0))","v":"6/5"},{"$f":"INDEX(Odds!H:H,MATCH(J134,Odds!F:F,0))","v":2.2000000000000002},{"$f":"INDEX(Odds!I:I,MATCH(J134,Odds!F:F,0))","v":0},0,null,null,null,{"$f":"IF(Odds!F134=\"\",\"\",Odds!F134)","v":"Bolton"},{"$f":"INDEX(Odds!G:G,MATCH(R134,Odds!F:F,0))","v":"11/5"},0,null,null,null,null,null,null,null,{"$f":"IF(O134=\"\",\"\",INDEX(Odds!G:G,MATCH(O134,Odds!F:F,0)))","v":""}]
[{"$f":"A134","v":"Oscar Jackson"},"Hull",{"$f":"IF(J135=\"\",\"\",INDEX(Odds!B:B,MATCH(J135,Odds!F:F,0)))","v":"1900-01-07"},1.6,"x",null,null,null,null,"Hull",{"$f":"INDEX(Odds!G:G,MATCH(J135,Odds!F:F,0))","v":"6/10"},{"$f":"INDEX(Odds!H:H,MATCH(J135,Odds!F:F,0))","v":1.6},{"$f":"INDEX(Odds!I:I,MATCH(J135,Odds!F:F,0))","v":0},0,null,null,null,{"$f":"IF(Odds!F135=\"\",\"\",Odds!F135)","v":"Burnley"},{"$f":"INDEX(Odds!G:G,MATCH(R135,Odds!F:F,0))","v":"11/2"},1,null,null,null,null,null,null,null,{"$f":"IF(O135=\"\",\"\",INDEX(Odds!G:G,MATCH(O135,Odds!F:F,0)))","v":""}]
[{"$f":"A134","v":"Oscar Jackson"},"Exeter",{"$f":"IF(J136=\"\",\"\",INDEX(Odds!B:B,MATCH(J136,Odds!F:F,0)))","v":"1900-01-07"},1.9090909090909092,"√",null,null,null,null,"Exeter",{"$f":"INDEX(Odds!G:G,MATCH(J136,Odds!F:F,0))","v":"10/11"},{"$f":"INDEX(Odds!H:H,MATCH(J136,Odds!F:F,0))","v":1.9090909090909092},{"$f":"INDEX(Odds!I:I,MATCH(J136,Odds!F:F,0))","v":1},1.9090909090909092,null,null,null,{"$f":"IF(Odds!F136=\"\",\"\",Odds!F136)","v":"Liverpool"},{"$f":"INDEX(Odds!G:G,MATCH(R136,Odds!F:F,0))","v":"1/3"},0,null,null,null,null,null,null,null,{"$f":"IF(O136=\"\",\"\",INDEX(Odds!G:G,MATCH(O136,Odds!F:F,0)))","v":""}]
[{"$f":"Results!B137","v":"Paul Adderley"},"QPR",{"$f":"IF(J137=\"\",\"\",INDEX(Odds!B:B,MATCH(J137,Odds!F:F,0)))","v":"1900-01-07"},2.625,"x",{"$f":"IF(J137=\"\",-10,INDEX(Results!T:T,MATCH(A137,Results!V:V,0)))","v":-4.25},{"$f":"IF(J137=\"\",\"\",INDEX(Results!AI:AI,MATCH(A137,Results!V:V,0)))","v":57.25},{"$f":"IF(G137=\"\",0,1)","v":1},{"$f":"INDEX(Picks!AG:AG,MATCH(A137,Picks!AD:AD,0))","v":34},"QPR",{"$f":"INDEX(Odds!G:G,MATCH(J137,Odds!F:F,0))","v":"13/8"},{"$f":"INDEX(Odds!H:H,MATCH(J137,Odds!F:F,0))","v":2.625},{"$f":"INDEX(Odds!I:I,MATCH(J137,Odds!F:F,0))","v":0},0,null,null,null,{"$f":"IF(Odds!F137=\"\",\"\",Odds!F137)","v":"Brighton"},{"$f":"INDEX(Odds!G:G,MATCH(R137,Odds!F:F,0))","v":"11/4"},0,null,null,null,null,null,null,null,{"$f":"IF(O137=\"\",\"\",INDEX(Odds!G:G,MATCH(O137,Odds!F:F,0)))","v":""}]
[{"$f":"A137","v":"Paul Adderley"},"Forest",{"$f":"IF(J138=\"\",\"\",INDEX(Odds!B:B,MATCH(J138,Odds!F:F,0)))","v":"1900-01-07"},3.8,"x",null,null,null,null,"Forest",{"$f":"INDEX(Odds!G:G,MATCH(J138,Odds!F:F,0))","v":"14/5"},{"$f":"INDEX(Odds!H:H,MATCH(J138,Odds!F:F,0))","v":3.8},{"$f":"INDEX(Odds!I:I,MATCH(J138,Odds!F:F,0))","v":0},0,null,null,null,{"$f":"IF(Odds!F138=\"\",\"\",Odds!F138)","v":"Spurs"},{"$f":"INDEX(Odds!G:G,MATCH(R138,Odds!F:F,0))","v":"8/11"},0,null,null,null,null,null,null,null,{"$f":"IF(O138=\"\",\"\",INDEX(Odds!G:G,MATCH(O138,Odds!F:F,0)))","v":""}]
[{"$f":"A137","v":"Paul Adderley"},"Norwich",{"$f":"IF(J139=\"\",\"\",INDEX(Odds!B:B,MATCH(J139,Odds!F:F,0)))","v":"1900-01-07"},2.75,"√",null,null,null,null,"Norwich",{"$f":"INDEX(Odds!G:G,MATCH(J139,Odds!F:F,0))","v":"7/4"},{"$f":"INDEX(Odds!H:H,MATCH(J139,Odds!F:F,0))","v":2.75},{"$f":"INDEX(Odds!I:I,MATCH(J139,Odds!F:F,0))","v":1},2.75,null,null,null,{"$f":"IF(Odds!F139=\"\",\"\",Odds!F139)","v":"Sheff U"},{"$f":"INDEX(Odds!G:G,MATCH(R139,Odds!F:F,0))","v":"4/1"},0,null,null,null,null,null,null,null,{"$f":"IF(O139=\"\",\"\",INDEX(Odds!G:G,MATCH(O139,Odds!F:F,0)))","v":""}]
[{"$f":"Results!B140","v":"Paul Allen"},"Charlton",{"$f":"IF(J140=\"\",\"\",INDEX(Odds!B:B,MATCH(J140,Odds!F:F,0)))","v":"1900-01-07"},1.95,"√",{"$f":"IF(J140=\"\",-10,INDEX(Results!T:T,MATCH(A140,Results!V:V,0)))","v":1.4400000000000013},{"$f":"IF(J140=\"\",\"\",INDEX(Results!AI:AI,MATCH(A140,Results!V:V,0)))","v":16.544},{"$f":"IF(G140=\"\",0,1)","v":1},{"$f":"INDEX(Picks!AG:AG,MATCH(A140,Picks!AD:AD,0))","v":16},"Charlton",{"$f":"INDEX(Odds!G:G,MATCH(J140,Odds!F:F,0))","v":"19/20"},{"$f":"INDEX(Odds!H:H,MATCH(J140,Odds!F:F,0))","v":1.95},{"$f":"INDEX(Odds!I:I,MATCH(J140,Odds!F:F,0))","v":1},1.95,null,null,null,null,null,null,null,null,null,null,null,null,null,{"$f":"IF(O140=\"\",\"\",INDEX(Odds!G:G,MATCH(O140,Odds!F:F,0)))","v":""}]
[{"$f":"A140","v":"Paul Allen"},"Hull",{"$f":"IF(J141=\"\",\"\",INDEX(Odds!B:B,MATCH(J141,Odds!F:F,0)))","v":"1900-01-07"},1.6,"x",null,null,null,null,"Hull",{"$f":"INDEX(Odds!G:G,MATCH(J141,Odds!F:F,0))","v":"6/10"},{"$f":"INDEX(Odds!H:H,MATCH(J141,Odds!F:F,0))","v":1.6},{"$f":"INDEX(Odds!I:I,MATCH(J141,Odds!F:F,0))","v":0},0,null,null,null,null,null,null,null,null,null,null,null,null,null,{"$f":"IF(O141=\"\",\"\",INDEX(Odds!G:G,MATCH(O141,Odds!F:F,0)))","v":""}]
[{"$f":"A140","v":"Paul Allen"},"Portsmouth",{"$f":"IF(J142=\"\",\"\",INDEX(Odds!B:B,MATCH(J142,Odds!F:F,0)))","v":"1900-01-07"},2.2000000000000002,"√",null,null,null,null,"Portsmouth",{"$f":"INDEX(Odds!G:G,MATCH(J142,Odds!F:F,0))","v":"6/5"},{"$f":"INDEX(Odds!H:H,MATCH(J142,Odds!F:F,0))","v":2.2000000000000002},{"$f":"INDEX(Odds!I:I,MATCH(J142,Odds!F:F,0))","v":1},2.2000000000000002,null,null,null,null,null,null,null,null,null,null,null,null,null,{"$f":"IF(O142=\"\",\"\",INDEX(Odds!G:G,MATCH(O142,Odds!F:F,0)))","v":""}]
[{"$f":"Results!B143","v":"Paul Barnes"},"Man U",{"$f":"IF(J143=\"\",\"\",INDEX(Odds!B:B,MATCH(J143,Odds!F:F,0)))","v":"1900-01-07"},4.3333333333333339,"x",{"$f":"IF(J143=\"\",-10,INDEX(Results!T:T,MATCH(A143,Results!V:V,0)))","v":-7},{"$f":"IF(J143=\"\",\"\",INDEX(Results!AI:AI,MATCH(A143,Results!V:V,0)))","v":79.27272727272728},{"$f":"IF(G143=\"\",0,1)","v":1},{"$f":"INDEX(Picks!AG:AG,MATCH(A143,Picks!AD:AD,0))","v":46},"Man U",{"$f":"INDEX(Odds!G:G,MATCH(J143,Odds!F:F,0))","v":"10/3"},{"$f":"INDEX(Odds!H:H,MATCH(J143,Odds!F:F,0))","v":4.3333333333333339},{"$f":"INDEX(Odds!I:I,MATCH(J143,Odds!F:F,0))","v":0},0,null,null,null,null,null,null,null,null,null,null,null,null,null,{"$f":"IF(O143=\"\",\"\",INDEX(Odds!G:G,MATCH(O143,Odds!F:F,0)))","v":""}]
[{"$f":"A143","v":"Paul Barnes"},"Spurs",{"$f":"IF(J144=\"\",\"\",INDEX(Odds!B:B,MATCH(J144,Odds!F:F,0)))","v":"1900-01-01"},1.7272727272727273,"x",null,null,null,null,"Spurs",{"$f":"INDEX(Odds!G:G,MATCH(J144,Odds!F:F,0))","v":"8/11"},{"$f":"INDEX(Odds!H:H,MATCH(J144,Odds!F:F,0))","v":1.7272727272727273},{"$f":"INDEX(Odds!I:I,MATCH(J144,Odds!F:F,0))","v":0},0,null,null,null,null,null,null,null,null,null,null,null,null,null,{"$f":"IF(O144=\"\",\"\",INDEX(Odds!G:G,MATCH(O144,Odds!F:F,0)))","v":""}]
[{"$f":"A143","v":"Paul Barnes"},"Sheff U",{"$f":"IF(J145=\"\",\"\",INDEX(Odds!B:B,MATCH(J145,Odds!F:F,0)))","v":"1900-01-01"},5,"x",null,null,null,null,"Sheff U",{"$f":"INDEX(Odds!G:G,MATCH(J145,Odds!F:F,0))","v":"4/1"},{"$f":"INDEX(Odds!H:H,MATCH(J145,Odds!F:F,0))","v":5},{"$f":"INDEX(Odds!I:I,MATCH(J145,Odds!F:F,0))","v":0},0,null,null,null,null,null,null,null,null,null,null,null,null,null,{"$f":"IF(O145=\"\",\"\",INDEX(Odds!G:G,MATCH(O145,Odds!F:F,0)))","v":""}]
[{"$f":"Results!B146","v":"Paul Fairhurst"},"West Brom",{"$f":"IF(J146=\"\",\"\",INDEX(Odds!B:B,MATCH(J146,Odds!F:F,0)))","v":"1900-01-07"},3.4,"x",{"$f":"IF(J146=\"\",-10,INDEX(Results!T:T,MATCH(A146,Results!V:V,0)))","v":-7},{"$f":"IF(J146=\"\",\"\",INDEX(Results!AI:AI,MATCH(A146,Results!V:V,0)))","v":60.551999999999992},{"$f":"IF(G146=\"\",0,1)","v":1},{"$f":"INDEX(Picks!AG:AG,MATCH(A146,Picks!AD:AD,0))","v":46},"West Brom",{"$f":"INDEX(Odds!G:G,MATCH(J146,Odds!F:F,0))","v":"12/5"},{"$f":"INDEX(Odds!H:H,MATCH(J146,Odds!F:F,0))","v":3.4},{"$f":"INDEX(Odds!I:I,MATCH(J146,Odds!F:F,0))","v":0},0,null,null,null,null,null,null,null,null,null,null,null,null,null,{"$f":"IF(O146=\"\",\"\",INDEX(Odds!G:G,MATCH(O146,Odds!F:F,0)))","v":""}]
[{"$f":"A146","v":"Paul Fairhurst"},"Ipswich",{"$f":"IF(J147=\"\",\"\",INDEX(Odds!B:B,MATCH(J147,Odds!F:F,0)))","v":"1900-01-07"},3.1,"x",null,null,null,null,"Ipswich",{"$f":"INDEX(Odds!G:G,MATCH(J147,Odds!F:F,0))","v":"21/10"},{"$f":"INDEX(Odds!H:H,MATCH(J147,Odds!F:F,0))","v":3.1},{"$f":"INDEX(Odds!I:I,MATCH(J147,Odds!F:F,0))","v":0},0,null,null,null,null,null,null,null,null,null,null,null,null,null,{"$f":"IF(O147=\"\",\"\",INDEX(Odds!G:G,MATCH(O147,Odds!F:F,0)))","v":""}]
[{"$f":"A146","v":"Paul Fairhurst"},"Lincoln",{"$f":"IF(J148=\"\",\"\",INDEX(Odds!B:B,MATCH(J148,Odds!F:F,0)))","v":"1900-01-07"},2.8,"x",null,null,null,null,"Lincoln",{"$f":"INDEX(Odds!G:G,MATCH(J148,Odds!F:F,0))","v":"9/5"},{"$f":"INDEX(Odds!H:H,MATCH(J148,Odds!F:F,0))","v":2.8},{"$f":"INDEX(Odds!I:I,MATCH(J148,Odds!F:F,0))","v":0},0,null,null,null,null,null,null,null,null,null,null,null,null,null,{"$f":"IF(O148=\"\",\"\",INDEX(Odds!G:G,MATCH(O148,Odds!F:F,0)))","v":""}]
[{"$f":"Results!B149","v":"Paul Fiddler"},"Hull",{"$f":"IF(J149=\"\",\"\",INDEX(Odds!B:B,MATCH(J149,Odds!F:F,0)))","v":"1900-01-07"},1.6,"x",{"$f":"IF(J149=\"\",-10,INDEX(Results!T:T,MATCH(A149,Results!V:V,0)))","v":-5.05},{"$f":"IF(J149=\"\",\"\",INDEX(Results!AI:AI,MATCH(A149,Results!V:V,0)))","v":16.544},{"$f":"IF(G149=\"\",0,1)","v":1},{"$f":"INDEX(Picks!AG:AG,MATCH(A149,Picks!AD:AD,0))","v":41},"Hull",{"$f":"INDEX(Odds!G:G,MATCH(J149,Odds!F:F,0))","v":"6/10"},{"$f":"INDEX(Odds!H:H,MATCH(J149,Odds!F:F,0))","v":1.6},{"$f":"INDEX(Odds!I:I,MATCH(J149,Odds!F:F,0))","v":0},{"$f":"L149*M149","v":0},null,null,null,null,null,null,null,null,null,null,null,null,null,{"$f":"IF(O149=\"\",\"\",INDEX(Odds!G:G,MATCH(O149,Odds!F:F,0)))","v":""}]
[{"$f":"A149","v":"Paul Fiddler"},"Charlton",{"$f":"IF(J150=\"\",\"\",INDEX(Odds!B:B,MATCH(J150,Odds!F:F,0)))","v":"1900-01-07"},1.95,"√",null,null,null,null,"Charlton",{"$f":"INDEX(Odds!G:G,MATCH(J150,Odds!F:F,0))","v":"19/20"},{"$f":"INDEX(Odds!H:H,MATCH(J150,Odds!F:F,0))","v":1.95},{"$f":"INDEX(Odds!I:I,MATCH(J150,Odds!F:F,0))","v":1},1.95,null,null,null,null,null,null,null,null,null,null,null,null,null,{"$f":"IF(O150=\"\",\"\",INDEX(Odds!G:G,MATCH(O150,Odds!F:F,0)))","v":""}]
[{"$f":"A149","v":"Paul Fiddler"},"Blackpool",{"$f":"IF(J151=\"\",\"\",INDEX(Odds!B:B,MATCH(J151,Odds!F:F,0)))","v":"1900-01-07"},2.2000000000000002,"x",null,null,null,null,"Blackpool",{"$f":"INDEX(Odds!G:G,MATCH(J151,Odds!F:F,0))","v":"6/5"},{"$f":"INDEX(Odds!H:H,MATCH(J151,Odds!F:F,0))","v":2.2000000000000002},{"$f":"INDEX(Odds!I:I,MATCH(J151,Odds!F:F,0))","v":0},0,null,null,null,null,null,null,null,null,null,null,null,null,null,{"$f":"IF(O151=\"\",\"\",INDEX(Odds!G:G,MATCH(O151,Odds!F:F,0)))","v":""}]
[{"$f":"Results!B152","v":"Paul Ridgeway"},"Leeds",{"$f":"IF(J152=\"\",\"\",INDEX(Odds!B:B,MATCH(J152,Odds!F:F,0)))","v":"1900-01-06"},2.15,"x",{"$f":"IF(J152=\"\",-10,INDEX(Results!T:T,MATCH(A152,Results!V:V,0)))","v":-7},{"$f":"IF(J152=\"\",\"\",INDEX(Results!AI:AI,MATCH(A152,Results!V:V,0)))","v":23.184999999999999},{"$f":"IF(G152=\"\",0,1)","v":1},{"$f":"INDEX(Picks!AG:AG,MATCH(A152,Picks!AD:AD,0))","v":46},"Leeds",{"$f":"INDEX(Odds!G:G,MATCH(J152,Odds!F:F,0))","v":"23/20"},{"$f":"INDEX(Odds!H:H,MATCH(J152,Odds!F:F,0))","v":2.15},{"$f":"INDEX(Odds!I:I,MATCH(J152,Odds!F:F,0))","v":0},0,null,null,null,null,null,null,null,null,null,null,null,null,null,{"$f":"IF(O152=\"\",\"\",INDEX(Odds!G:G,MATCH(O152,Odds!F:F,0)))","v":""}]
[{"$f":"A152","v":"Paul Ridgeway"},"Chelsea",{"$f":"IF(J153=\"\",\"\",INDEX(Odds!B:B,MATCH(J153,Odds!F:F,0)))","v":"1900-01-07"},1.75,"x",null,null,null,null,"Chelsea",{"$f":"INDEX(Odds!G:G,MATCH(J153,Odds!F:F,0))","v":"3/4"},{"$f":"INDEX(Odds!H:H,MATCH(J153,Odds!F:F,0))","v":1.75},{"$f":"INDEX(Odds!I:I,MATCH(J153,Odds!F:F,0))","v":0},0,null,null,null,null,null,null,null,null,null,null,null,null,null,{"$f":"IF(O153=\"\",\"\",INDEX(Odds!G:G,MATCH(O153,Odds!F:F,0)))","v":""}]
[{"$f":"A152","v":"Paul Ridgeway"},{"$f":"IF(J154=\"\",\"\",J154)","v":"Stoke"},{"$f":"IF(J154=\"\",\"\",INDEX(Odds!B:B,MATCH(J154,Odds!F:F,0)))","v":"1900-01-07"},2.6,"x",null,null,null,null,"Stoke",{"$f":"INDEX(Odds!G:G,MATCH(J154,Odds!F:F,0))","v":"8/5"},{"$f":"INDEX(Odds!H:H,MATCH(J154,Odds!F:F,0))","v":2.6},{"$f":"INDEX(Odds!I:I,MATCH(J154,Odds!F:F,0))","v":0},0,null,null,null,null,null,null,null,null,null,null,null,null,null,{"$f":"IF(O154=\"\",\"\",INDEX(Odds!G:G,MATCH(O154,Odds!F:F,0)))","v":""}]
[{"$f":"Results!B155","v":"Pete Baron"},"Sheff U",{"$f":"IF(J155=\"\",\"\",INDEX(Odds!B:B,MATCH(J155,Odds!F:F,0)))","v":"1900-01-01"},5,"x",{"$f":"IF(J155=\"\",-10,INDEX(Results!T:T,MATCH(A155,Results!V:V,0)))","v":-4},{"$f":"IF(J155=\"\",\"\",INDEX(Results!AI:AI,MATCH(A155,Results!V:V,0)))","v":160},{"$f":"IF(G155=\"\",0,1)","v":1},{"$f":"INDEX(Picks!AG:AG,MATCH(A155,Picks!AD:AD,0))","v":32},"Sheff U",{"$f":"INDEX(Odds!G:G,MATCH(J155,Odds!F:F,0))","v":"4/1"},{"$f":"INDEX(Odds!H:H,MATCH(J155,Odds!F:F,0))","v":5},{"$f":"INDEX(Odds!I:I,MATCH(J155,Odds!F:F,0))","v":0},0,null,null,null,null,null,null,null,null,null,null,null,null,null,{"$f":"IF(O155=\"\",\"\",INDEX(Odds!G:G,MATCH(O155,Odds!F:F,0)))","v":""}]
[{"$f":"A155","v":"Pete Baron"},"Rochdale",{"$f":"IF(J156=\"\",\"\",INDEX(Odds!B:B,MATCH(J156,Odds!F:F,0)))","v":"1900-01-07"},6,"x",null,null,null,null,"Rochdale",{"$f":"INDEX(Odds!G:G,MATCH(J156,Odds!F:F,0))","v":"5/1"},{"$f":"INDEX(Odds!H:H,MATCH(J156,Odds!F:F,0))","v":6},{"$f":"INDEX(Odds!I:I,MATCH(J156,Odds!F:F,0))","v":0},0,null,null,null,null,null,null,null,null,null,null,null,null,null,{"$f":"IF(O156=\"\",\"\",INDEX(Odds!G:G,MATCH(O156,Odds!F:F,0)))","v":""}]
[{"$f":"A155","v":"Pete Baron"},"Swansea",{"$f":"IF(J157=\"\",\"\",INDEX(Odds!B:B,MATCH(J157,Odds!F:F,0)))","v":"1900-01-07"},3,"√",null,null,null,null,"Swansea",{"$f":"INDEX(Odds!G:G,MATCH(J157,Odds!F:F,0))","v":"2/1"},{"$f":"INDEX(Odds!H:H,MATCH(J157,Odds!F:F,0))","v":3},{"$f":"INDEX(Odds!I:I,MATCH(J157,Odds!F:F,0))","v":1},3,null,null,null,null,null,null,null,null,null,null,null,null,null,{"$f":"IF(O157=\"\",\"\",INDEX(Odds!G:G,MATCH(O157,Odds!F:F,0)))","v":""}]
[{"$f":"Results!B158","v":"Phil Miller"},"",{"$f":"IF(J158=\"\",\"\",INDEX(Odds!B:B,MATCH(J158,Odds!F:F,0)))","v":""},"","",{"$f":"IF(J158=\"\",-10,INDEX(Results!T:T,MATCH(A158,Results!V:V,0)))","v":-10},{"$f":"IF(J158=\"\",\"\",INDEX(Results!AI:AI,MATCH(A158,Results!V:V,0)))","v":""},{"$f":"IF(G158=\"\",0,1)","v":0},{"$f":"INDEX(Picks!AG:AG,MATCH(A158,Picks!AD:AD,0))","v":59},null,{"$f":"INDEX(Odds!G:G,MATCH(J158,Odds!F:F,0))","v":{"$error":"#N/A"}},{"$f":"INDEX(Odds!H:H,MATCH(J158,Odds!F:F,0))","v":{"$error":"#N/A"}},{"$f":"INDEX(Odds!I:I,MATCH(J158,Odds!F:F,0))","v":{"$error":"#N/A"}},{"$error":"#N/A"},null,null,null,null,null,null,null,null,null,null,null,null,null,{"$f":"IF(O158=\"\",\"\",INDEX(Odds!G:G,MATCH(O158,Odds!F:F,0)))","v":""}]
[{"$f":"A158","v":"Phil Miller"},"",{"$f":"IF(J159=\"\",\"\",INDEX(Odds!B:B,MATCH(J159,Odds!F:F,0)))","v":""},"","",null,null,null,null,null,{"$f":"INDEX(Odds!G:G,MATCH(J159,Odds!F:F,0))","v":{"$error":"#N/A"}},{"$f":"INDEX(Odds!H:H,MATCH(J159,Odds!F:F,0))","v":{"$error":"#N/A"}},{"$f":"INDEX(Odds!I:I,MATCH(J159,Odds!F:F,0))","v":{"$error":"#N/A"}},{"$error":"#N/A"},null,null,null,null,null,null,null,null,null,null,null,null,null,{"$f":"IF(O159=\"\",\"\",INDEX(Odds!G:G,MATCH(O159,Odds!F:F,0)))","v":""}]
[{"$f":"A158","v":"Phil Miller"},"",{"$f":"IF(J160=\"\",\"\",INDEX(Odds!B:B,MATCH(J160,Odds!F:F,0)))","v":""},"","",null,null,null,null,null,{"$f":"INDEX(Odds!G:G,MATCH(J160,Odds!F:F,0))","v":{"$error":"#N/A"}},{"$f":"INDEX(Odds!H:H,MATCH(J160,Odds!F:F,0))","v":{"$error":"#N/A"}},{"$f":"INDEX(Odds!I:I,MATCH(J160,Odds!F:F,0))","v":{"$error":"#N/A"}},{"$error":"#N/A"},null,null,null,null,null,null,null,null,null,null,null,null,null,{"$f":"IF(O160=\"\",\"\",INDEX(Odds!G:G,MATCH(O160,Odds!F:F,0)))","v":""}]
[{"$f":"Results!B161","v":"Rob England"},"Fulham",{"$f":"IF(J161=\"\",\"\",INDEX(Odds!B:B,MATCH(J161,Odds!F:F,0)))","v":"1900-01-01"},9,"x",{"$f":"IF(J161=\"\",-10,INDEX(Results!T:T,MATCH(A161,Results!V:V,0)))","v":-3.9},{"$f":"IF(J161=\"\",\"\",INDEX(Results!AI:AI,MATCH(A161,Results!V:V,0)))","v":238},{"$f":"IF(G161=\"\",0,1)","v":1},{"$f":"INDEX(Picks!AG:AG,MATCH(A161,Picks!AD:AD,0))","v":30},"Fulham",{"$f":"INDEX(Odds!G:G,MATCH(J161,Odds!F:F,0))","v":"8/1"},{"$f":"INDEX(Odds!H:H,MATCH(J161,Odds!F:F,0))","v":9},{"$f":"INDEX(Odds!I:I,MATCH(J161,Odds!F:F,0))","v":0},0,null,null,null,null,null,null,null,null,null,null,null,null,null,{"$f":"IF(O161=\"\",\"\",INDEX(Odds!G:G,MATCH(O161,Odds!F:F,0)))","v":""}]
[{"$f":"A161","v":"Rob England"},"Sheff U",{"$f":"IF(J162=\"\",\"\",INDEX(Odds!B:B,MATCH(J162,Odds!F:F,0)))","v":"1900-01-01"},5,"x",null,null,null,null,"Sheff U",{"$f":"INDEX(Odds!G:G,MATCH(J162,Odds!F:F,0))","v":"4/1"},{"$f":"INDEX(Odds!H:H,MATCH(J162,Odds!F:F,0))","v":5},{"$f":"INDEX(Odds!I:I,MATCH(J162,Odds!F:F,0))","v":0},0,null,null,null,null,null,null,null,null,null,null,null,null,null,{"$f":"IF(O162=\"\",\"\",INDEX(Odds!G:G,MATCH(O162,Odds!F:F,0)))","v":""}]
[{"$f":"A161","v":"Rob England"},"Barnsley",{"$f":"IF(J163=\"\",\"\",INDEX(Odds!B:B,MATCH(J163,Odds!F:F,0)))","v":"1900-01-07"},3.1,"√",null,null,null,null,"Barnsley",{"$f":"INDEX(Odds!G:G,MATCH(J163,Odds!F:F,0))","v":"21/10"},{"$f":"INDEX(Odds!H:H,MATCH(J163,Odds!F:F,0))","v":3.1},{"$f":"INDEX(Odds!I:I,MATCH(J163,Odds!F:F,0))","v":1},3.1,null,null,null,null,null,null,null,null,null,null,null,null,null,{"$f":"IF(O163=\"\",\"\",INDEX(Odds!G:G,MATCH(O163,Odds!F:F,0)))","v":""}]
[{"$f":"Results!B164","v":"Sally Williams"},{"$f":"IF(J164=\"\",\"\",J164)","v":"Luton"},{"$f":"IF(J164=\"\",\"\",INDEX(Odds!B:B,MATCH(J164,Odds!F:F,0)))","v":"1900-01-07"},{"$f":"IF(J164=\"\",\"\",L164)","v":3},"√",{"$f":"IF(J164=\"\",-10,INDEX(Results!T:T,MATCH(A164,Results!V:V,0)))","v":-4},{"$f":"IF(J164=\"\",\"\",INDEX(Results!AI:AI,MATCH(A164,Results!V:V,0)))","v":59.239999999999995},{"$f":"IF(G164=\"\",0,1)","v":1},{"$f":"INDEX(Picks!AG:AG,MATCH(A164,Picks!AD:AD,0))","v":32},"Luton",{"$f":"INDEX(Odds!G:G,MATCH(J164,Odds!F:F,0))","v":"2/1"},{"$f":"INDEX(Odds!H:H,MATCH(J164,Odds!F:F,0))","v":3},{"$f":"INDEX(Odds!I:I,MATCH(J164,Odds!F:F,0))","v":1},3,null,null,null,null,null,null,null,null,null,null,null,null,null,{"$f":"IF(O164=\"\",\"\",INDEX(Odds!G:G,MATCH(O164,Odds!F:F,0)))","v":""}]
[{"$f":"A164","v":"Sally Williams"},"Wycombe",{"$f":"IF(J165=\"\",\"\",INDEX(Odds!B:B,MATCH(J165,Odds!F:F,0)))","v":"1900-01-07"},3.1,"x",null,null,null,null,"Wycombe",{"$f":"INDEX(Odds!G:G,MATCH(J165,Odds!F:F,0))","v":"21/10"},{"$f":"INDEX(Odds!H:H,MATCH(J165,Odds!F:F,0))","v":3.1},{"$f":"INDEX(Odds!I:I,MATCH(J165,Odds!F:F,0))","v":0},0,null,null,null,null,null,null,null,null,null,null,null,null,null,{"$f":"IF(O165=\"\",\"\",INDEX(Odds!G:G,MATCH(O165,Odds!F:F,0)))","v":""}]
[{"$f":"A164","v":"Sally Williams"},"Ipswich",{"$f":"IF(J166=\"\",\"\",INDEX(Odds!B:B,MATCH(J166,Odds!F:F,0)))","v":"1900-01-07"},3.1,"x",null,null,null,null,"Ipswich",{"$f":"INDEX(Odds!G:G,MATCH(J166,Odds!F:F,0))","v":"21/10"},{"$f":"INDEX(Odds!H:H,MATCH(J166,Odds!F:F,0))","v":3.1},{"$f":"INDEX(Odds!I:I,MATCH(J166,Odds!F:F,0))","v":0},0,null,null,null,null,null,null,null,null,null,null,null,null,null,{"$f":"IF(O166=\"\",\"\",INDEX(Odds!G:G,MATCH(O166,Odds!F:F,0)))","v":""}]
[{"$f":"Results!B167","v":"Simon Greenhalgh"},"Man u Draw",{"$f":"IF(J167=\"\",\"\",INDEX(Odds!B:B,MATCH(J167,Odds!F:F,0)))","v":"1900-01-07"},4,"√",{"$f":"IF(J167=\"\",-10,INDEX(Results!T:T,MATCH(A167,Results!V:V,0)))","v":-3},{"$f":"IF(J167=\"\",\"\",INDEX(Results!AI:AI,MATCH(A167,Results!V:V,0)))","v":38.800000000000004},{"$f":"IF(G167=\"\",0,1)","v":1},{"$f":"INDEX(Picks!AG:AG,MATCH(A167,Picks!AD:AD,0))","v":27},"Man u Draw",{"$f":"INDEX(Odds!G:G,MATCH(J167,Odds!F:F,0))","v":"3/1"},{"$f":"INDEX(Odds!H:H,MATCH(J167,Odds!F:F,0))","v":4},{"$f":"INDEX(Odds!I:I,MATCH(J167,Odds!F:F,0))","v":1},4,null,null,null,null,null,null,null,null,null,null,null,null,null,{"$f":"IF(O167=\"\",\"\",INDEX(Odds!G:G,MATCH(O167,Odds!F:F,0)))","v":""}]
[{"$f":"A167","v":"Simon Greenhalgh"},"Stoke",{"$f":"IF(J168=\"\",\"\",INDEX(Odds!B:B,MATCH(J168,Odds!F:F,0)))","v":"1900-01-07"},2.6,"x",null,null,null,null,"Stoke",{"$f":"INDEX(Odds!G:G,MATCH(J168,Odds!F:F,0))","v":"8/5"},{"$f":"INDEX(Odds!H:H,MATCH(J168,Odds!F:F,0))","v":2.6},{"$f":"INDEX(Odds!I:I,MATCH(J168,Odds!F:F,0))","v":0},0,null,null,null,null,null,null,null,null,null,null,null,null,null,{"$f":"IF(O168=\"\",\"\",INDEX(Odds!G:G,MATCH(O168,Odds!F:F,0)))","v":""}]
[{"$f":"A167","v":"Simon Greenhalgh"},"Hull",{"$f":"IF(J169=\"\",\"\",INDEX(Odds!B:B,MATCH(J169,Odds!F:F,0)))","v":"1900-01-07"},1.6,"x",null,null,null,null,"Hull",{"$f":"INDEX(Odds!G:G,MATCH(J169,Odds!F:F,0))","v":"6/10"},{"$f":"INDEX(Odds!H:H,MATCH(J169,Odds!F:F,0))","v":1.6},{"$f":"INDEX(Odds!I:I,MATCH(J169,Odds!F:F,0))","v":0},0,null,null,null,null,null,null,null,null,null,null,null,null,null,{"$f":"IF(O169=\"\",\"\",INDEX(Odds!G:G,MATCH(O169,Odds!F:F,0)))","v":""}]
[{"$f":"Results!B170","v":"Stephen Barr"},"Newcastle",{"$f":"IF(J170=\"\",\"\",INDEX(Odds!B:B,MATCH(J170,Odds!F:F,0)))","v":"1900-01-07"},2.25,"√",{"$f":"IF(J170=\"\",-10,INDEX(Results!T:T,MATCH(A170,Results!V:V,0)))","v":0.8636363636363642},{"$f":"IF(J170=\"\",\"\",INDEX(Results!AI:AI,MATCH(A170,Results!V:V,0)))","v":19.920454545454547},{"$f":"IF(G170=\"\",0,1)","v":1},{"$f":"INDEX(Picks!AG:AG,MATCH(A170,Picks!AD:AD,0))","v":18},"Newcastle",{"$f":"INDEX(Odds!G:G,MATCH(J170,Odds!F:F,0))","v":"5/4"},{"$f":"INDEX(Odds!H:H,MATCH(J170,Odds!F:F,0))","v":2.25},{"$f":"INDEX(Odds!I:I,MATCH(J170,Odds!F:F,0))","v":1},2.25,null,null,null,null,null,null,null,null,null,null,null,null,null,{"$f":"IF(O170=\"\",\"\",INDEX(Odds!G:G,MATCH(O170,Odds!F:F,0)))","v":""}]
[{"$f":"A170","v":"Stephen Barr"},"Leeds",{"$f":"IF(J171=\"\",\"\",INDEX(Odds!B:B,MATCH(J171,Odds!F:F,0)))","v":"1900-01-06"},2.15,"x",null,null,null,null,"Leeds",{"$f":"INDEX(Odds!G:G,MATCH(J171,Odds!F:F,0))","v":"23/20"},{"$f":"INDEX(Odds!H:H,MATCH(J171,Odds!F:F,0))","v":2.15},{"$f":"INDEX(Odds!I:I,MATCH(J171,Odds!F:F,0))","v":0},0,null,null,null,null,null,null,null,null,null,null,null,null,null,{"$f":"IF(O171=\"\",\"\",INDEX(Odds!G:G,MATCH(O171,Odds!F:F,0)))","v":""}]
[{"$f":"A170","v":"Stephen Barr"},"Southampton",{"$f":"IF(J172=\"\",\"\",INDEX(Odds!B:B,MATCH(J172,Odds!F:F,0)))","v":"1900-01-01"},1.7272727272727273,"√",null,null,null,null,"Southampton",{"$f":"INDEX(Odds!G:G,MATCH(J172,Odds!F:F,0))","v":"8/11"},{"$f":"INDEX(Odds!H:H,MATCH(J172,Odds!F:F,0))","v":1.7272727272727273},{"$f":"INDEX(Odds!I:I,MATCH(J172,Odds!F:F,0))","v":1},1.7272727272727273,null,null,null,null,null,null,null,null,null,null,null,null,null,{"$f":"IF(O172=\"\",\"\",INDEX(Odds!G:G,MATCH(O172,Odds!F:F,0)))","v":""}]
[{"$f":"Results!B173","v":"Stephen Troop"},"Spurs",{"$f":"IF(J173=\"\",\"\",INDEX(Odds!B:B,MATCH(J173,Odds!F:F,0)))","v":"1900-01-01"},1.7272727272727273,"x",{"$f":"IF(J173=\"\",-10,INDEX(Results!T:T,MATCH(A173,Results!V:V,0)))","v":-7},{"$f":"IF(J173=\"\",\"\",INDEX(Results!AI:AI,MATCH(A173,Results!V:V,0)))","v":23.418181818181825},{"$f":"IF(G173=\"\",0,1)","v":1},{"$f":"INDEX(Picks!AG:AG,MATCH(A173,Picks!AD:AD,0))","v":46},"Spurs",{"$f":"INDEX(Odds!G:G,MATCH(J173,Odds!F:F,0))","v":"8/11"},{"$f":"INDEX(Odds!H:H,MATCH(J173,Odds!F:F,0))","v":1.7272727272727273},{"$f":"INDEX(Odds!I:I,MATCH(J173,Odds!F:F,0))","v":0},0,null,null,null,null,null,null,null,null,null,null,null,null,null,{"$f":"IF(O173=\"\",\"\",INDEX(Odds!G:G,MATCH(O173,Odds!F:F,0)))","v":""}]
[{"$f":"A173","v":"Stephen Troop"},"Stoke",{"$f":"IF(J174=\"\",\"\",INDEX(Odds!B:B,MATCH(J174,Odds!F:F,0)))","v":"1900-01-07"},2.6,"x",null,null,null,null,"Stoke",{"$f":"INDEX(Odds!G:G,MATCH(J174,Odds!F:F,0))","v":"8/5"},{"$f":"INDEX(Odds!H:H,MATCH(J174,Odds!F:F,0))","v":2.6},{"$f":"INDEX(Odds!I:I,MATCH(J174,Odds!F:F,0))","v":0},0,null,null,null,null,null,null,null,null,null,null,null,null,null,{"$f":"IF(O174=\"\",\"\",INDEX(Odds!G:G,MATCH(O174,Odds!F:F,0)))","v":""}]
[{"$f":"A173","v":"Stephen Troop"},"Blackpool",{"$f":"IF(J175=\"\",\"\",INDEX(Odds!B:B,MATCH(J175,Odds!F:F,0)))","v":"1900-01-07"},2.2000000000000002,"x",null,null,null,null,"Blackpool",{"$f":"INDEX(Odds!G:G,MATCH(J175,Odds!F:F,0))","v":"6/5"},{"$f":"INDEX(Odds!H:H,MATCH(J175,Odds!F:F,0))","v":2.2000000000000002},{"$f":"INDEX(Odds!I:I,MATCH(J175,Odds!F:F,0))","v":0},0,null,null,null,null,null,null,null,null,null,null,null,null,null,{"$f":"IF(O175=\"\",\"\",INDEX(Odds!G:G,MATCH(O175,Odds!F:F,0)))","v":""}]
[{"$f":"Results!B176","v":"Steve Baxter"},"Chelsea",{"$f":"IF(J176=\"\",\"\",INDEX(Odds!B:B,MATCH(J176,Odds!F:F,0)))","v":"1900-01-07"},1.75,"x",{"$f":"IF(J176=\"\",-10,INDEX(Results!T:T,MATCH(A176,Results!V:V,0)))","v":-7},{"$f":"IF(J176=\"\",\"\",INDEX(Results!AI:AI,MATCH(A176,Results!V:V,0)))","v":9.5},{"$f":"IF(G176=\"\",0,1)","v":1},{"$f":"INDEX(Picks!AG:AG,MATCH(A176,Picks!AD:AD,0))","v":46},"Chelsea",{"$f":"INDEX(Odds!G:G,MATCH(J176,Odds!F:F,0))","v":"3/4"},{"$f":"INDEX(Odds!H:H,MATCH(J176,Odds!F:F,0))","v":1.75},{"$f":"INDEX(Odds!I:I,MATCH(J176,Odds!F:F,0))","v":0},0,null,null,null,null,null,null,null,null,null,null,null,null,null,{"$f":"IF(O176=\"\",\"\",INDEX(Odds!G:G,MATCH(O176,Odds!F:F,0)))","v":""}]
[{"$f":"A176","v":"Steve Baxter"},"Liverpool",{"$f":"IF(J177=\"\",\"\",INDEX(Odds!B:B,MATCH(J177,Odds!F:F,0)))","v":"1900-01-01"},1.3333333333333333,"x",null,null,null,null,"Liverpool",{"$f":"INDEX(Odds!G:G,MATCH(J177,Odds!F:F,0))","v":"1/3"},{"$f":"INDEX(Odds!H:H,MATCH(J177,Odds!F:F,0))","v":1.3333333333333333},{"$f":"INDEX(Odds!I:I,MATCH(J177,Odds!F:F,0))","v":0},0,null,null,null,null,null,null,null,null,null,null,null,null,null,{"$f":"IF(O177=\"\",\"\",INDEX(Odds!G:G,MATCH(O177,Odds!F:F,0)))","v":""}]
[{"$f":"A176","v":"Steve Baxter"},"Spurs",{"$f":"IF(J178=\"\",\"\",INDEX(Odds!B:B,MATCH(J178,Odds!F:F,0)))","v":"1900-01-01"},1.7272727272727273,"x",null,null,null,null,"Spurs",{"$f":"INDEX(Odds!G:G,MATCH(J178,Odds!F:F,0))","v":"8/11"},{"$f":"INDEX(Odds!H:H,MATCH(J178,Odds!F:F,0))","v":1.7272727272727273},{"$f":"INDEX(Odds!I:I,MATCH(J178,Odds!F:F,0))","v":0},0,null,null,null,null,null,null,null,null,null,null,null,null,null,{"$f":"IF(O178=\"\",\"\",INDEX(Odds!G:G,MATCH(O178,Odds!F:F,0)))","v":""}]
[{"$f":"Results!B179","v":"Steve Carter"},"Newcastle",{"$f":"IF(J179=\"\",\"\",INDEX(Odds!B:B,MATCH(J179,Odds!F:F,0)))","v":"1900-01-07"},2.25,"√",{"$f":"IF(J179=\"\",-10,INDEX(Results!T:T,MATCH(A179,Results!V:V,0)))","v":1.75},{"$f":"IF(J179=\"\",\"\",INDEX(Results!AI:AI,MATCH(A179,Results!V:V,0)))","v":24.174999999999997},{"$f":"IF(G179=\"\",0,1)","v":1},{"$f":"INDEX(Picks!AG:AG,MATCH(A179,Picks!AD:AD,0))","v":12},"Newcastle",{"$f":"INDEX(Odds!G:G,MATCH(J179,Odds!F:F,0))","v":"5/4"},{"$f":"INDEX(Odds!H:H,MATCH(J179,Odds!F:F,0))","v":2.25},{"$f":"INDEX(Odds!I:I,MATCH(J179,Odds!F:F,0))","v":1},2.25,null,null,null,null,null,null,null,null,null,null,null,null,null,{"$f":"IF(O179=\"\",\"\",INDEX(Odds!G:G,MATCH(O179,Odds!F:F,0)))","v":""}]
[{"$f":"A179","v":"Steve Carter"},"Wolves",{"$f":"IF(J180=\"\",\"\",INDEX(Odds!B:B,MATCH(J180,Odds!F:F,0)))","v":"1900-01-07"},2.2999999999999998,"x",null,null,null,null,"Wolves",{"$f":"INDEX(Odds!G:G,MATCH(J180,Odds!F:F,0))","v":"13/10"},{"$f":"INDEX(Odds!H:H,MATCH(J180,Odds!F:F,0))","v":2.2999999999999998},{"$f":"INDEX(Odds!I:I,MATCH(J180,Odds!F:F,0))","v":0},0,null,null,null,null,null,null,null,null,null,null,null,null,null,{"$f":"IF(O180=\"\",\"\",INDEX(Odds!G:G,MATCH(O180,Odds!F:F,0)))","v":""}]
[{"$f":"A179","v":"Steve Carter"},"Leicester",{"$f":"IF(J181=\"\",\"\",INDEX(Odds!B:B,MATCH(J181,Odds!F:F,0)))","v":"1900-01-01"},2,"√",null,null,null,null,"Leicester",{"$f":"INDEX(Odds!G:G,MATCH(J181,Odds!F:F,0))","v":"1/1"},{"$f":"INDEX(Odds!H:H,MATCH(J181,Odds!F:F,0))","v":2},{"$f":"INDEX(Odds!I:I,MATCH(J181,Odds!F:F,0))","v":1},2,null,null,null,null,null,null,null,null,null,null,null,null,null,{"$f":"IF(O181=\"\",\"\",INDEX(Odds!G:G,MATCH(O181,Odds!F:F,0)))","v":""}]
[{"$f":"Results!B182","v":"Tom Robinson"},"Middlesbro",{"$f":"IF(J182=\"\",\"\",INDEX(Odds!B:B,MATCH(J182,Odds!F:F,0)))","v":"1900-01-07"},2.15,"√",{"$f":"IF(J182=\"\",-10,INDEX(Results!T:T,MATCH(A182,Results!V:V,0)))","v":-4.8499999999999996},{"$f":"IF(J182=\"\",\"\",INDEX(Results!AI:AI,MATCH(A182,Results!V:V,0)))","v":34.335999999999999},{"$f":"IF(G182=\"\",0,1)","v":1},{"$f":"INDEX(Picks!AG:AG,MATCH(A182,Picks!AD:AD,0))","v":38},"Middlesbro",{"$f":"INDEX(Odds!G:G,MATCH(J182,Odds!F:F,0))","v":"23/20"},{"$f":"INDEX(Odds!H:H,MATCH(J182,Odds!F:F,0))","v":2.15},{"$f":"INDEX(Odds!I:I,MATCH(J182,Odds!F:F,0))","v":1},2.15,null,null,null,null,null,null,null,null,null,null,null,null,null,{"$f":"IF(O182=\"\",\"\",INDEX(Odds!G:G,MATCH(O182,Odds!F:F,0)))","v":""}]
[{"$f":"A182","v":"Tom Robinson"},"Forest draw",{"$f":"IF(J183=\"\",\"\",INDEX(Odds!B:B,MATCH(J183,Odds!F:F,0)))","v":"1900-01-07"},3.2,"x",null,null,null,null,"Forest draw",{"$f":"INDEX(Odds!G:G,MATCH(J183,Odds!F:F,0))","v":"11/5"},{"$f":"INDEX(Odds!H:H,MATCH(J183,Odds!F:F,0))","v":3.2},{"$f":"INDEX(Odds!I:I,MATCH(J183,Odds!F:F,0))","v":0},0,null,null,null,null,null,null,null,null,null,null,null,null,null,{"$f":"IF(O183=\"\",\"\",INDEX(Odds!G:G,MATCH(O183,Odds!F:F,0)))","v":""}]
[{"$f":"A182","v":"Tom Robinson"},"Blackpool",{"$f":"IF(J184=\"\",\"\",INDEX(Odds!B:B,MATCH(J184,Odds!F:F,0)))","v":"1900-01-07"},2.2000000000000002,"x",null,null,null,null,"Blackpool",{"$f":"INDEX(Odds!G:G,MATCH(J184,Odds!F:F,0))","v":"6/5"},{"$f":"INDEX(Odds!H:H,MATCH(J184,Odds!F:F,0))","v":2.2000000000000002},{"$f":"INDEX(Odds!I:I,MATCH(J184,Odds!F:F,0))","v":0},0,null,null,null,null,null,null,null,null,null,null,null,null,null,{"$f":"IF(O184=\"\",\"\",INDEX(Odds!G:G,MATCH(O184,Odds!F:F,0)))","v":""}]
[{"$f":"Results!B185","v":"Vinny Topping"},{"$f":"IF(J185=\"\",\"\",J185)","v":"Newcastle"},{"$f":"IF(J185=\"\",\"\",INDEX(Odds!B:B,MATCH(J185,Odds!F:F,0)))","v":"1900-01-07"},{"$f":"IF(J185=\"\",\"\",L185)","v":2.25},"√",{"$f":"IF(J185=\"\",-10,INDEX(Results!T:T,MATCH(A185,Results!V:V,0)))","v":2.2375000000000007},{"$f":"IF(J185=\"\",\"\",INDEX(Results!AI:AI,MATCH(A185,Results!V:V,0)))","v":33.973750000000003},{"$f":"IF(G185=\"\",0,1)","v":1},{"$f":"INDEX(Picks!AG:AG,MATCH(A185,Picks!AD:AD,0))","v":11},"Newcastle",{"$f":"INDEX(Odds!G:G,MATCH(J185,Odds!F:F,0))","v":"5/4"},{"$f":"INDEX(Odds!H:H,MATCH(J185,Odds!F:F,0))","v":2.25},{"$f":"INDEX(Odds!I:I,MATCH(J185,Odds!F:F,0))","v":1},{"$f":"L185*M185","v":2.25},null,null,null,null,null,null,null,null,null,null,null,null,null,{"$f":"IF(O185=\"\",\"\",INDEX(Odds!G:G,MATCH(O185,Odds!F:F,0)))","v":""}]
[{"$f":"A185","v":"Vinny Topping"},{"$f":"IF(J186=\"\",\"\",J186)","v":"Middlesbro"},{"$f":"IF(J186=\"\",\"\",INDEX(Odds!B:B,MATCH(J186,Odds!F:F,0)))","v":"1900-01-07"},{"$f":"IF(J186=\"\",\"\",L186)","v":2.15},"√",null,null,null,null,"Middlesbro",{"$f":"INDEX(Odds!G:G,MATCH(J186,Odds!F:F,0))","v":"23/20"},{"$f":"INDEX(Odds!H:H,MATCH(J186,Odds!F:F,0))","v":2.15},{"$f":"INDEX(Odds!I:I,MATCH(J186,Odds!F:F,0))","v":1},2.15,null,null,null,null,null,null,null,null,null,null,null,null,null,{"$f":"IF(O186=\"\",\"\",INDEX(Odds!G:G,MATCH(O186,Odds!F:F,0)))","v":""}]
[{"$f":"A185","v":"Vinny Topping"},{"$f":"IF(J187=\"\",\"\",J187)","v":"Wycombe"},{"$f":"IF(J187=\"\",\"\",INDEX(Odds!B:B,MATCH(J187,Odds!F:F,0)))","v":"1900-01-07"},{"$f":"IF(J187=\"\",\"\",L187)","v":3.1},"x",null,null,null,null,"Wycombe",{"$f":"INDEX(Odds!G:G,MATCH(J187,Odds!F:F,0))","v":"21/10"},{"$f":"INDEX(Odds!H:H,MATCH(J187,Odds!F:F,0))","v":3.1},{"$f":"INDEX(Odds!I:I,MATCH(J187,Odds!F:F,0))","v":0},0,null,null,null,null,null,null,null,null,null,null,null,null,null,{"$f":"IF(O187=\"\",\"\",INDEX(Odds!G:G,MATCH(O187,Odds!F:F,0)))","v":""}]
[null,null,null,null,null,null,null,null,null,null,null,null,null,null,null,null,null,null,null,null,null,null,null,null,null,null,null,{"$f":"IF(O188=\"\",\"\",INDEX(Odds!G:G,MATCH(O188,Odds!F:F,0)))","v":""}]
[null,null,null,null,null,null,null,null,null,null,null,null,null,null,null,null,null,null,null,null,null,null,null,null,null,null,null,{"$f":"IF(O189=\"\",\"\",INDEX(Odds!G:G,MATCH(O189,Odds!F:F,0)))","v":""}]
[null,null,null,null,null,null,null,null,null,null,null,null,null,null,null,null,null,null,null,null,null,null,null,null,null,null,null,{"$f":"IF(O190=\"\",\"\",INDEX(Odds!G:G,MATCH(O190,Odds!F:F,0)))","v":""}]
[null,null,null,null,null,null,null,null,null,null,null,null,null,null,null,null,null,null,null,null,null,null,null,null,null,null,null,{"$f":"IF(O191=\"\",\"\",INDEX(Odds!G:G,MATCH(O191,Odds!F:F,0)))","v":""}]
[null,null,null,null,null,null,null,null,null,null,null,null,null,null,null,null,null,null,null,null,null,null,null,null,null,null,null,{"$f":"IF(O192=\"\",\"\",INDEX(Odds!G:G,MATCH(O192,Odds!F:F,0)))","v":""}]
[null,null,null,null,null,null,null,null,null,null,null,null,null,null,null,null,null,null,null,null,null,null,null,null,null,null,null,{"$f":"IF(O193=\"\",\"\",INDEX(Odds!G:G,MATCH(O193,Odds!F:F,0)))","v":""}]
[null,null,null,null,null,null,null,null,null,null,null,null,null,null,null,null,null,null,null,null,null,null,null,null,null,null,null,{"$f":"IF(O194=\"\",\"\",INDEX(Odds!G:G,MATCH(O194,Odds!F:F,0)))","v":""}]
[null,null,null,null,null,null,null,null,null,null,null,null,null,null,null,null,null,null,null,null,null,null,null,null,null,null,null,{"$f":"IF(O195=\"\",\"\",INDEX(Odds!G:G,MATCH(O195,Odds!F:F,0)))","v":""}]
[null,null,null,null,null,null,null,null,null,null,null,null,null,null,null,null,null,null,null,null,null,null,null,null,null,null,null,{"$f":"IF(O196=\"\",\"\",INDEX(Odds!G:G,MATCH(O196,Odds!F:F,0)))","v":""}]
[null,null,null,null,null,null,null,null,null,null,null,null,null,null,null,null,null,null,null,null,null,null,null,null,null,null,null,{"$f":"IF(O197=\"\",\"\",INDEX(Odds!G:G,MATCH(O197,Odds!F:F,0)))","v":""}]
[null,null,null,null,null,null,null,null,null,null,null,null,null,null,null,null,null,null,null,null,null,null,null,null,null,null,null,{"$f":"IF(O198=\"\",\"\",INDEX(Odds!G:G,MATCH(O198,Odds!F:F,0)))","v":""}]
[null,null,null,null,null,null,null,null,null,null,null,null,null,null,null,null,null,null,null,null,null,null,null,null,null,null,null,{"$f":"IF(O199=\"\",\"\",INDEX(Odds!G:G,MATCH(O199,Odds!F:F,0)))","v":""}]
[null,null,null,null,null,null,null,null,null,null,null,null,null,null,null,null,null,null,null,null,null,null,null,null,null,null,null,{"$f":"IF(O200=\"\",\"\",INDEX(Odds!G:G,MATCH(O200,Odds!F:F,0)))","v":""}]
[null,null,null,null,null,null,null,null,null,null,null,null,null,null,null,null,null,null,null,null,null,null,null,null,null,null,null,{"$f":"IF(O201=\"\",\"\",INDEX(Odds!G:G,MATCH(O201,Odds!F:F,0)))","v":""}]
[null,null,null,null,null,null,null,null,null,null,null,null,null,null,null,null,null,null,null,null,null,null,null,null,null,null,null,{"$f":"IF(O202=\"\",\"\",INDEX(Odds!G:G,MATCH(O202,Odds!F:F,0)))","v":""}]
[null,null,null,null,null,null,null,null,null,null,null,null,null,null,null,null,null,null,null,null,null,null,null,null,null,null,null,{"$f":"IF(O203=\"\",\"\",INDEX(Odds!G:G,MATCH(O203,Odds!F:F,0)))","v":""}]
[null,null,null,null,null,null,null,null,null,null,null,null,null,null,null,null,null,null,null,null,null,null,null,null,null,null,null,{"$f":"IF(O204=\"\",\"\",INDEX(Odds!G:G,MATCH(O204,Odds!F:F,0)))","v":""}]
[null,null,null,null,null,null,null,null,null,null,null,null,null,null,null,null,null,null,null,null,null,null,null,null,null,null,null,{"$f":"IF(O205=\"\",\"\",INDEX(Odds!G:G,MATCH(O205,Odds!F:F,0)))","v":""}]
[null,null,null,null,null,null,null,null,null,null,null,null,null,null,null,null,null,null,null,null,null,null,null,null,null,null,null,{"$f":"IF(O206=\"\",\"\",INDEX(Odds!G:G,MATCH(O206,Odds!F:F,0)))","v":""}]
[null,null,null,null,null,null,null,null,null,null,null,null,null,null,null,null,null,null,null,null,null,null,null,null,null,null,null,{"$f":"IF(O207=\"\",\"\",INDEX(Odds!G:G,MATCH(O207,Odds!F:F,0)))","v":""}]
[null,null,null,null,null,null,null,null,null,null,null,null,null,null,null,null,null,null,null,null,null,null,null,null,null,null,null,{"$f":"IF(O208=\"\",\"\",INDEX(Odds!G:G,MATCH(O208,Odds!F:F,0)))","v":""}]
[null,null,null,null,null,null,null,null,null,null,null,null,null,null,null,null,null,null,null,null,null,null,null,null,null,null,null,{"$f":"IF(O209=\"\",\"\",INDEX(Odds!G:G,MATCH(O209,Odds!F:F,0)))","v":""}]
[null,null,null,null,null,null,null,null,null,null,null,null,null,null,null,null,null,null,null,null,null,null,null,null,null,null,null,{"$f":"IF(O210=\"\",\"\",INDEX(Odds!G:G,MATCH(O210,Odds!F:F,0)))","v":""}]
[null,null,null,null,null,null,null,null,null,null,null,null,null,null,null,null,null,null,null,null,null,null,null,null,null,null,null,{"$f":"IF(O211=\"\",\"\",INDEX(Odds!G:G,MATCH(O211,Odds!F:F,0)))","v":""}]
[null,null,null,null,null,null,null,null,null,null,null,null,null,null,null,null,null,null,null,null,null,null,null,null,null,null,null,{"$f":"IF(O212=\"\",\"\",INDEX(Odds!G:G,MATCH(O212,Odds!F:F,0)))","v":""}]
[null,null,null,null,null,null,null,null,null,null,null,null,null,null,null,null,null,null,null,null,null,null,null,null,null,null,null,{"$f":"IF(O213=\"\",\"\",INDEX(Odds!G:G,MATCH(O213,Odds!F:F,0)))","v":""}]
[null,null,null,null,null,null,null,null,null,null,null,null,null,null,null,null,null,null,null,null,null,null,null,null,null,null,null,{"$f":"IF(O214=\"\",\"\",INDEX(Odds!G:G,MATCH(O214,Odds!F:F,0)))","v":""}]
[null,null,null,null,null,null,null,null,null,null,null,null,null,null,null,null,null,null,null,null,null,null,null,null,null,null,null,{"$f":"IF(O215=\"\",\"\",INDEX(Odds!G:G,MATCH(O215,Odds!F:F,0)))","v":""}]
[null,null,null,null,null,null,null,null,null,null,null,null,null,null,null,null,null,null,null,null,null,null,null,null,null,null,null,{"$f":"IF(O216=\"\",\"\",INDEX(Odds!G:G,MATCH(O216,Odds!F:F,0)))","v":""}]
[null,null,null,null,null,null,null,null,null,null,null,null,null,null,null,null,null,null,null,null,null,null,null,null,null,null,null,{"$f":"IF(O217=\"\",\"\",INDEX(Odds!G:G,MATCH(O217,Odds!F:F,0)))","v":""}]
[null,null,null,null,null,null,null,null,null,null,null,null,null,null,null,null,null,null,null,null,null,null,null,null,null,null,null,{"$f":"IF(O218=\"\",\"\",INDEX(Odds!G:G,MATCH(O218,Odds!F:F,0)))","v":""}]
[null,null,null,null,null,null,null,null,null,null,null,null,null,null,null,null,null,null,null,null,null,null,null,null,null,null,null,{"$f":"IF(O219=\"\",\"\",INDEX(Odds!G:G,MATCH(O219,Odds!F:F,0)))","v":""}]
[null,null,null,null,null,null,null,null,null,null,null,null,null,null,null,null,null,null,null,null,null,null,null,null,null,null,null,{"$f":"IF(O220=\"\",\"\",INDEX(Odds!G:G,MATCH(O220,Odds!F:F,0)))","v":""}]
[null,null,null,null,null,null,null,null,null,null,null,null,null,null,null,null,null,null,null,null,null,null,null,null,null,null,null,{"$f":"IF(O221=\"\",\"\",INDEX(Odds!G:G,MATCH(O221,Odds!F:F,0)))","v":""}]
[null,null,null,null,null,null,null,null,null,null,null,null,null,null,null,null,null,null,null,null,null,null,null,null,null,null,null,{"$f":"IF(O222=\"\",\"\",INDEX(Odds!G:G,MATCH(O222,Odds!F:F,0)))","v":""}]
[null,null,null,null,null,null,null,null,null,null,null,null,null,null,null,null,null,null,null,null,null,null,null,null,null,null,null,{"$f":"IF(O223=\"\",\"\",INDEX(Odds!G:G,MATCH(O223,Odds!F:F,0)))","v":""}]
[null,null,null,null,null,null,null,null,null,null,null,null,null,null,null,null,null,null,null,null,null,null,null,null,null,null,null,{"$f":"IF(O224=\"\",\"\",INDEX(Odds!G:G,MATCH(O224,Odds!F:F,0)))","v":""}]
[null,null,null,null,null,null,null,null,null,null,null,null,null,null,null,null,null,null,null,null,null,null,null,null,null,null,null,{"$f":"IF(O225=\"\",\"\",INDEX(Odds!G:G,MATCH(O225,Odds!F:F,0)))","v":""}]
[null,null,null,null,null,null,null,null,null,null,null,null,null,null,null,null,null,null,null,null,null,null,null,null,null,null,null,{"$f":"IF(O226=\"\",\"\",INDEX(Odds!G:G,MATCH(O226,Odds!F:F,0)))","v":""}]
[null,null,null,null,null,null,null,null,null,null,null,null,null,null,null,null,null,null,null,null,null,null,null,null,null,null,null,{"$f":"IF(O227=\"\",\"\",INDEX(Odds!G:G,MATCH(O227,Odds!F:F,0)))","v":""}]
[null,null,null,null,null,null,null,null,null,null,null,null,null,null,null,null,null,null,null,null,null,null,null,null,null,null,null,{"$f":"IF(O228=\"\",\"\",INDEX(Odds!G:G,MATCH(O228,Odds!F:F,0)))","v":""}]
[null,null,null,null,null,null,null,null,null,null,null,null,null,null,null,null,null,null,null,null,null,null,null,null,null,null,null,{"$f":"IF(O229=\"\",\"\",INDEX(Odds!G:G,MATCH(O229,Odds!F:F,0)))","v":""}]
[null,null,null,null,null,null,null,null,null,null,null,null,null,null,null,null,null,null,null,null,null,null,null,null,null,null,null,{"$f":"IF(O230=\"\",\"\",INDEX(Odds!G:G,MATCH(O230,Odds!F:F,0)))","v":""}]
[null,null,null,null,null,null,null,null,null,null,null,null,null,null,null,null,null,null,null,null,null,null,null,null,null,null,null,{"$f":"IF(O231=\"\",\"\",INDEX(Odds!G:G,MATCH(O231,Odds!F:F,0)))","v":""}]
[null,null,null,null,null,null,null,null,null,null,null,null,null,null,null,null,null,null,null,null,null,null,null,null,null,null,null,{"$f":"IF(O232=\"\",\"\",INDEX(Odds!G:G,MATCH(O232,Odds!F:F,0)))","v":""}]
[null,null,null,null,null,null,null,null,null,null,null,null,null,null,null,null,null,null,null,null,null,null,null,null,null,null,null,{"$f":"IF(O233=\"\",\"\",INDEX(Odds!G:G,MATCH(O233,Odds!F:F,0)))","v":""}]
[null,null,null,null,null,null,null,null,null,null,null,null,null,null,null,null,null,null,null,null,null,null,null,null,null,null,null,{"$f":"IF(O234=\"\",\"\",INDEX(Odds!G:G,MATCH(O234,Odds!F:F,0)))","v":""}]
[null,null,null,null,null,null,null,null,null,null,null,null,null,null,null,null,null,null,null,null,null,null,null,null,null,null,null,{"$f":"IF(O235=\"\",\"\",INDEX(Odds!G:G,MATCH(O235,Odds!F:F,0)))","v":""}]
[null,null,null,null,null,null,null,null,null,null,null,null,null,null,null,null,null,null,null,null,null,null,null,null,null,null,null,{"$f":"IF(O236=\"\",\"\",INDEX(Odds!G:G,MATCH(O236,Odds!F:F,0)))","v":""}]
[null,null,null,null,null,null,null,null,null,null,null,null,null,null,null,null,null,null,null,null,null,null,null,null,null,null,null,{"$f":"IF(O237=\"\",\"\",INDEX(Odds!G:G,MATCH(O237,Odds!F:F,0)))","v":""}]
[null,null,null,null,null,null,null,null,null,null,null,null,null,null,null,null,null,null,null,null,null,null,null,null,null,null,null,{"$f":"IF(O238=\"\",\"\",INDEX(Odds!G:G,MATCH(O238,Odds!F:F,0)))","v":""}]
[null,null,null,null,null,null,null,null,null,null,null,null,null,null,null,null,null,null,null,null,null,null,null,null,null,null,null,{"$f":"IF(O239=\"\",\"\",INDEX(Odds!G:G,MATCH(O239,Odds!F:F,0)))","v":""}]
[null,null,null,null,null,null,null,null,null,null,null,null,null,null,null,null,null,null,null,null,null,null,null,null,null,null,null,{"$f":"IF(O240=\"\",\"\",INDEX(Odds!G:G,MATCH(O240,Odds!F:F,0)))","v":""}]
[null,null,null,null,null,null,null,null,null,null,null,null,null,null,null,null,null,null,null,null,null,null,null,null,null,null,null,{"$f":"IF(O241=\"\",\"\",INDEX(Odds!G:G,MATCH(O241,Odds!F:F,0)))","v":""}]
[null,null,null,null,null,null,null,null,null,null,null,null,null,null,null,null,null,null,null,null,null,null,null,null,null,null,null,{"$f":"IF(O242=\"\",\"\",INDEX(Odds!G:G,MATCH(O242,Odds!F:F,0)))","v":""}]
[null,null,null,null,null,null,null,null,null,null,null,null,null,null,null,null,null,null,null,null,null,null,null,null,null,null,null,{"$f":"IF(O243=\"\",\"\",INDEX(Odds!G:G,MATCH(O243,Odds!F:F,0)))","v":""}]
[null,null,null,null,null,null,null,null,null,null,null,null,null,null,null,null,null,null,null,null,null,null,null,null,null,null,null,{"$f":"IF(O244=\"\",\"\",INDEX(Odds!G:G,MATCH(O244,Odds!F:F,0)))","v":""}]
[null,null,null,null,null,null,null,null,null,null,null,null,null,null,null,null,null,null,null,null,null,null,null,null,null,null,null,{"$f":"IF(O245=\"\",\"\",INDEX(Odds!G:G,MATCH(O245,Odds!F:F,0)))","v":""}]
[null,null,null,null,null,null,null,null,null,null,null,null,null,null,null,null,null,null,null,null,null,null,null,null,null,null,null,{"$f":"IF(O246=\"\",\"\",INDEX(Odds!G:G,MATCH(O246,Odds!F:F,0)))","v":""}]
[null,null,null,null,null,null,null,null,null,null,null,null,null,null,null,null,null,null,null,null,null,null,null,null,null,null,null,{"$f":"IF(O247=\"\",\"\",INDEX(Odds!G:G,MATCH(O247,Odds!F:F,0)))","v":""}]
[null,null,null,null,null,null,null,null,null,null,null,null,null,null,null,null,null,null,null,null,null,null,null,null,null,null,null,{"$f":"IF(O248=\"\",\"\",INDEX(Odds!G:G,MATCH(O248,Odds!F:F,0)))","v":""}]
[null,null,null,null,null,null,null,null,null,null,null,null,null,null,null,null,null,null,null,null,null,null,null,null,null,null,null,{"$f":"IF(O249=\"\",\"\",INDEX(Odds!G:G,MATCH(O249,Odds!F:F,0)))","v":""}]
[null,null,null,null,null,null,null,null,null,null,null,null,null,null,null,null,null,null,null,null,null,null,null,null,null,null,null,{"$f":"IF(O250=\"\",\"\",INDEX(Odds!G:G,MATCH(O250,Odds!F:F,0)))","v":""}]
[null,null,null,null,null,null,null,null,null,null,null,null,null,null,null,null,null,null,null,null,null,null,null,null,null,null,null,{"$f":"IF(O251=\"\",\"\",INDEX(Odds!G:G,MATCH(O251,Odds!F:F,0)))","v":""}]
[null,null,null,null,null,null,null,null,null,null,null,null,null,null,null,null,null,null,null,null,null,null,null,null,null,null,null,{"$f":"IF(O252=\"\",\"\",INDEX(Odds!G:G,MATCH(O252,Odds!F:F,0)))","v":""}]
[null,null,null,null,null,null,null,null,null,null,null,null,null,null,null,null,null,null,null,null,null,null,null,null,null,null,null,{"$f":"IF(O253=\"\",\"\",INDEX(Odds!G:G,MATCH(O253,Odds!F:F,0)))","v":""}]
[null,null,null,null,null,null,null,null,null,null,null,null,null,null,null,null,null,null,null,null,null,null,null,null,null,null,null,{"$f":"IF(O254=\"\",\"\",INDEX(Odds!G:G,MATCH(O254,Odds!F:F,0)))","v":""}]
[null,null,null,null,null,null,null,null,null,null,null,null,null,null,null,null,null,null,null,null,null,null,null,null,null,null,null,{"$f":"IF(O255=\"\",\"\",INDEX(Odds!G:G,MATCH(O255,Odds!F:F,0)))","v":""}]
[null,null,null,null,null,null,null,null,null,null,null,null,null,null,null,null,null,null,null,null,null,null,null,null,null,null,null,{"$f":"IF(O256=\"\",\"\",INDEX(Odds!G:G,MATCH(O256,Odds!F:F,0)))","v":""}]
[null,null,null,null,null,null,null,null,null,null,null,null,null,null,null,null,null,null,null,null,null,null,null,null,null,null,null,{"$f":"IF(O257=\"\",\"\",INDEX(Odds!G:G,MATCH(O257,Odds!F:F,0)))","v":""}]
[null,null,null,null,null,null,null,null,null,null,null,null,null,null,null,null,null,null,null,null,null,null,null,null,null,null,null,{"$f":"IF(O258=\"\",\"\",INDEX(Odds!G:G,MATCH(O258,Odds!F:F,0)))","v":""}]
[null,null,null,null,null,null,null,null,null,null,null,null,null,null,null,null,null,null,null,null,null,null,null,null,null,null,null,{"$f":"IF(O259=\"\",\"\",INDEX(Odds!G:G,MATCH(O259,Odds!F:F,0)))","v":""}]
[null,null,null,null,null,null,null,null,null,null,null,null,null,null,null,null,null,null,null,null,null,null,null,null,null,null,null,{"$f":"IF(O260=\"\",\"\",INDEX(Odds!G:G,MATCH(O260,Odds!F:F,0)))","v":""}]
[null,null,null,null,null,null,null,null,null,null,null,null,null,null,null,null,null,null,null,null,null,null,null,null,null,null,null,{"$f":"IF(O261=\"\",\"\",INDEX(Odds!G:G,MATCH(O261,Odds!F:F,0)))","v":""}]
[null,null,null,null,null,null,null,null,null,null,null,null,null,null,null,null,null,null,null,null,null,null,null,null,null,null,null,{"$f":"IF(O262=\"\",\"\",INDEX(Odds!G:G,MATCH(O262,Odds!F:F,0)))","v":""}]
[null,null,null,null,null,null,null,null,null,null,null,null,null,null,null,null,null,null,null,null,null,null,null,null,null,null,null,{"$f":"IF(O263=\"\",\"\",INDEX(Odds!G:G,MATCH(O263,Odds!F:F,0)))","v":""}]
[null,null,null,null,null,null,null,null,null,null,null,null,null,null,null,null,null,null,null,null,null,null,null,null,null,null,null,{"$f":"IF(O264=\"\",\"\",INDEX(Odds!G:G,MATCH(O264,Odds!F:F,0)))","v":""}]
[null,null,null,null,null,null,null,null,null,null,null,null,null,null,null,null,null,null,null,null,null,null,null,null,null,null,null,{"$f":"IF(O265=\"\",\"\",INDEX(Odds!G:G,MATCH(O265,Odds!F:F,0)))","v":""}]
[null,null,null,null,null,null,null,null,null,null,null,null,null,null,null,null,null,null,null,null,null,null,null,null,null,null,null,{"$f":"IF(O266=\"\",\"\",INDEX(Odds!G:G,MATCH(O266,Odds!F:F,0)))","v":""}]
[null,null,null,null,null,null,null,null,null,null,null,null,null,null,null,null,null,null,null,null,null,null,null,null,null,null,null,{"$f":"IF(O267=\"\",\"\",INDEX(Odds!G:G,MATCH(O267,Odds!F:F,0)))","v":""}]
[null,null,null,null,null,null,null,null,null,null,null,null,null,null,null,null,null,null,null,null,null,null,null,null,null,null,null,{"$f":"IF(O268=\"\",\"\",INDEX(Odds!G:G,MATCH(O268,Odds!F:F,0)))","v":""}]
[null,null,null,null,null,null,null,null,null,null,null,null,null,null,null,null,null,null,null,null,null,null,null,null,null,null,null,{"$f":"IF(O269=\"\",\"\",INDEX(Odds!G:G,MATCH(O269,Odds!F:F,0)))","v":""}]
[null,null,null,null,null,null,null,null,null,null,null,null,null,null,null,null,null,null,null,null,null,null,null,null,null,null,null,{"$f":"IF(O270=\"\",\"\",INDEX(Odds!G:G,MATCH(O270,Odds!F:F,0)))","v":""}]
[null,null,null,null,null,null,null,null,null,null,null,null,null,null,null,null,null,null,null,null,null,null,null,null,null,null,null,{"$f":"IF(O271=\"\",\"\",INDEX(Odds!G:G,MATCH(O271,Odds!F:F,0)))","v":""}]
[null,null,null,null,null,null,null,null,null,null,null,null,null,null,null,null,null,null,null,null,null,null,null,null,null,null,null,{"$f":"IF(O272=\"\",\"\",INDEX(Odds!G:G,MATCH(O272,Odds!F:F,0)))","v":""}]
[null,null,null,null,null,null,null,null,null,null,null,null,null,null,null,null,null,null,null,null,null,null,null,null,null,null,null,{"$f":"IF(O273=\"\",\"\",INDEX(Odds!G:G,MATCH(O273,Odds!F:F,0)))","v":""}]
[null,null,null,null,null,null,null,null,null,null,null,null,null,null,null,null,null,null,null,null,null,null,null,null,null,null,null,{"$f":"IF(O274=\"\",\"\",INDEX(Odds!G:G,MATCH(O274,Odds!F:F,0)))","v":""}]
[null,null,null,null,null,null,null,null,null,null,null,null,null,null,null,null,null,null,null,null,null,null,null,null,null,null,null,{"$f":"IF(O275=\"\",\"\",INDEX(Odds!G:G,MATCH(O275,Odds!F:F,0)))","v":""}]
[null,null,null,null,null,null,null,null,null,null,null,null,null,null,null,null,null,null,null,null,null,null,null,null,null,null,null,{"$f":"IF(O276=\"\",\"\",INDEX(Odds!G:G,MATCH(O276,Odds!F:F,0)))","v":""}]
[null,null,null,null,null,null,null,null,null,null,null,null,null,null,null,null,null,null,null,null,null,null,null,null,null,null,null,{"$f":"IF(O277=\"\",\"\",INDEX(Odds!G:G,MATCH(O277,Odds!F:F,0)))","v":""}]
[null,null,null,null,null,null,null,null,null,null,null,null,null,null,null,null,null,null,null,null,null,null,null,null,null,null,null,{"$f":"IF(O278=\"\",\"\",INDEX(Odds!G:G,MATCH(O278,Odds!F:F,0)))","v":""}]
[null,null,null,null,null,null,null,null,null,null,null,null,null,null,null,null,null,null,null,null,null,null,null,null,null,null,null,{"$f":"IF(O279=\"\",\"\",INDEX(Odds!G:G,MATCH(O279,Odds!F:F,0)))","v":""}]
[null,null,null,null,null,null,null,null,null,null,null,null,null,null,null,null,null,null,null,null,null,null,null,null,null,null,null,{"$f":"IF(O280=\"\",\"\",INDEX(Odds!G:G,MATCH(O280,Odds!F:F,0)))","v":""}]
[null,null,null,null,null,null,null,null,null,null,null,null,null,null,null,null,null,null,null,null,null,null,null,null,null,null,null,{"$f":"IF(O281=\"\",\"\",INDEX(Odds!G:G,MATCH(O281,Odds!F:F,0)))","v":""}]
[null,null,null,null,null,null,null,null,null,null,null,null,null,null,null,null,null,null,null,null,null,null,null,null,null,null,null,{"$f":"IF(O282=\"\",\"\",INDEX(Odds!G:G,MATCH(O282,Odds!F:F,0)))","v":""}]
[null,null,null,null,null,null,null,null,null,null,null,null,null,null,null,null,null,null,null,null,null,null,null,null,null,null,null,{"$f":"IF(O283=\"\",\"\",INDEX(Odds!G:G,MATCH(O283,Odds!F:F,0)))","v":""}]
[null,null,null,null,null,null,null,null,null,null,null,null,null,null,null,null,null,null,null,null,null,null,null,null,null,null,null,{"$f":"IF(O284=\"\",\"\",INDEX(Odds!G:G,MATCH(O284,Odds!F:F,0)))","v":""}]
[null,null,null,null,null,null,null,null,null,null,null,null,null,null,null,null,null,null,null,null,null,null,null,null,null,null,null,{"$f":"IF(O285=\"\",\"\",INDEX(Odds!G:G,MATCH(O285,Odds!F:F,0)))","v":""}]
[null,null,null,null,null,null,null,null,null,null,null,null,null,null,null,null,null,null,null,null,null,null,null,null,null,null,null,{"$f":"IF(O286=\"\",\"\",INDEX(Odds!G:G,MATCH(O286,Odds!F:F,0)))","v":""}]
[null,null,null,null,null,null,null,null,null,null,null,null,null,null,null,null,null,null,null,null,null,null,null,null,null,null,null,{"$f":"IF(O287=\"\",\"\",INDEX(Odds!G:G,MATCH(O287,Odds!F:F,0)))","v":""}]
[null,null,null,null,null,null,null,null,null,null,null,null,null,null,null,null,null,null,null,null,null,null,null,null,null,null,null,{"$f":"IF(O288=\"\",\"\",INDEX(Odds!G:G,MATCH(O288,Odds!F:F,0)))","v":""}]
[null,null,null,null,null,null,null,null,null,null,null,null,null,null,null,null,null,null,null,null,null,null,null,null,null,null,null,{"$f":"IF(O289=\"\",\"\",INDEX(Odds!G:G,MATCH(O289,Odds!F:F,0)))","v":""}]
[null,null,null,null,null,null,null,null,null,null,null,null,null,null,null,null,null,null,null,null,null,null,null,null,null,null,null,{"$f":"IF(O290=\"\",\"\",INDEX(Odds!G:G,MATCH(O290,Odds!F:F,0)))","v":""}]
[null,null,null,null,null,null,null,null,null,null,null,null,null,null,null,null,null,null,null,null,null,null,null,null,null,null,null,{"$f":"IF(O291=\"\",\"\",INDEX(Odds!G:G,MATCH(O291,Odds!F:F,0)))","v":""}]
[null,null,null,null,null,null,null,null,null,null,null,null,null,null,null,null,null,null,null,null,null,null,null,null,null,null,null,{"$f":"IF(O292=\"\",\"\",INDEX(Odds!G:G,MATCH(O292,Odds!F:F,0)))","v":""}]
[null,null,null,null,null,null,null,null,null,null,null,null,null,null,null,null,null,null,null,null,null,null,null,null,null,null,null,{"$f":"IF(O293=\"\",\"\",INDEX(Odds!G:G,MATCH(O293,Odds!F:F,0)))","v":""}]
[null,null,null,null,null,null,null,null,null,null,null,null,null,null,null,null,null,null,null,null,null,null,null,null,null,null,null,{"$f":"IF(O294=\"\",\"\",INDEX(Odds!G:G,MATCH(O294,Odds!F:F,0)))","v":""}]
[null,null,null,null,null,null,null,null,null,null,null,null,null,null,null,null,null,null,null,null,null,null,null,null,null,null,null,{"$f":"IF(O295=\"\",\"\",INDEX(Odds!G:G,MATCH(O295,Odds!F:F,0)))","v":""}]
[null,null,null,null,null,null,null,null,null,null,null,null,null,null,null,null,null,null,null,null,null,null,null,null,null,null,null,{"$f":"IF(O296=\"\",\"\",INDEX(Odds!G:G,MATCH(O296,Odds!F:F,0)))","v":""}]
[null,null,null,null,null,null,null,null,null,null,null,null,null,null,null,null,null,null,null,null,null,null,null,null,null,null,null,{"$f":"IF(O297=\"\",\"\",INDEX(Odds!G:G,MATCH(O297,Odds!F:F,0)))","v":""}]
[null,null,null,null,null,null,null,null,null,null,null,null,null,null,null,null,null,null,null,null,null,null,null,null,null,null,null,{"$f":"IF(O298=\"\",\"\",INDEX(Odds!G:G,MATCH(O298,Odds!F:F,0)))","v":""}]
[null,null,null,null,null,null,null,null,null,null,null,null,null,null,null,null,null,null,null,null,null,null,null,null,null,null,null,{"$f":"IF(O299=\"\",\"\",INDEX(Odds!G:G,MATCH(O299,Odds!F:F,0)))","v":""}]
[null,null,null,null,null,null,null,null,null,null,null,null,null,null,null,null,null,null,null,null,null,null,null,null,null,null,null,{"$f":"IF(O300=\"\",\"\",INDEX(Odds!G:G,MATCH(O300,Odds!F:F,0)))","v":""}]
[null,null,null,null,null,null,null,null,null,null,null,null,null,null,null,null,null,null,null,null,null,null,null,null,null,null,null,{"$f":"IF(O301=\"\",\"\",INDEX(Odds!G:G,MATCH(O301,Odds!F:F,0)))","v":""}]

{"sheet":"Results","index":10,"n_rows":193,"n_cols":36,"rows_kept":193,"cut":false,"hidden":false,"merged":[]}
["stake",null,"team","frac","dec","played","bet up","win","Entrants","Bet1","Bet2","Bet3","single 1","single 2","single 3","double 1","double 2","double 3","treble","total","bets in","Entrants","played","Max","Pred1","Pred2","Pred3","single 1","single 2","single 3","double 1","double 2","double 3","treble","total"]
[1,{"$f":"$V2","v":"Alan Rogers"},{"$f":"Picks!B2","v":"Morecambe"},{"$f":"Picks!C2","v":7},{"$f":"Picks!D2","v":2.6},1,{"$f":"Picks!M2","v":1},{"$f":"+((E2-1)*G2*F2*A$2)","v":1.6},{"$f":"IF(V2=\"\",\"\",V2)","v":"Alan Rogers"},{"$f":"H2","v":1.6},{"$f":"H3","v":1.4},{"$f":"H4","v":2.5},{"$f":"IF(J2=0,0,1)+J2","v":2.6},{"$f":"IF(K2=0,0,1)+K2","v":2.4},{"$f":"IF(L2=0,0,1)+L2","v":3.5},{"$f":"IF(K2=0,0,(M2*K2)+M2)","v":6.24},{"$f":"IF(L2=0,0,(N2*L2)+N2)","v":8.4},{"$f":"IF(J2=0,0,(O2*J2)+O2)","v":9.1000000000000014},{"$f":"IF(L2=0,0,(P2*L2)+P2)","v":21.840000000000003},{"$f":"SUM(M2:S2)-(IF(W2=1,A$2*1,0))-(IF(W2=2,A$2*3,0))-(IF(W2=3,A$2*7,0))","v":47.080000000000005},{"$f":"SUM(G2:G4)","v":3},"Alan Rogers",{"$f":"SUM(F2:F4)","v":3},{"$f":"+((E2-1)*F2*A$2)","v":1.6},{"$f":"X2","v":1.6},{"$f":"X3","v":1.4},{"$f":"X4","v":2.5},{"$f":"IF(Y2=0,0,1)+Y2","v":2.6},{"$f":"IF(Z2=0,0,1)+Z2","v":2.4},{"$f":"IF(AA2=0,0,1)+AA2","v":3.5},{"$f":"IF(Z2=0,0,(AB2*Z2)+AB2)","v":6.24},{"$f":"IF(AA2=0,0,(AC2*AA2)+AC2)","v":8.4},{"$f":"IF(Y2=0,0,(AD2*Y2)+AD2)","v":9.1000000000000014},{"$f":"IF(AA2=0,0,(AE2*AA2)+AE2)","v":21.840000000000003},{"$f":"SUM(AB2:AH2)-7","v":47.080000000000005},{"$f":"$V2","v":"Alan Rogers"}]
[null,null,{"$f":"Picks!B3","v":"Oldham"},{"$f":"Picks!C3","v":7},{"$f":"Picks!D3","v":2.4},1,{"$f":"Picks!M3","v":1},1.4,{"$f":"IF(V3=\"\",\"\",V3)","v":"Alan White"},{"$f":"H5","v":1},{"$f":"H6","v":0},{"$f":"H7","v":0.72727272727272729},2,0,1.7272727272727273,{"$f":"IF(K3=0,0,(M3*K3)+M3)","v":0},{"$f":"IF(L3=0,0,(N3*L3)+N3)","v":0},{"$f":"IF(J3=0,0,(O3*J3)+O3)","v":3.4545454545454546},{"$f":"IF(L3=0,0,(P3*L3)+P3)","v":0},{"$f":"SUM(M3:S3)-(IF(W3=1,A$2*1,0))-(IF(W3=2,A$2*3,0))-(IF(W3=3,A$2*7,0))","v":0.18181818181818166},{"$f":"SUM(G5:G7)","v":2},"Alan White",{"$f":"SUM(F5:F7)","v":3},1.4,{"$f":"X5","v":1},{"$f":"X6","v":0.72727272727272729},{"$f":"X7","v":0.72727272727272729},{"$f":"IF(Y3=0,0,1)+Y3","v":2},{"$f":"IF(Z3=0,0,1)+Z3","v":1.7272727272727273},{"$f":"IF(AA3=0,0,1)+AA3","v":1.7272727272727273},{"$f":"IF(Z3=0,0,(AB3*Z3)+AB3)","v":3.4545454545454546},{"$f":"IF(AA3=0,0,(AC3*AA3)+AC3)","v":2.9834710743801653},{"$f":"IF(Y3=0,0,(AD3*Y3)+AD3)","v":3.4545454545454546},{"$f":"IF(AA3=0,0,(AE3*AA3)+AE3)","v":5.9669421487603307},{"$f":"SUM(AB3:AH3)-7","v":14.314049586776861},{"$f":"$V3","v":"Alan White"}]
[null,null,{"$f":"Picks!B4","v":"Port Vale draw"},{"$f":"Picks!C4","v":7},{"$f":"Picks!D4","v":3.5},1,{"$f":"Picks!M4","v":1},2.5,"Alfie Davies",{"$f":"H8","v":1.75},{"$f":"H9","v":2.2000000000000002},{"$f":"H10","v":1.7000000000000002},2.75,3.2,2.7,8.8000000000000007,8.64,7.4250000000000007,{"$f":"IF(L4=0,0,(P4*L4)+P4)","v":23.760000000000005},50.275000000000006,{"$f":"SUM(G8:G10)","v":3},"Alfie Davies",{"$f":"SUM(F8:F10)","v":3},2.5,{"$f":"X8","v":1.75},{"$f":"X9","v":2.2000000000000002},{"$f":"X10","v":1.7000000000000002},2.75,3.2,2.7,{"$f":"IF(Z4=0,0,(AB4*Z4)+AB4)","v":8.8000000000000007},{"$f":"IF(AA4=0,0,(AC4*AA4)+AC4)","v":8.64},{"$f":"IF(Y4=0,0,(AD4*Y4)+AD4)","v":7.4250000000000007},{"$f":"IF(AA4=0,0,(AE4*AA4)+AE4)","v":23.760000000000005},{"$f":"SUM(AB4:AH4)-7","v":50.275000000000006},"Alfie Davies"]
[null,{"$f":"$V3","v":"Alan White"},{"$f":"Picks!B5","v":"Leicester"},{"$f":"Picks!C5","v":1},{"$f":"Picks!D5","v":2},1,{"$f":"Picks!M5","v":1},1,"Alick Rocca",{"$f":"H11","v":0},{"$f":"H12","v":0},{"$f":"H13","v":0},0,0,0,0,0,0,0,-7,{"$f":"SUM(G11:G13)","v":0},"Alick Rocca",{"$f":"SUM(F11:F13)","v":3},1,{"$f":"X11","v":2.2000000000000002},{"$f":"X12","v":2.2999999999999998},{"$f":"X13","v":2.1},3.2,3.3,3.1,10.559999999999999,10.23,9.9200000000000017,32.735999999999997,66.045999999999992,"Alick Rocca"]
[null,null,{"$f":"Picks!B6","v":"Spurs"},{"$f":"Picks!C6","v":1},{"$f":"Picks!D6","v":1.7272727272727273},1,{"$f":"Picks!M6","v":0},0,"Andy Charleston",{"$f":"H14","v":3.3333333333333339},{"$f":"H15","v":0},{"$f":"H16","v":0},4.3333333333333339,0,0,0,0,0,0,-2.6666666666666661,{"$f":"SUM(G14:G16)","v":1},"Andy Charleston",{"$f":"SUM(F14:F16)","v":3},0.72727272727272729,{"$f":"X14","v":3.3333333333333339},{"$f":"X15","v":3.3333333333333339},{"$f":"X16","v":3},4.3333333333333339,4.3333333333333339,4,18.777777777777782,17.333333333333336,17.333333333333336,75.111111111111128,134.22222222222223,"Andy Charleston"]
[null,null,{"$f":"Picks!B7","v":"Southampton"},{"$f":"Picks!C7","v":1},{"$f":"Picks!D7","v":1.7272727272727273},1,{"$f":"Picks!M7","v":1},0.72727272727272729,"Andy White",{"$f":"H17","v":0},{"$f":"H18","v":1.25},{"$f":"H19","v":1},0,2.25,2,0,4.5,0,0,1.75,{"$f":"SUM(G17:G19)","v":2},"Andy White",{"$f":"SUM(F17:F19)","v":3},0.72727272727272729,{"$f":"X17","v":1.2999999999999998},{"$f":"X18","v":1.25},{"$f":"X19","v":1},2.2999999999999998,2.25,2,5.1749999999999998,4.5,4.5999999999999996,10.35,24.175000000000004,"Andy White"]
[null,{"$f":"$V4","v":"Alfie Davies"},{"$f":"Picks!B8","v":"Norwich"},{"$f":"Picks!C8","v":7},{"$f":"Picks!D8","v":2.75},1,{"$f":"Picks!M8","v":1},1.75,"Ashley Houghton",{"$f":"H20","v":0.90909090909090917},{"$f":"H21","v":0},{"$f":"H22","v":0.61538461538461542},1.9090909090909092,0,1.6153846153846154,0,0,3.0839160839160842,0,-0.39160839160839167,{"$f":"SUM(G20:G22)","v":2},"Ashley Houghton",{"$f":"SUM(F20:F22)","v":3},1.75,{"$f":"X20","v":0.90909090909090917},{"$f":"X21","v":0.60000000000000009},{"$f":"X22","v":0.61538461538461542},1.9090909090909092,1.6,1.6153846153846154,3.0545454545454547,2.5846153846153848,3.0839160839160842,4.9342657342657343,11.781818181818181,"Ashley Houghton"]
[null,null,{"$f":"Picks!B9","v":"Derby Draw"},{"$f":"Picks!C9","v":7},{"$f":"Picks!D9","v":3.2},1,{"$f":"Picks!M9","v":1},2.2000000000000002,"Barry Birchall",{"$f":"H23","v":0},{"$f":"H24","v":0},{"$f":"H25","v":0},0,0,0,0,0,0,0,-7,{"$f":"SUM(G23:G25)","v":0},"Barry Birchall",{"$f":"SUM(F23:F25)","v":3},2.2000000000000002,{"$f":"X23","v":1.7000000000000002},{"$f":"X24","v":2.7},{"$f":"X25","v":2.4},2.7,3.7,3.4,9.990000000000002,12.580000000000002,9.18,33.966000000000008,68.51600000000002,"Barry Birchall"]
[null,null,{"$f":"Picks!B10","v":"Reading"},{"$f":"Picks!C10","v":7},{"$f":"Picks!D10","v":2.7},1,{"$f":"Picks!M10","v":1},1.7000000000000002,"Ben Rosser",{"$f":"H26","v":0},{"$f":"H27","v":0},{"$f":"H28","v":0},0,0,0,0,0,0,0,-7,{"$f":"SUM(G26:G28)","v":0},"Ben Rosser",{"$f":"SUM(F26:F28)","v":3},1.7000000000000002,{"$f":"X26","v":3.3333333333333339},{"$f":"X27","v":3},{"$f":"X28","v":3.8},4.3333333333333339,4,4.8,17.333333333333336,19.2,20.800000000000004,83.200000000000017,146.66666666666669,"Ben Rosser"]
[null,{"$f":"$V5","v":"Alick Rocca"},{"$f":"Picks!B11","v":"Birmingham Draw"},{"$f":"Picks!C11","v":7},{"$f":"Picks!D11","v":3.2},1,{"$f":"Picks!M11","v":0},0,"Charlie Griffiths",{"$f":"H29","v":0},{"$f":"H30","v":0},{"$f":"H31","v":0},0,0,0,0,0,0,0,-7,{"$f":"SUM(G29:G31)","v":0},"Charlie Griffiths",{"$f":"SUM(F29:F31)","v":3},2.2000000000000002,{"$f":"X29","v":1.2999999999999998},{"$f":"X30","v":1.25},{"$f":"X31","v":2.25},2.2999999999999998,2.25,3.25,5.1749999999999998,7.3125,7.4749999999999996,16.818749999999998,37.581249999999997,"Charlie Griffiths"]
[null,null,{"$f":"Picks!B12","v":"QPR Draw"},{"$f":"Picks!C12","v":7},{"$f":"Picks!D12","v":3.3},1,{"$f":"Picks!M12","v":0},0,"Chris Bow",{"$f":"H32","v":3.3333333333333339},{"$f":"H33","v":0},{"$f":"H34","v":0},4.3333333333333339,0,0,0,0,0,0,-2.6666666666666661,{"$f":"SUM(G32:G34)","v":1},"Chris Bow",{"$f":"SUM(F32:F34)","v":3},2.2999999999999998,{"$f":"X32","v":3.3333333333333339},{"$f":"X33","v":1.2999999999999998},{"$f":"X34","v":1.875},4.3333333333333339,2.2999999999999998,2.875,9.9666666666666686,6.6124999999999998,12.458333333333336,28.654166666666672,60.2,"Chris Bow"]
[null,null,{"$f":"Picks!B13","v":"Sheff W Draw"},{"$f":"Picks!C13","v":7},{"$f":"Picks!D13","v":3.1},1,{"$f":"Picks!M13","v":0},0,"Chris Griffin",{"$f":"H35","v":1.25},{"$f":"H36","v":0},{"$f":"H37","v":1},2.25,0,2,0,0,4.5,0,1.75,{"$f":"SUM(G35:G37)","v":2},"Chris Griffin",{"$f":"SUM(F35:F37)","v":3},2.1,{"$f":"X35","v":1.25},{"$f":"X36","v":1.2999999999999998},{"$f":"X37","v":1},2.25,2.2999999999999998,2,5.1749999999999998,4.5999999999999996,4.5,10.35,24.174999999999997,"Chris Griffin"]
[null,{"$f":"$V6","v":"Andy Charleston"},{"$f":"Picks!B14","v":"Everton"},{"$f":"Picks!C14","v":7},{"$f":"Picks!D14","v":4.3333333333333339},1,{"$f":"Picks!M14","v":1},3.3333333333333339,"Chris Luck",{"$f":"H38","v":1.25},{"$f":"H39","v":0},{"$f":"H40","v":0},2.25,0,0,0,0,0,0,-4.75,{"$f":"SUM(G38:G40)","v":1},"Chris Luck",{"$f":"SUM(F38:F40)","v":3},3.3333333333333339,{"$f":"X38","v":1.25},{"$f":"X39","v":1.2999999999999998},{"$f":"X40","v":1.5},2.25,2.2999999999999998,2.5,5.1749999999999998,5.75,5.625,12.9375,29.537500000000001,"Chris Luck"]
[null,null,{"$f":"Picks!B15","v":"Man U"},{"$f":"Picks!C15","v":7},{"$f":"Picks!D15","v":4.3333333333333339},1,{"$f":"Picks!M15","v":0},0,"Chris Townsend",{"$f":"H41","v":2.1},{"$f":"H42","v":0},{"$f":"H43","v":0},3.1,0,0,0,0,0,0,-3.9,{"$f":"SUM(G41:G43)","v":1},"Chris Townsend",{"$f":"SUM(F41:F43)","v":3},3.3333333333333339,{"$f":"X41","v":2.1},{"$f":"X42","v":2.1},{"$f":"X43","v":3.75},3.1,3.1,4.75,9.6100000000000012,14.725,14.725,45.647500000000001,88.657499999999999,"Chris Townsend"]
[null,null,{"$f":"Picks!B16","v":"Birmingham"},{"$f":"Picks!C16","v":7},{"$f":"Picks!D16","v":4},1,{"$f":"Picks!M16","v":0},0,"Dan Baxter",{"$f":"H44","v":{"$error":"#VALUE!"}},{"$f":"H45","v":{"$error":"#VALUE!"}},{"$f":"H46","v":{"$error":"#VALUE!"}},{"$error":"#VALUE!"},{"$error":"#VALUE!"},{"$error":"#VALUE!"},{"$error":"#VALUE!"},{"$error":"#VALUE!"},{"$error":"#VALUE!"},{"$error":"#VALUE!"},{"$error":"#VALUE!"},{"$f":"SUM(G44:G46)","v":{"$error":"#N/A"}},"Dan Baxter",{"$f":"SUM(F44:F46)","v":3},3,{"$f":"X44","v":{"$error":"#VALUE!"}},{"$f":"X45","v":{"$error":"#VALUE!"}},{"$f":"X46","v":{"$error":"#VALUE!"}},{"$error":"#VALUE!"},{"$error":"#VALUE!"},{"$error":"#VALUE!"},{"$error":"#VALUE!"},{"$error":"#VALUE!"},{"$error":"#VALUE!"},{"$error":"#VALUE!"},{"$error":"#VALUE!"},"Dan Baxter"]
[null,{"$f":"$V7","v":"Andy White"},{"$f":"Picks!B17","v":"Wolves"},{"$f":"Picks!C17","v":7},{"$f":"Picks!D17","v":2.2999999999999998},1,{"$f":"Picks!M17","v":0},0,"Dave Bell",{"$f":"H47","v":0},{"$f":"H48","v":0},{"$f":"H49","v":3.3333333333333339},0,0,4.3333333333333339,0,0,0,0,1.3333333333333339,{"$f":"SUM(G47:G49)","v":1},"Dave Bell",{"$f":"SUM(F47:F49)","v":2},1.2999999999999998,{"$f":"X47","v":0},{"$f":"X48","v":8},{"$f":"X49","v":3.3333333333333339},0,9,4.3333333333333339,0,39.000000000000007,0,0,45.333333333333343,"Dave Bell"]
[null,null,{"$f":"Picks!B18","v":"Newcastle"},{"$f":"Picks!C18","v":7},{"$f":"Picks!D18","v":2.25},1,{"$f":"Picks!M18","v":1},1.25,"Dave Orrell",{"$f":"H50","v":1.4500000000000002},{"$f":"H51","v":1.0499999999999998},{"$f":"H52","v":1.4},2.4500000000000002,2.0499999999999998,2.4,5.0225,4.92,5.8800000000000008,12.053999999999998,27.776499999999999,{"$f":"SUM(G50:G52)","v":3},"Dave Orrell",{"$f":"SUM(F50:F52)","v":3},1.25,{"$f":"X50","v":1.4500000000000002},{"$f":"X51","v":1.0499999999999998},{"$f":"X52","v":1.4},2.4500000000000002,2.0499999999999998,2.4,5.0225,4.92,5.8800000000000008,12.053999999999998,27.776499999999999,"Dave Orrell"]
[null,null,{"$f":"Picks!B19","v":"Leicester"},{"$f":"Picks!C19","v":1},{"$f":"Picks!D19","v":2},1,{"$f":"Picks!M19","v":1},1,"David Dunn",{"$f":"H53","v":0},{"$f":"H54","v":1},{"$f":"H55","v":1.1499999999999999},0,2,2.15,0,4.3,0,0,1.4499999999999993,{"$f":"SUM(G53:G55)","v":2},"David Dunn",{"$f":"SUM(F53:F55)","v":3},1,{"$f":"X53","v":2.2999999999999998},{"$f":"X54","v":1},{"$f":"X55","v":1.1499999999999999},3.3,2,2.15,6.6,4.3,7.0949999999999989,14.189999999999998,32.634999999999991,"David Dunn"]
[null,{"$f":"$V8","v":"Ashley Houghton"},{"$f":"Picks!B20","v":"Doncaster"},{"$f":"Picks!C20","v":7},{"$f":"Picks!D20","v":1.9090909090909092},1,{"$f":"Picks!M20","v":1},0.90909090909090917,"Gareth Fallows",{"$f":"H56","v":{"$error":"#VALUE!"}},{"$f":"H57","v":{"$error":"#VALUE!"}},{"$f":"H58","v":{"$error":"#VALUE!"}},{"$error":"#VALUE!"},{"$error":"#VALUE!"},{"$error":"#VALUE!"},{"$error":"#VALUE!"},{"$error":"#VALUE!"},{"$error":"#VALUE!"},{"$error":"#VALUE!"},{"$error":"#VALUE!"},{"$f":"SUM(G56:G58)","v":{"$error":"#N/A"}},"Gareth Fallows",{"$f":"SUM(F56:F58)","v":3},0.90909090909090917,{"$f":"X56","v":{"$error":"#VALUE!"}},{"$f":"X57","v":{"$error":"#VALUE!"}},{"$f":"X58","v":{"$error":"#VALUE!"}},{"$error":"#VALUE!"},{"$error":"#VALUE!"},{"$error":"#VALUE!"},{"$error":"#VALUE!"},{"$error":"#VALUE!"},{"$error":"#VALUE!"},{"$error":"#VALUE!"},{"$error":"#VALUE!"},"Gareth Fallows"]
[null,null,{"$f":"Picks!B21","v":"Hull"},{"$f":"Picks!C21","v":7},{"$f":"Picks!D21","v":1.6},1,{"$f":"Picks!M21","v":0},0,"Gareth McGuire",{"$f":"H59","v":0},{"$f":"H60","v":1.0499999999999998},{"$f":"H61","v":1.6},0,2.0499999999999998,2.6,0,5.33,0,0,2.9800000000000004,{"$f":"SUM(G59:G61)","v":2},"Gareth McGuire",{"$f":"SUM(F59:F61)","v":3},0.60000000000000009,{"$f":"X59","v":3},{"$f":"X60","v":1.0499999999999998},{"$f":"X61","v":1.6},4,2.0499999999999998,2.6,8.1999999999999993,5.33,10.4,21.32,46.9,"Gareth McGuire"]
[null,null,{"$f":"Picks!B22","v":"Carlisle"},{"$f":"Picks!C22","v":7},{"$f":"Picks!D22","v":1.6153846153846154},1,{"$f":"Picks!M22","v":1},0.61538461538461542,"Gareth Powell",{"$f":"H62","v":0},{"$f":"H63","v":0},{"$f":"H64","v":1.7000000000000002},0,0,2.7,0,0,0,0,-4.3,{"$f":"SUM(G62:G64)","v":1},"Gareth Powell",{"$f":"SUM(F62:F64)","v":3},0.61538461538461542,{"$f":"X62","v":0.75},{"$f":"X63","v":1.625},{"$f":"X64","v":1.7000000000000002},1.75,2.625,2.7,4.59375,7.0875000000000004,4.7250000000000005,12.403125000000001,28.884375000000006,"Gareth Powell"]
[null,{"$f":"$V9","v":"Barry Birchall"},{"$f":"Picks!B23","v":"Plymouth"},{"$f":"Picks!C23","v":7},{"$f":"Picks!D23","v":2.7},1,{"$f":"Picks!M23","v":0},0,"Gerard Ventom",{"$f":"H65","v":2.2000000000000002},{"$f":"H66","v":1.25},{"$f":"H67","v":2},3.2,2.25,3,7.2,6.75,9.6000000000000014,21.6,46.6,{"$f":"SUM(G65:G67)","v":3},"Gerard Ventom",{"$f":"SUM(F65:F67)","v":3},1.7000000000000002,{"$f":"X65","v":2.2000000000000002},{"$f":"X66","v":1.25},{"$f":"X67","v":2},3.2,2.25,3,7.2,6.75,9.6000000000000014,21.6,46.6,"Gerard Ventom"]
[null,null,{"$f":"Picks!B24","v":"Cambridge"},{"$f":"Picks!C24","v":7},{"$f":"Picks!D24","v":3.7},1,{"$f":"Picks!M24","v":0},0,"Graham Miller",{"$f":"H68","v":1.25},{"$f":"H69","v":1},{"$f":"H70","v":0.72727272727272729},2.25,2,1.7272727272727273,4.5,3.4545454545454546,3.8863636363636367,7.7727272727272734,18.590909090909093,{"$f":"SUM(G68:G70)","v":3},"Graham Miller",{"$f":"SUM(F68:F70)","v":3},2.7,{"$f":"X68","v":1.25},{"$f":"X69","v":1},{"$f":"X70","v":0.72727272727272729},2.25,2,1.7272727272727273,4.5,3.4545454545454546,3.8863636363636367,7.7727272727272734,18.590909090909093,"Graham Miller"]
[null,null,{"$f":"Picks!B25","v":"Swindon draw"},{"$f":"Picks!C25","v":7},{"$f":"Picks!D25","v":3.4},1,{"$f":"Picks!M25","v":0},0,"Howard Bradley",{"$f":"H71","v":0},{"$f":"H72","v":0.95},{"$f":"H73","v":0.90909090909090917},0,1.95,1.9090909090909092,0,3.7227272727272727,0,0,0.58181818181818201,{"$f":"SUM(G71:G73)","v":2},"Howard Bradley",{"$f":"SUM(F71:F73)","v":3},2.4,{"$f":"X71","v":1.2000000000000002},{"$f":"X72","v":0.95},{"$f":"X73","v":0.90909090909090917},2.2000000000000002,1.95,1.9090909090909092,4.29,3.7227272727272727,4.2000000000000011,8.1900000000000013,19.461818181818185,"Howard Bradley"]
[null,{"$f":"$V10","v":"Ben Rosser"},{"$f":"Picks!B26","v":"Man U"},{"$f":"Picks!C26","v":7},{"$f":"Picks!D26","v":4.3333333333333339},1,{"$f":"Picks!M26","v":0},0,"Ian Davies",{"$f":"H74","v":0},{"$f":"H75","v":0},{"$f":"H76","v":0},0,0,0,0,0,0,0,-7,{"$f":"SUM(G74:G76)","v":0},"Ian Davies",{"$f":"SUM(F74:F76)","v":3},3.3333333333333339,{"$f":"X74","v":1.4500000000000002},{"$f":"X75","v":2.9},{"$f":"X76","v":1.7999999999999998},2.4500000000000002,3.9,2.8,9.5549999999999997,10.92,6.86,26.753999999999998,56.238999999999997,"Ian Davies"]
[null,null,{"$f":"Picks!B27","v":"Everton draw"},{"$f":"Picks!C27","v":7},{"$f":"Picks!D27","v":4},1,{"$f":"Picks!M27","v":0},0,"Jack Walsh",{"$f":"H77","v":0},{"$f":"H78","v":0},{"$f":"H79","v":0.64999999999999991},0,0,1.65,0,0,0,0,-5.35,{"$f":"SUM(G77:G79)","v":1},"Jack Walsh",{"$f":"SUM(F77:F79)","v":3},3,{"$f":"X77","v":3.3333333333333339},{"$f":"X78","v":1.2999999999999998},{"$f":"X79","v":0.64999999999999991},4.3333333333333339,2.2999999999999998,1.65,9.9666666666666686,3.7949999999999995,7.15,16.445,38.64,"Jack Walsh"]
[null,null,{"$f":"Picks!B28","v":"Palace"},{"$f":"Picks!C28","v":1},{"$f":"Picks!D28","v":4.8},1,{"$f":"Picks!M28","v":0},0,"James Bell",{"$f":"H80","v":0},{"$f":"H81","v":0},{"$f":"H82","v":0},0,0,0,0,0,0,0,-7,{"$f":"SUM(G80:G82)","v":0},"James Bell",{"$f":"SUM(F80:F82)","v":3},3.8,{"$f":"X80","v":2.8},{"$f":"X81","v":1.4500000000000002},{"$f":"X82","v":2.9},3.8,2.4500000000000002,3.9,9.31,9.5549999999999997,14.82,36.309000000000005,73.144000000000005,"James Bell"]
[null,{"$f":"$V11","v":"Charlie Griffiths"},{"$f":"Picks!B29","v":"Scunthorpe"},{"$f":"Picks!C29","v":7},{"$f":"Picks!D29","v":2.2999999999999998},1,{"$f":"Picks!M29","v":0},0,"Joel Bent",{"$f":"H83","v":0},{"$f":"H84","v":0},{"$f":"H85","v":0},0,0,0,0,0,0,0,-7,{"$f":"SUM(G83:G85)","v":0},"Joel Bent",{"$f":"SUM(F83:F85)","v":3},1.2999999999999998,{"$f":"X83","v":2.7},{"$f":"X84","v":2.5},{"$f":"X85","v":5},3.7,3.5,6,12.95,21,22.200000000000003,77.7,140.05000000000001,"Joel Bent"]
[null,null,{"$f":"Picks!B30","v":"Accrington"},{"$f":"Picks!C30","v":7},{"$f":"Picks!D30","v":2.25},1,{"$f":"Picks!M30","v":0},0,"John Evans",{"$f":"H86","v":0},{"$f":"H87","v":2.2000000000000002},{"$f":"H88","v":0},0,3.2,0,0,0,0,0,-3.8,{"$f":"SUM(G86:G88)","v":1},"John Evans",{"$f":"SUM(F86:F88)","v":3},1.25,{"$f":"X86","v":1.875},{"$f":"X87","v":2.2000000000000002},{"$f":"X88","v":1.625},2.875,3.2,2.625,9.1999999999999993,8.4,7.546875,24.15,50.996874999999996,"John Evans"]
[null,null,{"$f":"Picks!B31","v":"Ipswich draw"},{"$f":"Picks!C31","v":7},{"$f":"Picks!D31","v":3.25},1,{"$f":"Picks!M31","v":0},0,"John Ronan",{"$f":"H89","v":0},{"$f":"H90","v":0.75},{"$f":"H91","v":0.90909090909090917},0,1.75,1.9090909090909092,0,3.3409090909090908,0,0,0,{"$f":"SUM(G89:G91)","v":2},"John Ronan",{"$f":"SUM(F89:F91)","v":3},2.25,{"$f":"X89","v":1.2000000000000002},{"$f":"X90","v":0.75},{"$f":"X91","v":0.90909090909090917},2.2000000000000002,1.75,1.9090909090909092,3.8500000000000005,3.3409090909090908,4.2000000000000011,7.3500000000000014,17.600000000000001,"John Ronan"]
[null,{"$f":"$V12","v":"Chris Bow"},{"$f":"Picks!B32","v":"Everton"},{"$f":"Picks!C32","v":7},{"$f":"Picks!D32","v":4.3333333333333339},1,{"$f":"Picks!M32","v":1},3.3333333333333339,"Kei Lok Ma",{"$f":"H92","v":0},{"$f":"H93","v":1.25},{"$f":"H94","v":1.75},{"$f":"IF(J32=0,0,1)+J32","v":0},{"$f":"IF(K32=0,0,1)+K32","v":2.25},2.75,0,6.1875,0,0,4.1875,{"$f":"SUM(G92:G94)","v":2},"Kei Lok Ma",{"$f":"SUM(F92:F94)","v":3},3.3333333333333339,{"$f":"X92","v":2.2999999999999998},{"$f":"X93","v":1.25},{"$f":"X94","v":1.75},3.3,2.25,2.75,7.4249999999999998,6.1875,9.0749999999999993,20.418749999999999,44.40625,"Kei Lok Ma"]
[null,null,{"$f":"Picks!B33","v":"Wolves"},{"$f":"Picks!C33","v":7},{"$f":"Picks!D33","v":2.2999999999999998},1,{"$f":"Picks!M33","v":0},0,"Kevin Carter",{"$f":"H95","v":0.72727272727272729},{"$f":"H96","v":0},{"$f":"H97","v":1},1.7272727272727273,0,2,0,0,3.4545454545454546,0,0.18181818181818166,{"$f":"SUM(G95:G97)","v":2},"Kevin Carter",{"$f":"SUM(F95:F97)","v":3},1.2999999999999998,{"$f":"X95","v":0.72727272727272729},{"$f":"X96","v":0.72727272727272729},{"$f":"X97","v":1},1.7272727272727273,1.7272727272727273,2,2.9834710743801653,3.4545454545454546,3.4545454545454546,5.9669421487603307,14.314049586776861,"Kevin Carter"]
[null,null,{"$f":"Picks!B34","v":"Derby"},{"$f":"Picks!C34","v":7},{"$f":"Picks!D34","v":2.875},1,{"$f":"Picks!M34","v":0},{"$f":"+((E34-1)*G34*F34*A$2)","v":0},"Lennie Bow",{"$f":"H98","v":0.64999999999999991},{"$f":"H99","v":0},{"$f":"H100","v":0.61538461538461542},1.65,0,1.6153846153846154,0,0,2.6653846153846152,0,-1.069230769230769,{"$f":"SUM(G98:G100)","v":2},"Lennie Bow",{"$f":"SUM(F98:F100)","v":3},{"$f":"+((E34-1)*F34*A$2)","v":1.875},{"$f":"X98","v":0.64999999999999991},{"$f":"X99","v":0.60000000000000009},{"$f":"X100","v":0.61538461538461542},1.65,1.6,1.6153846153846154,2.64,2.5846153846153848,2.6653846153846152,4.2646153846153849,10.02,"Lennie Bow"]
[null,{"$f":"$V13","v":"Chris Griffin"},{"$f":"Picks!B35","v":"Newcastle"},{"$f":"Picks!C35","v":7},{"$f":"Picks!D35","v":2.25},1,{"$f":"Picks!M35","v":1},1.25,"Lewis Buckley",{"$f":"H101","v":{"$error":"#VALUE!"}},{"$f":"H102","v":{"$error":"#VALUE!"}},{"$f":"H103","v":{"$error":"#VALUE!"}},{"$error":"#VALUE!"},{"$error":"#VALUE!"},{"$error":"#VALUE!"},{"$error":"#VALUE!"},{"$error":"#VALUE!"},{"$error":"#VALUE!"},{"$error":"#VALUE!"},{"$error":"#VALUE!"},{"$f":"SUM(G101:G103)","v":{"$error":"#N/A"}},"Lewis Buckley",{"$f":"SUM(F101:F103)","v":3},1.25,{"$f":"X101","v":{"$error":"#VALUE!"}},{"$f":"X102","v":{"$error":"#VALUE!"}},{"$f":"X103","v":{"$error":"#VALUE!"}},{"$error":"#VALUE!"},{"$error":"#VALUE!"},{"$error":"#VALUE!"},{"$error":"#VALUE!"},{"$error":"#VALUE!"},{"$error":"#VALUE!"},{"$error":"#VALUE!"},{"$error":"#VALUE!"},"Lewis Buckley"]
[null,null,{"$f":"Picks!B36","v":"Wolves"},{"$f":"Picks!C36","v":7},{"$f":"Picks!D36","v":2.2999999999999998},1,{"$f":"Picks!M36","v":0},0,"Liam Wah",{"$f":"H104","v":3},{"$f":"H105","v":1.25},{"$f":"H106","v":0},4,2.25,0,9,0,0,0,8.25,{"$f":"SUM(G104:G106)","v":2},"Liam Wah",{"$f":"SUM(F104:F106)","v":3},1.2999999999999998,{"$f":"X104","v":3},{"$f":"X105","v":1.25},{"$f":"X106","v":1.2999999999999998},4,2.25,2.2999999999999998,9,5.1749999999999998,9.1999999999999993,20.7,45.625,"Liam Wah"]
[null,null,{"$f":"Picks!B37","v":"Leicester"},{"$f":"Picks!C37","v":1},{"$f":"Picks!D37","v":2},1,{"$f":"Picks!M37","v":1},1,"Mal Stott",{"$f":"H107","v":0},{"$f":"H108","v":0},{"$f":"H109","v":0},0,0,0,0,0,0,0,-7,{"$f":"SUM(G107:G109)","v":0},"Mal Stott",{"$f":"SUM(F107:F109)","v":3},1,{"$f":"X107","v":1.2000000000000002},{"$f":"X108","v":2.8},{"$f":"X109","v":1.5},2.2000000000000002,3.8,2.5,8.36,9.5,5.5,20.9,45.76,"Mal Stott"]
[null,{"$f":"$V14","v":"Chris Luck"},{"$f":"Picks!B38","v":"Newcastle"},{"$f":"Picks!C38","v":7},{"$f":"Picks!D38","v":2.25},1,{"$f":"Picks!M38","v":1},1.25,"Mark Bunn",{"$f":"H110","v":0},{"$f":"H111","v":1.7000000000000002},{"$f":"H112","v":0},0,2.7,0,0,0,0,0,-4.3,{"$f":"SUM(G110:G112)","v":1},"Mark Bunn",{"$f":"SUM(F110:F112)","v":3},1.25,{"$f":"X110","v":1.6},{"$f":"X111","v":1.7000000000000002},{"$f":"X112","v":1.5},2.6,2.7,2.5,7.0200000000000014,6.7500000000000009,6.5,17.550000000000004,38.620000000000005,"Mark Bunn"]
[null,null,{"$f":"Picks!B39","v":"Wolves"},{"$f":"Picks!C39","v":7},{"$f":"Picks!D39","v":2.2999999999999998},1,{"$f":"Picks!M39","v":0},0,"Mark Saunders",{"$f":"H113","v":3},{"$f":"H114","v":0},{"$f":"H115","v":0.53333333333333321},4,0,1.5333333333333332,0,0,6.1333333333333329,0,4.6666666666666661,{"$f":"SUM(G113:G115)","v":2},"Mark Saunders",{"$f":"SUM(F113:F115)","v":3},1.2999999999999998,{"$f":"X113","v":3},{"$f":"X114","v":2.2999999999999998},{"$f":"X115","v":0.53333333333333321},4,3.3,1.5333333333333332,13.2,5.0599999999999996,6.1333333333333329,20.239999999999998,46.466666666666654,"Mark Saunders"]
[null,null,{"$f":"Picks!B40","v":"Blackburn"},{"$f":"Picks!C40","v":7},{"$f":"Picks!D40","v":2.5},1,{"$f":"Picks!M40","v":0},0,"Martin Molyneux",{"$f":"H116","v":3},{"$f":"H117","v":0},{"$f":"H118","v":0.72727272727272729},4,0,1.7272727272727273,0,0,6.9090909090909092,0,5.6363636363636367,{"$f":"SUM(G116:G118)","v":2},"Martin Molyneux",{"$f":"SUM(F116:F118)","v":3},1.5,{"$f":"X116","v":3},{"$f":"X117","v":0.72727272727272729},{"$f":"X118","v":0.72727272727272729},4,1.7272727272727273,1.7272727272727273,6.9090909090909092,2.9834710743801653,6.9090909090909092,11.933884297520661,29.190082644628099,"Martin Molyneux"]
[null,{"$f":"$V15","v":"Chris Townsend"},{"$f":"Picks!B41","v":"Barnsley"},{"$f":"Picks!C41","v":7},{"$f":"Picks!D41","v":3.1},1,{"$f":"Picks!M41","v":1},2.1,"Martin Tarbuck",{"$f":"H119","v":0},{"$f":"H120","v":0.64999999999999991},{"$f":"H121","v":0},0,1.65,0,0,0,0,0,-5.35,{"$f":"SUM(G119:G121)","v":1},"Martin Tarbuck",{"$f":"SUM(F119:F121)","v":3},2.1,{"$f":"X119","v":1.2999999999999998},{"$f":"X120","v":0.64999999999999991},{"$f":"X121","v":1.7999999999999998},2.2999999999999998,1.65,2.8,3.7949999999999995,4.6199999999999992,6.4399999999999995,10.625999999999998,25.230999999999995,"Martin Tarbuck"]
[null,null,{"$f":"Picks!B42","v":"Ipswich"},{"$f":"Picks!C42","v":7},{"$f":"Picks!D42","v":3.1},1,{"$f":"Picks!M42","v":0},0,"Mike Penk",{"$f":"H122","v":0},{"$f":"H123","v":0},{"$f":"H124","v":1.1499999999999999},0,0,2.15,0,0,0,0,-4.8499999999999996,{"$f":"SUM(G122:G124)","v":1},"Mike Penk",{"$f":"SUM(F122:F124)","v":3},2.1,{"$f":"X122","v":2.4},{"$f":"X123","v":1.7000000000000002},{"$f":"X124","v":1.1499999999999999},3.4,2.7,2.15,9.18,5.8049999999999997,7.3099999999999987,19.736999999999998,43.281999999999996,"Mike Penk"]
[null,null,{"$f":"Picks!B43","v":"Northampton"},{"$f":"Picks!C43","v":7},{"$f":"Picks!D43","v":4.75},1,{"$f":"Picks!M43","v":0},0,"Mo Sudell",{"$f":"H125","v":0.61538461538461542},{"$f":"H126","v":0},{"$f":"H127","v":0},1.6153846153846154,0,0,0,0,0,0,-5.384615384615385,{"$f":"SUM(G125:G127)","v":1},"Mo Sudell",{"$f":"SUM(F125:F127)","v":3},3.75,{"$f":"X125","v":0.61538461538461542},{"$f":"X126","v":0.60000000000000009},{"$f":"X127","v":1.7999999999999998},1.6153846153846154,1.6,2.8,2.5846153846153848,4.4800000000000004,4.523076923076923,7.2369230769230768,17.84,"Mo Sudell"]
[null,{"$f":"$V16","v":"Dan Baxter"},{"$f":"Picks!B44","v":""},{"$f":"Picks!C44","v":""},{"$f":"Picks!D44","v":""},1,{"$f":"Picks!M44","v":{"$error":"#N/A"}},{"$f":"+((E44-1)*G44*F44*A$2)","v":{"$error":"#VALUE!"}},"Nick Blocksidge",{"$f":"H128","v":0},{"$f":"H129","v":1},{"$f":"H130","v":0},0,2,0,0,0,0,0,{"$f":"SUM(M44:S44)-(IF(W44=1,A$2*1,0))-(IF(W44=2,A$2*3,0))-(IF(W44=3,A$2*7,0))","v":-5},{"$f":"SUM(G128:G130)","v":1},"Nick Blocksidge",{"$f":"SUM(F128:F130)","v":3},{"$error":"#VALUE!"},{"$f":"X128","v":0.55000000000000004},{"$f":"X129","v":1},{"$f":"X130","v":0.72727272727272729},1.55,2,1.7272727272727273,3.1,3.4545454545454546,2.6772727272727272,5.3545454545454554,12.863636363636367,"Nick Blocksidge"]
[null,null,{"$f":"Picks!B45","v":""},{"$f":"Picks!C45","v":""},{"$f":"Picks!D45","v":""},1,{"$f":"Picks!M45","v":{"$error":"#N/A"}},{"$error":"#VALUE!"},"Nigel Heyes",{"$f":"H131","v":0},{"$f":"H132","v":0},{"$f":"H133","v":2.2000000000000002},0,0,3.2,0,0,0,0,-3.8,{"$f":"SUM(G131:G133)","v":1},"Nigel Heyes",{"$f":"SUM(F131:F133)","v":3},{"$error":"#VALUE!"},{"$f":"X131","v":3},{"$f":"X132","v":2.5},{"$f":"X133","v":2.2000000000000002},4,3.5,3.2,14,11.200000000000001,12.8,44.800000000000004,86.5,"Nigel Heyes"]
[null,null,{"$f":"Picks!B46","v":""},{"$f":"Picks!C46","v":""},{"$f":"Picks!D46","v":""},1,{"$f":"Picks!M46","v":{"$error":"#N/A"}},{"$error":"#VALUE!"},"Oscar Jackson",{"$f":"H134","v":0},{"$f":"H135","v":0},{"$f":"H136","v":0.90909090909090917},0,0,1.9090909090909092,0,0,0,0,-5.0909090909090908,{"$f":"SUM(G134:G136)","v":1},"Oscar Jackson",{"$f":"SUM(F134:F136)","v":3},{"$error":"#VALUE!"},{"$f":"X134","v":1.2000000000000002},{"$f":"X135","v":0.60000000000000009},{"$f":"X136","v":0.90909090909090917},2.2000000000000002,1.6,1.9090909090909092,3.5200000000000005,3.0545454545454547,4.2000000000000011,6.7200000000000006,16.203636363636363,"Oscar Jackson"]
[null,{"$f":"$V17","v":"Dave Bell"},{"$f":"Picks!B47","v":"Sheff U"},{"$f":"Picks!C47","v":1},{"$f":"Picks!D47","v":5},0,{"$f":"Picks!M47","v":0},0,"Paul Adderley",{"$f":"H137","v":0},{"$f":"H138","v":0},{"$f":"H139","v":1.75},0,0,2.75,0,0,0,0,-4.25,{"$f":"SUM(G137:G139)","v":1},"Paul Adderley",{"$f":"SUM(F137:F139)","v":3},0,{"$f":"X137","v":1.625},{"$f":"X138","v":2.8},{"$f":"X139","v":1.75},2.625,3.8,2.75,9.9749999999999996,10.45,7.21875,27.431249999999999,57.25,"Paul Adderley"]
[null,null,{"$f":"Picks!B48","v":"Fulham"},{"$f":"Picks!C48","v":1},{"$f":"Picks!D48","v":9},1,{"$f":"Picks!M48","v":0},0,"Paul Allen",{"$f":"H140","v":0.95},{"$f":"H141","v":0},{"$f":"H142","v":1.2000000000000002},1.95,0,2.2000000000000002,0,0,4.29,0,1.4400000000000013,{"$f":"SUM(G140:G142)","v":2},"Paul Allen",{"$f":"SUM(F140:F142)","v":3},8,{"$f":"X140","v":0.95},{"$f":"X141","v":0.60000000000000009},{"$f":"X142","v":1.2000000000000002},1.95,1.6,2.2000000000000002,3.12,3.5200000000000005,4.29,6.8640000000000008,16.544,"Paul Allen"]
[null,null,{"$f":"Picks!B49","v":"Everton"},{"$f":"Picks!C49","v":7},{"$f":"Picks!D49","v":4.3333333333333339},1,{"$f":"Picks!M49","v":1},3.3333333333333339,"Paul Barnes",{"$f":"H143","v":0},{"$f":"H144","v":0},{"$f":"H145","v":0},0,0,0,0,0,0,0,-7,{"$f":"SUM(G143:G145)","v":0},"Paul Barnes",{"$f":"SUM(F143:F145)","v":3},3.3333333333333339,{"$f":"X143","v":3.3333333333333339},{"$f":"X144","v":0.72727272727272729},{"$f":"X145","v":4},4.3333333333333339,1.7272727272727273,5,7.4848484848484862,8.6363636363636367,21.666666666666671,37.424242424242429,79.27272727272728,"Paul Barnes"]
[null,{"$f":"$V18","v":"Dave Orrell"},{"$f":"Picks!B50","v":"Crawley"},{"$f":"Picks!C50","v":7},{"$f":"Picks!D50","v":2.4500000000000002},1,{"$f":"Picks!M50","v":1},1.4500000000000002,"Paul Fairhurst",{"$f":"H146","v":0},{"$f":"H147","v":0},{"$f":"H148","v":0},0,0,0,0,0,0,0,-7,{"$f":"SUM(G146:G148)","v":0},"Paul Fairhurst",{"$f":"SUM(F146:F148)","v":3},1.4500000000000002,{"$f":"X146","v":2.4},{"$f":"X147","v":2.1},{"$f":"X148","v":1.7999999999999998},3.4,3.1,2.8,10.54,8.68,9.52,29.511999999999997,60.551999999999992,"Paul Fairhurst"]
[null,null,{"$f":"Picks!B51","v":"Forest Green"},{"$f":"Picks!C51","v":7},{"$f":"Picks!D51","v":2.0499999999999998},1,{"$f":"Picks!M51","v":1},1.0499999999999998,"Paul Fiddler",{"$f":"H149","v":0},{"$f":"H150","v":0.95},{"$f":"H151","v":0},0,1.95,0,0,0,0,0,-5.05,{"$f":"SUM(G149:G151)","v":1},"Paul Fiddler",{"$f":"SUM(F149:F151)","v":3},1.0499999999999998,{"$f":"X149","v":0.60000000000000009},{"$f":"X150","v":0.95},{"$f":"X151","v":1.2000000000000002},1.6,1.95,2.2000000000000002,3.12,4.29,3.5200000000000005,6.8640000000000008,16.544,"Paul Fiddler"]
[null,null,{"$f":"Picks!B52","v":"Oldham"},{"$f":"Picks!C52","v":7},{"$f":"Picks!D52","v":2.4},1,{"$f":"Picks!M52","v":1},1.4,"Paul Ridgeway",{"$f":"H152","v":0},{"$f":"H153","v":0},{"$f":"H154","v":0},0,0,0,0,0,0,0,-7,{"$f":"SUM(G152:G154)","v":0},"Paul Ridgeway",{"$f":"SUM(F152:F154)","v":3},1.4,{"$f":"X152","v":1.1499999999999999},{"$f":"X153","v":0.75},{"$f":"X154","v":1.6},2.15,1.75,2.6,3.7624999999999997,4.5500000000000007,5.59,9.7824999999999989,23.184999999999999,"Paul Ridgeway"]
[null,{"$f":"$V19","v":"David Dunn"},{"$f":"Picks!B53","v":"Wolves Draw"},{"$f":"Picks!C53","v":7},{"$f":"Picks!D53","v":3.3},1,{"$f":"Picks!M53","v":0},0,"Pete Baron",{"$f":"H155","v":0},{"$f":"H156","v":0},{"$f":"H157","v":2},0,0,3,0,0,0,0,-4,{"$f":"SUM(G155:G157)","v":1},"Pete Baron",{"$f":"SUM(F155:F157)","v":3},2.2999999999999998,{"$f":"X155","v":4},{"$f":"X156","v":5},{"$f":"X157","v":2},5,6,3,30,18,15,90,160,"Pete Baron"]
[null,null,{"$f":"Picks!B54","v":"Leicester"},{"$f":"Picks!C54","v":1},{"$f":"Picks!D54","v":2},1,{"$f":"Picks!M54","v":1},1,"Phil Miller",{"$f":"H158","v":{"$error":"#VALUE!"}},{"$f":"H159","v":{"$error":"#VALUE!"}},{"$f":"H160","v":{"$error":"#VALUE!"}},{"$error":"#VALUE!"},{"$error":"#VALUE!"},{"$error":"#VALUE!"},{"$error":"#VALUE!"},{"$error":"#VALUE!"},{"$error":"#VALUE!"},{"$error":"#VALUE!"},{"$error":"#VALUE!"},{"$f":"SUM(G158:G160)","v":{"$error":"#N/A"}},"Phil Miller",{"$f":"SUM(F158:F160)","v":3},1,{"$f":"X158","v":{"$error":"#VALUE!"}},{"$f":"X159","v":{"$error":"#VALUE!"}},{"$f":"X160","v":{"$error":"#VALUE!"}},{"$error":"#VALUE!"},{"$error":"#VALUE!"},{"$error":"#VALUE!"},{"$error":"#VALUE!"},{"$error":"#VALUE!"},{"$error":"#VALUE!"},{"$error":"#VALUE!"},{"$error":"#VALUE!"},"Phil Miller"]
[null,null,{"$f":"Picks!B55","v":"Middlesbro"},{"$f":"Picks!C55","v":7},{"$f":"Picks!D55","v":2.15},1,{"$f":"Picks!M55","v":1},1.1499999999999999,"Rob England",{"$f":"H161","v":0},{"$f":"H162","v":0},{"$f":"H163","v":2.1},0,0,3.1,0,0,0,0,-3.9,{"$f":"SUM(G161:G163)","v":1},"Rob England",{"$f":"SUM(F161:F163)","v":3},1.1499999999999999,{"$f":"X161","v":8},{"$f":"X162","v":4},{"$f":"X163","v":2.1},9,5,3.1,45,15.5,27.900000000000002,139.5,238,"Rob England"]
[null,{"$f":"$V20","v":"Gareth Fallows"},{"$f":"Picks!B56","v":""},{"$f":"Picks!C56","v":""},{"$f":"Picks!D56","v":""},1,{"$f":"Picks!M56","v":{"$error":"#N/A"}},{"$error":"#VALUE!"},"Sally Williams",{"$f":"H164","v":2},{"$f":"H165","v":0},{"$f":"H166","v":0},3,0,0,0,0,0,0,-4,{"$f":"SUM(G164:G166)","v":1},"Sally Williams",{"$f":"SUM(F164:F166)","v":3},{"$error":"#VALUE!"},{"$f":"X164","v":2},{"$f":"X165","v":2.1},{"$f":"X166","v":2.1},3,3.1,3.1,9.3000000000000007,9.6100000000000012,9.3000000000000007,28.830000000000002,59.239999999999995,"Sally Williams"]
[null,null,{"$f":"Picks!B57","v":""},{"$f":"Picks!C57","v":""},{"$f":"Picks!D57","v":""},1,{"$f":"Picks!M57","v":{"$error":"#N/A"}},{"$error":"#VALUE!"},"Simon Greenhalgh",{"$f":"H167","v":3},{"$f":"H168","v":0},{"$f":"H169","v":0},4,0,0,0,0,0,0,-3,{"$f":"SUM(G167:G169)","v":1},"Simon Greenhalgh",{"$f":"SUM(F167:F169)","v":3},{"$error":"#VALUE!"},{"$f":"X167","v":3},{"$f":"X168","v":1.6},{"$f":"X169","v":0.60000000000000009},4,2.6,1.6,10.4,4.16,6.4,16.64,38.800000000000004,"Simon Greenhalgh"]
[null,null,{"$f":"Picks!B58","v":""},{"$f":"Picks!C58","v":""},{"$f":"Picks!D58","v":""},1,{"$f":"Picks!M58","v":{"$error":"#N/A"}},{"$error":"#VALUE!"},"Stephen Barr",{"$f":"H170","v":1.25},{"$f":"H171","v":0},{"$f":"H172","v":0.72727272727272729},2.25,0,1.7272727272727273,0,0,3.8863636363636367,0,0.8636363636363642,{"$f":"SUM(G170:G172)","v":2},"Stephen Barr",{"$f":"SUM(F170:F172)","v":3},{"$error":"#VALUE!"},{"$f":"X170","v":1.25},{"$f":"X171","v":1.1499999999999999},{"$f":"X172","v":0.72727272727272729},2.25,2.15,1.7272727272727273,4.8375000000000004,3.7136363636363638,3.8863636363636367,8.355681818181818,19.920454545454547,"Stephen Barr"]
[null,{"$f":"$V21","v":"Gareth McGuire"},{"$f":"Picks!B59","v":"Everton draw"},{"$f":"Picks!C59","v":7},{"$f":"Picks!D59","v":4},1,{"$f":"Picks!M59","v":0},0,"Stephen Troop",{"$f":"H173","v":0},{"$f":"H174","v":0},{"$f":"H175","v":0},0,0,0,0,0,0,0,-7,{"$f":"SUM(G173:G175)","v":0},"Stephen Troop",{"$f":"SUM(F173:F175)","v":3},3,{"$f":"X173","v":0.72727272727272729},{"$f":"X174","v":1.6},{"$f":"X175","v":1.2000000000000002},1.7272727272727273,2.6,2.2000000000000002,4.4909090909090912,5.7200000000000006,3.8000000000000003,9.8800000000000026,23.418181818181825,"Stephen Troop"]
[null,null,{"$f":"Picks!B60","v":"Watford"},{"$f":"Picks!C60","v":7},{"$f":"Picks!D60","v":2.0499999999999998},1,{"$f":"Picks!M60","v":1},1.0499999999999998,"Steve Baxter",{"$f":"H176","v":0},{"$f":"H177","v":0},{"$f":"H178","v":0},0,0,0,0,0,0,0,-7,{"$f":"SUM(G176:G178)","v":0},"Steve Baxter",{"$f":"SUM(F176:F178)","v":3},1.0499999999999998,{"$f":"X176","v":0.75},{"$f":"X177","v":0.33333333333333326},{"$f":"X178","v":0.72727272727272729},1.75,1.3333333333333333,1.7272727272727273,2.333333333333333,2.3030303030303028,3.0227272727272725,4.0303030303030294,9.5,"Steve Baxter"]
[null,null,{"$f":"Picks!B61","v":"Sunderland"},{"$f":"Picks!C61","v":7},{"$f":"Picks!D61","v":2.6},1,{"$f":"Picks!M61","v":1},1.6,"Steve Carter",{"$f":"H179","v":1.25},{"$f":"H180","v":0},{"$f":"H181","v":1},2.25,0,2,0,0,4.5,0,1.75,{"$f":"SUM(G179:G181)","v":2},"Steve Carter",{"$f":"SUM(F179:F181)","v":3},1.6,{"$f":"X179","v":1.25},{"$f":"X180","v":1.2999999999999998},{"$f":"X181","v":1},2.25,2.2999999999999998,2,5.1749999999999998,4.5999999999999996,4.5,10.35,24.174999999999997,"Steve Carter"]
[null,{"$f":"$V22","v":"Gareth Powell"},{"$f":"Picks!B62","v":"Chelsea"},{"$f":"Picks!C62","v":7},{"$f":"Picks!D62","v":1.75},1,{"$f":"Picks!M62","v":0},0,"Tom Robinson",{"$f":"H182","v":1.1499999999999999},{"$f":"H183","v":0},{"$f":"H184","v":0},2.15,0,0,0,0,0,0,-4.8499999999999996,{"$f":"SUM(G182:G184)","v":1},"Tom Robinson",{"$f":"SUM(F182:F184)","v":3},0.75,{"$f":"X182","v":1.1499999999999999},{"$f":"X183","v":2.2000000000000002},{"$f":"X184","v":1.2000000000000002},2.15,3.2,2.2000000000000002,6.8800000000000008,7.0400000000000009,4.7300000000000004,15.136000000000003,34.335999999999999,"Tom Robinson"]
[null,null,{"$f":"Picks!B63","v":"Salford"},{"$f":"Picks!C63","v":7},{"$f":"Picks!D63","v":2.625},1,{"$f":"Picks!M63","v":0},{"$f":"+((E63-1)*G63*F63*A$2)","v":0},"Vinny Topping",{"$f":"H185","v":1.25},{"$f":"H186","v":1.1499999999999999},{"$f":"H187","v":0},2.25,2.15,0,4.8375000000000004,0,0,0,2.2375000000000007,{"$f":"SUM(G185:G187)","v":2},"Vinny Topping",{"$f":"SUM(F185:F187)","v":3},1.625,{"$f":"X185","v":1.25},{"$f":"X186","v":1.1499999999999999},{"$f":"X187","v":2.1},2.25,2.15,3.1,4.8375000000000004,6.6649999999999991,6.9749999999999996,14.996250000000002,33.973750000000003,"Vinny Topping"]
[null,null,{"$f":"Picks!B64","v":"Reading"},{"$f":"Picks!C64","v":7},{"$f":"Picks!D64","v":2.7},1,{"$f":"Picks!M64","v":1},1.7000000000000002,{"$f":"IF(V64=\"\",\"\",V64)","v":""},null,null,null,null,null,null,null,null,null,null,null,null,null,null,1.7000000000000002]
[null,{"$f":"$V23","v":"Gerard Ventom"},{"$f":"Picks!B65","v":"Wigan"},{"$f":"Picks!C65","v":7},{"$f":"Picks!D65","v":3.2},1,{"$f":"Picks!M65","v":1},2.2000000000000002,"",null,null,null,null,null,null,null,null,null,null,null,null,null,null,2.2000000000000002]
[null,null,{"$f":"Picks!B66","v":"Walsall"},{"$f":"Picks!C66","v":7},{"$f":"Picks!D66","v":2.25},1,{"$f":"Picks!M66","v":1},1.25,"",null,null,null,null,null,null,null,null,null,null,null,null,null,null,{"$f":"+((E66-1)*F66*A$2)","v":1.25}]
[null,null,{"$f":"Picks!B67","v":"Orient"},{"$f":"Picks!C67","v":7},{"$f":"Picks!D67","v":3},1,{"$f":"Picks!M67","v":1},2,"",null,null,null,null,null,null,null,null,null,null,null,null,null,null,2]
[null,{"$f":"$V24","v":"Graham Miller"},{"$f":"Picks!B68","v":"Newcastle"},{"$f":"Picks!C68","v":7},{"$f":"Picks!D68","v":2.25},1,{"$f":"Picks!M68","v":1},1.25,"",null,null,null,null,null,null,null,null,null,null,null,null,null,null,1.25]
[null,null,{"$f":"Picks!B69","v":"Leicester"},{"$f":"Picks!C69","v":1},{"$f":"Picks!D69","v":2},1,{"$f":"Picks!M69","v":1},1,"",null,null,null,null,null,null,null,null,null,null,null,null,null,null,1]
[null,null,{"$f":"Picks!B70","v":"Southampton"},{"$f":"Picks!C70","v":1},{"$f":"Picks!D70","v":1.7272727272727273},1,{"$f":"Picks!M70","v":1},0.72727272727272729,"",null,null,null,null,null,null,null,null,null,null,null,null,null,null,0.72727272727272729]
[null,{"$f":"$V25","v":"Howard Bradley"},{"$f":"Picks!B71","v":"Blackpool"},{"$f":"Picks!C71","v":7},{"$f":"Picks!D71","v":2.2000000000000002},1,{"$f":"Picks!M71","v":0},0,"",null,null,null,null,null,null,null,null,null,null,null,null,null,null,1.2000000000000002]
[null,null,{"$f":"Picks!B72","v":"Charlton"},{"$f":"Picks!C72","v":7},{"$f":"Picks!D72","v":1.95},1,{"$f":"Picks!M72","v":1},0.95,"",null,null,null,null,null,null,null,null,null,null,null,null,null,null,0.95]
[null,null,{"$f":"Picks!B73","v":"Doncaster"},{"$f":"Picks!C73","v":7},{"$f":"Picks!D73","v":1.9090909090909092},1,{"$f":"Picks!M73","v":1},0.90909090909090917,"",null,null,null,null,null,null,null,null,null,null,null,null,null,null,0.90909090909090917]
[null,{"$f":"$V26","v":"Ian Davies"},{"$f":"Picks!B74","v":"Cardiff"},{"$f":"Picks!C74","v":7},{"$f":"Picks!D74","v":2.4500000000000002},1,{"$f":"Picks!M74","v":0},0,"",null,null,null,null,null,null,null,null,null,null,null,null,null,null,1.4500000000000002]
[null,null,{"$f":"Picks!B75","v":"Bournemouth draw"},{"$f":"Picks!C75","v":7},{"$f":"Picks!D75","v":3.9},1,{"$f":"Picks!M75","v":0},0,"",null,null,null,null,null,null,null,null,null,null,null,null,null,null,2.9]
[null,null,{"$f":"Picks!B76","v":"Lincoln"},{"$f":"Picks!C76","v":7},{"$f":"Picks!D76","v":2.8},1,{"$f":"Picks!M76","v":0},0,"",null,null,null,null,null,null,null,null,null,null,null,null,null,null,1.7999999999999998]
[null,{"$f":"$V27","v":"Jack Walsh"},{"$f":"Picks!B77","v":"Man U"},{"$f":"Picks!C77","v":7},{"$f":"Picks!D77","v":4.3333333333333339},1,{"$f":"Picks!M77","v":0},0,"",null,null,null,null,null,null,null,null,null,null,null,null,null,null,3.3333333333333339]
[null,null,{"$f":"Picks!B78","v":"Wolves"},{"$f":"Picks!C78","v":7},{"$f":"Picks!D78","v":2.2999999999999998},1,{"$f":"Picks!M78","v":0},0,"",null,null,null,null,null,null,null,null,null,null,null,null,null,null,1.2999999999999998]
[null,null,{"$f":"Picks!B79","v":"Bournemouth"},{"$f":"Picks!C79","v":7},{"$f":"Picks!D79","v":1.65},1,{"$f":"Picks!M79","v":1},0.64999999999999991,"",null,null,null,null,null,null,null,null,null,null,null,null,null,null,0.64999999999999991]
[null,{"$f":"$V28","v":"James Bell"},{"$f":"Picks!B80","v":"Tranmere"},{"$f":"Picks!C80","v":7},{"$f":"Picks!D80","v":3.8},1,{"$f":"Picks!M80","v":0},0,"",null,null,null,null,null,null,null,null,null,null,null,null,null,null,2.8]
[null,null,{"$f":"Picks!B81","v":"Cardiff"},{"$f":"Picks!C81","v":7},{"$f":"Picks!D81","v":2.4500000000000002},1,{"$f":"Picks!M81","v":0},0,"",null,null,null,null,null,null,null,null,null,null,null,null,null,null,1.4500000000000002]
[null,null,{"$f":"Picks!B82","v":"Gillingham"},{"$f":"Picks!C82","v":7},{"$f":"Picks!D82","v":3.9},1,{"$f":"Picks!M82","v":0},0,"",null,null,null,null,null,null,null,null,null,null,null,null,null,null,2.9]
[null,{"$f":"$V29","v":"Joel Bent"},{"$f":"Picks!B83","v":"Leeds draw"},{"$f":"Picks!C83","v":6},{"$f":"Picks!D83","v":3.7},1,{"$f":"Picks!M83","v":0},0,"",null,null,null,null,null,null,null,null,null,null,null,null,null,null,2.7]
[null,null,{"$f":"Picks!B84","v":"Bristol R draw"},{"$f":"Picks!C84","v":7},{"$f":"Picks!D84","v":3.5},1,{"$f":"Picks!M84","v":0},0,"",null,null,null,null,null,null,null,null,null,null,null,null,null,null,2.5]
[null,null,{"$f":"Picks!B85","v":"Rochdale"},{"$f":"Picks!C85","v":7},{"$f":"Picks!D85","v":6},1,{"$f":"Picks!M85","v":0},0,"",null,null,null,null,null,null,null,null,null,null,null,null,null,null,5]
[null,{"$f":"$V30","v":"John Evans"},{"$f":"Picks!B86","v":"Derby"},{"$f":"Picks!C86","v":7},{"$f":"Picks!D86","v":2.875},1,{"$f":"Picks!M86","v":0},0,"",null,null,null,null,null,null,null,null,null,null,null,null,null,null,1.875]
[null,null,{"$f":"Picks!B87","v":"Wigan"},{"$f":"Picks!C87","v":7},{"$f":"Picks!D87","v":3.2},1,{"$f":"Picks!M87","v":1},2.2000000000000002,"",null,null,null,null,null,null,null,null,null,null,null,null,null,null,2.2000000000000002]
[null,null,{"$f":"Picks!B88","v":"Salford"},{"$f":"Picks!C88","v":7},{"$f":"Picks!D88","v":2.625},1,{"$f":"Picks!M88","v":0},0,"",null,null,null,null,null,null,null,null,null,null,null,null,null,null,1.625]
[null,{"$f":"$V31","v":"John Ronan"},{"$f":"Picks!B89","v":"Blackpool"},{"$f":"Picks!C89","v":7},{"$f":"Picks!D89","v":2.2000000000000002},1,{"$f":"Picks!M89","v":0},0,"",null,null,null,null,null,null,null,null,null,null,null,null,null,null,1.2000000000000002]
[null,null,{"$f":"Picks!B90","v":"Crewe"},{"$f":"Picks!C90","v":7},{"$f":"Picks!D90","v":1.75},1,{"$f":"Picks!M90","v":1},0.75,"",null,null,null,null,null,null,null,null,null,null,null,null,null,null,0.75]
[null,null,{"$f":"Picks!B91","v":"Exeter"},{"$f":"Picks!C91","v":7},{"$f":"Picks!D91","v":1.9090909090909092},1,{"$f":"Picks!M91","v":1},0.90909090909090917,"",null,null,null,null,null,null,null,null,null,null,null,null,null,null,0.90909090909090917]
[null,{"$f":"$V32","v":"Kei Lok Ma"},{"$f":"Picks!B92","v":"Wolves draw"},{"$f":"Picks!C92","v":7},{"$f":"Picks!D92","v":3.3},1,{"$f":"Picks!M92","v":0},{"$f":"+((E92-1)*G92*F92*A$2)","v":0},"",null,null,null,null,null,null,null,null,null,null,null,null,null,null,2.2999999999999998]
[null,null,{"$f":"Picks!B93","v":"Newcastle"},{"$f":"Picks!C93","v":7},{"$f":"Picks!D93","v":2.25},1,{"$f":"Picks!M93","v":1},1.25,"",null,null,null,null,null,null,null,null,null,null,null,null,null,null,1.25]
[null,null,{"$f":"Picks!B94","v":"Norwich"},{"$f":"Picks!C94","v":7},{"$f":"Picks!D94","v":2.75},1,{"$f":"Picks!M94","v":1},1.75,"",null,null,null,null,null,null,null,null,null,null,null,null,null,null,1.75]
[null,{"$f":"$V33","v":"Kevin Carter"},{"$f":"Picks!B95","v":"Southampton"},{"$f":"Picks!C95","v":1},{"$f":"Picks!D95","v":1.7272727272727273},1,{"$f":"Picks!M95","v":1},0.72727272727272729,"",null,null,null,null,null,null,null,null,null,null,null,null,null,null,0.72727272727272729]
[null,null,{"$f":"Picks!B96","v":"Spurs"},{"$f":"Picks!C96","v":1},{"$f":"Picks!D96","v":1.7272727272727273},1,{"$f":"Picks!M96","v":0},0,"",null,null,null,null,null,null,null,null,null,null,null,null,null,null,0.72727272727272729]
[null,null,{"$f":"Picks!B97","v":"Leicester"},{"$f":"Picks!C97","v":1},{"$f":"Picks!D97","v":2},1,{"$f":"Picks!M97","v":1},1,"",null,null,null,null,null,null,null,null,null,null,null,null,null,null,1]
[null,{"$f":"$V34","v":"Lennie Bow"},{"$f":"Picks!B98","v":"Bournemouth"},{"$f":"Picks!C98","v":7},{"$f":"Picks!D98","v":1.65},1,{"$f":"Picks!M98","v":1},0.64999999999999991,"",null,null,null,null,null,null,null,null,null,null,null,null,null,null,{"$f":"+((E98-1)*F98*A$2)","v":0.64999999999999991}]
[null,null,{"$f":"Picks!B99","v":"Hull"},{"$f":"Picks!C99","v":7},{"$f":"Picks!D99","v":1.6},1,{"$f":"Picks!M99","v":0},0,"",null,null,null,null,null,null,null,null,null,null,null,null,null,null,0.60000000000000009]
[null,null,{"$f":"Picks!B100","v":"Carlisle"},{"$f":"Picks!C100","v":7},{"$f":"Picks!D100","v":1.6153846153846154},1,{"$f":"Picks!M100","v":1},0.61538461538461542,"",null,null,null,null,null,null,null,null,null,null,null,null,null,null,0.61538461538461542]
[null,{"$f":"$V35","v":"Lewis Buckley"},{"$f":"Picks!B101","v":""},{"$f":"Picks!C101","v":""},{"$f":"Picks!D101","v":""},1,{"$f":"Picks!M101","v":{"$error":"#N/A"}},{"$error":"#VALUE!"},"",null,null,null,null,null,null,null,null,null,null,null,null,null,null,{"$error":"#VALUE!"}]
[null,null,{"$f":"Picks!B102","v":""},{"$f":"Picks!C102","v":""},{"$f":"Picks!D102","v":""},1,{"$f":"Picks!M102","v":{"$error":"#N/A"}},{"$error":"#VALUE!"},"",null,null,null,null,null,null,null,null,null,null,null,null,null,null,{"$error":"#VALUE!"}]
[null,null,{"$f":"Picks!B103","v":""},{"$f":"Picks!C103","v":""},{"$f":"Picks!D103","v":""},1,{"$f":"Picks!M103","v":{"$error":"#N/A"}},{"$error":"#VALUE!"},"",null,null,null,null,null,null,null,null,null,null,null,null,null,null,{"$error":"#VALUE!"}]
[null,{"$f":"$V36","v":"Liam Wah"},{"$f":"Picks!B104","v":"Man U draw"},{"$f":"Picks!C104","v":7},{"$f":"Picks!D104","v":4},1,{"$f":"Picks!M104","v":1},3,"",null,null,null,null,null,null,null,null,null,null,null,null,null,null,3]
[null,null,{"$f":"Picks!B105","v":"Newcastle"},{"$f":"Picks!C105","v":7},{"$f":"Picks!D105","v":2.25},1,{"$f":"Picks!M105","v":1},1.25,"",null,null,null,null,null,null,null,null,null,null,null,null,null,null,1.25]
[null,null,{"$f":"Picks!B106","v":"Wolves"},{"$f":"Picks!C106","v":7},{"$f":"Picks!D106","v":2.2999999999999998},1,{"$f":"Picks!M106","v":0},0,"",null,null,null,null,null,null,null,null,null,null,null,null,null,null,1.2999999999999998]
[null,{"$f":"$V37","v":"Mal Stott"},{"$f":"Picks!B107","v":"Blackpool"},{"$f":"Picks!C107","v":7},{"$f":"Picks!D107","v":2.2000000000000002},1,{"$f":"Picks!M107","v":0},0,"",null,null,null,null,null,null,null,null,null,null,null,null,null,null,1.2000000000000002]
[null,null,{"$f":"Picks!B108","v":"Forest"},{"$f":"Picks!C108","v":7},{"$f":"Picks!D108","v":3.8},1,{"$f":"Picks!M108","v":0},0,"",null,null,null,null,null,null,null,null,null,null,null,null,null,null,2.8]
[null,null,{"$f":"Picks!B109","v":"Blackburn"},{"$f":"Picks!C109","v":7},{"$f":"Picks!D109","v":2.5},1,{"$f":"Picks!M109","v":0},0,"",null,null,null,null,null,null,null,null,null,null,null,null,null,null,1.5]
[null,{"$f":"$V38","v":"Mark Bunn"},{"$f":"Picks!B110","v":"Stoke"},{"$f":"Picks!C110","v":7},{"$f":"Picks!D110","v":2.6},1,{"$f":"Picks!M110","v":0},0,"",null,null,null,null,null,null,null,null,null,null,null,null,null,null,1.6]
[null,null,{"$f":"Picks!B111","v":"Reading"},{"$f":"Picks!C111","v":7},{"$f":"Picks!D111","v":2.7},1,{"$f":"Picks!M111","v":1},1.7000000000000002,"",null,null,null,null,null,null,null,null,null,null,null,null,null,null,1.7000000000000002]
[null,null,{"$f":"Picks!B112","v":"Bristol C"},{"$f":"Picks!C112","v":7},{"$f":"Picks!D112","v":2.5},1,{"$f":"Picks!M112","v":0},0,"",null,null,null,null,null,null,null,null,null,null,null,null,null,null,1.5]
[null,{"$f":"$V39","v":"Mark Saunders"},{"$f":"Picks!B113","v":"Man U draw"},{"$f":"Picks!C113","v":7},{"$f":"Picks!D113","v":4},1,{"$f":"Picks!M113","v":1},3,"",null,null,null,null,null,null,null,null,null,null,null,null,null,null,3]
[null,null,{"$f":"Picks!B114","v":"Wolves draw"},{"$f":"Picks!C114","v":7},{"$f":"Picks!D114","v":3.3},1,{"$f":"Picks!M114","v":0},0,"",null,null,null,null,null,null,null,null,null,null,null,null,null,null,2.2999999999999998]
[null,null,{"$f":"Picks!B115","v":"Peterborough"},{"$f":"Picks!C115","v":7},{"$f":"Picks!D115","v":1.5333333333333332},1,{"$f":"Picks!M115","v":1},0.53333333333333321,"",null,null,null,null,null,null,null,null,null,null,null,null,null,null,0.53333333333333321]
[null,{"$f":"$V40","v":"Martin Molyneux"},{"$f":"Picks!B116","v":"Man U Draw"},{"$f":"Picks!C116","v":7},{"$f":"Picks!D116","v":4},1,{"$f":"Picks!M116","v":1},3,"",null,null,null,null,null,null,null,null,null,null,null,null,null,null,3]
[null,null,{"$f":"Picks!B117","v":"Spurs"},{"$f":"Picks!C117","v":1},{"$f":"Picks!D117","v":1.7272727272727273},1,{"$f":"Picks!M117","v":0},0,"",null,null,null,null,null,null,null,null,null,null,null,null,null,null,0.72727272727272729]
[null,null,{"$f":"Picks!B118","v":"Southampton"},{"$f":"Picks!C118","v":1},{"$f":"Picks!D118","v":1.7272727272727273},1,{"$f":"Picks!M118","v":1},0.72727272727272729,"",null,null,null,null,null,null,null,null,null,null,null,null,null,null,0.72727272727272729]
[null,{"$f":"$V41","v":"Martin Tarbuck"},{"$f":"Picks!B119","v":"Wolves"},{"$f":"Picks!C119","v":7},{"$f":"Picks!D119","v":2.2999999999999998},1,{"$f":"Picks!M119","v":0},0,"",null,null,null,null,null,null,null,null,null,null,null,null,null,null,1.2999999999999998]
[null,null,{"$f":"Picks!B120","v":"Bournemouth"},{"$f":"Picks!C120","v":7},{"$f":"Picks!D120","v":1.65},1,{"$f":"Picks!M120","v":1},0.64999999999999991,"",null,null,null,null,null,null,null,null,null,null,null,null,null,null,0.64999999999999991]
[null,null,{"$f":"Picks!B121","v":"Lincoln"},{"$f":"Picks!C121","v":7},{"$f":"Picks!D121","v":2.8},1,{"$f":"Picks!M121","v":0},{"$f":"+((E121-1)*G121*F121*A$2)","v":0},"",null,null,null,null,null,null,null,null,null,null,null,null,null,null,1.7999999999999998]
[null,{"$f":"$V42","v":"Mike Penk"},{"$f":"Picks!B122","v":"West Brom"},{"$f":"Picks!C122","v":7},{"$f":"Picks!D122","v":3.4},1,{"$f":"Picks!M122","v":0},0,{"$f":"IF(V122=\"\",\"\",V122)","v":""},null,null,null,null,null,null,null,null,null,null,null,null,null,null,2.4]
[null,null,{"$f":"Picks!B123","v":"Plymouth"},{"$f":"Picks!C123","v":7},{"$f":"Picks!D123","v":2.7},1,{"$f":"Picks!M123","v":0},0,"",null,null,null,null,null,null,null,null,null,null,null,null,null,null,1.7000000000000002]
[null,null,{"$f":"Picks!B124","v":"Fleetwood"},{"$f":"Picks!C124","v":7},{"$f":"Picks!D124","v":2.15},1,{"$f":"Picks!M124","v":1},1.1499999999999999,"",null,null,null,null,null,null,null,null,null,null,null,null,null,null,1.1499999999999999]
[null,{"$f":"$V43","v":"Mo Sudell"},{"$f":"Picks!B125","v":"Carlisle"},{"$f":"Picks!C125","v":7},{"$f":"Picks!D125","v":1.6153846153846154},1,{"$f":"Picks!M125","v":1},0.61538461538461542,"",null,null,null,null,null,null,null,null,null,null,null,null,null,null,0.61538461538461542]
[null,null,{"$f":"Picks!B126","v":"Hull"},{"$f":"Picks!C126","v":7},{"$f":"Picks!D126","v":1.6},1,{"$f":"Picks!M126","v":0},0,"",null,null,null,null,null,null,null,null,null,null,null,null,null,null,0.60000000000000009]
[null,null,{"$f":"Picks!B127","v":"Lincoln"},{"$f":"Picks!C127","v":7},{"$f":"Picks!D127","v":2.8},1,{"$f":"Picks!M127","v":0},0,"",null,null,null,null,null,null,null,null,null,null,null,null,null,null,1.7999999999999998]
[null,{"$f":"$V44","v":"Nick Blocksidge"},{"$f":"Picks!B128","v":"Arsenal"},{"$f":"Picks!C128","v":1},{"$f":"Picks!D128","v":1.55},1,{"$f":"Picks!M128","v":0},0,"",null,null,null,null,null,null,null,null,null,null,null,null,null,null,0.55000000000000004]
[null,null,{"$f":"Picks!B129","v":"Leicester"},{"$f":"Picks!C129","v":1},{"$f":"Picks!D129","v":2},1,{"$f":"Picks!M129","v":1},1,"",null,null,null,null,null,null,null,null,null,null,null,null,null,null,1]
[null,null,{"$f":"Picks!B130","v":"Spurs"},{"$f":"Picks!C130","v":1},{"$f":"Picks!D130","v":1.7272727272727273},1,{"$f":"Picks!M130","v":0},0,"",null,null,null,null,null,null,null,null,null,null,null,null,null,null,0.72727272727272729]
[null,{"$f":"$V45","v":"Nigel Heyes"},{"$f":"Picks!B131","v":"Everton draw"},{"$f":"Picks!C131","v":7},{"$f":"Picks!D131","v":4},1,{"$f":"Picks!M131","v":0},0,"",null,null,null,null,null,null,null,null,null,null,null,null,null,null,{"$f":"+((E131-1)*F131*A$2)","v":3}]
[null,null,{"$f":"Picks!B132","v":"Blackburn draw"},{"$f":"Picks!C132","v":7},{"$f":"Picks!D132","v":3.5},1,{"$f":"Picks!M132","v":0},0,"",null,null,null,null,null,null,null,null,null,null,null,null,null,null,2.5]
[null,null,{"$f":"Picks!B133","v":"Derby draw"},{"$f":"Picks!C133","v":7},{"$f":"Picks!D133","v":3.2},1,{"$f":"Picks!M133","v":1},2.2000000000000002,"",null,null,null,null,null,null,null,null,null,null,null,null,null,null,2.2000000000000002]
[null,{"$f":"$V46","v":"Oscar Jackson"},{"$f":"Picks!B134","v":"Blackpool"},{"$f":"Picks!C134","v":7},{"$f":"Picks!D134","v":2.2000000000000002},1,{"$f":"Picks!M134","v":0},0,"",null,null,null,null,null,null,null,null,null,null,null,null,null,null,1.2000000000000002]
[null,null,{"$f":"Picks!B135","v":"Hull"},{"$f":"Picks!C135","v":7},{"$f":"Picks!D135","v":1.6},1,{"$f":"Picks!M135","v":0},0,"",null,null,null,null,null,null,null,null,null,null,null,null,null,null,0.60000000000000009]
[null,null,{"$f":"Picks!B136","v":"Exeter"},{"$f":"Picks!C136","v":7},{"$f":"Picks!D136","v":1.9090909090909092},1,{"$f":"Picks!M136","v":1},0.90909090909090917,"",null,null,null,null,null,null,null,null,null,null,null,null,null,null,0.90909090909090917]
[null,{"$f":"$V47","v":"Paul Adderley"},{"$f":"Picks!B137","v":"QPR"},{"$f":"Picks!C137","v":7},{"$f":"Picks!D137","v":2.625},1,{"$f":"Picks!M137","v":0},0,"",null,null,null,null,null,null,null,null,null,null,null,null,null,null,1.625]
[null,null,{"$f":"Picks!B138","v":"Forest"},{"$f":"Picks!C138","v":7},{"$f":"Picks!D138","v":3.8},1,{"$f":"Picks!M138","v":0},0,"",null,null,null,null,null,null,null,null,null,null,null,null,null,null,2.8]
[null,null,{"$f":"Picks!B139","v":"Norwich"},{"$f":"Picks!C139","v":7},{"$f":"Picks!D139","v":2.75},1,{"$f":"Picks!M139","v":1},1.75,"",null,null,null,null,null,null,null,null,null,null,null,null,null,null,1.75]
[null,{"$f":"$V48","v":"Paul Allen"},{"$f":"Picks!B140","v":"Charlton"},{"$f":"Picks!C140","v":7},{"$f":"Picks!D140","v":1.95},1,{"$f":"Picks!M140","v":1},0.95,"",null,null,null,null,null,null,null,null,null,null,null,null,null,null,0.95]
[null,null,{"$f":"Picks!B141","v":"Hull"},{"$f":"Picks!C141","v":7},{"$f":"Picks!D141","v":1.6},1,{"$f":"Picks!M141","v":0},0,"",null,null,null,null,null,null,null,null,null,null,null,null,null,null,0.60000000000000009]
[null,null,{"$f":"Picks!B142","v":"Portsmouth"},{"$f":"Picks!C142","v":7},{"$f":"Picks!D142","v":2.2000000000000002},1,{"$f":"Picks!M142","v":1},1.2000000000000002,"",null,null,null,null,null,null,null,null,null,null,null,null,null,null,1.2000000000000002]
[null,{"$f":"$V49","v":"Paul Barnes"},{"$f":"Picks!B143","v":"Man U"},{"$f":"Picks!C143","v":7},{"$f":"Picks!D143","v":4.3333333333333339},1,{"$f":"Picks!M143","v":0},0,"",null,null,null,null,null,null,null,null,null,null,null,null,null,null,3.3333333333333339]
[null,null,{"$f":"Picks!B144","v":"Spurs"},{"$f":"Picks!C144","v":1},{"$f":"Picks!D144","v":1.7272727272727273},1,{"$f":"Picks!M144","v":0},0,"",null,null,null,null,null,null,null,null,null,null,null,null,null,null,0.72727272727272729]
[null,null,{"$f":"Picks!B145","v":"Sheff U"},{"$f":"Picks!C145","v":1},{"$f":"Picks!D145","v":5},1,{"$f":"Picks!M145","v":0},0,"",null,null,null,null,null,null,null,null,null,null,null,null,null,null,4]
[null,{"$f":"$V50","v":"Paul Fairhurst"},{"$f":"Picks!B146","v":"West Brom"},{"$f":"Picks!C146","v":7},{"$f":"Picks!D146","v":3.4},1,{"$f":"Picks!M146","v":0},0,"",null,null,null,null,null,null,null,null,null,null,null,null,null,null,2.4]
[null,null,{"$f":"Picks!B147","v":"Ipswich"},{"$f":"Picks!C147","v":7},{"$f":"Picks!D147","v":3.1},1,{"$f":"Picks!M147","v":0},0,"",null,null,null,null,null,null,null,null,null,null,null,null,null,null,2.1]
[null,null,{"$f":"Picks!B148","v":"Lincoln"},{"$f":"Picks!C148","v":7},{"$f":"Picks!D148","v":2.8},1,{"$f":"Picks!M148","v":0},0,"",null,null,null,null,null,null,null,null,null,null,null,null,null,null,1.7999999999999998]
[null,{"$f":"$V51","v":"Paul Fiddler"},{"$f":"Picks!B149","v":"Hull"},{"$f":"Picks!C149","v":7},{"$f":"Picks!D149","v":1.6},1,{"$f":"Picks!M149","v":0},0,"",null,null,null,null,null,null,null,null,null,null,null,null,null,null,0.60000000000000009]
[null,null,{"$f":"Picks!B150","v":"Charlton"},{"$f":"Picks!C150","v":7},{"$f":"Picks!D150","v":1.95},1,{"$f":"Picks!M150","v":1},0.95,"",null,null,null,null,null,null,null,null,null,null,null,null,null,null,0.95]
[null,null,{"$f":"Picks!B151","v":"Blackpool"},{"$f":"Picks!C151","v":7},{"$f":"Picks!D151","v":2.2000000000000002},1,{"$f":"Picks!M151","v":0},0,"",null,null,null,null,null,null,null,null,null,null,null,null,null,null,1.2000000000000002]
[null,{"$f":"$V52","v":"Paul Ridgeway"},{"$f":"Picks!B152","v":"Leeds"},{"$f":"Picks!C152","v":6},{"$f":"Picks!D152","v":2.15},1,{"$f":"Picks!M152","v":0},0,"",null,null,null,null,null,null,null,null,null,null,null,null,null,null,1.1499999999999999]
[null,null,{"$f":"Picks!B153","v":"Chelsea"},{"$f":"Picks!C153","v":7},{"$f":"Picks!D153","v":1.75},1,{"$f":"Picks!M153","v":0},{"$f":"+((E153-1)*G153*F153*A$2)","v":0},"",null,null,null,null,null,null,null,null,null,null,null,null,null,null,0.75]
[null,null,{"$f":"Picks!B154","v":"Stoke"},{"$f":"Picks!C154","v":7},{"$f":"Picks!D154","v":2.6},1,{"$f":"Picks!M154","v":0},0,"",null,null,null,null,null,null,null,null,null,null,null,null,null,null,1.6]
[null,{"$f":"$V53","v":"Pete Baron"},{"$f":"Picks!B155","v":"Sheff U"},{"$f":"Picks!C155","v":1},{"$f":"Picks!D155","v":5},1,{"$f":"Picks!M155","v":0},0,"",null,null,null,null,null,null,null,null,null,null,null,null,null,null,4]
[null,null,{"$f":"Picks!B156","v":"Rochdale"},{"$f":"Picks!C156","v":7},{"$f":"Picks!D156","v":6},1,{"$f":"Picks!M156","v":0},0,"",null,null,null,null,null,null,null,null,null,null,null,null,null,null,5]
[null,null,{"$f":"Picks!B157","v":"Swansea"},{"$f":"Picks!C157","v":7},{"$f":"Picks!D157","v":3},1,{"$f":"Picks!M157","v":1},2,"",null,null,null,null,null,null,null,null,null,null,null,null,null,null,2]
[null,{"$f":"$V54","v":"Phil Miller"},{"$f":"Picks!B158","v":""},{"$f":"Picks!C158","v":""},{"$f":"Picks!D158","v":""},1,{"$f":"Picks!M158","v":{"$error":"#N/A"}},{"$error":"#VALUE!"},"",null,null,null,null,null,null,null,null,null,null,null,null,null,null,{"$error":"#VALUE!"}]
[null,null,{"$f":"Picks!B159","v":""},{"$f":"Picks!C159","v":""},{"$f":"Picks!D159","v":""},1,{"$f":"Picks!M159","v":{"$error":"#N/A"}},{"$error":"#VALUE!"},"",null,null,null,null,null,null,null,null,null,null,null,null,null,null,{"$error":"#VALUE!"}]
[null,null,{"$f":"Picks!B160","v":""},{"$f":"Picks!C160","v":""},{"$f":"Picks!D160","v":""},1,{"$f":"Picks!M160","v":{"$error":"#N/A"}},{"$error":"#VALUE!"},"",null,null,null,null,null,null,null,null,null,null,null,null,null,null,{"$error":"#VALUE!"}]
[null,{"$f":"$V55","v":"Rob England"},{"$f":"Picks!B161","v":"Fulham"},{"$f":"Picks!C161","v":1},{"$f":"Picks!D161","v":9},1,{"$f":"Picks!M161","v":0},0,"",null,null,null,null,null,null,null,null,null,null,null,null,null,null,8]
[null,null,{"$f":"Picks!B162","v":"Sheff U"},{"$f":"Picks!C162","v":1},{"$f":"Picks!D162","v":5},1,{"$f":"Picks!M162","v":0},0,"",null,null,null,null,null,null,null,null,null,null,null,null,null,null,4]
[null,null,{"$f":"Picks!B163","v":"Barnsley"},{"$f":"Picks!C163","v":7},{"$f":"Picks!D163","v":3.1},1,{"$f":"Picks!M163","v":1},2.1,"",null,null,null,null,null,null,null,null,null,null,null,null,null,null,2.1]
[null,{"$f":"$V56","v":"Sally Williams"},{"$f":"Picks!B164","v":"Luton"},{"$f":"Picks!C164","v":7},{"$f":"Picks!D164","v":3},1,{"$f":"Picks!M164","v":1},2,"",null,null,null,null,null,null,null,null,null,null,null,null,null,null,2]
[null,null,{"$f":"Picks!B165","v":"Wycombe"},{"$f":"Picks!C165","v":7},{"$f":"Picks!D165","v":3.1},1,{"$f":"Picks!M165","v":0},0,"",null,null,null,null,null,null,null,null,null,null,null,null,null,null,2.1]
[null,null,{"$f":"Picks!B166","v":"Ipswich"},{"$f":"Picks!C166","v":7},{"$f":"Picks!D166","v":3.1},1,{"$f":"Picks!M166","v":0},0,"",null,null,null,null,null,null,null,null,null,null,null,null,null,null,2.1]
[null,{"$f":"$V57","v":"Simon Greenhalgh"},{"$f":"Picks!B167","v":"Man u Draw"},{"$f":"Picks!C167","v":7},{"$f":"Picks!D167","v":4},1,{"$f":"Picks!M167","v":1},3,"",null,null,null,null,null,null,null,null,null,null,null,null,null,null,3]
[null,null,{"$f":"Picks!B168","v":"Stoke"},{"$f":"Picks!C168","v":7},{"$f":"Picks!D168","v":2.6},1,{"$f":"Picks!M168","v":0},0,"",null,null,null,null,null,null,null,null,null,null,null,null,null,null,1.6]
[null,null,{"$f":"Picks!B169","v":"Hull"},{"$f":"Picks!C169","v":7},{"$f":"Picks!D169","v":1.6},1,{"$f":"Picks!M169","v":0},0,"",null,null,null,null,null,null,null,null,null,null,null,null,null,null,0.60000000000000009]
[null,{"$f":"$V58","v":"Stephen Barr"},{"$f":"Picks!B170","v":"Newcastle"},{"$f":"Picks!C170","v":7},{"$f":"Picks!D170","v":2.25},1,{"$f":"Picks!M170","v":1},1.25,"",null,null,null,null,null,null,null,null,null,null,null,null,null,null,1.25]
[null,null,{"$f":"Picks!B171","v":"Leeds"},{"$f":"Picks!C171","v":6},{"$f":"Picks!D171","v":2.15},1,{"$f":"Picks!M171","v":0},0,"",null,null,null,null,null,null,null,null,null,null,null,null,null,null,1.1499999999999999]
[null,null,{"$f":"Picks!B172","v":"Southampton"},{"$f":"Picks!C172","v":1},{"$f":"Picks!D172","v":1.7272727272727273},1,{"$f":"Picks!M172","v":1},0.72727272727272729,"",null,null,null,null,null,null,null,null,null,null,null,null,null,null,0.72727272727272729]
[null,{"$f":"$V59","v":"Stephen Troop"},{"$f":"Picks!B173","v":"Spurs"},{"$f":"Picks!C173","v":1},{"$f":"Picks!D173","v":1.7272727272727273},1,{"$f":"Picks!M173","v":0},0,"",null,null,null,null,null,null,null,null,null,null,null,null,null,null,0.72727272727272729]
[null,null,{"$f":"Picks!B174","v":"Stoke"},{"$f":"Picks!C174","v":7},{"$f":"Picks!D174","v":2.6},1,{"$f":"Picks!M174","v":0},0,"",null,null,null,null,null,null,null,null,null,null,null,null,null,null,1.6]
[null,null,{"$f":"Picks!B175","v":"Blackpool"},{"$f":"Picks!C175","v":7},{"$f":"Picks!D175","v":2.2000000000000002},1,{"$f":"Picks!M175","v":0},0,"",null,null,null,null,null,null,null,null,null,null,null,null,null,null,1.2000000000000002]
[null,{"$f":"$V60","v":"Steve Baxter"},{"$f":"Picks!B176","v":"Chelsea"},{"$f":"Picks!C176","v":7},{"$f":"Picks!D176","v":1.75},1,{"$f":"Picks!M176","v":0},0,"",null,null,null,null,null,null,null,null,null,null,null,null,null,null,0.75]
[null,null,{"$f":"Picks!B177","v":"Liverpool"},{"$f":"Picks!C177","v":1},{"$f":"Picks!D177","v":1.3333333333333333},1,{"$f":"Picks!M177","v":0},0,"",null,null,null,null,null,null,null,null,null,null,null,null,null,null,0.33333333333333326]
[null,null,{"$f":"Picks!B178","v":"Spurs"},{"$f":"Picks!C178","v":1},{"$f":"Picks!D178","v":1.7272727272727273},1,{"$f":"Picks!M178","v":0},0,"",null,null,null,null,null,null,null,null,null,null,null,null,null,null,0.72727272727272729]
[null,{"$f":"$V61","v":"Steve Carter"},{"$f":"Picks!B179","v":"Newcastle"},{"$f":"Picks!C179","v":7},{"$f":"Picks!D179","v":2.25},1,{"$f":"Picks!M179","v":1},1.25,"",null,null,null,null,null,null,null,null,null,null,null,null,null,null,1.25]
[null,null,{"$f":"Picks!B180","v":"Wolves"},{"$f":"Picks!C180","v":7},{"$f":"Picks!D180","v":2.2999999999999998},1,{"$f":"Picks!M180","v":0},0,"",null,null,null,null,null,null,null,null,null,null,null,null,null,null,1.2999999999999998]
[null,null,{"$f":"Picks!B181","v":"Leicester"},{"$f":"Picks!C181","v":1},{"$f":"Picks!D181","v":2},1,{"$f":"Picks!M181","v":1},1,"",null,null,null,null,null,null,null,null,null,null,null,null,null,null,1]
[null,{"$f":"$V62","v":"Tom Robinson"},{"$f":"Picks!B182","v":"Middlesbro"},{"$f":"Picks!C182","v":7},{"$f":"Picks!D182","v":2.15},1,{"$f":"Picks!M182","v":1},1.1499999999999999,"",null,null,null,null,null,null,null,null,null,null,null,null,null,null,1.1499999999999999]
[null,null,{"$f":"Picks!B183","v":"Forest draw"},{"$f":"Picks!C183","v":7},{"$f":"Picks!D183","v":3.2},1,{"$f":"Picks!M183","v":0},0,"",null,null,null,null,null,null,null,null,null,null,null,null,null,null,2.2000000000000002]
[null,null,{"$f":"Picks!B184","v":"Blackpool"},{"$f":"Picks!C184","v":7},{"$f":"Picks!D184","v":2.2000000000000002},1,{"$f":"Picks!M184","v":0},0,"",null,null,null,null,null,null,null,null,null,null,null,null,null,null,1.2000000000000002]
[null,{"$f":"$V63","v":"Vinny Topping"},{"$f":"Picks!B185","v":"Newcastle"},{"$f":"Picks!C185","v":7},{"$f":"Picks!D185","v":2.25},1,{"$f":"Picks!M185","v":1},{"$f":"+((E185-1)*G185*F185*A$2)","v":1.25},"",null,null,null,null,null,null,null,null,null,null,null,null,null,null,1.25]
[null,null,{"$f":"Picks!B186","v":"Middlesbro"},{"$f":"Picks!C186","v":7},{"$f":"Picks!D186","v":2.15},1,{"$f":"Picks!M186","v":1},1.1499999999999999,{"$f":"IF(V186=\"\",\"\",V186)","v":""},null,null,null,null,null,null,null,null,null,null,null,null,null,null,1.1499999999999999]
[null,null,{"$f":"Picks!B187","v":"Wycombe"},{"$f":"Picks!C187","v":7},{"$f":"Picks!D187","v":3.1},1,{"$f":"Picks!M187","v":0},0,"",null,null,null,null,null,null,null,null,null,null,null,null,null,null,2.1]
[null,null,null,null,null,null,null,null,""]
[null,null,null,null,null,null,null,null,""]
[null,null,null,null,null,null,null,null,""]
[null,null,null,null,null,null,null,null,""]
[null,null,null,null,null,null,null,null,""]
[null,null,null,null,null,null,null,null,"",null,null,null,null,null,null,null,null,null,null,null,null,null,null,null,"`"]

{"sheet":"3of3","index":11,"n_rows":9,"n_cols":2,"rows_kept":9,"cut":false,"hidden":false,"merged":[]}
["Menu!A1"]
[]
["Count of Player"]
["Week\nCorrect","Total"]
[3,5]
[2,18]
[1,22]
[0,17]
["Grand Total",62]

{"sheet":"TopPicks","index":12,"n_rows":82,"n_cols":12,"rows_kept":82,"cut":false,"hidden":false,"merged":[]}
[]
[]
["Count of Points","Bet up "]
["Wk1",0,1,"#N/A","Grand Total",null,null,null,"Team","Down","Up"]
["Arsenal",1,null,null,1,null,null,null,"Wolves",8]
["Blackburn",2,null,null,2,null,null,null,"Hull",7]
["Bournemouth",null,3,null,3,null,null,null,"Spurs",7]
["Bournemouth draw",1,null,null,1,null,null,null,"Blackpool",7]
["Bristol C",1,null,null,1,null,null,null,"Man U",4]
["Cardiff",2,null,null,2,null,null,null,"Sheff U",4]
["Chelsea",3,null,null,3,null,null,null,"Stoke",4]
["Derby",2,null,null,2,null,null,null,"Lincoln",4]
["Everton",null,3,null,3,null,null,null,"Chelsea",3]
["Everton draw",3,null,null,3,null,null,null,"Everton draw",3]
["Forest",2,null,null,2,null,null,null,"Wolves Draw",3]
["Fulham",2,null,null,2,null,null,null,"Ipswich",3]
["Hull",7,null,null,7,null,null,null,"Blackburn",2]
["Leeds",2,null,null,2,null,null,null,"Cardiff",2]
["Leicester",null,8,null,8,null,null,null,"Derby",2]
["Liverpool",1,null,null,1,null,null,null,"Forest",2]
["Man U",4,null,null,4,null,null,null,"Fulham",2]
["Newcastle",null,9,null,9,null,null,null,"Leeds",2]
["Norwich",null,3,null,3,null,null,null,"West Brom",2]
["Palace",1,null,null,1,null,null,null,"Wycombe",2]
["QPR",1,null,null,1,null,null,null,"Salford",2]
["Reading",null,3,null,3,null,null,null,"Plymouth",2]
["Sheff U",4,null,null,4,null,null,null,"Rochdale",2]
["Sheff W Draw",1,null,null,1,null,null,null,"Arsenal",1]
["Southampton",null,5,null,5,null,null,null,"Bournemouth draw",1]
["Spurs",7,null,null,7,null,null,null,"Bristol C",1]
["Stoke",4,null,null,4,null,null,null,"Liverpool",1]
["Watford",null,1,null,1,null,null,null,"Palace",1]
["West Brom",2,null,null,2,null,null,null,"QPR",1]
["Wigan",null,2,null,2,null,null,null,"Sheff W Draw",1]
["Wolves",8,null,null,8,null,null,null,"Northampton",1,null,12]
["(blank)",null,null,12,12,null,null,null,"Birmingham Draw",1]
["Man U draw",null,4,null,4,null,null,null,"Birmingham",1]
["Wolves Draw",3,null,null,3,null,null,null,"Leeds draw",1]
["Derby Draw",null,2,null,2,null,null,null,"Forest draw",1]
["Exeter",null,2,null,2,null,null,null,"QPR Draw",1]
["Northampton",1,null,null,1,null,null,null,"Blackburn draw",1]
["Birmingham Draw",1,null,null,1,null,null,null,"Cambridge",1]
["Barnsley",null,2,null,2,null,null,null,"Scunthorpe",1]
["Swansea",null,1,null,1,null,null,null,"Accrington",1]
["Birmingham",1,null,null,1,null,null,null,"Tranmere",1]
["Middlesbro",null,3,null,3,null,null,null,"Bristol R draw",1]
["Luton",null,1,null,1,null,null,null,"Gillingham",1]
["Charlton",null,3,null,3,null,null,null,"Swindon draw",1]
["Leeds draw",1,null,null,1,null,null,null,"Ipswich draw",1]
["Forest draw",1,null,null,1,null,null,null,"Newcastle",null,9]
["QPR Draw",1,null,null,1,null,null,null,"Leicester",null,8]
["Blackburn draw",1,null,null,1,null,null,null,"Southampton",null,5]
["Fleetwood",null,1,null,1,null,null,null,"Man U draw",null,4]
["Cambridge",1,null,null,1,null,null,null,"Bournemouth",null,3]
["Crewe",null,1,null,1,null,null,null,"Everton",null,3]
["Portsmouth",null,1,null,1,null,null,null,"Norwich",null,3]
["Forest Green",null,1,null,1,null,null,null,"Reading",null,3]
["Sunderland",null,1,null,1,null,null,null,"Middlesbro",null,3]
["Scunthorpe",1,null,null,1,null,null,null,"Charlton",null,3]
["Walsall",null,1,null,1,null,null,null,"Carlisle",null,3]
["Accrington",1,null,null,1,null,null,null,"Wigan",null,2]
["Wycombe",2,null,null,2,null,null,null,"Derby Draw",null,2]
["Doncaster",null,2,null,2,null,null,null,"Exeter",null,2]
["Tranmere",1,null,null,1,null,null,null,"Barnsley",null,2]
["Orient",null,1,null,1,null,null,null,"Doncaster",null,2]
["Lincoln",4,null,null,4,null,null,null,"Oldham",null,2]
["Salford",2,null,null,2,null,null,null,"Watford",null,1]
["Ipswich",3,null,null,3,null,null,null,"Swansea",null,1]
["Bristol R draw",1,null,null,1,null,null,null,"Luton",null,1]
["Blackpool",7,null,null,7,null,null,null,"Fleetwood",null,1]
["Plymouth",2,null,null,2,null,null,null,"Crewe",null,1]
["Morecambe",null,1,null,1,null,null,null,"Portsmouth",null,1]
["Gillingham",1,null,null,1,null,null,null,"Forest Green",null,1]
["Oldham",null,2,null,2,null,null,null,"Sunderland",null,1]
["Crawley",null,1,null,1,null,null,null,"Walsall",null,1]
["Carlisle",null,3,null,3,null,null,null,"Orient",null,1]
["Rochdale",2,null,null,2,null,null,null,"Morecambe",null,1]
["Peterborough",null,1,null,1,null,null,null,"Crawley",null,1]
["Port Vale draw",null,1,null,1,null,null,null,"Peterborough",null,1]
["Swindon draw",1,null,null,1,null,null,null,"Port Vale draw",null,1]
["Ipswich draw",1,null,null,1,null,null,null,"(blank)"]
["Grand Total",101,73,12,186]

{"sheet":"Images","index":13,"n_rows":40,"n_cols":38,"rows_kept":40,"cut":false,"hidden":false,"merged":[[20,12,20,13],[20,14,20,16],[20,17,20,18],[22,1,27,1],[2,3,2,7],[4,1,9,1],[10,1,15,1],[16,1,21,1],[2,10,2,18],[17,14,17,16],[12,11,12,12],[3,11,3,12],[28,10,28,11],[4,11,4,12],[5,11,5,12],[6,11,6,12],[7,11,7,12],[24,12,24,13],[25,12,25,13],[27,12,27,18],[28,13,28,15],[28,16,28,18],[21,14,21,16],[21,17,21,18],[8,11,8,12],[9,11,9,12],[10,11,10,12],[11,11,11,12],[29,10,29,11],[18,14,18,15],[19,14,19,15],[17,12,17,13],[2,27,2,37],[3,27,3,28],[3,30,3,31],[3,33,3,34],[3,36,3,37],[29,13,29,15],[29,16,29,18],[24,16,24,18],[25,16,25,18],[13,11,13,12],[14,11,14,12],[15,11,15,12]]}
[null,"Season:","PL36"]
[null,"Week : ",17]
[null,null,null,{"$f":"CONCATENATE(\"Promotion/Prize Places (Top 6) In Division after Week \",$C$2)","v":"Promotion/Prize Places (Top 6) In Division after Week 17"},null,null,null,null,null,null,{"$f":"CONCATENATE(\"Weekly Top 12 for Week \",$C$2)","v":"Weekly Top 12 for Week 17"},null,null,null,null,null,null,null,null,null,null,null,null,null,null,null,null,{"$f":"CONCATENATE(\"League Standings after Week \",$C$2)","v":"League Standings after Week 17"}]
[null,null,"Pos","Season\nPoints","Season\nCorrect","Name","Week\nPoints","Week\nCorrect",null,null,"Prize","Name",null,"Rank #\nof 62","Div","Div\nPos","Season\nTotal","Wk in","Wk Pts",null,null,"Division","Name","Correct","Points",null,null,"Division A",null,null,"Division B",null,null,"Division C",null,null,"Division D"]
["A1","Division A",1,{"$f":"INDEX(Table!G:G,MATCH($A5,Table!$B:$B,0))","v":162.68749999999997},{"$f":"INDEX(Table!H:H,MATCH($A5,Table!$B:$B,0))","v":18},{"$f":"INDEX(Table!F:F,MATCH($A5,Table!$B:$B,0))","v":"Gerard Ventom"},{"$f":"INDEX(Table!I:I,MATCH($A5,Table!$B:$B,0))","v":46.6},{"$f":"INDEX(Table!J:J,MATCH($A5,Table!$B:$B,0))","v":3},null,1,10,{"$f":"INDEX(Weekly!E:E,MATCH($J5,Weekly!$B:$B,0))","v":"Alfie Davies"},null,{"$f":"INDEX(Weekly!A:A,MATCH($L5,Weekly!$E:$E,0))","v":16},{"$f":"INDEX(Weekly!D:D,MATCH($L5,Weekly!$E:$E,0))","v":"A"},{"$f":"INDEX(Table!D:D,MATCH($L5,Table!$F:$F,0))","v":4},{"$f":"INDEX(Weekly!F:F,MATCH($L5,Weekly!$E:$E,0))","v":22.661250000000003},{"$f":"INDEX(Weekly!I:I,MATCH($L5,Weekly!$E:$E,0))","v":3},{"$f":"INDEX(Weekly!H:H,MATCH($L5,Weekly!$E:$E,0))","v":50.275000000000006},null,1,null,null,null,null,null,"A1",{"$f":"INDEX(Table!$F:$F,MATCH(AA5,Table!$B:$B,0))","v":"Gerard Ventom"},{"$f":"INDEX(Table!$G:$G,MATCH(AA5,Table!$B:$B,0))","v":162.68749999999997},"B1",{"$f":"INDEX(Table!$F:$F,MATCH(AD5,Table!$B:$B,0))","v":"Barry Birchall"},{"$f":"INDEX(Table!$G:$G,MATCH(AD5,Table!$B:$B,0))","v":488.92794705294693},"C1",{"$f":"INDEX(Table!$F:$F,MATCH(AG5,Table!$B:$B,0))","v":"Andy Charleston"},{"$f":"INDEX(Table!$G:$G,MATCH(AG5,Table!$B:$B,0))","v":871.83333333333348},"D1",{"$f":"INDEX(Table!$F:$F,MATCH(AJ5,Table!$B:$B,0))","v":"Paul Barnes"},{"$f":"INDEX(Table!$G:$G,MATCH(AJ5,Table!$B:$B,0))","v":86.010881410256417}]
["A2",null,2,{"$f":"INDEX(Table!G:G,MATCH($A6,Table!$B:$B,0))","v":56.675035919540228},{"$f":"INDEX(Table!H:H,MATCH($A6,Table!$B:$B,0))","v":24},{"$f":"INDEX(Table!F:F,MATCH($A6,Table!$B:$B,0))","v":"Mike Penk"},{"$f":"INDEX(Table!I:I,MATCH($A6,Table!$B:$B,0))","v":-4.8499999999999996},{"$f":"INDEX(Table!J:J,MATCH($A6,Table!$B:$B,0))","v":1},null,2,5,{"$f":"INDEX(Weekly!E:E,MATCH($J6,Weekly!$B:$B,0))","v":"Alan Rogers"},null,{"$f":"INDEX(Weekly!A:A,MATCH($L6,Weekly!$E:$E,0))","v":15},{"$f":"INDEX(Weekly!D:D,MATCH($L6,Weekly!$E:$E,0))","v":"A"},{"$f":"INDEX(Table!D:D,MATCH($L6,Table!$F:$F,0))","v":3},{"$f":"INDEX(Weekly!F:F,MATCH($L6,Weekly!$E:$E,0))","v":36.04000000000002},{"$f":"INDEX(Weekly!I:I,MATCH($L6,Weekly!$E:$E,0))","v":3},{"$f":"INDEX(Weekly!H:H,MATCH($L6,Weekly!$E:$E,0))","v":47.080000000000005},null,2,null,null,null,null,null,"A2",{"$f":"INDEX(Table!F:F,MATCH(AA6,Table!$B:$B,0))","v":"Mike Penk"},{"$f":"INDEX(Table!G:G,MATCH(AA6,Table!$B:$B,0))","v":56.675035919540228},"B2",{"$f":"INDEX(Table!$F:$F,MATCH(AD6,Table!$B:$B,0))","v":"Pete Baron"},{"$f":"INDEX(Table!$G:$G,MATCH(AD6,Table!$B:$B,0))","v":117.90765517241378},"C2",{"$f":"INDEX(Table!$F:$F,MATCH(AG6,Table!$B:$B,0))","v":"Chris Bow"},{"$f":"INDEX(Table!$G:$G,MATCH(AG6,Table!$B:$B,0))","v":225.32410984848482},"D2",{"$f":"INDEX(Table!$F:$F,MATCH(AJ6,Table!$B:$B,0))","v":"Howard Bradley"},{"$f":"INDEX(Table!$G:$G,MATCH(AJ6,Table!$B:$B,0))","v":48.005633116883118}]
["A3",null,3,{"$f":"INDEX(Table!G:G,MATCH($A7,Table!$B:$B,0))","v":36.04000000000002},{"$f":"INDEX(Table!H:H,MATCH($A7,Table!$B:$B,0))","v":18},{"$f":"INDEX(Table!F:F,MATCH($A7,Table!$B:$B,0))","v":"Alan Rogers"},{"$f":"INDEX(Table!I:I,MATCH($A7,Table!$B:$B,0))","v":47.080000000000005},{"$f":"INDEX(Table!J:J,MATCH($A7,Table!$B:$B,0))","v":3},null,3,5,{"$f":"INDEX(Weekly!E:E,MATCH($J7,Weekly!$B:$B,0))","v":"Gerard Ventom"},null,{"$f":"INDEX(Weekly!A:A,MATCH($L7,Weekly!$E:$E,0))","v":4},{"$f":"INDEX(Weekly!D:D,MATCH($L7,Weekly!$E:$E,0))","v":"A"},{"$f":"INDEX(Table!D:D,MATCH($L7,Table!$F:$F,0))","v":1},{"$f":"INDEX(Weekly!F:F,MATCH($L7,Weekly!$E:$E,0))","v":162.68749999999997},{"$f":"INDEX(Weekly!I:I,MATCH($L7,Weekly!$E:$E,0))","v":3},{"$f":"INDEX(Weekly!H:H,MATCH($L7,Weekly!$E:$E,0))","v":46.6},null,3,null,null,null,null,null,"A3",{"$f":"INDEX(Table!F:F,MATCH(AA7,Table!$B:$B,0))","v":"Alan Rogers"},{"$f":"INDEX(Table!G:G,MATCH(AA7,Table!$B:$B,0))","v":36.04000000000002},"B3",{"$f":"INDEX(Table!$F:$F,MATCH(AD7,Table!$B:$B,0))","v":"Nigel Heyes"},{"$f":"INDEX(Table!$G:$G,MATCH(AD7,Table!$B:$B,0))","v":43.156393939393929},"C3",{"$f":"INDEX(Table!$F:$F,MATCH(AG7,Table!$B:$B,0))","v":"Paul Fairhurst"},{"$f":"INDEX(Table!$G:$G,MATCH(AG7,Table!$B:$B,0))","v":130.96023391812867},"D3",{"$f":"INDEX(Table!$F:$F,MATCH(AJ7,Table!$B:$B,0))","v":"John Ronan"},{"$f":"INDEX(Table!$G:$G,MATCH(AJ7,Table!$B:$B,0))","v":44.840749999999993}]
["A4",null,4,{"$f":"INDEX(Table!G:G,MATCH($A8,Table!$B:$B,0))","v":22.661250000000003},{"$f":"INDEX(Table!H:H,MATCH($A8,Table!$B:$B,0))","v":21},{"$f":"INDEX(Table!F:F,MATCH($A8,Table!$B:$B,0))","v":"Alfie Davies"},{"$f":"INDEX(Table!I:I,MATCH($A8,Table!$B:$B,0))","v":50.275000000000006},{"$f":"INDEX(Table!J:J,MATCH($A8,Table!$B:$B,0))","v":3},null,4,5,{"$f":"INDEX(Weekly!E:E,MATCH($J8,Weekly!$B:$B,0))","v":"Dave Orrell"},null,{"$f":"INDEX(Weekly!A:A,MATCH($L8,Weekly!$E:$E,0))","v":24},{"$f":"INDEX(Weekly!D:D,MATCH($L8,Weekly!$E:$E,0))","v":"D"},{"$f":"INDEX(Table!D:D,MATCH($L8,Table!$F:$F,0))","v":4},{"$f":"INDEX(Weekly!F:F,MATCH($L8,Weekly!$E:$E,0))","v":3.7577530248033852},{"$f":"INDEX(Weekly!I:I,MATCH($L8,Weekly!$E:$E,0))","v":3},{"$f":"INDEX(Weekly!H:H,MATCH($L8,Weekly!$E:$E,0))","v":27.776499999999999},null,4,null,null,null,null,null,"A4",{"$f":"INDEX(Table!F:F,MATCH(AA8,Table!$B:$B,0))","v":"Alfie Davies"},{"$f":"INDEX(Table!G:G,MATCH(AA8,Table!$B:$B,0))","v":22.661250000000003},"B4",{"$f":"INDEX(Table!$F:$F,MATCH(AD8,Table!$B:$B,0))","v":"Kei Lok Ma"},{"$f":"INDEX(Table!$G:$G,MATCH(AD8,Table!$B:$B,0))","v":37.019999999999996},"C4",{"$f":"INDEX(Table!$F:$F,MATCH(AG8,Table!$B:$B,0))","v":"Charlie Griffiths"},{"$f":"INDEX(Table!$G:$G,MATCH(AG8,Table!$B:$B,0))","v":63.657605769230756},"D4",{"$f":"INDEX(Table!$F:$F,MATCH(AJ8,Table!$B:$B,0))","v":"Dave Orrell"},{"$f":"INDEX(Table!$G:$G,MATCH(AJ8,Table!$B:$B,0))","v":3.7577530248033852}]
["A5",null,5,{"$f":"INDEX(Table!G:G,MATCH($A9,Table!$B:$B,0))","v":13.422500000000008},{"$f":"INDEX(Table!H:H,MATCH($A9,Table!$B:$B,0))","v":28},{"$f":"INDEX(Table!F:F,MATCH($A9,Table!$B:$B,0))","v":"Mark Saunders"},{"$f":"INDEX(Table!I:I,MATCH($A9,Table!$B:$B,0))","v":4.6666666666666661},{"$f":"INDEX(Table!J:J,MATCH($A9,Table!$B:$B,0))","v":2},null,5,null,{"$f":"INDEX(Weekly!E:E,MATCH($J9,Weekly!$B:$B,0))","v":"Graham Miller"},null,{"$f":"INDEX(Weekly!A:A,MATCH($L9,Weekly!$E:$E,0))","v":34},{"$f":"INDEX(Weekly!D:D,MATCH($L9,Weekly!$E:$E,0))","v":"D"},{"$f":"INDEX(Table!D:D,MATCH($L9,Table!$F:$F,0))","v":6},{"$f":"INDEX(Weekly!F:F,MATCH($L9,Weekly!$E:$E,0))","v":-24.313397435897436},{"$f":"INDEX(Weekly!I:I,MATCH($L9,Weekly!$E:$E,0))","v":3},{"$f":"INDEX(Weekly!H:H,MATCH($L9,Weekly!$E:$E,0))","v":18.590909090909093},null,5,null,null,null,null,null,"A5",{"$f":"INDEX(Table!F:F,MATCH(AA9,Table!$B:$B,0))","v":"Mark Saunders"},{"$f":"INDEX(Table!G:G,MATCH(AA9,Table!$B:$B,0))","v":13.422500000000008},"B5",{"$f":"INDEX(Table!$F:$F,MATCH(AD9,Table!$B:$B,0))","v":"Steve Baxter"},{"$f":"INDEX(Table!$G:$G,MATCH(AD9,Table!$B:$B,0))","v":13.324233821733827},"C5",{"$f":"INDEX(Table!$F:$F,MATCH(AG9,Table!$B:$B,0))","v":"Sally Williams"},{"$f":"INDEX(Table!$G:$G,MATCH(AG9,Table!$B:$B,0))","v":47.024749999999997},"D5",{"$f":"INDEX(Table!$F:$F,MATCH(AJ9,Table!$B:$B,0))","v":"Joel Bent"},{"$f":"INDEX(Table!$G:$G,MATCH(AJ9,Table!$B:$B,0))","v":-16.478571428571424}]
["A6",null,6,{"$f":"INDEX(Table!G:G,MATCH($A10,Table!$B:$B,0))","v":8.9732954545454593},{"$f":"INDEX(Table!H:H,MATCH($A10,Table!$B:$B,0))","v":20},{"$f":"INDEX(Table!F:F,MATCH($A10,Table!$B:$B,0))","v":"Alick Rocca"},{"$f":"INDEX(Table!I:I,MATCH($A10,Table!$B:$B,0))","v":-7},{"$f":"INDEX(Table!J:J,MATCH($A10,Table!$B:$B,0))","v":0},null,6,null,{"$f":"INDEX(Weekly!E:E,MATCH($J10,Weekly!$B:$B,0))","v":"Liam Wah"},null,{"$f":"INDEX(Weekly!A:A,MATCH($L10,Weekly!$E:$E,0))","v":52},{"$f":"INDEX(Weekly!D:D,MATCH($L10,Weekly!$E:$E,0))","v":"C"},{"$f":"INDEX(Table!D:D,MATCH($L10,Table!$F:$F,0))","v":14},{"$f":"INDEX(Weekly!F:F,MATCH($L10,Weekly!$E:$E,0))","v":-51.192272727272737},{"$f":"INDEX(Weekly!I:I,MATCH($L10,Weekly!$E:$E,0))","v":2},{"$f":"INDEX(Weekly!H:H,MATCH($L10,Weekly!$E:$E,0))","v":8.25},null,6,null,null,null,null,null,"A6",{"$f":"INDEX(Table!F:F,MATCH(AA10,Table!$B:$B,0))","v":"Alick Rocca"},{"$f":"INDEX(Table!G:G,MATCH(AA10,Table!$B:$B,0))","v":8.9732954545454593},"B6",{"$f":"INDEX(Table!$F:$F,MATCH(AD10,Table!$B:$B,0))","v":"Andy White"},{"$f":"INDEX(Table!$G:$G,MATCH(AD10,Table!$B:$B,0))","v":8.2256508264462873},"C6",{"$f":"INDEX(Table!$F:$F,MATCH(AG10,Table!$B:$B,0))","v":"Mal Stott"},{"$f":"INDEX(Table!$G:$G,MATCH(AG10,Table!$B:$B,0))","v":10.153749999999999},"D6",{"$f":"INDEX(Table!$F:$F,MATCH(AJ10,Table!$B:$B,0))","v":"Graham Miller"},{"$f":"INDEX(Table!$G:$G,MATCH(AJ10,Table!$B:$B,0))","v":-24.313397435897436}]
["B1","Division B",1,{"$f":"INDEX(Table!G:G,MATCH($A11,Table!$B:$B,0))","v":488.92794705294693},{"$f":"INDEX(Table!H:H,MATCH($A11,Table!$B:$B,0))","v":24},{"$f":"INDEX(Table!F:F,MATCH($A11,Table!$B:$B,0))","v":"Barry Birchall"},{"$f":"INDEX(Table!I:I,MATCH($A11,Table!$B:$B,0))","v":-7},{"$f":"INDEX(Table!J:J,MATCH($A11,Table!$B:$B,0))","v":0},null,7,null,{"$f":"INDEX(Weekly!E:E,MATCH($J11,Weekly!$B:$B,0))","v":"Martin Molyneux"},null,{"$f":"INDEX(Weekly!A:A,MATCH($L11,Weekly!$E:$E,0))","v":46},{"$f":"INDEX(Weekly!D:D,MATCH($L11,Weekly!$E:$E,0))","v":"B"},{"$f":"INDEX(Table!D:D,MATCH($L11,Table!$F:$F,0))","v":12},{"$f":"INDEX(Weekly!F:F,MATCH($L11,Weekly!$E:$E,0))","v":-42.375547785547781},{"$f":"INDEX(Weekly!I:I,MATCH($L11,Weekly!$E:$E,0))","v":2},{"$f":"INDEX(Weekly!H:H,MATCH($L11,Weekly!$E:$E,0))","v":5.6363636363636367},null,7,null,null,null,null,null,"A7",{"$f":"INDEX(Table!F:F,MATCH(AA11,Table!$B:$B,0))","v":"Stephen Barr"},{"$f":"INDEX(Table!G:G,MATCH(AA11,Table!$B:$B,0))","v":7.9334696969696976},"B7",{"$f":"INDEX(Table!$F:$F,MATCH(AD11,Table!$B:$B,0))","v":"Phil Miller"},{"$f":"INDEX(Table!$G:$G,MATCH(AD11,Table!$B:$B,0))","v":-7.9911472231472196},"C7",{"$f":"INDEX(Table!$F:$F,MATCH(AG11,Table!$B:$B,0))","v":"Chris Griffin"},{"$f":"INDEX(Table!$G:$G,MATCH(AG11,Table!$B:$B,0))","v":5.8090340909090923},"D7",{"$f":"INDEX(Table!$F:$F,MATCH(AJ11,Table!$B:$B,0))","v":"Nick Blocksidge"},{"$f":"INDEX(Table!$G:$G,MATCH(AJ11,Table!$B:$B,0))","v":-26.964920079920081}]
["B2",null,2,{"$f":"INDEX(Table!G:G,MATCH($A12,Table!$B:$B,0))","v":117.90765517241378},{"$f":"INDEX(Table!H:H,MATCH($A12,Table!$B:$B,0))","v":22},{"$f":"INDEX(Table!F:F,MATCH($A12,Table!$B:$B,0))","v":"Pete Baron"},{"$f":"INDEX(Table!I:I,MATCH($A12,Table!$B:$B,0))","v":-4},{"$f":"INDEX(Table!J:J,MATCH($A12,Table!$B:$B,0))","v":1},null,8,null,{"$f":"INDEX(Weekly!E:E,MATCH($J12,Weekly!$B:$B,0))","v":"Mark Saunders"},null,{"$f":"INDEX(Weekly!A:A,MATCH($L12,Weekly!$E:$E,0))","v":17},{"$f":"INDEX(Weekly!D:D,MATCH($L12,Weekly!$E:$E,0))","v":"A"},{"$f":"INDEX(Table!D:D,MATCH($L12,Table!$F:$F,0))","v":5},{"$f":"INDEX(Weekly!F:F,MATCH($L12,Weekly!$E:$E,0))","v":13.422500000000008},{"$f":"INDEX(Weekly!I:I,MATCH($L12,Weekly!$E:$E,0))","v":2},{"$f":"INDEX(Weekly!H:H,MATCH($L12,Weekly!$E:$E,0))","v":4.6666666666666661},null,8,null,null,null,null,null,"A8",{"$f":"INDEX(Table!F:F,MATCH(AA12,Table!$B:$B,0))","v":"Chris Luck"},{"$f":"INDEX(Table!G:G,MATCH(AA12,Table!$B:$B,0))","v":-1.2805288461538442},"B8",{"$f":"INDEX(Table!$F:$F,MATCH(AD12,Table!$B:$B,0))","v":"Mark Bunn"},{"$f":"INDEX(Table!$G:$G,MATCH(AD12,Table!$B:$B,0))","v":-9.6373209549071603},"C8",{"$f":"INDEX(Table!$F:$F,MATCH(AG12,Table!$B:$B,0))","v":"Chris Townsend"},{"$f":"INDEX(Table!$G:$G,MATCH(AG12,Table!$B:$B,0))","v":-9.816388888888893},"D8",{"$f":"INDEX(Table!$F:$F,MATCH(AJ12,Table!$B:$B,0))","v":"Martin Tarbuck"},{"$f":"INDEX(Table!$G:$G,MATCH(AJ12,Table!$B:$B,0))","v":-27.779090909090904}]
["B3",null,3,{"$f":"INDEX(Table!G:G,MATCH($A13,Table!$B:$B,0))","v":43.156393939393929},{"$f":"INDEX(Table!H:H,MATCH($A13,Table!$B:$B,0))","v":30},{"$f":"INDEX(Table!F:F,MATCH($A13,Table!$B:$B,0))","v":"Nigel Heyes"},{"$f":"INDEX(Table!I:I,MATCH($A13,Table!$B:$B,0))","v":-3.8},{"$f":"INDEX(Table!J:J,MATCH($A13,Table!$B:$B,0))","v":1},null,9,null,{"$f":"INDEX(Weekly!E:E,MATCH($J13,Weekly!$B:$B,0))","v":"Kei Lok Ma"},null,{"$f":"INDEX(Weekly!A:A,MATCH($L13,Weekly!$E:$E,0))","v":14},{"$f":"INDEX(Weekly!D:D,MATCH($L13,Weekly!$E:$E,0))","v":"B"},{"$f":"INDEX(Table!D:D,MATCH($L13,Table!$F:$F,0))","v":4},{"$f":"INDEX(Weekly!F:F,MATCH($L13,Weekly!$E:$E,0))","v":37.019999999999996},{"$f":"INDEX(Weekly!I:I,MATCH($L13,Weekly!$E:$E,0))","v":2},{"$f":"INDEX(Weekly!H:H,MATCH($L13,Weekly!$E:$E,0))","v":4.1875},null,9,null,null,null,null,null,"A9",{"$f":"INDEX(Table!F:F,MATCH(AA13,Table!$B:$B,0))","v":"Steve Carter"},{"$f":"INDEX(Table!G:G,MATCH(AA13,Table!$B:$B,0))","v":-10.941628787878789},"B9",{"$f":"INDEX(Table!$F:$F,MATCH(AD13,Table!$B:$B,0))","v":"Vinny Topping"},{"$f":"INDEX(Table!$G:$G,MATCH(AD13,Table!$B:$B,0))","v":-11.956666666666665},"C9",{"$f":"INDEX(Table!$F:$F,MATCH(AG13,Table!$B:$B,0))","v":"Alan White"},{"$f":"INDEX(Table!$G:$G,MATCH(AG13,Table!$B:$B,0))","v":-26.993590909090912},"D9",{"$f":"INDEX(Table!$F:$F,MATCH(AJ13,Table!$B:$B,0))","v":"Ashley Houghton"},{"$f":"INDEX(Table!$G:$G,MATCH(AJ13,Table!$B:$B,0))","v":-44.976351981351982}]
["B4",null,4,{"$f":"INDEX(Table!G:G,MATCH($A14,Table!$B:$B,0))","v":37.019999999999996},{"$f":"INDEX(Table!H:H,MATCH($A14,Table!$B:$B,0))","v":19},{"$f":"INDEX(Table!F:F,MATCH($A14,Table!$B:$B,0))","v":"Kei Lok Ma"},{"$f":"INDEX(Table!I:I,MATCH($A14,Table!$B:$B,0))","v":4.1875},{"$f":"INDEX(Table!J:J,MATCH($A14,Table!$B:$B,0))","v":2},null,10,null,{"$f":"INDEX(Weekly!E:E,MATCH($J14,Weekly!$B:$B,0))","v":"Gareth McGuire"},null,{"$f":"INDEX(Weekly!A:A,MATCH($L14,Weekly!$E:$E,0))","v":37},{"$f":"INDEX(Weekly!D:D,MATCH($L14,Weekly!$E:$E,0))","v":"C"},{"$f":"INDEX(Table!D:D,MATCH($L14,Table!$F:$F,0))","v":10},{"$f":"INDEX(Weekly!F:F,MATCH($L14,Weekly!$E:$E,0))","v":-27.683581504702193},{"$f":"INDEX(Weekly!I:I,MATCH($L14,Weekly!$E:$E,0))","v":2},{"$f":"INDEX(Weekly!H:H,MATCH($L14,Weekly!$E:$E,0))","v":2.9800000000000004},null,10,null,null,null,null,null,"A10",{"$f":"INDEX(Table!F:F,MATCH(AA14,Table!$B:$B,0))","v":"Stephen Troop"},{"$f":"INDEX(Table!G:G,MATCH(AA14,Table!$B:$B,0))","v":-16.922115384615381},"B10",{"$f":"INDEX(Table!$F:$F,MATCH(AD14,Table!$B:$B,0))","v":"James Bell"},{"$f":"INDEX(Table!$G:$G,MATCH(AD14,Table!$B:$B,0))","v":-23.803333333333342},"C10",{"$f":"INDEX(Table!$F:$F,MATCH(AG14,Table!$B:$B,0))","v":"Gareth McGuire"},{"$f":"INDEX(Table!$G:$G,MATCH(AG14,Table!$B:$B,0))","v":-27.683581504702193},"D10",{"$f":"INDEX(Table!$F:$F,MATCH(AJ14,Table!$B:$B,0))","v":"Paul Adderley"},{"$f":"INDEX(Table!$G:$G,MATCH(AJ14,Table!$B:$B,0))","v":-50.316375291375287}]
["B5",null,5,{"$f":"INDEX(Table!G:G,MATCH($A15,Table!$B:$B,0))","v":13.324233821733827},{"$f":"INDEX(Table!H:H,MATCH($A15,Table!$B:$B,0))","v":28},{"$f":"INDEX(Table!F:F,MATCH($A15,Table!$B:$B,0))","v":"Steve Baxter"},{"$f":"INDEX(Table!I:I,MATCH($A15,Table!$B:$B,0))","v":-7},{"$f":"INDEX(Table!J:J,MATCH($A15,Table!$B:$B,0))","v":0},null,11,null,{"$f":"INDEX(Weekly!E:E,MATCH($J15,Weekly!$B:$B,0))","v":"Vinny Topping"},null,{"$f":"INDEX(Weekly!A:A,MATCH($L15,Weekly!$E:$E,0))","v":30},{"$f":"INDEX(Weekly!D:D,MATCH($L15,Weekly!$E:$E,0))","v":"B"},{"$f":"INDEX(Table!D:D,MATCH($L15,Table!$F:$F,0))","v":9},{"$f":"INDEX(Weekly!F:F,MATCH($L15,Weekly!$E:$E,0))","v":-11.956666666666665},{"$f":"INDEX(Weekly!I:I,MATCH($L15,Weekly!$E:$E,0))","v":2},{"$f":"INDEX(Weekly!H:H,MATCH($L15,Weekly!$E:$E,0))","v":2.2375000000000007},null,11,null,null,null,null,null,"A11",{"$f":"INDEX(Table!F:F,MATCH(AA15,Table!$B:$B,0))","v":"Oscar Jackson"},{"$f":"INDEX(Table!G:G,MATCH(AA15,Table!$B:$B,0))","v":-29.654873737373734},"B11",{"$f":"INDEX(Table!$F:$F,MATCH(AD15,Table!$B:$B,0))","v":"Paul Allen"},{"$f":"INDEX(Table!$G:$G,MATCH(AD15,Table!$B:$B,0))","v":-40.423553050397885},"C11",{"$f":"INDEX(Table!$F:$F,MATCH(AG15,Table!$B:$B,0))","v":"Paul Ridgeway"},{"$f":"INDEX(Table!$G:$G,MATCH(AG15,Table!$B:$B,0))","v":-29.867355769230773},"D11",{"$f":"INDEX(Table!$F:$F,MATCH(AJ15,Table!$B:$B,0))","v":"Ben Rosser"},{"$f":"INDEX(Table!$G:$G,MATCH(AJ15,Table!$B:$B,0))","v":-50.743749999999991}]
["B6",null,6,{"$f":"INDEX(Table!G:G,MATCH($A16,Table!$B:$B,0))","v":8.2256508264462873},{"$f":"INDEX(Table!H:H,MATCH($A16,Table!$B:$B,0))","v":25},{"$f":"INDEX(Table!F:F,MATCH($A16,Table!$B:$B,0))","v":"Andy White"},{"$f":"INDEX(Table!I:I,MATCH($A16,Table!$B:$B,0))","v":1.75},{"$f":"INDEX(Table!J:J,MATCH($A16,Table!$B:$B,0))","v":2},null,12,null,{"$f":"INDEX(Weekly!E:E,MATCH($J16,Weekly!$B:$B,0))","v":"Andy White"},null,{"$f":"INDEX(Weekly!A:A,MATCH($L16,Weekly!$E:$E,0))","v":21},{"$f":"INDEX(Weekly!D:D,MATCH($L16,Weekly!$E:$E,0))","v":"B"},{"$f":"INDEX(Table!D:D,MATCH($L16,Table!$F:$F,0))","v":6},{"$f":"INDEX(Weekly!F:F,MATCH($L16,Weekly!$E:$E,0))","v":8.2256508264462873},{"$f":"INDEX(Weekly!I:I,MATCH($L16,Weekly!$E:$E,0))","v":2},{"$f":"INDEX(Weekly!H:H,MATCH($L16,Weekly!$E:$E,0))","v":1.75},null,12,null,null,null,null,null,"A12",{"$f":"INDEX(Table!F:F,MATCH(AA16,Table!$B:$B,0))","v":"Paul Fiddler"},{"$f":"INDEX(Table!G:G,MATCH(AA16,Table!$B:$B,0))","v":-35.569691142191139},"B12",{"$f":"INDEX(Table!$F:$F,MATCH(AD16,Table!$B:$B,0))","v":"Martin Molyneux"},{"$f":"INDEX(Table!$G:$G,MATCH(AD16,Table!$B:$B,0))","v":-42.375547785547781},"C12",{"$f":"INDEX(Table!$F:$F,MATCH(AG16,Table!$B:$B,0))","v":"David Dunn"},{"$f":"INDEX(Table!$G:$G,MATCH(AG16,Table!$B:$B,0))","v":-30.395070207570203},"D12",{"$f":"INDEX(Table!$F:$F,MATCH(AJ16,Table!$B:$B,0))","v":"Simon Greenhalgh"},{"$f":"INDEX(Table!$G:$G,MATCH(AJ16,Table!$B:$B,0))","v":-62.194318181818183}]
["C1","Division C",1,{"$f":"INDEX(Table!G:G,MATCH($A17,Table!$B:$B,0))","v":871.83333333333348},{"$f":"INDEX(Table!H:H,MATCH($A17,Table!$B:$B,0))","v":19},{"$f":"INDEX(Table!F:F,MATCH($A17,Table!$B:$B,0))","v":"Andy Charleston"},{"$f":"INDEX(Table!I:I,MATCH($A17,Table!$B:$B,0))","v":-2.6666666666666661},{"$f":"INDEX(Table!J:J,MATCH($A17,Table!$B:$B,0))","v":1},null,null,null,null,null,null,null,null,null,null,null,null,13,null,null,null,null,null,"A13",{"$f":"INDEX(Table!F:F,MATCH(AA17,Table!$B:$B,0))","v":"Lennie Bow"},{"$f":"INDEX(Table!G:G,MATCH(AA17,Table!$B:$B,0))","v":-36.608435314685316},"B13",{"$f":"INDEX(Table!$F:$F,MATCH(AD17,Table!$B:$B,0))","v":"Tom Robinson"},{"$f":"INDEX(Table!$G:$G,MATCH(AD17,Table!$B:$B,0))","v":-52.165757575757581},"C13",{"$f":"INDEX(Table!$F:$F,MATCH(AG17,Table!$B:$B,0))","v":"Jack Walsh"},{"$f":"INDEX(Table!$G:$G,MATCH(AG17,Table!$B:$B,0))","v":-35.786947940947947},"D13",{"$f":"INDEX(Table!$F:$F,MATCH(AJ17,Table!$B:$B,0))","v":"Lewis Buckley"},{"$f":"INDEX(Table!$G:$G,MATCH(AJ17,Table!$B:$B,0))","v":-105.235}]
["C2",null,2,{"$f":"INDEX(Table!G:G,MATCH($A18,Table!$B:$B,0))","v":225.32410984848482},{"$f":"INDEX(Table!H:H,MATCH($A18,Table!$B:$B,0))","v":26},{"$f":"INDEX(Table!F:F,MATCH($A18,Table!$B:$B,0))","v":"Chris Bow"},{"$f":"INDEX(Table!I:I,MATCH($A18,Table!$B:$B,0))","v":-2.6666666666666661},{"$f":"INDEX(Table!J:J,MATCH($A18,Table!$B:$B,0))","v":1},null,null,"Up & Down",null,"Result & Odds #1 ",null,"Result & Odds #2",null,null,"+","Picks",null,14,null,null,null,null,null,"A14",{"$f":"INDEX(Table!F:F,MATCH(AA18,Table!$B:$B,0))","v":"Mo Sudell"},{"$f":"INDEX(Table!G:G,MATCH(AA18,Table!$B:$B,0))","v":-43.033850149850153},"B14",{"$f":"INDEX(Table!$F:$F,MATCH(AD18,Table!$B:$B,0))","v":"John Evans"},{"$f":"INDEX(Table!$G:$G,MATCH(AD18,Table!$B:$B,0))","v":-53.54},"C14",{"$f":"INDEX(Table!$F:$F,MATCH(AG18,Table!$B:$B,0))","v":"Liam Wah"},{"$f":"INDEX(Table!$G:$G,MATCH(AG18,Table!$B:$B,0))","v":-51.192272727272737},"D14",{"$f":"INDEX(Table!$F:$F,MATCH(AJ18,Table!$B:$B,0))","v":"Dan Baxter"},{"$f":"INDEX(Table!$G:$G,MATCH(AJ18,Table!$B:$B,0))","v":-116}]
["C3",null,3,{"$f":"INDEX(Table!G:G,MATCH($A19,Table!$B:$B,0))","v":130.96023391812867},{"$f":"INDEX(Table!H:H,MATCH($A19,Table!$B:$B,0))","v":15},{"$f":"INDEX(Table!F:F,MATCH($A19,Table!$B:$B,0))","v":"Paul Fairhurst"},{"$f":"INDEX(Table!I:I,MATCH($A19,Table!$B:$B,0))","v":-7},{"$f":"INDEX(Table!J:J,MATCH($A19,Table!$B:$B,0))","v":0},null,null,"Top Nap ↑",null,"Newcastle",{"$f":"IF(M19=\"\",\"\",INDEX(Picks!K:K,MATCH(M19,Picks!J:J,0)))","v":"5/4"},null,null,{"$f":"IF(O19=\"\",\"\",INDEX(Picks!K:K,MATCH(O19,Picks!J:J,0)))","v":""},null,{"$f":"IF(M19=\"\",\"\",INDEX(TopPicks!K:K,MATCH(M19,TopPicks!I:I,0)))","v":9},null,15,null,null,null,null,null,"A15",{"$f":"INDEX(Table!F:F,MATCH(AA19,Table!$B:$B,0))","v":"Kevin Carter"},{"$f":"INDEX(Table!G:G,MATCH(AA19,Table!$B:$B,0))","v":-44.91508806008806},"B15",{"$f":"INDEX(Table!$F:$F,MATCH(AD19,Table!$B:$B,0))","v":"Gareth Powell"},{"$f":"INDEX(Table!$G:$G,MATCH(AD19,Table!$B:$B,0))","v":-64.975769230769231},"C15",{"$f":"INDEX(Table!$F:$F,MATCH(AG19,Table!$B:$B,0))","v":"Ian Davies"},{"$f":"INDEX(Table!$G:$G,MATCH(AG19,Table!$B:$B,0))","v":-68.06},"D15"]
["C4",null,4,{"$f":"INDEX(Table!G:G,MATCH($A20,Table!$B:$B,0))","v":63.657605769230756},{"$f":"INDEX(Table!H:H,MATCH($A20,Table!$B:$B,0))","v":22},{"$f":"INDEX(Table!F:F,MATCH($A20,Table!$B:$B,0))","v":"Charlie Griffiths"},{"$f":"INDEX(Table!I:I,MATCH($A20,Table!$B:$B,0))","v":-7},{"$f":"INDEX(Table!J:J,MATCH($A20,Table!$B:$B,0))","v":0},null,null,"Coupon-Buster ↓",null,"Wolves",{"$f":"IF(M20=\"\",\"\",INDEX(Picks!K:K,MATCH(M20,Picks!J:J,0)))","v":"13/10"},null,null,null,{"$f":"IF(O20=\"\",\"\",INDEX(Picks!K:K,MATCH(O20,Picks!J:J,0)))","v":""},{"$f":"IF(M20=\"\",\"\",INDEX(TopPicks!J:J,MATCH(M20,TopPicks!I:I,0)))","v":8},null,16,null,null,null,null,null,"A16",{"$f":"INDEX(Table!F:F,MATCH(AA20,Table!$B:$B,0))","v":"Rob England"},{"$f":"INDEX(Table!G:G,MATCH(AA20,Table!$B:$B,0))","v":-63.055561302681994},"B16",{"$f":"INDEX(Table!$F:$F,MATCH(AD20,Table!$B:$B,0))","v":"Dave Bell"},{"$f":"INDEX(Table!$G:$G,MATCH(AD20,Table!$B:$B,0))","v":-65.466666666666669},"C16",{"$f":"INDEX(Table!$F:$F,MATCH(AG20,Table!$B:$B,0))","v":"Gareth Fallows"},{"$f":"INDEX(Table!$G:$G,MATCH(AG20,Table!$B:$B,0))","v":-119},"D16"]
["C5",null,5,{"$f":"INDEX(Table!G:G,MATCH($A21,Table!$B:$B,0))","v":47.024749999999997},{"$f":"INDEX(Table!H:H,MATCH($A21,Table!$B:$B,0))","v":18},{"$f":"INDEX(Table!F:F,MATCH($A21,Table!$B:$B,0))","v":"Sally Williams"},{"$f":"INDEX(Table!I:I,MATCH($A21,Table!$B:$B,0))","v":-4},{"$f":"INDEX(Table!J:J,MATCH($A21,Table!$B:$B,0))","v":1},null,null,"Long Shot 🤞",null,"Result & Odds #1 ",null,"First \"Long-Odder\"",null,null,"+ other(s)",null,null,17,null,null,null,null,null,null,null,null,null,null,null,null,null,null,"D17"]
["C6",null,6,{"$f":"INDEX(Table!G:G,MATCH($A22,Table!$B:$B,0))","v":10.153749999999999},{"$f":"INDEX(Table!H:H,MATCH($A22,Table!$B:$B,0))","v":17},{"$f":"INDEX(Table!F:F,MATCH($A22,Table!$B:$B,0))","v":"Mal Stott"},{"$f":"INDEX(Table!I:I,MATCH($A22,Table!$B:$B,0))","v":-7},{"$f":"INDEX(Table!J:J,MATCH($A22,Table!$B:$B,0))","v":0},null,null,"Longest odds in",null,"Everton",{"$f":"IF(M22=\"\",\"\",INDEX(Picks!K:K,MATCH(M22,Picks!J:J,0)))","v":"10/3"},{"$f":"IF($M$22=\"\",\"\",INDEX(Picks!$A:$A,MATCH($M$22,Picks!$J:$J,0)))","v":"Andy Charleston"},null,null,"D Bell/C Bow",null,null,18,null,null,null,null,null,null,null,null,null,null,null,null,null,null,"D18"]
["D1","Division D",1,{"$f":"INDEX(Table!G:G,MATCH($A23,Table!$B:$B,0))","v":86.010881410256417},{"$f":"INDEX(Table!H:H,MATCH($A23,Table!$B:$B,0))","v":22},{"$f":"INDEX(Table!F:F,MATCH($A23,Table!$B:$B,0))","v":"Paul Barnes"},{"$f":"INDEX(Table!I:I,MATCH($A23,Table!$B:$B,0))","v":-7},{"$f":"INDEX(Table!J:J,MATCH($A23,Table!$B:$B,0))","v":0},null,null,null,null,null,null,null,null,null,null,null,null,19,null,null,null,null,null,null,null,null,null,null,null,null,null,null,"D19"]
["D2",null,2,{"$f":"INDEX(Table!G:G,MATCH($A24,Table!$B:$B,0))","v":48.005633116883118},{"$f":"INDEX(Table!H:H,MATCH($A24,Table!$B:$B,0))","v":22},{"$f":"INDEX(Table!F:F,MATCH($A24,Table!$B:$B,0))","v":"Howard Bradley"},{"$f":"INDEX(Table!I:I,MATCH($A24,Table!$B:$B,0))","v":0.58181818181818201},{"$f":"INDEX(Table!J:J,MATCH($A24,Table!$B:$B,0))","v":2},null,null,"Man or mouse?",null,null,null,null,null,null,null,null,null,20,null,null,null,null,null,null,null,null,null,null,null,null,null,null,"D20"]
["D3",null,3,{"$f":"INDEX(Table!G:G,MATCH($A25,Table!$B:$B,0))","v":44.840749999999993},{"$f":"INDEX(Table!H:H,MATCH($A25,Table!$B:$B,0))","v":23},{"$f":"INDEX(Table!F:F,MATCH($A25,Table!$B:$B,0))","v":"John Ronan"},{"$f":"INDEX(Table!I:I,MATCH($A25,Table!$B:$B,0))","v":0},{"$f":"INDEX(Table!J:J,MATCH($A25,Table!$B:$B,0))","v":2},null,null,"Bravest Max! 👊 ",null,{"$f":"INDEX(Picks!AI:AI,MATCH(O25,Picks!AJ:AJ,0))","v":"Rob England"},null,{"$f":"MAX(Picks!AJ:AJ)","v":238},{"$f":"IF(O25=\"\",\"\",(INDEX(Picks!AK:AK,MATCH(O25,Picks!AJ:AJ,0)))&\" in\")","v":"1 in"}]
["D4",null,4,{"$f":"INDEX(Table!G:G,MATCH($A26,Table!$B:$B,0))","v":3.7577530248033852},{"$f":"INDEX(Table!H:H,MATCH($A26,Table!$B:$B,0))","v":23},{"$f":"INDEX(Table!F:F,MATCH($A26,Table!$B:$B,0))","v":"Dave Orrell"},{"$f":"INDEX(Table!I:I,MATCH($A26,Table!$B:$B,0))","v":27.776499999999999},{"$f":"INDEX(Table!J:J,MATCH($A26,Table!$B:$B,0))","v":3},null,null,"Mardest Max! 👶",null,{"$f":"INDEX(Picks!AI:AI,MATCH(O26,Picks!AJ:AJ,0))","v":"Steve Baxter"},null,{"$f":"MIN(Picks!AJ:AJ)","v":9.5},{"$f":"IF(O26=\"\",\"\",(INDEX(Picks!AK:AK,MATCH(O26,Picks!AJ:AJ,0)))&\" in\")","v":"0 in"}]
["D5",null,5,{"$f":"INDEX(Table!G:G,MATCH($A27,Table!$B:$B,0))","v":-16.478571428571424},{"$f":"INDEX(Table!H:H,MATCH($A27,Table!$B:$B,0))","v":11},{"$f":"INDEX(Table!F:F,MATCH($A27,Table!$B:$B,0))","v":"Joel Bent"},{"$f":"INDEX(Table!I:I,MATCH($A27,Table!$B:$B,0))","v":-7},{"$f":"INDEX(Table!J:J,MATCH($A27,Table!$B:$B,0))","v":0}]
["D6",null,6,{"$f":"INDEX(Table!G:G,MATCH($A28,Table!$B:$B,0))","v":-24.313397435897436},{"$f":"INDEX(Table!H:H,MATCH($A28,Table!$B:$B,0))","v":20},{"$f":"INDEX(Table!F:F,MATCH($A28,Table!$B:$B,0))","v":"Graham Miller"},{"$f":"INDEX(Table!I:I,MATCH($A28,Table!$B:$B,0))","v":18.590909090909093},{"$f":"INDEX(Table!J:J,MATCH($A28,Table!$B:$B,0))","v":3},null,"`","How did we all do?",null,{"$f":"\"No submission = \"&Picks!$AN1","v":"No submission = 4"}]
[null,null,null,null,null,null,null,null,null,null,"3 in",null,"2 in","1 in",null,null,"0 in"]
[null,null,null,null,null,null,null,null,null,null,{"$f":"'3of3'!$B$5","v":5},null,{"$f":"'3of3'!$B$6","v":18},{"$f":"'3of3'!$B$7","v":22},null,null,{"$f":"'3of3'!$B$8","v":17}]
[null,null,null,null,null,null,null,null,null,null,null,null,null,null,null,null,null,null,null,null,null,null,null,null,null,null,null,null,{"$f":"'3of3'!$B$5","v":5},null,"K29"]
[null,null,null,null,null,null,null,null,null,null,null,null,null,null,null,null,null,null,null,null,null,null,null,null,null,null,null,null,{"$f":"'3of3'!$B$6","v":18},null,"M29"]
[null,null,null,null,null,null,null,null,null,null,null,null,null,null,null,null,null,null,"Put back to M25",null,null,null,null,null,null,null,null,null,{"$f":"'3of3'!$B$7","v":22},null,"O29"]
[null,null,null,null,null,null,null,null,null,null,null,null,null,null,null,null,null,null,{"$f":"MIN(Picks!AJ:AJ)","v":9.5},null,null,null,null,null,null,null,null,null,{"$f":"'3of3'!$B$8","v":17},null,"Q29"]
[]
[null,null,null,null,null,null,null,null,null,null,null,null,null,null,null,null,null,null,"Put back to M22"]
[null,null,null,null,null,null,null,null,null,null,null,null,null,null,null,null,null,null,{"$f":"MAX(Picks!AJ:AJ)","v":238}]
[]
[null,null,null,null,null,null,null,null,null,null,null,null,null,null,null,null,null,null,"Put back to O21"]
[null,null,null,null,null,null,null,null,null,null,null,null,null,null,null,null,null,null,{"$f":"IF($M$22=\"\",\"\",INDEX(Picks!$A:$A,MATCH($M$22,Picks!$J:$J,0)))","v":"Andy Charleston"}]

{"sheet":"PizzaRace","index":14,"n_rows":30,"n_cols":12,"rows_kept":30,"cut":false,"hidden":false,"merged":[]}
[null,"Total\nScore","Total\nCorrect","Max Score\nThis Week","Act Score\nThis Week","Week\nCorrect","Week\nRank",null,null,"Max Score\nThis Week","Act Score\nThis Week","Season\nSo Far"]
["John Evans",{"$f":"IF(A2=\"\",\"\",INDEX(Table!G:G,MATCH(A2,Table!$F:$F,0)))","v":-53.54},{"$f":"IF(A2=\"\",\"\",INDEX(Table!H:H,MATCH(A2,Table!$F:$F,0)))","v":14},{"$f":"IF(A2=\"\",\"\",IF(ISERROR(INDEX(Results!AI:AI,MATCH(A2,Results!$V:$V,0))),\"TBC\",INDEX(Results!AI:AI,MATCH(A2,Results!$V:$V,0))))","v":50.996874999999996},{"$f":"IF(A2=\"\",\"\",INDEX(Table!I:I,MATCH(A2,Table!$F:$F,0)))","v":-3.8},{"$f":"IF(A2=\"\",\"\",INDEX(Table!J:J,MATCH(A2,Table!$F:$F,0)))","v":1},{"$f":"IF(A2=\"\",\"\",INDEX(Picks!AG:AG,MATCH(A2,Picks!$AD:$AD,0)))","v":28},null,"Chris Griffin",{"$f":"IF(I2=\"\",\"\",IF(ISERROR(INDEX(Results!AI:AI,MATCH(I2,Results!$V:$V,0))),\"TBC\",INDEX(Results!AI:AI,MATCH(I2,Results!$V:$V,0))))","v":24.174999999999997},{"$f":"IF(I2=\"\",\"\",IF(ISERROR(INDEX(Results!T:T,MATCH(I2,Results!$V:$V,0))),\"TBC\",INDEX(Results!T:T,MATCH(I2,Results!$V:$V,0))))","v":1.75},{"$f":"IF(I2=\"\",\"\",INDEX(Table!G:G,MATCH(I2,Table!$F:$F,0)))","v":5.8090340909090923}]
["Mo Sudell",{"$f":"IF(A3=\"\",\"\",INDEX(Table!G:G,MATCH(A3,Table!$F:$F,0)))","v":-43.033850149850153},{"$f":"IF(A3=\"\",\"\",INDEX(Table!H:H,MATCH(A3,Table!$F:$F,0)))","v":20},{"$f":"IF(A3=\"\",\"\",IF(ISERROR(INDEX(Results!AI:AI,MATCH(A3,Results!$V:$V,0))),\"TBC\",INDEX(Results!AI:AI,MATCH(A3,Results!$V:$V,0))))","v":17.84},{"$f":"IF(A3=\"\",\"\",INDEX(Table!I:I,MATCH(A3,Table!$F:$F,0)))","v":-5.384615384615385},{"$f":"IF(A3=\"\",\"\",INDEX(Table!J:J,MATCH(A3,Table!$F:$F,0)))","v":1},{"$f":"IF(A3=\"\",\"\",INDEX(Picks!AG:AG,MATCH(A3,Picks!$AD:$AD,0)))","v":45},null,"Mo Sudell",{"$f":"IF(I3=\"\",\"\",IF(ISERROR(INDEX(Results!AI:AI,MATCH(I3,Results!$V:$V,0))),\"TBC\",INDEX(Results!AI:AI,MATCH(I3,Results!$V:$V,0))))","v":17.84},{"$f":"IF(I3=\"\",\"\",IF(ISERROR(INDEX(Results!T:T,MATCH(I3,Results!$V:$V,0))),\"TBC\",INDEX(Results!T:T,MATCH(I3,Results!$V:$V,0))))","v":-5.384615384615385},{"$f":"IF(I3=\"\",\"\",INDEX(Table!G:G,MATCH(I3,Table!$F:$F,0)))","v":-43.033850149850153}]
["Paul Fiddler",{"$f":"IF(A4=\"\",\"\",INDEX(Table!G:G,MATCH(A4,Table!$F:$F,0)))","v":-35.569691142191139},{"$f":"IF(A4=\"\",\"\",INDEX(Table!H:H,MATCH(A4,Table!$F:$F,0)))","v":23},{"$f":"IF(A4=\"\",\"\",IF(ISERROR(INDEX(Results!AI:AI,MATCH(A4,Results!$V:$V,0))),\"TBC\",INDEX(Results!AI:AI,MATCH(A4,Results!$V:$V,0))))","v":16.544},{"$f":"IF(A4=\"\",\"\",INDEX(Table!I:I,MATCH(A4,Table!$F:$F,0)))","v":-5.05},{"$f":"IF(A4=\"\",\"\",INDEX(Table!J:J,MATCH(A4,Table!$F:$F,0)))","v":1},{"$f":"IF(A4=\"\",\"\",INDEX(Picks!AG:AG,MATCH(A4,Picks!$AD:$AD,0)))","v":41},null,"Andy Charleston",{"$f":"IF(I4=\"\",\"\",IF(ISERROR(INDEX(Results!AI:AI,MATCH(I4,Results!$V:$V,0))),\"TBC\",INDEX(Results!AI:AI,MATCH(I4,Results!$V:$V,0))))","v":134.22222222222223},{"$f":"IF(I4=\"\",\"\",IF(ISERROR(INDEX(Results!T:T,MATCH(I4,Results!$V:$V,0))),\"TBC\",INDEX(Results!T:T,MATCH(I4,Results!$V:$V,0))))","v":-2.6666666666666661},{"$f":"IF(I4=\"\",\"\",INDEX(Table!G:G,MATCH(I4,Table!$F:$F,0)))","v":871.83333333333348}]
["Chris Griffin",{"$f":"IF(A5=\"\",\"\",INDEX(Table!G:G,MATCH(A5,Table!$F:$F,0)))","v":5.8090340909090923},{"$f":"IF(A5=\"\",\"\",INDEX(Table!H:H,MATCH(A5,Table!$F:$F,0)))","v":29},{"$f":"IF(A5=\"\",\"\",IF(ISERROR(INDEX(Results!AI:AI,MATCH(A5,Results!$V:$V,0))),\"TBC\",INDEX(Results!AI:AI,MATCH(A5,Results!$V:$V,0))))","v":24.174999999999997},{"$f":"IF(A5=\"\",\"\",INDEX(Table!I:I,MATCH(A5,Table!$F:$F,0)))","v":1.75},{"$f":"IF(A5=\"\",\"\",INDEX(Table!J:J,MATCH(A5,Table!$F:$F,0)))","v":2},{"$f":"IF(A5=\"\",\"\",INDEX(Picks!AG:AG,MATCH(A5,Picks!$AD:$AD,0)))","v":12},null,"Paul Fiddler",{"$f":"IF(I5=\"\",\"\",IF(ISERROR(INDEX(Results!AI:AI,MATCH(I5,Results!$V:$V,0))),\"TBC\",INDEX(Results!AI:AI,MATCH(I5,Results!$V:$V,0))))","v":16.544},{"$f":"IF(I5=\"\",\"\",IF(ISERROR(INDEX(Results!T:T,MATCH(I5,Results!$V:$V,0))),\"TBC\",INDEX(Results!T:T,MATCH(I5,Results!$V:$V,0))))","v":-5.05},{"$f":"IF(I5=\"\",\"\",INDEX(Table!G:G,MATCH(I5,Table!$F:$F,0)))","v":-35.569691142191139}]
["Andy Charleston",{"$f":"IF(A6=\"\",\"\",INDEX(Table!G:G,MATCH(A6,Table!$F:$F,0)))","v":871.83333333333348},{"$f":"IF(A6=\"\",\"\",INDEX(Table!H:H,MATCH(A6,Table!$F:$F,0)))","v":19},{"$f":"IF(A6=\"\",\"\",IF(ISERROR(INDEX(Results!AI:AI,MATCH(A6,Results!$V:$V,0))),\"TBC\",INDEX(Results!AI:AI,MATCH(A6,Results!$V:$V,0))))","v":134.22222222222223},{"$f":"IF(A6=\"\",\"\",INDEX(Table!I:I,MATCH(A6,Table!$F:$F,0)))","v":-2.6666666666666661},{"$f":"IF(A6=\"\",\"\",INDEX(Table!J:J,MATCH(A6,Table!$F:$F,0)))","v":1},{"$f":"IF(A6=\"\",\"\",INDEX(Picks!AG:AG,MATCH(A6,Picks!$AD:$AD,0)))","v":25},null,"John Evans",{"$f":"IF(I6=\"\",\"\",IF(ISERROR(INDEX(Results!AI:AI,MATCH(I6,Results!$V:$V,0))),\"TBC\",INDEX(Results!AI:AI,MATCH(I6,Results!$V:$V,0))))","v":50.996874999999996},{"$f":"IF(I6=\"\",\"\",IF(ISERROR(INDEX(Results!T:T,MATCH(I6,Results!$V:$V,0))),\"TBC\",INDEX(Results!T:T,MATCH(I6,Results!$V:$V,0))))","v":-3.8},{"$f":"IF(I6=\"\",\"\",INDEX(Table!G:G,MATCH(I6,Table!$F:$F,0)))","v":-53.54}]
[null,null,{"$f":"IF(A7=\"\",\"\",INDEX(Table!H:H,MATCH(A7,Table!$F:$F,0)))","v":""}]
[null,null,{"$f":"IF(A8=\"\",\"\",INDEX(Table!H:H,MATCH(A8,Table!$F:$F,0)))","v":""}]
[null,null,{"$f":"IF(A9=\"\",\"\",INDEX(Table!H:H,MATCH(A9,Table!$F:$F,0)))","v":""}]
[null,null,{"$f":"IF(A10=\"\",\"\",INDEX(Table!H:H,MATCH(A10,Table!$F:$F,0)))","v":""}]
[null,null,{"$f":"IF(A11=\"\",\"\",INDEX(Table!H:H,MATCH(A11,Table!$F:$F,0)))","v":""}]
[null,null,{"$f":"IF(A12=\"\",\"\",INDEX(Table!H:H,MATCH(A12,Table!$F:$F,0)))","v":""}]
[null,null,{"$f":"IF(A13=\"\",\"\",INDEX(Table!H:H,MATCH(A13,Table!$F:$F,0)))","v":""}]
[null,null,{"$f":"IF(A14=\"\",\"\",INDEX(Table!H:H,MATCH(A14,Table!$F:$F,0)))","v":""}]
[null,null,{"$f":"IF(A15=\"\",\"\",INDEX(Table!H:H,MATCH(A15,Table!$F:$F,0)))","v":""}]
[null,null,{"$f":"IF(A16=\"\",\"\",INDEX(Table!H:H,MATCH(A16,Table!$F:$F,0)))","v":""}]
[null,null,{"$f":"IF(A17=\"\",\"\",INDEX(Table!H:H,MATCH(A17,Table!$F:$F,0)))","v":""}]
[null,null,{"$f":"IF(A18=\"\",\"\",INDEX(Table!H:H,MATCH(A18,Table!$F:$F,0)))","v":""}]
[null,null,{"$f":"IF(A19=\"\",\"\",INDEX(Table!H:H,MATCH(A19,Table!$F:$F,0)))","v":""}]
[null,null,{"$f":"IF(A20=\"\",\"\",INDEX(Table!H:H,MATCH(A20,Table!$F:$F,0)))","v":""}]
[null,null,{"$f":"IF(A21=\"\",\"\",INDEX(Table!H:H,MATCH(A21,Table!$F:$F,0)))","v":""}]
[null,null,{"$f":"IF(A22=\"\",\"\",INDEX(Table!H:H,MATCH(A22,Table!$F:$F,0)))","v":""}]
[null,null,{"$f":"IF(A23=\"\",\"\",INDEX(Table!H:H,MATCH(A23,Table!$F:$F,0)))","v":""}]
[null,null,{"$f":"IF(A24=\"\",\"\",INDEX(Table!H:H,MATCH(A24,Table!$F:$F,0)))","v":""}]
[null,null,{"$f":"IF(A25=\"\",\"\",INDEX(Table!H:H,MATCH(A25,Table!$F:$F,0)))","v":""}]
[null,null,{"$f":"IF(A26=\"\",\"\",INDEX(Table!H:H,MATCH(A26,Table!$F:$F,0)))","v":""}]
[null,null,{"$f":"IF(A27=\"\",\"\",INDEX(Table!H:H,MATCH(A27,Table!$F:$F,0)))","v":""}]
[null,null,{"$f":"IF(A28=\"\",\"\",INDEX(Table!H:H,MATCH(A28,Table!$F:$F,0)))","v":""}]
[null,null,{"$f":"IF(A29=\"\",\"\",INDEX(Table!H:H,MATCH(A29,Table!$F:$F,0)))","v":""}]
[null,null,{"$f":"IF(A30=\"\",\"\",INDEX(Table!H:H,MATCH(A30,Table!$F:$F,0)))","v":""}]

{"sheet":"CupDraw","index":15,"n_rows":93,"n_cols":31,"rows_kept":93,"cut":false,"hidden":false,"merged":[[86,8,87,8],[90,8,91,8],[1,14,2,14],[85,26,86,26],[84,14,85,14],[88,14,89,14],[69,26,70,26],[76,14,77,14],[80,14,81,14]]}
["Number of Entrants",62,null,null,null,"Draw #","Entrants",null,"Prelim",{"$f":"$C$14","v":""},null,null,"Score",null,"R1 (64)",{"$f":"$C$15","v":"2020-09-26"},null,null,"Score",null,"R2 (32)",{"$f":"$C$16","v":"2020-10-17"},null,null,"Score",null,"R3 (16)",{"$f":"$C$17","v":"2020-11-07"},null,null,"Score"]
["Number of rounds (7 if > 64 total)",6,null,null,null,1,"Gerard Ventom",null,1,null,null,{"$f":"IF(K2=\"\",\"\",IF(K2=K3,\"R\",\"\"))","v":""},{"$f":"INDEX(Results!T:T,MATCH(J2,Results!V:V,0))","v":{"$error":"#N/A"}},null,1,"Gerard Ventom",-7,{"$f":"IF(Q2=\"\",\"\",IF(Q2=Q3,\"R\",\"\"))","v":""},{"$f":"INDEX(Results!T:T,MATCH(P2,Results!V:V,0))","v":46.6},null,1,{"$f":"IF(Q2=Q3,\"Await earlier tie\",IF(Q2<Q3,P3,P2))","v":"Gerard Ventom"},-4.5999999999999996,{"$f":"IF(W2=\"\",\"\",IF(W2=W3,\"R\",\"\"))","v":""},{"$f":"INDEX(Results!T:T,MATCH(V2,Results!V:V,0))","v":46.6},null,1,{"$f":"IF(W2=W3,\"Await earlier tie\",IF(W2<W3,V3,V2))","v":"Pete Baron"},3.539655172413795,{"$f":"IF(AC2=\"\",\"\",IF(AC2=AC3,\"R\",\"\"))","v":""},{"$f":"INDEX(Results!T:T,MATCH(AB2,Results!V:V,0))","v":-4}]
[null,null,null,null,null,2,"Rob England",null,null,null,null,null,{"$f":"INDEX(Results!T:T,MATCH(J3,Results!V:V,0))","v":{"$error":"#N/A"}},null,null,"Rob England",-10,null,{"$f":"INDEX(Results!T:T,MATCH(P3,Results!V:V,0))","v":-3.9},null,null,{"$f":"IF(Q4=Q5,\"Await earlier tie\",IF(Q4<Q5,P5,P4))","v":"Pete Baron"},-0.71250000000000036,null,{"$f":"INDEX(Results!T:T,MATCH(V3,Results!V:V,0))","v":-4},null,null,{"$f":"IF(W4=W5,\"Await earlier tie\",IF(W4<W5,V5,V4))","v":"Ben Rosser"},-3.8,null,{"$f":"INDEX(Results!T:T,MATCH(AB3,Results!V:V,0))","v":-7}]
["Byes into round 1",{"$f":"(POWER(2,B2)-B1)","v":2},null,null,null,3,"Pete Baron",null,2,null,null,{"$f":"IF(K4=\"\",\"\",IF(K4=K5,\"R\",\"\"))","v":""},{"$f":"INDEX(Results!T:T,MATCH(J4,Results!V:V,0))","v":{"$error":"#N/A"}},null,2,"Pete Baron",-4.55,{"$f":"IF(Q4=\"\",\"\",IF(Q4=Q5,\"R\",\"\"))","v":""},{"$f":"INDEX(Results!T:T,MATCH(P4,Results!V:V,0))","v":-4},null,2,{"$f":"IF(Q6=Q7,\"Await earlier tie\",IF(Q6<Q7,P7,P6))","v":"Ian Davies"},-7,{"$f":"IF(W4=\"\",\"\",IF(W4=W5,\"R\",\"\"))","v":""},{"$f":"INDEX(Results!T:T,MATCH(V4,Results!V:V,0))","v":-7},null,2,{"$f":"IF(W6=W7,\"Await earlier tie\",IF(W6<W7,V7,V6))","v":"Phil Miller"},-2.7851851851851857,{"$f":"IF(AC4=\"\",\"\",IF(AC4=AC5,\"R\",\"\"))","v":""},{"$f":"INDEX(Results!T:T,MATCH(AB4,Results!V:V,0))","v":{"$error":"#VALUE!"}}]
[null,null,null,null,null,4,"Mark Saunders",null,null,null,null,null,{"$f":"INDEX(Results!T:T,MATCH(J5,Results!V:V,0))","v":{"$error":"#N/A"}},null,null,"Mark Saunders",-5.2,null,{"$f":"INDEX(Results!T:T,MATCH(P5,Results!V:V,0))","v":4.6666666666666661},null,null,{"$f":"IF(Q9=Q8,\"Await earlier tie\",IF(Q8<Q9,P9,P8))","v":"Ben Rosser"},-3.8,null,{"$f":"INDEX(Results!T:T,MATCH(V5,Results!V:V,0))","v":-7},null,null,{"$f":"IF(W8=W9,\"Await earlier tie\",IF(W8<W9,V9,V8))","v":"Oscar Jackson"},-7,null,{"$f":"INDEX(Results!T:T,MATCH(AB5,Results!V:V,0))","v":-5.0909090909090908}]
["Fixtures in PreliminaryRound/Round 1",{"$f":"(B1-B4)/2","v":30},null,null,null,5,"Dan Baxter",null,3,null,null,{"$f":"IF(K6=\"\",\"\",IF(K6=K7,\"R\",\"\"))","v":""},{"$f":"INDEX(Results!T:T,MATCH(J6,Results!V:V,0))","v":{"$error":"#N/A"}},null,3,"Dan Baxter",-10,{"$f":"IF(Q6=\"\",\"\",IF(Q6=Q7,\"R\",\"\"))","v":""},{"$f":"INDEX(Results!T:T,MATCH(P6,Results!V:V,0))","v":{"$error":"#VALUE!"}},null,3,{"$f":"IF(Q10=Q11,\"Await earlier tie\",IF(Q10<Q11,P11,P10))","v":"Phil Miller"},0.25,{"$f":"IF(W6=\"\",\"\",IF(W6=W7,\"R\",\"\"))","v":""},{"$f":"INDEX(Results!T:T,MATCH(V6,Results!V:V,0))","v":{"$error":"#VALUE!"}},null,3,{"$f":"IF(W10=W11,\"Await earlier tie\",IF(W10<W11,V11,V10))","v":"Mike Penk"},-4.625,{"$f":"IF(AC6=\"\",\"\",IF(AC6=AC7,\"R\",\"\"))","v":""},{"$f":"INDEX(Results!T:T,MATCH(AB6,Results!V:V,0))","v":-4.8499999999999996}]
[null,null,null,null,null,6,"Ian Davies",null,null,null,null,null,{"$f":"INDEX(Results!T:T,MATCH(J7,Results!V:V,0))","v":{"$error":"#N/A"}},null,null,"Ian Davies",-7,null,{"$f":"INDEX(Results!T:T,MATCH(P7,Results!V:V,0))","v":-7},null,null,{"$f":"IF(Q12=Q13,\"Await earlier tie\",IF(Q12<Q13,P13,P12))","v":"Chris Griffin"},-4.375,null,{"$f":"INDEX(Results!T:T,MATCH(V7,Results!V:V,0))","v":1.75},null,null,{"$f":"IF(W12=W13,\"Await earlier tie\",IF(W12<W13,V13,V12))","v":"Martin Tarbuck"},-4.8499999999999996,null,{"$f":"INDEX(Results!T:T,MATCH(AB7,Results!V:V,0))","v":-5.35}]
["Current Round","Prelim",null,null,null,7,"Nick Blocksidge",null,4,null,null,{"$f":"IF(K8=\"\",\"\",IF(K8=K9,\"R\",\"\"))","v":""},{"$f":"INDEX(Results!T:T,MATCH(J8,Results!V:V,0))","v":{"$error":"#N/A"}},null,4,"Nick Blocksidge",-2.8,{"$f":"IF(Q8=\"\",\"\",IF(Q8=Q9,\"R\",\"\"))","v":""},{"$f":"INDEX(Results!T:T,MATCH(P8,Results!V:V,0))","v":-5},null,4,{"$f":"IF(Q14=Q15,\"Await earlier tie\",IF(Q14<Q15,P15,P14))","v":"Joel Bent"},-7,{"$f":"IF(W8=\"\",\"\",IF(W8=W9,\"R\",\"\"))","v":""},{"$f":"INDEX(Results!T:T,MATCH(V8,Results!V:V,0))","v":-7},null,4,{"$f":"IF(W14=W15,\"Await earlier tie\",IF(W14<W15,V15,V14))","v":"Graham Miller"},-7,{"$f":"IF(AC8=\"\",\"\",IF(AC8=AC9,\"R\",\"\"))","v":""},{"$f":"INDEX(Results!T:T,MATCH(AB8,Results!V:V,0))","v":18.590909090909093}]
[null,null,null,null,null,8,"Ben Rosser",null,null,null,null,null,{"$f":"INDEX(Results!T:T,MATCH(J9,Results!V:V,0))","v":{"$error":"#N/A"}},null,null,"Ben Rosser",3,null,{"$f":"INDEX(Results!T:T,MATCH(P9,Results!V:V,0))","v":-7},null,null,{"$f":"IF(Q16=Q17,\"Await earlier tie\",IF(Q16<Q17,P17,P16))","v":"Oscar Jackson"},-0.29999999999999982,null,{"$f":"INDEX(Results!T:T,MATCH(V9,Results!V:V,0))","v":-5.0909090909090908},null,null,{"$f":"IF(W16=W17,\"Await earlier tie\",IF(W16<W17,V17,V16))","v":"Paul Fairhurst"},-2.5955555555555563,null,{"$f":"INDEX(Results!T:T,MATCH(AB9,Results!V:V,0))","v":-7}]
[null,null,null,null,null,9,"Phil Miller",null,5,null,null,{"$f":"IF(K10=\"\",\"\",IF(K10=K11,\"R\",\"\"))","v":""},{"$f":"INDEX(Results!T:T,MATCH(J10,Results!V:V,0))","v":{"$error":"#N/A"}},null,5,"Phil Miller",14.692,{"$f":"IF(Q10=\"\",\"\",IF(Q10=Q11,\"R\",\"\"))","v":""},{"$f":"INDEX(Results!T:T,MATCH(P10,Results!V:V,0))","v":{"$error":"#VALUE!"}},null,5,{"$f":"IF(Q18=Q19,\"Await earlier tie\",IF(Q18<Q19,P19,P18))","v":"James Bell"},-7,{"$f":"IF(W10=\"\",\"\",IF(W10=W11,\"R\",\"\"))","v":""},{"$f":"INDEX(Results!T:T,MATCH(V10,Results!V:V,0))","v":-7},null,5,{"$f":"IF(W18=W19,\"Await earlier tie\",IF(W18<W19,V19,V18))","v":"Nigel Heyes"},1.163636363636364,{"$f":"IF(AC10=\"\",\"\",IF(AC10=AC11,\"R\",\"\"))","v":""},{"$f":"INDEX(Results!T:T,MATCH(AB10,Results!V:V,0))","v":-3.8}]
["Random number generator",null,null,null,null,10,"Ashley Houghton",null,null,null,null,null,{"$f":"INDEX(Results!T:T,MATCH(J11,Results!V:V,0))","v":{"$error":"#N/A"}},null,null,"Ashley Houghton",-7,null,{"$f":"INDEX(Results!T:T,MATCH(P11,Results!V:V,0))","v":-0.39160839160839167},null,null,{"$f":"IF(Q20=Q21,\"Await earlier tie\",IF(Q20<Q21,P21,P20))","v":"Mike Penk"},6,null,{"$f":"INDEX(Results!T:T,MATCH(V11,Results!V:V,0))","v":-4.8499999999999996},null,null,{"$f":"IF(W20=W21,\"Await earlier tie\",IF(W20<W21,V21,V20))","v":"Vinny Topping"},-4.666666666666667,null,{"$f":"INDEX(Results!T:T,MATCH(AB11,Results!V:V,0))","v":2.2375000000000007}]
[null,null,null,null,null,11,"Chris Griffin",null,6,null,null,{"$f":"IF(K12=\"\",\"\",IF(K12=K13,\"R\",\"\"))","v":""},{"$f":"INDEX(Results!T:T,MATCH(J12,Results!V:V,0))","v":{"$error":"#N/A"}},null,6,"Chris Griffin",-0.6800000000000006,{"$f":"IF(Q12=\"\",\"\",IF(Q12=Q13,\"R\",\"\"))","v":""},{"$f":"INDEX(Results!T:T,MATCH(P12,Results!V:V,0))","v":1.75},null,6,{"$f":"IF(Q22=Q23,\"Await earlier tie\",IF(Q22<Q23,P23,P22))","v":"John Evans"},-7,{"$f":"IF(W12=\"\",\"\",IF(W12=W13,\"R\",\"\"))","v":""},{"$f":"INDEX(Results!T:T,MATCH(V12,Results!V:V,0))","v":-3.8},null,6,{"$f":"IF(W22=W23,\"Await earlier tie\",IF(W22<W23,V23,V22))","v":"Gareth McGuire"},-4.6551724137931032,{"$f":"IF(AC12=\"\",\"\",IF(AC12=AC13,\"R\",\"\"))","v":""},{"$f":"INDEX(Results!T:T,MATCH(AB12,Results!V:V,0))","v":2.9800000000000004}]
[null,"Week","Saturday","D/W",null,12,"Dave Orrell",null,null,null,null,null,{"$f":"INDEX(Results!T:T,MATCH(J13,Results!V:V,0))","v":{"$error":"#N/A"}},null,null,"Dave Orrell",-5.1666666666666661,null,{"$f":"INDEX(Results!T:T,MATCH(P13,Results!V:V,0))","v":27.776499999999999},null,null,{"$f":"IF(Q24=Q25,\"Await earlier tie\",IF(Q24<Q25,P25,P24))","v":"Martin Tarbuck"},-5.35,null,{"$f":"INDEX(Results!T:T,MATCH(V13,Results!V:V,0))","v":-5.35},null,null,{"$f":"IF(W24=W25,\"Await earlier tie\",IF(W24<W25,V25,V24))","v":"Chris Townsend"},-4.7,null,{"$f":"INDEX(Results!T:T,MATCH(AB13,Results!V:V,0))","v":-3.9}]
["Preliminary Round",null,{"$f":"IF(ISERROR(INDEX(Diary!B:B,MATCH(B14,Diary!C:C,0))),\"\",INDEX(Diary!B:B,MATCH(B14,Diary!C:C,0)))","v":""},{"$f":"IF(C14=\"\",\"\",IF(INDEX(Diary!D:D,MATCH(B14,Diary!C:C,0))=\"*\",\"*\",\" \"))","v":""},null,13,"Alick Rocca",null,7,null,null,{"$f":"IF(K14=\"\",\"\",IF(K14=K15,\"R\",\"\"))","v":""},{"$f":"INDEX(Results!T:T,MATCH(J14,Results!V:V,0))","v":{"$error":"#N/A"}},null,7,"Alick Rocca",2.3199999999999985,{"$f":"IF(Q14=\"\",\"\",IF(Q14=Q15,\"R\",\"\"))","v":""},{"$f":"INDEX(Results!T:T,MATCH(P14,Results!V:V,0))","v":-7},null,7,{"$f":"IF(Q26=Q27,\"Await earlier tie\",IF(Q26<Q27,P27,P26))","v":"David Dunn"},-5.35,{"$f":"IF(W14=\"\",\"\",IF(W14=W15,\"R\",\"\"))","v":""},{"$f":"INDEX(Results!T:T,MATCH(V14,Results!V:V,0))","v":1.4499999999999993},null,7,{"$f":"IF(W26=W27,\"Await earlier tie\",IF(W26<W27,V27,V26))","v":"Stephen Troop"},11.406153846153845,{"$f":"IF(AC14=\"\",\"\",IF(AC14=AC15,\"R\",\"\"))","v":""},{"$f":"INDEX(Results!T:T,MATCH(AB14,Results!V:V,0))","v":-7}]
["Round 1",4,{"$f":"IF(ISERROR(INDEX(Diary!B:B,MATCH(B15,Diary!C:C,0))),\"\",INDEX(Diary!B:B,MATCH(B15,Diary!C:C,0)))","v":"2020-09-26"},{"$f":"IF(INDEX(Diary!D:D,MATCH(B15,Diary!C:C,0))=\"D\",\"*\",\" \")","v":"*"},null,14,"Joel Bent",null,null,null,null,null,{"$f":"INDEX(Results!T:T,MATCH(J15,Results!V:V,0))","v":{"$error":"#N/A"}},null,null,"Joel Bent",16.05,null,{"$f":"INDEX(Results!T:T,MATCH(P15,Results!V:V,0))","v":-7},null,null,{"$f":"IF(Q28=Q29,\"Await earlier tie\",IF(Q28<Q29,P29,P28))","v":"Graham Miller"},-2.6666666666666661,null,{"$f":"INDEX(Results!T:T,MATCH(V15,Results!V:V,0))","v":18.590909090909093},null,null,{"$f":"IF(W28=W29,\"Await earlier tie\",IF(W28<W29,V29,V28))","v":"Kei Lok Ma"},-4.7,null,{"$f":"INDEX(Results!T:T,MATCH(AB15,Results!V:V,0))","v":4.1875}]
["Round 2",7,{"$f":"IF(ISERROR(INDEX(Diary!B:B,MATCH(B16,Diary!C:C,0))),\"\",INDEX(Diary!B:B,MATCH(B16,Diary!C:C,0)))","v":"2020-10-17"},{"$f":"IF(INDEX(Diary!D:D,MATCH(B16,Diary!C:C,0))=\"D\",\"*\",\" \")","v":" "},null,15,"Oscar Jackson",null,8,null,null,{"$f":"IF(K16=\"\",\"\",IF(K16=K17,\"R\",\"\"))","v":""},{"$f":"INDEX(Results!T:T,MATCH(J16,Results!V:V,0))","v":{"$error":"#N/A"}},null,8,"Oscar Jackson",-5.3,{"$f":"IF(Q16=\"\",\"\",IF(Q16=Q17,\"R\",\"\"))","v":""},{"$f":"INDEX(Results!T:T,MATCH(P16,Results!V:V,0))","v":-5.0909090909090908},null,8,{"$f":"IF(Q30=Q31,\"Await earlier tie\",IF(Q30<Q31,P31,P30))","v":"Tom Robinson"},-4.9000000000000004,{"$f":"IF(W16=\"\",\"\",IF(W16=W17,\"R\",\"\"))","v":""},{"$f":"INDEX(Results!T:T,MATCH(V16,Results!V:V,0))","v":-4.8499999999999996},null,8,{"$f":"IF(W30=W31,\"Await earlier tie\",IF(W30<W31,V31,V30))","v":"Chris Bow"},-7,{"$f":"IF(AC16=\"\",\"\",IF(AC16=AC17,\"R\",\"\"))","v":""},{"$f":"INDEX(Results!T:T,MATCH(AB16,Results!V:V,0))","v":-2.6666666666666661}]
["Round 3",10,{"$f":"IF(ISERROR(INDEX(Diary!B:B,MATCH(B17,Diary!C:C,0))),\"\",INDEX(Diary!B:B,MATCH(B17,Diary!C:C,0)))","v":"2020-11-07"},{"$f":"IF(INDEX(Diary!D:D,MATCH(B17,Diary!C:C,0))=\"D\",\"*\",\" \")","v":"*"},null,16,"Lennie Bow",null,null,null,null,null,{"$f":"INDEX(Results!T:T,MATCH(J17,Results!V:V,0))","v":{"$error":"#N/A"}},null,null,"Lennie Bow",-5.6,null,{"$f":"INDEX(Results!T:T,MATCH(P17,Results!V:V,0))","v":-1.069230769230769},null,null,{"$f":"IF(Q32=Q33,\"Await earlier tie\",IF(Q32<Q33,P33,P32))","v":"Paul Fairhurst"},-3.1,null,{"$f":"INDEX(Results!T:T,MATCH(V17,Results!V:V,0))","v":-7},null,null,{"$f":"IF(W32=W33,\"Await earlier tie\",IF(W32<W33,V33,V32))","v":"Gareth Powell"},-3.4,null,{"$f":"INDEX(Results!T:T,MATCH(AB17,Results!V:V,0))","v":-4.3}]
["Quarter Final",13,{"$f":"IF(ISERROR(INDEX(Diary!B:B,MATCH(B18,Diary!C:C,0))),\"\",INDEX(Diary!B:B,MATCH(B18,Diary!C:C,0)))","v":"2020-11-21"},{"$f":"IF(INDEX(Diary!D:D,MATCH(B18,Diary!C:C,0))=\"D\",\"*\",\" \")","v":" "},null,17,"Alan Rogers",null,9,null,null,{"$f":"IF(K18=\"\",\"\",IF(K18=K19,\"R\",\"\"))","v":""},{"$f":"INDEX(Results!T:T,MATCH(J18,Results!V:V,0))","v":{"$error":"#N/A"}},null,9,"Alan Rogers",-7,{"$f":"IF(Q18=\"\",\"\",IF(Q18=Q19,\"R\",\"\"))","v":""},{"$f":"INDEX(Results!T:T,MATCH(P18,Results!V:V,0))","v":47.080000000000005},null,9,{"$f":"IF(Q34=Q35,\"Await earlier tie\",IF(Q34<Q35,P35,P34))","v":"Barry Birchall"},-5.0000000000000711E-2,{"$f":"IF(W18=\"\",\"\",IF(W18=W19,\"R\",\"\"))","v":""},{"$f":"INDEX(Results!T:T,MATCH(V18,Results!V:V,0))","v":-7}]
["Semi-Final",16,{"$f":"IF(ISERROR(INDEX(Diary!B:B,MATCH(B19,Diary!C:C,0))),\"\",INDEX(Diary!B:B,MATCH(B19,Diary!C:C,0)))","v":"2020-12-05"},{"$f":"IF(INDEX(Diary!D:D,MATCH(B19,Diary!C:C,0))=\"D\",\"*\",\" \")","v":"*"},null,18,"James Bell",null,null,null,null,null,{"$f":"INDEX(Results!T:T,MATCH(J19,Results!V:V,0))","v":{"$error":"#N/A"}},null,null,"James Bell",10.479999999999997,null,{"$f":"INDEX(Results!T:T,MATCH(P19,Results!V:V,0))","v":-7},null,null,{"$f":"IF(Q36=Q37,\"Await earlier tie\",IF(Q36<Q37,P37,P36))","v":"Nigel Heyes"},7.68,null,{"$f":"INDEX(Results!T:T,MATCH(V19,Results!V:V,0))","v":-3.8}]
["Final",18,{"$f":"IF(ISERROR(INDEX(Diary!B:B,MATCH(B20,Diary!C:C,0))),\"\",INDEX(Diary!B:B,MATCH(B20,Diary!C:C,0)))","v":"2020-12-16"},{"$f":"IF(INDEX(Diary!D:D,MATCH(B20,Diary!C:C,0))=\"D\",\"*\",\" \")","v":" "},null,19,"Mike Penk",null,10,null,null,{"$f":"IF(K20=\"\",\"\",IF(K20=K21,\"R\",\"\"))","v":""},{"$f":"INDEX(Results!T:T,MATCH(J20,Results!V:V,0))","v":{"$error":"#N/A"}},null,10,"Mike Penk",-4.3,{"$f":"IF(Q20=\"\",\"\",IF(Q20=Q21,\"R\",\"\"))","v":""},{"$f":"INDEX(Results!T:T,MATCH(P20,Results!V:V,0))","v":-4.8499999999999996},null,10,{"$f":"IF(Q38=Q39,\"Await earlier tie\",IF(Q38<Q39,P39,P38))","v":"Charlie Griffiths"},-5.15,{"$f":"IF(W20=\"\",\"\",IF(W20=W21,\"R\",\"\"))","v":""},{"$f":"INDEX(Results!T:T,MATCH(V20,Results!V:V,0))","v":-7}]
[null,null,null,null,null,20,"Sally Williams",null,null,null,null,null,{"$f":"INDEX(Results!T:T,MATCH(J21,Results!V:V,0))","v":{"$error":"#N/A"}},null,null,"Sally Williams",-7,null,{"$f":"INDEX(Results!T:T,MATCH(P21,Results!V:V,0))","v":-4},null,null,{"$f":"IF(Q40=Q41,\"Await earlier tie\",IF(Q40<Q41,P41,P40))","v":"Vinny Topping"},-5,null,{"$f":"INDEX(Results!T:T,MATCH(V21,Results!V:V,0))","v":2.2375000000000007},null,"Earlier Ties"]
[null,null,null,null,null,21,"John Evans",null,11,null,null,{"$f":"IF(K22=\"\",\"\",IF(K22=K23,\"R\",\"\"))","v":""},{"$f":"INDEX(Results!T:T,MATCH(J22,Results!V:V,0))","v":{"$error":"#N/A"}},null,11,"John Evans",-4.95,{"$f":"IF(Q22=\"\",\"\",IF(Q22=Q23,\"R\",\"\"))","v":""},{"$f":"INDEX(Results!T:T,MATCH(P22,Results!V:V,0))","v":-3.8},null,11,{"$f":"IF(Q42=Q43,\"Await earlier tie\",IF(Q42<Q43,P43,P42))","v":"Gareth McGuire"},15.484999999999999,{"$f":"IF(W22=\"\",\"\",IF(W22=W23,\"R\",\"\"))","v":""},{"$f":"INDEX(Results!T:T,MATCH(V22,Results!V:V,0))","v":2.9800000000000004},null,6,"Gareth McGuire",-7,"R"]
[null,null,null,null,null,22,"Stephen Barr",null,null,null,null,null,{"$f":"INDEX(Results!T:T,MATCH(J23,Results!V:V,0))","v":{"$error":"#N/A"}},null,null,"Stephen Barr",-5.3,null,{"$f":"INDEX(Results!T:T,MATCH(P23,Results!V:V,0))","v":0.8636363636363642},null,null,{"$f":"IF(Q44=Q45,\"Await earlier tie\",IF(Q44<Q45,P45,P44))","v":"John Ronan"},-3,null,{"$f":"INDEX(Results!T:T,MATCH(V23,Results!V:V,0))","v":0},null,null,"Chris Townsend",-7]
[null,null,null,null,null,23,"Andy Charleston",null,12,null,null,{"$f":"IF(K24=\"\",\"\",IF(K24=K25,\"R\",\"\"))","v":""},{"$f":"INDEX(Results!T:T,MATCH(J24,Results!V:V,0))","v":{"$error":"#N/A"}},null,12,"Andy Charleston",-7,{"$f":"IF(Q24=\"\",\"\",IF(Q24=Q25,\"R\",\"\"))","v":""},{"$f":"INDEX(Results!T:T,MATCH(P24,Results!V:V,0))","v":-2.6666666666666661},null,12,{"$f":"IF(Q46=Q47,\"Await earlier tie\",IF(Q46<Q47,P47,P46))","v":"Paul Adderley"},-10,{"$f":"IF(W24=\"\",\"\",IF(W24=W25,\"R\",\"\"))","v":""},{"$f":"INDEX(Results!T:T,MATCH(V24,Results!V:V,0))","v":-4.25},null,7,"Stephen Troop",-7,"R"]
[null,null,null,null,null,24,"Martin Tarbuck",null,null,null,null,null,{"$f":"INDEX(Results!T:T,MATCH(J25,Results!V:V,0))","v":{"$error":"#N/A"}},null,null,"Martin Tarbuck",2.6363636363636367,null,{"$f":"INDEX(Results!T:T,MATCH(P25,Results!V:V,0))","v":-5.35},null,null,{"$f":"IF(Q48=Q49,\"Await earlier tie\",IF(Q48<Q49,P49,P48))","v":"Chris Townsend"},-7,null,{"$f":"INDEX(Results!T:T,MATCH(V25,Results!V:V,0))","v":-3.9},null,null,"Kei Lok Ma",-7]
[null,null,null,null,null,25,"David Dunn",null,13,null,null,{"$f":"IF(K26=\"\",\"\",IF(K26=K27,\"R\",\"\"))","v":""},{"$f":"INDEX(Results!T:T,MATCH(J26,Results!V:V,0))","v":{"$error":"#N/A"}},null,13,"David Dunn",-4.3,{"$f":"IF(Q26=\"\",\"\",IF(Q26=Q27,\"R\",\"\"))","v":""},{"$f":"INDEX(Results!T:T,MATCH(P26,Results!V:V,0))","v":1.4499999999999993},null,13,{"$f":"IF(Q50=Q51,\"Await earlier tie\",IF(Q50<Q51,P51,P50))","v":"Stephen Troop"},0.52500000000000036,{"$f":"IF(W26=\"\",\"\",IF(W26=W27,\"R\",\"\"))","v":""},{"$f":"INDEX(Results!T:T,MATCH(V26,Results!V:V,0))","v":-7},null,null,null,null,{"$f":"IF(AC26=\"\",\"\",IF(AC26=AC27,\"R\",\"\"))","v":""}]
[null,null,null,null,null,26,"Simon Greenhalgh",null,null,null,null,null,{"$f":"INDEX(Results!T:T,MATCH(J27,Results!V:V,0))","v":{"$error":"#N/A"}},null,null,"Simon Greenhalgh",-10,null,{"$f":"INDEX(Results!T:T,MATCH(P27,Results!V:V,0))","v":-3},null,null,{"$f":"IF(Q52=Q53,\"Await earlier tie\",IF(Q52<Q53,P53,P52))","v":"Steve Carter"},-7,null,{"$f":"INDEX(Results!T:T,MATCH(V27,Results!V:V,0))","v":1.75}]
[null,null,null,null,null,27,"Graham Miller",null,14,null,null,{"$f":"IF(K28=\"\",\"\",IF(K28=K29,\"R\",\"\"))","v":""},{"$f":"INDEX(Results!T:T,MATCH(J28,Results!V:V,0))","v":{"$error":"#N/A"}},null,14,"Graham Miller",4.7650000000000006,{"$f":"IF(Q28=\"\",\"\",IF(Q28=Q29,\"R\",\"\"))","v":""},{"$f":"INDEX(Results!T:T,MATCH(P28,Results!V:V,0))","v":18.590909090909093},null,14,{"$f":"IF(Q54=Q55,\"Await earlier tie\",IF(Q54<Q55,P55,P54))","v":"Kei Lok Ma"},14.400000000000002,{"$f":"IF(W28=\"\",\"\",IF(W28=W29,\"R\",\"\"))","v":""},{"$f":"INDEX(Results!T:T,MATCH(V28,Results!V:V,0))","v":4.1875},null,null,null,null,{"$f":"IF(AC28=\"\",\"\",IF(AC28=AC29,\"R\",\"\"))","v":""}]
[null,null,null,null,null,28,"Gareth Fallows",null,null,null,null,null,{"$f":"INDEX(Results!T:T,MATCH(J29,Results!V:V,0))","v":{"$error":"#N/A"}},null,null,"Gareth Fallows",-10,null,{"$f":"INDEX(Results!T:T,MATCH(P29,Results!V:V,0))","v":{"$error":"#VALUE!"}},null,null,{"$f":"IF(Q56=Q57,\"Await earlier tie\",IF(Q56<Q57,P57,P56))","v":"Steve Baxter"},-5.3333333333333339,null,{"$f":"INDEX(Results!T:T,MATCH(V29,Results!V:V,0))","v":-7}]
[null,null,null,null,null,29,"Tom Robinson",null,15,null,null,{"$f":"IF(K30=\"\",\"\",IF(K30=K31,\"R\",\"\"))","v":""},{"$f":"INDEX(Results!T:T,MATCH(J30,Results!V:V,0))","v":{"$error":"#N/A"}},null,15,"Tom Robinson",3.3849999999999998,{"$f":"IF(Q30=\"\",\"\",IF(Q30=Q31,\"R\",\"\"))","v":""},{"$f":"INDEX(Results!T:T,MATCH(P30,Results!V:V,0))","v":-4.8499999999999996},null,15,{"$f":"IF(Q58=Q59,\"Await earlier tie\",IF(Q58<Q59,P59,P58))","v":"Paul Barnes"},-7,{"$f":"IF(W30=\"\",\"\",IF(W30=W31,\"R\",\"\"))","v":""},{"$f":"INDEX(Results!T:T,MATCH(V30,Results!V:V,0))","v":-7}]
[null,null,null,null,null,30,"Mo Sudell",null,null,null,null,null,{"$f":"INDEX(Results!T:T,MATCH(J31,Results!V:V,0))","v":{"$error":"#N/A"}},null,null,"Mo Sudell",-4.5,null,{"$f":"INDEX(Results!T:T,MATCH(P31,Results!V:V,0))","v":-5.384615384615385},null,null,{"$f":"IF(Q60=Q61,\"Await earlier tie\",IF(Q60<Q61,P61,P60))","v":"Chris Bow"},-5.25,null,{"$f":"INDEX(Results!T:T,MATCH(V31,Results!V:V,0))","v":-2.6666666666666661}]
[null,null,null,null,null,31,"Paul Fairhurst",null,16,null,null,{"$f":"IF(K32=\"\",\"\",IF(K32=K33,\"R\",\"\"))","v":""},{"$f":"INDEX(Results!T:T,MATCH(J32,Results!V:V,0))","v":{"$error":"#N/A"}},null,16,"Paul Fairhurst",-5,{"$f":"IF(Q32=\"\",\"\",IF(Q32=Q33,\"R\",\"\"))","v":""},{"$f":"INDEX(Results!T:T,MATCH(P32,Results!V:V,0))","v":-7},null,16,{"$f":"IF(Q62=Q63,\"Await earlier tie\",IF(Q62<Q63,P63,P62))","v":"Paul Ridgeway"},-7,{"$f":"IF(W32=\"\",\"\",IF(W32=W33,\"R\",\"\"))","v":""},{"$f":"INDEX(Results!T:T,MATCH(V32,Results!V:V,0))","v":-7}]
[null,null,null,null,null,32,"Dave Bell",null,null,null,null,null,{"$f":"INDEX(Results!T:T,MATCH(J33,Results!V:V,0))","v":{"$error":"#N/A"}},null,null,"Dave Bell",-5.2,null,{"$f":"INDEX(Results!T:T,MATCH(P33,Results!V:V,0))","v":1.3333333333333339},null,null,{"$f":"IF(Q64=Q65,\"Await earlier tie\",IF(Q64<Q65,P65,P64))","v":"Gareth Powell"},-3.75,null,{"$f":"INDEX(Results!T:T,MATCH(V33,Results!V:V,0))","v":-4.3}]
[null,null,null,null,null,33,"Barry Birchall",null,17,null,null,{"$f":"IF(K34=\"\",\"\",IF(K34=K35,\"R\",\"\"))","v":""},{"$f":"INDEX(Results!T:T,MATCH(J34,Results!V:V,0))","v":{"$error":"#N/A"}},null,17,"Barry Birchall",-4.75,{"$f":"IF(Q34=\"\",\"\",IF(Q34=Q35,\"R\",\"\"))","v":""},{"$f":"INDEX(Results!T:T,MATCH(P34,Results!V:V,0))","v":-7}]
[null,null,null,null,null,34,"Martin Molyneux",null,null,null,null,null,{"$f":"INDEX(Results!T:T,MATCH(J35,Results!V:V,0))","v":{"$error":"#N/A"}},null,null,"Martin Molyneux",-7,null,{"$f":"INDEX(Results!T:T,MATCH(P35,Results!V:V,0))","v":5.6363636363636367}]
[null,null,null,null,null,35,"Mal Stott",null,18,null,null,{"$f":"IF(K36=\"\",\"\",IF(K36=K37,\"R\",\"\"))","v":""},{"$f":"INDEX(Results!T:T,MATCH(J36,Results!V:V,0))","v":{"$error":"#N/A"}},null,18,"Mal Stott",-7,{"$f":"IF(Q36=\"\",\"\",IF(Q36=Q37,\"R\",\"\"))","v":""},{"$f":"INDEX(Results!T:T,MATCH(P36,Results!V:V,0))","v":-7}]
[null,null,null,null,null,36,"Nigel Heyes",null,null,null,null,null,{"$f":"INDEX(Results!T:T,MATCH(J37,Results!V:V,0))","v":{"$error":"#N/A"}},null,null,"Nigel Heyes",1.4550000000000001,null,{"$f":"INDEX(Results!T:T,MATCH(P37,Results!V:V,0))","v":-3.8},null,"Replay"]
[null,null,null,null,null,37,"Charlie Griffiths",null,19,null,null,{"$f":"IF(K38=\"\",\"\",IF(K38=K39,\"R\",\"\"))","v":""},{"$f":"INDEX(Results!T:T,MATCH(J38,Results!V:V,0))","v":{"$error":"#N/A"}},null,19,"Charlie Griffiths",2.8274999999999988,{"$f":"IF(Q38=\"\",\"\",IF(Q38=Q39,\"R\",\"\"))","v":""},{"$f":"INDEX(Results!T:T,MATCH(P38,Results!V:V,0))","v":-7},null,null,null,null,{"$f":"IF(W38=\"\",\"\",IF(W38=W39,\"R\",\"\"))","v":""},{"$f":"INDEX(Results!T:T,MATCH(V38,Results!V:V,0))","v":{"$error":"#N/A"}},null,"QF",{"$f":"$C$18","v":"2020-11-21"}]
[null,null,null,null,null,38,"Andy White",null,null,null,null,null,{"$f":"INDEX(Results!T:T,MATCH(J39,Results!V:V,0))","v":{"$error":"#N/A"}},null,null,"Andy White",-4.3,null,{"$f":"INDEX(Results!T:T,MATCH(P39,Results!V:V,0))","v":1.75},null,null,null,null,null,{"$f":"INDEX(Results!T:T,MATCH(V39,Results!V:V,0))","v":{"$error":"#N/A"}},null,1,{"$f":"IF(AC2=AC3,\"Await earlier tie\",IF(AC2<AC3,AB3,AB2))","v":"Pete Baron"},3.1999999999999993,{"$f":"IF(AC39=\"\",\"\",IF(AC39=AC40,\"R\",\"\"))","v":""},{"$f":"INDEX(Results!T:T,MATCH(AB39,Results!V:V,0))","v":-4}]
[null,null,null,null,null,39,"Vinny Topping",null,20,null,null,{"$f":"IF(K40=\"\",\"\",IF(K40=K41,\"R\",\"\"))","v":""},{"$f":"INDEX(Results!T:T,MATCH(J40,Results!V:V,0))","v":{"$error":"#N/A"}},null,20,"Vinny Topping",19.3,{"$f":"IF(Q40=\"\",\"\",IF(Q40=Q41,\"R\",\"\"))","v":""},{"$f":"INDEX(Results!T:T,MATCH(P40,Results!V:V,0))","v":2.2375000000000007},null,null,null,null,{"$f":"IF(W40=\"\",\"\",IF(W40=W41,\"R\",\"\"))","v":""},{"$f":"INDEX(Results!T:T,MATCH(V40,Results!V:V,0))","v":{"$error":"#N/A"}},null,null,{"$f":"IF(AC4=AC5,\"Await earlier tie\",IF(AC4<AC5,AB5,AB4))","v":"Phil Miller"},-5.15,null,{"$f":"INDEX(Results!T:T,MATCH(AB40,Results!V:V,0))","v":{"$error":"#VALUE!"}}]
[null,null,null,null,null,40,"Howard Bradley",null,null,null,null,null,{"$f":"INDEX(Results!T:T,MATCH(J41,Results!V:V,0))","v":{"$error":"#N/A"}},null,null,"Howard Bradley",-1.5200000000000005,null,{"$f":"INDEX(Results!T:T,MATCH(P41,Results!V:V,0))","v":0.58181818181818201},null,null,null,null,null,{"$f":"INDEX(Results!T:T,MATCH(V41,Results!V:V,0))","v":{"$error":"#N/A"}},null,2,{"$f":"IF(AC6=AC7,\"Await earlier tie\",IF(AC6<AC7,AB7,AB6))","v":"Mike Penk"},1.7650000000000006,{"$f":"IF(AC41=\"\",\"\",IF(AC41=AC42,\"R\",\"\"))","v":""},{"$f":"INDEX(Results!T:T,MATCH(AB41,Results!V:V,0))","v":-4.8499999999999996}]
[null,null,null,null,null,41,"Kevin Carter",null,21,null,null,{"$f":"IF(K42=\"\",\"\",IF(K42=K43,\"R\",\"\"))","v":""},{"$f":"INDEX(Results!T:T,MATCH(J42,Results!V:V,0))","v":{"$error":"#N/A"}},null,21,"Kevin Carter",-5.1666666666666661,{"$f":"IF(Q42=\"\",\"\",IF(Q42=Q43,\"R\",\"\"))","v":""},{"$f":"INDEX(Results!T:T,MATCH(P42,Results!V:V,0))","v":0.18181818181818166},null,null,null,null,{"$f":"IF(W42=\"\",\"\",IF(W42=W43,\"R\",\"\"))","v":""},{"$f":"INDEX(Results!T:T,MATCH(V42,Results!V:V,0))","v":{"$error":"#N/A"}},null,null,{"$f":"IF(AC8=AC9,\"Await earlier tie\",IF(AC8<AC9,AB9,AB8))","v":"Paul Fairhurst"},-3.7,null,{"$f":"INDEX(Results!T:T,MATCH(AB42,Results!V:V,0))","v":-7}]
[null,null,null,null,null,42,"Gareth McGuire",null,null,null,null,null,{"$f":"INDEX(Results!T:T,MATCH(J43,Results!V:V,0))","v":{"$error":"#N/A"}},null,null,"Gareth McGuire",1.4550000000000001,null,{"$f":"INDEX(Results!T:T,MATCH(P43,Results!V:V,0))","v":2.9800000000000004},null,null,null,null,null,{"$f":"INDEX(Results!T:T,MATCH(V43,Results!V:V,0))","v":{"$error":"#N/A"}},null,3,{"$f":"IF(AC10=AC11,\"Await earlier tie\",IF(AC10<AC11,AB11,AB10))","v":"Nigel Heyes"},24.224499999999995,{"$f":"IF(AC43=\"\",\"\",IF(AC43=AC44,\"R\",\"\"))","v":""},{"$f":"INDEX(Results!T:T,MATCH(AB43,Results!V:V,0))","v":-3.8}]
[null,null,null,null,null,43,"Alfie Davies",null,22,null,null,{"$f":"IF(K44=\"\",\"\",IF(K44=K45,\"R\",\"\"))","v":""},{"$f":"INDEX(Results!T:T,MATCH(J44,Results!V:V,0))","v":{"$error":"#N/A"}},null,22,"Alfie Davies",-4.45,{"$f":"IF(Q44=\"\",\"\",IF(Q44=Q45,\"R\",\"\"))","v":""},{"$f":"INDEX(Results!T:T,MATCH(P44,Results!V:V,0))","v":50.275000000000006},null,null,null,null,{"$f":"IF(W44=\"\",\"\",IF(W44=W45,\"R\",\"\"))","v":""},{"$f":"INDEX(Results!T:T,MATCH(V44,Results!V:V,0))","v":{"$error":"#N/A"}},null,null,{"$f":"IF(AC12=AC13,\"Await earlier tie\",IF(AC12<AC13,AB13,AB12))","v":"Gareth McGuire"},1.9000000000000004,null,{"$f":"INDEX(Results!T:T,MATCH(AB44,Results!V:V,0))","v":2.9800000000000004}]
[null,null,null,null,null,44,"John Ronan",null,null,null,null,null,{"$f":"INDEX(Results!T:T,MATCH(J45,Results!V:V,0))","v":{"$error":"#N/A"}},null,null,"John Ronan",23.11,null,{"$f":"INDEX(Results!T:T,MATCH(P45,Results!V:V,0))","v":0},null,null,null,null,null,{"$f":"INDEX(Results!T:T,MATCH(V45,Results!V:V,0))","v":{"$error":"#N/A"}},null,4,{"$f":"IF(AC14=AC15,\"Await earlier tie\",IF(AC14<AC15,AB15,AB14))","v":"Stephen Troop"},13.161250000000003,{"$f":"IF(AC45=\"\",\"\",IF(AC45=AC46,\"R\",\"\"))","v":""},{"$f":"INDEX(Results!T:T,MATCH(AB45,Results!V:V,0))","v":-7}]
[null,null,null,null,null,45,"Jack Walsh",null,23,null,null,"",{"$f":"INDEX(Results!T:T,MATCH(J46,Results!V:V,0))","v":{"$error":"#N/A"}},null,23,"Jack Walsh",-5.2727272727272725,{"$f":"IF(Q46=\"\",\"\",IF(Q46=Q47,\"R\",\"\"))","v":""},{"$f":"INDEX(Results!T:T,MATCH(P46,Results!V:V,0))","v":-5.35},null,null,null,null,{"$f":"IF(W46=\"\",\"\",IF(W46=W47,\"R\",\"\"))","v":""},{"$f":"INDEX(Results!T:T,MATCH(V46,Results!V:V,0))","v":{"$error":"#N/A"}},null,null,{"$f":"IF(AC16=AC17,\"Await earlier tie\",IF(AC16<AC17,AB17,AB16))","v":"Gareth Powell"},-4.7,null,{"$f":"INDEX(Results!T:T,MATCH(AB46,Results!V:V,0))","v":-4.3}]
[null,null,null,null,null,46,"Paul Adderley",null,null,null,null,null,{"$f":"INDEX(Results!T:T,MATCH(J47,Results!V:V,0))","v":{"$error":"#N/A"}},null,null,"Paul Adderley",-1.454545454545455,null,{"$f":"INDEX(Results!T:T,MATCH(P47,Results!V:V,0))","v":-4.25},null,null,null,null,null,{"$f":"INDEX(Results!T:T,MATCH(V47,Results!V:V,0))","v":{"$error":"#N/A"}}]
[null,null,null,null,null,47,"Paul Fiddler",null,24,null,null,"",{"$f":"INDEX(Results!T:T,MATCH(J48,Results!V:V,0))","v":{"$error":"#N/A"}},null,24,"Paul Fiddler",-5.1666666666666661,{"$f":"IF(Q48=\"\",\"\",IF(Q48=Q49,\"R\",\"\"))","v":""},{"$f":"INDEX(Results!T:T,MATCH(P48,Results!V:V,0))","v":-5.05},null,null,null,null,{"$f":"IF(W48=\"\",\"\",IF(W48=W49,\"R\",\"\"))","v":""},{"$f":"INDEX(Results!T:T,MATCH(V48,Results!V:V,0))","v":{"$error":"#N/A"}}]
[null,null,null,null,null,48,"Chris Townsend",null,null,null,null,null,{"$f":"INDEX(Results!T:T,MATCH(J49,Results!V:V,0))","v":{"$error":"#N/A"}},null,null,"Chris Townsend",10.8,null,{"$f":"INDEX(Results!T:T,MATCH(P49,Results!V:V,0))","v":-3.9},null,null,null,null,null,{"$f":"INDEX(Results!T:T,MATCH(V49,Results!V:V,0))","v":{"$error":"#N/A"}},null,"Earlier Ties"]
[null,null,null,null,null,49,"Mark Bunn",null,25,null,null,"",{"$f":"INDEX(Results!T:T,MATCH(J50,Results!V:V,0))","v":{"$error":"#N/A"}},null,25,"Mark Bunn",-10,{"$f":"IF(Q50=\"\",\"\",IF(Q50=Q51,\"R\",\"\"))","v":""},{"$f":"INDEX(Results!T:T,MATCH(P50,Results!V:V,0))","v":-4.3},null,null,null,null,{"$f":"IF(W50=\"\",\"\",IF(W50=W51,\"R\",\"\"))","v":""},{"$f":"INDEX(Results!T:T,MATCH(V50,Results!V:V,0))","v":{"$error":"#N/A"}},null,null,null,null,{"$f":"IF(AC50=\"\",\"\",IF(AC50=AC51,\"R\",\"\"))","v":""}]
[null,null,null,null,null,50,"Stephen Troop",null,null,null,null,null,{"$f":"INDEX(Results!T:T,MATCH(J51,Results!V:V,0))","v":{"$error":"#N/A"}},null,null,"Stephen Troop",-7,null,{"$f":"INDEX(Results!T:T,MATCH(P51,Results!V:V,0))","v":-7},null,null,null,null,null,{"$f":"INDEX(Results!T:T,MATCH(V51,Results!V:V,0))","v":{"$error":"#N/A"}}]
[null,null,null,null,null,51,"Steve Carter",null,26,null,null,"",{"$f":"INDEX(Results!T:T,MATCH(J52,Results!V:V,0))","v":{"$error":"#N/A"}},null,26,"Steve Carter",-4.95,{"$f":"IF(Q52=\"\",\"\",IF(Q52=Q53,\"R\",\"\"))","v":""},{"$f":"INDEX(Results!T:T,MATCH(P52,Results!V:V,0))","v":1.75},null,null,null,null,{"$f":"IF(W52=\"\",\"\",IF(W52=W53,\"R\",\"\"))","v":""},{"$f":"INDEX(Results!T:T,MATCH(V52,Results!V:V,0))","v":{"$error":"#N/A"}},null,null,null,null,{"$f":"IF(AC52=\"\",\"\",IF(AC52=AC53,\"R\",\"\"))","v":""}]
[null,null,null,null,null,52,"Liam Wah",null,null,null,null,null,{"$f":"INDEX(Results!T:T,MATCH(J53,Results!V:V,0))","v":{"$error":"#N/A"}},null,null,"Liam Wah",-10,null,{"$f":"INDEX(Results!T:T,MATCH(P53,Results!V:V,0))","v":8.25},null,null,null,null,null,{"$f":"INDEX(Results!T:T,MATCH(V53,Results!V:V,0))","v":{"$error":"#N/A"}}]
[null,null,null,null,null,53,"Paul Allen",null,27,null,null,"",{"$f":"INDEX(Results!T:T,MATCH(J54,Results!V:V,0))","v":{"$error":"#N/A"}},null,27,"Paul Allen",-7,{"$f":"IF(Q54=\"\",\"\",IF(Q54=Q55,\"R\",\"\"))","v":""},{"$f":"INDEX(Results!T:T,MATCH(P54,Results!V:V,0))","v":1.4400000000000013},null,null,null,null,null,null,null,null,null,null,{"$f":"IF(AC54=\"\",\"\",IF(AC54=AC55,\"R\",\"\"))","v":""}]
[null,null,null,null,null,54,"Kei Lok Ma",null,null,null,null,null,{"$f":"INDEX(Results!T:T,MATCH(J55,Results!V:V,0))","v":{"$error":"#N/A"}},null,null,"Kei Lok Ma",4.7650000000000006,null,{"$f":"INDEX(Results!T:T,MATCH(P55,Results!V:V,0))","v":4.1875}]
[null,null,null,null,null,55,"Steve Baxter",null,28,null,null,"",{"$f":"INDEX(Results!T:T,MATCH(J56,Results!V:V,0))","v":{"$error":"#N/A"}},null,28,"Steve Baxter",-5.2,{"$f":"IF(Q56=\"\",\"\",IF(Q56=Q57,\"R\",\"\"))","v":""},{"$f":"INDEX(Results!T:T,MATCH(P56,Results!V:V,0))","v":-7},null,null,null,null,null,null,null,null,null,null,{"$f":"IF(AC56=\"\",\"\",IF(AC56=AC57,\"R\",\"\"))","v":""}]
[null,null,null,null,null,56,"Chris Luck",null,null,null,null,null,{"$f":"INDEX(Results!T:T,MATCH(J57,Results!V:V,0))","v":{"$error":"#N/A"}},null,null,"Chris Luck",-7,null,{"$f":"INDEX(Results!T:T,MATCH(P57,Results!V:V,0))","v":-4.75}]
[null,null,null,null,null,57,"Paul Barnes",null,29,null,null,"",{"$f":"INDEX(Results!T:T,MATCH(J58,Results!V:V,0))","v":{"$error":"#N/A"}},null,29,"Paul Barnes",18.32,{"$f":"IF(Q58=\"\",\"\",IF(Q58=Q59,\"R\",\"\"))","v":""},{"$f":"INDEX(Results!T:T,MATCH(P58,Results!V:V,0))","v":-7}]
[null,null,null,null,null,58,"Alan White",null,null,null,null,null,{"$f":"INDEX(Results!T:T,MATCH(J59,Results!V:V,0))","v":{"$error":"#N/A"}},null,null,"Alan White",7.0500000000000007,null,{"$f":"INDEX(Results!T:T,MATCH(P59,Results!V:V,0))","v":0.18181818181818166}]
[null,null,null,null,null,59,"Chris Bow",null,30,null,null,"",{"$f":"INDEX(Results!T:T,MATCH(J60,Results!V:V,0))","v":{"$error":"#N/A"}},null,30,"Chris Bow",-4.55,{"$f":"IF(Q60=\"\",\"\",IF(Q60=Q61,\"R\",\"\"))","v":""},{"$f":"INDEX(Results!T:T,MATCH(P60,Results!V:V,0))","v":-2.6666666666666661}]
[null,null,null,null,null,60,"Lewis Buckley",null,null,null,null,null,{"$f":"INDEX(Results!T:T,MATCH(J61,Results!V:V,0))","v":{"$error":"#N/A"}},null,null,"Lewis Buckley",-10,null,{"$f":"INDEX(Results!T:T,MATCH(P61,Results!V:V,0))","v":{"$error":"#VALUE!"}}]
[null,null,null,null,null,61,"Paul Ridgeway",null,31,null,null,"",{"$f":"INDEX(Results!T:T,MATCH(J62,Results!V:V,0))","v":{"$error":"#N/A"}},null,31,"Paul Ridgeway",-7,{"$f":"IF(Q62=\"\",\"\",IF(Q62=Q63,\"R\",\"\"))","v":""},{"$f":"INDEX(Results!T:T,MATCH(P62,Results!V:V,0))","v":-7}]
[null,null,null,null,null,62,"Gareth Powell",null,null,null,null,null,{"$f":"INDEX(Results!T:T,MATCH(J63,Results!V:V,0))","v":{"$error":"#N/A"}},null,null,"Bye",-10,null,{"$f":"INDEX(Results!T:T,MATCH(P63,Results!V:V,0))","v":{"$error":"#N/A"}},null,null,null,null,null,null,null,"SF",{"$f":"$C$19","v":"2020-12-05"}]
[null,null,null,null,null,null,null,null,32,null,null,"",{"$f":"INDEX(Results!T:T,MATCH(J64,Results!V:V,0))","v":{"$error":"#N/A"}},null,32,"Gareth Powell",-7,{"$f":"IF(Q64=\"\",\"\",IF(Q64=Q65,\"R\",\"\"))","v":""},{"$f":"INDEX(Results!T:T,MATCH(P64,Results!V:V,0))","v":-4.3},null,null,null,null,null,null,null,1,{"$f":"IF(AC39=AC40,\"Await earlier tie\",IF(AC39<AC40,AB40,AB39))","v":"Pete Baron"},-7,{"$f":"IF(AC64=\"\",\"\",IF(AC64=AC65,\"R\",\"\"))","v":""},{"$f":"INDEX(Results!T:T,MATCH(AB64,Results!V:V,0))","v":-4}]
[null,null,null,null,null,null,null,null,null,null,null,null,{"$f":"INDEX(Results!T:T,MATCH(J65,Results!V:V,0))","v":{"$error":"#N/A"}},null,null,"Bye",-10,null,{"$f":"INDEX(Results!T:T,MATCH(P65,Results!V:V,0))","v":{"$error":"#N/A"}},null,null,null,null,null,null,null,null,{"$f":"IF(AC41=AC42,\"Await earlier tie\",IF(AC41<AC42,AB42,AB41))","v":"Mike Penk"},-3.5,null,{"$f":"INDEX(Results!T:T,MATCH(AB65,Results!V:V,0))","v":-4.8499999999999996}]
[null,null,null,null,null,null,null,null,33,null,null,"",{"$f":"INDEX(Results!T:T,MATCH(J66,Results!V:V,0))","v":{"$error":"#N/A"}},null,null,null,null,null,null,null,null,null,null,null,null,null,2,{"$f":"IF(AC43=AC44,\"Await earlier tie\",IF(AC43<AC44,AB44,AB43))","v":"Nigel Heyes"},-5.0909090909090908,{"$f":"IF(AC66=\"\",\"\",IF(AC66=AC67,\"R\",\"\"))","v":""},{"$f":"INDEX(Results!T:T,MATCH(AB66,Results!V:V,0))","v":-3.8}]
[null,null,null,null,null,null,null,null,null,null,null,null,{"$f":"INDEX(Results!T:T,MATCH(J67,Results!V:V,0))","v":{"$error":"#N/A"}},null,null,null,null,null,null,null,null,null,null,null,null,null,null,{"$f":"IF(AC45=AC46,\"Await earlier tie\",IF(AC45<AC46,AB46,AB45))","v":"Stephen Troop"},-2.4350000000000005,null,{"$f":"INDEX(Results!T:T,MATCH(AB67,Results!V:V,0))","v":-7}]
[null,null,null,null,null,null,null,null,34,null,null,"",{"$f":"INDEX(Results!T:T,MATCH(J68,Results!V:V,0))","v":{"$error":"#N/A"}},null,"Earlier ties"]
[null,null,null,null,null,null,null,null,null,null,null,null,{"$f":"INDEX(Results!T:T,MATCH(J69,Results!V:V,0))","v":{"$error":"#N/A"}},null,12,"Andy Charleston",-5,"R",null,null,null,null,null,null,null,null,"Earlier ties"]
[null,null,null,null,null,null,null,null,35,null,null,"",{"$f":"INDEX(Results!T:T,MATCH(J70,Results!V:V,0))","v":{"$error":"#N/A"}},null,null,"Martin Tarbuck",-5,null,null,null,null,null,null,null,null,null,null,null,null,{"$f":"IF(AC70=\"\",\"\",IF(AC70=AC71,\"R\",\"\"))","v":""}]
[null,null,null,null,null,null,null,null,null,null,null,null,{"$f":"INDEX(Results!T:T,MATCH(J71,Results!V:V,0))","v":{"$error":"#N/A"}},null,23,"Jack Walsh",-7,"R"]
[null,null,null,null,null,null,null,null,36,null,null,"",{"$f":"INDEX(Results!T:T,MATCH(J72,Results!V:V,0))","v":{"$error":"#N/A"}},null,null,"Paul Adderley",-7,null,null,null,null,null,null,null,null,null,null,null,null,{"$f":"IF(AC72=\"\",\"\",IF(AC72=AC73,\"R\",\"\"))","v":""}]
[null,null,null,null,null,null,null,null,null,null,null,null,{"$f":"INDEX(Results!T:T,MATCH(J73,Results!V:V,0))","v":{"$error":"#N/A"}},null,null,null,null,{"$f":"IF(Q73=\"\",\"\",IF(Q73=Q74,\"R\",\"\"))","v":""}]
[]
[null,null,null,null,null,null,null,null,null,null,null,null,null,null,null,null,null,{"$f":"IF(Q75=\"\",\"\",IF(Q75=Q76,\"R\",\"\"))","v":""}]
[]
[null,null,null,null,null,null,null,null,null,null,null,null,null,null,null,null,null,{"$f":"IF(Q77=\"\",\"\",IF(Q77=Q78,\"R\",\"\"))","v":""}]
[null,null,null,null,null,null,null,null,"Earlier ties"]
[null,null,null,null,null,null,null,null,1,"Pete Baron",null,"R",null,null,null,null,null,{"$f":"IF(Q79=\"\",\"\",IF(Q79=Q80,\"R\",\"\"))","v":""}]
[null,null,null,null,null,null,null,null,null,"Chris Townsend",null,null,null,null,null,null,null,null,null,null,null,null,null,null,null,null,"Final",{"$f":"$C$20","v":"2020-12-16"}]
[null,null,null,null,null,null,null,null,null,null,null,{"$f":"IF(K81=\"\",\"\",IF(K81=K82,\"R\",\"\"))","v":""},null,null,null,null,null,{"$f":"IF(Q81=\"\",\"\",IF(Q81=Q82,\"R\",\"\"))","v":""},null,null,null,null,null,null,null,null,1,{"$f":"IF(AC64=AC65,\"Await earlier tie\",IF(AC64<AC65,AB65,AB64))","v":"Mike Penk"},null,{"$f":"IF(AC81=\"\",\"\",IF(AC81=AC82,\"R\",\"\"))","v":""},{"$f":"INDEX(Results!T:T,MATCH(AB81,Results!V:V,0))","v":-4.8499999999999996}]
[null,null,null,null,null,null,null,null,null,null,null,null,null,null,null,null,null,null,null,null,null,null,null,null,null,null,null,{"$f":"IF(AC66=AC67,\"Await earlier tie\",IF(AC66<AC67,AB67,AB66))","v":"Stephen Troop"},null,null,{"$f":"INDEX(Results!T:T,MATCH(AB82,Results!V:V,0))","v":-7}]
[null,null,null,null,null,null,null,null,null,null,null,{"$f":"IF(K83=\"\",\"\",IF(K83=K84,\"R\",\"\"))","v":""},null,null,null,null,null,{"$f":"IF(Q83=\"\",\"\",IF(Q83=Q84,\"R\",\"\"))","v":""}]
[]
[null,null,null,null,null,null,null,null,null,null,null,{"$f":"IF(K85=\"\",\"\",IF(K85=K86,\"R\",\"\"))","v":""},null,null,null,null,null,{"$f":"IF(Q85=\"\",\"\",IF(Q85=Q86,\"R\",\"\"))","v":""},null,null,null,null,null,null,null,null,"Earlier ties"]
[null,null,null,null,null,null,null,null,null,null,null,null,null,null,null,null,null,null,null,null,null,null,null,null,null,null,null,null,null,{"$f":"IF(AC86=\"\",\"\",IF(AC86=AC87,\"R\",\"\"))","v":""}]
[null,null,null,null,null,null,null,null,null,null,null,{"$f":"IF(K87=\"\",\"\",IF(K87=K88,\"R\",\"\"))","v":""},null,null,null,null,null,{"$f":"IF(Q87=\"\",\"\",IF(Q87=Q88,\"R\",\"\"))","v":""}]
[null,null,null,null,null,null,null,null,null,null,null,null,null,null,null,null,null,null,null,null,null,null,null,null,null,null,null,null,null,{"$f":"IF(AC88=\"\",\"\",IF(AC88=AC89,\"R\",\"\"))","v":""}]
[null,null,null,null,null,null,null,null,null,null,null,{"$f":"IF(K89=\"\",\"\",IF(K89=K90,\"R\",\"\"))","v":""},null,null,null,null,null,{"$f":"IF(Q89=\"\",\"\",IF(Q89=Q90,\"R\",\"\"))","v":""}]
[]
[null,null,null,null,null,null,null,null,null,null,null,{"$f":"IF(K91=\"\",\"\",IF(K91=K92,\"R\",\"\"))","v":""},null,null,null,null,null,{"$f":"IF(Q91=\"\",\"\",IF(Q91=Q92,\"R\",\"\"))","v":""}]
[]
[null,null,null,null,null,null,null,null,null,null,null,{"$f":"IF(K93=\"\",\"\",IF(K93=K94,\"R\",\"\"))","v":""}]

{"sheet":"Prizelist","index":16,"n_rows":26,"n_cols":2,"rows_kept":26,"cut":false,"hidden":false,"merged":[]}
["No of Entrants:",62]
["Fee pp per season",20]
["Fees collected:",{"$f":"B1*B2","v":1240}]
[]
["Number of weeks",20]
["Number of £10 highest weekly score prize",1]
["Number of £5 weekly prizes",3]
["Weekly payouts",{"$f":"(B7*5*B5)+(B6*10*B5)","v":500}]
[]
["Cup winner",25]
["Cup runner-up",15]
["Cup semi-finalists",10]
["Cup payouts",{"$f":"SUM(B10:B12)","v":50}]
[]
["Div A top 6 places (35%/25/18/12/7/3)",{"$f":"Prizes!I2","v":310.5}]
["Div B top 6 places (35%/25/18/12/7/3)",{"$f":"Prizes!I3","v":207}]
["Div C top 6 places (35%/25/18/12/7/3)",{"$f":"Prizes!I4","v":103.5}]
["Div D top 6 places (35%/25/18/12/7/3)",{"$f":"Prizes!I5","v":69}]
[]
["End of season place prices",{"$f":"SUM(B15:B19)","v":690}]
[]
["Fund deductions (eg, non-payers)",0]
[]
["Final placing payouts",{"$f":"B20-B22","v":690}]
[]
["Balance",{"$f":"B3-B8-B13-B20-B22","v":0}]

{"sheet":"Prizes","index":17,"n_rows":101,"n_cols":13,"rows_kept":101,"cut":false,"hidden":false,"merged":[]}
["Menu!A1","Division","Position","Division Pot %","Position%","Div Pot",null,"Total",{"$f":"M2-550","v":690},null,"Division","% of pot","Fees"]
[{"$f":"CONCATENATE(B2,C2)","v":"A1"},"A",1,45,35,{"$f":"PotA*E2/100","v":108.675},null,"Div A",{"$f":"pot*0.45","v":310.5},null,1,45,{"$f":"entrants*20","v":1240}]
[{"$f":"CONCATENATE(B3,C3)","v":"A2"},"A",2,null,25,77.625,null,"Div B",{"$f":"pot*0.3","v":207},null,2,30]
["A3","A",3,null,18,55.89,null,"Div C",{"$f":"pot*0.15","v":103.5},null,3,15]
["A4","A",4,null,12,37.26,null,"Div D",{"$f":"pot*0.1","v":69},null,4,10]
["A5","A",5,null,7,21.734999999999999,null,null,null,null,null,{"$f":"SUM(L2:L5)","v":100}]
["A6","A",6,null,3,9.3149999999999995]
["A7","A",7,null,null,0]
["A8","A",8,null,null,0]
["A9","A",9,null,null,0]
["A10","A",10,null,null,0]
["A11","A",11,null,null,0]
["A12","A",12,null,null,0]
["A13","A",13,null,null,0]
["A14","A",14,null,null,0]
["A15","A",15,null,null,0]
["A16","A",16,null,null,0]
["B1","B",1,30,35,{"$f":"PotB*E18/100","v":72.45}]
["B2","B",2,null,25,51.75]
["B3","B",3,null,18,37.26]
["B4","B",4,null,12,24.84]
["B5","B",5,null,7,14.49]
["B6","B",6,null,3,6.21]
["B7","B",7,null,null,0]
["B8","B",8,null,null,0]
["B9","B",9,null,null,0]
["B10","B",10,null,null,0]
["B11","B",11,null,null,0]
["B12","B",12,null,null,0]
["B13","B",13,null,null,0]
["B14","B",14,null,null,0]
["B15","B",15,null,null,0]
["B16","B",16,null,null,0]
["C1","C",1,15,35,{"$f":"PotC*E34/100","v":36.225000000000001}]
["C2","C",2,null,25,25.875]
["C3","C",3,null,18,18.63]
["C4","C",4,null,12,12.42]
["C5","C",5,null,7,7.2450000000000001]
["C6","C",6,null,3,3.105]
["C7","C",7,null,null,0]
["C8","C",8,null,null,0]
["C9","C",9,null,null,0]
["C10","C",10,null,null,0]
["C11","C",11,null,null,0]
["C12","C",12,null,null,0]
["C13","C",13,null,null,0]
["C14","C",14,null,null,0]
["C15","C",15,null,null,0]
["C16","C",16,null,null,0]
["D1","D",1,10,35,{"$f":"PotD*E50/100","v":24.15}]
["D2","D",2,null,25,17.25]
["D3","D",3,null,18,12.42]
["D4","D",4,null,12,8.2799999999999994]
["D5","D",5,null,7,4.83]
["D6","D",6,null,3,2.0699999999999998]
["D7","D",7,null,null,0]
["D8","D",8,null,null,0]
["D9","D",9,null,null,0]
["D10","D",10,null,null,0]
["D11","D",11,null,null,0]
["D12","D",12,null,null,0]
["D13","D",13,null,null,0]
["D14","D",14,null,null,0]
[{"$f":"CONCATENATE(B64,C64)","v":"D15"},"D",15,null,null,0]
["D16","D",16,null,null,0]
["D17","D",17,null,null,0]
["D18","D",18,null,null,0]
["D19","D",19,null,null,0]
["D20","D",20,null,null,0]
["D21","D",21,null,null,0]
["D22","D",22,null,null,0]
["D23","D",23,null,null,0]
["D24","D",24,null,null,0]
["D25","D",25,null,null,0]
["D26","D",26,null,null,0]
["D27","D",27,null,null,0]
["D28","D",28,null,null,0]
["D29","D",29,null,null,0]
["D30","D",30,null,null,0]
["D31","D",31,null,null,0]
["D32","D",32,null,null,0]
["D33","D",33,null,null,0]
["D34","D",34,null,null,0]
["D35","D",35,null,null,0]
["D36","D",36,null,null,0]
["D37","D",37,null,null,0]
["D38","D",38,null,null,0]
["D39","D",39,null,null,0]
["D40","D",40,null,null,0]
["D41","D",41,null,null,0]
["D42","D",42,null,null,0]
["D43","D",43,null,null,0]
["D44","D",44,null,null,0]
["D45","D",45,null,null,0]
["D46","D",46,null,null,0]
["D47","D",47,null,null,0]
["D48","D",48,null,null,0]
["D49","D",49,null,null,0]
["D50","D",50,null,null,0]
["D51","D",51,null,null,0]
["D52","D",52,null,null,0]

{"sheet":"Odds","index":18,"n_rows":139,"n_cols":17,"rows_kept":139,"cut":false,"hidden":false,"merged":[]}
["Date",null,"Competition","Odds","Result","Choices","Odds","Dec","Bet Up","Home team","Home win odds","Away team","Draw odds","Away odds","Home dec","Draw dec","Away dec"]
[{"$f":"IF(Match!A2=\"\",\"\",Match!A2)","v":"2020-12-11"},{"$f":"IF(A2=\"\",\"\",WEEKDAY(A2))","v":"1900-01-06"},{"$f":"IF(Match!C2=\"\",\"\",Match!C2)","v":"Premier"},{"$f":"IF(Match!S2=\"\",\"\",Match!S2)","v":"Leeds  v  West Ham   23/20  27/10  11/5"},{"$f":"IF(Match!T2=\"\",\"\",Match!T2)","v":"Leeds 1-2 West Ham "},{"$f":"IF(D2=\"\",\"\",J2)","v":"Leeds"},{"$f":"IF(D2=\"\",\"\",K2)","v":"23/20"},{"$f":"IF(D2=\"\",\"\",O2)","v":2.15},{"$f":"INDEX(Picks!T:T,MATCH(F2,Picks!R:R,0))","v":0},{"$f":"INDEX(Match!O:O,MATCH(D2,Match!S:S,0))","v":"Leeds"},{"$f":"INDEX(Match!V:V,MATCH(D2,Match!S:S,0))","v":"23/20"},{"$f":"INDEX(Match!P:P,MATCH(D2,Match!S:S,0))","v":"West Ham"},{"$f":"INDEX(Match!W:W,MATCH(D2,Match!S:S,0))","v":"27/10"},{"$f":"INDEX(Match!X:X,MATCH(D2,Match!S:S,0))","v":"11/5"},{"$f":"INDEX(Match!Y:Y,MATCH(D2,Match!S:S,0))","v":2.15},{"$f":"INDEX(Match!Z:Z,MATCH(D2,Match!S:S,0))","v":3.7},{"$f":"INDEX(Match!AA:AA,MATCH(D2,Match!S:S,0))","v":3.2}]
[{"$f":"IF(Match!A3=\"\",\"\",Match!A3)","v":"2020-12-12"},{"$f":"IF(A3=\"\",\"\",WEEKDAY(A3))","v":"1900-01-07"},{"$f":"IF(Match!C3=\"\",\"\",Match!C3)","v":"Premier"},{"$f":"IF(Match!S3=\"\",\"\",Match!S3)","v":"Everton  v  Chelsea   10/3  3/1  3/4"},{"$f":"IF(Match!T3=\"\",\"\",Match!T3)","v":"Everton 1-0 Chelsea "},"Everton","10/3",{"$f":"IF(D3=\"\",\"\",O3)","v":4.3333333333333339},{"$f":"INDEX(Picks!T:T,MATCH(F3,Picks!R:R,0))","v":1},{"$f":"INDEX(Match!O:O,MATCH(D3,Match!S:S,0))","v":"Everton"},{"$f":"INDEX(Match!V:V,MATCH(D3,Match!S:S,0))","v":"10/3"},{"$f":"INDEX(Match!P:P,MATCH(D3,Match!S:S,0))","v":"Chelsea"},{"$f":"INDEX(Match!W:W,MATCH(D3,Match!S:S,0))","v":"3/1"},{"$f":"INDEX(Match!X:X,MATCH(D3,Match!S:S,0))","v":"3/4"},{"$f":"INDEX(Match!Y:Y,MATCH(D3,Match!S:S,0))","v":4.3333333333333339},{"$f":"INDEX(Match!Z:Z,MATCH(D3,Match!S:S,0))","v":4},{"$f":"INDEX(Match!AA:AA,MATCH(D3,Match!S:S,0))","v":1.75}]
[{"$f":"IF(Match!A4=\"\",\"\",Match!A4)","v":"2020-12-12"},"1900-01-07",{"$f":"IF(Match!C4=\"\",\"\",Match!C4)","v":"Premier"},{"$f":"IF(Match!S4=\"\",\"\",Match!S4)","v":"Man U  v  Man C   10/3  3/1  3/4"},{"$f":"IF(Match!T4=\"\",\"\",Match!T4)","v":"Man U 0-0 Man C "},"Man U","10/3",4.3333333333333339,{"$f":"INDEX(Picks!T:T,MATCH(F4,Picks!R:R,0))","v":0},{"$f":"INDEX(Match!O:O,MATCH(D4,Match!S:S,0))","v":"Man U"},{"$f":"INDEX(Match!V:V,MATCH(D4,Match!S:S,0))","v":"10/3"},{"$f":"INDEX(Match!P:P,MATCH(D4,Match!S:S,0))","v":"Man C"},{"$f":"INDEX(Match!W:W,MATCH(D4,Match!S:S,0))","v":"3/1"},{"$f":"INDEX(Match!X:X,MATCH(D4,Match!S:S,0))","v":"3/4"},{"$f":"INDEX(Match!Y:Y,MATCH(D4,Match!S:S,0))","v":4.3333333333333339},{"$f":"INDEX(Match!Z:Z,MATCH(D4,Match!S:S,0))","v":4},{"$f":"INDEX(Match!AA:AA,MATCH(D4,Match!S:S,0))","v":1.75}]
[{"$f":"IF(Match!A5=\"\",\"\",Match!A5)","v":"2020-12-12"},"1900-01-07",{"$f":"IF(Match!C5=\"\",\"\",Match!C5)","v":"Premier"},{"$f":"IF(Match!S5=\"\",\"\",Match!S5)","v":"Newcastle  v  West Brom   5/4  11/5  12/5"},{"$f":"IF(Match!T5=\"\",\"\",Match!T5)","v":"Newcastle 2-1 West Brom "},"Newcastle","5/4",2.25,{"$f":"INDEX(Picks!T:T,MATCH(F5,Picks!R:R,0))","v":1},{"$f":"INDEX(Match!O:O,MATCH(D5,Match!S:S,0))","v":"Newcastle"},{"$f":"INDEX(Match!V:V,MATCH(D5,Match!S:S,0))","v":"5/4"},{"$f":"INDEX(Match!P:P,MATCH(D5,Match!S:S,0))","v":"West Brom"},{"$f":"INDEX(Match!W:W,MATCH(D5,Match!S:S,0))","v":"11/5"},{"$f":"INDEX(Match!X:X,MATCH(D5,Match!S:S,0))","v":"12/5"},{"$f":"INDEX(Match!Y:Y,MATCH(D5,Match!S:S,0))","v":2.25},{"$f":"INDEX(Match!Z:Z,MATCH(D5,Match!S:S,0))","v":3.2},{"$f":"INDEX(Match!AA:AA,MATCH(D5,Match!S:S,0))","v":3.4}]
[{"$f":"IF(Match!A6=\"\",\"\",Match!A6)","v":"2020-12-12"},"1900-01-07",{"$f":"IF(Match!C6=\"\",\"\",Match!C6)","v":"Premier"},{"$f":"IF(Match!S6=\"\",\"\",Match!S6)","v":"Wolves  v  Villa   13/10  23/10  11/5"},{"$f":"IF(Match!T6=\"\",\"\",Match!T6)","v":"Wolves 0-1 Villa "},"Wolves","13/10",2.2999999999999998,{"$f":"INDEX(Picks!T:T,MATCH(F6,Picks!R:R,0))","v":0},{"$f":"INDEX(Match!O:O,MATCH(D6,Match!S:S,0))","v":"Wolves"},{"$f":"INDEX(Match!V:V,MATCH(D6,Match!S:S,0))","v":"13/10"},{"$f":"INDEX(Match!P:P,MATCH(D6,Match!S:S,0))","v":"Villa"},{"$f":"INDEX(Match!W:W,MATCH(D6,Match!S:S,0))","v":"23/10"},{"$f":"INDEX(Match!X:X,MATCH(D6,Match!S:S,0))","v":"11/5"},{"$f":"INDEX(Match!Y:Y,MATCH(D6,Match!S:S,0))","v":2.2999999999999998},{"$f":"INDEX(Match!Z:Z,MATCH(D6,Match!S:S,0))","v":3.3},{"$f":"INDEX(Match!AA:AA,MATCH(D6,Match!S:S,0))","v":3.2}]
[{"$f":"IF(Match!A7=\"\",\"\",Match!A7)","v":"2020-12-12"},"1900-01-07",{"$f":"IF(Match!C7=\"\",\"\",Match!C7)","v":"Champ"},{"$f":"IF(Match!S7=\"\",\"\",Match!S7)","v":"Birmingham  v  Watford   3/1  11/5  21/20"},{"$f":"IF(Match!T7=\"\",\"\",Match!T7)","v":"Birmingham 0-1 Watford "},"Birmingham","3/1",4,{"$f":"INDEX(Picks!T:T,MATCH(F7,Picks!R:R,0))","v":0},{"$f":"INDEX(Match!O:O,MATCH(D7,Match!S:S,0))","v":"Birmingham"},{"$f":"INDEX(Match!V:V,MATCH(D7,Match!S:S,0))","v":"3/1"},{"$f":"INDEX(Match!P:P,MATCH(D7,Match!S:S,0))","v":"Watford"},{"$f":"INDEX(Match!W:W,MATCH(D7,Match!S:S,0))","v":"11/5"},{"$f":"INDEX(Match!X:X,MATCH(D7,Match!S:S,0))","v":"21/20"},{"$f":"INDEX(Match!Y:Y,MATCH(D7,Match!S:S,0))","v":4},{"$f":"INDEX(Match!Z:Z,MATCH(D7,Match!S:S,0))","v":3.2},{"$f":"INDEX(Match!AA:AA,MATCH(D7,Match!S:S,0))","v":2.0499999999999998}]
[{"$f":"IF(Match!A8=\"\",\"\",Match!A8)","v":"2020-12-12"},"1900-01-07",{"$f":"IF(Match!C8=\"\",\"\",Match!C8)","v":"Champ"},{"$f":"IF(Match!S8=\"\",\"\",Match!S8)","v":"Blackburn  v  Norwich   6/4  5/2  7/4"},{"$f":"IF(Match!T8=\"\",\"\",Match!T8)","v":"Blackburn 1-2 Norwich "},"Blackburn","6/4",2.5,{"$f":"INDEX(Picks!T:T,MATCH(F8,Picks!R:R,0))","v":0},{"$f":"INDEX(Match!O:O,MATCH(D8,Match!S:S,0))","v":"Blackburn"},{"$f":"INDEX(Match!V:V,MATCH(D8,Match!S:S,0))","v":"6/4"},{"$f":"INDEX(Match!P:P,MATCH(D8,Match!S:S,0))","v":"Norwich"},{"$f":"INDEX(Match!W:W,MATCH(D8,Match!S:S,0))","v":"5/2"},{"$f":"INDEX(Match!X:X,MATCH(D8,Match!S:S,0))","v":"7/4"},{"$f":"INDEX(Match!Y:Y,MATCH(D8,Match!S:S,0))","v":2.5},{"$f":"INDEX(Match!Z:Z,MATCH(D8,Match!S:S,0))","v":3.5},{"$f":"INDEX(Match!AA:AA,MATCH(D8,Match!S:S,0))","v":2.75}]
[{"$f":"IF(Match!A9=\"\",\"\",Match!A9)","v":"2020-12-12"},"1900-01-07",{"$f":"IF(Match!C9=\"\",\"\",Match!C9)","v":"Champ"},{"$f":"IF(Match!S9=\"\",\"\",Match!S9)","v":"Bournemouth  v  Huddersfield   13/20  29/10  9/2"},{"$f":"IF(Match!T9=\"\",\"\",Match!T9)","v":"Bournemouth 5-0 Huddersfield "},"Bournemouth","13/20",1.65,{"$f":"INDEX(Picks!T:T,MATCH(F9,Picks!R:R,0))","v":1},{"$f":"INDEX(Match!O:O,MATCH(D9,Match!S:S,0))","v":"Bournemouth"},{"$f":"INDEX(Match!V:V,MATCH(D9,Match!S:S,0))","v":"13/20"},{"$f":"INDEX(Match!P:P,MATCH(D9,Match!S:S,0))","v":"Huddersfield"},{"$f":"INDEX(Match!W:W,MATCH(D9,Match!S:S,0))","v":"29/10"},{"$f":"INDEX(Match!X:X,MATCH(D9,Match!S:S,0))","v":"9/2"},{"$f":"INDEX(Match!Y:Y,MATCH(D9,Match!S:S,0))","v":1.65},{"$f":"INDEX(Match!Z:Z,MATCH(D9,Match!S:S,0))","v":3.9},{"$f":"INDEX(Match!AA:AA,MATCH(D9,Match!S:S,0))","v":5.5}]
[{"$f":"IF(Match!A10=\"\",\"\",Match!A10)","v":"2020-12-12"},"1900-01-07",{"$f":"IF(Match!C10=\"\",\"\",Match!C10)","v":"Champ"},{"$f":"IF(Match!S10=\"\",\"\",Match!S10)","v":"Cardiff  v  Swansea   29/20  11/5  2/1"},{"$f":"IF(Match!T10=\"\",\"\",Match!T10)","v":"Cardiff 0-2 Swansea "},"Cardiff","29/20",2.4500000000000002,{"$f":"INDEX(Picks!T:T,MATCH(F10,Picks!R:R,0))","v":0},{"$f":"INDEX(Match!O:O,MATCH(D10,Match!S:S,0))","v":"Cardiff"},{"$f":"INDEX(Match!V:V,MATCH(D10,Match!S:S,0))","v":"29/20"},{"$f":"INDEX(Match!P:P,MATCH(D10,Match!S:S,0))","v":"Swansea"},{"$f":"INDEX(Match!W:W,MATCH(D10,Match!S:S,0))","v":"11/5"},{"$f":"INDEX(Match!X:X,MATCH(D10,Match!S:S,0))","v":"2/1"},{"$f":"INDEX(Match!Y:Y,MATCH(D10,Match!S:S,0))","v":2.4500000000000002},{"$f":"INDEX(Match!Z:Z,MATCH(D10,Match!S:S,0))","v":3.2},{"$f":"INDEX(Match!AA:AA,MATCH(D10,Match!S:S,0))","v":3}]
[{"$f":"IF(Match!A11=\"\",\"\",Match!A11)","v":"2020-12-12"},"1900-01-07",{"$f":"IF(Match!C11=\"\",\"\",Match!C11)","v":"Champ"},{"$f":"IF(Match!S11=\"\",\"\",Match!S11)","v":"Derby  v  Stoke   15/8  11/5  8/5"},{"$f":"IF(Match!T11=\"\",\"\",Match!T11)","v":"Derby 0-0 Stoke "},"Derby","15/8",2.875,{"$f":"INDEX(Picks!T:T,MATCH(F11,Picks!R:R,0))","v":0},{"$f":"INDEX(Match!O:O,MATCH(D11,Match!S:S,0))","v":"Derby"},{"$f":"INDEX(Match!V:V,MATCH(D11,Match!S:S,0))","v":"15/8"},{"$f":"INDEX(Match!P:P,MATCH(D11,Match!S:S,0))","v":"Stoke"},{"$f":"INDEX(Match!W:W,MATCH(D11,Match!S:S,0))","v":"11/5"},{"$f":"INDEX(Match!X:X,MATCH(D11,Match!S:S,0))","v":"8/5"},{"$f":"INDEX(Match!Y:Y,MATCH(D11,Match!S:S,0))","v":2.875},{"$f":"INDEX(Match!Z:Z,MATCH(D11,Match!S:S,0))","v":3.2},{"$f":"INDEX(Match!AA:AA,MATCH(D11,Match!S:S,0))","v":2.6}]
[{"$f":"IF(Match!A12=\"\",\"\",Match!A12)","v":"2020-12-12"},"1900-01-07",{"$f":"IF(Match!C12=\"\",\"\",Match!C12)","v":"Champ"},{"$f":"IF(Match!S12=\"\",\"\",Match!S12)","v":"Forest  v  Brentford   14/5  11/5  11/10"},{"$f":"IF(Match!T12=\"\",\"\",Match!T12)","v":"Forest 1-3 Brentford "},"Forest","14/5",3.8,{"$f":"INDEX(Picks!T:T,MATCH(F12,Picks!R:R,0))","v":0},{"$f":"INDEX(Match!O:O,MATCH(D12,Match!S:S,0))","v":"Forest"},{"$f":"INDEX(Match!V:V,MATCH(D12,Match!S:S,0))","v":"14/5"},{"$f":"INDEX(Match!P:P,MATCH(D12,Match!S:S,0))","v":"Brentford"},{"$f":"INDEX(Match!W:W,MATCH(D12,Match!S:S,0))","v":"11/5"},{"$f":"INDEX(Match!X:X,MATCH(D12,Match!S:S,0))","v":"11/10"},{"$f":"INDEX(Match!Y:Y,MATCH(D12,Match!S:S,0))","v":3.8},{"$f":"INDEX(Match!Z:Z,MATCH(D12,Match!S:S,0))","v":3.2},{"$f":"INDEX(Match!AA:AA,MATCH(D12,Match!S:S,0))","v":2.1}]
[{"$f":"IF(Match!A13=\"\",\"\",Match!A13)","v":"2020-12-12"},"1900-01-07",{"$f":"IF(Match!C13=\"\",\"\",Match!C13)","v":"Champ"},{"$f":"IF(Match!S13=\"\",\"\",Match!S13)","v":"Luton  v  Preston   2/1  11/5  6/4"},{"$f":"IF(Match!T13=\"\",\"\",Match!T13)","v":"Luton 3-0 Preston "},"Luton","2/1",3,{"$f":"INDEX(Picks!T:T,MATCH(F13,Picks!R:R,0))","v":1},{"$f":"INDEX(Match!O:O,MATCH(D13,Match!S:S,0))","v":"Luton"},{"$f":"INDEX(Match!V:V,MATCH(D13,Match!S:S,0))","v":"2/1"},{"$f":"INDEX(Match!P:P,MATCH(D13,Match!S:S,0))","v":"Preston"},{"$f":"INDEX(Match!W:W,MATCH(D13,Match!S:S,0))","v":"11/5"},{"$f":"INDEX(Match!X:X,MATCH(D13,Match!S:S,0))","v":"6/4"},{"$f":"INDEX(Match!Y:Y,MATCH(D13,Match!S:S,0))","v":3},{"$f":"INDEX(Match!Z:Z,MATCH(D13,Match!S:S,0))","v":3.2},{"$f":"INDEX(Match!AA:AA,MATCH(D13,Match!S:S,0))","v":2.5}]
[{"$f":"IF(Match!A14=\"\",\"\",Match!A14)","v":"2020-12-12"},"1900-01-07",{"$f":"IF(Match!C14=\"\",\"\",Match!C14)","v":"Champ"},{"$f":"IF(Match!S14=\"\",\"\",Match!S14)","v":"Middlesbro  v  Millwall   23/20  11/5  27/10"},{"$f":"IF(Match!T14=\"\",\"\",Match!T14)","v":"Middlesbro 3-0 Millwall "},"Middlesbro","23/20",2.15,{"$f":"INDEX(Picks!T:T,MATCH(F14,Picks!R:R,0))","v":1},{"$f":"INDEX(Match!O:O,MATCH(D14,Match!S:S,0))","v":"Middlesbro"},{"$f":"INDEX(Match!V:V,MATCH(D14,Match!S:S,0))","v":"23/20"},{"$f":"INDEX(Match!P:P,MATCH(D14,Match!S:S,0))","v":"Millwall"},{"$f":"INDEX(Match!W:W,MATCH(D14,Match!S:S,0))","v":"11/5"},{"$f":"INDEX(Match!X:X,MATCH(D14,Match!S:S,0))","v":"27/10"},{"$f":"INDEX(Match!Y:Y,MATCH(D14,Match!S:S,0))","v":2.15},{"$f":"INDEX(Match!Z:Z,MATCH(D14,Match!S:S,0))","v":3.2},{"$f":"INDEX(Match!AA:AA,MATCH(D14,Match!S:S,0))","v":3.7}]
[{"$f":"IF(Match!A15=\"\",\"\",Match!A15)","v":"2020-12-12"},"1900-01-07",{"$f":"IF(Match!C15=\"\",\"\",Match!C15)","v":"Champ"},{"$f":"IF(Match!S15=\"\",\"\",Match!S15)","v":"QPR  v  Reading   13/8  23/10  17/10"},{"$f":"IF(Match!T15=\"\",\"\",Match!T15)","v":"QPR 0-1 Reading "},"QPR","13/8",2.625,{"$f":"INDEX(Picks!T:T,MATCH(F15,Picks!R:R,0))","v":0},{"$f":"INDEX(Match!O:O,MATCH(D15,Match!S:S,0))","v":"QPR"},{"$f":"INDEX(Match!V:V,MATCH(D15,Match!S:S,0))","v":"13/8"},{"$f":"INDEX(Match!P:P,MATCH(D15,Match!S:S,0))","v":"Reading"},{"$f":"INDEX(Match!W:W,MATCH(D15,Match!S:S,0))","v":"23/10"},{"$f":"INDEX(Match!X:X,MATCH(D15,Match!S:S,0))","v":"17/10"},{"$f":"INDEX(Match!Y:Y,MATCH(D15,Match!S:S,0))","v":2.625},{"$f":"INDEX(Match!Z:Z,MATCH(D15,Match!S:S,0))","v":3.3},{"$f":"INDEX(Match!AA:AA,MATCH(D15,Match!S:S,0))","v":2.7}]
[{"$f":"IF(Match!A16=\"\",\"\",Match!A16)","v":"2020-12-12"},"1900-01-07",{"$f":"IF(Match!C16=\"\",\"\",Match!C16)","v":"Champ"},{"$f":"IF(Match!S16=\"\",\"\",Match!S16)","v":"Rotherham  v  Bristol C   19/10  9/4  6/4"},{"$f":"IF(Match!T16=\"\",\"\",Match!T16)","v":"Rotherham 2-0 Bristol C "},"Rotherham","19/10",2.9,{"$f":"INDEX(Picks!T:T,MATCH(F16,Picks!R:R,0))","v":1},{"$f":"INDEX(Match!O:O,MATCH(D16,Match!S:S,0))","v":"Rotherham"},{"$f":"INDEX(Match!V:V,MATCH(D16,Match!S:S,0))","v":"19/10"},{"$f":"INDEX(Match!P:P,MATCH(D16,Match!S:S,0))","v":"Bristol C"},{"$f":"INDEX(Match!W:W,MATCH(D16,Match!S:S,0))","v":"9/4"},{"$f":"INDEX(Match!X:X,MATCH(D16,Match!S:S,0))","v":"6/4"},{"$f":"INDEX(Match!Y:Y,MATCH(D16,Match!S:S,0))","v":2.9},{"$f":"INDEX(Match!Z:Z,MATCH(D16,Match!S:S,0))","v":3.25},{"$f":"INDEX(Match!AA:AA,MATCH(D16,Match!S:S,0))","v":2.5}]
[{"$f":"IF(Match!A17=\"\",\"\",Match!A17)","v":"2020-12-12"},"1900-01-07",{"$f":"IF(Match!C17=\"\",\"\",Match!C17)","v":"Champ"},{"$f":"IF(Match!S17=\"\",\"\",Match!S17)","v":"Sheff W  v  Barnsley   6/4  21/10  21/10"},{"$f":"IF(Match!T17=\"\",\"\",Match!T17)","v":"Sheff W 1-2 Barnsley "},"Sheff W","6/4",2.5,{"$f":"INDEX(Picks!T:T,MATCH(F17,Picks!R:R,0))","v":0},{"$f":"INDEX(Match!O:O,MATCH(D17,Match!S:S,0))","v":"Sheff W"},{"$f":"INDEX(Match!V:V,MATCH(D17,Match!S:S,0))","v":"6/4"},{"$f":"INDEX(Match!P:P,MATCH(D17,Match!S:S,0))","v":"Barnsley"},{"$f":"INDEX(Match!W:W,MATCH(D17,Match!S:S,0))","v":"21/10"},{"$f":"INDEX(Match!X:X,MATCH(D17,Match!S:S,0))","v":"21/10"},{"$f":"INDEX(Match!Y:Y,MATCH(D17,Match!S:S,0))","v":2.5},{"$f":"INDEX(Match!Z:Z,MATCH(D17,Match!S:S,0))","v":3.1},{"$f":"INDEX(Match!AA:AA,MATCH(D17,Match!S:S,0))","v":3.1}]
[{"$f":"IF(Match!A18=\"\",\"\",Match!A18)","v":"2020-12-12"},"1900-01-07",{"$f":"IF(Match!C21=\"\",\"\",Match!C21)","v":"League 1"},{"$f":"IF(Match!S18=\"\",\"\",Match!S18)","v":"Wycombe  v  Coventry   21/10  9/4  11/8"},{"$f":"IF(Match!T18=\"\",\"\",Match!T18)","v":"Wycombe 1-2 Coventry "},"Wycombe","21/10",3.1,{"$f":"INDEX(Picks!T:T,MATCH(F18,Picks!R:R,0))","v":0},{"$f":"INDEX(Match!O:O,MATCH(D18,Match!S:S,0))","v":"Wycombe"},{"$f":"INDEX(Match!V:V,MATCH(D18,Match!S:S,0))","v":"21/10"},{"$f":"INDEX(Match!P:P,MATCH(D18,Match!S:S,0))","v":"Coventry"},{"$f":"INDEX(Match!W:W,MATCH(D18,Match!S:S,0))","v":"9/4"},{"$f":"INDEX(Match!X:X,MATCH(D18,Match!S:S,0))","v":"11/8"},{"$f":"INDEX(Match!Y:Y,MATCH(D18,Match!S:S,0))","v":3.1},{"$f":"INDEX(Match!Z:Z,MATCH(D18,Match!S:S,0))","v":3.25},{"$f":"INDEX(Match!AA:AA,MATCH(D18,Match!S:S,0))","v":2.375}]
[{"$f":"IF(Match!A19=\"\",\"\",Match!A19)","v":"2020-12-12"},"1900-01-07",{"$f":"IF(Match!C19=\"\",\"\",Match!C19)","v":"League 1"},{"$f":"IF(Match!S19=\"\",\"\",Match!S19)","v":"Blackpool  v  Oxford   6/5  9/4  12/5"},{"$f":"IF(Match!T19=\"\",\"\",Match!T19)","v":"Blackpool 0-0 Oxford "},"Blackpool","6/5",2.2000000000000002,{"$f":"INDEX(Picks!T:T,MATCH(F19,Picks!R:R,0))","v":0},{"$f":"INDEX(Match!O:O,MATCH(D19,Match!S:S,0))","v":"Blackpool"},{"$f":"INDEX(Match!V:V,MATCH(D19,Match!S:S,0))","v":"6/5"},{"$f":"INDEX(Match!P:P,MATCH(D19,Match!S:S,0))","v":"Oxford"},{"$f":"INDEX(Match!W:W,MATCH(D19,Match!S:S,0))","v":"9/4"},{"$f":"INDEX(Match!X:X,MATCH(D19,Match!S:S,0))","v":"12/5"},{"$f":"INDEX(Match!Y:Y,MATCH(D19,Match!S:S,0))","v":2.2000000000000002},{"$f":"INDEX(Match!Z:Z,MATCH(D19,Match!S:S,0))","v":3.25},{"$f":"INDEX(Match!AA:AA,MATCH(D19,Match!S:S,0))","v":3.4}]
[{"$f":"IF(Match!A20=\"\",\"\",Match!A20)","v":"2020-12-12"},"1900-01-07",{"$f":"IF(Match!C20=\"\",\"\",Match!C20)","v":"League 1"},{"$f":"IF(Match!S20=\"\",\"\",Match!S20)","v":"Bristol R  v  Plymouth   29/20  5/2  17/10"},{"$f":"IF(Match!T20=\"\",\"\",Match!T20)","v":"Bristol R 3-0 Plymouth "},"Bristol R","29/20",2.4500000000000002,{"$f":"INDEX(Picks!T:T,MATCH(F20,Picks!R:R,0))","v":1},{"$f":"INDEX(Match!O:O,MATCH(D20,Match!S:S,0))","v":"Bristol R"},{"$f":"INDEX(Match!V:V,MATCH(D20,Match!S:S,0))","v":"29/20"},{"$f":"INDEX(Match!P:P,MATCH(D20,Match!S:S,0))","v":"Plymouth"},{"$f":"INDEX(Match!W:W,MATCH(D20,Match!S:S,0))","v":"5/2"},{"$f":"INDEX(Match!X:X,MATCH(D20,Match!S:S,0))","v":"17/10"},{"$f":"INDEX(Match!Y:Y,MATCH(D20,Match!S:S,0))","v":2.4500000000000002},{"$f":"INDEX(Match!Z:Z,MATCH(D20,Match!S:S,0))","v":3.5},{"$f":"INDEX(Match!AA:AA,MATCH(D20,Match!S:S,0))","v":2.7}]
[{"$f":"IF(Match!A21=\"\",\"\",Match!A21)","v":"2020-12-12"},"1900-01-07",{"$f":"IF(Match!C21=\"\",\"\",Match!C21)","v":"League 1"},{"$f":"IF(Match!S21=\"\",\"\",Match!S21)","v":"Charlton  v  Wimbledon   19/20  5/2  17/10"},{"$f":"IF(Match!T21=\"\",\"\",Match!T21)","v":"Charlton 5-2 Wimbledon "},"Charlton","19/20",1.95,{"$f":"INDEX(Picks!T:T,MATCH(F21,Picks!R:R,0))","v":1},{"$f":"INDEX(Match!O:O,MATCH(D21,Match!S:S,0))","v":"Charlton"},{"$f":"INDEX(Match!V:V,MATCH(D21,Match!S:S,0))","v":"19/20"},{"$f":"INDEX(Match!P:P,MATCH(D21,Match!S:S,0))","v":"Wimbledon"},{"$f":"INDEX(Match!W:W,MATCH(D21,Match!S:S,0))","v":"5/2"},{"$f":"INDEX(Match!X:X,MATCH(D21,Match!S:S,0))","v":"17/10"},{"$f":"INDEX(Match!Y:Y,MATCH(D21,Match!S:S,0))","v":1.95},{"$f":"INDEX(Match!Z:Z,MATCH(D21,Match!S:S,0))","v":3.5},{"$f":"INDEX(Match!AA:AA,MATCH(D21,Match!S:S,0))","v":2.7}]
[{"$f":"IF(Match!A22=\"\",\"\",Match!A22)","v":"2020-12-12"},"1900-01-07",{"$f":"IF(Match!C22=\"\",\"\",Match!C22)","v":"League 1"},{"$f":"IF(Match!S22=\"\",\"\",Match!S22)","v":"Crewe  v  Northampton   3/4  13/5  15/4"},{"$f":"IF(Match!T22=\"\",\"\",Match!T22)","v":"Crewe 2-1 Northampton "},"Crewe","3/4",1.75,{"$f":"INDEX(Picks!T:T,MATCH(F22,Picks!R:R,0))","v":1},{"$f":"INDEX(Match!O:O,MATCH(D22,Match!S:S,0))","v":"Crewe"},{"$f":"INDEX(Match!V:V,MATCH(D22,Match!S:S,0))","v":"3/4"},{"$f":"INDEX(Match!P:P,MATCH(D22,Match!S:S,0))","v":"Northampton"},{"$f":"INDEX(Match!W:W,MATCH(D22,Match!S:S,0))","v":"13/5"},{"$f":"INDEX(Match!X:X,MATCH(D22,Match!S:S,0))","v":"15/4"},{"$f":"INDEX(Match!Y:Y,MATCH(D22,Match!S:S,0))","v":1.75},{"$f":"INDEX(Match!Z:Z,MATCH(D22,Match!S:S,0))","v":3.6},{"$f":"INDEX(Match!AA:AA,MATCH(D22,Match!S:S,0))","v":4.75}]
[{"$f":"IF(Match!A23=\"\",\"\",Match!A23)","v":"2020-12-12"},"1900-01-07",{"$f":"IF(Match!C23=\"\",\"\",Match!C23)","v":"League 1"},{"$f":"IF(Match!S23=\"\",\"\",Match!S23)","v":"Doncaster  v  Gillingham   10/11  13/5  29/10"},{"$f":"IF(Match!T23=\"\",\"\",Match!T23)","v":"Doncaster 2-1 Gillingham "},"Doncaster","10/11",1.9090909090909092,{"$f":"INDEX(Picks!T:T,MATCH(F23,Picks!R:R,0))","v":1},{"$f":"INDEX(Match!O:O,MATCH(D23,Match!S:S,0))","v":"Doncaster"},{"$f":"INDEX(Match!V:V,MATCH(D23,Match!S:S,0))","v":"10/11"},{"$f":"INDEX(Match!P:P,MATCH(D23,Match!S:S,0))","v":"Gillingham"},{"$f":"INDEX(Match!W:W,MATCH(D23,Match!S:S,0))","v":"13/5"},{"$f":"INDEX(Match!X:X,MATCH(D23,Match!S:S,0))","v":"29/10"},{"$f":"INDEX(Match!Y:Y,MATCH(D23,Match!S:S,0))","v":1.9090909090909092},{"$f":"INDEX(Match!Z:Z,MATCH(D23,Match!S:S,0))","v":3.6},{"$f":"INDEX(Match!AA:AA,MATCH(D23,Match!S:S,0))","v":3.9}]
[{"$f":"IF(Match!A24=\"\",\"\",Match!A24)","v":"2020-12-12"},"1900-01-07",{"$f":"IF(Match!C24=\"\",\"\",Match!C24)","v":"League 1"},{"$f":"IF(Match!S24=\"\",\"\",Match!S24)","v":"Hull  v  Shrewsbury   6/10  14/5  24/5"},{"$f":"IF(Match!T24=\"\",\"\",Match!T24)","v":"Hull 0-1 Shrewsbury "},"Hull","6/10",1.6,{"$f":"INDEX(Picks!T:T,MATCH(F24,Picks!R:R,0))","v":0},{"$f":"INDEX(Match!O:O,MATCH(D24,Match!S:S,0))","v":"Hull"},{"$f":"INDEX(Match!V:V,MATCH(D24,Match!S:S,0))","v":"6/10"},{"$f":"INDEX(Match!P:P,MATCH(D24,Match!S:S,0))","v":"Shrewsbury"},{"$f":"INDEX(Match!W:W,MATCH(D24,Match!S:S,0))","v":"14/5"},{"$f":"INDEX(Match!X:X,MATCH(D24,Match!S:S,0))","v":"24/5"},{"$f":"INDEX(Match!Y:Y,MATCH(D24,Match!S:S,0))","v":1.6},{"$f":"INDEX(Match!Z:Z,MATCH(D24,Match!S:S,0))","v":3.8},{"$f":"INDEX(Match!AA:AA,MATCH(D24,Match!S:S,0))","v":5.8}]
[{"$f":"IF(Match!A25=\"\",\"\",Match!A25)","v":"2020-12-12"},"1900-01-07",{"$f":"IF(Match!C25=\"\",\"\",Match!C25)","v":"League 1"},{"$f":"IF(Match!S25=\"\",\"\",Match!S25)","v":"Ipswich  v  Portsmouth   21/10  9/4  6/5"},{"$f":"IF(Match!T25=\"\",\"\",Match!T25)","v":"Ipswich 0-2 Portsmouth "},"Ipswich","21/10",3.1,{"$f":"INDEX(Picks!T:T,MATCH(F25,Picks!R:R,0))","v":0},{"$f":"INDEX(Match!O:O,MATCH(D25,Match!S:S,0))","v":"Ipswich"},{"$f":"INDEX(Match!V:V,MATCH(D25,Match!S:S,0))","v":"21/10"},{"$f":"INDEX(Match!P:P,MATCH(D25,Match!S:S,0))","v":"Portsmouth"},{"$f":"INDEX(Match!W:W,MATCH(D25,Match!S:S,0))","v":"9/4"},{"$f":"INDEX(Match!X:X,MATCH(D25,Match!S:S,0))","v":"6/5"},{"$f":"INDEX(Match!Y:Y,MATCH(D25,Match!S:S,0))","v":3.1},{"$f":"INDEX(Match!Z:Z,MATCH(D25,Match!S:S,0))","v":3.25},{"$f":"INDEX(Match!AA:AA,MATCH(D25,Match!S:S,0))","v":2.2000000000000002}]
[{"$f":"IF(Match!A26=\"\",\"\",Match!A26)","v":"2020-12-12"},"1900-01-07",{"$f":"IF(Match!C26=\"\",\"\",Match!C26)","v":"League 1"},{"$f":"IF(Match!S26=\"\",\"\",Match!S26)","v":"Lincoln  v  Sunderland   9/5  21/10  8/5"},{"$f":"IF(Match!T26=\"\",\"\",Match!T26)","v":"Lincoln 0-4 Sunderland "},"Lincoln","9/5",2.8,{"$f":"INDEX(Picks!T:T,MATCH(F26,Picks!R:R,0))","v":0},{"$f":"INDEX(Match!O:O,MATCH(D26,Match!S:S,0))","v":"Lincoln"},{"$f":"INDEX(Match!V:V,MATCH(D26,Match!S:S,0))","v":"9/5"},{"$f":"INDEX(Match!P:P,MATCH(D26,Match!S:S,0))","v":"Sunderland"},{"$f":"INDEX(Match!W:W,MATCH(D26,Match!S:S,0))","v":"21/10"},{"$f":"INDEX(Match!X:X,MATCH(D26,Match!S:S,0))","v":"8/5"},{"$f":"INDEX(Match!Y:Y,MATCH(D26,Match!S:S,0))","v":2.8},{"$f":"INDEX(Match!Z:Z,MATCH(D26,Match!S:S,0))","v":3.1},{"$f":"INDEX(Match!AA:AA,MATCH(D26,Match!S:S,0))","v":2.6}]
[{"$f":"IF(Match!A27=\"\",\"\",Match!A27)","v":"2020-12-12"},"1900-01-07",{"$f":"IF(Match!C27=\"\",\"\",Match!C27)","v":"League 1"},{"$f":"IF(Match!S27=\"\",\"\",Match!S27)","v":"MK Dons  v  Burton   4/5  27/10  16/5"},{"$f":"IF(Match!T27=\"\",\"\",Match!T27)","v":"MK Dons 1-1 Burton "},"MK Dons","4/5",1.8,{"$f":"INDEX(Picks!T:T,MATCH(F27,Picks!R:R,0))","v":0},{"$f":"INDEX(Match!O:O,MATCH(D27,Match!S:S,0))","v":"MK Dons"},{"$f":"INDEX(Match!V:V,MATCH(D27,Match!S:S,0))","v":"4/5"},{"$f":"INDEX(Match!P:P,MATCH(D27,Match!S:S,0))","v":"Burton"},{"$f":"INDEX(Match!W:W,MATCH(D27,Match!S:S,0))","v":"27/10"},{"$f":"INDEX(Match!X:X,MATCH(D27,Match!S:S,0))","v":"16/5"},{"$f":"INDEX(Match!Y:Y,MATCH(D27,Match!S:S,0))","v":1.8},{"$f":"INDEX(Match!Z:Z,MATCH(D27,Match!S:S,0))","v":3.7},{"$f":"INDEX(Match!AA:AA,MATCH(D27,Match!S:S,0))","v":4.2}]
[{"$f":"IF(Match!A28=\"\",\"\",Match!A28)","v":"2020-12-12"},"1900-01-07",{"$f":"IF(Match!C28=\"\",\"\",Match!C28)","v":"League 1"},{"$f":"IF(Match!S28=\"\",\"\",Match!S28)","v":"Peterborough  v  Rochdale   8/15  16/5  5/1"},{"$f":"IF(Match!T28=\"\",\"\",Match!T28)","v":"Peterborough 4-1 Rochdale "},"Peterborough","8/15",1.5333333333333332,{"$f":"INDEX(Picks!T:T,MATCH(F28,Picks!R:R,0))","v":1},{"$f":"INDEX(Match!O:O,MATCH(D28,Match!S:S,0))","v":"Peterborough"},{"$f":"INDEX(Match!V:V,MATCH(D28,Match!S:S,0))","v":"8/15"},{"$f":"INDEX(Match!P:P,MATCH(D28,Match!S:S,0))","v":"Rochdale"},{"$f":"INDEX(Match!W:W,MATCH(D28,Match!S:S,0))","v":"16/5"},{"$f":"INDEX(Match!X:X,MATCH(D28,Match!S:S,0))","v":"5/1"},{"$f":"INDEX(Match!Y:Y,MATCH(D28,Match!S:S,0))","v":1.5333333333333332},{"$f":"INDEX(Match!Z:Z,MATCH(D28,Match!S:S,0))","v":4.2},{"$f":"INDEX(Match!AA:AA,MATCH(D28,Match!S:S,0))","v":6}]
[{"$f":"IF(Match!A29=\"\",\"\",Match!A29)","v":"2020-12-12"},"1900-01-07",{"$f":"IF(Match!C29=\"\",\"\",Match!C29)","v":"League 1"},{"$f":"IF(Match!S29=\"\",\"\",Match!S29)","v":"Swindon  v  Fleetwood   23/10  12/5  23/20"},{"$f":"IF(Match!T29=\"\",\"\",Match!T29)","v":"Swindon 0-1 Fleetwood "},"Swindon","23/10",3.3,{"$f":"INDEX(Picks!T:T,MATCH(F29,Picks!R:R,0))","v":0},{"$f":"INDEX(Match!O:O,MATCH(D29,Match!S:S,0))","v":"Swindon"},{"$f":"INDEX(Match!V:V,MATCH(D29,Match!S:S,0))","v":"23/10"},{"$f":"INDEX(Match!P:P,MATCH(D29,Match!S:S,0))","v":"Fleetwood"},{"$f":"INDEX(Match!W:W,MATCH(D29,Match!S:S,0))","v":"12/5"},{"$f":"INDEX(Match!X:X,MATCH(D29,Match!S:S,0))","v":"23/20"},{"$f":"INDEX(Match!Y:Y,MATCH(D29,Match!S:S,0))","v":3.3},{"$f":"INDEX(Match!Z:Z,MATCH(D29,Match!S:S,0))","v":3.4},{"$f":"INDEX(Match!AA:AA,MATCH(D29,Match!S:S,0))","v":2.15}]
[{"$f":"IF(Match!A30=\"\",\"\",Match!A30)","v":"2020-12-12"},"1900-01-07",{"$f":"IF(Match!C30=\"\",\"\",Match!C30)","v":"League 1"},{"$f":"IF(Match!S30=\"\",\"\",Match!S30)","v":"Wigan  v  Accrington   11/5  9/4  5/4"},{"$f":"IF(Match!T30=\"\",\"\",Match!T30)","v":"Wigan 4-3 Accrington "},"Wigan","11/5",3.2,{"$f":"INDEX(Picks!T:T,MATCH(F30,Picks!R:R,0))","v":1},{"$f":"INDEX(Match!O:O,MATCH(D30,Match!S:S,0))","v":"Wigan"},{"$f":"INDEX(Match!V:V,MATCH(D30,Match!S:S,0))","v":"11/5"},{"$f":"INDEX(Match!P:P,MATCH(D30,Match!S:S,0))","v":"Accrington"},{"$f":"INDEX(Match!W:W,MATCH(D30,Match!S:S,0))","v":"9/4"},{"$f":"INDEX(Match!X:X,MATCH(D30,Match!S:S,0))","v":"5/4"},{"$f":"INDEX(Match!Y:Y,MATCH(D30,Match!S:S,0))","v":3.2},{"$f":"INDEX(Match!Z:Z,MATCH(D30,Match!S:S,0))","v":3.25},{"$f":"INDEX(Match!AA:AA,MATCH(D30,Match!S:S,0))","v":2.25}]
[{"$f":"IF(Match!A31=\"\",\"\",Match!A31)","v":"2020-12-12"},"1900-01-07",{"$f":"IF(Match!C31=\"\",\"\",Match!C31)","v":"League 2"},{"$f":"IF(Match!S31=\"\",\"\",Match!S31)","v":"Carlisle  v  Stevenage   8/13  14/5  9/2"},{"$f":"IF(Match!T31=\"\",\"\",Match!T31)","v":"Carlisle 4-0 Stevenage "},"Carlisle","8/13",1.6153846153846154,{"$f":"INDEX(Picks!T:T,MATCH(F31,Picks!R:R,0))","v":1},{"$f":"INDEX(Match!O:O,MATCH(D31,Match!S:S,0))","v":"Carlisle"},{"$f":"INDEX(Match!V:V,MATCH(D31,Match!S:S,0))","v":"8/13"},{"$f":"INDEX(Match!P:P,MATCH(D31,Match!S:S,0))","v":"Stevenage"},{"$f":"INDEX(Match!W:W,MATCH(D31,Match!S:S,0))","v":"14/5"},{"$f":"INDEX(Match!X:X,MATCH(D31,Match!S:S,0))","v":"9/2"},{"$f":"INDEX(Match!Y:Y,MATCH(D31,Match!S:S,0))","v":1.6153846153846154},{"$f":"INDEX(Match!Z:Z,MATCH(D31,Match!S:S,0))","v":3.8},{"$f":"INDEX(Match!AA:AA,MATCH(D31,Match!S:S,0))","v":5.5}]
[{"$f":"IF(Match!A32=\"\",\"\",Match!A32)","v":"2020-12-12"},"1900-01-07",{"$f":"IF(Match!C32=\"\",\"\",Match!C32)","v":"League 2"},{"$f":"IF(Match!S32=\"\",\"\",Match!S32)","v":"Crawley  v  Barrow   29/20  23/10  15/8"},{"$f":"IF(Match!T32=\"\",\"\",Match!T32)","v":"Crawley 4-2 Barrow "},"Crawley","29/20",2.4500000000000002,{"$f":"INDEX(Picks!T:T,MATCH(F32,Picks!R:R,0))","v":1},{"$f":"INDEX(Match!O:O,MATCH(D32,Match!S:S,0))","v":"Crawley"},{"$f":"INDEX(Match!V:V,MATCH(D32,Match!S:S,0))","v":"29/20"},{"$f":"INDEX(Match!P:P,MATCH(D32,Match!S:S,0))","v":"Barrow"},{"$f":"INDEX(Match!W:W,MATCH(D32,Match!S:S,0))","v":"23/10"},{"$f":"INDEX(Match!X:X,MATCH(D32,Match!S:S,0))","v":"15/8"},{"$f":"INDEX(Match!Y:Y,MATCH(D32,Match!S:S,0))","v":2.4500000000000002},{"$f":"INDEX(Match!Z:Z,MATCH(D32,Match!S:S,0))","v":3.3},{"$f":"INDEX(Match!AA:AA,MATCH(D32,Match!S:S,0))","v":2.875}]
[{"$f":"IF(Match!A33=\"\",\"\",Match!A33)","v":"2020-12-12"},"1900-01-07",{"$f":"IF(Match!C33=\"\",\"\",Match!C33)","v":"League 2"},{"$f":"IF(Match!S33=\"\",\"\",Match!S33)","v":"Exeter  v  Tranmere   10/11  13/5  14/5"},{"$f":"IF(Match!T33=\"\",\"\",Match!T33)","v":"Exeter 5-0 Tranmere "},{"$f":"IF(D33=\"\",\"\",J33)","v":"Exeter"},"10/11",1.9090909090909092,{"$f":"INDEX(Picks!T:T,MATCH(F33,Picks!R:R,0))","v":1},{"$f":"INDEX(Match!O:O,MATCH(D33,Match!S:S,0))","v":"Exeter"},{"$f":"INDEX(Match!V:V,MATCH(D33,Match!S:S,0))","v":"10/11"},{"$f":"INDEX(Match!P:P,MATCH(D33,Match!S:S,0))","v":"Tranmere"},{"$f":"INDEX(Match!W:W,MATCH(D33,Match!S:S,0))","v":"13/5"},{"$f":"INDEX(Match!X:X,MATCH(D33,Match!S:S,0))","v":"14/5"},{"$f":"INDEX(Match!Y:Y,MATCH(D33,Match!S:S,0))","v":1.9090909090909092},{"$f":"INDEX(Match!Z:Z,MATCH(D33,Match!S:S,0))","v":3.6},{"$f":"INDEX(Match!AA:AA,MATCH(D33,Match!S:S,0))","v":3.8}]
[{"$f":"IF(Match!A34=\"\",\"\",Match!A34)","v":"2020-12-12"},"1900-01-07",{"$f":"IF(Match!C34=\"\",\"\",Match!C34)","v":"League 2"},{"$f":"IF(Match!S34=\"\",\"\",Match!S34)","v":"Forest Green  v  Cambridge   21/20  23/10  27/10"},{"$f":"IF(Match!T34=\"\",\"\",Match!T34)","v":"Forest Green 2-0 Cambridge "},"Forest Green","21/20",2.0499999999999998,{"$f":"INDEX(Picks!T:T,MATCH(F34,Picks!R:R,0))","v":1},{"$f":"INDEX(Match!O:O,MATCH(D34,Match!S:S,0))","v":"Forest Green"},{"$f":"INDEX(Match!V:V,MATCH(D34,Match!S:S,0))","v":"21/20"},{"$f":"INDEX(Match!P:P,MATCH(D34,Match!S:S,0))","v":"Cambridge"},{"$f":"INDEX(Match!W:W,MATCH(D34,Match!S:S,0))","v":"23/10"},{"$f":"INDEX(Match!X:X,MATCH(D34,Match!S:S,0))","v":"27/10"},{"$f":"INDEX(Match!Y:Y,MATCH(D34,Match!S:S,0))","v":2.0499999999999998},{"$f":"INDEX(Match!Z:Z,MATCH(D34,Match!S:S,0))","v":3.3},{"$f":"INDEX(Match!AA:AA,MATCH(D34,Match!S:S,0))","v":3.7}]
[{"$f":"IF(Match!A35=\"\",\"\",Match!A35)","v":"2020-12-12"},"1900-01-07",{"$f":"IF(Match!C35=\"\",\"\",Match!C35)","v":"League 2"},{"$f":"IF(Match!S35=\"\",\"\",Match!S35)","v":"Grimsby  v  Mansfield   21/10  9/4  13/10"},{"$f":"IF(Match!T35=\"\",\"\",Match!T35)","v":"Grimsby 1-1 Mansfield "},"Grimsby","21/10",3.1,{"$f":"INDEX(Picks!T:T,MATCH(F35,Picks!R:R,0))","v":0},{"$f":"INDEX(Match!O:O,MATCH(D35,Match!S:S,0))","v":"Grimsby"},{"$f":"INDEX(Match!V:V,MATCH(D35,Match!S:S,0))","v":"21/10"},{"$f":"INDEX(Match!P:P,MATCH(D35,Match!S:S,0))","v":"Mansfield"},{"$f":"INDEX(Match!W:W,MATCH(D35,Match!S:S,0))","v":"9/4"},{"$f":"INDEX(Match!X:X,MATCH(D35,Match!S:S,0))","v":"13/10"},{"$f":"INDEX(Match!Y:Y,MATCH(D35,Match!S:S,0))","v":3.1},{"$f":"INDEX(Match!Z:Z,MATCH(D35,Match!S:S,0))","v":3.25},{"$f":"INDEX(Match!AA:AA,MATCH(D35,Match!S:S,0))","v":2.2999999999999998}]
[{"$f":"IF(Match!A36=\"\",\"\",Match!A36)","v":"2020-12-12"},"1900-01-07",{"$f":"IF(Match!C36=\"\",\"\",Match!C36)","v":"League 2"},{"$f":"IF(Match!S36=\"\",\"\",Match!S36)","v":"Morecambe  v  Harrogate   8/5  23/10  17/10"},{"$f":"IF(Match!T36=\"\",\"\",Match!T36)","v":"Morecambe 1-0 Harrogate "},"Morecambe","8/5",2.6,{"$f":"INDEX(Picks!T:T,MATCH(F36,Picks!R:R,0))","v":1},{"$f":"INDEX(Match!O:O,MATCH(D36,Match!S:S,0))","v":"Morecambe"},{"$f":"INDEX(Match!V:V,MATCH(D36,Match!S:S,0))","v":"8/5"},{"$f":"INDEX(Match!P:P,MATCH(D36,Match!S:S,0))","v":"Harrogate"},{"$f":"INDEX(Match!W:W,MATCH(D36,Match!S:S,0))","v":"23/10"},{"$f":"INDEX(Match!X:X,MATCH(D36,Match!S:S,0))","v":"17/10"},{"$f":"INDEX(Match!Y:Y,MATCH(D36,Match!S:S,0))","v":2.6},{"$f":"INDEX(Match!Z:Z,MATCH(D36,Match!S:S,0))","v":3.3},{"$f":"INDEX(Match!AA:AA,MATCH(D36,Match!S:S,0))","v":2.7}]
[{"$f":"IF(Match!A37=\"\",\"\",Match!A37)","v":"2020-12-12"},"1900-01-07",{"$f":"IF(Match!C37=\"\",\"\",Match!C37)","v":"League 2"},{"$f":"IF(Match!S37=\"\",\"\",Match!S37)","v":"Oldham  v  Bradford   7/5  23/10  19/10"},{"$f":"IF(Match!T37=\"\",\"\",Match!T37)","v":"Oldham 3-1 Bradford "},"Oldham","7/5",2.4,{"$f":"INDEX(Picks!T:T,MATCH(F37,Picks!R:R,0))","v":1},{"$f":"INDEX(Match!O:O,MATCH(D37,Match!S:S,0))","v":"Oldham"},{"$f":"INDEX(Match!V:V,MATCH(D37,Match!S:S,0))","v":"7/5"},{"$f":"INDEX(Match!P:P,MATCH(D37,Match!S:S,0))","v":"Bradford"},{"$f":"INDEX(Match!W:W,MATCH(D37,Match!S:S,0))","v":"23/10"},{"$f":"INDEX(Match!X:X,MATCH(D37,Match!S:S,0))","v":"19/10"},{"$f":"INDEX(Match!Y:Y,MATCH(D37,Match!S:S,0))","v":2.4},{"$f":"INDEX(Match!Z:Z,MATCH(D37,Match!S:S,0))","v":3.3},{"$f":"INDEX(Match!AA:AA,MATCH(D37,Match!S:S,0))","v":2.9}]
[{"$f":"IF(Match!A38=\"\",\"\",Match!A38)","v":"2020-12-12"},"1900-01-07",{"$f":"IF(Match!C38=\"\",\"\",Match!C38)","v":"League 2"},{"$f":"IF(Match!S38=\"\",\"\",Match!S38)","v":"Orient  v  Newport   2/1  9/4  11/8"},{"$f":"IF(Match!T38=\"\",\"\",Match!T38)","v":"Orient 2-1 Newport "},"Orient","2/1",3,{"$f":"INDEX(Picks!T:T,MATCH(F38,Picks!R:R,0))","v":1},{"$f":"INDEX(Match!O:O,MATCH(D38,Match!S:S,0))","v":"Orient"},{"$f":"INDEX(Match!V:V,MATCH(D38,Match!S:S,0))","v":"2/1"},{"$f":"INDEX(Match!P:P,MATCH(D38,Match!S:S,0))","v":"Newport"},{"$f":"INDEX(Match!W:W,MATCH(D38,Match!S:S,0))","v":"9/4"},{"$f":"INDEX(Match!X:X,MATCH(D38,Match!S:S,0))","v":"11/8"},{"$f":"INDEX(Match!Y:Y,MATCH(D38,Match!S:S,0))","v":3},{"$f":"INDEX(Match!Z:Z,MATCH(D38,Match!S:S,0))","v":3.25},{"$f":"INDEX(Match!AA:AA,MATCH(D38,Match!S:S,0))","v":2.375}]
[{"$f":"IF(Match!A39=\"\",\"\",Match!A39)","v":"2020-12-12"},"1900-01-07",{"$f":"IF(Match!C39=\"\",\"\",Match!C39)","v":"League 2"},{"$f":"IF(Match!S39=\"\",\"\",Match!S39)","v":"Port Vale  v  Colchester   23/20  5/2  23/10"},{"$f":"IF(Match!T39=\"\",\"\",Match!T39)","v":"Port Vale 1-1 Colchester "},"Port Vale","23/20",2.15,{"$f":"INDEX(Picks!T:T,MATCH(F39,Picks!R:R,0))","v":0},{"$f":"INDEX(Match!O:O,MATCH(D39,Match!S:S,0))","v":"Port Vale"},{"$f":"INDEX(Match!V:V,MATCH(D39,Match!S:S,0))","v":"23/20"},{"$f":"INDEX(Match!P:P,MATCH(D39,Match!S:S,0))","v":"Colchester"},{"$f":"INDEX(Match!W:W,MATCH(D39,Match!S:S,0))","v":"5/2"},{"$f":"INDEX(Match!X:X,MATCH(D39,Match!S:S,0))","v":"23/10"},{"$f":"INDEX(Match!Y:Y,MATCH(D39,Match!S:S,0))","v":2.15},{"$f":"INDEX(Match!Z:Z,MATCH(D39,Match!S:S,0))","v":3.5},{"$f":"INDEX(Match!AA:AA,MATCH(D39,Match!S:S,0))","v":3.3}]
[{"$f":"IF(Match!A40=\"\",\"\",Match!A40)","v":"2020-12-12"},"1900-01-07",{"$f":"IF(Match!C40=\"\",\"\",Match!C40)","v":"League 2"},{"$f":"IF(Match!S40=\"\",\"\",Match!S40)","v":"Salford  v  Cheltenham   13/8  9/4  17/10"},{"$f":"IF(Match!T40=\"\",\"\",Match!T40)","v":"Salford 0-0 Cheltenham "},"Salford","13/8",2.625,{"$f":"INDEX(Picks!T:T,MATCH(F40,Picks!R:R,0))","v":0},{"$f":"INDEX(Match!O:O,MATCH(D40,Match!S:S,0))","v":"Salford"},{"$f":"INDEX(Match!V:V,MATCH(D40,Match!S:S,0))","v":"13/8"},{"$f":"INDEX(Match!P:P,MATCH(D40,Match!S:S,0))","v":"Cheltenham"},{"$f":"INDEX(Match!W:W,MATCH(D40,Match!S:S,0))","v":"9/4"},{"$f":"INDEX(Match!X:X,MATCH(D40,Match!S:S,0))","v":"17/10"},{"$f":"INDEX(Match!Y:Y,MATCH(D40,Match!S:S,0))","v":2.625},{"$f":"INDEX(Match!Z:Z,MATCH(D40,Match!S:S,0))","v":3.25},{"$f":"INDEX(Match!AA:AA,MATCH(D40,Match!S:S,0))","v":2.7}]
[{"$f":"IF(Match!A41=\"\",\"\",Match!A41)","v":"2020-12-12"},"1900-01-07",{"$f":"IF(Match!C41=\"\",\"\",Match!C41)","v":"League 2"},{"$f":"IF(Match!S41=\"\",\"\",Match!S41)","v":"Southend  v  Scunthorpe   9/4  11/5  13/10"},{"$f":"IF(Match!T41=\"\",\"\",Match!T41)","v":"Southend 1-0 Scunthorpe "},"Southend","9/4",3.25,{"$f":"INDEX(Picks!T:T,MATCH(F41,Picks!R:R,0))","v":1},{"$f":"INDEX(Match!O:O,MATCH(D41,Match!S:S,0))","v":"Southend"},{"$f":"INDEX(Match!V:V,MATCH(D41,Match!S:S,0))","v":"9/4"},{"$f":"INDEX(Match!P:P,MATCH(D41,Match!S:S,0))","v":"Scunthorpe"},{"$f":"INDEX(Match!W:W,MATCH(D41,Match!S:S,0))","v":"11/5"},{"$f":"INDEX(Match!X:X,MATCH(D41,Match!S:S,0))","v":"13/10"},{"$f":"INDEX(Match!Y:Y,MATCH(D41,Match!S:S,0))","v":3.25},{"$f":"INDEX(Match!Z:Z,MATCH(D41,Match!S:S,0))","v":3.2},{"$f":"INDEX(Match!AA:AA,MATCH(D41,Match!S:S,0))","v":2.2999999999999998}]
[{"$f":"IF(Match!A42=\"\",\"\",Match!A42)","v":"2020-12-12"},"1900-01-07",{"$f":"IF(Match!C42=\"\",\"\",Match!C42)","v":"League 2"},{"$f":"IF(Match!S42=\"\",\"\",Match!S42)","v":"Walsall  v  Bolton   5/4  9/4  11/5"},{"$f":"IF(Match!T42=\"\",\"\",Match!T42)","v":"Walsall 2-1 Bolton "},"Walsall","5/4",2.25,{"$f":"INDEX(Picks!T:T,MATCH(F42,Picks!R:R,0))","v":1},{"$f":"INDEX(Match!O:O,MATCH(D42,Match!S:S,0))","v":"Walsall"},{"$f":"INDEX(Match!V:V,MATCH(D42,Match!S:S,0))","v":"5/4"},{"$f":"INDEX(Match!P:P,MATCH(D42,Match!S:S,0))","v":"Bolton"},{"$f":"INDEX(Match!W:W,MATCH(D42,Match!S:S,0))","v":"9/4"},{"$f":"INDEX(Match!X:X,MATCH(D42,Match!S:S,0))","v":"11/5"},{"$f":"INDEX(Match!Y:Y,MATCH(D42,Match!S:S,0))","v":2.25},{"$f":"INDEX(Match!Z:Z,MATCH(D42,Match!S:S,0))","v":3.25},{"$f":"INDEX(Match!AA:AA,MATCH(D42,Match!S:S,0))","v":3.2}]
[{"$f":"IF(Match!A43=\"\",\"\",Match!A43)","v":"2020-12-13"},"1900-01-01",{"$f":"IF(Match!C43=\"\",\"\",Match!C43)","v":"Premier"},{"$f":"IF(Match!S43=\"\",\"\",Match!S43)","v":"Arsenal  v  Burnley   11/20  3/1  11/2"},{"$f":"IF(Match!T43=\"\",\"\",Match!T43)","v":"Arsenal 0-1 Burnley "},"Arsenal","11/20",1.55,{"$f":"INDEX(Picks!T:T,MATCH(F43,Picks!R:R,0))","v":0},{"$f":"INDEX(Match!O:O,MATCH(D43,Match!S:S,0))","v":"Arsenal"},{"$f":"INDEX(Match!V:V,MATCH(D43,Match!S:S,0))","v":"11/20"},{"$f":"INDEX(Match!P:P,MATCH(D43,Match!S:S,0))","v":"Burnley"},{"$f":"INDEX(Match!W:W,MATCH(D43,Match!S:S,0))","v":"3/1"},{"$f":"INDEX(Match!X:X,MATCH(D43,Match!S:S,0))","v":"11/2"},{"$f":"INDEX(Match!Y:Y,MATCH(D43,Match!S:S,0))","v":1.55},{"$f":"INDEX(Match!Z:Z,MATCH(D43,Match!S:S,0))","v":4},{"$f":"INDEX(Match!AA:AA,MATCH(D43,Match!S:S,0))","v":6.5}]
[{"$f":"IF(Match!A44=\"\",\"\",Match!A44)","v":"2020-12-13"},"1900-01-01",{"$f":"IF(Match!C44=\"\",\"\",Match!C44)","v":"Premier"},{"$f":"IF(Match!S44=\"\",\"\",Match!S44)","v":"Fulham  v  Liverpool   8/1  9/2  1/3"},{"$f":"IF(Match!T44=\"\",\"\",Match!T44)","v":"Fulham 1-1 Liverpool "},"Fulham","8/1",9,{"$f":"INDEX(Picks!T:T,MATCH(F44,Picks!R:R,0))","v":0},{"$f":"INDEX(Match!O:O,MATCH(D44,Match!S:S,0))","v":"Fulham"},{"$f":"INDEX(Match!V:V,MATCH(D44,Match!S:S,0))","v":"8/1"},{"$f":"INDEX(Match!P:P,MATCH(D44,Match!S:S,0))","v":"Liverpool"},{"$f":"INDEX(Match!W:W,MATCH(D44,Match!S:S,0))","v":"9/2"},{"$f":"INDEX(Match!X:X,MATCH(D44,Match!S:S,0))","v":"1/3"},{"$f":"INDEX(Match!Y:Y,MATCH(D44,Match!S:S,0))","v":9},{"$f":"INDEX(Match!Z:Z,MATCH(D44,Match!S:S,0))","v":5.5},{"$f":"INDEX(Match!AA:AA,MATCH(D44,Match!S:S,0))","v":1.3333333333333333}]
[{"$f":"IF(Match!A45=\"\",\"\",Match!A45)","v":"2020-12-13"},"1900-01-01",{"$f":"IF(Match!C45=\"\",\"\",Match!C45)","v":"Premier"},{"$f":"IF(Match!S45=\"\",\"\",Match!S45)","v":"Leicester  v  Brighton   1/1  5/2  11/4"},{"$f":"IF(Match!T45=\"\",\"\",Match!T45)","v":"Leicester 3-0 Brighton "},"Leicester","1/1",2,{"$f":"INDEX(Picks!T:T,MATCH(F45,Picks!R:R,0))","v":1},{"$f":"INDEX(Match!O:O,MATCH(D45,Match!S:S,0))","v":"Leicester"},{"$f":"INDEX(Match!V:V,MATCH(D45,Match!S:S,0))","v":"1/1"},{"$f":"INDEX(Match!P:P,MATCH(D45,Match!S:S,0))","v":"Brighton"},{"$f":"INDEX(Match!W:W,MATCH(D45,Match!S:S,0))","v":"5/2"},{"$f":"INDEX(Match!X:X,MATCH(D45,Match!S:S,0))","v":"11/4"},{"$f":"INDEX(Match!Y:Y,MATCH(D45,Match!S:S,0))","v":2},{"$f":"INDEX(Match!Z:Z,MATCH(D45,Match!S:S,0))","v":3.5},{"$f":"INDEX(Match!AA:AA,MATCH(D45,Match!S:S,0))","v":3.75}]
[{"$f":"IF(Match!A46=\"\",\"\",Match!A46)","v":"2020-12-13"},"1900-01-01",{"$f":"IF(Match!C46=\"\",\"\",Match!C46)","v":"Premier"},{"$f":"IF(Match!S46=\"\",\"\",Match!S46)","v":"Palace  v  Spurs   19/5  11/4  8/11"},{"$f":"IF(Match!T46=\"\",\"\",Match!T46)","v":"Palace 1-1 Spurs "},"Palace",{"$f":"IF(D46=\"\",\"\",K46)","v":"19/5"},4.8,{"$f":"INDEX(Picks!T:T,MATCH(F46,Picks!R:R,0))","v":0},{"$f":"INDEX(Match!O:O,MATCH(D46,Match!S:S,0))","v":"Palace"},{"$f":"INDEX(Match!V:V,MATCH(D46,Match!S:S,0))","v":"19/5"},{"$f":"INDEX(Match!P:P,MATCH(D46,Match!S:S,0))","v":"Spurs"},{"$f":"INDEX(Match!W:W,MATCH(D46,Match!S:S,0))","v":"11/4"},{"$f":"INDEX(Match!X:X,MATCH(D46,Match!S:S,0))","v":"8/11"},{"$f":"INDEX(Match!Y:Y,MATCH(D46,Match!S:S,0))","v":4.8},{"$f":"INDEX(Match!Z:Z,MATCH(D46,Match!S:S,0))","v":3.75},{"$f":"INDEX(Match!AA:AA,MATCH(D46,Match!S:S,0))","v":1.7272727272727273}]
[{"$f":"IF(Match!A47=\"\",\"\",Match!A47)","v":"2020-12-13"},"1900-01-01",{"$f":"IF(Match!C47=\"\",\"\",Match!C47)","v":"Premier"},{"$f":"IF(Match!S47=\"\",\"\",Match!S47)","v":"Southampton  v  Sheff U   8/11  27/10  4/1"},{"$f":"IF(Match!T47=\"\",\"\",Match!T47)","v":"Southampton 3-0 Sheff U"},{"$f":"IF(D47=\"\",\"\",J47)","v":"Southampton"},{"$f":"IF(D47=\"\",\"\",K47)","v":"8/11"},1.7272727272727273,{"$f":"INDEX(Picks!T:T,MATCH(F47,Picks!R:R,0))","v":1},{"$f":"INDEX(Match!O:O,MATCH(D47,Match!S:S,0))","v":"Southampton"},{"$f":"INDEX(Match!V:V,MATCH(D47,Match!S:S,0))","v":"8/11"},{"$f":"INDEX(Match!P:P,MATCH(D47,Match!S:S,0))","v":"Sheff U"},{"$f":"INDEX(Match!W:W,MATCH(D47,Match!S:S,0))","v":"27/10"},{"$f":"INDEX(Match!X:X,MATCH(D47,Match!S:S,0))","v":"4/1"},{"$f":"INDEX(Match!Y:Y,MATCH(D47,Match!S:S,0))","v":1.7272727272727273},{"$f":"INDEX(Match!Z:Z,MATCH(D47,Match!S:S,0))","v":3.7},{"$f":"INDEX(Match!AA:AA,MATCH(D47,Match!S:S,0))","v":5}]
[{"$f":"IF(Match!A2=\"\",\"\",Match!A2)","v":"2020-12-11"},"1900-01-06",null,null,null,{"$f":"IF(D2=\"\",\"\",J2&\" draw\")","v":"Leeds draw"},{"$f":"IF(D2=\"\",\"\",M2)","v":"27/10"},{"$f":"IF(D2=\"\",\"\",P2)","v":3.7},{"$f":"INDEX(Picks!T:T,MATCH(F48,Picks!R:R,0))","v":0}]
[{"$f":"IF(Match!A3=\"\",\"\",Match!A3)","v":"2020-12-12"},"1900-01-07",null,null,null,"Everton draw","3/1",{"$f":"IF(D3=\"\",\"\",P3)","v":4},{"$f":"INDEX(Picks!T:T,MATCH(F49,Picks!R:R,0))","v":0}]
[{"$f":"IF(Match!A4=\"\",\"\",Match!A4)","v":"2020-12-12"},"1900-01-07",null,null,null,"Man U draw","3/1",4,{"$f":"INDEX(Picks!T:T,MATCH(F50,Picks!R:R,0))","v":1}]
[{"$f":"IF(Match!A5=\"\",\"\",Match!A5)","v":"2020-12-12"},"1900-01-07",null,null,null,"Newcastle draw","11/5",3.2,{"$f":"INDEX(Picks!T:T,MATCH(F51,Picks!R:R,0))","v":0}]
[{"$f":"IF(Match!A6=\"\",\"\",Match!A6)","v":"2020-12-12"},"1900-01-07",null,null,null,"Wolves draw","23/10",3.3,{"$f":"INDEX(Picks!T:T,MATCH(F52,Picks!R:R,0))","v":0}]
[{"$f":"IF(Match!A7=\"\",\"\",Match!A7)","v":"2020-12-12"},"1900-01-07",null,null,null,"Birmingham draw","11/5",3.2,{"$f":"INDEX(Picks!T:T,MATCH(F53,Picks!R:R,0))","v":0}]
[{"$f":"IF(Match!A8=\"\",\"\",Match!A8)","v":"2020-12-12"},"1900-01-07",null,null,null,"Blackburn draw","5/2",3.5,{"$f":"INDEX(Picks!T:T,MATCH(F54,Picks!R:R,0))","v":0}]
[{"$f":"IF(Match!A9=\"\",\"\",Match!A9)","v":"2020-12-12"},"1900-01-07",null,null,null,"Bournemouth draw","29/10",3.9,{"$f":"INDEX(Picks!T:T,MATCH(F55,Picks!R:R,0))","v":0}]
[{"$f":"IF(Match!A10=\"\",\"\",Match!A10)","v":"2020-12-12"},"1900-01-07",null,null,null,"Cardiff draw","11/5",3.2,{"$f":"INDEX(Picks!T:T,MATCH(F56,Picks!R:R,0))","v":0}]
[{"$f":"IF(Match!A11=\"\",\"\",Match!A11)","v":"2020-12-12"},"1900-01-07",null,null,null,"Derby draw","11/5",3.2,{"$f":"INDEX(Picks!T:T,MATCH(F57,Picks!R:R,0))","v":1}]
[{"$f":"IF(Match!A12=\"\",\"\",Match!A12)","v":"2020-12-12"},"1900-01-07",null,null,null,"Forest draw","11/5",3.2,{"$f":"INDEX(Picks!T:T,MATCH(F58,Picks!R:R,0))","v":0}]
[{"$f":"IF(Match!A13=\"\",\"\",Match!A13)","v":"2020-12-12"},"1900-01-07",null,null,null,"Luton draw","11/5",3.2,{"$f":"INDEX(Picks!T:T,MATCH(F59,Picks!R:R,0))","v":0}]
[{"$f":"IF(Match!A14=\"\",\"\",Match!A14)","v":"2020-12-12"},"1900-01-07",null,null,null,"Middlesbro draw","11/5",3.2,{"$f":"INDEX(Picks!T:T,MATCH(F60,Picks!R:R,0))","v":0}]
[{"$f":"IF(Match!A15=\"\",\"\",Match!A15)","v":"2020-12-12"},"1900-01-07",null,null,null,"QPR draw","23/10",3.3,{"$f":"INDEX(Picks!T:T,MATCH(F61,Picks!R:R,0))","v":0}]
[{"$f":"IF(Match!A16=\"\",\"\",Match!A16)","v":"2020-12-12"},"1900-01-07",null,null,null,"Rotherham draw","9/4",3.25,{"$f":"INDEX(Picks!T:T,MATCH(F62,Picks!R:R,0))","v":0}]
[{"$f":"IF(Match!A17=\"\",\"\",Match!A17)","v":"2020-12-12"},"1900-01-07",null,null,null,"Sheff W draw","21/10",3.1,{"$f":"INDEX(Picks!T:T,MATCH(F63,Picks!R:R,0))","v":0}]
[{"$f":"IF(Match!A18=\"\",\"\",Match!A18)","v":"2020-12-12"},"1900-01-07",null,null,null,"Wycombe draw","9/4",3.25,{"$f":"INDEX(Picks!T:T,MATCH(F64,Picks!R:R,0))","v":0}]
[{"$f":"IF(Match!A19=\"\",\"\",Match!A19)","v":"2020-12-12"},"1900-01-07",null,null,null,"Blackpool draw","9/4",3.25,{"$f":"INDEX(Picks!T:T,MATCH(F65,Picks!R:R,0))","v":1}]
[{"$f":"IF(Match!A20=\"\",\"\",Match!A20)","v":"2020-12-12"},"1900-01-07",null,null,null,"Bristol R draw","5/2",3.5,{"$f":"INDEX(Picks!T:T,MATCH(F66,Picks!R:R,0))","v":0}]
[{"$f":"IF(Match!A21=\"\",\"\",Match!A21)","v":"2020-12-12"},{"$f":"IF(A67=\"\",\"\",WEEKDAY(A67))","v":"1900-01-07"},null,null,null,"Charlton draw","5/2",3.5,{"$f":"INDEX(Picks!T:T,MATCH(F67,Picks!R:R,0))","v":0}]
[{"$f":"IF(Match!A22=\"\",\"\",Match!A22)","v":"2020-12-12"},"1900-01-07",null,null,null,"Crewe draw","13/5",3.6,{"$f":"INDEX(Picks!T:T,MATCH(F68,Picks!R:R,0))","v":0}]
[{"$f":"IF(Match!A23=\"\",\"\",Match!A23)","v":"2020-12-12"},"1900-01-07",null,null,null,"Doncaster draw","13/5",3.6,{"$f":"INDEX(Picks!T:T,MATCH(F69,Picks!R:R,0))","v":0}]
[{"$f":"IF(Match!A24=\"\",\"\",Match!A24)","v":"2020-12-12"},"1900-01-07",null,null,null,"Hull draw","14/5",3.8,{"$f":"INDEX(Picks!T:T,MATCH(F70,Picks!R:R,0))","v":0}]
[{"$f":"IF(Match!A25=\"\",\"\",Match!A25)","v":"2020-12-12"},"1900-01-07",null,null,null,"Ipswich draw","9/4",3.25,{"$f":"INDEX(Picks!T:T,MATCH(F71,Picks!R:R,0))","v":0}]
[{"$f":"IF(Match!A26=\"\",\"\",Match!A26)","v":"2020-12-12"},"1900-01-07",null,null,null,"Lincoln draw","21/10",3.1,{"$f":"INDEX(Picks!T:T,MATCH(F72,Picks!R:R,0))","v":0}]
[{"$f":"IF(Match!A27=\"\",\"\",Match!A27)","v":"2020-12-12"},"1900-01-07",null,null,null,"MK Dons draw","27/10",3.7,{"$f":"INDEX(Picks!T:T,MATCH(F73,Picks!R:R,0))","v":1}]
[{"$f":"IF(Match!A28=\"\",\"\",Match!A28)","v":"2020-12-12"},"1900-01-07",null,null,null,"Peterborough draw","16/5",4.2,{"$f":"INDEX(Picks!T:T,MATCH(F74,Picks!R:R,0))","v":0}]
[{"$f":"IF(Match!A29=\"\",\"\",Match!A29)","v":"2020-12-12"},"1900-01-07",null,null,null,"Swindon draw","12/5",3.4,{"$f":"INDEX(Picks!T:T,MATCH(F75,Picks!R:R,0))","v":0}]
[{"$f":"IF(Match!A30=\"\",\"\",Match!A30)","v":"2020-12-12"},"1900-01-07",null,null,null,"Wigan draw","9/4",3.25,{"$f":"INDEX(Picks!T:T,MATCH(F76,Picks!R:R,0))","v":0}]
[{"$f":"IF(Match!A31=\"\",\"\",Match!A31)","v":"2020-12-12"},"1900-01-07",null,null,null,"Carlisle draw","14/5",3.8,{"$f":"INDEX(Picks!T:T,MATCH(F77,Picks!R:R,0))","v":0}]
[{"$f":"IF(Match!A32=\"\",\"\",Match!A32)","v":"2020-12-12"},"1900-01-07",null,null,null,"Crawley draw","23/10",3.3,{"$f":"INDEX(Picks!T:T,MATCH(F78,Picks!R:R,0))","v":0}]
[{"$f":"IF(Match!A33=\"\",\"\",Match!A33)","v":"2020-12-12"},"1900-01-07",null,null,null,"Exeter draw","13/5",3.6,{"$f":"INDEX(Picks!T:T,MATCH(F79,Picks!R:R,0))","v":0}]
[{"$f":"IF(Match!A34=\"\",\"\",Match!A34)","v":"2020-12-12"},"1900-01-07",null,null,null,"Forest Green draw","23/10",3.3,{"$f":"INDEX(Picks!T:T,MATCH(F80,Picks!R:R,0))","v":0}]
[{"$f":"IF(Match!A35=\"\",\"\",Match!A35)","v":"2020-12-12"},"1900-01-07",null,null,null,"Grimsby draw","9/4",3.25,{"$f":"INDEX(Picks!T:T,MATCH(F81,Picks!R:R,0))","v":1}]
[{"$f":"IF(Match!A36=\"\",\"\",Match!A36)","v":"2020-12-12"},"1900-01-07",null,null,null,"Morecambe draw","23/10",3.3,{"$f":"INDEX(Picks!T:T,MATCH(F82,Picks!R:R,0))","v":0}]
[{"$f":"IF(Match!A37=\"\",\"\",Match!A37)","v":"2020-12-12"},"1900-01-07",null,null,null,"Oldham draw","23/10",3.3,{"$f":"INDEX(Picks!T:T,MATCH(F83,Picks!R:R,0))","v":0}]
[{"$f":"IF(Match!A38=\"\",\"\",Match!A38)","v":"2020-12-12"},"1900-01-07",null,null,null,"Orient draw","9/4",3.25,{"$f":"INDEX(Picks!T:T,MATCH(F84,Picks!R:R,0))","v":0}]
[{"$f":"IF(Match!A39=\"\",\"\",Match!A39)","v":"2020-12-12"},"1900-01-07",null,null,null,"Port Vale draw","5/2",3.5,{"$f":"INDEX(Picks!T:T,MATCH(F85,Picks!R:R,0))","v":1}]
[{"$f":"IF(Match!A40=\"\",\"\",Match!A40)","v":"2020-12-12"},"1900-01-07",null,null,null,"Salford draw","9/4",3.25,{"$f":"INDEX(Picks!T:T,MATCH(F86,Picks!R:R,0))","v":1}]
[{"$f":"IF(Match!A41=\"\",\"\",Match!A41)","v":"2020-12-12"},"1900-01-07",null,null,null,"Southend draw","11/5",3.2,{"$f":"INDEX(Picks!T:T,MATCH(F87,Picks!R:R,0))","v":0}]
[{"$f":"IF(Match!A42=\"\",\"\",Match!A42)","v":"2020-12-12"},"1900-01-07",null,null,null,"Walsall draw","9/4",3.25,{"$f":"INDEX(Picks!T:T,MATCH(F88,Picks!R:R,0))","v":0}]
[{"$f":"IF(Match!A43=\"\",\"\",Match!A43)","v":"2020-12-13"},"1900-01-01",null,null,null,"Arsenal draw","3/1",4,{"$f":"INDEX(Picks!T:T,MATCH(F89,Picks!R:R,0))","v":0}]
[{"$f":"IF(Match!A44=\"\",\"\",Match!A44)","v":"2020-12-13"},"1900-01-01",null,null,null,"Fulham draw","9/2",5.5,{"$f":"INDEX(Picks!T:T,MATCH(F90,Picks!R:R,0))","v":1}]
[{"$f":"IF(Match!A45=\"\",\"\",Match!A45)","v":"2020-12-13"},"1900-01-01",null,null,null,"Leicester draw","5/2",3.5,{"$f":"INDEX(Picks!T:T,MATCH(F91,Picks!R:R,0))","v":0}]
[{"$f":"IF(Match!A46=\"\",\"\",Match!A46)","v":"2020-12-13"},"1900-01-01",null,null,null,"Palace draw","11/4",3.75,{"$f":"INDEX(Picks!T:T,MATCH(F92,Picks!R:R,0))","v":1}]
[{"$f":"IF(Match!A47=\"\",\"\",Match!A47)","v":"2020-12-13"},"1900-01-01",null,null,null,"Southampton draw","27/10",3.7,{"$f":"INDEX(Picks!T:T,MATCH(F93,Picks!R:R,0))","v":0}]
[{"$f":"IF(Match!A2=\"\",\"\",Match!A2)","v":"2020-12-11"},"1900-01-06",null,null,null,{"$f":"IF(D2=\"\",\"\",L2)","v":"West Ham"},{"$f":"IF(D2=\"\",\"\",N2)","v":"11/5"},{"$f":"IF(D2=\"\",\"\",Q2)","v":3.2},{"$f":"INDEX(Picks!T:T,MATCH(F94,Picks!R:R,0))","v":1}]
[{"$f":"IF(Match!A3=\"\",\"\",Match!A3)","v":"2020-12-12"},"1900-01-07",null,null,null,"Chelsea","3/4",{"$f":"IF(D3=\"\",\"\",Q3)","v":1.75},{"$f":"INDEX(Picks!T:T,MATCH(F95,Picks!R:R,0))","v":0}]
[{"$f":"IF(Match!A4=\"\",\"\",Match!A4)","v":"2020-12-12"},"1900-01-07",null,null,null,"Man C","3/4",1.75,{"$f":"INDEX(Picks!T:T,MATCH(F96,Picks!R:R,0))","v":0}]
[{"$f":"IF(Match!A5=\"\",\"\",Match!A5)","v":"2020-12-12"},"1900-01-07",null,null,null,"West Brom","12/5",3.4,{"$f":"INDEX(Picks!T:T,MATCH(F97,Picks!R:R,0))","v":0}]
[{"$f":"IF(Match!A6=\"\",\"\",Match!A6)","v":"2020-12-12"},"1900-01-07",null,null,null,"Villa","11/5",3.2,{"$f":"INDEX(Picks!T:T,MATCH(F98,Picks!R:R,0))","v":1}]
[{"$f":"IF(Match!A7=\"\",\"\",Match!A7)","v":"2020-12-12"},"1900-01-07",null,null,null,"Watford","21/20",2.0499999999999998,{"$f":"INDEX(Picks!T:T,MATCH(F99,Picks!R:R,0))","v":1}]
[{"$f":"IF(Match!A8=\"\",\"\",Match!A8)","v":"2020-12-12"},"1900-01-07",null,null,null,"Norwich","7/4",2.75,{"$f":"INDEX(Picks!T:T,MATCH(F100,Picks!R:R,0))","v":1}]
[{"$f":"IF(Match!A9=\"\",\"\",Match!A9)","v":"2020-12-12"},"1900-01-07",null,null,null,"Huddersfield","9/2",5.5,{"$f":"INDEX(Picks!T:T,MATCH(F101,Picks!R:R,0))","v":0}]
[{"$f":"IF(Match!A10=\"\",\"\",Match!A10)","v":"2020-12-12"},"1900-01-07",null,null,null,"Swansea","2/1",3,{"$f":"INDEX(Picks!T:T,MATCH(F102,Picks!R:R,0))","v":1}]
[{"$f":"IF(Match!A11=\"\",\"\",Match!A11)","v":"2020-12-12"},"1900-01-07",null,null,null,"Stoke","8/5",2.6,{"$f":"INDEX(Picks!T:T,MATCH(F103,Picks!R:R,0))","v":0}]
[{"$f":"IF(Match!A12=\"\",\"\",Match!A12)","v":"2020-12-12"},"1900-01-07",null,null,null,"Brentford","11/10",2.1,{"$f":"INDEX(Picks!T:T,MATCH(F104,Picks!R:R,0))","v":1}]
[{"$f":"IF(Match!A13=\"\",\"\",Match!A13)","v":"2020-12-12"},"1900-01-07",null,null,null,"Preston","6/4",2.5,{"$f":"INDEX(Picks!T:T,MATCH(F105,Picks!R:R,0))","v":0}]
[{"$f":"IF(Match!A14=\"\",\"\",Match!A14)","v":"2020-12-12"},"1900-01-07",null,null,null,"Millwall","27/10",3.7,{"$f":"INDEX(Picks!T:T,MATCH(F106,Picks!R:R,0))","v":0}]
[{"$f":"IF(Match!A15=\"\",\"\",Match!A15)","v":"2020-12-12"},"1900-01-07",null,null,null,"Reading","17/10",2.7,{"$f":"INDEX(Picks!T:T,MATCH(F107,Picks!R:R,0))","v":1}]
[{"$f":"IF(Match!A16=\"\",\"\",Match!A16)","v":"2020-12-12"},"1900-01-07",null,null,null,"Bristol C","6/4",2.5,{"$f":"INDEX(Picks!T:T,MATCH(F108,Picks!R:R,0))","v":0}]
[{"$f":"IF(Match!A17=\"\",\"\",Match!A17)","v":"2020-12-12"},"1900-01-07",null,null,null,"Barnsley","21/10",3.1,{"$f":"INDEX(Picks!T:T,MATCH(F109,Picks!R:R,0))","v":1}]
[{"$f":"IF(Match!A18=\"\",\"\",Match!A18)","v":"2020-12-12"},"1900-01-07",null,null,null,"Coventry","11/8",2.375,{"$f":"INDEX(Picks!T:T,MATCH(F110,Picks!R:R,0))","v":1}]
[{"$f":"IF(Match!A19=\"\",\"\",Match!A19)","v":"2020-12-12"},"1900-01-07",null,null,null,"Oxford","12/5",3.4,{"$f":"INDEX(Picks!T:T,MATCH(F111,Picks!R:R,0))","v":0}]
[{"$f":"IF(Match!A20=\"\",\"\",Match!A20)","v":"2020-12-12"},"1900-01-07",null,null,null,"Plymouth","17/10",2.7,{"$f":"INDEX(Picks!T:T,MATCH(F112,Picks!R:R,0))","v":0}]
[{"$f":"IF(Match!A21=\"\",\"\",Match!A21)","v":"2020-12-12"},"1900-01-07",null,null,null,"Wimbledon","17/10",2.7,{"$f":"INDEX(Picks!T:T,MATCH(F113,Picks!R:R,0))","v":0}]
[{"$f":"IF(Match!A22=\"\",\"\",Match!A22)","v":"2020-12-12"},"1900-01-07",null,null,null,"Northampton","15/4",4.75,{"$f":"INDEX(Picks!T:T,MATCH(F114,Picks!R:R,0))","v":0}]
[{"$f":"IF(Match!A23=\"\",\"\",Match!A23)","v":"2020-12-12"},"1900-01-07",null,null,null,"Gillingham","29/10",3.9,{"$f":"INDEX(Picks!T:T,MATCH(F115,Picks!R:R,0))","v":0}]
[{"$f":"IF(Match!A24=\"\",\"\",Match!A24)","v":"2020-12-12"},"1900-01-07",null,null,null,"Shrewsbury","24/5",5.8,{"$f":"INDEX(Picks!T:T,MATCH(F116,Picks!R:R,0))","v":1}]
[{"$f":"IF(Match!A25=\"\",\"\",Match!A25)","v":"2020-12-12"},"1900-01-07",null,null,null,"Portsmouth","6/5",2.2000000000000002,{"$f":"INDEX(Picks!T:T,MATCH(F117,Picks!R:R,0))","v":1}]
[{"$f":"IF(Match!A26=\"\",\"\",Match!A26)","v":"2020-12-12"},"1900-01-07",null,null,null,"Sunderland","8/5",2.6,{"$f":"INDEX(Picks!T:T,MATCH(F118,Picks!R:R,0))","v":1}]
[{"$f":"IF(Match!A27=\"\",\"\",Match!A27)","v":"2020-12-12"},"1900-01-07",null,null,null,"Burton","16/5",4.2,{"$f":"INDEX(Picks!T:T,MATCH(F119,Picks!R:R,0))","v":0}]
[{"$f":"IF(Match!A28=\"\",\"\",Match!A28)","v":"2020-12-12"},"1900-01-07",null,null,null,"Rochdale","5/1",6,{"$f":"INDEX(Picks!T:T,MATCH(F120,Picks!R:R,0))","v":0}]
[{"$f":"IF(Match!A29=\"\",\"\",Match!A29)","v":"2020-12-12"},"1900-01-07",null,null,null,"Fleetwood","23/20",2.15,{"$f":"INDEX(Picks!T:T,MATCH(F121,Picks!R:R,0))","v":1}]
[{"$f":"IF(Match!A30=\"\",\"\",Match!A30)","v":"2020-12-12"},"1900-01-07",null,null,null,"Accrington","5/4",2.25,{"$f":"INDEX(Picks!T:T,MATCH(F122,Picks!R:R,0))","v":0}]
[{"$f":"IF(Match!A31=\"\",\"\",Match!A31)","v":"2020-12-12"},"1900-01-07",null,null,null,"Stevenage","9/2",5.5,{"$f":"INDEX(Picks!T:T,MATCH(F123,Picks!R:R,0))","v":0}]
[{"$f":"IF(Match!A32=\"\",\"\",Match!A32)","v":"2020-12-12"},"1900-01-07",null,null,null,"Barrow","15/8",2.875,{"$f":"INDEX(Picks!T:T,MATCH(F124,Picks!R:R,0))","v":0}]
[{"$f":"IF(Match!A33=\"\",\"\",Match!A33)","v":"2020-12-12"},"1900-01-07",null,null,null,"Tranmere","14/5",3.8,{"$f":"INDEX(Picks!T:T,MATCH(F125,Picks!R:R,0))","v":0}]
[{"$f":"IF(Match!A34=\"\",\"\",Match!A34)","v":"2020-12-12"},"1900-01-07",null,null,null,"Cambridge","27/10",3.7,{"$f":"INDEX(Picks!T:T,MATCH(F126,Picks!R:R,0))","v":0}]
[{"$f":"IF(Match!A35=\"\",\"\",Match!A35)","v":"2020-12-12"},"1900-01-07",null,null,null,"Mansfield","13/10",2.2999999999999998,{"$f":"INDEX(Picks!T:T,MATCH(F127,Picks!R:R,0))","v":0}]
[{"$f":"IF(Match!A36=\"\",\"\",Match!A36)","v":"2020-12-12"},"1900-01-07",null,null,null,"Harrogate","17/10",2.7,{"$f":"INDEX(Picks!T:T,MATCH(F128,Picks!R:R,0))","v":0}]
[{"$f":"IF(Match!A37=\"\",\"\",Match!A37)","v":"2020-12-12"},"1900-01-07",null,null,null,"Bradford","19/10",2.9,{"$f":"INDEX(Picks!T:T,MATCH(F129,Picks!R:R,0))","v":0}]
[{"$f":"IF(Match!A38=\"\",\"\",Match!A38)","v":"2020-12-12"},"1900-01-07",null,null,null,"Newport","11/8",2.375,{"$f":"INDEX(Picks!T:T,MATCH(F130,Picks!R:R,0))","v":0}]
[{"$f":"IF(Match!A39=\"\",\"\",Match!A39)","v":"2020-12-12"},{"$f":"IF(A131=\"\",\"\",WEEKDAY(A131))","v":"1900-01-07"},null,null,null,"Colchester","23/10",3.3,{"$f":"INDEX(Picks!T:T,MATCH(F131,Picks!R:R,0))","v":0}]
[{"$f":"IF(Match!A40=\"\",\"\",Match!A40)","v":"2020-12-12"},"1900-01-07",null,null,null,"Cheltenham","17/10",2.7,{"$f":"INDEX(Picks!T:T,MATCH(F132,Picks!R:R,0))","v":0}]
[{"$f":"IF(Match!A41=\"\",\"\",Match!A41)","v":"2020-12-12"},"1900-01-07",null,null,null,"Scunthorpe","13/10",2.2999999999999998,{"$f":"INDEX(Picks!T:T,MATCH(F133,Picks!R:R,0))","v":0}]
[{"$f":"IF(Match!A42=\"\",\"\",Match!A42)","v":"2020-12-12"},"1900-01-07",null,null,null,"Bolton","11/5",3.2,{"$f":"INDEX(Picks!T:T,MATCH(F134,Picks!R:R,0))","v":0}]
[{"$f":"IF(Match!A43=\"\",\"\",Match!A43)","v":"2020-12-13"},"1900-01-01",null,null,null,"Burnley","11/2",6.5,{"$f":"INDEX(Picks!T:T,MATCH(F135,Picks!R:R,0))","v":1}]
[{"$f":"IF(Match!A44=\"\",\"\",Match!A44)","v":"2020-12-13"},"1900-01-01",null,null,null,"Liverpool","1/3",1.3333333333333333,{"$f":"INDEX(Picks!T:T,MATCH(F136,Picks!R:R,0))","v":0}]
[{"$f":"IF(Match!A45=\"\",\"\",Match!A45)","v":"2020-12-13"},"1900-01-01",null,null,null,"Brighton","11/4",3.75,{"$f":"INDEX(Picks!T:T,MATCH(F137,Picks!R:R,0))","v":0}]
[{"$f":"IF(Match!A46=\"\",\"\",Match!A46)","v":"2020-12-13"},"1900-01-01",null,null,null,"Spurs","8/11",1.7272727272727273,{"$f":"INDEX(Picks!T:T,MATCH(F138,Picks!R:R,0))","v":0}]
[{"$f":"IF(Match!A47=\"\",\"\",Match!A47)","v":"2020-12-13"},"1900-01-01",null,null,null,"Sheff U","4/1",5,{"$f":"INDEX(Picks!T:T,MATCH(F139,Picks!R:R,0))","v":0}]

{"sheet":"Perms","index":19,"n_rows":50,"n_cols":23,"rows_kept":50,"cut":false,"hidden":false,"merged":[]}
[]
[null,null,null,null,null,null,null,null,null,null,null,null,null,null,"-7.00"]
[null,"Paul Fiddler",null,null,null,null,null,null,null,null,null,"Wk 19: ",{"$f":"INDEX(Table!G:G,MATCH(B3,Table!F:F,0))","v":-35.569691142191139},null,{"$f":"M3-7","v":-42.569691142191139}]
[null,null,"Prediction","Odds -","Odds - ","Odds - ","Prediction",null,null,null,null,"Single 1","Single 2",null,{"$f":"IF(K4=0,0,1)+K4","v":0},null,null,null,null,null,null,"Andy Charleston","Portsmouth"]
[null,null,"Correct?","Fraction","decimal","decimal","Correct",null,{"$f":"F6","v":0.72727272727272729},{"$f":"F7","v":1.6},{"$f":"F8","v":4},{"$f":"IF(I5=0,0,1)+I5","v":1.7272727272727273},{"$f":"IF(J5=0,0,1)+J5","v":2.6},null,{"$f":"IF(K5=0,0,1)+K5","v":5},{"$f":"IF(J5=0,0,(L5*J5)+L5)","v":4.4909090909090912},{"$f":"IF(K5=0,0,(M5*K5)+M5)","v":13},{"$f":"IF(I5=0,0,(O5*I5)+O5)","v":8.6363636363636367},{"$f":"IF(K5=0,0,(P5*K5)+P5)","v":22.454545454545457},null,null,"Andy Charleston","Doncaster"]
[null,"Spurs","√",{"$f":"INDEX(Picks!C:C,MATCH(B6,Picks!B:B,0))","v":1},{"$f":"INDEX(Picks!D:D,MATCH(B6,Picks!B:B,0))","v":1.7272727272727273},{"$f":"+((E6-1)*G6)","v":0.72727272727272729},1,null,null,null,null,null,null,null,null,null,null,null,null,null,null,"Andy Charleston","Wigan"]
[null,"Sunderland","√",{"$f":"INDEX(Picks!C:C,MATCH(B7,Picks!B:B,0))","v":7},{"$f":"INDEX(Picks!D:D,MATCH(B7,Picks!B:B,0))","v":2.6},{"$f":"+((E7-1)*G7)","v":1.6},1,null,null,null,null,"Correct","Score",null,"Final",null,null,null,null,null,null,"Chris Griffin","Wigan"]
[null,"Sheff U","√",{"$f":"INDEX(Picks!C:C,MATCH(B8,Picks!B:B,0))","v":1},{"$f":"INDEX(Picks!D:D,MATCH(B8,Picks!B:B,0))","v":5},{"$f":"+((E8-1)*G8)","v":4},1,null,null,null,null,{"$f":"SUM(G6:G8)","v":3},{"$f":"SUM(L5:S5)-7","v":50.909090909090907},null,{"$f":"$M$3+M8","v":15.339399766899767},null,null,null,null,null,null,"Chris Griffin","Sunderland"]
[null,null,null,null,null,null,null,null,null,null,null,null,null,null,null,null,null,null,null,null,null,"Chris Griffin","Reading draw"]
[null,null,null,null,null,null,null,null,null,null,null,null,null,null,null,null,null,null,null,null,null,"John Evans","West Ham"]
[null,null,"Prediction","Odds -","Odds - ","Odds - ","Prediction",null,null,null,null,"Single 1","Single 2",null,"Single 3","Double 1","Double 2","Double 3","Treble",null,null,"John Evans","Wycombe"]
[null,null,"Correct?","Fraction","decimal","decimal","Correct",null,{"$f":"F13","v":0.72727272727272729},{"$f":"F14","v":1.6},{"$f":"F15","v":0},{"$f":"IF(I12=0,0,1)+I12","v":1.7272727272727273},{"$f":"IF(J12=0,0,1)+J12","v":2.6},null,{"$f":"IF(K12=0,0,1)+K12","v":0},{"$f":"IF(J12=0,0,(L12*J12)+L12)","v":4.4909090909090912},{"$f":"IF(K12=0,0,(M12*K12)+M12)","v":0},{"$f":"IF(I12=0,0,(O12*I12)+O12)","v":0},{"$f":"IF(K12=0,0,(P12*K12)+P12)","v":0},null,null,"John Evans","Wigan"]
[null,{"$f":"game1","v":"Spurs"},"√",{"$f":"INDEX(Picks!C:C,MATCH(B13,Picks!B:B,0))","v":1},{"$f":"INDEX(Picks!D:D,MATCH(B13,Picks!B:B,0))","v":1.7272727272727273},{"$f":"+((E13-1)*G13)","v":0.72727272727272729},1,null,null,null,null,null,null,null,null,null,null,null,null,null,null,"Mo Sudell","Villa"]
[null,{"$f":"game2","v":"Sunderland"},"√",{"$f":"INDEX(Picks!C:C,MATCH(B14,Picks!B:B,0))","v":7},{"$f":"INDEX(Picks!D:D,MATCH(B14,Picks!B:B,0))","v":2.6},{"$f":"+((E14-1)*G14)","v":1.6},1,null,null,null,null,"Correct","Score",null,"Final",null,null,null,null,null,null,"Mo Sudell","Wigan"]
[null,{"$f":"game3","v":"Sheff U"},"x",{"$f":"INDEX(Picks!C:C,MATCH(B15,Picks!B:B,0))","v":1},{"$f":"INDEX(Picks!D:D,MATCH(B15,Picks!B:B,0))","v":5},{"$f":"+((E15-1)*G15)","v":0},0,null,null,null,null,{"$f":"SUM(G13:G15)","v":2},{"$f":"SUM(L12:S12)-7","v":1.8181818181818183},null,{"$f":"$M$3+M15","v":-33.751509324009319},null,null,null,null,null,null,"Mo Sudell","Sheff U"]
[null,null,null,null,null,null,null,null,null,null,null,null,null,null,null,null,null,null,null,null,null,"Paul Fiddler","Spurs"]
[null,null,null,"`",null,null,null,null,null,null,null,null,null,null,null,null,null,null,null,null,null,"Paul Fiddler","Sunderland"]
[null,null,"Prediction","Odds -","Odds - ","Odds - ","Prediction",null,null,null,null,"Single 1","Single 2",null,"Single 3","Double 1","Double 2","Double 3","Treble",null,null,"Paul Fiddler","Sheff U"]
[null,null,"Correct?","Fraction","decimal","decimal","Correct",null,{"$f":"F20","v":0},{"$f":"F21","v":1.6},{"$f":"F22","v":4},{"$f":"IF(I19=0,0,1)+I19","v":0},{"$f":"IF(J19=0,0,1)+J19","v":2.6},null,{"$f":"IF(K19=0,0,1)+K19","v":5},{"$f":"IF(J19=0,0,(L19*J19)+L19)","v":0},{"$f":"IF(K19=0,0,(M19*K19)+M19)","v":13},{"$f":"IF(I19=0,0,(O19*I19)+O19)","v":0},{"$f":"IF(K19=0,0,(P19*K19)+P19)","v":0}]
[null,{"$f":"game1","v":"Spurs"},"x",{"$f":"INDEX(Picks!C:C,MATCH(B20,Picks!B:B,0))","v":1},{"$f":"INDEX(Picks!D:D,MATCH(B20,Picks!B:B,0))","v":1.7272727272727273},{"$f":"+((E20-1)*G20)","v":0},0]
[null,{"$f":"game2","v":"Sunderland"},"√",{"$f":"INDEX(Picks!C:C,MATCH(B21,Picks!B:B,0))","v":7},{"$f":"INDEX(Picks!D:D,MATCH(B21,Picks!B:B,0))","v":2.6},{"$f":"+((E21-1)*G21)","v":1.6},1,null,null,null,null,"Correct","Score",null,"Final"]
[null,{"$f":"game3","v":"Sheff U"},"√",{"$f":"INDEX(Picks!C:C,MATCH(B22,Picks!B:B,0))","v":1},{"$f":"INDEX(Picks!D:D,MATCH(B22,Picks!B:B,0))","v":5},{"$f":"+((E22-1)*G22)","v":4},1,null,null,null,null,{"$f":"SUM(G20:G22)","v":2},{"$f":"SUM(L19:S19)-7","v":13.600000000000001},null,{"$f":"$M$3+M22","v":-21.969691142191138}]
[]
[]
[null,null,"Prediction","Odds -","Odds - ","Odds - ","Prediction",null,null,null,null,"Single 1","Single 2",null,"Single 3","Double 1","Double 2","Double 3","Treble"]
[null,null,"Correct?","Fraction","decimal","decimal","Correct",null,{"$f":"F27","v":0.72727272727272729},{"$f":"F28","v":0},{"$f":"F29","v":4},{"$f":"IF(I26=0,0,1)+I26","v":1.7272727272727273},{"$f":"IF(J26=0,0,1)+J26","v":0},null,{"$f":"IF(K26=0,0,1)+K26","v":5},{"$f":"IF(J26=0,0,(L26*J26)+L26)","v":0},{"$f":"IF(K26=0,0,(M26*K26)+M26)","v":0},{"$f":"IF(I26=0,0,(O26*I26)+O26)","v":8.6363636363636367},{"$f":"IF(K26=0,0,(P26*K26)+P26)","v":0}]
[null,{"$f":"game1","v":"Spurs"},"√",{"$f":"INDEX(Picks!C:C,MATCH(B27,Picks!B:B,0))","v":1},{"$f":"INDEX(Picks!D:D,MATCH(B27,Picks!B:B,0))","v":1.7272727272727273},{"$f":"+((E27-1)*G27)","v":0.72727272727272729},1]
[null,{"$f":"game2","v":"Sunderland"},"x",{"$f":"INDEX(Picks!C:C,MATCH(B28,Picks!B:B,0))","v":7},{"$f":"INDEX(Picks!D:D,MATCH(B28,Picks!B:B,0))","v":2.6},{"$f":"+((E28-1)*G28)","v":0},0,null,null,null,null,"Correct","Score",null,"Final"]
[null,{"$f":"game3","v":"Sheff U"},"√",{"$f":"INDEX(Picks!C:C,MATCH(B29,Picks!B:B,0))","v":1},{"$f":"INDEX(Picks!D:D,MATCH(B29,Picks!B:B,0))","v":5},{"$f":"+((E29-1)*G29)","v":4},1,null,null,null,null,{"$f":"SUM(G27:G29)","v":2},{"$f":"SUM(L26:S26)-7","v":8.3636363636363633},null,{"$f":"$M$3+M29","v":-27.206054778554776}]
[]
[]
[null,null,"Prediction","Odds -","Odds - ","Odds - ","Prediction",null,null,null,null,"Single 1","Single 2",null,"Single 3","Double 1","Double 2","Double 3","Treble"]
[null,null,"Correct?","Fraction","decimal","decimal","Correct",null,{"$f":"F34","v":0.72727272727272729},{"$f":"F35","v":0},{"$f":"F36","v":0},{"$f":"IF(I33=0,0,1)+I33","v":1.7272727272727273},{"$f":"IF(J33=0,0,1)+J33","v":0},null,{"$f":"IF(K33=0,0,1)+K33","v":0},{"$f":"IF(J33=0,0,(L33*J33)+L33)","v":0},{"$f":"IF(K33=0,0,(M33*K33)+M33)","v":0},{"$f":"IF(I33=0,0,(O33*I33)+O33)","v":0},{"$f":"IF(K33=0,0,(P33*K33)+P33)","v":0}]
[null,{"$f":"game1","v":"Spurs"},"√",{"$f":"INDEX(Picks!C:C,MATCH(B34,Picks!B:B,0))","v":1},{"$f":"INDEX(Picks!D:D,MATCH(B34,Picks!B:B,0))","v":1.7272727272727273},{"$f":"+((E34-1)*G34)","v":0.72727272727272729},1]
[null,{"$f":"game2","v":"Sunderland"},"x",{"$f":"INDEX(Picks!C:C,MATCH(B35,Picks!B:B,0))","v":7},{"$f":"INDEX(Picks!D:D,MATCH(B35,Picks!B:B,0))","v":2.6},{"$f":"+((E35-1)*G35)","v":0},0,null,null,null,null,"Correct","Score",null,"Final"]
[null,{"$f":"game3","v":"Sheff U"},"x",{"$f":"INDEX(Picks!C:C,MATCH(B36,Picks!B:B,0))","v":1},{"$f":"INDEX(Picks!D:D,MATCH(B36,Picks!B:B,0))","v":5},{"$f":"+((E36-1)*G36)","v":0},0,null,null,null,null,{"$f":"SUM(G34:G36)","v":1},{"$f":"SUM(L33:S33)-7","v":-5.2727272727272725},null,{"$f":"$M$3+M36","v":-40.842418414918413}]
[]
[]
[null,null,"Prediction","Odds -","Odds - ","Odds - ","Prediction",null,null,null,null,"Single 1","Single 2",null,"Single 3","Double 1","Double 2","Double 3","Treble"]
[null,null,"Correct?","Fraction","decimal","decimal","Correct",null,{"$f":"F41","v":0},{"$f":"F42","v":1.6},{"$f":"F43","v":0},{"$f":"IF(I40=0,0,1)+I40","v":0},{"$f":"IF(J40=0,0,1)+J40","v":2.6},null,{"$f":"IF(K40=0,0,1)+K40","v":0},{"$f":"IF(J40=0,0,(L40*J40)+L40)","v":0},{"$f":"IF(K40=0,0,(M40*K40)+M40)","v":0},{"$f":"IF(I40=0,0,(O40*I40)+O40)","v":0},{"$f":"IF(K40=0,0,(P40*K40)+P40)","v":0}]
[null,{"$f":"game1","v":"Spurs"},"x",{"$f":"INDEX(Picks!C:C,MATCH(B41,Picks!B:B,0))","v":1},{"$f":"INDEX(Picks!D:D,MATCH(B41,Picks!B:B,0))","v":1.7272727272727273},{"$f":"+((E41-1)*G41)","v":0},0]
[null,{"$f":"game2","v":"Sunderland"},"√",{"$f":"INDEX(Picks!C:C,MATCH(B42,Picks!B:B,0))","v":7},{"$f":"INDEX(Picks!D:D,MATCH(B42,Picks!B:B,0))","v":2.6},{"$f":"+((E42-1)*G42)","v":1.6},1,null,null,null,null,"Correct","Score",null,"Final"]
[null,{"$f":"game3","v":"Sheff U"},"x",{"$f":"INDEX(Picks!C:C,MATCH(B43,Picks!B:B,0))","v":1},{"$f":"INDEX(Picks!D:D,MATCH(B43,Picks!B:B,0))","v":5},{"$f":"+((E43-1)*G43)","v":0},0,null,null,null,null,{"$f":"SUM(G41:G43)","v":1},{"$f":"SUM(L40:S40)-7","v":-4.4000000000000004},null,{"$f":"$M$3+M43","v":-39.969691142191138}]
[]
[]
[null,null,"Prediction","Odds -","Odds - ","Odds - ","Prediction",null,null,null,null,"Single 1","Single 2",null,"Single 3","Double 1","Double 2","Double 3","Treble"]
[null,null,"Correct?","Fraction","decimal","decimal","Correct",null,{"$f":"F48","v":0},{"$f":"F49","v":0},{"$f":"F50","v":4},{"$f":"IF(I47=0,0,1)+I47","v":0},{"$f":"IF(J47=0,0,1)+J47","v":0},null,{"$f":"IF(K47=0,0,1)+K47","v":5},{"$f":"IF(J47=0,0,(L47*J47)+L47)","v":0},{"$f":"IF(K47=0,0,(M47*K47)+M47)","v":0},{"$f":"IF(I47=0,0,(O47*I47)+O47)","v":0},{"$f":"IF(K47=0,0,(P47*K47)+P47)","v":0}]
[null,{"$f":"game1","v":"Spurs"},"x",{"$f":"INDEX(Picks!C:C,MATCH(B48,Picks!B:B,0))","v":1},{"$f":"INDEX(Picks!D:D,MATCH(B48,Picks!B:B,0))","v":1.7272727272727273},{"$f":"+((E48-1)*G48)","v":0},0]
[null,{"$f":"game2","v":"Sunderland"},"x",{"$f":"INDEX(Picks!C:C,MATCH(B49,Picks!B:B,0))","v":7},{"$f":"INDEX(Picks!D:D,MATCH(B49,Picks!B:B,0))","v":2.6},{"$f":"+((E49-1)*G49)","v":0},0,null,null,null,null,"Correct","Score",null,"Final"]
[null,{"$f":"game3","v":"Sheff U"},"√",{"$f":"INDEX(Picks!C:C,MATCH(B50,Picks!B:B,0))","v":1},{"$f":"INDEX(Picks!D:D,MATCH(B50,Picks!B:B,0))","v":5},{"$f":"+((E50-1)*G50)","v":4},1,null,null,null,null,{"$f":"SUM(G48:G50)","v":1},{"$f":"SUM(L47:S47)-7","v":-2},null,{"$f":"$M$3+M50","v":-37.569691142191139}]

{"sheet":"FAQ","index":20,"n_rows":76,"n_cols":2,"rows_kept":76,"cut":false,"hidden":false,"merged":[]}
["Menu!A1"]
[null,"So, what is the 3in! Prediction League? Basically, each player in the league chooses just three matches from the weekend’s fixture list and predicts whether they will be a home win, an away win or a draw. You score points based on how correct your three predictions turn out to be and the match odds published by William Hills."]
[]
[null,"How does the scoring actually work? Your three predictions are entered as a Patent bet, which means you get three singles, three doubles, and a treble. So, you have seven bets in total.  (If you went into a bookies and placed a £1 patent bet it would cost you £7, £1 for each bet). What you would stake and win with a real bookie with this bet, we convert to virtual money, or points, in the Prediction League."]
[]
[null,"Then what? Basically, you total the decimal odds of all your winning bets and that becomes your points score for the week. The more of your three predictions you get right, the higher your win will be and so will your score. Also, if you pick matches with higher odds and predict the correct result, you will score more points."]
[]
[null,"Hmmm, I’m still not really getting it! Right, here’s an example below. The fractional odds are converted to decimal – for example, the 9/4 for a Bristol City draw becomes 2.25 to which you add your virtual £1 stake, so 3.25. Do the same with the other two bets to calculate the three single bet values. The bookie calculates the odds for the three doubles and the treble but I am not sufficiently geeky to know how they do that."]
[]
[null,"The table below shows what you would score if you predicted all three matches correctly; add up the 7 bet scores – 59.99 – and subtract the £7 stake to arrive at 52.99."]
[]
[]
[]
[]
[]
[]
[]
[]
[null,"Here’s what happens if you get the Bristol City prediction wrong…"]
[]
[]
[]
[]
[]
[]
[]
[]
[null,"… and if you get you only get the Sunderland one right, your score gets even lower, into negative numbers…"]
[]
[]
[]
[]
[]
[]
[]
[]
[null,"… and if, like me in most weeks, you get all three wrong, then you score a big fat -7.00… "]
[]
[]
[]
[]
[]
[]
[]
[]
[null,"OK, got it. So, when does it start and how long does it last? The 3in! season lasts for 20 weeks.  We have two PL seasons in one regular football season, one before Christmas and one after. The weekly schedule is published on the website."]
[]
[null,"Which fixtures can I choose from? Each week you will receive an email listing the fixture list. This will normally be the fixtures from the top four English leagues played on Friday, Saturday and Sunday. Sometimes, there list may also include international matches or FA Cup matches. There will be between 40 and 46 matches to choose from."]
[]
[null,"How do I submit predictions? If you are predicting a win, I just need the team name exactly as it appears in the fixture list. If you are predicting a draw, I just need the home team name exactly as it appears in the fixture list plus the word “draw”. In fact, just as you can see in the examples above, with each of the three predictions on a separate line."]
[]
[null,"Why do you need the team name to be exactly as it appears in the fixture list? Because, it helps me to cut and paste them directly into my system and if you give me anything different I have to start typing things manually. With almost 100 sets of predictions to deal with each week, that becomes a pain in the arse. So, just do it right, please! Do not get creative with the names of the teams or the format of the predictions submission.  If it says “Tottenham” that’s what I want to see – not “Tottenham Hotspur” or “Spurs” or “Tott’ham” or “Tottenham H”. Just plain old “Tottenham” please."]
[]
[null,"Can I send them via text instead? Only in an emergency, please don’t make a habit of it! There is more chance of me not missing your entry if you reply to the original email fixtures list.  If you lose the email, the fixtures are always on the Next Odds page of the website."]
[]
[null,"Is there a deadline by which I have to submit each week? No, not specifically. You have up until a match kicks off to predict its result so you could miss all of Saturday’s main fixture list and rely on the Sunday games. You just have to hope that there are at least three games on the Sunday or your chances of scoring big are reduced accordingly."]
[]
[null,"What if a cup game goes to extra time and penalties? Bookies odds are generally based on the score at 90 minutes so we go with that."]
[]
[null,"What if a game is postponed? If one or more of your three selections is postponed then your Patent bet permutations are again reduced accordingly. Again, I don’t pretend to understand exactly how the bookies calculate this but I have a formula that does it for me. Basically it means that your maximum win or loss will be reduced. If all three of your selections are postponed, you should give serious consideration to packing it all in."]
[]
[null,"Can I change my predictions after I have submitted them? It’s a brave man (or woman) that does so but yes, provided the new matches you select haven’t yet kicked off you can change your mind. I will always take your latest submission – you’ll be amazed how many people send in three pcks, completely forget that have done so and the send in three completey different new ones. I never ask questions, I just take your most recent predictions in good faith."]
[]
[null,"Will I receive a confirmation that you have received my predictions? Definitely not! With 90 sets of predictions to process I don’t have the time. But, if you reply to the official fixture list email and you don’t receive a failure, you can safely assume I have got it."]
[]
[null,"Will you send me a reminder if I haven’t sent you any predictions? Er, what do you think? No, I won’t. You’re a grown adult, sort your life out."]
[]
[null,"How much does it cost to enter? It’s £1 per week, so £20 for the season. Then we start again in January if you’re still with us."]
[]
[null,"How much can I win? There are weekly prizes of £25 to the highest four score of the week – £10 to the highest scorer and three times £5 to the next three highest. The top 25 players at the end of the 20 weeks share the rest of the fund between them. 100% of entry fees are re-distributed as prizes. The breakdown of the prize fund is listed on the Diary page of the website."]
[]
[null,"Do I have to pay my £20 before I can join? No. You will start £20 in debt and, at the end of the year, we will nett off any prizes and collect/pay out the balance. Except if you are brand new to the League in which case we ask you to pay your £20 by Week 3 of your first season. As a gesture of goodwill, more than anything else."]
[]
[null,"How can I find out how I am doing as the season progresses? Update tables and stats are published on a weekly basis on the News section of the website and you will receive an email notifying you when the updates have been made."]
[]
[null,"Can I change the email address you send the updates to? Yes, you can unsubscribe your existing email address or add a new one here."]

{"sheet":"Sample","index":21,"n_rows":27,"n_cols":18,"rows_kept":27,"cut":false,"hidden":false,"merged":[]}
["Menu!A1","John Evans"]
[null,null,"Prediction","Odds - ","Odds - ","Odds - ","Prediction",null,null,null,null,"Single 1","Single 2","Single 3","Double 1","Double 2","Double 3","Treble"]
[null,null,"Correct?","fractional","decimal","decimal","Correct",null,{"$f":"F4","v":2.25},{"$f":"F5","v":1.5},{"$f":"F6","v":2.1},{"$f":"IF(I3=0,0,1)+I3","v":3.25},{"$f":"IF(J3=0,0,1)+J3","v":2.5},{"$f":"IF(K3=0,0,1)+K3","v":3.1},{"$f":"IF(J3=0,0,(L3*J3)+L3)","v":8.125},{"$f":"IF(K3=0,0,(M3*K3)+M3)","v":7.75},{"$f":"IF(I3=0,0,(N3*I3)+N3)","v":10.075000000000001},{"$f":"IF(K3=0,0,(O3*K3)+O3)","v":25.1875}]
[null,"Wigan","√","1/20",3.25,2.25,1]
[null,"Bolton","√","6/4",2.5,1.5,1,null,null,null,null,"Correct","Score",null,"Current","Final"]
[null,"Leeds","√","21/10",3.1,2.1,1,null,null,null,null,{"$f":"SUM(G4:G6)","v":3},{"$f":"SUM(L3:R3)-7","v":52.987500000000004}]
[]
[]
[null,null,"Prediction","Odds - ","Odds - ","Odds - ","Prediction",null,null,null,null,"Single 1","Single 2","Single 3","Double 1","Double 2","Double 3","Treble"]
[null,null,"Correct?","fractional","decimal","decimal","Correct",null,{"$f":"F11","v":0},{"$f":"F12","v":1.5},{"$f":"F13","v":2.1},{"$f":"IF(I10=0,0,1)+I10","v":0},{"$f":"IF(J10=0,0,1)+J10","v":2.5},{"$f":"IF(K10=0,0,1)+K10","v":3.1},{"$f":"IF(J10=0,0,(L10*J10)+L10)","v":0},{"$f":"IF(K10=0,0,(M10*K10)+M10)","v":7.75},{"$f":"IF(I10=0,0,(N10*I10)+N10)","v":0},{"$f":"IF(K10=0,0,(O10*K10)+O10)","v":0}]
[null,"Bristol City Draw","x","9/4",{"$f":"(TRUNC(((VALUE(LEFT(D11,SEARCH(\"/\",D11)-1)))/(VALUE(MID(D11,(SEARCH(\"/\",D11)+1),3))))*100)/100)+1","v":3.25},{"$f":"+((E11-1)*G11)","v":0},0]
[null,"Tottenham","√","6/4",{"$f":"(TRUNC(((VALUE(LEFT(D12,SEARCH(\"/\",D12)-1)))/(VALUE(MID(D12,(SEARCH(\"/\",D12)+1),3))))*100)/100)+1","v":2.5},{"$f":"+((E12-1)*G12)","v":1.5},1,null,null,null,null,"Correct","Score"]
[null,"Sunderland","√","21/10",{"$f":"(TRUNC(((VALUE(LEFT(D13,SEARCH(\"/\",D13)-1)))/(VALUE(MID(D13,(SEARCH(\"/\",D13)+1),3))))*100)/100)+1","v":3.1},{"$f":"+((E13-1)*G13)","v":2.1},1,null,null,null,null,{"$f":"SUM(G11:G13)","v":2},{"$f":"SUM(L10:R10)-7","v":6.35}]
[]
[]
[null,null,"Prediction","Odds - ","Odds - ","Odds - ","Prediction",null,null,null,null,"Single 1","Single 2","Single 3","Double 1","Double 2","Double 3","Treble"]
[null,null,"Correct?","fractional","decimal","decimal","Correct",null,{"$f":"F18","v":0},{"$f":"F19","v":0},{"$f":"F20","v":2.1},{"$f":"IF(I17=0,0,1)+I17","v":0},{"$f":"IF(J17=0,0,1)+J17","v":0},{"$f":"IF(K17=0,0,1)+K17","v":3.1},{"$f":"IF(J17=0,0,(L17*J17)+L17)","v":0},{"$f":"IF(K17=0,0,(M17*K17)+M17)","v":0},{"$f":"IF(I17=0,0,(N17*I17)+N17)","v":0},{"$f":"IF(K17=0,0,(O17*K17)+O17)","v":0}]
[null,"Bristol City Draw","x","9/4",{"$f":"(TRUNC(((VALUE(LEFT(D18,SEARCH(\"/\",D18)-1)))/(VALUE(MID(D18,(SEARCH(\"/\",D18)+1),3))))*100)/100)+1","v":3.25},{"$f":"+((E18-1)*G18)","v":0},0]
[null,"Tottenham","x","6/4",{"$f":"(TRUNC(((VALUE(LEFT(D19,SEARCH(\"/\",D19)-1)))/(VALUE(MID(D19,(SEARCH(\"/\",D19)+1),3))))*100)/100)+1","v":2.5},{"$f":"+((E19-1)*G19)","v":0},0,null,null,null,null,"Correct","Score"]
[null,"Sunderland","√","21/10",{"$f":"(TRUNC(((VALUE(LEFT(D20,SEARCH(\"/\",D20)-1)))/(VALUE(MID(D20,(SEARCH(\"/\",D20)+1),3))))*100)/100)+1","v":3.1},{"$f":"+((E20-1)*G20)","v":2.1},1,null,null,null,null,{"$f":"SUM(G18:G20)","v":1},{"$f":"SUM(L17:R17)-7","v":-3.9}]
[]
[]
[null,null,"Prediction","Odds - ","Odds - ","Odds - ","Prediction",null,null,null,null,"Single 1","Single 2","Single 3","Double 1","Double 2","Double 3","Treble"]
[null,null,"Correct?","fractional","decimal","decimal","Correct",null,{"$f":"F25","v":0},{"$f":"F26","v":0},{"$f":"F27","v":0},{"$f":"IF(I24=0,0,1)+I24","v":0},{"$f":"IF(J24=0,0,1)+J24","v":0},{"$f":"IF(K24=0,0,1)+K24","v":0},{"$f":"IF(J24=0,0,(L24*J24)+L24)","v":0},{"$f":"IF(K24=0,0,(M24*K24)+M24)","v":0},{"$f":"IF(I24=0,0,(N24*I24)+N24)","v":0},{"$f":"IF(K24=0,0,(O24*K24)+O24)","v":0}]
[null,"Bristol City Draw","x","9/4",{"$f":"(TRUNC(((VALUE(LEFT(D25,SEARCH(\"/\",D25)-1)))/(VALUE(MID(D25,(SEARCH(\"/\",D25)+1),3))))*100)/100)+1","v":3.25},{"$f":"+((E25-1)*G25)","v":0},0]
[null,"Tottenham","x","6/4",{"$f":"(TRUNC(((VALUE(LEFT(D26,SEARCH(\"/\",D26)-1)))/(VALUE(MID(D26,(SEARCH(\"/\",D26)+1),3))))*100)/100)+1","v":2.5},{"$f":"+((E26-1)*G26)","v":0},0,null,null,null,null,"Correct","Score"]
[null,"Sunderland","x","21/10",{"$f":"(TRUNC(((VALUE(LEFT(D27,SEARCH(\"/\",D27)-1)))/(VALUE(MID(D27,(SEARCH(\"/\",D27)+1),3))))*100)/100)+1","v":3.1},{"$f":"+((E27-1)*G27)","v":0},0,null,null,null,null,{"$f":"SUM(G25:G27)","v":0},{"$f":"SUM(L24:R24)-7","v":-7}]