{"text_format":"1","workbook":"xlsx","n_sheets":23,"sheets":["Menu","Table","Fixture","Weekly","Pics","Match","Picks","Results","3of3","TopPicks","CupDraw","Cup","Picks2","Predictions","Diary","Players","Prizelist","Prizes","MiniLeagues","FAQ","PizzaRace","Sample","Odds"],"not_rendered":{"charts":0,"images":7,"macros":1,"external_links":0,"defined_names":44,"comments":3,"pivot_tables":3},"unopened":[],"bounds":{"document_bytes":16777216,"sheet_cells":100000,"rows_first":2000,"rows_last":500,"rows_between":2000,"halvings":0,"cell_chars":16384,"cell_head_chars":4096},"cells_cut":0,"cells_raw":0,"read":"whole","date_system":"1900"}

{"sheet":"Menu","index":0,"n_rows":8,"n_cols":5,"rows_kept":8,"cut":false,"hidden":false,"merged":[]}
[null,"Click the top left cell in any tab to return Home"]
[null,"Weekly Reports","Useful Info","Admin (Weekly)","Admin (Other)"]
[null,"League Table","Pics for Publication","Add Matches","Calculations"]
[null,"Weekly Results","Prizes - Summary","Add Predictions","Entrants"]
[null,"Cup Draw","Prizes - Divisional Splits","Add Predictions (double-week)","Last Season Places"]
[null,"Season Diary","FAQ","1-2-3 Pivot","Brought Forward"]
[null,"Current Week Fixtures","Sample Bets","Top Picks","End of Season Finance"]
[null,"Current Week Predictions",null,"Cup Draw Raw","Mini Leagues "]

{"sheet":"Table","index":1,"n_rows":72,"n_cols":19,"rows_kept":72,"cut":false,"hidden":false,"merged":[[1,0,16,0],[17,0,32,0],[33,0,48,0],[49,0,69,0]]}
["Div","Place Prize","Promotion","Pos","Div","Player","Total\nScore","Total\ncorrect","Week\nScore","Week\nCorrect","Brought\nForward","League\nPlace\nPrize","Weekly\nPrizes","Cup\nPrize","Total\nPrize","Season\nBalance"]
["Division A",{"$f":"CONCATENATE(E2,D2)","v":"A1"},null,1,"A","Stephen Barr",{"$f":"INDEX(Weekly!F:F,MATCH($F2,Weekly!$E:$E,0))","v":15.895363636363633},{"$f":"INDEX(Weekly!G:G,MATCH($F2,Weekly!$E:$E,0))","v":3},{"$f":"INDEX(Weekly!H:H,MATCH($F2,Weekly!$E:$E,0))","v":15.895363636363633},{"$f":"INDEX(Weekly!I:I,MATCH($F2,Weekly!$E:$E,0))","v":3},{"$f":"INDEX(Weekly!J:J,MATCH($F2,Weekly!$E:$E,0))","v":11.18},{"$f":"INDEX(Prizes!F:F,MATCH($B2,Prizes!A:A,0))","v":127.575},{"$f":"INDEX(Weekly!K:K,MATCH($F2,Weekly!$E:$E,0))","v":10},{"$f":"INDEX(Weekly!L:L,MATCH($F2,Weekly!$E:$E,0))","v":0},{"$f":"INDEX(Weekly!N:N,MATCH($F2,Weekly!$E:$E,0))","v":137.57499999999999},{"$f":"O2+K2","v":148.755}]
[null,{"$f":"CONCATENATE(E3,D3)","v":"A2"},null,2,"A","Steve Baxter",{"$f":"INDEX(Weekly!F:F,MATCH($F3,Weekly!$E:$E,0))","v":7.8089285714285701},{"$f":"INDEX(Weekly!G:G,MATCH($F3,Weekly!$E:$E,0))","v":3},{"$f":"INDEX(Weekly!H:H,MATCH($F3,Weekly!$E:$E,0))","v":7.8089285714285701},{"$f":"INDEX(Weekly!I:I,MATCH($F3,Weekly!$E:$E,0))","v":3},{"$f":"INDEX(Weekly!J:J,MATCH($F3,Weekly!$E:$E,0))","v":26.25},{"$f":"INDEX(Prizes!F:F,MATCH($B3,Prizes!A:A,0))","v":91.125},{"$f":"INDEX(Weekly!K:K,MATCH($F3,Weekly!$E:$E,0))","v":5},{"$f":"INDEX(Weekly!L:L,MATCH($F3,Weekly!$E:$E,0))","v":0},{"$f":"INDEX(Weekly!N:N,MATCH($F3,Weekly!$E:$E,0))","v":96.125},{"$f":"O3+K3","v":122.375}]
[null,"A3",null,3,"A","Paul Fairhurst",{"$f":"INDEX(Weekly!F:F,MATCH($F4,Weekly!$E:$E,0))","v":3.9540000000000006},{"$f":"INDEX(Weekly!G:G,MATCH($F4,Weekly!$E:$E,0))","v":2},{"$f":"INDEX(Weekly!H:H,MATCH($F4,Weekly!$E:$E,0))","v":3.9540000000000006},{"$f":"INDEX(Weekly!I:I,MATCH($F4,Weekly!$E:$E,0))","v":2},{"$f":"INDEX(Weekly!J:J,MATCH($F4,Weekly!$E:$E,0))","v":151.35499999999999},{"$f":"INDEX(Prizes!F:F,MATCH($B4,Prizes!A:A,0))","v":65.61},{"$f":"INDEX(Weekly!K:K,MATCH($F4,Weekly!$E:$E,0))","v":0},{"$f":"INDEX(Weekly!L:L,MATCH($F4,Weekly!$E:$E,0))","v":0},{"$f":"INDEX(Weekly!N:N,MATCH($F4,Weekly!$E:$E,0))","v":65.61},{"$f":"O4+K4","v":216.96499999999997},null,null,"Promotion and Relegation Key"]
[null,"A4",null,4,"A","Mike Penk",{"$f":"INDEX(Weekly!F:F,MATCH($F5,Weekly!$E:$E,0))","v":2.9333333333333336},{"$f":"INDEX(Weekly!G:G,MATCH($F5,Weekly!$E:$E,0))","v":2},{"$f":"INDEX(Weekly!H:H,MATCH($F5,Weekly!$E:$E,0))","v":2.9333333333333336},{"$f":"INDEX(Weekly!I:I,MATCH($F5,Weekly!$E:$E,0))","v":2},{"$f":"INDEX(Weekly!J:J,MATCH($F5,Weekly!$E:$E,0))","v":5.4999999999999716E-2},{"$f":"INDEX(Prizes!F:F,MATCH($B5,Prizes!A:A,0))","v":43.74},{"$f":"INDEX(Weekly!K:K,MATCH($F5,Weekly!$E:$E,0))","v":0},{"$f":"INDEX(Weekly!L:L,MATCH($F5,Weekly!$E:$E,0))","v":0},{"$f":"INDEX(Weekly!N:N,MATCH($F5,Weekly!$E:$E,0))","v":43.74},{"$f":"O5+K5","v":43.795000000000002},null,null,"No change"]
[null,"A5",null,5,"A","Alick Rocca",{"$f":"INDEX(Weekly!F:F,MATCH($F6,Weekly!$E:$E,0))","v":1.163636363636364},{"$f":"INDEX(Weekly!G:G,MATCH($F6,Weekly!$E:$E,0))","v":2},{"$f":"INDEX(Weekly!H:H,MATCH($F6,Weekly!$E:$E,0))","v":1.163636363636364},{"$f":"INDEX(Weekly!I:I,MATCH($F6,Weekly!$E:$E,0))","v":2},{"$f":"INDEX(Weekly!J:J,MATCH($F6,Weekly!$E:$E,0))","v":206.965},{"$f":"INDEX(Prizes!F:F,MATCH($B6,Prizes!A:A,0))","v":25.515000000000001},{"$f":"INDEX(Weekly!K:K,MATCH($F6,Weekly!$E:$E,0))","v":0},{"$f":"INDEX(Weekly!L:L,MATCH($F6,Weekly!$E:$E,0))","v":0},{"$f":"INDEX(Weekly!N:N,MATCH($F6,Weekly!$E:$E,0))","v":25.515000000000001},{"$f":"O6+K6","v":232.48000000000002},null,null,"Promoted to Division above"]
[null,"A6",null,6,"A","Mal Stott",{"$f":"INDEX(Weekly!F:F,MATCH($F7,Weekly!$E:$E,0))","v":-0.53333333333333321},{"$f":"INDEX(Weekly!G:G,MATCH($F7,Weekly!$E:$E,0))","v":2},{"$f":"INDEX(Weekly!H:H,MATCH($F7,Weekly!$E:$E,0))","v":-0.53333333333333321},{"$f":"INDEX(Weekly!I:I,MATCH($F7,Weekly!$E:$E,0))","v":2},{"$f":"INDEX(Weekly!J:J,MATCH($F7,Weekly!$E:$E,0))","v":-20},{"$f":"INDEX(Prizes!F:F,MATCH($B7,Prizes!A:A,0))","v":10.935},{"$f":"INDEX(Weekly!K:K,MATCH($F7,Weekly!$E:$E,0))","v":0},{"$f":"INDEX(Weekly!L:L,MATCH($F7,Weekly!$E:$E,0))","v":0},{"$f":"INDEX(Weekly!N:N,MATCH($F7,Weekly!$E:$E,0))","v":10.935},{"$f":"O7+K7","v":-9.0649999999999995},null,null,"Relegated to Division below"]
[null,"A7",null,7,"A","Phil Miller",{"$f":"INDEX(Weekly!F:F,MATCH($F8,Weekly!$E:$E,0))","v":-1.7000000000000002},{"$f":"INDEX(Weekly!G:G,MATCH($F8,Weekly!$E:$E,0))","v":2},{"$f":"INDEX(Weekly!H:H,MATCH($F8,Weekly!$E:$E,0))","v":-1.7000000000000002},{"$f":"INDEX(Weekly!I:I,MATCH($F8,Weekly!$E:$E,0))","v":2},{"$f":"INDEX(Weekly!J:J,MATCH($F8,Weekly!$E:$E,0))","v":51.265000000000001},{"$f":"INDEX(Prizes!F:F,MATCH($B8,Prizes!A:A,0))","v":0},{"$f":"INDEX(Weekly!K:K,MATCH($F8,Weekly!$E:$E,0))","v":0},{"$f":"INDEX(Weekly!L:L,MATCH($F8,Weekly!$E:$E,0))","v":0},{"$f":"INDEX(Weekly!N:N,MATCH($F8,Weekly!$E:$E,0))","v":0},{"$f":"O8+K8","v":51.265000000000001},null,null,"Best two up to Div A, Worst two down to Div B"]
[null,"A8",null,8,"A","Gareth Powell",{"$f":"INDEX(Weekly!F:F,MATCH($F9,Weekly!$E:$E,0))","v":-4.95},{"$f":"INDEX(Weekly!G:G,MATCH($F9,Weekly!$E:$E,0))","v":1},{"$f":"INDEX(Weekly!H:H,MATCH($F9,Weekly!$E:$E,0))","v":-4.95},{"$f":"INDEX(Weekly!I:I,MATCH($F9,Weekly!$E:$E,0))","v":1},{"$f":"INDEX(Weekly!J:J,MATCH($F9,Weekly!$E:$E,0))","v":-28.25},{"$f":"INDEX(Prizes!F:F,MATCH($B9,Prizes!A:A,0))","v":0},{"$f":"INDEX(Weekly!K:K,MATCH($F9,Weekly!$E:$E,0))","v":0},{"$f":"INDEX(Weekly!L:L,MATCH($F9,Weekly!$E:$E,0))","v":0},{"$f":"INDEX(Weekly!N:N,MATCH($F9,Weekly!$E:$E,0))","v":0},{"$f":"O9+K9","v":-28.25},null,null,"Best two up to Div B, Worst two down to Div C"]
[null,"A9","Play-off",9,"A","Barry Birchall",{"$f":"INDEX(Weekly!F:F,MATCH($F10,Weekly!$E:$E,0))","v":-5.22},{"$f":"INDEX(Weekly!G:G,MATCH($F10,Weekly!$E:$E,0))","v":1},{"$f":"INDEX(Weekly!H:H,MATCH($F10,Weekly!$E:$E,0))","v":-5.22},{"$f":"INDEX(Weekly!I:I,MATCH($F10,Weekly!$E:$E,0))","v":1},{"$f":"INDEX(Weekly!J:J,MATCH($F10,Weekly!$E:$E,0))","v":-20},{"$f":"INDEX(Prizes!F:F,MATCH($B10,Prizes!A:A,0))","v":0},{"$f":"INDEX(Weekly!K:K,MATCH($F10,Weekly!$E:$E,0))","v":0},{"$f":"INDEX(Weekly!L:L,MATCH($F10,Weekly!$E:$E,0))","v":0},{"$f":"INDEX(Weekly!N:N,MATCH($F10,Weekly!$E:$E,0))","v":0},{"$f":"O10+K10","v":-20},null,null,"Best two up to Div C, Worst two down to Div D"]
[null,"A10","Play-off",10,"A","Nigel Heyes",{"$f":"INDEX(Weekly!F:F,MATCH($F11,Weekly!$E:$E,0))","v":-5.22},{"$f":"INDEX(Weekly!G:G,MATCH($F11,Weekly!$E:$E,0))","v":1},{"$f":"INDEX(Weekly!H:H,MATCH($F11,Weekly!$E:$E,0))","v":-5.22},{"$f":"INDEX(Weekly!I:I,MATCH($F11,Weekly!$E:$E,0))","v":1},{"$f":"INDEX(Weekly!J:J,MATCH($F11,Weekly!$E:$E,0))","v":63.75},{"$f":"INDEX(Prizes!F:F,MATCH($B11,Prizes!A:A,0))","v":0},{"$f":"INDEX(Weekly!K:K,MATCH($F11,Weekly!$E:$E,0))","v":0},{"$f":"INDEX(Weekly!L:L,MATCH($F11,Weekly!$E:$E,0))","v":0},{"$f":"INDEX(Weekly!N:N,MATCH($F11,Weekly!$E:$E,0))","v":0},{"$f":"O11+K11","v":63.75}]
[null,"A11","↓",11,"A","Andy Charleston",{"$f":"INDEX(Weekly!F:F,MATCH($F12,Weekly!$E:$E,0))","v":-5.73},{"$f":"INDEX(Weekly!G:G,MATCH($F12,Weekly!$E:$E,0))","v":1},{"$f":"INDEX(Weekly!H:H,MATCH($F12,Weekly!$E:$E,0))","v":-5.73},{"$f":"INDEX(Weekly!I:I,MATCH($F12,Weekly!$E:$E,0))","v":1},{"$f":"INDEX(Weekly!J:J,MATCH($F12,Weekly!$E:$E,0))","v":65.349999999999994},{"$f":"INDEX(Prizes!F:F,MATCH($B12,Prizes!A:A,0))","v":0},{"$f":"INDEX(Weekly!K:K,MATCH($F12,Weekly!$E:$E,0))","v":0},{"$f":"INDEX(Weekly!L:L,MATCH($F12,Weekly!$E:$E,0))","v":0},{"$f":"INDEX(Weekly!N:N,MATCH($F12,Weekly!$E:$E,0))","v":0},{"$f":"O12+K12","v":65.349999999999994}]
[null,"A12","↓",12,"A","Chris Luck",{"$f":"INDEX(Weekly!F:F,MATCH($F13,Weekly!$E:$E,0))","v":-7},{"$f":"INDEX(Weekly!G:G,MATCH($F13,Weekly!$E:$E,0))","v":0},{"$f":"INDEX(Weekly!H:H,MATCH($F13,Weekly!$E:$E,0))","v":-7},{"$f":"INDEX(Weekly!I:I,MATCH($F13,Weekly!$E:$E,0))","v":0},{"$f":"INDEX(Weekly!J:J,MATCH($F13,Weekly!$E:$E,0))","v":147.98500000000001},{"$f":"INDEX(Prizes!F:F,MATCH($B13,Prizes!A:A,0))","v":0},{"$f":"INDEX(Weekly!K:K,MATCH($F13,Weekly!$E:$E,0))","v":0},{"$f":"INDEX(Weekly!L:L,MATCH($F13,Weekly!$E:$E,0))","v":0},{"$f":"INDEX(Weekly!N:N,MATCH($F13,Weekly!$E:$E,0))","v":0},{"$f":"O13+K13","v":147.98500000000001}]
[null,"A13","↓",13,"A","Stephen Troop",{"$f":"INDEX(Weekly!F:F,MATCH($F14,Weekly!$E:$E,0))","v":-7},{"$f":"INDEX(Weekly!G:G,MATCH($F14,Weekly!$E:$E,0))","v":0},{"$f":"INDEX(Weekly!H:H,MATCH($F14,Weekly!$E:$E,0))","v":-7},{"$f":"INDEX(Weekly!I:I,MATCH($F14,Weekly!$E:$E,0))","v":0},{"$f":"INDEX(Weekly!J:J,MATCH($F14,Weekly!$E:$E,0))","v":44.844999999999999},{"$f":"INDEX(Prizes!F:F,MATCH($B14,Prizes!A:A,0))","v":0},{"$f":"INDEX(Weekly!K:K,MATCH($F14,Weekly!$E:$E,0))","v":0},{"$f":"INDEX(Weekly!L:L,MATCH($F14,Weekly!$E:$E,0))","v":0},{"$f":"INDEX(Weekly!N:N,MATCH($F14,Weekly!$E:$E,0))","v":0},{"$f":"O14+K14","v":44.844999999999999}]
[null,"A14","↓",14,"A","Kevin Carter",{"$f":"INDEX(Weekly!F:F,MATCH($F15,Weekly!$E:$E,0))","v":-7},{"$f":"INDEX(Weekly!G:G,MATCH($F15,Weekly!$E:$E,0))","v":0},{"$f":"INDEX(Weekly!H:H,MATCH($F15,Weekly!$E:$E,0))","v":-7},{"$f":"INDEX(Weekly!I:I,MATCH($F15,Weekly!$E:$E,0))","v":0},{"$f":"INDEX(Weekly!J:J,MATCH($F15,Weekly!$E:$E,0))","v":14.545000000000002},{"$f":"INDEX(Prizes!F:F,MATCH($B15,Prizes!A:A,0))","v":0},{"$f":"INDEX(Weekly!K:K,MATCH($F15,Weekly!$E:$E,0))","v":0},{"$f":"INDEX(Weekly!L:L,MATCH($F15,Weekly!$E:$E,0))","v":0},{"$f":"INDEX(Weekly!N:N,MATCH($F15,Weekly!$E:$E,0))","v":0},{"$f":"O15+K15","v":14.545000000000002}]
[null,"A15","↓",15,"A","Ste Bentley",{"$f":"INDEX(Weekly!F:F,MATCH($F16,Weekly!$E:$E,0))","v":-7},{"$f":"INDEX(Weekly!G:G,MATCH($F16,Weekly!$E:$E,0))","v":0},{"$f":"INDEX(Weekly!H:H,MATCH($F16,Weekly!$E:$E,0))","v":-7},{"$f":"INDEX(Weekly!I:I,MATCH($F16,Weekly!$E:$E,0))","v":0},{"$f":"INDEX(Weekly!J:J,MATCH($F16,Weekly!$E:$E,0))","v":-28.97},{"$f":"INDEX(Prizes!F:F,MATCH($B16,Prizes!A:A,0))","v":0},{"$f":"INDEX(Weekly!K:K,MATCH($F16,Weekly!$E:$E,0))","v":0},{"$f":"INDEX(Weekly!L:L,MATCH($F16,Weekly!$E:$E,0))","v":0},{"$f":"INDEX(Weekly!N:N,MATCH($F16,Weekly!$E:$E,0))","v":0},{"$f":"O16+K16","v":-28.97}]
[null,"A16","↓",16,"A","Pete Baron",{"$f":"INDEX(Weekly!F:F,MATCH($F17,Weekly!$E:$E,0))","v":-7},{"$f":"INDEX(Weekly!G:G,MATCH($F17,Weekly!$E:$E,0))","v":0},{"$f":"INDEX(Weekly!H:H,MATCH($F17,Weekly!$E:$E,0))","v":-7},{"$f":"INDEX(Weekly!I:I,MATCH($F17,Weekly!$E:$E,0))","v":0},{"$f":"INDEX(Weekly!J:J,MATCH($F17,Weekly!$E:$E,0))","v":-25},{"$f":"INDEX(Prizes!F:F,MATCH($B17,Prizes!A:A,0))","v":0},{"$f":"INDEX(Weekly!K:K,MATCH($F17,Weekly!$E:$E,0))","v":0},{"$f":"INDEX(Weekly!L:L,MATCH($F17,Weekly!$E:$E,0))","v":0},{"$f":"INDEX(Weekly!N:N,MATCH($F17,Weekly!$E:$E,0))","v":0},{"$f":"O17+K17","v":-25}]
["Division B","B1","↑",1,"B","Alfie Davies",{"$f":"INDEX(Weekly!F:F,MATCH($F18,Weekly!$E:$E,0))","v":13.225974025974025},{"$f":"INDEX(Weekly!G:G,MATCH($F18,Weekly!$E:$E,0))","v":3},{"$f":"INDEX(Weekly!H:H,MATCH($F18,Weekly!$E:$E,0))","v":13.225974025974025},{"$f":"INDEX(Weekly!I:I,MATCH($F18,Weekly!$E:$E,0))","v":3},{"$f":"INDEX(Weekly!J:J,MATCH($F18,Weekly!$E:$E,0))","v":-20},{"$f":"INDEX(Prizes!F:F,MATCH($B18,Prizes!A:A,0))","v":85.05},{"$f":"INDEX(Weekly!K:K,MATCH($F18,Weekly!$E:$E,0))","v":5},{"$f":"INDEX(Weekly!L:L,MATCH($F18,Weekly!$E:$E,0))","v":0},{"$f":"INDEX(Weekly!N:N,MATCH($F18,Weekly!$E:$E,0))","v":90.05},{"$f":"O18+K18","v":70.05}]
[null,"B2","↑",2,"B","Alan Rogers",{"$f":"INDEX(Weekly!F:F,MATCH($F19,Weekly!$E:$E,0))","v":9.4375},{"$f":"INDEX(Weekly!G:G,MATCH($F19,Weekly!$E:$E,0))","v":2},{"$f":"INDEX(Weekly!H:H,MATCH($F19,Weekly!$E:$E,0))","v":9.4375},{"$f":"INDEX(Weekly!I:I,MATCH($F19,Weekly!$E:$E,0))","v":2},{"$f":"INDEX(Weekly!J:J,MATCH($F19,Weekly!$E:$E,0))","v":-15.515000000000001},{"$f":"INDEX(Prizes!F:F,MATCH($B19,Prizes!A:A,0))","v":60.75},{"$f":"INDEX(Weekly!K:K,MATCH($F19,Weekly!$E:$E,0))","v":5},{"$f":"INDEX(Weekly!L:L,MATCH($F19,Weekly!$E:$E,0))","v":0},{"$f":"INDEX(Weekly!N:N,MATCH($F19,Weekly!$E:$E,0))","v":65.75},{"$f":"O19+K19","v":50.234999999999999}]
[null,"B3","↑",3,"B","Kei Lok Ma",{"$f":"INDEX(Weekly!F:F,MATCH($F20,Weekly!$E:$E,0))","v":7.2649999999999988},{"$f":"INDEX(Weekly!G:G,MATCH($F20,Weekly!$E:$E,0))","v":2},{"$f":"INDEX(Weekly!H:H,MATCH($F20,Weekly!$E:$E,0))","v":7.2649999999999988},{"$f":"INDEX(Weekly!I:I,MATCH($F20,Weekly!$E:$E,0))","v":2},{"$f":"INDEX(Weekly!J:J,MATCH($F20,Weekly!$E:$E,0))","v":45.320000000000007},{"$f":"INDEX(Prizes!F:F,MATCH($B20,Prizes!A:A,0))","v":43.74},{"$f":"INDEX(Weekly!K:K,MATCH($F20,Weekly!$E:$E,0))","v":0},{"$f":"INDEX(Weekly!L:L,MATCH($F20,Weekly!$E:$E,0))","v":0},{"$f":"INDEX(Weekly!N:N,MATCH($F20,Weekly!$E:$E,0))","v":43.74},{"$f":"O20+K20","v":89.06}]
[null,"B4","↑",4,"B","Tom Robinson",{"$f":"INDEX(Weekly!F:F,MATCH($F21,Weekly!$E:$E,0))","v":3.9540000000000006},{"$f":"INDEX(Weekly!G:G,MATCH($F21,Weekly!$E:$E,0))","v":2},{"$f":"INDEX(Weekly!H:H,MATCH($F21,Weekly!$E:$E,0))","v":3.9540000000000006},{"$f":"INDEX(Weekly!I:I,MATCH($F21,Weekly!$E:$E,0))","v":2},{"$f":"INDEX(Weekly!J:J,MATCH($F21,Weekly!$E:$E,0))","v":47.775000000000006},{"$f":"INDEX(Prizes!F:F,MATCH($B21,Prizes!A:A,0))","v":29.16},{"$f":"INDEX(Weekly!K:K,MATCH($F21,Weekly!$E:$E,0))","v":0},{"$f":"INDEX(Weekly!L:L,MATCH($F21,Weekly!$E:$E,0))","v":0},{"$f":"INDEX(Weekly!N:N,MATCH($F21,Weekly!$E:$E,0))","v":29.16},{"$f":"O21+K21","v":76.935000000000002}]
[null,"B5","↑",5,"B","Graham Miller",{"$f":"INDEX(Weekly!F:F,MATCH($F22,Weekly!$E:$E,0))","v":3.4800000000000004},{"$f":"INDEX(Weekly!G:G,MATCH($F22,Weekly!$E:$E,0))","v":2},{"$f":"INDEX(Weekly!H:H,MATCH($F22,Weekly!$E:$E,0))","v":3.4800000000000004},{"$f":"INDEX(Weekly!I:I,MATCH($F22,Weekly!$E:$E,0))","v":2},{"$f":"INDEX(Weekly!J:J,MATCH($F22,Weekly!$E:$E,0))","v":13.740000000000002},{"$f":"INDEX(Prizes!F:F,MATCH($B22,Prizes!A:A,0))","v":17.010000000000002},{"$f":"INDEX(Weekly!K:K,MATCH($F22,Weekly!$E:$E,0))","v":0},{"$f":"INDEX(Weekly!L:L,MATCH($F22,Weekly!$E:$E,0))","v":0},{"$f":"INDEX(Weekly!N:N,MATCH($F22,Weekly!$E:$E,0))","v":17.010000000000002},{"$f":"O22+K22","v":30.750000000000004}]
[null,"B6","↑",6,"B","Mo Sudell",{"$f":"INDEX(Weekly!F:F,MATCH($F23,Weekly!$E:$E,0))","v":-4.5},{"$f":"INDEX(Weekly!G:G,MATCH($F23,Weekly!$E:$E,0))","v":1},{"$f":"INDEX(Weekly!H:H,MATCH($F23,Weekly!$E:$E,0))","v":-4.5},{"$f":"INDEX(Weekly!I:I,MATCH($F23,Weekly!$E:$E,0))","v":1},{"$f":"INDEX(Weekly!J:J,MATCH($F23,Weekly!$E:$E,0))","v":33.375},{"$f":"INDEX(Prizes!F:F,MATCH($B23,Prizes!A:A,0))","v":7.29},{"$f":"INDEX(Weekly!K:K,MATCH($F23,Weekly!$E:$E,0))","v":0},{"$f":"INDEX(Weekly!L:L,MATCH($F23,Weekly!$E:$E,0))","v":0},{"$f":"INDEX(Weekly!N:N,MATCH($F23,Weekly!$E:$E,0))","v":7.29},{"$f":"O23+K23","v":40.664999999999999}]
[null,"B7","Play-off",7,"B","Lennie Bow",{"$f":"INDEX(Weekly!F:F,MATCH($F24,Weekly!$E:$E,0))","v":-4.8461538461538467},{"$f":"INDEX(Weekly!G:G,MATCH($F24,Weekly!$E:$E,0))","v":1},{"$f":"INDEX(Weekly!H:H,MATCH($F24,Weekly!$E:$E,0))","v":-4.8461538461538467},{"$f":"INDEX(Weekly!I:I,MATCH($F24,Weekly!$E:$E,0))","v":1},{"$f":"INDEX(Weekly!J:J,MATCH($F24,Weekly!$E:$E,0))","v":93.55},{"$f":"INDEX(Prizes!F:F,MATCH($B24,Prizes!A:A,0))","v":0},{"$f":"INDEX(Weekly!K:K,MATCH($F24,Weekly!$E:$E,0))","v":0},{"$f":"INDEX(Weekly!L:L,MATCH($F24,Weekly!$E:$E,0))","v":0},{"$f":"INDEX(Weekly!N:N,MATCH($F24,Weekly!$E:$E,0))","v":0},{"$f":"O24+K24","v":93.55}]
[null,"B8","Play-off",8,"B","Paul Fiddler",{"$f":"INDEX(Weekly!F:F,MATCH($F25,Weekly!$E:$E,0))","v":-4.95},{"$f":"INDEX(Weekly!G:G,MATCH($F25,Weekly!$E:$E,0))","v":1},{"$f":"INDEX(Weekly!H:H,MATCH($F25,Weekly!$E:$E,0))","v":-4.95},{"$f":"INDEX(Weekly!I:I,MATCH($F25,Weekly!$E:$E,0))","v":1},{"$f":"INDEX(Weekly!J:J,MATCH($F25,Weekly!$E:$E,0))","v":-10.93},{"$f":"INDEX(Prizes!F:F,MATCH($B25,Prizes!A:A,0))","v":0},{"$f":"INDEX(Weekly!K:K,MATCH($F25,Weekly!$E:$E,0))","v":0},{"$f":"INDEX(Weekly!L:L,MATCH($F25,Weekly!$E:$E,0))","v":0},{"$f":"INDEX(Weekly!N:N,MATCH($F25,Weekly!$E:$E,0))","v":0},{"$f":"O25+K25","v":-10.93}]
[null,"B9","Play-off",9,"B","Dave Orrell",{"$f":"INDEX(Weekly!F:F,MATCH($F26,Weekly!$E:$E,0))","v":-5.0909090909090908},{"$f":"INDEX(Weekly!G:G,MATCH($F26,Weekly!$E:$E,0))","v":1},{"$f":"INDEX(Weekly!H:H,MATCH($F26,Weekly!$E:$E,0))","v":-5.0909090909090908},{"$f":"INDEX(Weekly!I:I,MATCH($F26,Weekly!$E:$E,0))","v":1},{"$f":"INDEX(Weekly!J:J,MATCH($F26,Weekly!$E:$E,0))","v":-11.370000000000001},{"$f":"INDEX(Prizes!F:F,MATCH($B26,Prizes!A:A,0))","v":0},{"$f":"INDEX(Weekly!K:K,MATCH($F26,Weekly!$E:$E,0))","v":0},{"$f":"INDEX(Weekly!L:L,MATCH($F26,Weekly!$E:$E,0))","v":0},{"$f":"INDEX(Weekly!N:N,MATCH($F26,Weekly!$E:$E,0))","v":0},{"$f":"O26+K26","v":-11.370000000000001}]
[null,"B10","Play-off",10,"B","Steve Carter",{"$f":"INDEX(Weekly!F:F,MATCH($F27,Weekly!$E:$E,0))","v":-5.1818181818181817},{"$f":"INDEX(Weekly!G:G,MATCH($F27,Weekly!$E:$E,0))","v":1},{"$f":"INDEX(Weekly!H:H,MATCH($F27,Weekly!$E:$E,0))","v":-5.1818181818181817},{"$f":"INDEX(Weekly!I:I,MATCH($F27,Weekly!$E:$E,0))","v":1},{"$f":"INDEX(Weekly!J:J,MATCH($F27,Weekly!$E:$E,0))","v":73.84},{"$f":"INDEX(Prizes!F:F,MATCH($B27,Prizes!A:A,0))","v":0},{"$f":"INDEX(Weekly!K:K,MATCH($F27,Weekly!$E:$E,0))","v":0},{"$f":"INDEX(Weekly!L:L,MATCH($F27,Weekly!$E:$E,0))","v":0},{"$f":"INDEX(Weekly!N:N,MATCH($F27,Weekly!$E:$E,0))","v":0},{"$f":"O27+K27","v":73.84}]
[null,"B11","↓",11,"B","Andy White",{"$f":"INDEX(Weekly!F:F,MATCH($F28,Weekly!$E:$E,0))","v":-5.1818181818181817},{"$f":"INDEX(Weekly!G:G,MATCH($F28,Weekly!$E:$E,0))","v":1},{"$f":"INDEX(Weekly!H:H,MATCH($F28,Weekly!$E:$E,0))","v":-5.1818181818181817},{"$f":"INDEX(Weekly!I:I,MATCH($F28,Weekly!$E:$E,0))","v":1},{"$f":"INDEX(Weekly!J:J,MATCH($F28,Weekly!$E:$E,0))","v":24.045000000000002},{"$f":"INDEX(Prizes!F:F,MATCH($B28,Prizes!A:A,0))","v":0},{"$f":"INDEX(Weekly!K:K,MATCH($F28,Weekly!$E:$E,0))","v":0},{"$f":"INDEX(Weekly!L:L,MATCH($F28,Weekly!$E:$E,0))","v":0},{"$f":"INDEX(Weekly!N:N,MATCH($F28,Weekly!$E:$E,0))","v":0},{"$f":"O28+K28","v":24.045000000000002}]
[null,"B12","↓",12,"B","Mark Saunders",{"$f":"INDEX(Weekly!F:F,MATCH($F29,Weekly!$E:$E,0))","v":-5.2},{"$f":"INDEX(Weekly!G:G,MATCH($F29,Weekly!$E:$E,0))","v":1},{"$f":"INDEX(Weekly!H:H,MATCH($F29,Weekly!$E:$E,0))","v":-5.2},{"$f":"INDEX(Weekly!I:I,MATCH($F29,Weekly!$E:$E,0))","v":1},{"$f":"INDEX(Weekly!J:J,MATCH($F29,Weekly!$E:$E,0))","v":22.659999999999997},{"$f":"INDEX(Prizes!F:F,MATCH($B29,Prizes!A:A,0))","v":0},{"$f":"INDEX(Weekly!K:K,MATCH($F29,Weekly!$E:$E,0))","v":0},{"$f":"INDEX(Weekly!L:L,MATCH($F29,Weekly!$E:$E,0))","v":0},{"$f":"INDEX(Weekly!N:N,MATCH($F29,Weekly!$E:$E,0))","v":0},{"$f":"O29+K29","v":22.659999999999997}]
[null,"B13","↓",13,"B","Paul Allen",{"$f":"INDEX(Weekly!F:F,MATCH($F30,Weekly!$E:$E,0))","v":-5.22},{"$f":"INDEX(Weekly!G:G,MATCH($F30,Weekly!$E:$E,0))","v":1},{"$f":"INDEX(Weekly!H:H,MATCH($F30,Weekly!$E:$E,0))","v":-5.22},{"$f":"INDEX(Weekly!I:I,MATCH($F30,Weekly!$E:$E,0))","v":1},{"$f":"INDEX(Weekly!J:J,MATCH($F30,Weekly!$E:$E,0))","v":25.174999999999997},{"$f":"INDEX(Prizes!F:F,MATCH($B30,Prizes!A:A,0))","v":0},{"$f":"INDEX(Weekly!K:K,MATCH($F30,Weekly!$E:$E,0))","v":0},{"$f":"INDEX(Weekly!L:L,MATCH($F30,Weekly!$E:$E,0))","v":0},{"$f":"INDEX(Weekly!N:N,MATCH($F30,Weekly!$E:$E,0))","v":0},{"$f":"O30+K30","v":25.174999999999997}]
[null,"B14","↓",14,"B","Chris Griffin",{"$f":"INDEX(Weekly!F:F,MATCH($F31,Weekly!$E:$E,0))","v":-5.22},{"$f":"INDEX(Weekly!G:G,MATCH($F31,Weekly!$E:$E,0))","v":1},{"$f":"INDEX(Weekly!H:H,MATCH($F31,Weekly!$E:$E,0))","v":-5.22},{"$f":"INDEX(Weekly!I:I,MATCH($F31,Weekly!$E:$E,0))","v":1},{"$f":"INDEX(Weekly!J:J,MATCH($F31,Weekly!$E:$E,0))","v":-7.9399999999999977},{"$f":"INDEX(Prizes!F:F,MATCH($B31,Prizes!A:A,0))","v":0},{"$f":"INDEX(Weekly!K:K,MATCH($F31,Weekly!$E:$E,0))","v":0},{"$f":"INDEX(Weekly!L:L,MATCH($F31,Weekly!$E:$E,0))","v":0},{"$f":"INDEX(Weekly!N:N,MATCH($F31,Weekly!$E:$E,0))","v":0},{"$f":"O31+K31","v":-7.9399999999999977}]
[null,"B15","↓",15,"B","John Evans",{"$f":"INDEX(Weekly!F:F,MATCH($F32,Weekly!$E:$E,0))","v":-5.3333333333333339},{"$f":"INDEX(Weekly!G:G,MATCH($F32,Weekly!$E:$E,0))","v":1},{"$f":"INDEX(Weekly!H:H,MATCH($F32,Weekly!$E:$E,0))","v":-5.3333333333333339},{"$f":"INDEX(Weekly!I:I,MATCH($F32,Weekly!$E:$E,0))","v":1},{"$f":"INDEX(Weekly!J:J,MATCH($F32,Weekly!$E:$E,0))","v":88.13},{"$f":"INDEX(Prizes!F:F,MATCH($B32,Prizes!A:A,0))","v":0},{"$f":"INDEX(Weekly!K:K,MATCH($F32,Weekly!$E:$E,0))","v":0},{"$f":"INDEX(Weekly!L:L,MATCH($F32,Weekly!$E:$E,0))","v":0},{"$f":"INDEX(Weekly!N:N,MATCH($F32,Weekly!$E:$E,0))","v":0},{"$f":"O32+K32","v":88.13}]
[null,"B16","↓",16,"B","Rob England",{"$f":"INDEX(Weekly!F:F,MATCH($F33,Weekly!$E:$E,0))","v":-5.8571428571428577},{"$f":"INDEX(Weekly!G:G,MATCH($F33,Weekly!$E:$E,0))","v":1},{"$f":"INDEX(Weekly!H:H,MATCH($F33,Weekly!$E:$E,0))","v":-5.8571428571428577},{"$f":"INDEX(Weekly!I:I,MATCH($F33,Weekly!$E:$E,0))","v":1},{"$f":"INDEX(Weekly!J:J,MATCH($F33,Weekly!$E:$E,0))","v":-40},{"$f":"INDEX(Prizes!F:F,MATCH($B33,Prizes!A:A,0))","v":0},{"$f":"INDEX(Weekly!K:K,MATCH($F33,Weekly!$E:$E,0))","v":0},{"$f":"INDEX(Weekly!L:L,MATCH($F33,Weekly!$E:$E,0))","v":0},{"$f":"INDEX(Weekly!N:N,MATCH($F33,Weekly!$E:$E,0))","v":0},{"$f":"O33+K33","v":-40}]
["Division C","C1","↑",1,"C","Gareth Fallows",{"$f":"INDEX(Weekly!F:F,MATCH($F34,Weekly!$E:$E,0))","v":1.163636363636364},{"$f":"INDEX(Weekly!G:G,MATCH($F34,Weekly!$E:$E,0))","v":2},{"$f":"INDEX(Weekly!H:H,MATCH($F34,Weekly!$E:$E,0))","v":1.163636363636364},{"$f":"INDEX(Weekly!I:I,MATCH($F34,Weekly!$E:$E,0))","v":2},{"$f":"INDEX(Weekly!J:J,MATCH($F34,Weekly!$E:$E,0))","v":-40},{"$f":"INDEX(Prizes!F:F,MATCH($B34,Prizes!A:A,0))","v":42.524999999999999},{"$f":"INDEX(Weekly!K:K,MATCH($F34,Weekly!$E:$E,0))","v":0},{"$f":"INDEX(Weekly!L:L,MATCH($F34,Weekly!$E:$E,0))","v":0},{"$f":"INDEX(Weekly!N:N,MATCH($F34,Weekly!$E:$E,0))","v":42.524999999999999},{"$f":"O34+K34","v":2.5249999999999986}]
[null,"C2","↑",2,"C","John Robinson",{"$f":"INDEX(Weekly!F:F,MATCH($F35,Weekly!$E:$E,0))","v":1.0181818181818194},{"$f":"INDEX(Weekly!G:G,MATCH($F35,Weekly!$E:$E,0))","v":2},{"$f":"INDEX(Weekly!H:H,MATCH($F35,Weekly!$E:$E,0))","v":1.0181818181818194},{"$f":"INDEX(Weekly!I:I,MATCH($F35,Weekly!$E:$E,0))","v":2},{"$f":"INDEX(Weekly!J:J,MATCH($F35,Weekly!$E:$E,0))","v":-10.309999999999999},{"$f":"INDEX(Prizes!F:F,MATCH($B35,Prizes!A:A,0))","v":30.375},{"$f":"INDEX(Weekly!K:K,MATCH($F35,Weekly!$E:$E,0))","v":0},{"$f":"INDEX(Weekly!L:L,MATCH($F35,Weekly!$E:$E,0))","v":0},{"$f":"INDEX(Weekly!N:N,MATCH($F35,Weekly!$E:$E,0))","v":30.375},{"$f":"O35+K35","v":20.065000000000001}]
[null,"C3","↑",3,"C","Paul Ridgeway",{"$f":"INDEX(Weekly!F:F,MATCH($F36,Weekly!$E:$E,0))","v":0.53999999999999915},{"$f":"INDEX(Weekly!G:G,MATCH($F36,Weekly!$E:$E,0))","v":2},{"$f":"INDEX(Weekly!H:H,MATCH($F36,Weekly!$E:$E,0))","v":0.53999999999999915},{"$f":"INDEX(Weekly!I:I,MATCH($F36,Weekly!$E:$E,0))","v":2},{"$f":"INDEX(Weekly!J:J,MATCH($F36,Weekly!$E:$E,0))","v":-40},{"$f":"INDEX(Prizes!F:F,MATCH($B36,Prizes!A:A,0))","v":21.87},{"$f":"INDEX(Weekly!K:K,MATCH($F36,Weekly!$E:$E,0))","v":0},{"$f":"INDEX(Weekly!L:L,MATCH($F36,Weekly!$E:$E,0))","v":0},{"$f":"INDEX(Weekly!N:N,MATCH($F36,Weekly!$E:$E,0))","v":21.87},{"$f":"O36+K36","v":-18.13}]
[null,"C4","↑",4,"C","Howard Bradley",{"$f":"INDEX(Weekly!F:F,MATCH($F37,Weekly!$E:$E,0))","v":0.13333333333333286},{"$f":"INDEX(Weekly!G:G,MATCH($F37,Weekly!$E:$E,0))","v":2},{"$f":"INDEX(Weekly!H:H,MATCH($F37,Weekly!$E:$E,0))","v":0.13333333333333286},{"$f":"INDEX(Weekly!I:I,MATCH($F37,Weekly!$E:$E,0))","v":2},{"$f":"INDEX(Weekly!J:J,MATCH($F37,Weekly!$E:$E,0))","v":-0.625},{"$f":"INDEX(Prizes!F:F,MATCH($B37,Prizes!A:A,0))","v":14.58},{"$f":"INDEX(Weekly!K:K,MATCH($F37,Weekly!$E:$E,0))","v":0},{"$f":"INDEX(Weekly!L:L,MATCH($F37,Weekly!$E:$E,0))","v":0},{"$f":"INDEX(Weekly!N:N,MATCH($F37,Weekly!$E:$E,0))","v":14.58},{"$f":"O37+K37","v":13.955}]
[null,"C5","↑",5,"C","Charlie Griffiths",{"$f":"INDEX(Weekly!F:F,MATCH($F38,Weekly!$E:$E,0))","v":-4.0999999999999996},{"$f":"INDEX(Weekly!G:G,MATCH($F38,Weekly!$E:$E,0))","v":1},{"$f":"INDEX(Weekly!H:H,MATCH($F38,Weekly!$E:$E,0))","v":-4.0999999999999996},{"$f":"INDEX(Weekly!I:I,MATCH($F38,Weekly!$E:$E,0))","v":1},{"$f":"INDEX(Weekly!J:J,MATCH($F38,Weekly!$E:$E,0))","v":-31.355},{"$f":"INDEX(Prizes!F:F,MATCH($B38,Prizes!A:A,0))","v":8.5050000000000008},{"$f":"INDEX(Weekly!K:K,MATCH($F38,Weekly!$E:$E,0))","v":0},{"$f":"INDEX(Weekly!L:L,MATCH($F38,Weekly!$E:$E,0))","v":0},{"$f":"INDEX(Weekly!N:N,MATCH($F38,Weekly!$E:$E,0))","v":8.5050000000000008},{"$f":"O38+K38","v":-22.85}]
[null,"C6","↑",6,"C","Gerard Ventom",{"$f":"INDEX(Weekly!F:F,MATCH($F39,Weekly!$E:$E,0))","v":-4.45},{"$f":"INDEX(Weekly!G:G,MATCH($F39,Weekly!$E:$E,0))","v":1},{"$f":"INDEX(Weekly!H:H,MATCH($F39,Weekly!$E:$E,0))","v":-4.45},{"$f":"INDEX(Weekly!I:I,MATCH($F39,Weekly!$E:$E,0))","v":1},{"$f":"INDEX(Weekly!J:J,MATCH($F39,Weekly!$E:$E,0))","v":-12.939999999999998},{"$f":"INDEX(Prizes!F:F,MATCH($B39,Prizes!A:A,0))","v":3.645},{"$f":"INDEX(Weekly!K:K,MATCH($F39,Weekly!$E:$E,0))","v":0},{"$f":"INDEX(Weekly!L:L,MATCH($F39,Weekly!$E:$E,0))","v":0},{"$f":"INDEX(Weekly!N:N,MATCH($F39,Weekly!$E:$E,0))","v":3.645},{"$f":"O39+K39","v":-9.2949999999999982}]
[null,"C7","Play-off",7,"C","Nick Blocksidge",{"$f":"INDEX(Weekly!F:F,MATCH($F40,Weekly!$E:$E,0))","v":-4.45},{"$f":"INDEX(Weekly!G:G,MATCH($F40,Weekly!$E:$E,0))","v":1},{"$f":"INDEX(Weekly!H:H,MATCH($F40,Weekly!$E:$E,0))","v":-4.45},{"$f":"INDEX(Weekly!I:I,MATCH($F40,Weekly!$E:$E,0))","v":1},{"$f":"INDEX(Weekly!J:J,MATCH($F40,Weekly!$E:$E,0))","v":-40},{"$f":"INDEX(Prizes!F:F,MATCH($B40,Prizes!A:A,0))","v":0},{"$f":"INDEX(Weekly!K:K,MATCH($F40,Weekly!$E:$E,0))","v":0},{"$f":"INDEX(Weekly!L:L,MATCH($F40,Weekly!$E:$E,0))","v":0},{"$f":"INDEX(Weekly!N:N,MATCH($F40,Weekly!$E:$E,0))","v":0},{"$f":"O40+K40","v":-40}]
[null,"C8","Play-off",8,"C","Mark Bunn",{"$f":"INDEX(Weekly!F:F,MATCH($F41,Weekly!$E:$E,0))","v":-4.5},{"$f":"INDEX(Weekly!G:G,MATCH($F41,Weekly!$E:$E,0))","v":1},{"$f":"INDEX(Weekly!H:H,MATCH($F41,Weekly!$E:$E,0))","v":-4.5},{"$f":"INDEX(Weekly!I:I,MATCH($F41,Weekly!$E:$E,0))","v":1},{"$f":"INDEX(Weekly!J:J,MATCH($F41,Weekly!$E:$E,0))","v":-7.3800000000000026},{"$f":"INDEX(Prizes!F:F,MATCH($B41,Prizes!A:A,0))","v":0},{"$f":"INDEX(Weekly!K:K,MATCH($F41,Weekly!$E:$E,0))","v":0},{"$f":"INDEX(Weekly!L:L,MATCH($F41,Weekly!$E:$E,0))","v":0},{"$f":"INDEX(Weekly!N:N,MATCH($F41,Weekly!$E:$E,0))","v":0},{"$f":"O41+K41","v":-7.3800000000000026}]
[null,"C9","Play-off",9,"C","David Dunn",{"$f":"INDEX(Weekly!F:F,MATCH($F42,Weekly!$E:$E,0))","v":-5.1818181818181817},{"$f":"INDEX(Weekly!G:G,MATCH($F42,Weekly!$E:$E,0))","v":1},{"$f":"INDEX(Weekly!H:H,MATCH($F42,Weekly!$E:$E,0))","v":-5.1818181818181817},{"$f":"INDEX(Weekly!I:I,MATCH($F42,Weekly!$E:$E,0))","v":1},{"$f":"INDEX(Weekly!J:J,MATCH($F42,Weekly!$E:$E,0))","v":-55},{"$f":"INDEX(Prizes!F:F,MATCH($B42,Prizes!A:A,0))","v":0},{"$f":"INDEX(Weekly!K:K,MATCH($F42,Weekly!$E:$E,0))","v":0},{"$f":"INDEX(Weekly!L:L,MATCH($F42,Weekly!$E:$E,0))","v":0},{"$f":"INDEX(Weekly!N:N,MATCH($F42,Weekly!$E:$E,0))","v":0},{"$f":"O42+K42","v":-55}]
[null,"C10","Play-off",10,"C","Antony Robinson",{"$f":"INDEX(Weekly!F:F,MATCH($F43,Weekly!$E:$E,0))","v":-5.8571428571428577},{"$f":"INDEX(Weekly!G:G,MATCH($F43,Weekly!$E:$E,0))","v":1},{"$f":"INDEX(Weekly!H:H,MATCH($F43,Weekly!$E:$E,0))","v":-5.8571428571428577},{"$f":"INDEX(Weekly!I:I,MATCH($F43,Weekly!$E:$E,0))","v":1},{"$f":"INDEX(Weekly!J:J,MATCH($F43,Weekly!$E:$E,0))","v":-3.75},{"$f":"INDEX(Prizes!F:F,MATCH($B43,Prizes!A:A,0))","v":0},{"$f":"INDEX(Weekly!K:K,MATCH($F43,Weekly!$E:$E,0))","v":0},{"$f":"INDEX(Weekly!L:L,MATCH($F43,Weekly!$E:$E,0))","v":0},{"$f":"INDEX(Weekly!N:N,MATCH($F43,Weekly!$E:$E,0))","v":0},{"$f":"O43+K43","v":-3.75}]
[null,"C11","↓",11,"C","Martin Molyneux",{"$f":"INDEX(Weekly!F:F,MATCH($F44,Weekly!$E:$E,0))","v":-7},{"$f":"INDEX(Weekly!G:G,MATCH($F44,Weekly!$E:$E,0))","v":0},{"$f":"INDEX(Weekly!H:H,MATCH($F44,Weekly!$E:$E,0))","v":-7},{"$f":"INDEX(Weekly!I:I,MATCH($F44,Weekly!$E:$E,0))","v":0},{"$f":"INDEX(Weekly!J:J,MATCH($F44,Weekly!$E:$E,0))","v":-22.494999999999997},{"$f":"INDEX(Prizes!F:F,MATCH($B44,Prizes!A:A,0))","v":0},{"$f":"INDEX(Weekly!K:K,MATCH($F44,Weekly!$E:$E,0))","v":0},{"$f":"INDEX(Weekly!L:L,MATCH($F44,Weekly!$E:$E,0))","v":0},{"$f":"INDEX(Weekly!N:N,MATCH($F44,Weekly!$E:$E,0))","v":0},{"$f":"O44+K44","v":-22.494999999999997}]
[null,"C12","↓",12,"C","Oscar Jackson",{"$f":"INDEX(Weekly!F:F,MATCH($F45,Weekly!$E:$E,0))","v":-7},{"$f":"INDEX(Weekly!G:G,MATCH($F45,Weekly!$E:$E,0))","v":0},{"$f":"INDEX(Weekly!H:H,MATCH($F45,Weekly!$E:$E,0))","v":-7},{"$f":"INDEX(Weekly!I:I,MATCH($F45,Weekly!$E:$E,0))","v":0},{"$f":"INDEX(Weekly!J:J,MATCH($F45,Weekly!$E:$E,0))","v":-30},{"$f":"INDEX(Prizes!F:F,MATCH($B45,Prizes!A:A,0))","v":0},{"$f":"INDEX(Weekly!K:K,MATCH($F45,Weekly!$E:$E,0))","v":0},{"$f":"INDEX(Weekly!L:L,MATCH($F45,Weekly!$E:$E,0))","v":0},{"$f":"INDEX(Weekly!N:N,MATCH($F45,Weekly!$E:$E,0))","v":0},{"$f":"O45+K45","v":-30}]
[null,"C13","↓",13,"C","Chris Townsend",{"$f":"INDEX(Weekly!F:F,MATCH($F46,Weekly!$E:$E,0))","v":-7},{"$f":"INDEX(Weekly!G:G,MATCH($F46,Weekly!$E:$E,0))","v":0},{"$f":"INDEX(Weekly!H:H,MATCH($F46,Weekly!$E:$E,0))","v":-7},{"$f":"INDEX(Weekly!I:I,MATCH($F46,Weekly!$E:$E,0))","v":0},{"$f":"INDEX(Weekly!J:J,MATCH($F46,Weekly!$E:$E,0))","v":-26.675000000000001},{"$f":"INDEX(Prizes!F:F,MATCH($B46,Prizes!A:A,0))","v":0},{"$f":"INDEX(Weekly!K:K,MATCH($F46,Weekly!$E:$E,0))","v":0},{"$f":"INDEX(Weekly!L:L,MATCH($F46,Weekly!$E:$E,0))","v":0},{"$f":"INDEX(Weekly!N:N,MATCH($F46,Weekly!$E:$E,0))","v":0},{"$f":"O46+K46","v":-26.675000000000001}]
[null,"C14","↓",14,"C","Jack Walsh",{"$f":"INDEX(Weekly!F:F,MATCH($F47,Weekly!$E:$E,0))","v":-7},{"$f":"INDEX(Weekly!G:G,MATCH($F47,Weekly!$E:$E,0))","v":0},{"$f":"INDEX(Weekly!H:H,MATCH($F47,Weekly!$E:$E,0))","v":-7},{"$f":"INDEX(Weekly!I:I,MATCH($F47,Weekly!$E:$E,0))","v":0},{"$f":"INDEX(Weekly!J:J,MATCH($F47,Weekly!$E:$E,0))","v":5},{"$f":"INDEX(Prizes!F:F,MATCH($B47,Prizes!A:A,0))","v":0},{"$f":"INDEX(Weekly!K:K,MATCH($F47,Weekly!$E:$E,0))","v":0},{"$f":"INDEX(Weekly!L:L,MATCH($F47,Weekly!$E:$E,0))","v":0},{"$f":"INDEX(Weekly!N:N,MATCH($F47,Weekly!$E:$E,0))","v":0},{"$f":"O47+K47","v":5}]
[null,"C15","↓",15,"C","Graeme Holmes",{"$f":"INDEX(Weekly!F:F,MATCH($F48,Weekly!$E:$E,0))","v":-7},{"$f":"INDEX(Weekly!G:G,MATCH($F48,Weekly!$E:$E,0))","v":0},{"$f":"INDEX(Weekly!H:H,MATCH($F48,Weekly!$E:$E,0))","v":-7},{"$f":"INDEX(Weekly!I:I,MATCH($F48,Weekly!$E:$E,0))","v":0},{"$f":"INDEX(Weekly!J:J,MATCH($F48,Weekly!$E:$E,0))","v":-35},{"$f":"INDEX(Prizes!F:F,MATCH($B48,Prizes!A:A,0))","v":0},{"$f":"INDEX(Weekly!K:K,MATCH($F48,Weekly!$E:$E,0))","v":0},{"$f":"INDEX(Weekly!L:L,MATCH($F48,Weekly!$E:$E,0))","v":0},{"$f":"INDEX(Weekly!N:N,MATCH($F48,Weekly!$E:$E,0))","v":0},{"$f":"O48+K48","v":-35}]
[null,"C16","↓",16,"C","Ben Rosser",{"$f":"INDEX(Weekly!F:F,MATCH($F49,Weekly!$E:$E,0))","v":-7},{"$f":"INDEX(Weekly!G:G,MATCH($F49,Weekly!$E:$E,0))","v":0},{"$f":"INDEX(Weekly!H:H,MATCH($F49,Weekly!$E:$E,0))","v":-7},{"$f":"INDEX(Weekly!I:I,MATCH($F49,Weekly!$E:$E,0))","v":0},{"$f":"INDEX(Weekly!J:J,MATCH($F49,Weekly!$E:$E,0))","v":-40},{"$f":"INDEX(Prizes!F:F,MATCH($B49,Prizes!A:A,0))","v":0},{"$f":"INDEX(Weekly!K:K,MATCH($F49,Weekly!$E:$E,0))","v":0},{"$f":"INDEX(Weekly!L:L,MATCH($F49,Weekly!$E:$E,0))","v":0},{"$f":"INDEX(Weekly!N:N,MATCH($F49,Weekly!$E:$E,0))","v":0},{"$f":"O49+K49","v":-40}]
["Division D","D1","↑",1,"D","Martin Tarbuck",{"$f":"INDEX(Weekly!F:F,MATCH($F50,Weekly!$E:$E,0))","v":-0.91249999999999964},{"$f":"INDEX(Weekly!G:G,MATCH($F50,Weekly!$E:$E,0))","v":2},{"$f":"INDEX(Weekly!H:H,MATCH($F50,Weekly!$E:$E,0))","v":-0.91249999999999964},{"$f":"INDEX(Weekly!I:I,MATCH($F50,Weekly!$E:$E,0))","v":2},{"$f":"INDEX(Weekly!J:J,MATCH($F50,Weekly!$E:$E,0))","v":-40},{"$f":"INDEX(Prizes!F:F,MATCH($B50,Prizes!A:A,0))","v":28.35},{"$f":"INDEX(Weekly!K:K,MATCH($F50,Weekly!$E:$E,0))","v":0},{"$f":"INDEX(Weekly!L:L,MATCH($F50,Weekly!$E:$E,0))","v":0},{"$f":"INDEX(Weekly!N:N,MATCH($F50,Weekly!$E:$E,0))","v":28.35},{"$f":"O50+K50","v":-11.649999999999999}]
[null,"D2","↑",2,"D","Ian Davies",{"$f":"INDEX(Weekly!F:F,MATCH($F51,Weekly!$E:$E,0))","v":-3.6363636363636362},{"$f":"INDEX(Weekly!G:G,MATCH($F51,Weekly!$E:$E,0))","v":1},{"$f":"INDEX(Weekly!H:H,MATCH($F51,Weekly!$E:$E,0))","v":-3.6363636363636362},{"$f":"INDEX(Weekly!I:I,MATCH($F51,Weekly!$E:$E,0))","v":1},{"$f":"INDEX(Weekly!J:J,MATCH($F51,Weekly!$E:$E,0))","v":-35},{"$f":"INDEX(Prizes!F:F,MATCH($B51,Prizes!A:A,0))","v":20.25},{"$f":"INDEX(Weekly!K:K,MATCH($F51,Weekly!$E:$E,0))","v":0},{"$f":"INDEX(Weekly!L:L,MATCH($F51,Weekly!$E:$E,0))","v":0},{"$f":"INDEX(Weekly!N:N,MATCH($F51,Weekly!$E:$E,0))","v":20.25},{"$f":"O51+K51","v":-14.75}]
[null,"D3","↑",3,"D","Sally Williams",{"$f":"INDEX(Weekly!F:F,MATCH($F52,Weekly!$E:$E,0))","v":-3.7},{"$f":"INDEX(Weekly!G:G,MATCH($F52,Weekly!$E:$E,0))","v":1},{"$f":"INDEX(Weekly!H:H,MATCH($F52,Weekly!$E:$E,0))","v":-3.7},{"$f":"INDEX(Weekly!I:I,MATCH($F52,Weekly!$E:$E,0))","v":1},{"$f":"INDEX(Weekly!J:J,MATCH($F52,Weekly!$E:$E,0))","v":-20.28},{"$f":"INDEX(Prizes!F:F,MATCH($B52,Prizes!A:A,0))","v":14.58},{"$f":"INDEX(Weekly!K:K,MATCH($F52,Weekly!$E:$E,0))","v":0},{"$f":"INDEX(Weekly!L:L,MATCH($F52,Weekly!$E:$E,0))","v":0},{"$f":"INDEX(Weekly!N:N,MATCH($F52,Weekly!$E:$E,0))","v":14.58},{"$f":"O52+K52","v":-5.7000000000000011}]
[null,"D4","↑",4,"D","Liam Wah",{"$f":"INDEX(Weekly!F:F,MATCH($F53,Weekly!$E:$E,0))","v":-3.7},{"$f":"INDEX(Weekly!G:G,MATCH($F53,Weekly!$E:$E,0))","v":1},{"$f":"INDEX(Weekly!H:H,MATCH($F53,Weekly!$E:$E,0))","v":-3.7},{"$f":"INDEX(Weekly!I:I,MATCH($F53,Weekly!$E:$E,0))","v":1},{"$f":"INDEX(Weekly!J:J,MATCH($F53,Weekly!$E:$E,0))","v":-30},{"$f":"INDEX(Prizes!F:F,MATCH($B53,Prizes!A:A,0))","v":9.7200000000000006},{"$f":"INDEX(Weekly!K:K,MATCH($F53,Weekly!$E:$E,0))","v":0},{"$f":"INDEX(Weekly!L:L,MATCH($F53,Weekly!$E:$E,0))","v":0},{"$f":"INDEX(Weekly!N:N,MATCH($F53,Weekly!$E:$E,0))","v":9.7200000000000006},{"$f":"O53+K53","v":-20.28}]
[null,"D5","↑",5,"D","John Ronan",{"$f":"INDEX(Weekly!F:F,MATCH($F54,Weekly!$E:$E,0))","v":-3.9},{"$f":"INDEX(Weekly!G:G,MATCH($F54,Weekly!$E:$E,0))","v":1},{"$f":"INDEX(Weekly!H:H,MATCH($F54,Weekly!$E:$E,0))","v":-3.9},{"$f":"INDEX(Weekly!I:I,MATCH($F54,Weekly!$E:$E,0))","v":1},{"$f":"INDEX(Weekly!J:J,MATCH($F54,Weekly!$E:$E,0))","v":-35},{"$f":"INDEX(Prizes!F:F,MATCH($B54,Prizes!A:A,0))","v":5.67},{"$f":"INDEX(Weekly!K:K,MATCH($F54,Weekly!$E:$E,0))","v":0},{"$f":"INDEX(Weekly!L:L,MATCH($F54,Weekly!$E:$E,0))","v":0},{"$f":"INDEX(Weekly!N:N,MATCH($F54,Weekly!$E:$E,0))","v":5.67},{"$f":"O54+K54","v":-29.33}]
[null,"D6","↑",6,"D","Paul Adderley",{"$f":"INDEX(Weekly!F:F,MATCH($F55,Weekly!$E:$E,0))","v":-4.45},{"$f":"INDEX(Weekly!G:G,MATCH($F55,Weekly!$E:$E,0))","v":1},{"$f":"INDEX(Weekly!H:H,MATCH($F55,Weekly!$E:$E,0))","v":-4.45},{"$f":"INDEX(Weekly!I:I,MATCH($F55,Weekly!$E:$E,0))","v":1},{"$f":"INDEX(Weekly!J:J,MATCH($F55,Weekly!$E:$E,0))","v":18.329999999999998},{"$f":"INDEX(Prizes!F:F,MATCH($B55,Prizes!A:A,0))","v":2.4300000000000002},{"$f":"INDEX(Weekly!K:K,MATCH($F55,Weekly!$E:$E,0))","v":0},{"$f":"INDEX(Weekly!L:L,MATCH($F55,Weekly!$E:$E,0))","v":0},{"$f":"INDEX(Weekly!N:N,MATCH($F55,Weekly!$E:$E,0))","v":2.4300000000000002},{"$f":"O55+K55","v":20.759999999999998}]
[null,"D7","Play-off",7,"D","Simon Greenhalgh",{"$f":"INDEX(Weekly!F:F,MATCH($F56,Weekly!$E:$E,0))","v":-4.5},{"$f":"INDEX(Weekly!G:G,MATCH($F56,Weekly!$E:$E,0))","v":1},{"$f":"INDEX(Weekly!H:H,MATCH($F56,Weekly!$E:$E,0))","v":-4.5},{"$f":"INDEX(Weekly!I:I,MATCH($F56,Weekly!$E:$E,0))","v":1},{"$f":"INDEX(Weekly!J:J,MATCH($F56,Weekly!$E:$E,0))","v":3.3500000000000014},{"$f":"INDEX(Prizes!F:F,MATCH($B56,Prizes!A:A,0))","v":0},{"$f":"INDEX(Weekly!K:K,MATCH($F56,Weekly!$E:$E,0))","v":0},{"$f":"INDEX(Weekly!L:L,MATCH($F56,Weekly!$E:$E,0))","v":0},{"$f":"INDEX(Weekly!N:N,MATCH($F56,Weekly!$E:$E,0))","v":0},{"$f":"O56+K56","v":3.3500000000000014}]
[null,"D8","Play-off",8,"D","Chris Bow",{"$f":"INDEX(Weekly!F:F,MATCH($F57,Weekly!$E:$E,0))","v":-5.0909090909090908},{"$f":"INDEX(Weekly!G:G,MATCH($F57,Weekly!$E:$E,0))","v":1},{"$f":"INDEX(Weekly!H:H,MATCH($F57,Weekly!$E:$E,0))","v":-5.0909090909090908},{"$f":"INDEX(Weekly!I:I,MATCH($F57,Weekly!$E:$E,0))","v":1},{"$f":"INDEX(Weekly!J:J,MATCH($F57,Weekly!$E:$E,0))","v":-40},{"$f":"INDEX(Prizes!F:F,MATCH($B57,Prizes!A:A,0))","v":0},{"$f":"INDEX(Weekly!K:K,MATCH($F57,Weekly!$E:$E,0))","v":0},{"$f":"INDEX(Weekly!L:L,MATCH($F57,Weekly!$E:$E,0))","v":0},{"$f":"INDEX(Weekly!N:N,MATCH($F57,Weekly!$E:$E,0))","v":0},{"$f":"O57+K57","v":-40}]
[null,"D9",null,9,"D","Vinny Topping",{"$f":"INDEX(Weekly!F:F,MATCH($F58,Weekly!$E:$E,0))","v":-5.2},{"$f":"INDEX(Weekly!G:G,MATCH($F58,Weekly!$E:$E,0))","v":1},{"$f":"INDEX(Weekly!H:H,MATCH($F58,Weekly!$E:$E,0))","v":-5.2},{"$f":"INDEX(Weekly!I:I,MATCH($F58,Weekly!$E:$E,0))","v":1},{"$f":"INDEX(Weekly!J:J,MATCH($F58,Weekly!$E:$E,0))","v":55.069999999999993},{"$f":"INDEX(Prizes!F:F,MATCH($B58,Prizes!A:A,0))","v":0},{"$f":"INDEX(Weekly!K:K,MATCH($F58,Weekly!$E:$E,0))","v":0},{"$f":"INDEX(Weekly!L:L,MATCH($F58,Weekly!$E:$E,0))","v":0},{"$f":"INDEX(Weekly!N:N,MATCH($F58,Weekly!$E:$E,0))","v":0},{"$f":"O58+K58","v":55.069999999999993}]
[null,"D10",null,10,"D","Gareth McGuire",{"$f":"INDEX(Weekly!F:F,MATCH($F59,Weekly!$E:$E,0))","v":-5.3333333333333339},{"$f":"INDEX(Weekly!G:G,MATCH($F59,Weekly!$E:$E,0))","v":1},{"$f":"INDEX(Weekly!H:H,MATCH($F59,Weekly!$E:$E,0))","v":-5.3333333333333339},{"$f":"INDEX(Weekly!I:I,MATCH($F59,Weekly!$E:$E,0))","v":1},{"$f":"INDEX(Weekly!J:J,MATCH($F59,Weekly!$E:$E,0))","v":0},{"$f":"INDEX(Prizes!F:F,MATCH($B59,Prizes!A:A,0))","v":0},{"$f":"INDEX(Weekly!K:K,MATCH($F59,Weekly!$E:$E,0))","v":0},{"$f":"INDEX(Weekly!L:L,MATCH($F59,Weekly!$E:$E,0))","v":0},{"$f":"INDEX(Weekly!N:N,MATCH($F59,Weekly!$E:$E,0))","v":0},{"$f":"O59+K59","v":0}]
[null,"D11",null,11,"D","Lewis Buckley",{"$f":"INDEX(Weekly!F:F,MATCH($F60,Weekly!$E:$E,0))","v":-5.3333333333333339},{"$f":"INDEX(Weekly!G:G,MATCH($F60,Weekly!$E:$E,0))","v":1},{"$f":"INDEX(Weekly!H:H,MATCH($F60,Weekly!$E:$E,0))","v":-5.3333333333333339},{"$f":"INDEX(Weekly!I:I,MATCH($F60,Weekly!$E:$E,0))","v":1},{"$f":"INDEX(Weekly!J:J,MATCH($F60,Weekly!$E:$E,0))","v":0},{"$f":"INDEX(Prizes!F:F,MATCH($B60,Prizes!A:A,0))","v":0},{"$f":"INDEX(Weekly!K:K,MATCH($F60,Weekly!$E:$E,0))","v":0},{"$f":"INDEX(Weekly!L:L,MATCH($F60,Weekly!$E:$E,0))","v":0},{"$f":"INDEX(Weekly!N:N,MATCH($F60,Weekly!$E:$E,0))","v":0},{"$f":"O60+K60","v":0}]
[null,"D12",null,12,"D","Paul Barnes",{"$f":"INDEX(Weekly!F:F,MATCH($F61,Weekly!$E:$E,0))","v":-7},{"$f":"INDEX(Weekly!G:G,MATCH($F61,Weekly!$E:$E,0))","v":0},{"$f":"INDEX(Weekly!H:H,MATCH($F61,Weekly!$E:$E,0))","v":-7},{"$f":"INDEX(Weekly!I:I,MATCH($F61,Weekly!$E:$E,0))","v":0},{"$f":"INDEX(Weekly!J:J,MATCH($F61,Weekly!$E:$E,0))","v":-24.33},{"$f":"INDEX(Prizes!F:F,MATCH($B61,Prizes!A:A,0))","v":0},{"$f":"INDEX(Weekly!K:K,MATCH($F61,Weekly!$E:$E,0))","v":0},{"$f":"INDEX(Weekly!L:L,MATCH($F61,Weekly!$E:$E,0))","v":0},{"$f":"INDEX(Weekly!N:N,MATCH($F61,Weekly!$E:$E,0))","v":0},{"$f":"O61+K61","v":-24.33}]
[null,"D13",null,13,"D","Aaron Sudell",{"$f":"INDEX(Weekly!F:F,MATCH($F62,Weekly!$E:$E,0))","v":-7},{"$f":"INDEX(Weekly!G:G,MATCH($F62,Weekly!$E:$E,0))","v":0},{"$f":"INDEX(Weekly!H:H,MATCH($F62,Weekly!$E:$E,0))","v":-7},{"$f":"INDEX(Weekly!I:I,MATCH($F62,Weekly!$E:$E,0))","v":0},{"$f":"INDEX(Weekly!J:J,MATCH($F62,Weekly!$E:$E,0))","v":-27.57},{"$f":"INDEX(Prizes!F:F,MATCH($B62,Prizes!A:A,0))","v":0},{"$f":"INDEX(Weekly!K:K,MATCH($F62,Weekly!$E:$E,0))","v":0},{"$f":"INDEX(Weekly!L:L,MATCH($F62,Weekly!$E:$E,0))","v":0},{"$f":"INDEX(Weekly!N:N,MATCH($F62,Weekly!$E:$E,0))","v":0},{"$f":"O62+K62","v":-27.57}]
[null,"D14",null,14,"D","Dan Baxter",{"$f":"INDEX(Weekly!F:F,MATCH($F63,Weekly!$E:$E,0))","v":-7},{"$f":"INDEX(Weekly!G:G,MATCH($F63,Weekly!$E:$E,0))","v":0},{"$f":"INDEX(Weekly!H:H,MATCH($F63,Weekly!$E:$E,0))","v":-7},{"$f":"INDEX(Weekly!I:I,MATCH($F63,Weekly!$E:$E,0))","v":0},{"$f":"INDEX(Weekly!J:J,MATCH($F63,Weekly!$E:$E,0))","v":-35},{"$f":"INDEX(Prizes!F:F,MATCH($B63,Prizes!A:A,0))","v":0},{"$f":"INDEX(Weekly!K:K,MATCH($F63,Weekly!$E:$E,0))","v":0},{"$f":"INDEX(Weekly!L:L,MATCH($F63,Weekly!$E:$E,0))","v":0},{"$f":"INDEX(Weekly!N:N,MATCH($F63,Weekly!$E:$E,0))","v":0},{"$f":"O63+K63","v":-35}]
[null,"D15",null,15,"D","Ashley Houghton",{"$f":"INDEX(Weekly!F:F,MATCH($F64,Weekly!$E:$E,0))","v":-7},{"$f":"INDEX(Weekly!G:G,MATCH($F64,Weekly!$E:$E,0))","v":0},{"$f":"INDEX(Weekly!H:H,MATCH($F64,Weekly!$E:$E,0))","v":-7},{"$f":"INDEX(Weekly!I:I,MATCH($F64,Weekly!$E:$E,0))","v":0},{"$f":"INDEX(Weekly!J:J,MATCH($F64,Weekly!$E:$E,0))","v":-35},{"$f":"INDEX(Prizes!F:F,MATCH($B64,Prizes!A:A,0))","v":0},{"$f":"INDEX(Weekly!K:K,MATCH($F64,Weekly!$E:$E,0))","v":0},{"$f":"INDEX(Weekly!L:L,MATCH($F64,Weekly!$E:$E,0))","v":0},{"$f":"INDEX(Weekly!N:N,MATCH($F64,Weekly!$E:$E,0))","v":0},{"$f":"O64+K64","v":-35}]
[null,"D16",null,16,"D","James Bell",{"$f":"INDEX(Weekly!F:F,MATCH($F65,Weekly!$E:$E,0))","v":-7},{"$f":"INDEX(Weekly!G:G,MATCH($F65,Weekly!$E:$E,0))","v":0},{"$f":"INDEX(Weekly!H:H,MATCH($F65,Weekly!$E:$E,0))","v":-7},{"$f":"INDEX(Weekly!I:I,MATCH($F65,Weekly!$E:$E,0))","v":0},{"$f":"INDEX(Weekly!J:J,MATCH($F65,Weekly!$E:$E,0))","v":-35},{"$f":"INDEX(Prizes!F:F,MATCH($B65,Prizes!A:A,0))","v":0},{"$f":"INDEX(Weekly!K:K,MATCH($F65,Weekly!$E:$E,0))","v":0},{"$f":"INDEX(Weekly!L:L,MATCH($F65,Weekly!$E:$E,0))","v":0},{"$f":"INDEX(Weekly!N:N,MATCH($F65,Weekly!$E:$E,0))","v":0},{"$f":"O65+K65","v":-35}]
[null,"D17",null,17,"D","Dave Bell",{"$f":"INDEX(Weekly!F:F,MATCH($F66,Weekly!$E:$E,0))","v":-7},{"$f":"INDEX(Weekly!G:G,MATCH($F66,Weekly!$E:$E,0))","v":0},{"$f":"INDEX(Weekly!H:H,MATCH($F66,Weekly!$E:$E,0))","v":-7},{"$f":"INDEX(Weekly!I:I,MATCH($F66,Weekly!$E:$E,0))","v":0},{"$f":"INDEX(Weekly!J:J,MATCH($F66,Weekly!$E:$E,0))","v":0},{"$f":"INDEX(Prizes!F:F,MATCH($B66,Prizes!A:A,0))","v":0},{"$f":"INDEX(Weekly!K:K,MATCH($F66,Weekly!$E:$E,0))","v":0},{"$f":"INDEX(Weekly!L:L,MATCH($F66,Weekly!$E:$E,0))","v":0},{"$f":"INDEX(Weekly!N:N,MATCH($F66,Weekly!$E:$E,0))","v":0},{"$f":"O66+K66","v":0}]
[null,"D18",null,18,"D","Joel Bent",{"$f":"INDEX(Weekly!F:F,MATCH($F67,Weekly!$E:$E,0))","v":-7},{"$f":"INDEX(Weekly!G:G,MATCH($F67,Weekly!$E:$E,0))","v":0},{"$f":"INDEX(Weekly!H:H,MATCH($F67,Weekly!$E:$E,0))","v":-7},{"$f":"INDEX(Weekly!I:I,MATCH($F67,Weekly!$E:$E,0))","v":0},{"$f":"INDEX(Weekly!J:J,MATCH($F67,Weekly!$E:$E,0))","v":0},{"$f":"INDEX(Prizes!F:F,MATCH($B67,Prizes!A:A,0))","v":0},{"$f":"INDEX(Weekly!K:K,MATCH($F67,Weekly!$E:$E,0))","v":0},{"$f":"INDEX(Weekly!L:L,MATCH($F67,Weekly!$E:$E,0))","v":0},{"$f":"INDEX(Weekly!N:N,MATCH($F67,Weekly!$E:$E,0))","v":0},{"$f":"O67+K67","v":0}]
[null,"D19",null,19,"D","Alan White",{"$f":"INDEX(Weekly!F:F,MATCH($F68,Weekly!$E:$E,0))","v":-7},{"$f":"INDEX(Weekly!G:G,MATCH($F68,Weekly!$E:$E,0))","v":0},{"$f":"INDEX(Weekly!H:H,MATCH($F68,Weekly!$E:$E,0))","v":-7},{"$f":"INDEX(Weekly!I:I,MATCH($F68,Weekly!$E:$E,0))","v":0},{"$f":"INDEX(Weekly!J:J,MATCH($F68,Weekly!$E:$E,0))","v":0},{"$f":"INDEX(Prizes!F:F,MATCH($B68,Prizes!A:A,0))","v":0},{"$f":"INDEX(Weekly!K:K,MATCH($F68,Weekly!$E:$E,0))","v":0},{"$f":"INDEX(Weekly!L:L,MATCH($F68,Weekly!$E:$E,0))","v":0},{"$f":"INDEX(Weekly!N:N,MATCH($F68,Weekly!$E:$E,0))","v":0},{"$f":"O68+K68","v":0}]
[null,"D20",null,20,"D","Andy Clucas",{"$f":"INDEX(Weekly!F:F,MATCH($F69,Weekly!$E:$E,0))","v":-7},{"$f":"INDEX(Weekly!G:G,MATCH($F69,Weekly!$E:$E,0))","v":0},{"$f":"INDEX(Weekly!H:H,MATCH($F69,Weekly!$E:$E,0))","v":-7},{"$f":"INDEX(Weekly!I:I,MATCH($F69,Weekly!$E:$E,0))","v":0},{"$f":"INDEX(Weekly!J:J,MATCH($F69,Weekly!$E:$E,0))","v":0},{"$f":"INDEX(Prizes!F:F,MATCH($B69,Prizes!A:A,0))","v":0},{"$f":"INDEX(Weekly!K:K,MATCH($F69,Weekly!$E:$E,0))","v":0},{"$f":"INDEX(Weekly!L:L,MATCH($F69,Weekly!$E:$E,0))","v":0},{"$f":"INDEX(Weekly!N:N,MATCH($F69,Weekly!$E:$E,0))","v":0},{"$f":"O69+K69","v":0}]
[]
[]
[null,null,null,null,null,null,null,null,null,null,null,{"$f":"SUM(L2:L70)","v":809.99999999999989},{"$f":"SUM(M2:M70)","v":25},{"$f":"SUM(N2:N70)","v":0},{"$f":"SUM(O2:O70)","v":834.99999999999989},{"$f":"SUM(P2:P70)","v":1187.2199999999998}]

{"sheet":"Fixture","index":2,"n_rows":47,"n_cols":4,"rows_kept":47,"cut":false,"hidden":false,"merged":[]}
["Date","Competition","Odds","Result"]
[{"$f":"IF(Match!A2=\"\",\"\",Match!A2)","v":"2019-08-09"},{"$f":"IF(Match!C2=\"\",\"\",Match!C2)","v":"Premier"},{"$f":"IF(Match!S2=\"\",\"\",Match!S2)","v":"Liverpool  v  Norwich   1/7  7/1  18/1"},{"$f":"IF(Match!T2=\"\",\"\",Match!T2)","v":"Liverpool 4-1 Norwich "}]
[{"$f":"IF(Match!A3=\"\",\"\",Match!A3)","v":"2019-08-10"},{"$f":"IF(Match!C3=\"\",\"\",Match!C3)","v":"Premier"},{"$f":"IF(Match!S3=\"\",\"\",Match!S3)","v":"Bournemouth  v  Sheff U   10/11  13/5  3/1"},{"$f":"IF(Match!T3=\"\",\"\",Match!T3)","v":"Bournemouth 1-1 Sheff U "}]
[{"$f":"IF(Match!A4=\"\",\"\",Match!A4)","v":"2019-08-10"},{"$f":"IF(Match!C4=\"\",\"\",Match!C4)","v":"Premier"},{"$f":"IF(Match!S4=\"\",\"\",Match!S4)","v":"Burnley  v  Southampton   31/20  23/10  9/5"},{"$f":"IF(Match!T4=\"\",\"\",Match!T4)","v":"Burnley 3-0 Southampton "}]
[{"$f":"IF(Match!A5=\"\",\"\",Match!A5)","v":"2019-08-10"},{"$f":"IF(Match!C5=\"\",\"\",Match!C5)","v":"Premier"},{"$f":"IF(Match!S5=\"\",\"\",Match!S5)","v":"Palace  v  Everton   19/10  23/10  6/4"},{"$f":"IF(Match!T5=\"\",\"\",Match!T5)","v":"Palace 0-0 Everton "}]
[{"$f":"IF(Match!A6=\"\",\"\",Match!A6)","v":"2019-08-10"},{"$f":"IF(Match!C6=\"\",\"\",Match!C6)","v":"Premier"},{"$f":"IF(Match!S6=\"\",\"\",Match!S6)","v":"Spurs  v  Villa   27/100  24/5  10/1"},{"$f":"IF(Match!T6=\"\",\"\",Match!T6)","v":"Spurs 3-1 Villa "}]
[{"$f":"IF(Match!A7=\"\",\"\",Match!A7)","v":"2019-08-10"},{"$f":"IF(Match!C7=\"\",\"\",Match!C7)","v":"Premier"},{"$f":"IF(Match!S7=\"\",\"\",Match!S7)","v":"Watford  v  Brighton   10/11  12/5  10/3"},{"$f":"IF(Match!T7=\"\",\"\",Match!T7)","v":"Watford 0-3 Brighton "}]
[{"$f":"IF(Match!A8=\"\",\"\",Match!A8)","v":"2019-08-10"},{"$f":"IF(Match!C8=\"\",\"\",Match!C8)","v":"Premier"},{"$f":"IF(Match!S8=\"\",\"\",Match!S8)","v":"West Ham  v  Man C   11/1  5/1  1/4"},{"$f":"IF(Match!T8=\"\",\"\",Match!T8)","v":"West Ham 0-5 Man C "}]
[{"$f":"IF(Match!A9=\"\",\"\",Match!A9)","v":"2019-08-10"},{"$f":"IF(Match!C9=\"\",\"\",Match!C9)","v":"Champ"},{"$f":"IF(Match!S9=\"\",\"\",Match!S9)","v":"Birmingham  v  Bristol C   27/20  23/10  21/10"},{"$f":"IF(Match!T9=\"\",\"\",Match!T9)","v":"Birmingham 1-1 Bristol C "}]
[{"$f":"IF(Match!A10=\"\",\"\",Match!A10)","v":"2019-08-10"},{"$f":"IF(Match!C10=\"\",\"\",Match!C10)","v":"Champ"},{"$f":"IF(Match!S10=\"\",\"\",Match!S10)","v":"Cardiff  v  Luton   78/100  13/5  19/5"},{"$f":"IF(Match!T10=\"\",\"\",Match!T10)","v":"Cardiff 2-1 Luton "}]
[{"$f":"IF(Match!A11=\"\",\"\",Match!A11)","v":"2019-08-10"},{"$f":"IF(Match!C11=\"\",\"\",Match!C11)","v":"Champ"},{"$f":"IF(Match!S11=\"\",\"\",Match!S11)","v":"Charlton  v  Stoke   21/10  12/5  13/10"},{"$f":"IF(Match!T11=\"\",\"\",Match!T11)","v":"Charlton 3-1 Stoke "}]
[{"$f":"IF(Match!A12=\"\",\"\",Match!A12)","v":"2019-08-10"},{"$f":"IF(Match!C12=\"\",\"\",Match!C12)","v":"Champ"},{"$f":"IF(Match!S12=\"\",\"\",Match!S12)","v":"Derby  v  Swansea   23/20  12/5  12/5"},{"$f":"IF(Match!T12=\"\",\"\",Match!T12)","v":"Derby 0-0 Swansea "}]
[{"$f":"IF(Match!A13=\"\",\"\",Match!A13)","v":"2019-08-10"},{"$f":"IF(Match!C13=\"\",\"\",Match!C13)","v":"Champ"},{"$f":"IF(Match!S13=\"\",\"\",Match!S13)","v":"Fulham  v  Blackburn   4/5  11/4  17/5"},{"$f":"IF(Match!T13=\"\",\"\",Match!T13)","v":"Fulham 2-0 Blackburn "}]
[{"$f":"IF(Match!A14=\"\",\"\",Match!A14)","v":"2019-08-10"},{"$f":"IF(Match!C14=\"\",\"\",Match!C14)","v":"Champ"},{"$f":"IF(Match!S14=\"\",\"\",Match!S14)","v":"Hull  v  Reading   21/20  12/5  27/10"},{"$f":"IF(Match!T14=\"\",\"\",Match!T14)","v":"Hull 2-1 Reading "}]
[{"$f":"IF(Match!A15=\"\",\"\",Match!A15)","v":"2019-08-10"},{"$f":"IF(Match!C15=\"\",\"\",Match!C15)","v":"Champ"},{"$f":"IF(Match!S15=\"\",\"\",Match!S15)","v":"Leeds  v  Forest   7/10  14/5  4/1"},{"$f":"IF(Match!T15=\"\",\"\",Match!T15)","v":"Leeds 1-1 Forest "}]
[{"$f":"IF(Match!A16=\"\",\"\",Match!A16)","v":"2019-08-10"},{"$f":"IF(Match!C16=\"\",\"\",Match!C16)","v":"Champ"},{"$f":"IF(Match!S16=\"\",\"\",Match!S16)","v":"Middlesbro  v  Brentford   13/10  12/5  21/10"},{"$f":"IF(Match!T16=\"\",\"\",Match!T16)","v":"Middlesbro 0-1 Brentford "}]
[{"$f":"IF(Match!A17=\"\",\"\",Match!A17)","v":"2019-08-10"},{"$f":"IF(Match!C17=\"\",\"\",Match!C17)","v":"Champ"},{"$f":"IF(Match!S17=\"\",\"\",Match!S17)","v":"Preston  v  Wigan   11/10  23/10  27/10"},{"$f":"IF(Match!T17=\"\",\"\",Match!T17)","v":"Preston 3-0 Wigan "}]
[{"$f":"IF(Match!A18=\"\",\"\",Match!A18)","v":"2019-08-10"},{"$f":"IF(Match!C18=\"\",\"\",Match!C18)","v":"Champ"},{"$f":"IF(Match!S18=\"\",\"\",Match!S18)","v":"QPR  v  Huddersfield   31/20  23/10  9/5"},{"$f":"IF(Match!T18=\"\",\"\",Match!T18)","v":"QPR 1-1 Huddersfield "}]
[{"$f":"IF(Match!A19=\"\",\"\",Match!A19)","v":"2019-08-10"},{"$f":"IF(Match!C19=\"\",\"\",Match!C19)","v":"Champ"},{"$f":"IF(Match!S19=\"\",\"\",Match!S19)","v":"Sheff W  v  Barnsley   21/20  12/5  27/10"},{"$f":"IF(Match!T19=\"\",\"\",Match!T19)","v":"Sheff W 2-0 Barnsley "}]
[{"$f":"IF(Match!A20=\"\",\"\",Match!A20)","v":"2019-08-10"},{"$f":"IF(Match!C20=\"\",\"\",Match!C20)","v":"Champ"},{"$f":"IF(Match!S20=\"\",\"\",Match!S20)","v":"West Brom  v  Millwall   7/10  11/4  17/4"},{"$f":"IF(Match!T20=\"\",\"\",Match!T20)","v":"West Brom 1-1 Millwall "}]
[{"$f":"IF(Match!A21=\"\",\"\",Match!A21)","v":"2019-08-10"},{"$f":"IF(Match!C21=\"\",\"\",Match!C21)","v":"League 1"},{"$f":"IF(Match!S21=\"\",\"\",Match!S21)","v":"Bristol R  v  Wycombe   6/5  23/10  21/10"},{"$f":"IF(Match!T21=\"\",\"\",Match!T21)","v":"Bristol R 0-0 Wycombe "}]
[{"$f":"IF(Match!A22=\"\",\"\",Match!A22)","v":"2019-08-10"},{"$f":"IF(Match!C22=\"\",\"\",Match!C22)","v":"League 1"},{"$f":"IF(Match!S22=\"\",\"\",Match!S22)","v":"Fleetwood  v  Wimbledon   10/11  23/10  3/1"},{"$f":"IF(Match!T22=\"\",\"\",Match!T22)","v":"Fleetwood 2-1 Wimbledon "}]
[{"$f":"IF(Match!A23=\"\",\"\",Match!A23)","v":"2019-08-10"},{"$f":"IF(Match!C23=\"\",\"\",Match!C23)","v":"League 1"},{"$f":"IF(Match!S23=\"\",\"\",Match!S23)","v":"Gillingham  v  Burton   13/8  23/10  6/4"},{"$f":"IF(Match!T23=\"\",\"\",Match!T23)","v":"Gillingham 1-2 Burton "}]
[{"$f":"IF(Match!A24=\"\",\"\",Match!A24)","v":"2019-08-10"},{"$f":"IF(Match!C24=\"\",\"\",Match!C24)","v":"League 1"},{"$f":"IF(Match!S24=\"\",\"\",Match!S24)","v":"Ipswich  v  Sunderland   7/5  23/10  9/5"},{"$f":"IF(Match!T24=\"\",\"\",Match!T24)","v":"Ipswich 1-1 Sunderland "}]
[{"$f":"IF(Match!A25=\"\",\"\",Match!A25)","v":"2019-08-10"},{"$f":"IF(Match!C25=\"\",\"\",Match!C25)","v":"League 1"},{"$f":"IF(Match!S25=\"\",\"\",Match!S25)","v":"MK Dons  v  Shrewsbury   15/13  23/10  11/5"},{"$f":"IF(Match!T25=\"\",\"\",Match!T25)","v":"MK Dons 1-0 Shrewsbury "}]
[{"$f":"IF(Match!A26=\"\",\"\",Match!A26)","v":"2019-08-10"},{"$f":"IF(Match!C26=\"\",\"\",Match!C26)","v":"League 1"},{"$f":"IF(Match!S26=\"\",\"\",Match!S26)","v":"Oxford  v  Peterborough   6/4  23/10  13/8"},{"$f":"IF(Match!T26=\"\",\"\",Match!T26)","v":"Oxford 1-0 Peterborough "}]
[{"$f":"IF(Match!A27=\"\",\"\",Match!A27)","v":"2019-08-10"},{"$f":"IF(Match!C27=\"\",\"\",Match!C27)","v":"League 1"},{"$f":"IF(Match!S27=\"\",\"\",Match!S27)","v":"Portsmouth  v  Tranmere   4/6  11/4  18/5"},{"$f":"IF(Match!T27=\"\",\"\",Match!T27)","v":"Portsmouth 2-0 Tranmere "}]
[{"$f":"IF(Match!A28=\"\",\"\",Match!A28)","v":"2019-08-10"},{"$f":"IF(Match!C28=\"\",\"\",Match!C28)","v":"League 1"},{"$f":"IF(Match!S28=\"\",\"\",Match!S28)","v":"Rochdale  v  Doncaster   13/8  23/10  6/4"},{"$f":"IF(Match!T28=\"\",\"\",Match!T28)","v":"Rochdale 1-1 Doncaster "}]
[{"$f":"IF(Match!A29=\"\",\"\",Match!A29)","v":"2019-08-10"},{"$f":"IF(Match!C29=\"\",\"\",Match!C29)","v":"League 1"},{"$f":"IF(Match!S29=\"\",\"\",Match!S29)","v":"Rotherham  v  Lincoln   11/10  23/10  23/10"},{"$f":"IF(Match!T29=\"\",\"\",Match!T29)","v":"Rotherham 0-2 Lincoln "}]
[{"$f":"IF(Match!A30=\"\",\"\",Match!A30)","v":"2019-08-10"},{"$f":"IF(Match!C30=\"\",\"\",Match!C30)","v":"League 1"},{"$f":"IF(Match!S30=\"\",\"\",Match!S30)","v":"Southend  v  Blackpool   13/8  23/10  6/4"},{"$f":"IF(Match!T30=\"\",\"\",Match!T30)","v":"Southend 1-3 Blackpool "}]
[{"$f":"IF(Match!A31=\"\",\"\",Match!A31)","v":"2019-08-10"},{"$f":"IF(Match!C31=\"\",\"\",Match!C31)","v":"League 2"},{"$f":"IF(Match!S31=\"\",\"\",Match!S31)","v":"Cambridge  v  Newport   17/10  5/2  13/8"},{"$f":"IF(Match!T31=\"\",\"\",Match!T31)","v":"Cambridge 0-0 Newport "}]
[{"$f":"IF(Match!A32=\"\",\"\",Match!A32)","v":"2019-08-10"},{"$f":"IF(Match!C32=\"\",\"\",Match!C32)","v":"League 2"},{"$f":"IF(Match!S32=\"\",\"\",Match!S32)","v":"Cheltenham  v  Scunthorpe   15/8  5/2  16/11"},{"$f":"IF(Match!T32=\"\",\"\",Match!T32)","v":"Cheltenham 4-1 Scunthorpe "}]
[{"$f":"IF(Match!A33=\"\",\"\",Match!A33)","v":"2019-08-10"},{"$f":"IF(Match!C33=\"\",\"\",Match!C33)","v":"League 2"},{"$f":"IF(Match!S33=\"\",\"\",Match!S33)","v":"Crawley  v  Salford   23/10  12/5  5/4"},{"$f":"IF(Match!T33=\"\",\"\",Match!T33)","v":"Crawley 2-0 Salford "}]
[{"$f":"IF(Match!A34=\"\",\"\",Match!A34)","v":"2019-08-10"},{"$f":"IF(Match!C34=\"\",\"\",Match!C34)","v":"League 2"},{"$f":"IF(Match!S34=\"\",\"\",Match!S34)","v":"Grimsby  v  Bradford   23/10  5/2  6/5"},{"$f":"IF(Match!T34=\"\",\"\",Match!T34)","v":"Grimsby 1-1 Bradford "}]
[{"$f":"IF(Match!A35=\"\",\"\",Match!A35)","v":"2019-08-10"},{"$f":"IF(Match!C35=\"\",\"\",Match!C35)","v":"League 2"},{"$f":"IF(Match!S35=\"\",\"\",Match!S35)","v":"Macclesfield  v  Orient   2/1  12/5  7/5"},{"$f":"IF(Match!T35=\"\",\"\",Match!T35)","v":"Macclesfield 3-0 Orient "}]
[{"$f":"IF(Match!A36=\"\",\"\",Match!A36)","v":"2019-08-10"},{"$f":"IF(Match!C36=\"\",\"\",Match!C36)","v":"League 2"},{"$f":"IF(Match!S36=\"\",\"\",Match!S36)","v":"Mansfield  v  Morecambe   7/10  3/1  22/5"},{"$f":"IF(Match!T36=\"\",\"\",Match!T36)","v":"Mansfield 2-2 Morecambe "}]
[{"$f":"IF(Match!A37=\"\",\"\",Match!A37)","v":"2019-08-10"},{"$f":"IF(Match!C37=\"\",\"\",Match!C37)","v":"League 2"},{"$f":"IF(Match!S37=\"\",\"\",Match!S37)","v":"Oldham  v  Crewe   7/5  13/5  19/10"},{"$f":"IF(Match!T37=\"\",\"\",Match!T37)","v":"Oldham 1-2 Crewe "}]
[{"$f":"IF(Match!A38=\"\",\"\",Match!A38)","v":"2019-08-10"},{"$f":"IF(Match!C38=\"\",\"\",Match!C38)","v":"League 2"},{"$f":"IF(Match!S38=\"\",\"\",Match!S38)","v":"Plymouth  v  Colchester   23/20  5/2  5/2"},{"$f":"IF(Match!T38=\"\",\"\",Match!T38)","v":"Plymouth 1-0 Colchester "}]
[{"$f":"IF(Match!A39=\"\",\"\",Match!A39)","v":"2019-08-10"},{"$f":"IF(Match!C39=\"\",\"\",Match!C39)","v":"League 2"},{"$f":"IF(Match!S39=\"\",\"\",Match!S39)","v":"Port Vale  v  Northampton   13/8  23/10  9/5"},{"$f":"IF(Match!T39=\"\",\"\",Match!T39)","v":"Port Vale 1-1 Northampton "}]
[{"$f":"IF(Match!A40=\"\",\"\",Match!A40)","v":"2019-08-10"},{"$f":"IF(Match!C40=\"\",\"\",Match!C40)","v":"League 2"},{"$f":"IF(Match!S40=\"\",\"\",Match!S40)","v":"Stevenage  v  Exeter   16/11  5/2  19/10"},{"$f":"IF(Match!T40=\"\",\"\",Match!T40)","v":"Stevenage 0-1 Exeter "}]
[{"$f":"IF(Match!A41=\"\",\"\",Match!A41)","v":"2019-08-10"},{"$f":"IF(Match!C41=\"\",\"\",Match!C41)","v":"League 2"},{"$f":"IF(Match!S41=\"\",\"\",Match!S41)","v":"Swindon  v  Carlisle   21/20  5/2  11/4"},{"$f":"IF(Match!T41=\"\",\"\",Match!T41)","v":"Swindon 3-2 Carlisle "}]
[{"$f":"IF(Match!A42=\"\",\"\",Match!A42)","v":"2019-08-10"},{"$f":"IF(Match!C42=\"\",\"\",Match!C42)","v":"League 2"},{"$f":"IF(Match!S42=\"\",\"\",Match!S42)","v":"Walsall  v  Forest Green   11/8  12/5  21/10"},{"$f":"IF(Match!T42=\"\",\"\",Match!T42)","v":"Walsall 1-1 Forest Green "}]
[{"$f":"IF(Match!A43=\"\",\"\",Match!A43)","v":"2019-08-11"},{"$f":"IF(Match!C43=\"\",\"\",Match!C43)","v":"Premier"},{"$f":"IF(Match!S43=\"\",\"\",Match!S43)","v":"Leicester  v  Wolves   13/10  26/11  32/13"},{"$f":"IF(Match!T43=\"\",\"\",Match!T43)","v":"Leicester 0-0 Wolves "}]
[{"$f":"IF(Match!A44=\"\",\"\",Match!A44)","v":"2019-08-11"},{"$f":"IF(Match!C44=\"\",\"\",Match!C44)","v":"Premier"},{"$f":"IF(Match!S44=\"\",\"\",Match!S44)","v":"Man U  v  Chelsea   5/4  32/13  13/5"},{"$f":"IF(Match!T44=\"\",\"\",Match!T44)","v":"Man U 4-0 Chelsea "}]
[{"$f":"IF(Match!A45=\"\",\"\",Match!A45)","v":"2019-08-11"},{"$f":"IF(Match!C45=\"\",\"\",Match!C45)","v":"Premier"},{"$f":"IF(Match!S45=\"\",\"\",Match!S45)","v":"Newcastle  v  Arsenal   77/19  29/10  9/11"},{"$f":"IF(Match!T45=\"\",\"\",Match!T45)","v":"Newcastle 0-1 Arsenal "}]
[{"$f":"IF(Match!A46=\"\",\"\",Match!A46)","v":""},{"$f":"IF(Match!C46=\"\",\"\",Match!C46)","v":""},{"$f":"IF(Match!S46=\"\",\"\",Match!S46)","v":""},{"$f":"IF(Match!T46=\"\",\"\",Match!T46)","v":" -  "}]
[{"$f":"IF(Match!A47=\"\",\"\",Match!A47)","v":""},{"$f":"IF(Match!C47=\"\",\"\",Match!C47)","v":""},{"$f":"IF(Match!S47=\"\",\"\",Match!S47)","v":""},{"$f":"IF(Match!T47=\"\",\"\",Match!T47)","v":" - "}]

{"sheet":"Weekly","index":3,"n_rows":71,"n_cols":78,"rows_kept":71,"cut":false,"hidden":false,"merged":[]}
["Rank Seas","Rank Wk","Pos L/W","Div","Player","Season\nScore","Season\nCorrect","Week\nScore","Week\n? of 3","Brought\nForward","Weekly\nPrizes","Cup\nPrize","League\nPlace Prize","Total\nPrize","Balance","W1","W1Q","W1P","W2","W2Q","W2P","W3","W3Q","W3P","W4","W4Q","W4P","W5","W5Q","W5P","W6","W6Q","W6P","W7","W7Q","W7P","W8","W8Q","W8P","W9","W9Q","W9P","W10","W10Q","W10P","W11","W11Q","W11P","W12","W12Q","W12P","W13","W13Q","W13P","W14","W14Q","W14P","W15","W15Q","W15P","W16","W16Q","W16P","W17","W17Q","W17P","W18","W18Q","W18P","W19","W19Q","W19P","W20","W20Q","W20P","Seas","SeasQ","SeasP"]
[{"$f":"_xlfn.RANK.EQ(F2,totalscores,0)","v":49},{"$f":"_xlfn.RANK.EQ(H2,thisweekscore,0)","v":47},63,{"$f":"INDEX(Players!B:B,MATCH(E2,Players!F:F,0))","v":"D"},"Aaron Sudell",{"$f":"+P2+S2+V2+Y2+AB2+AE2+AH2+AK2+AN2+AQ2+AT2+AW2+AZ2+BC2+BF2+BI2+BL2+BO2+BR2+BU2","v":-7},{"$f":"+Q2+T2+W2+Z2+AC2+AF2+AI2+AL2+AO2+AR2+AU2+AX2+BA2+BD2+BG2+BJ2+BM2+BP2+BS2+BV2","v":0},-7,0,{"$f":"INDEX(Players!A:A,MATCH(E2,Players!F:F,0))","v":-27.57},{"$f":"R2+U2+X2+AA2+AD2+AG2+AJ2+AM2+AP2+AS2+AV2+AY2+BB2+BE2+BH2+BK2+BN2+BQ2+BT2+BW2","v":0},null,{"$f":"INDEX(Table!L:L,MATCH(E2,Table!F:F,0))","v":0},{"$f":"L2+K2+M2","v":0},{"$f":"N2+J2","v":-27.57},-7,0,null,null,null,null,null,null,null,null,null,null,null,null,null,null,null,null,null,null,null,null,null,null,null,null,null,null,null,null,null,null,null,null,null,null,null,null,null,null,null,null,null,null,null,null,null,null,null,null,null,null,null,null,null,null,null,null,null,null,{"$f":"BU2+BR2+BO2+BL2+BI2+BF2+BC2+AZ2+AW2+AT2+AQ2+AN2+AK2+AH2+AE2+AB2+Y2+V2+S2+P2","v":-7},{"$f":"BV2+BS2+BP2+BM2+BJ2+BG2+BD2+BA2+AX2+AU2+AR2+AO2+AL2+AI2+AF2+AC2+Z2+W2+T2+Q2","v":0},{"$f":"BW2+BT2+BQ2+BN2+BK2+BH2+BE2+BB2+AY2+AV2+AS2+AP2+AM2+AJ2+AG2+AD2+AA2+X2+U2+R2","v":0}]
[3,3,64,{"$f":"INDEX(Players!B:B,MATCH(E3,Players!F:F,0))","v":"B"},"Alan Rogers",9.4375,2,9.4375,2,{"$f":"INDEX(Players!A:A,MATCH(E3,Players!F:F,0))","v":-15.515000000000001},{"$f":"R3+U3+X3+AA3+AD3+AG3+AJ3+AM3+AP3+AS3+AV3+AY3+BB3+BE3+BH3+BK3+BN3+BQ3+BT3+BW3","v":5},null,{"$f":"INDEX(Table!L:L,MATCH(E3,Table!F:F,0))","v":60.75},{"$f":"L3+K3+M3","v":65.75},50.234999999999999,9.4375,2,5,null,null,null,null,null,null,null,null,null,null,null,null,null,null,null,null,null,null,null,null,null,null,null,null,null,null,null,null,null,null,null,null,null,null,null,null,null,null,null,null,null,null,null,null,null,null,null,null,null,null,null,null,null,null,null,null,null,9.4375,2,5]
[49,47,18,{"$f":"INDEX(Players!B:B,MATCH(E4,Players!F:F,0))","v":"D"},"Alan White",-7,0,-7,0,{"$f":"INDEX(Players!A:A,MATCH(E4,Players!F:F,0))","v":0},0,null,{"$f":"INDEX(Table!L:L,MATCH(E4,Table!F:F,0))","v":0},0,0,-7,0,null,null,null,null,null,null,null,null,null,null,null,null,null,null,null,null,null,null,null,null,null,null,null,null,null,null,null,null,null,null,null,null,null,null,null,null,null,null,null,null,null,null,null,null,null,null,null,null,null,null,null,null,null,null,null,null,null,null,-7,0,0]
[2,2,12,{"$f":"INDEX(Players!B:B,MATCH(E5,Players!F:F,0))","v":"B"},"Alfie Davies",13.225974025974025,3,13.225974025974025,3,{"$f":"INDEX(Players!A:A,MATCH(E5,Players!F:F,0))","v":-20},5,null,{"$f":"INDEX(Table!L:L,MATCH(E5,Table!F:F,0))","v":85.05},90.05,70.05,13.225974025974025,3,5,null,null,null,null,null,null,null,null,null,null,null,null,null,null,null,null,null,null,null,null,null,null,null,null,null,null,null,null,null,null,null,null,null,null,null,null,null,null,null,null,null,null,null,null,null,null,null,null,null,null,null,null,null,null,null,null,null,13.225974025974025,3,5]
[10,9,8,{"$f":"INDEX(Players!B:B,MATCH(E6,Players!F:F,0))","v":"A"},"Alick Rocca",1.163636363636364,2,1.163636363636364,2,{"$f":"INDEX(Players!A:A,MATCH(E6,Players!F:F,0))","v":206.965},0,null,{"$f":"INDEX(Table!L:L,MATCH(E6,Table!F:F,0))","v":25.515000000000001},25.515000000000001,232.48000000000002,1.163636363636364,2,null,null,null,null,null,null,null,null,null,null,null,null,null,null,null,null,null,null,null,null,null,null,null,null,null,null,null,null,null,null,null,null,null,null,null,null,null,null,null,null,null,null,null,null,null,null,null,null,null,null,null,null,null,null,null,null,null,null,1.163636363636364,2,0]
[46,44,57,{"$f":"INDEX(Players!B:B,MATCH(E7,Players!F:F,0))","v":"A"},"Andy Charleston",-5.73,1,-5.73,1,{"$f":"INDEX(Players!A:A,MATCH(E7,Players!F:F,0))","v":65.349999999999994},0,null,{"$f":"INDEX(Table!L:L,MATCH(E7,Table!F:F,0))","v":0},0,65.349999999999994,-5.73,1,null,null,null,null,null,null,null,null,null,null,null,null,null,null,null,null,null,null,null,null,null,null,null,null,null,null,null,null,null,null,null,null,null,null,null,null,null,null,null,null,null,null,null,null,null,null,null,null,null,null,null,null,null,null,null,null,null,null,-5.73,1,0]
[34,33,4,{"$f":"INDEX(Players!B:B,MATCH(E8,Players!F:F,0))","v":"B"},"Andy White",-5.1818181818181817,1,-5.1818181818181817,1,{"$f":"INDEX(Players!A:A,MATCH(E8,Players!F:F,0))","v":24.045000000000002},0,null,{"$f":"INDEX(Table!L:L,MATCH(E8,Table!F:F,0))","v":0},0,24.045000000000002,-5.1818181818181817,1,null,null,null,null,null,null,null,null,null,null,null,null,null,null,null,null,null,null,null,null,null,null,null,null,null,null,null,null,null,null,null,null,null,null,null,null,null,null,null,null,null,null,null,null,null,null,null,null,null,null,null,null,null,null,null,null,null,null,-5.1818181818181817,1,0]
[47,45,15,{"$f":"INDEX(Players!B:B,MATCH(E9,Players!F:F,0))","v":"C"},"Antony Robinson",-5.8571428571428577,1,-5.8571428571428577,1,{"$f":"INDEX(Players!A:A,MATCH(E9,Players!F:F,0))","v":-3.75},0,null,{"$f":"INDEX(Table!L:L,MATCH(E9,Table!F:F,0))","v":0},0,-3.75,-5.8571428571428577,1,null,null,null,null,null,null,null,null,null,null,null,null,null,null,null,null,null,null,null,null,null,null,null,null,null,null,null,null,null,null,null,null,null,null,null,null,null,null,null,null,null,null,null,null,null,null,null,null,null,null,null,null,null,null,null,null,null,null,-5.8571428571428577,1,0]
[49,47,25,{"$f":"INDEX(Players!B:B,MATCH(E10,Players!F:F,0))","v":"D"},"Ashley Houghton",-7,0,-7,0,{"$f":"INDEX(Players!A:A,MATCH(E10,Players!F:F,0))","v":-35},0,null,{"$f":"INDEX(Table!L:L,MATCH(E10,Table!F:F,0))","v":0},0,-35,-7,0,null,null,null,null,null,null,null,null,null,null,null,null,null,null,null,null,null,null,null,null,null,null,null,null,null,null,null,null,null,null,null,null,null,null,null,null,null,null,null,null,null,null,null,null,null,null,null,null,null,null,null,null,null,null,null,null,null,null,-7,0,0]
[39,37,20,{"$f":"INDEX(Players!B:B,MATCH(E11,Players!F:F,0))","v":"A"},"Barry Birchall",-5.22,1,-5.22,1,{"$f":"INDEX(Players!A:A,MATCH(E11,Players!F:F,0))","v":-20},0,null,{"$f":"INDEX(Table!L:L,MATCH(E11,Table!F:F,0))","v":0},0,-20,-5.22,1,null,null,null,null,null,null,null,null,null,null,null,null,null,null,null,null,null,null,null,null,null,null,null,null,null,null,null,null,null,null,null,null,null,null,null,null,null,null,null,null,null,null,null,null,null,null,null,null,null,null,null,null,null,null,null,null,null,null,-5.22,1,0]
[49,47,42,{"$f":"INDEX(Players!B:B,MATCH(E12,Players!F:F,0))","v":"C"},"Ben Rosser",-7,0,-7,0,{"$f":"INDEX(Players!A:A,MATCH(E12,Players!F:F,0))","v":-40},0,null,{"$f":"INDEX(Table!L:L,MATCH(E12,Table!F:F,0))","v":0},0,-40,-7,0,null,null,null,null,null,null,null,null,null,null,null,null,null,null,null,null,null,null,null,null,null,null,null,null,null,null,null,null,null,null,null,null,null,null,null,null,null,null,null,null,null,null,null,null,null,null,null,null,null,null,null,null,null,null,null,null,null,null,-7,0,0]
[22,21,55,{"$f":"INDEX(Players!B:B,MATCH(E13,Players!F:F,0))","v":"C"},"Charlie Griffiths",-4.0999999999999996,1,-4.0999999999999996,1,{"$f":"INDEX(Players!A:A,MATCH(E13,Players!F:F,0))","v":-31.355},0,null,{"$f":"INDEX(Table!L:L,MATCH(E13,Table!F:F,0))","v":8.5050000000000008},8.5050000000000008,-22.85,-4.0999999999999996,1,null,null,null,null,null,null,null,null,null,null,null,null,null,null,null,null,null,null,null,null,null,null,null,null,null,null,null,null,null,null,null,null,null,null,null,null,null,null,null,null,null,null,null,null,null,null,null,null,null,null,null,null,null,null,null,null,null,null,-4.0999999999999996,1,0]
[32,31,22,{"$f":"INDEX(Players!B:B,MATCH(E14,Players!F:F,0))","v":"D"},"Chris Bow",-5.0909090909090908,1,-5.0909090909090908,1,{"$f":"INDEX(Players!A:A,MATCH(E14,Players!F:F,0))","v":-40},0,null,{"$f":"INDEX(Table!L:L,MATCH(E14,Table!F:F,0))","v":0},0,-40,-5.0909090909090908,1,null,null,null,null,null,null,null,null,null,null,null,null,null,null,null,null,null,null,null,null,null,null,null,null,null,null,null,null,null,null,null,null,null,null,null,null,null,null,null,null,null,null,null,null,null,null,null,null,null,null,null,null,null,null,null,null,null,null,-5.0909090909090908,1,0]
[39,37,17,{"$f":"INDEX(Players!B:B,MATCH(E15,Players!F:F,0))","v":"B"},"Chris Griffin",-5.22,1,-5.22,1,{"$f":"INDEX(Players!A:A,MATCH(E15,Players!F:F,0))","v":-7.9399999999999977},0,null,{"$f":"INDEX(Table!L:L,MATCH(E15,Table!F:F,0))","v":0},0,-7.9399999999999977,-5.22,1,null,null,null,null,null,null,null,null,null,null,null,null,null,null,null,null,null,null,null,null,null,null,null,null,null,null,null,null,null,null,null,null,null,null,null,null,null,null,null,null,null,null,null,null,null,null,null,null,null,null,null,null,null,null,null,null,null,null,-5.22,1,0]
[49,47,35,{"$f":"INDEX(Players!B:B,MATCH(E16,Players!F:F,0))","v":"A"},"Chris Luck",-7,0,-7,0,{"$f":"INDEX(Players!A:A,MATCH(E16,Players!F:F,0))","v":147.98500000000001},0,null,{"$f":"INDEX(Table!L:L,MATCH(E16,Table!F:F,0))","v":0},0,147.98500000000001,-7,0,null,null,null,null,null,null,null,null,null,null,null,null,null,null,null,null,null,null,null,null,null,null,null,null,null,null,null,null,null,null,null,null,null,null,null,null,null,null,null,null,null,null,null,null,null,null,null,null,null,null,null,null,null,null,null,null,null,null,-7,0,0]
[49,47,13,{"$f":"INDEX(Players!B:B,MATCH(E17,Players!F:F,0))","v":"C"},"Chris Townsend",-7,0,-7,0,{"$f":"INDEX(Players!A:A,MATCH(E17,Players!F:F,0))","v":-26.675000000000001},0,null,{"$f":"INDEX(Table!L:L,MATCH(E17,Table!F:F,0))","v":0},0,-26.675000000000001,-7,0,null,null,null,null,null,null,null,null,null,null,null,null,null,null,null,null,null,null,null,null,null,null,null,null,null,null,null,null,null,null,null,null,null,null,null,null,null,null,null,null,null,null,null,null,null,null,null,null,null,null,null,null,null,null,null,null,null,null,-7,0,0]
[49,47,62,{"$f":"INDEX(Players!B:B,MATCH(E18,Players!F:F,0))","v":"D"},"Dan Baxter",-7,0,-7,0,{"$f":"INDEX(Players!A:A,MATCH(E18,Players!F:F,0))","v":-35},0,null,{"$f":"INDEX(Table!L:L,MATCH(E18,Table!F:F,0))","v":0},0,-35,-7,0,null,null,null,null,null,null,null,null,null,null,null,null,null,null,null,null,null,null,null,null,null,null,null,null,null,null,null,null,null,null,null,null,null,null,null,null,null,null,null,null,null,null,null,null,null,null,null,null,null,null,null,null,null,null,null,null,null,null,-7,0,0]
[49,47,30,{"$f":"INDEX(Players!B:B,MATCH(E19,Players!F:F,0))","v":"D"},"Dave Bell",-7,0,-7,0,{"$f":"INDEX(Players!A:A,MATCH(E19,Players!F:F,0))","v":0},0,null,{"$f":"INDEX(Table!L:L,MATCH(E19,Table!F:F,0))","v":0},0,0,-7,0,null,null,null,null,null,null,null,null,null,null,null,null,null,null,null,null,null,null,null,null,null,null,null,null,null,null,null,null,null,null,null,null,null,null,null,null,null,null,null,null,null,null,null,null,null,null,null,null,null,null,null,null,null,null,null,null,null,null,-7,0,0]
[32,31,43,{"$f":"INDEX(Players!B:B,MATCH(E20,Players!F:F,0))","v":"B"},"Dave Orrell",-5.0909090909090908,1,-5.0909090909090908,1,{"$f":"INDEX(Players!A:A,MATCH(E20,Players!F:F,0))","v":-11.370000000000001},0,null,{"$f":"INDEX(Table!L:L,MATCH(E20,Table!F:F,0))","v":0},0,-11.370000000000001,-5.0909090909090908,1,null,null,null,null,null,null,null,null,null,null,null,null,null,null,null,null,null,null,null,null,null,null,null,null,null,null,null,null,null,null,null,null,null,null,null,null,null,null,null,null,null,null,null,null,null,null,null,null,null,null,null,null,null,null,null,null,null,null,-5.0909090909090908,1,0]
[34,33,14,{"$f":"INDEX(Players!B:B,MATCH(E21,Players!F:F,0))","v":"C"},"David Dunn",-5.1818181818181817,1,-5.1818181818181817,1,{"$f":"INDEX(Players!A:A,MATCH(E21,Players!F:F,0))","v":-55},0,null,{"$f":"INDEX(Table!L:L,MATCH(E21,Table!F:F,0))","v":0},0,-55,-5.1818181818181817,1,null,null,null,null,null,null,null,null,null,null,null,null,null,null,null,null,null,null,null,null,null,null,null,null,null,null,null,null,null,null,null,null,null,null,null,null,null,null,null,null,null,null,null,null,null,null,null,null,null,null,null,null,null,null,null,null,null,null,-5.1818181818181817,1,0]
[10,9,2,{"$f":"INDEX(Players!B:B,MATCH(E22,Players!F:F,0))","v":"C"},"Gareth Fallows",1.163636363636364,2,1.163636363636364,2,{"$f":"INDEX(Players!A:A,MATCH(E22,Players!F:F,0))","v":-40},0,null,{"$f":"INDEX(Table!L:L,MATCH(E22,Table!F:F,0))","v":42.524999999999999},42.524999999999999,2.5249999999999986,1.163636363636364,2,null,null,null,null,null,null,null,null,null,null,null,null,null,null,null,null,null,null,null,null,null,null,null,null,null,null,null,null,null,null,null,null,null,null,null,null,null,null,null,null,null,null,null,null,null,null,null,null,null,null,null,null,null,null,null,null,null,null,1.163636363636364,2,0]
[43,41,1,{"$f":"INDEX(Players!B:B,MATCH(E23,Players!F:F,0))","v":"D"},"Gareth McGuire",-5.3333333333333339,1,-5.3333333333333339,1,{"$f":"INDEX(Players!A:A,MATCH(E23,Players!F:F,0))","v":0},0,null,{"$f":"INDEX(Table!L:L,MATCH(E23,Table!F:F,0))","v":0},0,0,-5.3333333333333339,1,null,null,null,null,null,null,null,null,null,null,null,null,null,null,null,null,null,null,null,null,null,null,null,null,null,null,null,null,null,null,null,null,null,null,null,null,null,null,null,null,null,null,null,null,null,null,null,null,null,null,null,null,null,null,null,null,null,null,-5.3333333333333339,1,0]
[30,29,6,{"$f":"INDEX(Players!B:B,MATCH(E24,Players!F:F,0))","v":"A"},"Gareth Powell",-4.95,1,-4.95,1,{"$f":"INDEX(Players!A:A,MATCH(E24,Players!F:F,0))","v":-28.25},0,null,{"$f":"INDEX(Table!L:L,MATCH(E24,Table!F:F,0))","v":0},0,-28.25,-4.95,1,null,null,null,null,null,null,null,null,null,null,null,null,null,null,null,null,null,null,null,null,null,null,null,null,null,null,null,null,null,null,null,null,null,null,null,null,null,null,null,null,null,null,null,null,null,null,null,null,null,null,null,null,null,null,null,null,null,null,-4.95,1,0]
[23,22,51,{"$f":"INDEX(Players!B:B,MATCH(E25,Players!F:F,0))","v":"C"},"Gerard Ventom",-4.45,1,-4.45,1,{"$f":"INDEX(Players!A:A,MATCH(E25,Players!F:F,0))","v":-12.939999999999998},0,null,{"$f":"INDEX(Table!L:L,MATCH(E25,Table!F:F,0))","v":3.645},3.645,-9.2949999999999982,-4.45,1,null,null,null,null,null,null,null,null,null,null,null,null,null,null,null,null,null,null,null,null,null,null,null,null,null,null,null,null,null,null,null,null,null,null,null,null,null,null,null,null,null,null,null,null,null,null,null,null,null,null,null,null,null,null,null,null,null,null,-4.45,1,0]
[49,47,9,{"$f":"INDEX(Players!B:B,MATCH(E26,Players!F:F,0))","v":"C"},"Graeme Holmes",-7,0,-7,0,{"$f":"INDEX(Players!A:A,MATCH(E26,Players!F:F,0))","v":-35},0,null,{"$f":"INDEX(Table!L:L,MATCH(E26,Table!F:F,0))","v":0},0,-35,-7,0,null,null,null,null,null,null,null,null,null,null,null,null,null,null,null,null,null,null,null,null,null,null,null,null,null,null,null,null,null,null,null,null,null,null,null,null,null,null,null,null,null,null,null,null,null,null,null,null,null,null,null,null,null,null,null,null,null,null,-7,0,0]
[8,7,49,{"$f":"INDEX(Players!B:B,MATCH(E27,Players!F:F,0))","v":"B"},"Graham Miller",3.4800000000000004,2,3.4800000000000004,2,{"$f":"INDEX(Players!A:A,MATCH(E27,Players!F:F,0))","v":13.740000000000002},0,null,{"$f":"INDEX(Table!L:L,MATCH(E27,Table!F:F,0))","v":17.010000000000002},17.010000000000002,30.750000000000004,3.4800000000000004,2,null,null,null,null,null,null,null,null,null,null,null,null,null,null,null,null,null,null,null,null,null,null,null,null,null,null,null,null,null,null,null,null,null,null,null,null,null,null,null,null,null,null,null,null,null,null,null,null,null,null,null,null,null,null,null,null,null,null,3.4800000000000004,2,0]
[14,13,54,{"$f":"INDEX(Players!B:B,MATCH(E28,Players!F:F,0))","v":"C"},"Howard Bradley",0.13333333333333286,2,0.13333333333333286,2,{"$f":"INDEX(Players!A:A,MATCH(E28,Players!F:F,0))","v":-0.625},0,null,{"$f":"INDEX(Table!L:L,MATCH(E28,Table!F:F,0))","v":14.58},14.58,13.955,0.13333333333333286,2,null,null,null,null,null,null,null,null,null,null,null,null,null,null,null,null,null,null,null,null,null,null,null,null,null,null,null,null,null,null,null,null,null,null,null,null,null,null,null,null,null,null,null,null,null,null,null,null,null,null,null,null,null,null,null,null,null,null,0.13333333333333286,2,0]
[18,17,47,{"$f":"INDEX(Players!B:B,MATCH(E29,Players!F:F,0))","v":"D"},"Ian Davies",-3.6363636363636362,1,-3.6363636363636362,1,{"$f":"INDEX(Players!A:A,MATCH(E29,Players!F:F,0))","v":-35},0,null,{"$f":"INDEX(Table!L:L,MATCH(E29,Table!F:F,0))","v":20.25},20.25,-14.75,-3.6363636363636362,1,null,null,null,null,null,null,null,null,null,null,null,null,null,null,null,null,null,null,null,null,null,null,null,null,null,null,null,null,null,null,null,null,null,null,null,null,null,null,null,null,null,null,null,null,null,null,null,null,null,null,null,null,null,null,null,null,null,null,-3.6363636363636362,1,0]
[49,47,40,{"$f":"INDEX(Players!B:B,MATCH(E30,Players!F:F,0))","v":"C"},"Jack Walsh",-7,0,-7,0,{"$f":"INDEX(Players!A:A,MATCH(E30,Players!F:F,0))","v":5},0,null,{"$f":"INDEX(Table!L:L,MATCH(E30,Table!F:F,0))","v":0},0,5,-7,0,null,null,null,null,null,null,null,null,null,null,null,null,null,null,null,null,null,null,null,null,null,null,null,null,null,null,null,null,null,null,null,null,null,null,null,null,null,null,null,null,null,null,null,null,null,null,null,null,null,null,null,null,null,null,null,null,null,null,-7,0,0]
[49,47,21,{"$f":"INDEX(Players!B:B,MATCH(E31,Players!F:F,0))","v":"D"},"James Bell",-7,0,-7,0,{"$f":"INDEX(Players!A:A,MATCH(E31,Players!F:F,0))","v":-35},0,null,{"$f":"INDEX(Table!L:L,MATCH(E31,Table!F:F,0))","v":0},0,-35,-7,0,null,null,null,null,null,null,null,null,null,null,null,null,null,null,null,null,null,null,null,null,null,null,null,null,null,null,null,null,null,null,null,null,null,null,null,null,null,null,null,null,null,null,null,null,null,null,null,null,null,null,null,null,null,null,null,null,null,null,-7,0,0]
[49,47,44,{"$f":"INDEX(Players!B:B,MATCH(E32,Players!F:F,0))","v":"D"},"Joel Bent",-7,0,-7,0,{"$f":"INDEX(Players!A:A,MATCH(E32,Players!F:F,0))","v":0},0,null,{"$f":"INDEX(Table!L:L,MATCH(E32,Table!F:F,0))","v":0},0,0,-7,0,null,null,null,null,null,null,null,null,null,null,null,null,null,null,null,null,null,null,null,null,null,null,null,null,null,null,null,null,null,null,null,null,null,null,null,null,null,null,null,null,null,null,null,null,null,null,null,null,null,null,null,null,null,null,null,null,null,null,-7,0,0]
[43,41,60,{"$f":"INDEX(Players!B:B,MATCH(E33,Players!F:F,0))","v":"B"},"John Evans",-5.3333333333333339,1,-5.3333333333333339,1,{"$f":"INDEX(Players!A:A,MATCH(E33,Players!F:F,0))","v":88.13},0,null,{"$f":"INDEX(Table!L:L,MATCH(E33,Table!F:F,0))","v":0},0,88.13,-5.3333333333333339,1,null,null,null,null,null,null,null,null,null,null,null,null,null,null,null,null,null,null,null,null,null,null,null,null,null,null,null,null,null,null,null,null,null,null,null,null,null,null,null,null,null,null,null,null,null,null,null,null,null,null,null,null,null,null,null,null,null,null,-5.3333333333333339,1,0]
[{"$f":"_xlfn.RANK.EQ(F34,totalscores,0)","v":12},{"$f":"_xlfn.RANK.EQ(H34,thisweekscore,0)","v":11},45,{"$f":"INDEX(Players!B:B,MATCH(E34,Players!F:F,0))","v":"C"},"John Robinson",{"$f":"+P34+S34+V34+Y34+AB34+AE34+AH34+AK34+AN34+AQ34+AT34+AW34+AZ34+BC34+BF34+BI34+BL34+BO34+BR34+BU34","v":1.0181818181818194},{"$f":"+Q34+T34+W34+Z34+AC34+AF34+AI34+AL34+AO34+AR34+AU34+AX34+BA34+BD34+BG34+BJ34+BM34+BP34+BS34+BV34","v":2},1.0181818181818194,2,{"$f":"INDEX(Players!A:A,MATCH(E34,Players!F:F,0))","v":-10.309999999999999},0,null,{"$f":"INDEX(Table!L:L,MATCH(E34,Table!F:F,0))","v":30.375},30.375,{"$f":"N34+J34","v":20.065000000000001},1.0181818181818194,2,null,null,null,null,null,null,null,null,null,null,null,null,null,null,null,null,null,null,null,null,null,null,null,null,null,null,null,null,null,null,null,null,null,null,null,null,null,null,null,null,null,null,null,null,null,null,null,null,null,null,null,null,null,null,null,null,null,null,{"$f":"BU34+BR34+BO34+BL34+BI34+BF34+BC34+AZ34+AW34+AT34+AQ34+AN34+AK34+AH34+AE34+AB34+Y34+V34+S34+P34","v":1.0181818181818194},{"$f":"BV34+BS34+BP34+BM34+BJ34+BG34+BD34+BA34+AX34+AU34+AR34+AO34+AL34+AI34+AF34+AC34+Z34+W34+T34+Q34","v":2},{"$f":"BW34+BT34+BQ34+BN34+BK34+BH34+BE34+BB34+AY34+AV34+AS34+AP34+AM34+AJ34+AG34+AD34+AA34+X34+U34+R34","v":0}]
[21,20,36,{"$f":"INDEX(Players!B:B,MATCH(E35,Players!F:F,0))","v":"D"},"John Ronan",-3.9,1,-3.9,1,{"$f":"INDEX(Players!A:A,MATCH(E35,Players!F:F,0))","v":-35},0,null,{"$f":"INDEX(Table!L:L,MATCH(E35,Table!F:F,0))","v":5.67},5.67,-29.33,-3.9,1,null,null,null,null,null,null,null,null,null,null,null,null,null,null,null,null,null,null,null,null,null,null,null,null,null,null,null,null,null,null,null,null,null,null,null,null,null,null,null,null,null,null,null,null,null,null,null,null,null,null,null,null,null,null,null,null,null,null,-3.9,1,0]
[5,5,46,{"$f":"INDEX(Players!B:B,MATCH(E36,Players!F:F,0))","v":"B"},"Kei Lok Ma",7.2649999999999988,2,7.2649999999999988,2,{"$f":"INDEX(Players!A:A,MATCH(E36,Players!F:F,0))","v":45.320000000000007},0,null,{"$f":"INDEX(Table!L:L,MATCH(E36,Table!F:F,0))","v":43.74},43.74,89.06,7.2649999999999988,2,null,null,null,null,null,null,null,null,null,null,null,null,null,null,null,null,null,null,null,null,null,null,null,null,null,null,null,null,null,null,null,null,null,null,null,null,null,null,null,null,null,null,null,null,null,null,null,null,null,null,null,null,null,null,null,null,null,null,7.2649999999999988,2,0]
[49,47,38,{"$f":"INDEX(Players!B:B,MATCH(E37,Players!F:F,0))","v":"A"},"Kevin Carter",-7,0,-7,0,{"$f":"INDEX(Players!A:A,MATCH(E37,Players!F:F,0))","v":14.545000000000002},0,null,{"$f":"INDEX(Table!L:L,MATCH(E37,Table!F:F,0))","v":0},0,14.545000000000002,-7,0,null,null,null,null,null,null,null,null,null,null,null,null,null,null,null,null,null,null,null,null,null,null,null,null,null,null,null,null,null,null,null,null,null,null,null,null,null,null,null,null,null,null,null,null,null,null,null,null,null,null,null,null,null,null,null,null,null,null,-7,0,0]
[29,28,37,{"$f":"INDEX(Players!B:B,MATCH(E38,Players!F:F,0))","v":"B"},"Lennie Bow",-4.8461538461538467,1,-4.8461538461538467,1,{"$f":"INDEX(Players!A:A,MATCH(E38,Players!F:F,0))","v":93.55},0,null,{"$f":"INDEX(Table!L:L,MATCH(E38,Table!F:F,0))","v":0},0,93.55,-4.8461538461538467,1,null,null,null,null,null,null,null,null,null,null,null,null,null,null,null,null,null,null,null,null,null,null,null,null,null,null,null,null,null,null,null,null,null,null,null,null,null,null,null,null,null,null,null,null,null,null,null,null,null,null,null,null,null,null,null,null,null,null,-4.8461538461538467,1,0]
[43,41,52,{"$f":"INDEX(Players!B:B,MATCH(E39,Players!F:F,0))","v":"D"},"Lewis Buckley",-5.3333333333333339,1,-5.3333333333333339,1,{"$f":"INDEX(Players!A:A,MATCH(E39,Players!F:F,0))","v":0},0,null,{"$f":"INDEX(Table!L:L,MATCH(E39,Table!F:F,0))","v":0},0,0,-5.3333333333333339,1,null,null,null,null,null,null,null,null,null,null,null,null,null,null,null,null,null,null,null,null,null,null,null,null,null,null,null,null,null,null,null,null,null,null,null,null,null,null,null,null,null,null,null,null,null,null,null,null,null,null,null,null,null,null,null,null,null,null,-5.3333333333333339,1,0]
[19,18,58,{"$f":"INDEX(Players!B:B,MATCH(E40,Players!F:F,0))","v":"D"},"Liam Wah",-3.7,1,-3.7,1,{"$f":"INDEX(Players!A:A,MATCH(E40,Players!F:F,0))","v":-30},0,null,{"$f":"INDEX(Table!L:L,MATCH(E40,Table!F:F,0))","v":9.7200000000000006},9.7200000000000006,-20.28,-3.7,1,null,null,null,null,null,null,null,null,null,null,null,null,null,null,null,null,null,null,null,null,null,null,null,null,null,null,null,null,null,null,null,null,null,null,null,null,null,null,null,null,null,null,null,null,null,null,null,null,null,null,null,null,null,null,null,null,null,null,-3.7,1,0]
[15,14,41,{"$f":"INDEX(Players!B:B,MATCH(E41,Players!F:F,0))","v":"A"},"Mal Stott",-0.53333333333333321,2,-0.53333333333333321,2,{"$f":"INDEX(Players!A:A,MATCH(E41,Players!F:F,0))","v":-20},0,null,{"$f":"INDEX(Table!L:L,MATCH(E41,Table!F:F,0))","v":10.935},10.935,-9.0649999999999995,-0.53333333333333321,2,null,null,null,null,null,null,null,null,null,null,null,null,null,null,null,null,null,null,null,null,null,null,null,null,null,null,null,null,null,null,null,null,null,null,null,null,null,null,null,null,null,null,null,null,null,null,null,null,null,null,null,null,null,null,null,null,null,null,-0.53333333333333321,2,0]
[26,25,28,{"$f":"INDEX(Players!B:B,MATCH(E42,Players!F:F,0))","v":"C"},"Mark Bunn",-4.5,1,-4.5,1,{"$f":"INDEX(Players!A:A,MATCH(E42,Players!F:F,0))","v":-7.3800000000000026},0,null,{"$f":"INDEX(Table!L:L,MATCH(E42,Table!F:F,0))","v":0},0,-7.3800000000000026,-4.5,1,null,null,null,null,null,null,null,null,null,null,null,null,null,null,null,null,null,null,null,null,null,null,null,null,null,null,null,null,null,null,null,null,null,null,null,null,null,null,null,null,null,null,null,null,null,null,null,null,null,null,null,null,null,null,null,null,null,null,-4.5,1,0]
[37,36,24,{"$f":"INDEX(Players!B:B,MATCH(E43,Players!F:F,0))","v":"B"},"Mark Saunders",-5.2,1,-5.2,1,{"$f":"INDEX(Players!A:A,MATCH(E43,Players!F:F,0))","v":22.659999999999997},0,null,{"$f":"INDEX(Table!L:L,MATCH(E43,Table!F:F,0))","v":0},0,22.659999999999997,-5.2,1,null,null,null,null,null,null,null,null,null,null,null,null,null,null,null,null,null,null,null,null,null,null,null,null,null,null,null,null,null,null,null,null,null,null,null,null,null,null,null,null,null,null,null,null,null,null,null,null,null,null,null,null,null,null,null,null,null,null,-5.2,1,0]
[49,47,33,{"$f":"INDEX(Players!B:B,MATCH(E44,Players!F:F,0))","v":"C"},"Martin Molyneux",-7,0,-7,0,{"$f":"INDEX(Players!A:A,MATCH(E44,Players!F:F,0))","v":-22.494999999999997},0,null,{"$f":"INDEX(Table!L:L,MATCH(E44,Table!F:F,0))","v":0},0,-22.494999999999997,-7,0,null,null,null,null,null,null,null,null,null,null,null,null,null,null,null,null,null,null,null,null,null,null,null,null,null,null,null,null,null,null,null,null,null,null,null,null,null,null,null,null,null,null,null,null,null,null,null,null,null,null,null,null,null,null,null,null,null,null,-7,0,0]
[16,15,11,{"$f":"INDEX(Players!B:B,MATCH(E45,Players!F:F,0))","v":"D"},"Martin Tarbuck",-0.91249999999999964,2,-0.91249999999999964,2,{"$f":"INDEX(Players!A:A,MATCH(E45,Players!F:F,0))","v":-40},0,null,{"$f":"INDEX(Table!L:L,MATCH(E45,Table!F:F,0))","v":28.35},28.35,-11.649999999999999,-0.91249999999999964,2,null,null,null,null,null,null,null,null,null,null,null,null,null,null,null,null,null,null,null,null,null,null,null,null,null,null,null,null,null,null,null,null,null,null,null,null,null,null,null,null,null,null,null,null,null,null,null,null,null,null,null,null,null,null,null,null,null,null,-0.91249999999999964,2,0]
[9,8,16,{"$f":"INDEX(Players!B:B,MATCH(E46,Players!F:F,0))","v":"A"},"Mike Penk",2.9333333333333336,2,2.9333333333333336,2,{"$f":"INDEX(Players!A:A,MATCH(E46,Players!F:F,0))","v":5.4999999999999716E-2},0,null,{"$f":"INDEX(Table!L:L,MATCH(E46,Table!F:F,0))","v":43.74},43.74,43.795000000000002,2.9333333333333336,2,null,null,null,null,null,null,null,null,null,null,null,null,null,null,null,null,null,null,null,null,null,null,null,null,null,null,null,null,null,null,null,null,null,null,null,null,null,null,null,null,null,null,null,null,null,null,null,null,null,null,null,null,null,null,null,null,null,null,2.9333333333333336,2,0]
[26,25,50,{"$f":"INDEX(Players!B:B,MATCH(E47,Players!F:F,0))","v":"B"},"Mo Sudell",-4.5,1,-4.5,1,{"$f":"INDEX(Players!A:A,MATCH(E47,Players!F:F,0))","v":33.375},0,null,{"$f":"INDEX(Table!L:L,MATCH(E47,Table!F:F,0))","v":7.29},7.29,40.664999999999999,-4.5,1,null,null,null,null,null,null,null,null,null,null,null,null,null,null,null,null,null,null,null,null,null,null,null,null,null,null,null,null,null,null,null,null,null,null,null,null,null,null,null,null,null,null,null,null,null,null,null,null,null,null,null,null,null,null,null,null,null,null,-4.5,1,0]
[23,22,56,{"$f":"INDEX(Players!B:B,MATCH(E48,Players!F:F,0))","v":"C"},"Nick Blocksidge",-4.45,1,-4.45,1,{"$f":"INDEX(Players!A:A,MATCH(E48,Players!F:F,0))","v":-40},0,null,{"$f":"INDEX(Table!L:L,MATCH(E48,Table!F:F,0))","v":0},0,-40,-4.45,1,null,null,null,null,null,null,null,null,null,null,null,null,null,null,null,null,null,null,null,null,null,null,null,null,null,null,null,null,null,null,null,null,null,null,null,null,null,null,null,null,null,null,null,null,null,null,null,null,null,null,null,null,null,null,null,null,null,null,-4.45,1,0]
[39,37,5,{"$f":"INDEX(Players!B:B,MATCH(E49,Players!F:F,0))","v":"A"},"Nigel Heyes",-5.22,1,-5.22,1,{"$f":"INDEX(Players!A:A,MATCH(E49,Players!F:F,0))","v":63.75},0,null,{"$f":"INDEX(Table!L:L,MATCH(E49,Table!F:F,0))","v":0},0,63.75,-5.22,1,null,null,null,null,null,null,null,null,null,null,null,null,null,null,null,null,null,null,null,null,null,null,null,null,null,null,null,null,null,null,null,null,null,null,null,null,null,null,null,null,null,null,null,null,null,null,null,null,null,null,null,null,null,null,null,null,null,null,-5.22,1,0]
[49,47,65,{"$f":"INDEX(Players!B:B,MATCH(E50,Players!F:F,0))","v":"C"},"Oscar Jackson",-7,0,-7,0,{"$f":"INDEX(Players!A:A,MATCH(E50,Players!F:F,0))","v":-30},0,null,{"$f":"INDEX(Table!L:L,MATCH(E50,Table!F:F,0))","v":0},0,-30,-7,0,null,null,null,null,null,null,null,null,null,null,null,null,null,null,null,null,null,null,null,null,null,null,null,null,null,null,null,null,null,null,null,null,null,null,null,null,null,null,null,null,null,null,null,null,null,null,null,null,null,null,null,null,null,null,null,null,null,null,-7,0,0]
[23,22,3,{"$f":"INDEX(Players!B:B,MATCH(E51,Players!F:F,0))","v":"D"},"Paul Adderley",-4.45,1,-4.45,1,{"$f":"INDEX(Players!A:A,MATCH(E51,Players!F:F,0))","v":18.329999999999998},0,null,{"$f":"INDEX(Table!L:L,MATCH(E51,Table!F:F,0))","v":2.4300000000000002},2.4300000000000002,20.759999999999998,-4.45,1,null,null,null,null,null,null,null,null,null,null,null,null,null,null,null,null,null,null,null,null,null,null,null,null,null,null,null,null,null,null,null,null,null,null,null,null,null,null,null,null,null,null,null,null,null,null,null,null,null,null,null,null,null,null,null,null,null,null,-4.45,1,0]
[39,37,32,{"$f":"INDEX(Players!B:B,MATCH(E52,Players!F:F,0))","v":"B"},"Paul Allen",-5.22,1,-5.22,1,{"$f":"INDEX(Players!A:A,MATCH(E52,Players!F:F,0))","v":25.174999999999997},0,null,{"$f":"INDEX(Table!L:L,MATCH(E52,Table!F:F,0))","v":0},0,25.174999999999997,-5.22,1,null,null,null,null,null,null,null,null,null,null,null,null,null,null,null,null,null,null,null,null,null,null,null,null,null,null,null,null,null,null,null,null,null,null,null,null,null,null,null,null,null,null,null,null,null,null,null,null,null,null,null,null,null,null,null,null,null,null,-5.22,1,0]
[49,47,10,{"$f":"INDEX(Players!B:B,MATCH(E53,Players!F:F,0))","v":"D"},"Paul Barnes",-7,0,-7,0,{"$f":"INDEX(Players!A:A,MATCH(E53,Players!F:F,0))","v":-24.33},0,null,{"$f":"INDEX(Table!L:L,MATCH(E53,Table!F:F,0))","v":0},0,-24.33,-7,0,null,null,null,null,null,null,null,null,null,null,null,null,null,null,null,null,null,null,null,null,null,null,null,null,null,null,null,null,null,null,null,null,null,null,null,null,null,null,null,null,null,null,null,null,null,null,null,null,null,null,null,null,null,null,null,null,null,null,-7,0,0]
[6,6,26,{"$f":"INDEX(Players!B:B,MATCH(E54,Players!F:F,0))","v":"A"},"Paul Fairhurst",3.9540000000000006,2,3.9540000000000006,2,{"$f":"INDEX(Players!A:A,MATCH(E54,Players!F:F,0))","v":151.35499999999999},0,null,{"$f":"INDEX(Table!L:L,MATCH(E54,Table!F:F,0))","v":65.61},65.61,216.96499999999997,3.9540000000000006,2,null,null,null,null,null,null,null,null,null,null,null,null,null,null,null,null,null,null,null,null,null,null,null,null,null,null,null,null,null,null,null,null,null,null,null,null,null,null,null,null,null,null,null,null,null,null,null,null,null,null,null,null,null,null,null,null,null,null,3.9540000000000006,2,0]
[30,29,34,{"$f":"INDEX(Players!B:B,MATCH(E55,Players!F:F,0))","v":"B"},"Paul Fiddler",-4.95,1,-4.95,1,{"$f":"INDEX(Players!A:A,MATCH(E55,Players!F:F,0))","v":-10.93},0,null,{"$f":"INDEX(Table!L:L,MATCH(E55,Table!F:F,0))","v":0},0,-10.93,-4.95,1,null,null,null,null,null,null,null,null,null,null,null,null,null,null,null,null,null,null,null,null,null,null,null,null,null,null,null,null,null,null,null,null,null,null,null,null,null,null,null,null,null,null,null,null,null,null,null,null,null,null,null,null,null,null,null,null,null,null,-4.95,1,0]
[13,12,27,{"$f":"INDEX(Players!B:B,MATCH(E56,Players!F:F,0))","v":"C"},"Paul Ridgeway",0.53999999999999915,2,0.53999999999999915,2,{"$f":"INDEX(Players!A:A,MATCH(E56,Players!F:F,0))","v":-40},0,null,{"$f":"INDEX(Table!L:L,MATCH(E56,Table!F:F,0))","v":21.87},21.87,-18.13,0.53999999999999915,2,null,null,null,null,null,null,null,null,null,null,null,null,null,null,null,null,null,null,null,null,null,null,null,null,null,null,null,null,null,null,null,null,null,null,null,null,null,null,null,null,null,null,null,null,null,null,null,null,null,null,null,null,null,null,null,null,null,null,0.53999999999999915,2,0]
[49,47,7,{"$f":"INDEX(Players!B:B,MATCH(E57,Players!F:F,0))","v":"A"},"Pete Baron",-7,0,-7,0,{"$f":"INDEX(Players!A:A,MATCH(E57,Players!F:F,0))","v":-25},0,null,{"$f":"INDEX(Table!L:L,MATCH(E57,Table!F:F,0))","v":0},0,-25,-7,0,null,null,null,null,null,null,null,null,null,null,null,null,null,null,null,null,null,null,null,null,null,null,null,null,null,null,null,null,null,null,null,null,null,null,null,null,null,null,null,null,null,null,null,null,null,null,null,null,null,null,null,null,null,null,null,null,null,null,-7,0,0]
[17,16,61,{"$f":"INDEX(Players!B:B,MATCH(E58,Players!F:F,0))","v":"A"},"Phil Miller",-1.7000000000000002,2,-1.7000000000000002,2,{"$f":"INDEX(Players!A:A,MATCH(E58,Players!F:F,0))","v":51.265000000000001},0,null,{"$f":"INDEX(Table!L:L,MATCH(E58,Table!F:F,0))","v":0},0,51.265000000000001,-1.7000000000000002,2,null,null,null,null,null,null,null,null,null,null,null,null,null,null,null,null,null,null,null,null,null,null,null,null,null,null,null,null,null,null,null,null,null,null,null,null,null,null,null,null,null,null,null,null,null,null,null,null,null,null,null,null,null,null,null,null,null,null,-1.7000000000000002,2,0]
[47,45,53,{"$f":"INDEX(Players!B:B,MATCH(E59,Players!F:F,0))","v":"B"},"Rob England",-5.8571428571428577,1,-5.8571428571428577,1,{"$f":"INDEX(Players!A:A,MATCH(E59,Players!F:F,0))","v":-40},0,null,{"$f":"INDEX(Table!L:L,MATCH(E59,Table!F:F,0))","v":0},0,-40,-5.8571428571428577,1,null,null,null,null,null,null,null,null,null,null,null,null,null,null,null,null,null,null,null,null,null,null,null,null,null,null,null,null,null,null,null,null,null,null,null,null,null,null,null,null,null,null,null,null,null,null,null,null,null,null,null,null,null,null,null,null,null,null,-5.8571428571428577,1,0]
[19,18,19,{"$f":"INDEX(Players!B:B,MATCH(E60,Players!F:F,0))","v":"D"},"Sally Williams",-3.7,1,-3.7,1,{"$f":"INDEX(Players!A:A,MATCH(E60,Players!F:F,0))","v":-20.28},0,null,{"$f":"INDEX(Table!L:L,MATCH(E60,Table!F:F,0))","v":14.58},14.58,-5.7000000000000011,-3.7,1,null,null,null,null,null,null,null,null,null,null,null,null,null,null,null,null,null,null,null,null,null,null,null,null,null,null,null,null,null,null,null,null,null,null,null,null,null,null,null,null,null,null,null,null,null,null,null,null,null,null,null,null,null,null,null,null,null,null,-3.7,1,0]
[26,25,29,{"$f":"INDEX(Players!B:B,MATCH(E61,Players!F:F,0))","v":"D"},"Simon Greenhalgh",-4.5,1,-4.5,1,{"$f":"INDEX(Players!A:A,MATCH(E61,Players!F:F,0))","v":3.3500000000000014},0,null,{"$f":"INDEX(Table!L:L,MATCH(E61,Table!F:F,0))","v":0},0,3.3500000000000014,-4.5,1,null,null,null,null,null,null,null,null,null,null,null,null,null,null,null,null,null,null,null,null,null,null,null,null,null,null,null,null,null,null,null,null,null,null,null,null,null,null,null,null,null,null,null,null,null,null,null,null,null,null,null,null,null,null,null,null,null,null,-4.5,1,0]
[49,{"$f":"_xlfn.RANK.EQ(H62,thisweekscore,0)","v":47},31,{"$f":"INDEX(Players!B:B,MATCH(E62,Players!F:F,0))","v":"A"},"Ste Bentley",{"$f":"+P62+S62+V62+Y62+AB62+AE62+AH62+AK62+AN62+AQ62+AT62+AW62+AZ62+BC62+BF62+BI62+BL62+BO62+BR62+BU62","v":-7},0,-7,0,{"$f":"INDEX(Players!A:A,MATCH(E62,Players!F:F,0))","v":-28.97},{"$f":"R62+U62+X62+AA62+AD62+AG62+AJ62+AM62+AP62+AS62+AV62+AY62+BB62+BE62+BH62+BK62+BN62+BQ62+BT62+BW62","v":0},null,{"$f":"INDEX(Table!L:L,MATCH(E62,Table!F:F,0))","v":0},{"$f":"L62+K62+M62","v":0},{"$f":"N62+J62","v":-28.97},-7,0,null,null,null,null,null,null,null,null,null,null,null,null,null,null,null,null,null,null,null,null,null,null,null,null,null,null,null,null,null,null,null,null,null,null,null,null,null,null,null,null,null,null,null,null,null,null,null,null,null,null,null,null,null,null,null,null,null,null,{"$f":"BU62+BR62+BO62+BL62+BI62+BF62+BC62+AZ62+AW62+AT62+AQ62+AN62+AK62+AH62+AE62+AB62+Y62+V62+S62+P62","v":-7},0,0]
[1,1,23,{"$f":"INDEX(Players!B:B,MATCH(E63,Players!F:F,0))","v":"A"},"Stephen Barr",15.895363636363633,3,15.895363636363633,3,{"$f":"INDEX(Players!A:A,MATCH(E63,Players!F:F,0))","v":11.18},{"$f":"R63+U63+X63+AA63+AD63+AG63+AJ63+AM63+AP63+AS63+AV63+AY63+BB63+BE63+BH63+BK63+BN63+BQ63+BT63+BW63","v":10},null,{"$f":"INDEX(Table!L:L,MATCH(E63,Table!F:F,0))","v":127.575},{"$f":"L63+K63+M63","v":137.57499999999999},{"$f":"N63+J63","v":148.755},15.895363636363633,3,10,null,null,null,null,null,null,null,null,null,null,null,null,null,null,null,null,null,null,null,null,null,null,null,null,null,null,null,null,null,null,null,null,null,null,null,null,null,null,null,null,null,null,null,null,null,null,null,null,null,null,null,null,null,null,null,null,null,15.895363636363633,3,10]
[49,47,48,{"$f":"INDEX(Players!B:B,MATCH(E64,Players!F:F,0))","v":"A"},"Stephen Troop",-7,0,-7,0,{"$f":"INDEX(Players!A:A,MATCH(E64,Players!F:F,0))","v":44.844999999999999},{"$f":"R64+U64+X64+AA64+AD64+AG64+AJ64+AM64+AP64+AS64+AV64+AY64+BB64+BE64+BH64+BK64+BN64+BQ64+BT64+BW64","v":0},null,{"$f":"INDEX(Table!L:L,MATCH(E64,Table!F:F,0))","v":0},{"$f":"L64+K64+M64","v":0},{"$f":"N64+J64","v":44.844999999999999},-7,0,null,null,null,null,null,null,null,null,null,null,null,null,null,null,null,null,null,null,null,null,null,null,null,null,null,null,null,null,null,null,null,null,null,null,null,null,null,null,null,null,null,null,null,null,null,null,null,null,null,null,null,null,null,null,null,null,null,null,-7,0,0]
[4,4,39,{"$f":"INDEX(Players!B:B,MATCH(E65,Players!F:F,0))","v":"A"},"Steve Baxter",7.8089285714285701,3,7.8089285714285701,3,{"$f":"INDEX(Players!A:A,MATCH(E65,Players!F:F,0))","v":26.25},{"$f":"R65+U65+X65+AA65+AD65+AG65+AJ65+AM65+AP65+AS65+AV65+AY65+BB65+BE65+BH65+BK65+BN65+BQ65+BT65+BW65","v":5},null,{"$f":"INDEX(Table!L:L,MATCH(E65,Table!F:F,0))","v":91.125},{"$f":"L65+K65+M65","v":96.125},{"$f":"N65+J65","v":122.375},7.8089285714285701,3,5,null,null,null,null,null,null,null,null,null,null,null,null,null,null,null,null,null,null,null,null,null,null,null,null,null,null,null,null,null,null,null,null,null,null,null,null,null,null,null,null,null,null,null,null,null,null,null,null,null,null,null,null,null,null,null,null,null,7.8089285714285701,3,5]
[34,33,59,{"$f":"INDEX(Players!B:B,MATCH(E66,Players!F:F,0))","v":"B"},"Steve Carter",-5.1818181818181817,1,-5.1818181818181817,1,{"$f":"INDEX(Players!A:A,MATCH(E66,Players!F:F,0))","v":73.84},{"$f":"R66+U66+X66+AA66+AD66+AG66+AJ66+AM66+AP66+AS66+AV66+AY66+BB66+BE66+BH66+BK66+BN66+BQ66+BT66+BW66","v":0},null,{"$f":"INDEX(Table!L:L,MATCH(E66,Table!F:F,0))","v":0},{"$f":"L66+K66+M66","v":0},{"$f":"N66+J66","v":73.84},-5.1818181818181817,1,null,null,null,null,null,null,null,null,null,null,null,null,null,null,null,null,null,null,null,null,null,null,null,null,null,null,null,null,null,null,null,null,null,null,null,null,null,null,null,null,null,null,null,null,null,null,null,null,null,null,null,null,null,null,null,null,null,null,-5.1818181818181817,1,0]
[{"$f":"_xlfn.RANK.EQ(F67,totalscores,0)","v":6},6,59,{"$f":"INDEX(Players!B:B,MATCH(E67,Players!F:F,0))","v":"B"},"Tom Robinson",{"$f":"+P67+S67+V67+Y67+AB67+AE67+AH67+AK67+AN67+AQ67+AT67+AW67+AZ67+BC67+BF67+BI67+BL67+BO67+BR67+BU67","v":3.9540000000000006},{"$f":"+Q67+T67+W67+Z67+AC67+AF67+AI67+AL67+AO67+AR67+AU67+AX67+BA67+BD67+BG67+BJ67+BM67+BP67+BS67+BV67","v":2},3.9540000000000006,2,{"$f":"INDEX(Players!A:A,MATCH(E67,Players!F:F,0))","v":47.775000000000006},{"$f":"R67+U67+X67+AA67+AD67+AG67+AJ67+AM67+AP67+AS67+AV67+AY67+BB67+BE67+BH67+BK67+BN67+BQ67+BT67+BW67","v":0},null,{"$f":"INDEX(Table!L:L,MATCH(E67,Table!F:F,0))","v":29.16},{"$f":"L67+K67+M67","v":29.16},{"$f":"N67+J67","v":76.935000000000002},3.9540000000000006,2,null,null,null,null,null,null,null,null,null,null,null,null,null,null,null,null,null,null,null,null,null,null,null,null,null,null,null,null,null,null,null,null,null,null,null,null,null,null,null,null,null,null,null,null,null,null,null,null,null,null,null,null,null,null,null,null,null,null,{"$f":"BU67+BR67+BO67+BL67+BI67+BF67+BC67+AZ67+AW67+AT67+AQ67+AN67+AK67+AH67+AE67+AB67+Y67+V67+S67+P67","v":3.9540000000000006},{"$f":"BV67+BS67+BP67+BM67+BJ67+BG67+BD67+BA67+AX67+AU67+AR67+AO67+AL67+AI67+AF67+AC67+Z67+W67+T67+Q67","v":2},{"$f":"BW67+BT67+BQ67+BN67+BK67+BH67+BE67+BB67+AY67+AV67+AS67+AP67+AM67+AJ67+AG67+AD67+AA67+X67+U67+R67","v":0}]
[37,36,59,{"$f":"INDEX(Players!B:B,MATCH(E68,Players!F:F,0))","v":"D"},"Vinny Topping",-5.2,1,-5.2,1,{"$f":"INDEX(Players!A:A,MATCH(E68,Players!F:F,0))","v":55.069999999999993},0,null,{"$f":"INDEX(Table!L:L,MATCH(E68,Table!F:F,0))","v":0},0,55.069999999999993,-5.2,1,null,null,null,null,null,null,null,null,null,null,null,null,null,null,null,null,null,null,null,null,null,null,null,null,null,null,null,null,null,null,null,null,null,null,null,null,null,null,null,null,null,null,null,null,null,null,null,null,null,null,null,null,null,null,null,null,null,null,-5.2,1,0]
[{"$f":"_xlfn.RANK.EQ(F69,totalscores,0)","v":49},{"$f":"_xlfn.RANK.EQ(H69,thisweekscore,0)","v":47},59,{"$f":"INDEX(Players!B:B,MATCH(E69,Players!F:F,0))","v":"D"},"Andy Clucas",{"$f":"+P69+S69+V69+Y69+AB69+AE69+AH69+AK69+AN69+AQ69+AT69+AW69+AZ69+BC69+BF69+BI69+BL69+BO69+BR69+BU69","v":-7},{"$f":"+Q69+T69+W69+Z69+AC69+AF69+AI69+AL69+AO69+AR69+AU69+AX69+BA69+BD69+BG69+BJ69+BM69+BP69+BS69+BV69","v":0},-7,0,{"$f":"INDEX(Players!A:A,MATCH(E69,Players!F:F,0))","v":0},{"$f":"R69+U69+X69+AA69+AD69+AG69+AJ69+AM69+AP69+AS69+AV69+AY69+BB69+BE69+BH69+BK69+BN69+BQ69+BT69+BW69","v":0},null,{"$f":"INDEX(Table!L:L,MATCH(E69,Table!F:F,0))","v":0},{"$f":"L69+K69+M69","v":0},{"$f":"N69+J69","v":0},-7,0,null,null,null,null,null,null,null,null,null,null,null,null,null,null,null,null,null,null,null,null,null,null,null,null,null,null,null,null,null,null,null,null,null,null,null,null,null,null,null,null,null,null,null,null,null,null,null,null,null,null,null,null,null,null,null,null,null,null,{"$f":"BU69+BR69+BO69+BL69+BI69+BF69+BC69+AZ69+AW69+AT69+AQ69+AN69+AK69+AH69+AE69+AB69+Y69+V69+S69+P69","v":-7},{"$f":"BV69+BS69+BP69+BM69+BJ69+BG69+BD69+BA69+AX69+AU69+AR69+AO69+AL69+AI69+AF69+AC69+Z69+W69+T69+Q69","v":0},{"$f":"BW69+BT69+BQ69+BN69+BK69+BH69+BE69+BB69+AY69+AV69+AS69+AP69+AM69+AJ69+AG69+AD69+AA69+X69+U69+R69","v":0}]
[]
[null,null,null,null,null,null,null,null,null,{"$f":"SUM(J2:J66)","v":249.37499999999991},{"$f":"SUM(K2:K66)","v":25},{"$f":"SUM(L2:L66)","v":0},null,null,null,null,null,{"$f":"SUM(R2:R66)","v":25},null,null,{"$f":"SUM(U2:U66)","v":0},null,null,{"$f":"SUM(X2:X66)","v":0},null,null,{"$f":"SUM(AA2:AA66)","v":0},null,null,{"$f":"SUM(AD2:AD66)","v":0},null,null,{"$f":"SUM(AG2:AG66)","v":0},null,null,{"$f":"SUM(AJ2:AJ66)","v":0},null,null,{"$f":"SUM(AM2:AM66)","v":0},null,null,{"$f":"SUM(AP2:AP66)","v":0},null,null,{"$f":"SUM(AS2:AS66)","v":0},null,null,{"$f":"SUM(AV2:AV66)","v":0},null,null,{"$f":"SUM(AY2:AY66)","v":0},null,null,{"$f":"SUM(BB2:BB66)","v":0},null,null,{"$f":"SUM(BE2:BE66)","v":0},null,null,{"$f":"SUM(BH2:BH66)","v":0},null,null,{"$f":"SUM(BK2:BK66)","v":0},null,null,{"$f":"SUM(BN2:BN66)","v":0},null,null,{"$f":"SUM(BQ2:BQ66)","v":0},null,null,{"$f":"SUM(BT2:BT66)","v":0},null,null,{"$f":"SUM(BW2:BW66)","v":0},null,null,{"$f":"SUM(BZ2:BZ66)","v":25}]

{"sheet":"Pics","index":4,"n_rows":29,"n_cols":32,"rows_kept":29,"cut":false,"hidden":false,"merged":[[21,1,26,1],[1,3,1,7],[3,1,8,1],[9,1,14,1],[1,21,1,31],[2,21,2,22],[2,24,2,25],[2,27,2,28],[2,30,2,31],[15,1,20,1]]}
[null,"Menu!A1"]
[null,null,null,"Promotion/Prize Places (Top 6) In Division after Week 01",null,null,null,null,null,null,"Weekly Top 12 for Week 01",null,null,null,null,null,null,null,null,null,null,"League Standings after Week 01"]
[null,null,"Pos","Season\nPoints","Season\nCorrect","Name","Week\nPoints","Week\nCorrect",null,null,"Prize","Name","Points",null,null,"Division","Name","Correct","Points",null,null,"Division A",null,null,"Division B",null,null,"Division C",null,null,"Division D"]
["A1","Division A",{"$f":"Table!D2","v":1},{"$f":"INDEX(Table!G:G,MATCH($A4,Table!$B:$B,0))","v":15.895363636363633},{"$f":"INDEX(Table!H:H,MATCH($A4,Table!$B:$B,0))","v":3},{"$f":"INDEX(Table!F:F,MATCH($A4,Table!$B:$B,0))","v":"Stephen Barr"},{"$f":"INDEX(Table!I:I,MATCH($A4,Table!$B:$B,0))","v":15.895363636363633},{"$f":"INDEX(Table!J:J,MATCH($A4,Table!$B:$B,0))","v":3},null,1,10,{"$f":"INDEX(Weekly!E:E,MATCH($J4,Weekly!B:B,0))","v":"Stephen Barr"},{"$f":"INDEX(Weekly!H:H,MATCH($J4,Weekly!B:B,0))","v":15.895363636363633},null,1,null,null,null,null,null,"A1",{"$f":"INDEX(Table!$F:$F,MATCH(U4,Table!$B:$B,0))","v":"Stephen Barr"},{"$f":"INDEX(Table!$G:$G,MATCH(U4,Table!$B:$B,0))","v":15.895363636363633},"B1",{"$f":"INDEX(Table!$F:$F,MATCH(X4,Table!$B:$B,0))","v":"Alfie Davies"},{"$f":"INDEX(Table!$G:$G,MATCH(X4,Table!$B:$B,0))","v":13.225974025974025},"C1",{"$f":"INDEX(Table!$F:$F,MATCH(AA4,Table!$B:$B,0))","v":"Gareth Fallows"},{"$f":"INDEX(Table!$G:$G,MATCH(AA4,Table!$B:$B,0))","v":1.163636363636364},"D1",{"$f":"INDEX(Table!$F:$F,MATCH(AD4,Table!$B:$B,0))","v":"Martin Tarbuck"},{"$f":"INDEX(Table!$G:$G,MATCH(AD4,Table!$B:$B,0))","v":-0.91249999999999964}]
["A2",null,2,{"$f":"INDEX(Table!G:G,MATCH($A5,Table!$B:$B,0))","v":7.8089285714285701},{"$f":"INDEX(Table!H:H,MATCH($A5,Table!$B:$B,0))","v":3},{"$f":"INDEX(Table!F:F,MATCH($A5,Table!$B:$B,0))","v":"Steve Baxter"},{"$f":"INDEX(Table!I:I,MATCH($A5,Table!$B:$B,0))","v":7.8089285714285701},{"$f":"INDEX(Table!J:J,MATCH($A5,Table!$B:$B,0))","v":3},null,2,5,{"$f":"INDEX(Weekly!E:E,MATCH($J5,Weekly!B:B,0))","v":"Alfie Davies"},{"$f":"INDEX(Weekly!H:H,MATCH($J5,Weekly!B:B,0))","v":13.225974025974025},null,2,null,null,null,null,null,"A2",{"$f":"INDEX(Table!F:F,MATCH(U5,Table!$B:$B,0))","v":"Steve Baxter"},{"$f":"INDEX(Table!G:G,MATCH(U5,Table!$B:$B,0))","v":7.8089285714285701},"B2",{"$f":"INDEX(Table!$F:$F,MATCH(X5,Table!$B:$B,0))","v":"Alan Rogers"},{"$f":"INDEX(Table!$G:$G,MATCH(X5,Table!$B:$B,0))","v":9.4375},"C2",{"$f":"INDEX(Table!$F:$F,MATCH(AA5,Table!$B:$B,0))","v":"John Robinson"},{"$f":"INDEX(Table!$G:$G,MATCH(AA5,Table!$B:$B,0))","v":1.0181818181818194},"D2",{"$f":"INDEX(Table!$F:$F,MATCH(AD5,Table!$B:$B,0))","v":"Ian Davies"},{"$f":"INDEX(Table!$G:$G,MATCH(AD5,Table!$B:$B,0))","v":-3.6363636363636362}]
["A3",null,3,{"$f":"INDEX(Table!G:G,MATCH($A6,Table!$B:$B,0))","v":3.9540000000000006},{"$f":"INDEX(Table!H:H,MATCH($A6,Table!$B:$B,0))","v":2},{"$f":"INDEX(Table!F:F,MATCH($A6,Table!$B:$B,0))","v":"Paul Fairhurst"},{"$f":"INDEX(Table!I:I,MATCH($A6,Table!$B:$B,0))","v":3.9540000000000006},{"$f":"INDEX(Table!J:J,MATCH($A6,Table!$B:$B,0))","v":2},null,3,5,{"$f":"INDEX(Weekly!E:E,MATCH($J6,Weekly!B:B,0))","v":"Alan Rogers"},{"$f":"INDEX(Weekly!H:H,MATCH($J6,Weekly!B:B,0))","v":9.4375},null,3,null,null,null,null,null,"A3",{"$f":"INDEX(Table!F:F,MATCH(U6,Table!$B:$B,0))","v":"Paul Fairhurst"},{"$f":"INDEX(Table!G:G,MATCH(U6,Table!$B:$B,0))","v":3.9540000000000006},"B3",{"$f":"INDEX(Table!$F:$F,MATCH(X6,Table!$B:$B,0))","v":"Kei Lok Ma"},{"$f":"INDEX(Table!$G:$G,MATCH(X6,Table!$B:$B,0))","v":7.2649999999999988},"C3",{"$f":"INDEX(Table!$F:$F,MATCH(AA6,Table!$B:$B,0))","v":"Paul Ridgeway"},{"$f":"INDEX(Table!$G:$G,MATCH(AA6,Table!$B:$B,0))","v":0.53999999999999915},"D3",{"$f":"INDEX(Table!$F:$F,MATCH(AD6,Table!$B:$B,0))","v":"Sally Williams"},{"$f":"INDEX(Table!$G:$G,MATCH(AD6,Table!$B:$B,0))","v":-3.7}]
["A4",null,4,{"$f":"INDEX(Table!G:G,MATCH($A7,Table!$B:$B,0))","v":2.9333333333333336},{"$f":"INDEX(Table!H:H,MATCH($A7,Table!$B:$B,0))","v":2},{"$f":"INDEX(Table!F:F,MATCH($A7,Table!$B:$B,0))","v":"Mike Penk"},{"$f":"INDEX(Table!I:I,MATCH($A7,Table!$B:$B,0))","v":2.9333333333333336},{"$f":"INDEX(Table!J:J,MATCH($A7,Table!$B:$B,0))","v":2},null,4,5,{"$f":"INDEX(Weekly!E:E,MATCH($J7,Weekly!B:B,0))","v":"Steve Baxter"},{"$f":"INDEX(Weekly!H:H,MATCH($J7,Weekly!B:B,0))","v":7.8089285714285701},null,4,null,null,null,null,null,"A4",{"$f":"INDEX(Table!F:F,MATCH(U7,Table!$B:$B,0))","v":"Mike Penk"},{"$f":"INDEX(Table!G:G,MATCH(U7,Table!$B:$B,0))","v":2.9333333333333336},"B4",{"$f":"INDEX(Table!$F:$F,MATCH(X7,Table!$B:$B,0))","v":"Tom Robinson"},{"$f":"INDEX(Table!$G:$G,MATCH(X7,Table!$B:$B,0))","v":3.9540000000000006},"C4",{"$f":"INDEX(Table!$F:$F,MATCH(AA7,Table!$B:$B,0))","v":"Howard Bradley"},{"$f":"INDEX(Table!$G:$G,MATCH(AA7,Table!$B:$B,0))","v":0.13333333333333286},"D4",{"$f":"INDEX(Table!$F:$F,MATCH(AD7,Table!$B:$B,0))","v":"Liam Wah"},{"$f":"INDEX(Table!$G:$G,MATCH(AD7,Table!$B:$B,0))","v":-3.7}]
["A5",null,5,{"$f":"INDEX(Table!G:G,MATCH($A8,Table!$B:$B,0))","v":1.163636363636364},{"$f":"INDEX(Table!H:H,MATCH($A8,Table!$B:$B,0))","v":2},{"$f":"INDEX(Table!F:F,MATCH($A8,Table!$B:$B,0))","v":"Alick Rocca"},{"$f":"INDEX(Table!I:I,MATCH($A8,Table!$B:$B,0))","v":1.163636363636364},{"$f":"INDEX(Table!J:J,MATCH($A8,Table!$B:$B,0))","v":2},null,5,null,"John Evans",25.97,null,5,null,null,null,null,null,"A5",{"$f":"INDEX(Table!F:F,MATCH(U8,Table!$B:$B,0))","v":"Alick Rocca"},{"$f":"INDEX(Table!G:G,MATCH(U8,Table!$B:$B,0))","v":1.163636363636364},"B5",{"$f":"INDEX(Table!$F:$F,MATCH(X8,Table!$B:$B,0))","v":"Graham Miller"},{"$f":"INDEX(Table!$G:$G,MATCH(X8,Table!$B:$B,0))","v":3.4800000000000004},"C5",{"$f":"INDEX(Table!$F:$F,MATCH(AA8,Table!$B:$B,0))","v":"Charlie Griffiths"},{"$f":"INDEX(Table!$G:$G,MATCH(AA8,Table!$B:$B,0))","v":-4.0999999999999996},"D5",{"$f":"INDEX(Table!$F:$F,MATCH(AD8,Table!$B:$B,0))","v":"John Ronan"},{"$f":"INDEX(Table!$G:$G,MATCH(AD8,Table!$B:$B,0))","v":-3.9}]
["A6",null,6,{"$f":"INDEX(Table!G:G,MATCH($A9,Table!$B:$B,0))","v":-0.53333333333333321},{"$f":"INDEX(Table!H:H,MATCH($A9,Table!$B:$B,0))","v":2},{"$f":"INDEX(Table!F:F,MATCH($A9,Table!$B:$B,0))","v":"Mal Stott"},{"$f":"INDEX(Table!I:I,MATCH($A9,Table!$B:$B,0))","v":-0.53333333333333321},{"$f":"INDEX(Table!J:J,MATCH($A9,Table!$B:$B,0))","v":2},null,6,null,{"$f":"INDEX(Weekly!E:E,MATCH($J9,Weekly!B:B,0))","v":"Paul Fairhurst"},{"$f":"INDEX(Weekly!H:H,MATCH($J9,Weekly!B:B,0))","v":3.9540000000000006},null,6,null,null,null,null,null,"A6",{"$f":"INDEX(Table!F:F,MATCH(U9,Table!$B:$B,0))","v":"Mal Stott"},{"$f":"INDEX(Table!G:G,MATCH(U9,Table!$B:$B,0))","v":-0.53333333333333321},"B6",{"$f":"INDEX(Table!$F:$F,MATCH(X9,Table!$B:$B,0))","v":"Mo Sudell"},{"$f":"INDEX(Table!$G:$G,MATCH(X9,Table!$B:$B,0))","v":-4.5},"C6",{"$f":"INDEX(Table!$F:$F,MATCH(AA9,Table!$B:$B,0))","v":"Gerard Ventom"},{"$f":"INDEX(Table!$G:$G,MATCH(AA9,Table!$B:$B,0))","v":-4.45},"D6",{"$f":"INDEX(Table!$F:$F,MATCH(AD9,Table!$B:$B,0))","v":"Paul Adderley"},{"$f":"INDEX(Table!$G:$G,MATCH(AD9,Table!$B:$B,0))","v":-4.45}]
["B1","Division B",1,{"$f":"INDEX(Table!G:G,MATCH($A10,Table!$B:$B,0))","v":13.225974025974025},{"$f":"INDEX(Table!H:H,MATCH($A10,Table!$B:$B,0))","v":3},{"$f":"INDEX(Table!F:F,MATCH($A10,Table!$B:$B,0))","v":"Alfie Davies"},{"$f":"INDEX(Table!I:I,MATCH($A10,Table!$B:$B,0))","v":13.225974025974025},{"$f":"INDEX(Table!J:J,MATCH($A10,Table!$B:$B,0))","v":3},null,7,null,{"$f":"INDEX(Weekly!E:E,MATCH($J10,Weekly!B:B,0))","v":"Graham Miller"},{"$f":"INDEX(Weekly!H:H,MATCH($J10,Weekly!B:B,0))","v":3.4800000000000004},null,7,null,null,null,null,null,"A7",{"$f":"INDEX(Table!F:F,MATCH(U10,Table!$B:$B,0))","v":"Phil Miller"},{"$f":"INDEX(Table!G:G,MATCH(U10,Table!$B:$B,0))","v":-1.7000000000000002},"B7",{"$f":"INDEX(Table!$F:$F,MATCH(X10,Table!$B:$B,0))","v":"Lennie Bow"},{"$f":"INDEX(Table!$G:$G,MATCH(X10,Table!$B:$B,0))","v":-4.8461538461538467},"C7",{"$f":"INDEX(Table!$F:$F,MATCH(AA10,Table!$B:$B,0))","v":"Nick Blocksidge"},{"$f":"INDEX(Table!$G:$G,MATCH(AA10,Table!$B:$B,0))","v":-4.45},"D7",{"$f":"INDEX(Table!$F:$F,MATCH(AD10,Table!$B:$B,0))","v":"Simon Greenhalgh"},{"$f":"INDEX(Table!$G:$G,MATCH(AD10,Table!$B:$B,0))","v":-4.5}]
["B2",null,2,{"$f":"INDEX(Table!G:G,MATCH($A11,Table!$B:$B,0))","v":9.4375},{"$f":"INDEX(Table!H:H,MATCH($A11,Table!$B:$B,0))","v":2},{"$f":"INDEX(Table!F:F,MATCH($A11,Table!$B:$B,0))","v":"Alan Rogers"},{"$f":"INDEX(Table!I:I,MATCH($A11,Table!$B:$B,0))","v":9.4375},{"$f":"INDEX(Table!J:J,MATCH($A11,Table!$B:$B,0))","v":2},null,8,null,{"$f":"INDEX(Weekly!E:E,MATCH($J11,Weekly!B:B,0))","v":"Mike Penk"},{"$f":"INDEX(Weekly!H:H,MATCH($J11,Weekly!B:B,0))","v":2.9333333333333336},null,8,null,null,null,null,null,"A8",{"$f":"INDEX(Table!F:F,MATCH(U11,Table!$B:$B,0))","v":"Gareth Powell"},{"$f":"INDEX(Table!G:G,MATCH(U11,Table!$B:$B,0))","v":-4.95},"B8",{"$f":"INDEX(Table!$F:$F,MATCH(X11,Table!$B:$B,0))","v":"Paul Fiddler"},{"$f":"INDEX(Table!$G:$G,MATCH(X11,Table!$B:$B,0))","v":-4.95},"C8",{"$f":"INDEX(Table!$F:$F,MATCH(AA11,Table!$B:$B,0))","v":"Mark Bunn"},{"$f":"INDEX(Table!$G:$G,MATCH(AA11,Table!$B:$B,0))","v":-4.5},"D8",{"$f":"INDEX(Table!$F:$F,MATCH(AD11,Table!$B:$B,0))","v":"Chris Bow"},{"$f":"INDEX(Table!$G:$G,MATCH(AD11,Table!$B:$B,0))","v":-5.0909090909090908}]
["B3",null,3,{"$f":"INDEX(Table!G:G,MATCH($A12,Table!$B:$B,0))","v":7.2649999999999988},{"$f":"INDEX(Table!H:H,MATCH($A12,Table!$B:$B,0))","v":2},{"$f":"INDEX(Table!F:F,MATCH($A12,Table!$B:$B,0))","v":"Kei Lok Ma"},{"$f":"INDEX(Table!I:I,MATCH($A12,Table!$B:$B,0))","v":7.2649999999999988},{"$f":"INDEX(Table!J:J,MATCH($A12,Table!$B:$B,0))","v":2},null,9,null,{"$f":"INDEX(Weekly!E:E,MATCH($J12,Weekly!B:B,0))","v":"Alick Rocca"},{"$f":"INDEX(Weekly!H:H,MATCH($J12,Weekly!B:B,0))","v":1.163636363636364},null,9,null,null,null,null,null,"A9",{"$f":"INDEX(Table!F:F,MATCH(U12,Table!$B:$B,0))","v":"Barry Birchall"},{"$f":"INDEX(Table!G:G,MATCH(U12,Table!$B:$B,0))","v":-5.22},"B9",{"$f":"INDEX(Table!$F:$F,MATCH(X12,Table!$B:$B,0))","v":"Dave Orrell"},{"$f":"INDEX(Table!$G:$G,MATCH(X12,Table!$B:$B,0))","v":-5.0909090909090908},"C9",{"$f":"INDEX(Table!$F:$F,MATCH(AA12,Table!$B:$B,0))","v":"David Dunn"},{"$f":"INDEX(Table!$G:$G,MATCH(AA12,Table!$B:$B,0))","v":-5.1818181818181817},"D9",{"$f":"INDEX(Table!$F:$F,MATCH(AD12,Table!$B:$B,0))","v":"Vinny Topping"},{"$f":"INDEX(Table!$G:$G,MATCH(AD12,Table!$B:$B,0))","v":-5.2}]
["B4",null,4,{"$f":"INDEX(Table!G:G,MATCH($A13,Table!$B:$B,0))","v":3.9540000000000006},{"$f":"INDEX(Table!H:H,MATCH($A13,Table!$B:$B,0))","v":2},{"$f":"INDEX(Table!F:F,MATCH($A13,Table!$B:$B,0))","v":"Tom Robinson"},{"$f":"INDEX(Table!I:I,MATCH($A13,Table!$B:$B,0))","v":3.9540000000000006},{"$f":"INDEX(Table!J:J,MATCH($A13,Table!$B:$B,0))","v":2},null,10,null,"Gareth Fellows",1.1599999999999999,null,10,null,null,null,null,null,"A10",{"$f":"INDEX(Table!F:F,MATCH(U13,Table!$B:$B,0))","v":"Nigel Heyes"},{"$f":"INDEX(Table!G:G,MATCH(U13,Table!$B:$B,0))","v":-5.22},"B10",{"$f":"INDEX(Table!$F:$F,MATCH(X13,Table!$B:$B,0))","v":"Steve Carter"},{"$f":"INDEX(Table!$G:$G,MATCH(X13,Table!$B:$B,0))","v":-5.1818181818181817},"C10",{"$f":"INDEX(Table!$F:$F,MATCH(AA13,Table!$B:$B,0))","v":"Antony Robinson"},{"$f":"INDEX(Table!$G:$G,MATCH(AA13,Table!$B:$B,0))","v":-5.8571428571428577},"D10",{"$f":"INDEX(Table!$F:$F,MATCH(AD13,Table!$B:$B,0))","v":"Gareth McGuire"},{"$f":"INDEX(Table!$G:$G,MATCH(AD13,Table!$B:$B,0))","v":-5.3333333333333339}]
["B5",null,5,{"$f":"INDEX(Table!G:G,MATCH($A14,Table!$B:$B,0))","v":3.4800000000000004},{"$f":"INDEX(Table!H:H,MATCH($A14,Table!$B:$B,0))","v":2},{"$f":"INDEX(Table!F:F,MATCH($A14,Table!$B:$B,0))","v":"Graham Miller"},{"$f":"INDEX(Table!I:I,MATCH($A14,Table!$B:$B,0))","v":3.4800000000000004},{"$f":"INDEX(Table!J:J,MATCH($A14,Table!$B:$B,0))","v":2},null,11,null,{"$f":"INDEX(Weekly!E:E,MATCH($J14,Weekly!B:B,0))","v":"John Robinson"},{"$f":"INDEX(Weekly!H:H,MATCH($J14,Weekly!B:B,0))","v":1.0181818181818194},null,11,null,null,null,null,null,"A11",{"$f":"INDEX(Table!F:F,MATCH(U14,Table!$B:$B,0))","v":"Andy Charleston"},{"$f":"INDEX(Table!G:G,MATCH(U14,Table!$B:$B,0))","v":-5.73},"B11",{"$f":"INDEX(Table!$F:$F,MATCH(X14,Table!$B:$B,0))","v":"Andy White"},{"$f":"INDEX(Table!$G:$G,MATCH(X14,Table!$B:$B,0))","v":-5.1818181818181817},"C11",{"$f":"INDEX(Table!$F:$F,MATCH(AA14,Table!$B:$B,0))","v":"Martin Molyneux"},{"$f":"INDEX(Table!$G:$G,MATCH(AA14,Table!$B:$B,0))","v":-7},"D11",{"$f":"INDEX(Table!$F:$F,MATCH(AD14,Table!$B:$B,0))","v":"Lewis Buckley"},{"$f":"INDEX(Table!$G:$G,MATCH(AD14,Table!$B:$B,0))","v":-5.3333333333333339}]
["B6",null,6,{"$f":"INDEX(Table!G:G,MATCH($A15,Table!$B:$B,0))","v":-4.5},{"$f":"INDEX(Table!H:H,MATCH($A15,Table!$B:$B,0))","v":1},{"$f":"INDEX(Table!F:F,MATCH($A15,Table!$B:$B,0))","v":"Mo Sudell"},{"$f":"INDEX(Table!I:I,MATCH($A15,Table!$B:$B,0))","v":-4.5},{"$f":"INDEX(Table!J:J,MATCH($A15,Table!$B:$B,0))","v":1},null,12,null,{"$f":"INDEX(Weekly!E:E,MATCH($J15,Weekly!B:B,0))","v":"Paul Ridgeway"},{"$f":"INDEX(Weekly!H:H,MATCH($J15,Weekly!B:B,0))","v":0.53999999999999915},null,12,null,null,null,null,null,"A12",{"$f":"INDEX(Table!F:F,MATCH(U15,Table!$B:$B,0))","v":"Chris Luck"},{"$f":"INDEX(Table!G:G,MATCH(U15,Table!$B:$B,0))","v":-7},"B12",{"$f":"INDEX(Table!$F:$F,MATCH(X15,Table!$B:$B,0))","v":"Mark Saunders"},{"$f":"INDEX(Table!$G:$G,MATCH(X15,Table!$B:$B,0))","v":-5.2},"C12",{"$f":"INDEX(Table!$F:$F,MATCH(AA15,Table!$B:$B,0))","v":"Oscar Jackson"},{"$f":"INDEX(Table!$G:$G,MATCH(AA15,Table!$B:$B,0))","v":-7},"D12",{"$f":"INDEX(Table!$F:$F,MATCH(AD15,Table!$B:$B,0))","v":"Paul Barnes"},{"$f":"INDEX(Table!$G:$G,MATCH(AD15,Table!$B:$B,0))","v":-7}]
["C1","Division C",1,{"$f":"INDEX(Table!G:G,MATCH($A16,Table!$B:$B,0))","v":1.163636363636364},{"$f":"INDEX(Table!H:H,MATCH($A16,Table!$B:$B,0))","v":2},{"$f":"INDEX(Table!F:F,MATCH($A16,Table!$B:$B,0))","v":"Gareth Fallows"},{"$f":"INDEX(Table!I:I,MATCH($A16,Table!$B:$B,0))","v":1.163636363636364},{"$f":"INDEX(Table!J:J,MATCH($A16,Table!$B:$B,0))","v":2},null,null,null,null,null,null,13,null,null,null,null,null,"A13",{"$f":"INDEX(Table!F:F,MATCH(U16,Table!$B:$B,0))","v":"Stephen Troop"},{"$f":"INDEX(Table!G:G,MATCH(U16,Table!$B:$B,0))","v":-7},"B13",{"$f":"INDEX(Table!$F:$F,MATCH(X16,Table!$B:$B,0))","v":"Paul Allen"},{"$f":"INDEX(Table!$G:$G,MATCH(X16,Table!$B:$B,0))","v":-5.22},"C13",{"$f":"INDEX(Table!$F:$F,MATCH(AA16,Table!$B:$B,0))","v":"Chris Townsend"},{"$f":"INDEX(Table!$G:$G,MATCH(AA16,Table!$B:$B,0))","v":-7},"D13",{"$f":"INDEX(Table!$F:$F,MATCH(AD16,Table!$B:$B,0))","v":"Aaron Sudell"},{"$f":"INDEX(Table!$G:$G,MATCH(AD16,Table!$B:$B,0))","v":-7}]
["C2",null,2,{"$f":"INDEX(Table!G:G,MATCH($A17,Table!$B:$B,0))","v":1.0181818181818194},{"$f":"INDEX(Table!H:H,MATCH($A17,Table!$B:$B,0))","v":2},{"$f":"INDEX(Table!F:F,MATCH($A17,Table!$B:$B,0))","v":"John Robinson"},{"$f":"INDEX(Table!I:I,MATCH($A17,Table!$B:$B,0))","v":1.0181818181818194},{"$f":"INDEX(Table!J:J,MATCH($A17,Table!$B:$B,0))","v":2},null,null,"Popular bets",null,null,null,14,null,null,null,null,null,"A14",{"$f":"INDEX(Table!F:F,MATCH(U17,Table!$B:$B,0))","v":"Kevin Carter"},{"$f":"INDEX(Table!G:G,MATCH(U17,Table!$B:$B,0))","v":-7},"B14",{"$f":"INDEX(Table!$F:$F,MATCH(X17,Table!$B:$B,0))","v":"Chris Griffin"},{"$f":"INDEX(Table!$G:$G,MATCH(X17,Table!$B:$B,0))","v":-5.22},"C14",{"$f":"INDEX(Table!$F:$F,MATCH(AA17,Table!$B:$B,0))","v":"Jack Walsh"},{"$f":"INDEX(Table!$G:$G,MATCH(AA17,Table!$B:$B,0))","v":-7},"D14",{"$f":"INDEX(Table!$F:$F,MATCH(AD17,Table!$B:$B,0))","v":"Dan Baxter"},{"$f":"INDEX(Table!$G:$G,MATCH(AD17,Table!$B:$B,0))","v":-7}]
["C3",null,3,{"$f":"INDEX(Table!G:G,MATCH($A18,Table!$B:$B,0))","v":0.53999999999999915},{"$f":"INDEX(Table!H:H,MATCH($A18,Table!$B:$B,0))","v":2},{"$f":"INDEX(Table!F:F,MATCH($A18,Table!$B:$B,0))","v":"Paul Ridgeway"},{"$f":"INDEX(Table!I:I,MATCH($A18,Table!$B:$B,0))","v":0.53999999999999915},{"$f":"INDEX(Table!J:J,MATCH($A18,Table!$B:$B,0))","v":2},null,null,"Top Nap ↑","Portsmouth (4/6) / Cardiff (78/100)",6,null,15,null,null,null,null,null,"A15",{"$f":"INDEX(Table!F:F,MATCH(U18,Table!$B:$B,0))","v":"Ste Bentley"},{"$f":"INDEX(Table!G:G,MATCH(U18,Table!$B:$B,0))","v":-7},"B15",{"$f":"INDEX(Table!$F:$F,MATCH(X18,Table!$B:$B,0))","v":"John Evans"},{"$f":"INDEX(Table!$G:$G,MATCH(X18,Table!$B:$B,0))","v":-5.3333333333333339},"C15",{"$f":"INDEX(Table!$F:$F,MATCH(AA18,Table!$B:$B,0))","v":"Graeme Holmes"},{"$f":"INDEX(Table!$G:$G,MATCH(AA18,Table!$B:$B,0))","v":-7},"D15",{"$f":"INDEX(Table!$F:$F,MATCH(AD18,Table!$B:$B,0))","v":"Ashley Houghton"},{"$f":"INDEX(Table!$G:$G,MATCH(AD18,Table!$B:$B,0))","v":-7}]
["C4",null,4,{"$f":"INDEX(Table!G:G,MATCH($A19,Table!$B:$B,0))","v":0.13333333333333286},{"$f":"INDEX(Table!H:H,MATCH($A19,Table!$B:$B,0))","v":2},{"$f":"INDEX(Table!F:F,MATCH($A19,Table!$B:$B,0))","v":"Howard Bradley"},{"$f":"INDEX(Table!I:I,MATCH($A19,Table!$B:$B,0))","v":0.13333333333333286},{"$f":"INDEX(Table!J:J,MATCH($A19,Table!$B:$B,0))","v":2},null,null,"Coupon-Buster ↓","Watford (10/11)",11,null,16,null,null,null,null,null,"A16",{"$f":"INDEX(Table!F:F,MATCH(U19,Table!$B:$B,0))","v":"Pete Baron"},{"$f":"INDEX(Table!G:G,MATCH(U19,Table!$B:$B,0))","v":-7},"B16",{"$f":"INDEX(Table!$F:$F,MATCH(X19,Table!$B:$B,0))","v":"Rob England"},{"$f":"INDEX(Table!$G:$G,MATCH(X19,Table!$B:$B,0))","v":-5.8571428571428577},"C16",{"$f":"INDEX(Table!$F:$F,MATCH(AA19,Table!$B:$B,0))","v":"Ben Rosser"},{"$f":"INDEX(Table!$G:$G,MATCH(AA19,Table!$B:$B,0))","v":-7},"D16",{"$f":"INDEX(Table!$F:$F,MATCH(AD19,Table!$B:$B,0))","v":"James Bell"},{"$f":"INDEX(Table!$G:$G,MATCH(AD19,Table!$B:$B,0))","v":-7}]
["C5",null,5,{"$f":"INDEX(Table!G:G,MATCH($A20,Table!$B:$B,0))","v":-4.0999999999999996},{"$f":"INDEX(Table!H:H,MATCH($A20,Table!$B:$B,0))","v":1},{"$f":"INDEX(Table!F:F,MATCH($A20,Table!$B:$B,0))","v":"Charlie Griffiths"},{"$f":"INDEX(Table!I:I,MATCH($A20,Table!$B:$B,0))","v":-4.0999999999999996},{"$f":"INDEX(Table!J:J,MATCH($A20,Table!$B:$B,0))","v":1},null,null,"Long Shot","Grimsby draw (5/2) - Alan Rogers",1,null,17,null,null,null,null,null,null,null,null,null,null,null,null,null,null,"D17",{"$f":"INDEX(Table!$F:$F,MATCH(AD20,Table!$B:$B,0))","v":"Dave Bell"},{"$f":"INDEX(Table!$G:$G,MATCH(AD20,Table!$B:$B,0))","v":-7}]
["C6",null,6,{"$f":"INDEX(Table!G:G,MATCH($A21,Table!$B:$B,0))","v":-4.45},{"$f":"INDEX(Table!H:H,MATCH($A21,Table!$B:$B,0))","v":1},{"$f":"INDEX(Table!F:F,MATCH($A21,Table!$B:$B,0))","v":"Gerard Ventom"},{"$f":"INDEX(Table!I:I,MATCH($A21,Table!$B:$B,0))","v":-4.45},{"$f":"INDEX(Table!J:J,MATCH($A21,Table!$B:$B,0))","v":1},null,null,"Bravest Max!","Dave Bell (0 in)",{"$f":"MAX(Picks!AI:AI)","v":3112},null,18,null,null,null,null,null,null,null,null,null,null,null,null,null,null,"D18",{"$f":"INDEX(Table!$F:$F,MATCH(AD21,Table!$B:$B,0))","v":"Joel Bent"},{"$f":"INDEX(Table!$G:$G,MATCH(AD21,Table!$B:$B,0))","v":-7}]
["D1","Division D",1,{"$f":"INDEX(Table!G:G,MATCH($A22,Table!$B:$B,0))","v":-0.91249999999999964},{"$f":"INDEX(Table!H:H,MATCH($A22,Table!$B:$B,0))","v":2},{"$f":"INDEX(Table!F:F,MATCH($A22,Table!$B:$B,0))","v":"Martin Tarbuck"},{"$f":"INDEX(Table!I:I,MATCH($A22,Table!$B:$B,0))","v":-0.91249999999999964},{"$f":"INDEX(Table!J:J,MATCH($A22,Table!$B:$B,0))","v":2},null,null,"Mardest Max!","Steve Baxter (3 in)",{"$f":"MIN(Picks!AI:AI)","v":7.8089285714285701},null,19,null,null,null,null,null,null,null,null,null,null,null,null,null,null,"D19",{"$f":"INDEX(Table!$F:$F,MATCH(AD22,Table!$B:$B,0))","v":"Alan White"},{"$f":"INDEX(Table!$G:$G,MATCH(AD22,Table!$B:$B,0))","v":-7}]
["D2",null,2,{"$f":"INDEX(Table!G:G,MATCH($A23,Table!$B:$B,0))","v":-3.6363636363636362},{"$f":"INDEX(Table!H:H,MATCH($A23,Table!$B:$B,0))","v":1},{"$f":"INDEX(Table!F:F,MATCH($A23,Table!$B:$B,0))","v":"Ian Davies"},{"$f":"INDEX(Table!I:I,MATCH($A23,Table!$B:$B,0))","v":-3.6363636363636362},{"$f":"INDEX(Table!J:J,MATCH($A23,Table!$B:$B,0))","v":1},null,null,null,null,null,null,20,null,null,null,null,null,null,null,null,null,null,null,null,null,null,"D20",{"$f":"INDEX(Table!$F:$F,MATCH(AD23,Table!$B:$B,0))","v":"Andy Clucas"},{"$f":"INDEX(Table!$G:$G,MATCH(AD23,Table!$B:$B,0))","v":-7}]
["D3",null,3,{"$f":"INDEX(Table!G:G,MATCH($A24,Table!$B:$B,0))","v":-3.7},{"$f":"INDEX(Table!H:H,MATCH($A24,Table!$B:$B,0))","v":1},{"$f":"INDEX(Table!F:F,MATCH($A24,Table!$B:$B,0))","v":"Sally Williams"},{"$f":"INDEX(Table!I:I,MATCH($A24,Table!$B:$B,0))","v":-3.7},{"$f":"INDEX(Table!J:J,MATCH($A24,Table!$B:$B,0))","v":1},null,null,"How did we all do?"]
["D4",null,4,{"$f":"INDEX(Table!G:G,MATCH($A25,Table!$B:$B,0))","v":-3.7},{"$f":"INDEX(Table!H:H,MATCH($A25,Table!$B:$B,0))","v":1},{"$f":"INDEX(Table!F:F,MATCH($A25,Table!$B:$B,0))","v":"Liam Wah"},{"$f":"INDEX(Table!I:I,MATCH($A25,Table!$B:$B,0))","v":-3.7},{"$f":"INDEX(Table!J:J,MATCH($A25,Table!$B:$B,0))","v":1},null,null,{"$f":"'3of3'!$B$5","v":3},"got 3 correct"]
["D5",null,5,{"$f":"INDEX(Table!G:G,MATCH($A26,Table!$B:$B,0))","v":-3.9},{"$f":"INDEX(Table!H:H,MATCH($A26,Table!$B:$B,0))","v":1},{"$f":"INDEX(Table!F:F,MATCH($A26,Table!$B:$B,0))","v":"John Ronan"},{"$f":"INDEX(Table!I:I,MATCH($A26,Table!$B:$B,0))","v":-3.9},{"$f":"INDEX(Table!J:J,MATCH($A26,Table!$B:$B,0))","v":1},null,null,{"$f":"'3of3'!$B$6","v":14},"got 2 correct"]
["D6",null,6,{"$f":"INDEX(Table!G:G,MATCH($A27,Table!$B:$B,0))","v":-4.45},{"$f":"INDEX(Table!H:H,MATCH($A27,Table!$B:$B,0))","v":1},{"$f":"INDEX(Table!F:F,MATCH($A27,Table!$B:$B,0))","v":"Paul Adderley"},{"$f":"INDEX(Table!I:I,MATCH($A27,Table!$B:$B,0))","v":-4.45},{"$f":"INDEX(Table!J:J,MATCH($A27,Table!$B:$B,0))","v":1},null,null,{"$f":"'3of3'!$B$7","v":31},"got 1 correct"]
[null,null,null,null,null,null,null,null,null,null,{"$f":"'3of3'!$B$8","v":20},"got 0 correct, of which…"]
[null,null,null,null,null,null,null,null,null,null,4,"… failed to submit"]

{"sheet":"Match","index":5,"n_rows":47,"n_cols":27,"rows_kept":47,"cut":false,"hidden":false,"merged":[]}
["Date","Sequence","Comp","Home","Away","Home\nscore","Away\nscore","H1","H2","D1","D2","A1","A2","Off","Home Trim","Away Trim","HS Trim ","AS Trim","Match Odds","Results","Odds","Home odds","Draw Odds","Away Odds","Home Dec","Draw Dec","Away Dec"]
["2019-08-09",10,"Premier","Liverpool","Norwich",4,1,1,7,7,1,18,1,null,{"$f":"TRIM(D2)","v":"Liverpool"},{"$f":"TRIM(E2)","v":"Norwich"},{"$f":"TRIM(F2)","v":"4"},{"$f":"TRIM(G2)","v":"1"},{"$f":"IF(A2=\"\",\"\",O2&\"  v  \"&P2&\"   \"&U2)","v":"Liverpool  v  Norwich   1/7  7/1  18/1"},{"$f":"O2&\" \"&Q2&\"-\"&R2&\" \"&P2&\" \"&N2","v":"Liverpool 4-1 Norwich "},{"$f":"V2&\"  \"&W2&\"  \"&X2","v":"1/7  7/1  18/1"},{"$f":"CONCATENATE(H2,\"/\",I2)","v":"1/7"},{"$f":"CONCATENATE(J2,\"/\",K2)","v":"7/1"},{"$f":"CONCATENATE(L2,\"/\",M2)","v":"18/1"},{"$f":"IF(A2=\"\",\"\",1+(H2/I2))","v":1.1428571428571428},{"$f":"IF(C2=\"\",\"\",1+(J2/K2))","v":8},{"$f":"IF(D2=\"\",\"\",1+(L2/M2))","v":19}]
["2019-08-10",10,"Premier","Bournemouth","Sheff U",1,1,10,11,13,5,3,1,null,"Bournemouth","Sheff U","1","1","Bournemouth  v  Sheff U   10/11  13/5  3/1","Bournemouth 1-1 Sheff U ",{"$f":"V3&\"  \"&W3&\"  \"&X3","v":"10/11  13/5  3/1"},"10/11","13/5","3/1",{"$f":"IF(A3=\"\",\"\",1+(H3/I3))","v":1.9090909090909092},{"$f":"IF(C3=\"\",\"\",1+(J3/K3))","v":3.6},{"$f":"IF(D3=\"\",\"\",1+(L3/M3))","v":4}]
["2019-08-10",10,"Premier","Burnley","Southampton",3,0,31,20,23,10,9,5,null,"Burnley","Southampton","3","0","Burnley  v  Southampton   31/20  23/10  9/5","Burnley 3-0 Southampton ","31/20  23/10  9/5","31/20","23/10","9/5",2.5499999999999998,3.3,2.8]
["2019-08-10",10,"Premier","Palace","Everton",0,0,19,10,23,10,6,4,null,"Palace","Everton","0","0","Palace  v  Everton   19/10  23/10  6/4","Palace 0-0 Everton ","19/10  23/10  6/4","19/10","23/10","6/4",2.9,3.3,2.5]
["2019-08-10",10,"Premier","Spurs","Villa",3,1,27,100,24,5,10,1,null,"Spurs","Villa","3","1","Spurs  v  Villa   27/100  24/5  10/1","Spurs 3-1 Villa ","27/100  24/5  10/1","27/100","24/5","10/1",1.27,5.8,11]
["2019-08-10",10,"Premier","Watford","Brighton",0,3,10,11,12,5,10,3,null,{"$f":"TRIM(D7)","v":"Watford"},"Brighton","0","3","Watford  v  Brighton   10/11  12/5  10/3","Watford 0-3 Brighton ","10/11  12/5  10/3","10/11","12/5","10/3",1.9090909090909092,3.4,4.3333333333333339]
["2019-08-10",10,"Premier","West Ham","Man C",0,5,11,1,5,1,1,4,null,"West Ham","Man C","0","5","West Ham  v  Man C   11/1  5/1  1/4","West Ham 0-5 Man C ","11/1  5/1  1/4","11/1","5/1","1/4",12,6,1.25]
["2019-08-10",11,"Champ","Birmingham","Bristol C",1,1,27,20,23,10,21,10,null,"Birmingham","Bristol C","1","1","Birmingham  v  Bristol C   27/20  23/10  21/10","Birmingham 1-1 Bristol C ","27/20  23/10  21/10","27/20","23/10","21/10",2.35,3.3,3.1]
["2019-08-10",11,"Champ","Cardiff","Luton",2,1,78,100,13,5,19,5,null,"Cardiff","Luton","2","1","Cardiff  v  Luton   78/100  13/5  19/5","Cardiff 2-1 Luton ","78/100  13/5  19/5","78/100","13/5","19/5",1.78,3.6,4.8]
["2019-08-10",11,"Champ","Charlton","Stoke",3,1,21,10,12,5,13,10,null,"Charlton","Stoke","3","1","Charlton  v  Stoke   21/10  12/5  13/10","Charlton 3-1 Stoke ","21/10  12/5  13/10","21/10","12/5","13/10",3.1,3.4,2.2999999999999998]
["2019-08-10",11,"Champ","Derby","Swansea",0,0,23,20,12,5,12,5,null,"Derby","Swansea","0","0","Derby  v  Swansea   23/20  12/5  12/5","Derby 0-0 Swansea ","23/20  12/5  12/5","23/20","12/5","12/5",2.15,3.4,3.4]
["2019-08-10",11,"Champ","Fulham","Blackburn",2,0,4,5,11,4,17,5,null,"Fulham","Blackburn","2","0","Fulham  v  Blackburn   4/5  11/4  17/5","Fulham 2-0 Blackburn ","4/5  11/4  17/5","4/5","11/4","17/5",1.8,3.75,4.4000000000000004]
["2019-08-10",11,"Champ","Hull","Reading",2,1,21,20,12,5,27,10,null,"Hull","Reading","2","1","Hull  v  Reading   21/20  12/5  27/10","Hull 2-1 Reading ","21/20  12/5  27/10","21/20","12/5","27/10",2.0499999999999998,3.4,3.7]
["2019-08-10",11,"Champ","Leeds","Forest",1,1,7,10,14,5,4,1,null,"Leeds","Forest","1","1","Leeds  v  Forest   7/10  14/5  4/1","Leeds 1-1 Forest ","7/10  14/5  4/1","7/10","14/5","4/1",1.7,3.8,5]
["2019-08-10",11,"Champ","Middlesbro","Brentford",0,1,13,10,12,5,21,10,null,"Middlesbro","Brentford","0","1","Middlesbro  v  Brentford   13/10  12/5  21/10","Middlesbro 0-1 Brentford ","13/10  12/5  21/10","13/10","12/5","21/10",2.2999999999999998,3.4,3.1]
["2019-08-10",11,"Champ","Preston","Wigan",3,0,11,10,23,10,27,10,null,"Preston","Wigan","3","0","Preston  v  Wigan   11/10  23/10  27/10","Preston 3-0 Wigan ","11/10  23/10  27/10","11/10","23/10","27/10",2.1,3.3,3.7]
["2019-08-10",11,"Champ","QPR","Huddersfield",1,1,31,20,23,10,9,5,null,"QPR","Huddersfield","1","1","QPR  v  Huddersfield   31/20  23/10  9/5","QPR 1-1 Huddersfield ","31/20  23/10  9/5","31/20","23/10","9/5",2.5499999999999998,3.3,2.8]
["2019-08-10",11,"Champ","Sheff W","Barnsley",2,0,21,20,12,5,27,10,null,"Sheff W","Barnsley","2","0","Sheff W  v  Barnsley   21/20  12/5  27/10","Sheff W 2-0 Barnsley ","21/20  12/5  27/10","21/20","12/5","27/10",2.0499999999999998,3.4,3.7]
["2019-08-10",11,"Champ","West Brom","Millwall",1,1,7,10,11,4,17,4,null,"West Brom","Millwall","1","1","West Brom  v  Millwall   7/10  11/4  17/4","West Brom 1-1 Millwall ","7/10  11/4  17/4","7/10","11/4","17/4",1.7,3.75,5.25]
["2019-08-10",12,"League 1","Bristol R","Wycombe",0,0,6,5,23,10,21,10,null,"Bristol R","Wycombe","0","0","Bristol R  v  Wycombe   6/5  23/10  21/10","Bristol R 0-0 Wycombe ","6/5  23/10  21/10","6/5","23/10","21/10",2.2000000000000002,3.3,3.1]
["2019-08-10",12,"League 1","Fleetwood","Wimbledon",2,1,10,11,23,10,3,1,null,"Fleetwood","Wimbledon","2","1","Fleetwood  v  Wimbledon   10/11  23/10  3/1","Fleetwood 2-1 Wimbledon ","10/11  23/10  3/1","10/11","23/10","3/1",1.9090909090909092,3.3,4]
["2019-08-10",12,"League 1","Gillingham","Burton",1,2,13,8,23,10,6,4,null,"Gillingham","Burton","1","2","Gillingham  v  Burton   13/8  23/10  6/4","Gillingham 1-2 Burton ","13/8  23/10  6/4","13/8","23/10","6/4",2.625,3.3,2.5]
["2019-08-10",12,"League 1","Ipswich","Sunderland",1,1,7,5,23,10,9,5,null,"Ipswich","Sunderland","1","1","Ipswich  v  Sunderland   7/5  23/10  9/5","Ipswich 1-1 Sunderland ","7/5  23/10  9/5","7/5","23/10","9/5",2.4,3.3,2.8]
["2019-08-10",12,"League 1","MK Dons","Shrewsbury",1,0,15,13,23,10,11,5,null,"MK Dons","Shrewsbury","1","0","MK Dons  v  Shrewsbury   15/13  23/10  11/5","MK Dons 1-0 Shrewsbury ","15/13  23/10  11/5","15/13","23/10","11/5",2.1538461538461537,3.3,3.2]
["2019-08-10",12,"League 1","Oxford","Peterborough",1,0,6,4,23,10,13,8,null,"Oxford","Peterborough","1","0","Oxford  v  Peterborough   6/4  23/10  13/8","Oxford 1-0 Peterborough ","6/4  23/10  13/8","6/4","23/10","13/8",2.5,3.3,2.625]
["2019-08-10",12,"League 1","Portsmouth","Tranmere",2,0,4,6,11,4,18,5,null,"Portsmouth","Tranmere","2","0","Portsmouth  v  Tranmere   4/6  11/4  18/5","Portsmouth 2-0 Tranmere ","4/6  11/4  18/5","4/6","11/4","18/5",1.6666666666666665,3.75,4.5999999999999996]
["2019-08-10",12,"League 1","Rochdale","Doncaster",1,1,13,8,23,10,6,4,null,"Rochdale","Doncaster","1","1","Rochdale  v  Doncaster   13/8  23/10  6/4","Rochdale 1-1 Doncaster ","13/8  23/10  6/4","13/8","23/10","6/4",2.625,3.3,2.5]
["2019-08-10",12,"League 1","Rotherham","Lincoln",0,2,11,10,23,10,23,10,null,"Rotherham","Lincoln","0","2","Rotherham  v  Lincoln   11/10  23/10  23/10","Rotherham 0-2 Lincoln ","11/10  23/10  23/10","11/10","23/10","23/10",2.1,3.3,3.3]
["2019-08-10",12,"League 1","Southend","Blackpool",1,3,13,8,23,10,6,4,null,"Southend","Blackpool","1","3","Southend  v  Blackpool   13/8  23/10  6/4","Southend 1-3 Blackpool ","13/8  23/10  6/4","13/8","23/10","6/4",2.625,3.3,2.5]
["2019-08-10",13,"League 2","Cambridge","Newport",0,0,17,10,5,2,13,8,null,"Cambridge","Newport","0","0","Cambridge  v  Newport   17/10  5/2  13/8","Cambridge 0-0 Newport ","17/10  5/2  13/8","17/10","5/2","13/8",2.7,3.5,2.625]
["2019-08-10",13,"League 2","Cheltenham","Scunthorpe",4,1,15,8,5,2,16,11,null,"Cheltenham","Scunthorpe","4","1","Cheltenham  v  Scunthorpe   15/8  5/2  16/11","Cheltenham 4-1 Scunthorpe ","15/8  5/2  16/11","15/8","5/2","16/11",2.875,3.5,2.4545454545454546]
["2019-08-10",13,"League 2","Crawley","Salford",2,0,23,10,12,5,5,4,null,{"$f":"TRIM(D33)","v":"Crawley"},{"$f":"TRIM(E33)","v":"Salford"},{"$f":"TRIM(F33)","v":"2"},{"$f":"TRIM(G33)","v":"0"},"Crawley  v  Salford   23/10  12/5  5/4","Crawley 2-0 Salford ","23/10  12/5  5/4",{"$f":"CONCATENATE(H33,\"/\",I33)","v":"23/10"},{"$f":"CONCATENATE(J33,\"/\",K33)","v":"12/5"},{"$f":"CONCATENATE(L33,\"/\",M33)","v":"5/4"},3.3,3.4,2.25]
["2019-08-10",13,"League 2","Grimsby","Bradford",1,1,23,10,5,2,6,5,null,"Grimsby","Bradford","1","1","Grimsby  v  Bradford   23/10  5/2  6/5","Grimsby 1-1 Bradford ","23/10  5/2  6/5","23/10","5/2","6/5",3.3,3.5,2.2000000000000002]
["2019-08-10",13,"League 2","Macclesfield","Orient",3,0,2,1,12,5,7,5,null,"Macclesfield","Orient","3","0","Macclesfield  v  Orient   2/1  12/5  7/5","Macclesfield 3-0 Orient ","2/1  12/5  7/5","2/1","12/5","7/5",3,3.4,2.4]
["2019-08-10",13,"League 2","Mansfield","Morecambe",2,2,7,10,3,1,22,5,null,"Mansfield","Morecambe","2","2","Mansfield  v  Morecambe   7/10  3/1  22/5","Mansfield 2-2 Morecambe ","7/10  3/1  22/5","7/10","3/1","22/5",1.7,4,5.4]
["2019-08-10",13,"League 2","Oldham","Crewe",1,2,7,5,13,5,19,10,null,"Oldham","Crewe","1","2","Oldham  v  Crewe   7/5  13/5  19/10","Oldham 1-2 Crewe ","7/5  13/5  19/10","7/5","13/5","19/10",2.4,3.6,2.9]
["2019-08-10",13,"League 2","Plymouth","Colchester",1,0,23,20,5,2,5,2,null,"Plymouth","Colchester","1","0","Plymouth  v  Colchester   23/20  5/2  5/2","Plymouth 1-0 Colchester ","23/20  5/2  5/2","23/20","5/2","5/2",2.15,3.5,3.5]
["2019-08-10",13,"League 2","Port Vale","Northampton",1,1,13,8,23,10,9,5,null,"Port Vale","Northampton","1","1","Port Vale  v  Northampton   13/8  23/10  9/5","Port Vale 1-1 Northampton ","13/8  23/10  9/5","13/8","23/10","9/5",2.625,3.3,2.8]
["2019-08-10",13,"League 2","Stevenage","Exeter",0,1,16,11,5,2,19,10,null,"Stevenage","Exeter","0","1","Stevenage  v  Exeter   16/11  5/2  19/10","Stevenage 0-1 Exeter ","16/11  5/2  19/10","16/11","5/2","19/10",2.4545454545454546,3.5,2.9]
["2019-08-10",13,"League 2","Swindon","Carlisle",3,2,21,20,5,2,11,4,null,"Swindon","Carlisle","3","2","Swindon  v  Carlisle   21/20  5/2  11/4","Swindon 3-2 Carlisle ","21/20  5/2  11/4","21/20","5/2","11/4",2.0499999999999998,3.5,3.75]
["2019-08-10",13,"League 2","Walsall","Forest Green",1,1,11,8,12,5,21,10,null,"Walsall","Forest Green","1","1","Walsall  v  Forest Green   11/8  12/5  21/10","Walsall 1-1 Forest Green ","11/8  12/5  21/10","11/8","12/5","21/10",2.375,3.4,3.1]
["2019-08-11",10,"Premier","Leicester","Wolves",0,0,13,10,26,11,32,13,null,"Leicester","Wolves","0","0","Leicester  v  Wolves   13/10  26/11  32/13","Leicester 0-0 Wolves ","13/10  26/11  32/13","13/10","26/11","32/13",2.2999999999999998,3.3636363636363638,3.4615384615384617]
["2019-08-11",10,"Premier","Man U","Chelsea",4,0,5,4,32,13,13,5,null,"Man U","Chelsea","4","0","Man U  v  Chelsea   5/4  32/13  13/5","Man U 4-0 Chelsea ","5/4  32/13  13/5","5/4","32/13","13/5",2.25,3.4615384615384617,3.6]
["2019-08-11",10,"Premier","Newcastle","Arsenal",0,1,77,19,29,10,9,11,null,"Newcastle","Arsenal","0","1","Newcastle  v  Arsenal   77/19  29/10  9/11","Newcastle 0-1 Arsenal ",{"$f":"V45&\"  \"&W45&\"  \"&X45","v":"77/19  29/10  9/11"},"77/19","29/10","9/11",5.0526315789473681,3.9,1.8181818181818183]
[null,null,null,null,null,null,null,null,null,null,null,null,null,null,"","","","",""," -  ",{"$f":"V46&\"  \"&W46&\"  \"&X46","v":"/  /  /"},"/","/","/","","",""]
[null,null,null,null,null,null,null,null,null,null,null,null,null,null,"","","","","",{"$f":"O47&\" \"&Q47&\"-\"&R47&\" \"&P47","v":" - "},{"$f":"V47&\"  \"&W47&\"  \"&X47","v":"/  /  /"},"/","/","/","","",""]

{"sheet":"Picks","index":6,"n_rows":205,"n_cols":37,"rows_kept":205,"cut":false,"hidden":false,"merged":[]}
["Player","Prediction","Fraction","Decimal","Bet in?","Score","Max",{"$f":"entrants-SUM(H2:H205)","v":4},"Week\nRank","Week 1","Frac","Dec","Bet up ","Points","Week 2","Results",null,"Choices","Odds","Up","Home team","H Score","Away team","A Score",null,null,null,null,null,"This Week\nActual Score","This Week\nCorrect","Rank",null,"Player","This Week\nMax Score","This Week\nCorrect","Rank"]
[{"$f":"Results!B2","v":"Aaron Sudell"},{"$f":"IF(J2=\"\",\"\",J2)","v":""},{"$f":"IF(J2=\"\",\"\",K2)","v":""},{"$f":"IF(J2=\"\",\"\",L2)","v":""},{"$f":"IF(J2=\"\",\"\",IF(M2=1,\"√\",\"x\"))","v":""},{"$f":"IF(J2=\"\",-10,INDEX(Results!T:T,MATCH(A2,Results!V:V,0)))","v":-10},{"$f":"IF(J2=\"\",\"\",INDEX(Results!AI:AI,MATCH(A2,Results!V:V,0)))","v":""},{"$f":"IF(G2=\"\",0,1)","v":0},{"$f":"INDEX(Picks!AF:AF,MATCH(A2,Picks!AC:AC,0))","v":65},null,{"$f":"INDEX(Odds!F:F,MATCH(J2,Odds!E:E,0))","v":{"$error":"#N/A"}},{"$f":"INDEX(Odds!G:G,MATCH(J2,Odds!E:E,0))","v":{"$error":"#N/A"}},{"$f":"INDEX(Odds!H:H,MATCH(J2,Odds!E:E,0))","v":{"$error":"#N/A"}},{"$f":"L2*M2","v":{"$error":"#N/A"}},null,{"$f":"IF(Match!A2=\"\",\"\",Match!T2)","v":"Liverpool 4-1 Norwich "},null,{"$f":"IF(Odds!E2=\"\",\"\",Odds!E2)","v":"Liverpool"},{"$f":"INDEX(Odds!F:F,MATCH(R2,Odds!E:E,0))","v":"1/7"},{"$f":"IF(V2>X2,1,0)","v":1},{"$f":"INDEX(Match!O:O,MATCH(P2,Match!T:T,0))","v":"Liverpool"},{"$f":"INDEX(Match!F:F,MATCH(P2,Match!T:T,0))","v":4},{"$f":"INDEX(Match!P:P,MATCH(P2,Match!T:T,0))","v":"Norwich"},{"$f":"INDEX(Match!G:G,MATCH(P2,Match!T:T,0))","v":1},null,null,null,null,"Stephen Barr",{"$f":"INDEX(Picks!F:F,MATCH(AC2,Picks!A:A,0))","v":15.895363636363633},{"$f":"INDEX(Weekly!I:I,MATCH(AC2,Weekly!E:E,0))","v":3},{"$f":"IF(AD2=\"\",\"\",_xlfn.RANK.EQ(AD2,TopScores,0))","v":1},null,"Aaron Sudell",{"$f":"INDEX(Picks!G:G,MATCH(AH2,Picks!A:A,0))","v":""},{"$f":"INDEX(Weekly!I:I,MATCH(AH2,Weekly!E:E,0))","v":0},{"$f":"IF(AI2=\"\",\"\",_xlfn.RANK.EQ(AI2,TopMaxScores,0))","v":""}]
[{"$f":"A2","v":"Aaron Sudell"},{"$f":"IF(J3=\"\",\"\",J3)","v":""},{"$f":"IF(J3=\"\",\"\",K3)","v":""},{"$f":"IF(J3=\"\",\"\",L3)","v":""},{"$f":"IF(J3=\"\",\"\",IF(M3=1,\"√\",\"x\"))","v":""},null,null,null,null,null,{"$f":"INDEX(Odds!F:F,MATCH(J3,Odds!E:E,0))","v":{"$error":"#N/A"}},{"$f":"INDEX(Odds!G:G,MATCH(J3,Odds!E:E,0))","v":{"$error":"#N/A"}},{"$f":"INDEX(Odds!H:H,MATCH(J3,Odds!E:E,0))","v":{"$error":"#N/A"}},{"$f":"L3*M3","v":{"$error":"#N/A"}},null,{"$f":"IF(Match!A3=\"\",\"\",Match!T3)","v":"Bournemouth 1-1 Sheff U "},null,{"$f":"IF(Odds!E3=\"\",\"\",Odds!E3)","v":"Bournemouth"},{"$f":"INDEX(Odds!F:F,MATCH(R3,Odds!E:E,0))","v":"10/11"},0,{"$f":"INDEX(Match!O:O,MATCH(P3,Match!T:T,0))","v":"Bournemouth"},{"$f":"INDEX(Match!F:F,MATCH(P3,Match!T:T,0))","v":1},{"$f":"INDEX(Match!P:P,MATCH(P3,Match!T:T,0))","v":"Sheff U"},{"$f":"INDEX(Match!G:G,MATCH(P3,Match!T:T,0))","v":1},null,null,null,null,"Alfie Davies",{"$f":"INDEX(Picks!F:F,MATCH(AC3,Picks!A:A,0))","v":13.225974025974025},{"$f":"INDEX(Weekly!I:I,MATCH(AC3,Weekly!E:E,0))","v":3},{"$f":"IF(AD3=\"\",\"\",_xlfn.RANK.EQ(AD3,TopScores,0))","v":2},null,"Paul Barnes",{"$f":"INDEX(Picks!G:G,MATCH(AH3,Picks!A:A,0))","v":""},{"$f":"INDEX(Weekly!I:I,MATCH(AH3,Weekly!E:E,0))","v":0},{"$f":"IF(AI3=\"\",\"\",_xlfn.RANK.EQ(AI3,TopMaxScores,0))","v":""}]
[{"$f":"A2","v":"Aaron Sudell"},"","","","",null,null,null,null,null,{"$f":"INDEX(Odds!F:F,MATCH(J4,Odds!E:E,0))","v":{"$error":"#N/A"}},{"$f":"INDEX(Odds!G:G,MATCH(J4,Odds!E:E,0))","v":{"$error":"#N/A"}},{"$f":"INDEX(Odds!H:H,MATCH(J4,Odds!E:E,0))","v":{"$error":"#N/A"}},{"$f":"L4*M4","v":{"$error":"#N/A"}},null,{"$f":"IF(Match!A4=\"\",\"\",Match!T4)","v":"Burnley 3-0 Southampton "},null,{"$f":"IF(Odds!E4=\"\",\"\",Odds!E4)","v":"Burnley"},{"$f":"INDEX(Odds!F:F,MATCH(R4,Odds!E:E,0))","v":"31/20"},1,{"$f":"INDEX(Match!O:O,MATCH(P4,Match!T:T,0))","v":"Burnley"},{"$f":"INDEX(Match!F:F,MATCH(P4,Match!T:T,0))","v":3},{"$f":"INDEX(Match!P:P,MATCH(P4,Match!T:T,0))","v":"Southampton"},{"$f":"INDEX(Match!G:G,MATCH(P4,Match!T:T,0))","v":0},null,null,null,null,"Alan Rogers",{"$f":"INDEX(Picks!F:F,MATCH(AC4,Picks!A:A,0))","v":9.4375},{"$f":"INDEX(Weekly!I:I,MATCH(AC4,Weekly!E:E,0))","v":2},{"$f":"IF(AD4=\"\",\"\",_xlfn.RANK.EQ(AD4,TopScores,0))","v":3},null,"Pete Baron",{"$f":"INDEX(Picks!G:G,MATCH(AH4,Picks!A:A,0))","v":""},{"$f":"INDEX(Weekly!I:I,MATCH(AH4,Weekly!E:E,0))","v":0},{"$f":"IF(AI4=\"\",\"\",_xlfn.RANK.EQ(AI4,TopMaxScores,0))","v":""}]
[{"$f":"Results!B5","v":"Alan Rogers"},{"$f":"IF(J5=\"\",\"\",J5)","v":"Cheltenham"},"15/8",2.875,"√",{"$f":"IF(J5=\"\",-10,INDEX(Results!T:T,MATCH(A5,Results!V:V,0)))","v":9.4375},{"$f":"IF(J5=\"\",\"\",INDEX(Results!AI:AI,MATCH(A5,Results!V:V,0)))","v":48.671875},{"$f":"IF(G5=\"\",0,1)","v":1},{"$f":"INDEX(Picks!AF:AF,MATCH(A5,Picks!AC:AC,0))","v":3},"Cheltenham",{"$f":"INDEX(Odds!F:F,MATCH(J5,Odds!E:E,0))","v":"15/8"},{"$f":"INDEX(Odds!G:G,MATCH(J5,Odds!E:E,0))","v":2.875},{"$f":"INDEX(Odds!H:H,MATCH(J5,Odds!E:E,0))","v":1},{"$f":"L5*M5","v":2.875},null,{"$f":"IF(Match!A5=\"\",\"\",Match!T5)","v":"Palace 0-0 Everton "},null,{"$f":"IF(Odds!E5=\"\",\"\",Odds!E5)","v":"Palace"},{"$f":"INDEX(Odds!F:F,MATCH(R5,Odds!E:E,0))","v":"19/10"},0,{"$f":"INDEX(Match!O:O,MATCH(P5,Match!T:T,0))","v":"Palace"},{"$f":"INDEX(Match!F:F,MATCH(P5,Match!T:T,0))","v":0},{"$f":"INDEX(Match!P:P,MATCH(P5,Match!T:T,0))","v":"Everton"},{"$f":"INDEX(Match!G:G,MATCH(P5,Match!T:T,0))","v":0},null,null,null,null,"Steve Baxter",{"$f":"INDEX(Picks!F:F,MATCH(AC5,Picks!A:A,0))","v":7.8089285714285701},{"$f":"INDEX(Weekly!I:I,MATCH(AC5,Weekly!E:E,0))","v":3},{"$f":"IF(AD5=\"\",\"\",_xlfn.RANK.EQ(AD5,TopScores,0))","v":4},null,"Ste Bentley",{"$f":"INDEX(Picks!G:G,MATCH(AH5,Picks!A:A,0))","v":""},{"$f":"INDEX(Weekly!I:I,MATCH(AH5,Weekly!E:E,0))","v":0},{"$f":"IF(AI5=\"\",\"\",_xlfn.RANK.EQ(AI5,TopMaxScores,0))","v":""}]
[{"$f":"A5","v":"Alan Rogers"},"Salford","5/4",2.25,"x",null,null,null,null,"Salford",{"$f":"INDEX(Odds!F:F,MATCH(J6,Odds!E:E,0))","v":"5/4"},{"$f":"INDEX(Odds!G:G,MATCH(J6,Odds!E:E,0))","v":2.25},{"$f":"INDEX(Odds!H:H,MATCH(J6,Odds!E:E,0))","v":0},0,null,{"$f":"IF(Match!A6=\"\",\"\",Match!T6)","v":"Spurs 3-1 Villa "},null,{"$f":"IF(Odds!E6=\"\",\"\",Odds!E6)","v":"Spurs"},{"$f":"INDEX(Odds!F:F,MATCH(R6,Odds!E:E,0))","v":"27/100"},1,{"$f":"INDEX(Match!O:O,MATCH(P6,Match!T:T,0))","v":"Spurs"},{"$f":"INDEX(Match!F:F,MATCH(P6,Match!T:T,0))","v":3},{"$f":"INDEX(Match!P:P,MATCH(P6,Match!T:T,0))","v":"Villa"},{"$f":"INDEX(Match!G:G,MATCH(P6,Match!T:T,0))","v":1},null,null,null,null,"Kei Lok Ma",{"$f":"INDEX(Picks!F:F,MATCH(AC6,Picks!A:A,0))","v":7.2649999999999988},{"$f":"INDEX(Weekly!I:I,MATCH(AC6,Weekly!E:E,0))","v":2},{"$f":"IF(AD6=\"\",\"\",_xlfn.RANK.EQ(AD6,TopScores,0))","v":5},null,"Dave Bell",{"$f":"INDEX(Picks!G:G,MATCH(AH6,Picks!A:A,0))","v":3112},{"$f":"INDEX(Weekly!I:I,MATCH(AH6,Weekly!E:E,0))","v":0},{"$f":"IF(AI6=\"\",\"\",_xlfn.RANK.EQ(AI6,TopMaxScores,0))","v":1}]
[{"$f":"A5","v":"Alan Rogers"},"Grimsby draw","5/2",3.5,"√",null,null,null,null,"Grimsby draw",{"$f":"INDEX(Odds!F:F,MATCH(J7,Odds!E:E,0))","v":"5/2"},{"$f":"INDEX(Odds!G:G,MATCH(J7,Odds!E:E,0))","v":3.5},{"$f":"INDEX(Odds!H:H,MATCH(J7,Odds!E:E,0))","v":1},3.5,null,{"$f":"IF(Match!A7=\"\",\"\",Match!T7)","v":"Watford 0-3 Brighton "},null,{"$f":"IF(Odds!E7=\"\",\"\",Odds!E7)","v":"Watford"},{"$f":"INDEX(Odds!F:F,MATCH(R7,Odds!E:E,0))","v":"10/11"},0,{"$f":"INDEX(Match!O:O,MATCH(P7,Match!T:T,0))","v":"Watford"},{"$f":"INDEX(Match!F:F,MATCH(P7,Match!T:T,0))","v":0},{"$f":"INDEX(Match!P:P,MATCH(P7,Match!T:T,0))","v":"Brighton"},{"$f":"INDEX(Match!G:G,MATCH(P7,Match!T:T,0))","v":3},null,null,null,null,"Paul Fairhurst",{"$f":"INDEX(Picks!F:F,MATCH(AC7,Picks!A:A,0))","v":3.9540000000000006},{"$f":"INDEX(Weekly!I:I,MATCH(AC7,Weekly!E:E,0))","v":2},{"$f":"IF(AD7=\"\",\"\",_xlfn.RANK.EQ(AD7,TopScores,0))","v":6},null,"Kevin Carter",{"$f":"INDEX(Picks!G:G,MATCH(AH7,Picks!A:A,0))","v":138.60799999999998},{"$f":"INDEX(Weekly!I:I,MATCH(AH7,Weekly!E:E,0))","v":0},{"$f":"IF(AI7=\"\",\"\",_xlfn.RANK.EQ(AI7,TopMaxScores,0))","v":2}]
[{"$f":"Results!B8","v":"Alan White"},"Watford","10/11",1.9090909090909092,"x",{"$f":"IF(J8=\"\",-10,INDEX(Results!T:T,MATCH(A8,Results!V:V,0)))","v":-7},{"$f":"IF(J8=\"\",\"\",INDEX(Results!AI:AI,MATCH(A8,Results!V:V,0)))","v":17.527272727272731},{"$f":"IF(G8=\"\",0,1)","v":1},{"$f":"INDEX(Picks!AF:AF,MATCH(A8,Picks!AC:AC,0))","v":49},"Watford",{"$f":"INDEX(Odds!F:F,MATCH(J8,Odds!E:E,0))","v":"10/11"},{"$f":"INDEX(Odds!G:G,MATCH(J8,Odds!E:E,0))","v":1.9090909090909092},{"$f":"INDEX(Odds!H:H,MATCH(J8,Odds!E:E,0))","v":0},0,null,{"$f":"IF(Match!A8=\"\",\"\",Match!T8)","v":"West Ham 0-5 Man C "},null,{"$f":"IF(Odds!E8=\"\",\"\",Odds!E8)","v":"West Ham"},{"$f":"INDEX(Odds!F:F,MATCH(R8,Odds!E:E,0))","v":"11/1"},0,{"$f":"INDEX(Match!O:O,MATCH(P8,Match!T:T,0))","v":"West Ham"},{"$f":"INDEX(Match!F:F,MATCH(P8,Match!T:T,0))","v":0},{"$f":"INDEX(Match!P:P,MATCH(P8,Match!T:T,0))","v":"Man C"},{"$f":"INDEX(Match!G:G,MATCH(P8,Match!T:T,0))","v":5},null,null,null,null,"Tom Robinson",{"$f":"INDEX(Picks!F:F,MATCH(AC8,Picks!A:A,0))","v":3.9540000000000006},{"$f":"INDEX(Weekly!I:I,MATCH(AC8,Weekly!E:E,0))","v":2},{"$f":"IF(AD8=\"\",\"\",_xlfn.RANK.EQ(AD8,TopScores,0))","v":6},null,"Joel Bent",{"$f":"INDEX(Picks!G:G,MATCH(AH8,Picks!A:A,0))","v":126.66249999999999},{"$f":"INDEX(Weekly!I:I,MATCH(AH8,Weekly!E:E,0))","v":0},{"$f":"IF(AI8=\"\",\"\",_xlfn.RANK.EQ(AI8,TopMaxScores,0))","v":3}]
[{"$f":"A8","v":"Alan White"},"Leeds","7/10",1.7,"x",null,null,null,null,"Leeds",{"$f":"INDEX(Odds!F:F,MATCH(J9,Odds!E:E,0))","v":"7/10"},{"$f":"INDEX(Odds!G:G,MATCH(J9,Odds!E:E,0))","v":1.7},{"$f":"INDEX(Odds!H:H,MATCH(J9,Odds!E:E,0))","v":0},0,null,{"$f":"IF(Match!A9=\"\",\"\",Match!T9)","v":"Birmingham 1-1 Bristol C "},null,{"$f":"IF(Odds!E9=\"\",\"\",Odds!E9)","v":"Birmingham"},{"$f":"INDEX(Odds!F:F,MATCH(R9,Odds!E:E,0))","v":"27/20"},0,{"$f":"INDEX(Match!O:O,MATCH(P9,Match!T:T,0))","v":"Birmingham"},{"$f":"INDEX(Match!F:F,MATCH(P9,Match!T:T,0))","v":1},{"$f":"INDEX(Match!P:P,MATCH(P9,Match!T:T,0))","v":"Bristol C"},{"$f":"INDEX(Match!G:G,MATCH(P9,Match!T:T,0))","v":1},null,null,null,null,"Graham Miller",{"$f":"INDEX(Picks!F:F,MATCH(AC9,Picks!A:A,0))","v":3.4800000000000004},{"$f":"INDEX(Weekly!I:I,MATCH(AC9,Weekly!E:E,0))","v":2},{"$f":"IF(AD9=\"\",\"\",_xlfn.RANK.EQ(AD9,TopScores,0))","v":8},null,"James Bell",{"$f":"INDEX(Picks!G:G,MATCH(AH9,Picks!A:A,0))","v":114.32368421052632},{"$f":"INDEX(Weekly!I:I,MATCH(AH9,Weekly!E:E,0))","v":0},{"$f":"IF(AI9=\"\",\"\",_xlfn.RANK.EQ(AI9,TopMaxScores,0))","v":4}]
[{"$f":"A8","v":"Alan White"},"Salford",{"$f":"IF(J10=\"\",\"\",K10)","v":"5/4"},2.25,"x",null,null,null,null,"Salford",{"$f":"INDEX(Odds!F:F,MATCH(J10,Odds!E:E,0))","v":"5/4"},{"$f":"INDEX(Odds!G:G,MATCH(J10,Odds!E:E,0))","v":2.25},{"$f":"INDEX(Odds!H:H,MATCH(J10,Odds!E:E,0))","v":0},0,null,{"$f":"IF(Match!A10=\"\",\"\",Match!T10)","v":"Cardiff 2-1 Luton "},null,{"$f":"IF(Odds!E10=\"\",\"\",Odds!E10)","v":"Cardiff"},{"$f":"INDEX(Odds!F:F,MATCH(R10,Odds!E:E,0))","v":"78/100"},1,{"$f":"INDEX(Match!O:O,MATCH(P10,Match!T:T,0))","v":"Cardiff"},{"$f":"INDEX(Match!F:F,MATCH(P10,Match!T:T,0))","v":2},{"$f":"INDEX(Match!P:P,MATCH(P10,Match!T:T,0))","v":"Luton"},{"$f":"INDEX(Match!G:G,MATCH(P10,Match!T:T,0))","v":1},null,null,null,null,"Mike Penk",{"$f":"INDEX(Picks!F:F,MATCH(AC10,Picks!A:A,0))","v":2.9333333333333336},{"$f":"INDEX(Weekly!I:I,MATCH(AC10,Weekly!E:E,0))","v":2},{"$f":"IF(AD10=\"\",\"\",_xlfn.RANK.EQ(AD10,TopScores,0))","v":9},null,"Ben Rosser",{"$f":"INDEX(Picks!G:G,MATCH(AH10,Picks!A:A,0))","v":97.35},{"$f":"INDEX(Weekly!I:I,MATCH(AH10,Weekly!E:E,0))","v":0},{"$f":"IF(AI10=\"\",\"\",_xlfn.RANK.EQ(AI10,TopMaxScores,0))","v":5}]
[{"$f":"Results!B11","v":"Alfie Davies"},"Liverpool","1/7",1.1428571428571428,"√",{"$f":"IF(J11=\"\",-10,INDEX(Results!T:T,MATCH(A11,Results!V:V,0)))","v":13.225974025974025},{"$f":"IF(J11=\"\",\"\",INDEX(Results!AI:AI,MATCH(A11,Results!V:V,0)))","v":13.225974025974025},{"$f":"IF(G11=\"\",0,1)","v":1},{"$f":"INDEX(Picks!AF:AF,MATCH(A11,Picks!AC:AC,0))","v":2},"Liverpool",{"$f":"INDEX(Odds!F:F,MATCH(J11,Odds!E:E,0))","v":"1/7"},{"$f":"INDEX(Odds!G:G,MATCH(J11,Odds!E:E,0))","v":1.1428571428571428},{"$f":"INDEX(Odds!H:H,MATCH(J11,Odds!E:E,0))","v":1},1.1428571428571428,null,{"$f":"IF(Match!A11=\"\",\"\",Match!T11)","v":"Charlton 3-1 Stoke "},null,{"$f":"IF(Odds!E11=\"\",\"\",Odds!E11)","v":"Charlton"},{"$f":"INDEX(Odds!F:F,MATCH(R11,Odds!E:E,0))","v":"21/10"},1,{"$f":"INDEX(Match!O:O,MATCH(P11,Match!T:T,0))","v":"Charlton"},{"$f":"INDEX(Match!F:F,MATCH(P11,Match!T:T,0))","v":3},{"$f":"INDEX(Match!P:P,MATCH(P11,Match!T:T,0))","v":"Stoke"},{"$f":"INDEX(Match!G:G,MATCH(P11,Match!T:T,0))","v":1},null,null,null,null,"Alick Rocca",{"$f":"INDEX(Picks!F:F,MATCH(AC11,Picks!A:A,0))","v":1.163636363636364},{"$f":"INDEX(Weekly!I:I,MATCH(AC11,Weekly!E:E,0))","v":2},{"$f":"IF(AD11=\"\",\"\",_xlfn.RANK.EQ(AD11,TopScores,0))","v":10},null,"Chris Townsend",{"$f":"INDEX(Picks!G:G,MATCH(AH11,Picks!A:A,0))","v":89.195999999999998},{"$f":"INDEX(Weekly!I:I,MATCH(AH11,Weekly!E:E,0))","v":0},{"$f":"IF(AI11=\"\",\"\",_xlfn.RANK.EQ(AI11,TopMaxScores,0))","v":6}]
[{"$f":"A11","v":"Alfie Davies"},"Spurs","27/100",1.27,"√",null,null,null,null,"Spurs",{"$f":"INDEX(Odds!F:F,MATCH(J12,Odds!E:E,0))","v":"27/100"},{"$f":"INDEX(Odds!G:G,MATCH(J12,Odds!E:E,0))","v":1.27},{"$f":"INDEX(Odds!H:H,MATCH(J12,Odds!E:E,0))","v":1},1.27,null,{"$f":"IF(Match!A12=\"\",\"\",Match!T12)","v":"Derby 0-0 Swansea "},null,{"$f":"IF(Odds!E12=\"\",\"\",Odds!E12)","v":"Derby"},{"$f":"INDEX(Odds!F:F,MATCH(R12,Odds!E:E,0))","v":"23/20"},0,{"$f":"INDEX(Match!O:O,MATCH(P12,Match!T:T,0))","v":"Derby"},{"$f":"INDEX(Match!F:F,MATCH(P12,Match!T:T,0))","v":0},{"$f":"INDEX(Match!P:P,MATCH(P12,Match!T:T,0))","v":"Swansea"},{"$f":"INDEX(Match!G:G,MATCH(P12,Match!T:T,0))","v":0},null,null,null,null,"Gareth Fallows",{"$f":"INDEX(Picks!F:F,MATCH(AC12,Picks!A:A,0))","v":1.163636363636364},{"$f":"INDEX(Weekly!I:I,MATCH(AC12,Weekly!E:E,0))","v":2},{"$f":"IF(AD12=\"\",\"\",_xlfn.RANK.EQ(AD12,TopScores,0))","v":10},null,"Dan Baxter",{"$f":"INDEX(Picks!G:G,MATCH(AH12,Picks!A:A,0))","v":78.400000000000006},{"$f":"INDEX(Weekly!I:I,MATCH(AH12,Weekly!E:E,0))","v":0},{"$f":"IF(AI12=\"\",\"\",_xlfn.RANK.EQ(AI12,TopMaxScores,0))","v":7}]
[{"$f":"A11","v":"Alfie Davies"},{"$f":"IF(J13=\"\",\"\",J13)","v":"Leicester Draw"},"26/11",3.3636363636363638,"√",null,null,null,null,"Leicester Draw",{"$f":"INDEX(Odds!F:F,MATCH(J13,Odds!E:E,0))","v":"26/11"},{"$f":"INDEX(Odds!G:G,MATCH(J13,Odds!E:E,0))","v":3.3636363636363638},{"$f":"INDEX(Odds!H:H,MATCH(J13,Odds!E:E,0))","v":1},3.3636363636363638,null,{"$f":"IF(Match!A13=\"\",\"\",Match!T13)","v":"Fulham 2-0 Blackburn "},null,{"$f":"IF(Odds!E13=\"\",\"\",Odds!E13)","v":"Fulham"},{"$f":"INDEX(Odds!F:F,MATCH(R13,Odds!E:E,0))","v":"4/5"},1,{"$f":"INDEX(Match!O:O,MATCH(P13,Match!T:T,0))","v":"Fulham"},{"$f":"INDEX(Match!F:F,MATCH(P13,Match!T:T,0))","v":2},{"$f":"INDEX(Match!P:P,MATCH(P13,Match!T:T,0))","v":"Blackburn"},{"$f":"INDEX(Match!G:G,MATCH(P13,Match!T:T,0))","v":0},null,null,null,null,"John Robinson",{"$f":"INDEX(Picks!F:F,MATCH(AC13,Picks!A:A,0))","v":1.0181818181818194},{"$f":"INDEX(Weekly!I:I,MATCH(AC13,Weekly!E:E,0))","v":2},{"$f":"IF(AD13=\"\",\"\",_xlfn.RANK.EQ(AD13,TopScores,0))","v":12},null,"Sally Williams",{"$f":"INDEX(Picks!G:G,MATCH(AH13,Picks!A:A,0))","v":73.355999999999995},{"$f":"INDEX(Weekly!I:I,MATCH(AH13,Weekly!E:E,0))","v":1},{"$f":"IF(AI13=\"\",\"\",_xlfn.RANK.EQ(AI13,TopMaxScores,0))","v":8}]
[{"$f":"Results!B14","v":"Alick Rocca"},"Leeds","7/10",1.7,"x",{"$f":"IF(J14=\"\",-10,INDEX(Results!T:T,MATCH(A14,Results!V:V,0)))","v":1.163636363636364},{"$f":"IF(J14=\"\",\"\",INDEX(Results!AI:AI,MATCH(A14,Results!V:V,0)))","v":16.741818181818182},{"$f":"IF(G14=\"\",0,1)","v":1},{"$f":"INDEX(Picks!AF:AF,MATCH(A14,Picks!AC:AC,0))","v":10},"Leeds",{"$f":"INDEX(Odds!F:F,MATCH(J14,Odds!E:E,0))","v":"7/10"},{"$f":"INDEX(Odds!G:G,MATCH(J14,Odds!E:E,0))","v":1.7},{"$f":"INDEX(Odds!H:H,MATCH(J14,Odds!E:E,0))","v":0},0,null,{"$f":"IF(Match!A14=\"\",\"\",Match!T14)","v":"Hull 2-1 Reading "},null,{"$f":"IF(Odds!E14=\"\",\"\",Odds!E14)","v":"Hull"},{"$f":"INDEX(Odds!F:F,MATCH(R14,Odds!E:E,0))","v":"21/20"},1,{"$f":"INDEX(Match!O:O,MATCH(P14,Match!T:T,0))","v":"Hull"},{"$f":"INDEX(Match!F:F,MATCH(P14,Match!T:T,0))","v":2},{"$f":"INDEX(Match!P:P,MATCH(P14,Match!T:T,0))","v":"Reading"},{"$f":"INDEX(Match!G:G,MATCH(P14,Match!T:T,0))","v":1},null,null,null,null,"Paul Ridgeway",{"$f":"INDEX(Picks!F:F,MATCH(AC14,Picks!A:A,0))","v":0.53999999999999915},{"$f":"INDEX(Weekly!I:I,MATCH(AC14,Weekly!E:E,0))","v":2},{"$f":"IF(AD14=\"\",\"\",_xlfn.RANK.EQ(AD14,TopScores,0))","v":13},null,"Liam Wah",{"$f":"INDEX(Picks!G:G,MATCH(AH14,Picks!A:A,0))","v":61.544230769230765},{"$f":"INDEX(Weekly!I:I,MATCH(AH14,Weekly!E:E,0))","v":1},{"$f":"IF(AI14=\"\",\"\",_xlfn.RANK.EQ(AI14,TopMaxScores,0))","v":9}]
[{"$f":"A14","v":"Alick Rocca"},"Fleetwood","10/11",1.9090909090909092,"√",null,null,null,null,"Fleetwood",{"$f":"INDEX(Odds!F:F,MATCH(J15,Odds!E:E,0))","v":"10/11"},{"$f":"INDEX(Odds!G:G,MATCH(J15,Odds!E:E,0))","v":1.9090909090909092},{"$f":"INDEX(Odds!H:H,MATCH(J15,Odds!E:E,0))","v":1},1.9090909090909092,null,{"$f":"IF(Match!A15=\"\",\"\",Match!T15)","v":"Leeds 1-1 Forest "},null,{"$f":"IF(Odds!E15=\"\",\"\",Odds!E15)","v":"Leeds"},{"$f":"INDEX(Odds!F:F,MATCH(R15,Odds!E:E,0))","v":"7/10"},0,{"$f":"INDEX(Match!O:O,MATCH(P15,Match!T:T,0))","v":"Leeds"},{"$f":"INDEX(Match!F:F,MATCH(P15,Match!T:T,0))","v":1},{"$f":"INDEX(Match!P:P,MATCH(P15,Match!T:T,0))","v":"Forest"},{"$f":"INDEX(Match!G:G,MATCH(P15,Match!T:T,0))","v":1},null,null,null,null,"Howard Bradley",{"$f":"INDEX(Picks!F:F,MATCH(AC15,Picks!A:A,0))","v":0.13333333333333286},{"$f":"INDEX(Weekly!I:I,MATCH(AC15,Weekly!E:E,0))","v":2},{"$f":"IF(AD15=\"\",\"\",_xlfn.RANK.EQ(AD15,TopScores,0))","v":14},null,"Gerard Ventom",{"$f":"INDEX(Picks!G:G,MATCH(AH15,Picks!A:A,0))","v":55.402999999999999},{"$f":"INDEX(Weekly!I:I,MATCH(AH15,Weekly!E:E,0))","v":1},{"$f":"IF(AI15=\"\",\"\",_xlfn.RANK.EQ(AI15,TopMaxScores,0))","v":10}]
[{"$f":"A14","v":"Alick Rocca"},"Plymouth","23/20",2.15,"√",null,null,null,null,"Plymouth",{"$f":"INDEX(Odds!F:F,MATCH(J16,Odds!E:E,0))","v":"23/20"},{"$f":"INDEX(Odds!G:G,MATCH(J16,Odds!E:E,0))","v":2.15},{"$f":"INDEX(Odds!H:H,MATCH(J16,Odds!E:E,0))","v":1},2.15,null,{"$f":"IF(Match!A16=\"\",\"\",Match!T16)","v":"Middlesbro 0-1 Brentford "},null,{"$f":"IF(Odds!E16=\"\",\"\",Odds!E16)","v":"Middlesbro"},{"$f":"INDEX(Odds!F:F,MATCH(R16,Odds!E:E,0))","v":"13/10"},0,{"$f":"INDEX(Match!O:O,MATCH(P16,Match!T:T,0))","v":"Middlesbro"},{"$f":"INDEX(Match!F:F,MATCH(P16,Match!T:T,0))","v":0},{"$f":"INDEX(Match!P:P,MATCH(P16,Match!T:T,0))","v":"Brentford"},{"$f":"INDEX(Match!G:G,MATCH(P16,Match!T:T,0))","v":1},null,null,null,null,"Mal Stott",{"$f":"INDEX(Picks!F:F,MATCH(AC16,Picks!A:A,0))","v":-0.53333333333333321},{"$f":"INDEX(Weekly!I:I,MATCH(AC16,Weekly!E:E,0))","v":2},{"$f":"IF(AD16=\"\",\"\",_xlfn.RANK.EQ(AD16,TopScores,0))","v":15},null,"John Robinson",{"$f":"INDEX(Picks!G:G,MATCH(AH16,Picks!A:A,0))","v":55.127272727272739},{"$f":"INDEX(Weekly!I:I,MATCH(AH16,Weekly!E:E,0))","v":2},{"$f":"IF(AI16=\"\",\"\",_xlfn.RANK.EQ(AI16,TopMaxScores,0))","v":11}]
[{"$f":"Results!B17","v":"Andy Charleston"},"Bournemouth","10/11",1.9090909090909092,"x",{"$f":"IF(J17=\"\",-10,INDEX(Results!T:T,MATCH(A17,Results!V:V,0)))","v":-5.73},{"$f":"IF(J17=\"\",\"\",INDEX(Results!AI:AI,MATCH(A17,Results!V:V,0)))","v":11.210578512396694},{"$f":"IF(G17=\"\",0,1)","v":1},{"$f":"INDEX(Picks!AF:AF,MATCH(A17,Picks!AC:AC,0))","v":46},"Bournemouth",{"$f":"INDEX(Odds!F:F,MATCH(J17,Odds!E:E,0))","v":"10/11"},{"$f":"INDEX(Odds!G:G,MATCH(J17,Odds!E:E,0))","v":1.9090909090909092},{"$f":"INDEX(Odds!H:H,MATCH(J17,Odds!E:E,0))","v":0},0,null,{"$f":"IF(Match!A17=\"\",\"\",Match!T17)","v":"Preston 3-0 Wigan "},null,{"$f":"IF(Odds!E17=\"\",\"\",Odds!E17)","v":"Preston"},{"$f":"INDEX(Odds!F:F,MATCH(R17,Odds!E:E,0))","v":"11/10"},1,{"$f":"INDEX(Match!O:O,MATCH(P17,Match!T:T,0))","v":"Preston"},{"$f":"INDEX(Match!F:F,MATCH(P17,Match!T:T,0))","v":3},{"$f":"INDEX(Match!P:P,MATCH(P17,Match!T:T,0))","v":"Wigan"},{"$f":"INDEX(Match!G:G,MATCH(P17,Match!T:T,0))","v":0},null,null,null,null,"Martin Tarbuck",{"$f":"INDEX(Picks!F:F,MATCH(AC17,Picks!A:A,0))","v":-0.91249999999999964},{"$f":"INDEX(Weekly!I:I,MATCH(AC17,Weekly!E:E,0))","v":2},{"$f":"IF(AD17=\"\",\"\",_xlfn.RANK.EQ(AD17,TopScores,0))","v":16},null,"Alan Rogers",{"$f":"INDEX(Picks!G:G,MATCH(AH17,Picks!A:A,0))","v":48.671875},{"$f":"INDEX(Weekly!I:I,MATCH(AH17,Weekly!E:E,0))","v":2},{"$f":"IF(AI17=\"\",\"\",_xlfn.RANK.EQ(AI17,TopMaxScores,0))","v":12}]
[{"$f":"A17","v":"Andy Charleston"},{"$f":"IF(J18=\"\",\"\",J18)","v":"Spurs"},"27/100",1.27,"√",null,null,null,null,"Spurs",{"$f":"INDEX(Odds!F:F,MATCH(J18,Odds!E:E,0))","v":"27/100"},{"$f":"INDEX(Odds!G:G,MATCH(J18,Odds!E:E,0))","v":1.27},{"$f":"INDEX(Odds!H:H,MATCH(J18,Odds!E:E,0))","v":1},1.27,null,{"$f":"IF(Match!A18=\"\",\"\",Match!T18)","v":"QPR 1-1 Huddersfield "},null,{"$f":"IF(Odds!E18=\"\",\"\",Odds!E18)","v":"QPR"},{"$f":"INDEX(Odds!F:F,MATCH(R18,Odds!E:E,0))","v":"31/20"},0,{"$f":"INDEX(Match!O:O,MATCH(P18,Match!T:T,0))","v":"QPR"},{"$f":"INDEX(Match!F:F,MATCH(P18,Match!T:T,0))","v":1},{"$f":"INDEX(Match!P:P,MATCH(P18,Match!T:T,0))","v":"Huddersfield"},{"$f":"INDEX(Match!G:G,MATCH(P18,Match!T:T,0))","v":1},null,null,null,null,"Phil Miller",{"$f":"INDEX(Picks!F:F,MATCH(AC18,Picks!A:A,0))","v":-1.7000000000000002},{"$f":"INDEX(Weekly!I:I,MATCH(AC18,Weekly!E:E,0))","v":2},{"$f":"IF(AD18=\"\",\"\",_xlfn.RANK.EQ(AD18,TopScores,0))","v":17},null,"Charlie Griffiths",{"$f":"INDEX(Picks!G:G,MATCH(AH18,Picks!A:A,0))","v":46.366},{"$f":"INDEX(Weekly!I:I,MATCH(AH18,Weekly!E:E,0))","v":1},{"$f":"IF(AI18=\"\",\"\",_xlfn.RANK.EQ(AI18,TopMaxScores,0))","v":13}]
[{"$f":"A17","v":"Andy Charleston"},"Watford","10/11",1.9090909090909092,"x",null,null,null,null,"Watford",{"$f":"INDEX(Odds!F:F,MATCH(J19,Odds!E:E,0))","v":"10/11"},{"$f":"INDEX(Odds!G:G,MATCH(J19,Odds!E:E,0))","v":1.9090909090909092},{"$f":"INDEX(Odds!H:H,MATCH(J19,Odds!E:E,0))","v":0},0,null,{"$f":"IF(Match!A19=\"\",\"\",Match!T19)","v":"Sheff W 2-0 Barnsley "},null,{"$f":"IF(Odds!E19=\"\",\"\",Odds!E19)","v":"Sheff W"},{"$f":"INDEX(Odds!F:F,MATCH(R19,Odds!E:E,0))","v":"21/20"},1,{"$f":"INDEX(Match!O:O,MATCH(P19,Match!T:T,0))","v":"Sheff W"},{"$f":"INDEX(Match!F:F,MATCH(P19,Match!T:T,0))","v":2},{"$f":"INDEX(Match!P:P,MATCH(P19,Match!T:T,0))","v":"Barnsley"},{"$f":"INDEX(Match!G:G,MATCH(P19,Match!T:T,0))","v":0},null,null,null,null,"Ian Davies",{"$f":"INDEX(Picks!F:F,MATCH(AC19,Picks!A:A,0))","v":-3.6363636363636362},{"$f":"INDEX(Weekly!I:I,MATCH(AC19,Weekly!E:E,0))","v":1},{"$f":"IF(AD19=\"\",\"\",_xlfn.RANK.EQ(AD19,TopScores,0))","v":18},null,"John Ronan",{"$f":"INDEX(Picks!G:G,MATCH(AH19,Picks!A:A,0))","v":45.876562500000006},{"$f":"INDEX(Weekly!I:I,MATCH(AH19,Weekly!E:E,0))","v":1},{"$f":"IF(AI19=\"\",\"\",_xlfn.RANK.EQ(AI19,TopMaxScores,0))","v":14}]
[{"$f":"Results!B20","v":"Andy White"},"Watford","10/11",1.9090909090909092,"x",{"$f":"IF(J20=\"\",-10,INDEX(Results!T:T,MATCH(A20,Results!V:V,0)))","v":-5.1818181818181817},{"$f":"IF(J20=\"\",\"\",INDEX(Results!AI:AI,MATCH(A20,Results!V:V,0)))","v":20.694214876033062},{"$f":"IF(G20=\"\",0,1)","v":1},{"$f":"INDEX(Picks!AF:AF,MATCH(A20,Picks!AC:AC,0))","v":34},"Watford",{"$f":"INDEX(Odds!F:F,MATCH(J20,Odds!E:E,0))","v":"10/11"},{"$f":"INDEX(Odds!G:G,MATCH(J20,Odds!E:E,0))","v":1.9090909090909092},{"$f":"INDEX(Odds!H:H,MATCH(J20,Odds!E:E,0))","v":0},0,null,{"$f":"IF(Match!A20=\"\",\"\",Match!T20)","v":"West Brom 1-1 Millwall "},null,{"$f":"IF(Odds!E20=\"\",\"\",Odds!E20)","v":"West Brom"},{"$f":"INDEX(Odds!F:F,MATCH(R20,Odds!E:E,0))","v":"7/10"},0,{"$f":"INDEX(Match!O:O,MATCH(P20,Match!T:T,0))","v":"West Brom"},{"$f":"INDEX(Match!F:F,MATCH(P20,Match!T:T,0))","v":1},{"$f":"INDEX(Match!P:P,MATCH(P20,Match!T:T,0))","v":"Millwall"},{"$f":"INDEX(Match!G:G,MATCH(P20,Match!T:T,0))","v":1},null,null,null,null,"Liam Wah",{"$f":"INDEX(Picks!F:F,MATCH(AC20,Picks!A:A,0))","v":-3.7},{"$f":"INDEX(Weekly!I:I,MATCH(AC20,Weekly!E:E,0))","v":1},{"$f":"IF(AD20=\"\",\"\",_xlfn.RANK.EQ(AD20,TopScores,0))","v":19},null,"Mike Penk",{"$f":"INDEX(Picks!G:G,MATCH(AH20,Picks!A:A,0))","v":43.386666666666663},{"$f":"INDEX(Weekly!I:I,MATCH(AH20,Weekly!E:E,0))","v":2},{"$f":"IF(AI20=\"\",\"\",_xlfn.RANK.EQ(AI20,TopMaxScores,0))","v":15}]
[{"$f":"A20","v":"Andy White"},"Everton","6/4",2.5,"x",null,null,null,null,"Everton",{"$f":"INDEX(Odds!F:F,MATCH(J21,Odds!E:E,0))","v":"6/4"},{"$f":"INDEX(Odds!G:G,MATCH(J21,Odds!E:E,0))","v":2.5},{"$f":"INDEX(Odds!H:H,MATCH(J21,Odds!E:E,0))","v":0},0,null,{"$f":"IF(Match!A21=\"\",\"\",Match!T21)","v":"Bristol R 0-0 Wycombe "},null,{"$f":"IF(Odds!E21=\"\",\"\",Odds!E21)","v":"Bristol R"},{"$f":"INDEX(Odds!F:F,MATCH(R21,Odds!E:E,0))","v":"6/5"},0,{"$f":"INDEX(Match!O:O,MATCH(P21,Match!T:T,0))","v":"Bristol R"},{"$f":"INDEX(Match!F:F,MATCH(P21,Match!T:T,0))","v":0},{"$f":"INDEX(Match!P:P,MATCH(P21,Match!T:T,0))","v":"Wycombe"},{"$f":"INDEX(Match!G:G,MATCH(P21,Match!T:T,0))","v":0},null,null,null,null,"Sally Williams",{"$f":"INDEX(Picks!F:F,MATCH(AC21,Picks!A:A,0))","v":-3.7},{"$f":"INDEX(Weekly!I:I,MATCH(AC21,Weekly!E:E,0))","v":1},{"$f":"IF(AD21=\"\",\"\",_xlfn.RANK.EQ(AD21,TopScores,0))","v":19},null,"Ian Davies",{"$f":"INDEX(Picks!G:G,MATCH(AH21,Picks!A:A,0))","v":42.661818181818177},{"$f":"INDEX(Weekly!I:I,MATCH(AH21,Weekly!E:E,0))","v":1},{"$f":"IF(AI21=\"\",\"\",_xlfn.RANK.EQ(AI21,TopMaxScores,0))","v":16}]
[{"$f":"A20","v":"Andy White"},"Arsenal","9/11",1.8181818181818183,"√",null,null,null,null,"Arsenal",{"$f":"INDEX(Odds!F:F,MATCH(J22,Odds!E:E,0))","v":"9/11"},{"$f":"INDEX(Odds!G:G,MATCH(J22,Odds!E:E,0))","v":1.8181818181818183},{"$f":"INDEX(Odds!H:H,MATCH(J22,Odds!E:E,0))","v":1},1.8181818181818183,null,{"$f":"IF(Match!A22=\"\",\"\",Match!T22)","v":"Fleetwood 2-1 Wimbledon "},null,{"$f":"IF(Odds!E22=\"\",\"\",Odds!E22)","v":"Fleetwood"},{"$f":"INDEX(Odds!F:F,MATCH(R22,Odds!E:E,0))","v":"10/11"},1,{"$f":"INDEX(Match!O:O,MATCH(P22,Match!T:T,0))","v":"Fleetwood"},{"$f":"INDEX(Match!F:F,MATCH(P22,Match!T:T,0))","v":2},{"$f":"INDEX(Match!P:P,MATCH(P22,Match!T:T,0))","v":"Wimbledon"},{"$f":"INDEX(Match!G:G,MATCH(P22,Match!T:T,0))","v":1},null,null,null,null,"John Ronan",{"$f":"INDEX(Picks!F:F,MATCH(AC22,Picks!A:A,0))","v":-3.9},{"$f":"INDEX(Weekly!I:I,MATCH(AC22,Weekly!E:E,0))","v":1},{"$f":"IF(AD22=\"\",\"\",_xlfn.RANK.EQ(AD22,TopScores,0))","v":21},null,"Kei Lok Ma",{"$f":"INDEX(Picks!G:G,MATCH(AH22,Picks!A:A,0))","v":42.374499999999991},{"$f":"INDEX(Weekly!I:I,MATCH(AH22,Weekly!E:E,0))","v":2},{"$f":"IF(AI22=\"\",\"\",_xlfn.RANK.EQ(AI22,TopMaxScores,0))","v":17}]
[{"$f":"Results!B23","v":"Antony Robinson"},"Liverpool","1/7",1.1428571428571428,"√",{"$f":"IF(J23=\"\",-10,INDEX(Results!T:T,MATCH(A23,Results!V:V,0)))","v":-5.8571428571428577},{"$f":"IF(J23=\"\",\"\",INDEX(Results!AI:AI,MATCH(A23,Results!V:V,0)))","v":20.928571428571431},{"$f":"IF(G23=\"\",0,1)","v":1},{"$f":"INDEX(Picks!AF:AF,MATCH(A23,Picks!AC:AC,0))","v":47},"Liverpool",{"$f":"INDEX(Odds!F:F,MATCH(J23,Odds!E:E,0))","v":"1/7"},{"$f":"INDEX(Odds!G:G,MATCH(J23,Odds!E:E,0))","v":1.1428571428571428},{"$f":"INDEX(Odds!H:H,MATCH(J23,Odds!E:E,0))","v":1},1.1428571428571428,null,{"$f":"IF(Match!A23=\"\",\"\",Match!T23)","v":"Gillingham 1-2 Burton "},null,{"$f":"IF(Odds!E23=\"\",\"\",Odds!E23)","v":"Gillingham"},{"$f":"INDEX(Odds!F:F,MATCH(R23,Odds!E:E,0))","v":"13/8"},0,{"$f":"INDEX(Match!O:O,MATCH(P23,Match!T:T,0))","v":"Gillingham"},{"$f":"INDEX(Match!F:F,MATCH(P23,Match!T:T,0))","v":1},{"$f":"INDEX(Match!P:P,MATCH(P23,Match!T:T,0))","v":"Burton"},{"$f":"INDEX(Match!G:G,MATCH(P23,Match!T:T,0))","v":2},null,null,null,null,"Charlie Griffiths",{"$f":"INDEX(Picks!F:F,MATCH(AC23,Picks!A:A,0))","v":-4.0999999999999996},{"$f":"INDEX(Weekly!I:I,MATCH(AC23,Weekly!E:E,0))","v":1},{"$f":"IF(AD23=\"\",\"\",_xlfn.RANK.EQ(AD23,TopScores,0))","v":22},null,"Gareth Powell",{"$f":"INDEX(Picks!G:G,MATCH(AH23,Picks!A:A,0))","v":39.626923076923077},{"$f":"INDEX(Weekly!I:I,MATCH(AH23,Weekly!E:E,0))","v":1},{"$f":"IF(AI23=\"\",\"\",_xlfn.RANK.EQ(AI23,TopMaxScores,0))","v":18}]
[{"$f":"A23","v":"Antony Robinson"},"Sheff U","3/1",4,"x",null,null,null,null,"Sheff U",{"$f":"INDEX(Odds!F:F,MATCH(J24,Odds!E:E,0))","v":"3/1"},{"$f":"INDEX(Odds!G:G,MATCH(J24,Odds!E:E,0))","v":4},{"$f":"INDEX(Odds!H:H,MATCH(J24,Odds!E:E,0))","v":0},0,null,{"$f":"IF(Match!A24=\"\",\"\",Match!T24)","v":"Ipswich 1-1 Sunderland "},null,{"$f":"IF(Odds!E24=\"\",\"\",Odds!E24)","v":"Ipswich"},{"$f":"INDEX(Odds!F:F,MATCH(R24,Odds!E:E,0))","v":"7/5"},0,{"$f":"INDEX(Match!O:O,MATCH(P24,Match!T:T,0))","v":"Ipswich"},{"$f":"INDEX(Match!F:F,MATCH(P24,Match!T:T,0))","v":1},{"$f":"INDEX(Match!P:P,MATCH(P24,Match!T:T,0))","v":"Sunderland"},{"$f":"INDEX(Match!G:G,MATCH(P24,Match!T:T,0))","v":1},null,null,null,null,"Gerard Ventom",{"$f":"INDEX(Picks!F:F,MATCH(AC24,Picks!A:A,0))","v":-4.45},{"$f":"INDEX(Weekly!I:I,MATCH(AC24,Weekly!E:E,0))","v":1},{"$f":"IF(AD24=\"\",\"\",_xlfn.RANK.EQ(AD24,TopScores,0))","v":23},null,"Martin Molyneux",{"$f":"INDEX(Picks!G:G,MATCH(AH24,Picks!A:A,0))","v":38.3776923076923},{"$f":"INDEX(Weekly!I:I,MATCH(AH24,Weekly!E:E,0))","v":0},{"$f":"IF(AI24=\"\",\"\",_xlfn.RANK.EQ(AI24,TopMaxScores,0))","v":19}]
[{"$f":"A23","v":"Antony Robinson"},"Leeds","7/10",1.7,"x",null,null,null,null,"Leeds",{"$f":"INDEX(Odds!F:F,MATCH(J25,Odds!E:E,0))","v":"7/10"},{"$f":"INDEX(Odds!G:G,MATCH(J25,Odds!E:E,0))","v":1.7},{"$f":"INDEX(Odds!H:H,MATCH(J25,Odds!E:E,0))","v":0},0,null,{"$f":"IF(Match!A25=\"\",\"\",Match!T25)","v":"MK Dons 1-0 Shrewsbury "},null,{"$f":"IF(Odds!E25=\"\",\"\",Odds!E25)","v":"MK Dons"},{"$f":"INDEX(Odds!F:F,MATCH(R25,Odds!E:E,0))","v":"15/13"},1,{"$f":"INDEX(Match!O:O,MATCH(P25,Match!T:T,0))","v":"MK Dons"},{"$f":"INDEX(Match!F:F,MATCH(P25,Match!T:T,0))","v":1},{"$f":"INDEX(Match!P:P,MATCH(P25,Match!T:T,0))","v":"Shrewsbury"},{"$f":"INDEX(Match!G:G,MATCH(P25,Match!T:T,0))","v":0},null,null,null,null,"Nick Blocksidge",{"$f":"INDEX(Picks!F:F,MATCH(AC25,Picks!A:A,0))","v":-4.45},{"$f":"INDEX(Weekly!I:I,MATCH(AC25,Weekly!E:E,0))","v":1},{"$f":"IF(AD25=\"\",\"\",_xlfn.RANK.EQ(AD25,TopScores,0))","v":23},null,"Paul Fiddler",{"$f":"INDEX(Picks!G:G,MATCH(AH25,Picks!A:A,0))","v":37.155249999999995},{"$f":"INDEX(Weekly!I:I,MATCH(AH25,Weekly!E:E,0))","v":1},{"$f":"IF(AI25=\"\",\"\",_xlfn.RANK.EQ(AI25,TopMaxScores,0))","v":20}]
[{"$f":"Results!B26","v":"Ashley Houghton"},"Watford","10/11",1.9090909090909092,"x",{"$f":"IF(J26=\"\",-10,INDEX(Results!T:T,MATCH(A26,Results!V:V,0)))","v":-7},{"$f":"IF(J26=\"\",\"\",INDEX(Results!AI:AI,MATCH(A26,Results!V:V,0)))","v":16.741818181818179},{"$f":"IF(G26=\"\",0,1)","v":1},{"$f":"INDEX(Picks!AF:AF,MATCH(A26,Picks!AC:AC,0))","v":49},"Watford",{"$f":"INDEX(Odds!F:F,MATCH(J26,Odds!E:E,0))","v":"10/11"},{"$f":"INDEX(Odds!G:G,MATCH(J26,Odds!E:E,0))","v":1.9090909090909092},{"$f":"INDEX(Odds!H:H,MATCH(J26,Odds!E:E,0))","v":0},0,null,{"$f":"IF(Match!A26=\"\",\"\",Match!T26)","v":"Oxford 1-0 Peterborough "},null,{"$f":"IF(Odds!E26=\"\",\"\",Odds!E26)","v":"Oxford"},{"$f":"INDEX(Odds!F:F,MATCH(R26,Odds!E:E,0))","v":"6/4"},1,{"$f":"INDEX(Match!O:O,MATCH(P26,Match!T:T,0))","v":"Oxford"},{"$f":"INDEX(Match!F:F,MATCH(P26,Match!T:T,0))","v":1},{"$f":"INDEX(Match!P:P,MATCH(P26,Match!T:T,0))","v":"Peterborough"},{"$f":"INDEX(Match!G:G,MATCH(P26,Match!T:T,0))","v":0},null,null,null,null,"Paul Adderley",{"$f":"INDEX(Picks!F:F,MATCH(AC26,Picks!A:A,0))","v":-4.45},{"$f":"INDEX(Weekly!I:I,MATCH(AC26,Weekly!E:E,0))","v":1},{"$f":"IF(AD26=\"\",\"\",_xlfn.RANK.EQ(AD26,TopScores,0))","v":23},null,"Chris Luck",{"$f":"INDEX(Picks!G:G,MATCH(AH26,Picks!A:A,0))","v":36.554999999999993},{"$f":"INDEX(Weekly!I:I,MATCH(AH26,Weekly!E:E,0))","v":0},{"$f":"IF(AI26=\"\",\"\",_xlfn.RANK.EQ(AI26,TopMaxScores,0))","v":21}]
[{"$f":"A26","v":"Ashley Houghton"},"Derby","23/20",2.15,"x",null,null,null,null,"Derby",{"$f":"INDEX(Odds!F:F,MATCH(J27,Odds!E:E,0))","v":"23/20"},{"$f":"INDEX(Odds!G:G,MATCH(J27,Odds!E:E,0))","v":2.15},{"$f":"INDEX(Odds!H:H,MATCH(J27,Odds!E:E,0))","v":0},0,null,{"$f":"IF(Match!A27=\"\",\"\",Match!T27)","v":"Portsmouth 2-0 Tranmere "},null,{"$f":"IF(Odds!E27=\"\",\"\",Odds!E27)","v":"Portsmouth"},{"$f":"INDEX(Odds!F:F,MATCH(R27,Odds!E:E,0))","v":"4/6"},1,{"$f":"INDEX(Match!O:O,MATCH(P27,Match!T:T,0))","v":"Portsmouth"},{"$f":"INDEX(Match!F:F,MATCH(P27,Match!T:T,0))","v":2},{"$f":"INDEX(Match!P:P,MATCH(P27,Match!T:T,0))","v":"Tranmere"},{"$f":"INDEX(Match!G:G,MATCH(P27,Match!T:T,0))","v":0},null,null,null,null,"Mark Bunn",{"$f":"INDEX(Picks!F:F,MATCH(AC27,Picks!A:A,0))","v":-4.5},{"$f":"INDEX(Weekly!I:I,MATCH(AC27,Weekly!E:E,0))","v":1},{"$f":"IF(AD27=\"\",\"\",_xlfn.RANK.EQ(AD27,TopScores,0))","v":26},null,"John Evans",{"$f":"INDEX(Picks!G:G,MATCH(AH27,Picks!A:A,0))","v":36.493333333333325},{"$f":"INDEX(Weekly!I:I,MATCH(AH27,Weekly!E:E,0))","v":1},{"$f":"IF(AI27=\"\",\"\",_xlfn.RANK.EQ(AI27,TopMaxScores,0))","v":22}]
[{"$f":"A26","v":"Ashley Houghton"},"Leeds","7/10",1.7,"x",null,null,null,null,"Leeds",{"$f":"INDEX(Odds!F:F,MATCH(J28,Odds!E:E,0))","v":"7/10"},{"$f":"INDEX(Odds!G:G,MATCH(J28,Odds!E:E,0))","v":1.7},{"$f":"INDEX(Odds!H:H,MATCH(J28,Odds!E:E,0))","v":0},0,null,{"$f":"IF(Match!A28=\"\",\"\",Match!T28)","v":"Rochdale 1-1 Doncaster "},null,{"$f":"IF(Odds!E28=\"\",\"\",Odds!E28)","v":"Rochdale"},{"$f":"INDEX(Odds!F:F,MATCH(R28,Odds!E:E,0))","v":"13/8"},0,{"$f":"INDEX(Match!O:O,MATCH(P28,Match!T:T,0))","v":"Rochdale"},{"$f":"INDEX(Match!F:F,MATCH(P28,Match!T:T,0))","v":1},{"$f":"INDEX(Match!P:P,MATCH(P28,Match!T:T,0))","v":"Doncaster"},{"$f":"INDEX(Match!G:G,MATCH(P28,Match!T:T,0))","v":1},null,null,null,null,"Mo Sudell",{"$f":"INDEX(Picks!F:F,MATCH(AC28,Picks!A:A,0))","v":-4.5},{"$f":"INDEX(Weekly!I:I,MATCH(AC28,Weekly!E:E,0))","v":1},{"$f":"IF(AD28=\"\",\"\",_xlfn.RANK.EQ(AD28,TopScores,0))","v":26},null,"Steve Carter",{"$f":"INDEX(Picks!G:G,MATCH(AH28,Picks!A:A,0))","v":36.006993006993014},{"$f":"INDEX(Weekly!I:I,MATCH(AH28,Weekly!E:E,0))","v":1},{"$f":"IF(AI28=\"\",\"\",_xlfn.RANK.EQ(AI28,TopMaxScores,0))","v":23}]
[{"$f":"Results!B29","v":"Barry Birchall"},"Watford","10/11",1.9090909090909092,"x",{"$f":"IF(J29=\"\",-10,INDEX(Results!T:T,MATCH(A29,Results!V:V,0)))","v":-5.22},{"$f":"IF(J29=\"\",\"\",INDEX(Results!AI:AI,MATCH(A29,Results!V:V,0)))","v":13.835636363636368},{"$f":"IF(G29=\"\",0,1)","v":1},{"$f":"INDEX(Picks!AF:AF,MATCH(A29,Picks!AC:AC,0))","v":39},"Watford",{"$f":"INDEX(Odds!F:F,MATCH(J29,Odds!E:E,0))","v":"10/11"},{"$f":"INDEX(Odds!G:G,MATCH(J29,Odds!E:E,0))","v":1.9090909090909092},{"$f":"INDEX(Odds!H:H,MATCH(J29,Odds!E:E,0))","v":0},0,null,{"$f":"IF(Match!A29=\"\",\"\",Match!T29)","v":"Rotherham 0-2 Lincoln "},null,{"$f":"IF(Odds!E29=\"\",\"\",Odds!E29)","v":"Rotherham"},{"$f":"INDEX(Odds!F:F,MATCH(R29,Odds!E:E,0))","v":"11/10"},0,{"$f":"INDEX(Match!O:O,MATCH(P29,Match!T:T,0))","v":"Rotherham"},{"$f":"INDEX(Match!F:F,MATCH(P29,Match!T:T,0))","v":0},{"$f":"INDEX(Match!P:P,MATCH(P29,Match!T:T,0))","v":"Lincoln"},{"$f":"INDEX(Match!G:G,MATCH(P29,Match!T:T,0))","v":2},null,null,null,null,"Simon Greenhalgh",{"$f":"INDEX(Picks!F:F,MATCH(AC29,Picks!A:A,0))","v":-4.5},{"$f":"INDEX(Weekly!I:I,MATCH(AC29,Weekly!E:E,0))","v":1},{"$f":"IF(AD29=\"\",\"\",_xlfn.RANK.EQ(AD29,TopScores,0))","v":26},null,"Nigel Heyes",{"$f":"INDEX(Picks!G:G,MATCH(AH29,Picks!A:A,0))","v":35.117799999999995},{"$f":"INDEX(Weekly!I:I,MATCH(AH29,Weekly!E:E,0))","v":1},{"$f":"IF(AI29=\"\",\"\",_xlfn.RANK.EQ(AI29,TopMaxScores,0))","v":24}]
[{"$f":"A29","v":"Barry Birchall"},"Cardiff","78/100",1.78,"√",null,null,null,null,"Cardiff",{"$f":"INDEX(Odds!F:F,MATCH(J30,Odds!E:E,0))","v":"78/100"},{"$f":"INDEX(Odds!G:G,MATCH(J30,Odds!E:E,0))","v":1.78},{"$f":"INDEX(Odds!H:H,MATCH(J30,Odds!E:E,0))","v":1},1.78,null,{"$f":"IF(Match!A30=\"\",\"\",Match!T30)","v":"Southend 1-3 Blackpool "},null,{"$f":"IF(Odds!E30=\"\",\"\",Odds!E30)","v":"Southend"},{"$f":"INDEX(Odds!F:F,MATCH(R30,Odds!E:E,0))","v":"13/8"},0,{"$f":"INDEX(Match!O:O,MATCH(P30,Match!T:T,0))","v":"Southend"},{"$f":"INDEX(Match!F:F,MATCH(P30,Match!T:T,0))","v":1},{"$f":"INDEX(Match!P:P,MATCH(P30,Match!T:T,0))","v":"Blackpool"},{"$f":"INDEX(Match!G:G,MATCH(P30,Match!T:T,0))","v":3},null,null,null,null,"Lennie Bow",{"$f":"INDEX(Picks!F:F,MATCH(AC30,Picks!A:A,0))","v":-4.8461538461538467},{"$f":"INDEX(Weekly!I:I,MATCH(AC30,Weekly!E:E,0))","v":1},{"$f":"IF(AD30=\"\",\"\",_xlfn.RANK.EQ(AD30,TopScores,0))","v":29},null,"Simon Greenhalgh",{"$f":"INDEX(Picks!G:G,MATCH(AH30,Picks!A:A,0))","v":34.8203125},{"$f":"INDEX(Weekly!I:I,MATCH(AH30,Weekly!E:E,0))","v":1},{"$f":"IF(AI30=\"\",\"\",_xlfn.RANK.EQ(AI30,TopMaxScores,0))","v":25}]
[{"$f":"A29","v":"Barry Birchall"},"West Brom","7/10",1.7,"x",null,null,null,null,"West Brom",{"$f":"INDEX(Odds!F:F,MATCH(J31,Odds!E:E,0))","v":"7/10"},{"$f":"INDEX(Odds!G:G,MATCH(J31,Odds!E:E,0))","v":1.7},{"$f":"INDEX(Odds!H:H,MATCH(J31,Odds!E:E,0))","v":0},0,null,{"$f":"IF(Match!A31=\"\",\"\",Match!T31)","v":"Cambridge 0-0 Newport "},null,{"$f":"IF(Odds!E31=\"\",\"\",Odds!E31)","v":"Cambridge"},{"$f":"INDEX(Odds!F:F,MATCH(R31,Odds!E:E,0))","v":"17/10"},0,{"$f":"INDEX(Match!O:O,MATCH(P31,Match!T:T,0))","v":"Cambridge"},{"$f":"INDEX(Match!F:F,MATCH(P31,Match!T:T,0))","v":0},{"$f":"INDEX(Match!P:P,MATCH(P31,Match!T:T,0))","v":"Newport"},{"$f":"INDEX(Match!G:G,MATCH(P31,Match!T:T,0))","v":0},null,null,null,null,"Gareth Powell",{"$f":"INDEX(Picks!F:F,MATCH(AC31,Picks!A:A,0))","v":-4.95},{"$f":"INDEX(Weekly!I:I,MATCH(AC31,Weekly!E:E,0))","v":1},{"$f":"IF(AD31=\"\",\"\",_xlfn.RANK.EQ(AD31,TopScores,0))","v":30},null,"Oscar Jackson",{"$f":"INDEX(Picks!G:G,MATCH(AH31,Picks!A:A,0))","v":33.2425},{"$f":"INDEX(Weekly!I:I,MATCH(AH31,Weekly!E:E,0))","v":0},{"$f":"IF(AI31=\"\",\"\",_xlfn.RANK.EQ(AI31,TopMaxScores,0))","v":26}]
[{"$f":"Results!B32","v":"Ben Rosser"},"Burnley draw","23/10",3.3,"x",{"$f":"IF(J32=\"\",-10,INDEX(Results!T:T,MATCH(A32,Results!V:V,0)))","v":-7},{"$f":"IF(J32=\"\",\"\",INDEX(Results!AI:AI,MATCH(A32,Results!V:V,0)))","v":97.35},{"$f":"IF(G32=\"\",0,1)","v":1},{"$f":"INDEX(Picks!AF:AF,MATCH(A32,Picks!AC:AC,0))","v":49},"Burnley draw",{"$f":"INDEX(Odds!F:F,MATCH(J32,Odds!E:E,0))","v":"23/10"},{"$f":"INDEX(Odds!G:G,MATCH(J32,Odds!E:E,0))","v":3.3},{"$f":"INDEX(Odds!H:H,MATCH(J32,Odds!E:E,0))","v":0},0,null,{"$f":"IF(Match!A32=\"\",\"\",Match!T32)","v":"Cheltenham 4-1 Scunthorpe "},null,{"$f":"IF(Odds!E32=\"\",\"\",Odds!E32)","v":"Cheltenham"},{"$f":"INDEX(Odds!F:F,MATCH(R32,Odds!E:E,0))","v":"15/8"},1,{"$f":"INDEX(Match!O:O,MATCH(P32,Match!T:T,0))","v":"Cheltenham"},{"$f":"INDEX(Match!F:F,MATCH(P32,Match!T:T,0))","v":4},{"$f":"INDEX(Match!P:P,MATCH(P32,Match!T:T,0))","v":"Scunthorpe"},{"$f":"INDEX(Match!G:G,MATCH(P32,Match!T:T,0))","v":1},null,null,null,null,"Paul Fiddler",{"$f":"INDEX(Picks!F:F,MATCH(AC32,Picks!A:A,0))","v":-4.95},{"$f":"INDEX(Weekly!I:I,MATCH(AC32,Weekly!E:E,0))","v":1},{"$f":"IF(AD32=\"\",\"\",_xlfn.RANK.EQ(AD32,TopScores,0))","v":30},null,"Mark Bunn",{"$f":"INDEX(Picks!G:G,MATCH(AH32,Picks!A:A,0))","v":33.002499999999998},{"$f":"INDEX(Weekly!I:I,MATCH(AH32,Weekly!E:E,0))","v":1},{"$f":"IF(AI32=\"\",\"\",_xlfn.RANK.EQ(AI32,TopMaxScores,0))","v":27}]
[{"$f":"A32","v":"Ben Rosser"},"Everton","6/4",2.5,"x",null,null,null,null,"Everton",{"$f":"INDEX(Odds!F:F,MATCH(J33,Odds!E:E,0))","v":"6/4"},{"$f":"INDEX(Odds!G:G,MATCH(J33,Odds!E:E,0))","v":2.5},{"$f":"INDEX(Odds!H:H,MATCH(J33,Odds!E:E,0))","v":0},0,null,{"$f":"IF(Match!A33=\"\",\"\",Match!T33)","v":"Crawley 2-0 Salford "},null,{"$f":"IF(Odds!E33=\"\",\"\",Odds!E33)","v":"Crawley"},{"$f":"INDEX(Odds!F:F,MATCH(R33,Odds!E:E,0))","v":"23/10"},1,{"$f":"INDEX(Match!O:O,MATCH(P33,Match!T:T,0))","v":"Crawley"},{"$f":"INDEX(Match!F:F,MATCH(P33,Match!T:T,0))","v":2},{"$f":"INDEX(Match!P:P,MATCH(P33,Match!T:T,0))","v":"Salford"},{"$f":"INDEX(Match!G:G,MATCH(P33,Match!T:T,0))","v":0},null,null,null,null,"Chris Bow",{"$f":"INDEX(Picks!F:F,MATCH(AC33,Picks!A:A,0))","v":-5.0909090909090908},{"$f":"INDEX(Weekly!I:I,MATCH(AC33,Weekly!E:E,0))","v":1},{"$f":"IF(AD33=\"\",\"\",_xlfn.RANK.EQ(AD33,TopScores,0))","v":32},null,"Tom Robinson",{"$f":"INDEX(Picks!G:G,MATCH(AH33,Picks!A:A,0))","v":31.4482},{"$f":"INDEX(Weekly!I:I,MATCH(AH33,Weekly!E:E,0))","v":2},{"$f":"IF(AI33=\"\",\"\",_xlfn.RANK.EQ(AI33,TopMaxScores,0))","v":28}]
[{"$f":"A32","v":"Ben Rosser"},"West Ham draw","5/1",6,"x",null,null,null,null,"West Ham draw",{"$f":"INDEX(Odds!F:F,MATCH(J34,Odds!E:E,0))","v":"5/1"},{"$f":"INDEX(Odds!G:G,MATCH(J34,Odds!E:E,0))","v":6},{"$f":"INDEX(Odds!H:H,MATCH(J34,Odds!E:E,0))","v":0},0,null,{"$f":"IF(Match!A34=\"\",\"\",Match!T34)","v":"Grimsby 1-1 Bradford "},null,{"$f":"IF(Odds!E34=\"\",\"\",Odds!E34)","v":"Grimsby"},{"$f":"INDEX(Odds!F:F,MATCH(R34,Odds!E:E,0))","v":"23/10"},0,{"$f":"INDEX(Match!O:O,MATCH(P34,Match!T:T,0))","v":"Grimsby"},{"$f":"INDEX(Match!F:F,MATCH(P34,Match!T:T,0))","v":1},{"$f":"INDEX(Match!P:P,MATCH(P34,Match!T:T,0))","v":"Bradford"},{"$f":"INDEX(Match!G:G,MATCH(P34,Match!T:T,0))","v":1},null,null,null,null,"Dave Orrell",{"$f":"INDEX(Picks!F:F,MATCH(AC34,Picks!A:A,0))","v":-5.0909090909090908},{"$f":"INDEX(Weekly!I:I,MATCH(AC34,Weekly!E:E,0))","v":1},{"$f":"IF(AD34=\"\",\"\",_xlfn.RANK.EQ(AD34,TopScores,0))","v":32},null,"Paul Fairhurst",{"$f":"INDEX(Picks!G:G,MATCH(AH34,Picks!A:A,0))","v":30.252800000000001},{"$f":"INDEX(Weekly!I:I,MATCH(AH34,Weekly!E:E,0))","v":2},{"$f":"IF(AI34=\"\",\"\",_xlfn.RANK.EQ(AI34,TopMaxScores,0))","v":29}]
[{"$f":"Results!B35","v":"Charlie Griffiths"},"Wycombe","21/10",3.1,"x",{"$f":"IF(J35=\"\",-10,INDEX(Results!T:T,MATCH(A35,Results!V:V,0)))","v":-4.0999999999999996},{"$f":"IF(J35=\"\",\"\",INDEX(Results!AI:AI,MATCH(A35,Results!V:V,0)))","v":46.366},{"$f":"IF(G35=\"\",0,1)","v":1},{"$f":"INDEX(Picks!AF:AF,MATCH(A35,Picks!AC:AC,0))","v":22},"Wycombe",{"$f":"INDEX(Odds!F:F,MATCH(J35,Odds!E:E,0))","v":"21/10"},{"$f":"INDEX(Odds!G:G,MATCH(J35,Odds!E:E,0))","v":3.1},{"$f":"INDEX(Odds!H:H,MATCH(J35,Odds!E:E,0))","v":0},0,null,{"$f":"IF(Match!A35=\"\",\"\",Match!T35)","v":"Macclesfield 3-0 Orient "},null,{"$f":"IF(Odds!E35=\"\",\"\",Odds!E35)","v":"Macclesfield"},{"$f":"INDEX(Odds!F:F,MATCH(R35,Odds!E:E,0))","v":"2/1"},1,{"$f":"INDEX(Match!O:O,MATCH(P35,Match!T:T,0))","v":"Macclesfield"},{"$f":"INDEX(Match!F:F,MATCH(P35,Match!T:T,0))","v":3},{"$f":"INDEX(Match!P:P,MATCH(P35,Match!T:T,0))","v":"Orient"},{"$f":"INDEX(Match!G:G,MATCH(P35,Match!T:T,0))","v":0},null,null,null,null,"Andy White",{"$f":"INDEX(Picks!F:F,MATCH(AC35,Picks!A:A,0))","v":-5.1818181818181817},{"$f":"INDEX(Weekly!I:I,MATCH(AC35,Weekly!E:E,0))","v":1},{"$f":"IF(AD35=\"\",\"\",_xlfn.RANK.EQ(AD35,TopScores,0))","v":34},null,"Graham Miller",{"$f":"INDEX(Picks!G:G,MATCH(AH35,Picks!A:A,0))","v":29.884},{"$f":"INDEX(Weekly!I:I,MATCH(AH35,Weekly!E:E,0))","v":2},{"$f":"IF(AI35=\"\",\"\",_xlfn.RANK.EQ(AI35,TopMaxScores,0))","v":30}]
[{"$f":"A35","v":"Charlie Griffiths"},"Orient","7/5",2.4,"x",null,null,null,null,"Orient",{"$f":"INDEX(Odds!F:F,MATCH(J36,Odds!E:E,0))","v":"7/5"},{"$f":"INDEX(Odds!G:G,MATCH(J36,Odds!E:E,0))","v":2.4},{"$f":"INDEX(Odds!H:H,MATCH(J36,Odds!E:E,0))","v":0},0,null,{"$f":"IF(Match!A36=\"\",\"\",Match!T36)","v":"Mansfield 2-2 Morecambe "},null,{"$f":"IF(Odds!E36=\"\",\"\",Odds!E36)","v":"Mansfield"},{"$f":"INDEX(Odds!F:F,MATCH(R36,Odds!E:E,0))","v":"7/10"},0,{"$f":"INDEX(Match!O:O,MATCH(P36,Match!T:T,0))","v":"Mansfield"},{"$f":"INDEX(Match!F:F,MATCH(P36,Match!T:T,0))","v":2},{"$f":"INDEX(Match!P:P,MATCH(P36,Match!T:T,0))","v":"Morecambe"},{"$f":"INDEX(Match!G:G,MATCH(P36,Match!T:T,0))","v":2},null,null,null,null,"David Dunn",{"$f":"INDEX(Picks!F:F,MATCH(AC36,Picks!A:A,0))","v":-5.1818181818181817},{"$f":"INDEX(Weekly!I:I,MATCH(AC36,Weekly!E:E,0))","v":1},{"$f":"IF(AD36=\"\",\"\",_xlfn.RANK.EQ(AD36,TopScores,0))","v":34},null,"Rob England",{"$f":"INDEX(Picks!G:G,MATCH(AH36,Picks!A:A,0))","v":29.778571428571425},{"$f":"INDEX(Weekly!I:I,MATCH(AH36,Weekly!E:E,0))","v":1},{"$f":"IF(AI36=\"\",\"\",_xlfn.RANK.EQ(AI36,TopMaxScores,0))","v":31}]
[{"$f":"A35","v":"Charlie Griffiths"},"Crewe","19/10",2.9,"√",null,null,null,null,"Crewe",{"$f":"INDEX(Odds!F:F,MATCH(J37,Odds!E:E,0))","v":"19/10"},{"$f":"INDEX(Odds!G:G,MATCH(J37,Odds!E:E,0))","v":2.9},{"$f":"INDEX(Odds!H:H,MATCH(J37,Odds!E:E,0))","v":1},2.9,null,{"$f":"IF(Match!A37=\"\",\"\",Match!T37)","v":"Oldham 1-2 Crewe "},null,{"$f":"IF(Odds!E37=\"\",\"\",Odds!E37)","v":"Oldham"},{"$f":"INDEX(Odds!F:F,MATCH(R37,Odds!E:E,0))","v":"7/5"},0,{"$f":"INDEX(Match!O:O,MATCH(P37,Match!T:T,0))","v":"Oldham"},{"$f":"INDEX(Match!F:F,MATCH(P37,Match!T:T,0))","v":1},{"$f":"INDEX(Match!P:P,MATCH(P37,Match!T:T,0))","v":"Crewe"},{"$f":"INDEX(Match!G:G,MATCH(P37,Match!T:T,0))","v":2},null,null,null,null,"Steve Carter",{"$f":"INDEX(Picks!F:F,MATCH(AC37,Picks!A:A,0))","v":-5.1818181818181817},{"$f":"INDEX(Weekly!I:I,MATCH(AC37,Weekly!E:E,0))","v":1},{"$f":"IF(AD37=\"\",\"\",_xlfn.RANK.EQ(AD37,TopScores,0))","v":34},null,"David Dunn",{"$f":"INDEX(Picks!G:G,MATCH(AH37,Picks!A:A,0))","v":29.712396694214888},{"$f":"INDEX(Weekly!I:I,MATCH(AH37,Weekly!E:E,0))","v":1},{"$f":"IF(AI37=\"\",\"\",_xlfn.RANK.EQ(AI37,TopMaxScores,0))","v":32}]
[{"$f":"Results!B38","v":"Chris Bow"},"Bournemouth","10/11",1.9090909090909092,"x",{"$f":"IF(J38=\"\",-10,INDEX(Results!T:T,MATCH(A38,Results!V:V,0)))","v":-5.0909090909090908},{"$f":"IF(J38=\"\",\"\",INDEX(Results!AI:AI,MATCH(A38,Results!V:V,0)))","v":16.619083395942901},{"$f":"IF(G38=\"\",0,1)","v":1},{"$f":"INDEX(Picks!AF:AF,MATCH(A38,Picks!AC:AC,0))","v":32},"Bournemouth",{"$f":"INDEX(Odds!F:F,MATCH(J38,Odds!E:E,0))","v":"10/11"},{"$f":"INDEX(Odds!G:G,MATCH(J38,Odds!E:E,0))","v":1.9090909090909092},{"$f":"INDEX(Odds!H:H,MATCH(J38,Odds!E:E,0))","v":0},0,null,{"$f":"IF(Match!A38=\"\",\"\",Match!T38)","v":"Plymouth 1-0 Colchester "},null,{"$f":"IF(Odds!E38=\"\",\"\",Odds!E38)","v":"Plymouth"},{"$f":"INDEX(Odds!F:F,MATCH(R38,Odds!E:E,0))","v":"23/20"},1,{"$f":"INDEX(Match!O:O,MATCH(P38,Match!T:T,0))","v":"Plymouth"},{"$f":"INDEX(Match!F:F,MATCH(P38,Match!T:T,0))","v":1},{"$f":"INDEX(Match!P:P,MATCH(P38,Match!T:T,0))","v":"Colchester"},{"$f":"INDEX(Match!G:G,MATCH(P38,Match!T:T,0))","v":0},null,null,null,null,"Mark Saunders",{"$f":"INDEX(Picks!F:F,MATCH(AC38,Picks!A:A,0))","v":-5.2},{"$f":"INDEX(Weekly!I:I,MATCH(AC38,Weekly!E:E,0))","v":1},{"$f":"IF(AD38=\"\",\"\",_xlfn.RANK.EQ(AD38,TopScores,0))","v":37},null,"Jack Walsh",{"$f":"INDEX(Picks!G:G,MATCH(AH38,Picks!A:A,0))","v":28.145454545454548},{"$f":"INDEX(Weekly!I:I,MATCH(AH38,Weekly!E:E,0))","v":0},{"$f":"IF(AI38=\"\",\"\",_xlfn.RANK.EQ(AI38,TopMaxScores,0))","v":33}]
[{"$f":"A38","v":"Chris Bow"},"Watford","10/11",1.9090909090909092,"x",null,null,null,null,"Watford",{"$f":"INDEX(Odds!F:F,MATCH(J39,Odds!E:E,0))","v":"10/11"},{"$f":"INDEX(Odds!G:G,MATCH(J39,Odds!E:E,0))","v":1.9090909090909092},{"$f":"INDEX(Odds!H:H,MATCH(J39,Odds!E:E,0))","v":0},0,null,{"$f":"IF(Match!A39=\"\",\"\",Match!T39)","v":"Port Vale 1-1 Northampton "},null,{"$f":"IF(Odds!E39=\"\",\"\",Odds!E39)","v":"Port Vale"},{"$f":"INDEX(Odds!F:F,MATCH(R39,Odds!E:E,0))","v":"13/8"},0,{"$f":"INDEX(Match!O:O,MATCH(P39,Match!T:T,0))","v":"Port Vale"},{"$f":"INDEX(Match!F:F,MATCH(P39,Match!T:T,0))","v":1},{"$f":"INDEX(Match!P:P,MATCH(P39,Match!T:T,0))","v":"Northampton"},{"$f":"INDEX(Match!G:G,MATCH(P39,Match!T:T,0))","v":1},null,null,null,null,"Vinny Topping",{"$f":"INDEX(Picks!F:F,MATCH(AC39,Picks!A:A,0))","v":-5.2},{"$f":"INDEX(Weekly!I:I,MATCH(AC39,Weekly!E:E,0))","v":1},{"$f":"IF(AD39=\"\",\"\",_xlfn.RANK.EQ(AD39,TopScores,0))","v":37},null,"Graeme Holmes",{"$f":"INDEX(Picks!G:G,MATCH(AH39,Picks!A:A,0))","v":26.3035},{"$f":"INDEX(Weekly!I:I,MATCH(AH39,Weekly!E:E,0))","v":0},{"$f":"IF(AI39=\"\",\"\",_xlfn.RANK.EQ(AI39,TopMaxScores,0))","v":34}]
[{"$f":"A38","v":"Chris Bow"},"Fleetwood","10/11",1.9090909090909092,"√",null,null,null,null,"Fleetwood",{"$f":"INDEX(Odds!F:F,MATCH(J40,Odds!E:E,0))","v":"10/11"},{"$f":"INDEX(Odds!G:G,MATCH(J40,Odds!E:E,0))","v":1.9090909090909092},{"$f":"INDEX(Odds!H:H,MATCH(J40,Odds!E:E,0))","v":1},1.9090909090909092,null,{"$f":"IF(Match!A40=\"\",\"\",Match!T40)","v":"Stevenage 0-1 Exeter "},null,{"$f":"IF(Odds!E40=\"\",\"\",Odds!E40)","v":"Stevenage"},{"$f":"INDEX(Odds!F:F,MATCH(R40,Odds!E:E,0))","v":"16/11"},0,{"$f":"INDEX(Match!O:O,MATCH(P40,Match!T:T,0))","v":"Stevenage"},{"$f":"INDEX(Match!F:F,MATCH(P40,Match!T:T,0))","v":0},{"$f":"INDEX(Match!P:P,MATCH(P40,Match!T:T,0))","v":"Exeter"},{"$f":"INDEX(Match!G:G,MATCH(P40,Match!T:T,0))","v":1},null,null,null,null,"Barry Birchall",{"$f":"INDEX(Picks!F:F,MATCH(AC40,Picks!A:A,0))","v":-5.22},{"$f":"INDEX(Weekly!I:I,MATCH(AC40,Weekly!E:E,0))","v":1},{"$f":"IF(AD40=\"\",\"\",_xlfn.RANK.EQ(AD40,TopScores,0))","v":39},null,"Dave Orrell",{"$f":"INDEX(Picks!G:G,MATCH(AH40,Picks!A:A,0))","v":24.890909090909094},{"$f":"INDEX(Weekly!I:I,MATCH(AH40,Weekly!E:E,0))","v":1},{"$f":"IF(AI40=\"\",\"\",_xlfn.RANK.EQ(AI40,TopMaxScores,0))","v":35}]
[{"$f":"Results!B41","v":"Chris Griffin"},"Derby","23/20",2.15,"x",{"$f":"IF(J41=\"\",-10,INDEX(Results!T:T,MATCH(A41,Results!V:V,0)))","v":-5.22},{"$f":"IF(J41=\"\",\"\",INDEX(Results!AI:AI,MATCH(A41,Results!V:V,0)))","v":15.643899999999999},{"$f":"IF(G41=\"\",0,1)","v":1},{"$f":"INDEX(Picks!AF:AF,MATCH(A41,Picks!AC:AC,0))","v":39},"Derby",{"$f":"INDEX(Odds!F:F,MATCH(J41,Odds!E:E,0))","v":"23/20"},{"$f":"INDEX(Odds!G:G,MATCH(J41,Odds!E:E,0))","v":2.15},{"$f":"INDEX(Odds!H:H,MATCH(J41,Odds!E:E,0))","v":0},0,null,{"$f":"IF(Match!A41=\"\",\"\",Match!T41)","v":"Swindon 3-2 Carlisle "},null,{"$f":"IF(Odds!E41=\"\",\"\",Odds!E41)","v":"Swindon"},{"$f":"INDEX(Odds!F:F,MATCH(R41,Odds!E:E,0))","v":"21/20"},1,{"$f":"INDEX(Match!O:O,MATCH(P41,Match!T:T,0))","v":"Swindon"},{"$f":"INDEX(Match!F:F,MATCH(P41,Match!T:T,0))","v":3},{"$f":"INDEX(Match!P:P,MATCH(P41,Match!T:T,0))","v":"Carlisle"},{"$f":"INDEX(Match!G:G,MATCH(P41,Match!T:T,0))","v":2},null,null,null,null,"Chris Griffin",{"$f":"INDEX(Picks!F:F,MATCH(AC41,Picks!A:A,0))","v":-5.22},{"$f":"INDEX(Weekly!I:I,MATCH(AC41,Weekly!E:E,0))","v":1},{"$f":"IF(AD41=\"\",\"\",_xlfn.RANK.EQ(AD41,TopScores,0))","v":39},null,"Nick Blocksidge",{"$f":"INDEX(Picks!G:G,MATCH(AH41,Picks!A:A,0))","v":24.530909090909091},{"$f":"INDEX(Weekly!I:I,MATCH(AH41,Weekly!E:E,0))","v":1},{"$f":"IF(AI41=\"\",\"\",_xlfn.RANK.EQ(AI41,TopMaxScores,0))","v":36}]
[{"$f":"A41","v":"Chris Griffin"},"West Brom","7/10",1.7,"x",null,null,null,null,"West Brom",{"$f":"INDEX(Odds!F:F,MATCH(J42,Odds!E:E,0))","v":"7/10"},{"$f":"INDEX(Odds!G:G,MATCH(J42,Odds!E:E,0))","v":1.7},{"$f":"INDEX(Odds!H:H,MATCH(J42,Odds!E:E,0))","v":0},0,null,{"$f":"IF(Match!A42=\"\",\"\",Match!T42)","v":"Walsall 1-1 Forest Green "},null,{"$f":"IF(Odds!E42=\"\",\"\",Odds!E42)","v":"Walsall"},{"$f":"INDEX(Odds!F:F,MATCH(R42,Odds!E:E,0))","v":"11/8"},0,{"$f":"INDEX(Match!O:O,MATCH(P42,Match!T:T,0))","v":"Walsall"},{"$f":"INDEX(Match!F:F,MATCH(P42,Match!T:T,0))","v":1},{"$f":"INDEX(Match!P:P,MATCH(P42,Match!T:T,0))","v":"Forest Green"},{"$f":"INDEX(Match!G:G,MATCH(P42,Match!T:T,0))","v":1},null,null,null,null,"Nigel Heyes",{"$f":"INDEX(Picks!F:F,MATCH(AC42,Picks!A:A,0))","v":-5.22},{"$f":"INDEX(Weekly!I:I,MATCH(AC42,Weekly!E:E,0))","v":1},{"$f":"IF(AD42=\"\",\"\",_xlfn.RANK.EQ(AD42,TopScores,0))","v":39},null,"Vinny Topping",{"$f":"INDEX(Picks!G:G,MATCH(AH42,Picks!A:A,0))","v":23.892000000000003},{"$f":"INDEX(Weekly!I:I,MATCH(AH42,Weekly!E:E,0))","v":1},{"$f":"IF(AI42=\"\",\"\",_xlfn.RANK.EQ(AI42,TopMaxScores,0))","v":37}]
[{"$f":"A41","v":"Chris Griffin"},"Cardiff","78/100",1.78,"√",null,null,null,null,"Cardiff",{"$f":"INDEX(Odds!F:F,MATCH(J43,Odds!E:E,0))","v":"78/100"},{"$f":"INDEX(Odds!G:G,MATCH(J43,Odds!E:E,0))","v":1.78},{"$f":"INDEX(Odds!H:H,MATCH(J43,Odds!E:E,0))","v":1},1.78,null,{"$f":"IF(Match!A43=\"\",\"\",Match!T43)","v":"Leicester 0-0 Wolves "},null,{"$f":"IF(Odds!E43=\"\",\"\",Odds!E43)","v":"Leicester"},{"$f":"INDEX(Odds!F:F,MATCH(R43,Odds!E:E,0))","v":"13/10"},0,{"$f":"INDEX(Match!O:O,MATCH(P43,Match!T:T,0))","v":"Leicester"},{"$f":"INDEX(Match!F:F,MATCH(P43,Match!T:T,0))","v":0},{"$f":"INDEX(Match!P:P,MATCH(P43,Match!T:T,0))","v":"Wolves"},{"$f":"INDEX(Match!G:G,MATCH(P43,Match!T:T,0))","v":0},null,null,null,null,"Paul Allen",{"$f":"INDEX(Picks!F:F,MATCH(AC43,Picks!A:A,0))","v":-5.22},{"$f":"INDEX(Weekly!I:I,MATCH(AC43,Weekly!E:E,0))","v":1},{"$f":"IF(AD43=\"\",\"\",_xlfn.RANK.EQ(AD43,TopScores,0))","v":39},null,"Gareth Fallows",{"$f":"INDEX(Picks!G:G,MATCH(AH43,Picks!A:A,0))","v":22.698181818181819},{"$f":"INDEX(Weekly!I:I,MATCH(AH43,Weekly!E:E,0))","v":2},{"$f":"IF(AI43=\"\",\"\",_xlfn.RANK.EQ(AI43,TopMaxScores,0))","v":38}]
[{"$f":"Results!B44","v":"Chris Luck"},"Southampton","9/5",2.8,"x",{"$f":"IF(J44=\"\",-10,INDEX(Results!T:T,MATCH(A44,Results!V:V,0)))","v":-7},{"$f":"IF(J44=\"\",\"\",INDEX(Results!AI:AI,MATCH(A44,Results!V:V,0)))","v":36.554999999999993},{"$f":"IF(G44=\"\",0,1)","v":1},{"$f":"INDEX(Picks!AF:AF,MATCH(A44,Picks!AC:AC,0))","v":49},"Southampton",{"$f":"INDEX(Odds!F:F,MATCH(J44,Odds!E:E,0))","v":"9/5"},{"$f":"INDEX(Odds!G:G,MATCH(J44,Odds!E:E,0))","v":2.8},{"$f":"INDEX(Odds!H:H,MATCH(J44,Odds!E:E,0))","v":0},0,null,{"$f":"IF(Match!A44=\"\",\"\",Match!T44)","v":"Man U 4-0 Chelsea "},null,{"$f":"IF(Odds!E44=\"\",\"\",Odds!E44)","v":"Man U"},{"$f":"INDEX(Odds!F:F,MATCH(R44,Odds!E:E,0))","v":"5/4"},1,{"$f":"INDEX(Match!O:O,MATCH(P44,Match!T:T,0))","v":"Man U"},{"$f":"INDEX(Match!F:F,MATCH(P44,Match!T:T,0))","v":4},{"$f":"INDEX(Match!P:P,MATCH(P44,Match!T:T,0))","v":"Chelsea"},{"$f":"INDEX(Match!G:G,MATCH(P44,Match!T:T,0))","v":0},null,null,null,null,"Gareth McGuire",{"$f":"INDEX(Picks!F:F,MATCH(AC44,Picks!A:A,0))","v":-5.3333333333333339},{"$f":"INDEX(Weekly!I:I,MATCH(AC44,Weekly!E:E,0))","v":1},{"$f":"IF(AD44=\"\",\"\",_xlfn.RANK.EQ(AD44,TopScores,0))","v":43},null,"Paul Adderley",{"$f":"INDEX(Picks!G:G,MATCH(AH44,Picks!A:A,0))","v":22.042975206611573},{"$f":"INDEX(Weekly!I:I,MATCH(AH44,Weekly!E:E,0))","v":1},{"$f":"IF(AI44=\"\",\"\",_xlfn.RANK.EQ(AI44,TopMaxScores,0))","v":39}]
[{"$f":"A44","v":"Chris Luck"},"Everton","6/4",2.5,"x",null,null,null,null,"Everton",{"$f":"INDEX(Odds!F:F,MATCH(J45,Odds!E:E,0))","v":"6/4"},{"$f":"INDEX(Odds!G:G,MATCH(J45,Odds!E:E,0))","v":2.5},{"$f":"INDEX(Odds!H:H,MATCH(J45,Odds!E:E,0))","v":0},0,null,{"$f":"IF(Match!A45=\"\",\"\",Match!T45)","v":"Newcastle 0-1 Arsenal "},null,{"$f":"IF(Odds!E45=\"\",\"\",Odds!E45)","v":"Newcastle"},{"$f":"INDEX(Odds!F:F,MATCH(R45,Odds!E:E,0))","v":"77/19"},0,{"$f":"INDEX(Match!O:O,MATCH(P45,Match!T:T,0))","v":"Newcastle"},{"$f":"INDEX(Match!F:F,MATCH(P45,Match!T:T,0))","v":0},{"$f":"INDEX(Match!P:P,MATCH(P45,Match!T:T,0))","v":"Arsenal"},{"$f":"INDEX(Match!G:G,MATCH(P45,Match!T:T,0))","v":1},null,null,null,null,"John Evans",{"$f":"INDEX(Picks!F:F,MATCH(AC45,Picks!A:A,0))","v":-5.3333333333333339},{"$f":"INDEX(Weekly!I:I,MATCH(AC45,Weekly!E:E,0))","v":1},{"$f":"IF(AD45=\"\",\"\",_xlfn.RANK.EQ(AD45,TopScores,0))","v":43},null,"Antony Robinson",{"$f":"INDEX(Picks!G:G,MATCH(AH45,Picks!A:A,0))","v":20.928571428571431},{"$f":"INDEX(Weekly!I:I,MATCH(AH45,Weekly!E:E,0))","v":1},{"$f":"IF(AI45=\"\",\"\",_xlfn.RANK.EQ(AI45,TopMaxScores,0))","v":40}]
[{"$f":"A44","v":"Chris Luck"},"Birmingham","27/20",2.35,"x",null,null,null,null,"Birmingham",{"$f":"INDEX(Odds!F:F,MATCH(J46,Odds!E:E,0))","v":"27/20"},{"$f":"INDEX(Odds!G:G,MATCH(J46,Odds!E:E,0))","v":2.35},{"$f":"INDEX(Odds!H:H,MATCH(J46,Odds!E:E,0))","v":0},0,null,{"$f":"IF(Match!A46=\"\",\"\",Match!T46)","v":""},null,{"$f":"IF(Odds!E46=\"\",\"\",Odds!E46)","v":""},{"$f":"INDEX(Odds!F:F,MATCH(R46,Odds!E:E,0))","v":""},{"$error":"#N/A"},{"$f":"INDEX(Match!O:O,MATCH(P46,Match!T:T,0))","v":{"$error":"#N/A"}},{"$f":"INDEX(Match!F:F,MATCH(P46,Match!T:T,0))","v":{"$error":"#N/A"}},{"$f":"INDEX(Match!P:P,MATCH(P46,Match!T:T,0))","v":{"$error":"#N/A"}},{"$f":"INDEX(Match!G:G,MATCH(P46,Match!T:T,0))","v":{"$error":"#N/A"}},null,null,null,null,"Lewis Buckley",{"$f":"INDEX(Picks!F:F,MATCH(AC46,Picks!A:A,0))","v":-5.3333333333333339},{"$f":"INDEX(Weekly!I:I,MATCH(AC46,Weekly!E:E,0))","v":1},{"$f":"IF(AD46=\"\",\"\",_xlfn.RANK.EQ(AD46,TopScores,0))","v":43},null,"Andy White",{"$f":"INDEX(Picks!G:G,MATCH(AH46,Picks!A:A,0))","v":20.694214876033062},{"$f":"INDEX(Weekly!I:I,MATCH(AH46,Weekly!E:E,0))","v":1},{"$f":"IF(AI46=\"\",\"\",_xlfn.RANK.EQ(AI46,TopMaxScores,0))","v":41}]
[{"$f":"Results!B47","v":"Chris Townsend"},"Swansea","12/5",3.4,"x",{"$f":"IF(J47=\"\",-10,INDEX(Results!T:T,MATCH(A47,Results!V:V,0)))","v":-7},{"$f":"IF(J47=\"\",\"\",INDEX(Results!AI:AI,MATCH(A47,Results!V:V,0)))","v":89.195999999999998},{"$f":"IF(G47=\"\",0,1)","v":1},{"$f":"INDEX(Picks!AF:AF,MATCH(A47,Picks!AC:AC,0))","v":49},"Swansea",{"$f":"INDEX(Odds!F:F,MATCH(J47,Odds!E:E,0))","v":"12/5"},{"$f":"INDEX(Odds!G:G,MATCH(J47,Odds!E:E,0))","v":3.4},{"$f":"INDEX(Odds!H:H,MATCH(J47,Odds!E:E,0))","v":0},0,null,{"$f":"IF(Match!A47=\"\",\"\",Match!T47)","v":""},null,{"$f":"IF(Odds!E47=\"\",\"\",Odds!E47)","v":""},{"$f":"INDEX(Odds!F:F,MATCH(R47,Odds!E:E,0))","v":""},{"$f":"IF(V47>X47,1,0)","v":{"$error":"#N/A"}},{"$f":"INDEX(Match!O:O,MATCH(P47,Match!T:T,0))","v":{"$error":"#N/A"}},{"$f":"INDEX(Match!F:F,MATCH(P47,Match!T:T,0))","v":{"$error":"#N/A"}},{"$f":"INDEX(Match!P:P,MATCH(P47,Match!T:T,0))","v":{"$error":"#N/A"}},{"$f":"INDEX(Match!G:G,MATCH(P47,Match!T:T,0))","v":{"$error":"#N/A"}},null,null,null,null,"Andy Charleston",{"$f":"INDEX(Picks!F:F,MATCH(AC47,Picks!A:A,0))","v":-5.73},{"$f":"INDEX(Weekly!I:I,MATCH(AC47,Weekly!E:E,0))","v":1},{"$f":"IF(AD47=\"\",\"\",_xlfn.RANK.EQ(AD47,TopScores,0))","v":46},null,"Stephen Troop",{"$f":"INDEX(Picks!G:G,MATCH(AH47,Picks!A:A,0))","v":19.216000000000001},{"$f":"INDEX(Weekly!I:I,MATCH(AH47,Weekly!E:E,0))","v":0},{"$f":"IF(AI47=\"\",\"\",_xlfn.RANK.EQ(AI47,TopMaxScores,0))","v":42}]
[{"$f":"A47","v":"Chris Townsend"},"Reading","27/10",3.7,"x",null,null,null,null,"Reading",{"$f":"INDEX(Odds!F:F,MATCH(J48,Odds!E:E,0))","v":"27/10"},{"$f":"INDEX(Odds!G:G,MATCH(J48,Odds!E:E,0))","v":3.7},{"$f":"INDEX(Odds!H:H,MATCH(J48,Odds!E:E,0))","v":0},0,null,null,null,{"$f":"IF(Odds!E48=\"\",\"\",Odds!E48)","v":"Liverpool draw"},{"$f":"INDEX(Odds!F:F,MATCH(R48,Odds!E:E,0))","v":"7/1"},{"$f":"IF(V2=X2,1,0)","v":0},null,null,null,null,null,null,null,null,"Antony Robinson",{"$f":"INDEX(Picks!F:F,MATCH(AC48,Picks!A:A,0))","v":-5.8571428571428577},{"$f":"INDEX(Weekly!I:I,MATCH(AC48,Weekly!E:E,0))","v":1},{"$f":"IF(AD48=\"\",\"\",_xlfn.RANK.EQ(AD48,TopScores,0))","v":47},null,"Paul Ridgeway",{"$f":"INDEX(Picks!G:G,MATCH(AH48,Picks!A:A,0))","v":18.901},{"$f":"INDEX(Weekly!I:I,MATCH(AH48,Weekly!E:E,0))","v":2},{"$f":"IF(AI48=\"\",\"\",_xlfn.RANK.EQ(AI48,TopMaxScores,0))","v":43}]
[{"$f":"A47","v":"Chris Townsend"},"Barnsley","27/10",3.7,"x",null,null,null,null,"Barnsley",{"$f":"INDEX(Odds!F:F,MATCH(J49,Odds!E:E,0))","v":"27/10"},{"$f":"INDEX(Odds!G:G,MATCH(J49,Odds!E:E,0))","v":3.7},{"$f":"INDEX(Odds!H:H,MATCH(J49,Odds!E:E,0))","v":0},0,null,null,null,{"$f":"IF(Odds!E49=\"\",\"\",Odds!E49)","v":"Bournemouth draw"},{"$f":"INDEX(Odds!F:F,MATCH(R49,Odds!E:E,0))","v":"13/5"},1,null,null,null,null,null,null,null,null,"Rob England",{"$f":"INDEX(Picks!F:F,MATCH(AC49,Picks!A:A,0))","v":-5.8571428571428577},{"$f":"INDEX(Weekly!I:I,MATCH(AC49,Weekly!E:E,0))","v":1},{"$f":"IF(AD49=\"\",\"\",_xlfn.RANK.EQ(AD49,TopScores,0))","v":47},null,"Mark Saunders",{"$f":"INDEX(Picks!G:G,MATCH(AH49,Picks!A:A,0))","v":18.88},{"$f":"INDEX(Weekly!I:I,MATCH(AH49,Weekly!E:E,0))","v":1},{"$f":"IF(AI49=\"\",\"\",_xlfn.RANK.EQ(AI49,TopMaxScores,0))","v":44}]
[{"$f":"Results!B50","v":"Dan Baxter"},"Liverpool draw","7/1",8,"x",{"$f":"IF(J50=\"\",-10,INDEX(Results!T:T,MATCH(A50,Results!V:V,0)))","v":-7},{"$f":"IF(J50=\"\",\"\",INDEX(Results!AI:AI,MATCH(A50,Results!V:V,0)))","v":78.400000000000006},{"$f":"IF(G50=\"\",0,1)","v":1},{"$f":"INDEX(Picks!AF:AF,MATCH(A50,Picks!AC:AC,0))","v":49},"Liverpool draw",{"$f":"INDEX(Odds!F:F,MATCH(J50,Odds!E:E,0))","v":"7/1"},{"$f":"INDEX(Odds!G:G,MATCH(J50,Odds!E:E,0))","v":8},{"$f":"INDEX(Odds!H:H,MATCH(J50,Odds!E:E,0))","v":0},0,null,null,"`",{"$f":"IF(Odds!E50=\"\",\"\",Odds!E50)","v":"Burnley draw"},{"$f":"INDEX(Odds!F:F,MATCH(R50,Odds!E:E,0))","v":"23/10"},0,null,null,null,null,null,null,null,null,"Alan White",{"$f":"INDEX(Picks!F:F,MATCH(AC50,Picks!A:A,0))","v":-7},{"$f":"INDEX(Weekly!I:I,MATCH(AC50,Weekly!E:E,0))","v":0},{"$f":"IF(AD50=\"\",\"\",_xlfn.RANK.EQ(AD50,TopScores,0))","v":49},null,"Phil Miller",{"$f":"INDEX(Picks!G:G,MATCH(AH50,Picks!A:A,0))","v":17.829999999999998},{"$f":"INDEX(Weekly!I:I,MATCH(AH50,Weekly!E:E,0))","v":2},{"$f":"IF(AI50=\"\",\"\",_xlfn.RANK.EQ(AI50,TopMaxScores,0))","v":45}]
[{"$f":"A50","v":"Dan Baxter"},"Watford","10/11",1.9090909090909092,"x",null,null,null,null,"Watford",{"$f":"INDEX(Odds!F:F,MATCH(J51,Odds!E:E,0))","v":"10/11"},{"$f":"INDEX(Odds!G:G,MATCH(J51,Odds!E:E,0))","v":1.9090909090909092},{"$f":"INDEX(Odds!H:H,MATCH(J51,Odds!E:E,0))","v":0},0,null,null,null,{"$f":"IF(Odds!E51=\"\",\"\",Odds!E51)","v":"Palace draw"},{"$f":"INDEX(Odds!F:F,MATCH(R51,Odds!E:E,0))","v":"23/10"},1,null,null,null,null,null,null,null,null,"Ashley Houghton",{"$f":"INDEX(Picks!F:F,MATCH(AC51,Picks!A:A,0))","v":-7},{"$f":"INDEX(Weekly!I:I,MATCH(AC51,Weekly!E:E,0))","v":0},{"$f":"IF(AD51=\"\",\"\",_xlfn.RANK.EQ(AD51,TopScores,0))","v":49},null,"Gareth McGuire",{"$f":"INDEX(Picks!G:G,MATCH(AH51,Picks!A:A,0))","v":17.599999999999998},{"$f":"INDEX(Weekly!I:I,MATCH(AH51,Weekly!E:E,0))","v":1},{"$f":"IF(AI51=\"\",\"\",_xlfn.RANK.EQ(AI51,TopMaxScores,0))","v":46}]
[{"$f":"A50","v":"Dan Baxter"},"Stoke","13/10",2.2999999999999998,"x",null,null,null,null,"Stoke",{"$f":"INDEX(Odds!F:F,MATCH(J52,Odds!E:E,0))","v":"13/10"},{"$f":"INDEX(Odds!G:G,MATCH(J52,Odds!E:E,0))","v":2.2999999999999998},{"$f":"INDEX(Odds!H:H,MATCH(J52,Odds!E:E,0))","v":0},0,null,null,null,{"$f":"IF(Odds!E52=\"\",\"\",Odds!E52)","v":"Spurs draw"},{"$f":"INDEX(Odds!F:F,MATCH(R52,Odds!E:E,0))","v":"24/5"},0,null,null,null,null,null,null,null,null,"Ben Rosser",{"$f":"INDEX(Picks!F:F,MATCH(AC52,Picks!A:A,0))","v":-7},{"$f":"INDEX(Weekly!I:I,MATCH(AC52,Weekly!E:E,0))","v":0},{"$f":"IF(AD52=\"\",\"\",_xlfn.RANK.EQ(AD52,TopScores,0))","v":49},null,"Alan White",{"$f":"INDEX(Picks!G:G,MATCH(AH52,Picks!A:A,0))","v":17.527272727272731},{"$f":"INDEX(Weekly!I:I,MATCH(AH52,Weekly!E:E,0))","v":0},{"$f":"IF(AI52=\"\",\"\",_xlfn.RANK.EQ(AI52,TopMaxScores,0))","v":47}]
[{"$f":"Results!B53","v":"Dave Bell"},"Norwich","18/1",19,"x",{"$f":"IF(J53=\"\",-10,INDEX(Results!T:T,MATCH(A53,Results!V:V,0)))","v":-7},{"$f":"IF(J53=\"\",\"\",INDEX(Results!AI:AI,MATCH(A53,Results!V:V,0)))","v":3112},{"$f":"IF(G53=\"\",0,1)","v":1},{"$f":"INDEX(Picks!AF:AF,MATCH(A53,Picks!AC:AC,0))","v":49},"Norwich",{"$f":"INDEX(Odds!F:F,MATCH(J53,Odds!E:E,0))","v":"18/1"},{"$f":"INDEX(Odds!G:G,MATCH(J53,Odds!E:E,0))","v":19},{"$f":"INDEX(Odds!H:H,MATCH(J53,Odds!E:E,0))","v":0},0,null,null,null,{"$f":"IF(Odds!E53=\"\",\"\",Odds!E53)","v":"Watford draw"},{"$f":"INDEX(Odds!F:F,MATCH(R53,Odds!E:E,0))","v":"12/5"},0,null,null,null,null,null,null,null,null,"Chris Luck",{"$f":"INDEX(Picks!F:F,MATCH(AC53,Picks!A:A,0))","v":-7},{"$f":"INDEX(Weekly!I:I,MATCH(AC53,Weekly!E:E,0))","v":0},{"$f":"IF(AD53=\"\",\"\",_xlfn.RANK.EQ(AD53,TopScores,0))","v":49},null,"Mo Sudell",{"$f":"INDEX(Picks!G:G,MATCH(AH53,Picks!A:A,0))","v":17.515000000000001},{"$f":"INDEX(Weekly!I:I,MATCH(AH53,Weekly!E:E,0))","v":1},{"$f":"IF(AI53=\"\",\"\",_xlfn.RANK.EQ(AI53,TopMaxScores,0))","v":48}]
[{"$f":"A53","v":"Dave Bell"},"Villa","10/1",11,"x",null,null,null,null,"Villa",{"$f":"INDEX(Odds!F:F,MATCH(J54,Odds!E:E,0))","v":"10/1"},{"$f":"INDEX(Odds!G:G,MATCH(J54,Odds!E:E,0))","v":11},{"$f":"INDEX(Odds!H:H,MATCH(J54,Odds!E:E,0))","v":0},0,null,null,null,{"$f":"IF(Odds!E54=\"\",\"\",Odds!E54)","v":"West Ham draw"},{"$f":"INDEX(Odds!F:F,MATCH(R54,Odds!E:E,0))","v":"5/1"},0,null,null,null,null,null,null,null,null,"Chris Townsend",{"$f":"INDEX(Picks!F:F,MATCH(AC54,Picks!A:A,0))","v":-7},{"$f":"INDEX(Weekly!I:I,MATCH(AC54,Weekly!E:E,0))","v":0},{"$f":"IF(AD54=\"\",\"\",_xlfn.RANK.EQ(AD54,TopScores,0))","v":49},null,"Alick Rocca",{"$f":"INDEX(Picks!G:G,MATCH(AH54,Picks!A:A,0))","v":16.741818181818182},{"$f":"INDEX(Weekly!I:I,MATCH(AH54,Weekly!E:E,0))","v":2},{"$f":"IF(AI54=\"\",\"\",_xlfn.RANK.EQ(AI54,TopMaxScores,0))","v":49}]
[{"$f":"A53","v":"Dave Bell"},"West Ham","11/1",12,"x",null,null,null,null,"West Ham",{"$f":"INDEX(Odds!F:F,MATCH(J55,Odds!E:E,0))","v":"11/1"},{"$f":"INDEX(Odds!G:G,MATCH(J55,Odds!E:E,0))","v":12},{"$f":"INDEX(Odds!H:H,MATCH(J55,Odds!E:E,0))","v":0},0,null,null,null,{"$f":"IF(Odds!E55=\"\",\"\",Odds!E55)","v":"Birmingham draw"},{"$f":"INDEX(Odds!F:F,MATCH(R55,Odds!E:E,0))","v":"23/10"},1,null,null,null,null,null,null,null,null,"Dan Baxter",{"$f":"INDEX(Picks!F:F,MATCH(AC55,Picks!A:A,0))","v":-7},{"$f":"INDEX(Weekly!I:I,MATCH(AC55,Weekly!E:E,0))","v":0},{"$f":"IF(AD55=\"\",\"\",_xlfn.RANK.EQ(AD55,TopScores,0))","v":49},null,"Ashley Houghton",{"$f":"INDEX(Picks!G:G,MATCH(AH55,Picks!A:A,0))","v":16.741818181818179},{"$f":"INDEX(Weekly!I:I,MATCH(AH55,Weekly!E:E,0))","v":0},{"$f":"IF(AI55=\"\",\"\",_xlfn.RANK.EQ(AI55,TopMaxScores,0))","v":50}]
[{"$f":"Results!B56","v":"Dave Orrell"},"Birmingham","27/20",2.35,"x",{"$f":"IF(J56=\"\",-10,INDEX(Results!T:T,MATCH(A56,Results!V:V,0)))","v":-5.0909090909090908},{"$f":"IF(J56=\"\",\"\",INDEX(Results!AI:AI,MATCH(A56,Results!V:V,0)))","v":24.890909090909094},{"$f":"IF(G56=\"\",0,1)","v":1},{"$f":"INDEX(Picks!AF:AF,MATCH(A56,Picks!AC:AC,0))","v":32},"Birmingham",{"$f":"INDEX(Odds!F:F,MATCH(J56,Odds!E:E,0))","v":"27/20"},{"$f":"INDEX(Odds!G:G,MATCH(J56,Odds!E:E,0))","v":2.35},{"$f":"INDEX(Odds!H:H,MATCH(J56,Odds!E:E,0))","v":0},0,null,null,null,{"$f":"IF(Odds!E56=\"\",\"\",Odds!E56)","v":"Cardiff draw"},{"$f":"INDEX(Odds!F:F,MATCH(R56,Odds!E:E,0))","v":"13/5"},0,null,null,null,null,null,null,null,null,"Dave Bell",{"$f":"INDEX(Picks!F:F,MATCH(AC56,Picks!A:A,0))","v":-7},{"$f":"INDEX(Weekly!I:I,MATCH(AC56,Weekly!E:E,0))","v":0},{"$f":"IF(AD56=\"\",\"\",_xlfn.RANK.EQ(AD56,TopScores,0))","v":49},null,"Chris Bow",{"$f":"INDEX(Picks!G:G,MATCH(AH56,Picks!A:A,0))","v":16.619083395942901},{"$f":"INDEX(Weekly!I:I,MATCH(AH56,Weekly!E:E,0))","v":1},{"$f":"IF(AI56=\"\",\"\",_xlfn.RANK.EQ(AI56,TopMaxScores,0))","v":51}]
[{"$f":"A56","v":"Dave Orrell"},"Fleetwood","10/11",1.9090909090909092,"√",null,null,null,null,"Fleetwood",{"$f":"INDEX(Odds!F:F,MATCH(J57,Odds!E:E,0))","v":"10/11"},{"$f":"INDEX(Odds!G:G,MATCH(J57,Odds!E:E,0))","v":1.9090909090909092},{"$f":"INDEX(Odds!H:H,MATCH(J57,Odds!E:E,0))","v":1},1.9090909090909092,null,null,null,{"$f":"IF(Odds!E57=\"\",\"\",Odds!E57)","v":"Charlton draw"},{"$f":"INDEX(Odds!F:F,MATCH(R57,Odds!E:E,0))","v":"12/5"},0,null,null,null,null,null,null,null,null,"Graeme Holmes",{"$f":"INDEX(Picks!F:F,MATCH(AC57,Picks!A:A,0))","v":-7},{"$f":"INDEX(Weekly!I:I,MATCH(AC57,Weekly!E:E,0))","v":0},{"$f":"IF(AD57=\"\",\"\",_xlfn.RANK.EQ(AD57,TopScores,0))","v":49},null,"Martin Tarbuck",{"$f":"INDEX(Picks!G:G,MATCH(AH57,Picks!A:A,0))","v":15.920312500000001},{"$f":"INDEX(Weekly!I:I,MATCH(AH57,Weekly!E:E,0))","v":2},{"$f":"IF(AI57=\"\",\"\",_xlfn.RANK.EQ(AI57,TopMaxScores,0))","v":52}]
[{"$f":"A56","v":"Dave Orrell"},"Walsall","11/8",2.375,"x",null,null,null,null,"Walsall",{"$f":"INDEX(Odds!F:F,MATCH(J58,Odds!E:E,0))","v":"11/8"},{"$f":"INDEX(Odds!G:G,MATCH(J58,Odds!E:E,0))","v":2.375},{"$f":"INDEX(Odds!H:H,MATCH(J58,Odds!E:E,0))","v":0},0,null,null,null,{"$f":"IF(Odds!E58=\"\",\"\",Odds!E58)","v":"Derby draw"},{"$f":"INDEX(Odds!F:F,MATCH(R58,Odds!E:E,0))","v":"12/5"},1,null,null,null,null,null,null,null,null,"Jack Walsh",{"$f":"INDEX(Picks!F:F,MATCH(AC58,Picks!A:A,0))","v":-7},{"$f":"INDEX(Weekly!I:I,MATCH(AC58,Weekly!E:E,0))","v":0},{"$f":"IF(AD58=\"\",\"\",_xlfn.RANK.EQ(AD58,TopScores,0))","v":49},null,"Stephen Barr",{"$f":"INDEX(Picks!G:G,MATCH(AH58,Picks!A:A,0))","v":15.895363636363633},{"$f":"INDEX(Weekly!I:I,MATCH(AH58,Weekly!E:E,0))","v":3},{"$f":"IF(AI58=\"\",\"\",_xlfn.RANK.EQ(AI58,TopMaxScores,0))","v":53}]
[{"$f":"Results!B59","v":"David Dunn"},"Chelsea","13/5",3.6,"x",{"$f":"IF(J59=\"\",-10,INDEX(Results!T:T,MATCH(A59,Results!V:V,0)))","v":-5.1818181818181817},{"$f":"IF(J59=\"\",\"\",INDEX(Results!AI:AI,MATCH(A59,Results!V:V,0)))","v":29.712396694214888},{"$f":"IF(G59=\"\",0,1)","v":1},{"$f":"INDEX(Picks!AF:AF,MATCH(A59,Picks!AC:AC,0))","v":34},"Chelsea",{"$f":"INDEX(Odds!F:F,MATCH(J59,Odds!E:E,0))","v":"13/5"},{"$f":"INDEX(Odds!G:G,MATCH(J59,Odds!E:E,0))","v":3.6},{"$f":"INDEX(Odds!H:H,MATCH(J59,Odds!E:E,0))","v":0},0,null,null,null,{"$f":"IF(Odds!E59=\"\",\"\",Odds!E59)","v":"Fulham draw"},{"$f":"INDEX(Odds!F:F,MATCH(R59,Odds!E:E,0))","v":"11/4"},0,null,null,null,null,null,null,null,null,"James Bell",{"$f":"INDEX(Picks!F:F,MATCH(AC59,Picks!A:A,0))","v":-7},{"$f":"INDEX(Weekly!I:I,MATCH(AC59,Weekly!E:E,0))","v":0},{"$f":"IF(AD59=\"\",\"\",_xlfn.RANK.EQ(AD59,TopScores,0))","v":49},null,"Mal Stott",{"$f":"INDEX(Picks!G:G,MATCH(AH59,Picks!A:A,0))","v":15.893333333333338},{"$f":"INDEX(Weekly!I:I,MATCH(AH59,Weekly!E:E,0))","v":2},{"$f":"IF(AI59=\"\",\"\",_xlfn.RANK.EQ(AI59,TopMaxScores,0))","v":54}]
[{"$f":"A59","v":"David Dunn"},{"$f":"IF(J60=\"\",\"\",J60)","v":"Arsenal"},"9/11",1.8181818181818183,"√",null,null,null,null,"Arsenal",{"$f":"INDEX(Odds!F:F,MATCH(J60,Odds!E:E,0))","v":"9/11"},{"$f":"INDEX(Odds!G:G,MATCH(J60,Odds!E:E,0))","v":1.8181818181818183},{"$f":"INDEX(Odds!H:H,MATCH(J60,Odds!E:E,0))","v":1},1.8181818181818183,null,null,null,{"$f":"IF(Odds!E60=\"\",\"\",Odds!E60)","v":"Hull draw"},{"$f":"INDEX(Odds!F:F,MATCH(R60,Odds!E:E,0))","v":"12/5"},0,null,null,null,null,null,null,null,null,"Joel Bent",{"$f":"INDEX(Picks!F:F,MATCH(AC60,Picks!A:A,0))","v":-7},{"$f":"INDEX(Weekly!I:I,MATCH(AC60,Weekly!E:E,0))","v":0},{"$f":"IF(AD60=\"\",\"\",_xlfn.RANK.EQ(AD60,TopScores,0))","v":49},null,"Chris Griffin",{"$f":"INDEX(Picks!G:G,MATCH(AH60,Picks!A:A,0))","v":15.643899999999999},{"$f":"INDEX(Weekly!I:I,MATCH(AH60,Weekly!E:E,0))","v":1},{"$f":"IF(AI60=\"\",\"\",_xlfn.RANK.EQ(AI60,TopMaxScores,0))","v":55}]
[{"$f":"A59","v":"David Dunn"},{"$f":"IF(J61=\"\",\"\",J61)","v":"Bournemouth"},{"$f":"IF(J61=\"\",\"\",K61)","v":"10/11"},{"$f":"IF(J61=\"\",\"\",L61)","v":1.9090909090909092},"x",null,null,null,null,"Bournemouth",{"$f":"INDEX(Odds!F:F,MATCH(J61,Odds!E:E,0))","v":"10/11"},{"$f":"INDEX(Odds!G:G,MATCH(J61,Odds!E:E,0))","v":1.9090909090909092},{"$f":"INDEX(Odds!H:H,MATCH(J61,Odds!E:E,0))","v":0},0,null,null,null,{"$f":"IF(Odds!E61=\"\",\"\",Odds!E61)","v":"Leeds draw"},{"$f":"INDEX(Odds!F:F,MATCH(R61,Odds!E:E,0))","v":"14/5"},1,null,null,null,null,null,null,null,null,"Kevin Carter",{"$f":"INDEX(Picks!F:F,MATCH(AC61,Picks!A:A,0))","v":-7},{"$f":"INDEX(Weekly!I:I,MATCH(AC61,Weekly!E:E,0))","v":0},{"$f":"IF(AD61=\"\",\"\",_xlfn.RANK.EQ(AD61,TopScores,0))","v":49},null,"Paul Allen",{"$f":"INDEX(Picks!G:G,MATCH(AH61,Picks!A:A,0))","v":15.526611570247937},{"$f":"INDEX(Weekly!I:I,MATCH(AH61,Weekly!E:E,0))","v":1},{"$f":"IF(AI61=\"\",\"\",_xlfn.RANK.EQ(AI61,TopMaxScores,0))","v":56}]
[{"$f":"Results!B62","v":"Gareth Fallows"},"Birmingham","27/20",2.35,"x",{"$f":"IF(J62=\"\",-10,INDEX(Results!T:T,MATCH(A62,Results!V:V,0)))","v":1.163636363636364},{"$f":"IF(J62=\"\",\"\",INDEX(Results!AI:AI,MATCH(A62,Results!V:V,0)))","v":22.698181818181819},{"$f":"IF(G62=\"\",0,1)","v":1},{"$f":"INDEX(Picks!AF:AF,MATCH(A62,Picks!AC:AC,0))","v":10},"Birmingham",{"$f":"INDEX(Odds!F:F,MATCH(J62,Odds!E:E,0))","v":"27/20"},{"$f":"INDEX(Odds!G:G,MATCH(J62,Odds!E:E,0))","v":2.35},{"$f":"INDEX(Odds!H:H,MATCH(J62,Odds!E:E,0))","v":0},{"$f":"L62*M62","v":0},null,null,null,{"$f":"IF(Odds!E62=\"\",\"\",Odds!E62)","v":"Middlesbro draw"},{"$f":"INDEX(Odds!F:F,MATCH(R62,Odds!E:E,0))","v":"12/5"},0,null,null,null,null,null,null,null,null,"Martin Molyneux",{"$f":"INDEX(Picks!F:F,MATCH(AC62,Picks!A:A,0))","v":-7},{"$f":"INDEX(Weekly!I:I,MATCH(AC62,Weekly!E:E,0))","v":0},{"$f":"IF(AD62=\"\",\"\",_xlfn.RANK.EQ(AD62,TopScores,0))","v":49},null,"Lennie Bow",{"$f":"INDEX(Picks!G:G,MATCH(AH62,Picks!A:A,0))","v":14.991538461538457},{"$f":"INDEX(Weekly!I:I,MATCH(AH62,Weekly!E:E,0))","v":1},{"$f":"IF(AI62=\"\",\"\",_xlfn.RANK.EQ(AI62,TopMaxScores,0))","v":57}]
[{"$f":"A62","v":"Gareth Fallows"},{"$f":"IF(J63=\"\",\"\",J63)","v":"Fleetwood"},{"$f":"IF(J63=\"\",\"\",K63)","v":"10/11"},{"$f":"IF(J63=\"\",\"\",L63)","v":1.9090909090909092},{"$f":"IF(J63=\"\",\"\",IF(M63=1,\"√\",\"x\"))","v":"√"},null,null,null,null,"Fleetwood",{"$f":"INDEX(Odds!F:F,MATCH(J63,Odds!E:E,0))","v":"10/11"},{"$f":"INDEX(Odds!G:G,MATCH(J63,Odds!E:E,0))","v":1.9090909090909092},{"$f":"INDEX(Odds!H:H,MATCH(J63,Odds!E:E,0))","v":1},1.9090909090909092,null,null,null,{"$f":"IF(Odds!E63=\"\",\"\",Odds!E63)","v":"Preston draw"},{"$f":"INDEX(Odds!F:F,MATCH(R63,Odds!E:E,0))","v":"23/10"},0,null,null,null,null,null,null,null,null,"Oscar Jackson",{"$f":"INDEX(Picks!F:F,MATCH(AC63,Picks!A:A,0))","v":-7},{"$f":"INDEX(Weekly!I:I,MATCH(AC63,Weekly!E:E,0))","v":0},{"$f":"IF(AD63=\"\",\"\",_xlfn.RANK.EQ(AD63,TopScores,0))","v":49},null,"Howard Bradley",{"$f":"INDEX(Picks!G:G,MATCH(AH63,Picks!A:A,0))","v":13.959999999999997},{"$f":"INDEX(Weekly!I:I,MATCH(AH63,Weekly!E:E,0))","v":2},{"$f":"IF(AI63=\"\",\"\",_xlfn.RANK.EQ(AI63,TopMaxScores,0))","v":58}]
[{"$f":"A62","v":"Gareth Fallows"},"Plymouth","23/20",2.15,"√",null,null,null,null,"Plymouth",{"$f":"INDEX(Odds!F:F,MATCH(J64,Odds!E:E,0))","v":"23/20"},{"$f":"INDEX(Odds!G:G,MATCH(J64,Odds!E:E,0))","v":2.15},{"$f":"INDEX(Odds!H:H,MATCH(J64,Odds!E:E,0))","v":1},2.15,null,null,null,{"$f":"IF(Odds!E64=\"\",\"\",Odds!E64)","v":"QPR draw"},{"$f":"INDEX(Odds!F:F,MATCH(R64,Odds!E:E,0))","v":"23/10"},1,null,null,null,null,null,null,null,null,"Stephen Troop",{"$f":"INDEX(Picks!F:F,MATCH(AC64,Picks!A:A,0))","v":-7},{"$f":"INDEX(Weekly!I:I,MATCH(AC64,Weekly!E:E,0))","v":0},{"$f":"IF(AD64=\"\",\"\",_xlfn.RANK.EQ(AD64,TopScores,0))","v":49},null,"Barry Birchall",{"$f":"INDEX(Picks!G:G,MATCH(AH64,Picks!A:A,0))","v":13.835636363636368},{"$f":"INDEX(Weekly!I:I,MATCH(AH64,Weekly!E:E,0))","v":1},{"$f":"IF(AI64=\"\",\"\",_xlfn.RANK.EQ(AI64,TopMaxScores,0))","v":59}]
[{"$f":"Results!B65","v":"Gareth McGuire"},"Watford","10/11",1.9090909090909092,"x",{"$f":"IF(J65=\"\",-10,INDEX(Results!T:T,MATCH(A65,Results!V:V,0)))","v":-5.3333333333333339},{"$f":"IF(J65=\"\",\"\",INDEX(Results!AI:AI,MATCH(A65,Results!V:V,0)))","v":17.599999999999998},{"$f":"IF(G65=\"\",0,1)","v":1},{"$f":"INDEX(Picks!AF:AF,MATCH(A65,Picks!AC:AC,0))","v":43},"Watford",{"$f":"INDEX(Odds!F:F,MATCH(J65,Odds!E:E,0))","v":"10/11"},{"$f":"INDEX(Odds!G:G,MATCH(J65,Odds!E:E,0))","v":1.9090909090909092},{"$f":"INDEX(Odds!H:H,MATCH(J65,Odds!E:E,0))","v":0},0,null,null,null,{"$f":"IF(Odds!E65=\"\",\"\",Odds!E65)","v":"Sheff W draw"},{"$f":"INDEX(Odds!F:F,MATCH(R65,Odds!E:E,0))","v":"12/5"},0,null,null,null,null,null,null,null,null,"Andy Clucas",{"$f":"INDEX(Picks!F:F,MATCH(AC65,Picks!A:A,0))","v":-7},{"$f":"INDEX(Weekly!I:I,MATCH(AC65,Weekly!E:E,0))","v":0},{"$f":"IF(AD65=\"\",\"\",_xlfn.RANK.EQ(AD65,TopScores,0))","v":49},null,"Alfie Davies",{"$f":"INDEX(Picks!G:G,MATCH(AH65,Picks!A:A,0))","v":13.225974025974025},{"$f":"INDEX(Weekly!I:I,MATCH(AH65,Weekly!E:E,0))","v":3},{"$f":"IF(AI65=\"\",\"\",_xlfn.RANK.EQ(AI65,TopMaxScores,0))","v":60}]
[{"$f":"A65","v":"Gareth McGuire"},"Middlesbro","13/10",2.2999999999999998,"x",null,null,null,null,"Middlesbro",{"$f":"INDEX(Odds!F:F,MATCH(J66,Odds!E:E,0))","v":"13/10"},{"$f":"INDEX(Odds!G:G,MATCH(J66,Odds!E:E,0))","v":2.2999999999999998},{"$f":"INDEX(Odds!H:H,MATCH(J66,Odds!E:E,0))","v":0},0,null,null,null,{"$f":"IF(Odds!E66=\"\",\"\",Odds!E66)","v":"West Brom draw"},{"$f":"INDEX(Odds!F:F,MATCH(R66,Odds!E:E,0))","v":"11/4"},1,null,null,null,null,null,null,null,null,"Aaron Sudell",{"$f":"INDEX(Picks!F:F,MATCH(AC66,Picks!A:A,0))","v":-10},{"$f":"INDEX(Weekly!I:I,MATCH(AC66,Weekly!E:E,0))","v":0},{"$f":"IF(AD66=\"\",\"\",_xlfn.RANK.EQ(AD66,TopScores,0))","v":65},null,"Andy Clucas",{"$f":"INDEX(Picks!G:G,MATCH(AH66,Picks!A:A,0))","v":13.207272727272731},{"$f":"INDEX(Weekly!I:I,MATCH(AH66,Weekly!E:E,0))","v":0},{"$f":"IF(AI66=\"\",\"\",_xlfn.RANK.EQ(AI66,TopMaxScores,0))","v":61}]
[{"$f":"A65","v":"Gareth McGuire"},"Portsmouth","4/6",1.6666666666666665,{"$f":"IF(J67=\"\",\"\",IF(M67=1,\"√\",\"x\"))","v":"√"},null,null,null,null,"Portsmouth",{"$f":"INDEX(Odds!F:F,MATCH(J67,Odds!E:E,0))","v":"4/6"},{"$f":"INDEX(Odds!G:G,MATCH(J67,Odds!E:E,0))","v":1.6666666666666665},{"$f":"INDEX(Odds!H:H,MATCH(J67,Odds!E:E,0))","v":1},1.6666666666666665,null,null,null,{"$f":"IF(Odds!E67=\"\",\"\",Odds!E67)","v":"Bristol R draw"},{"$f":"INDEX(Odds!F:F,MATCH(R67,Odds!E:E,0))","v":"23/10"},1,null,null,null,null,null,null,null,null,"Paul Barnes",{"$f":"INDEX(Picks!F:F,MATCH(AC67,Picks!A:A,0))","v":-10},{"$f":"INDEX(Weekly!I:I,MATCH(AC67,Weekly!E:E,0))","v":0},{"$f":"IF(AD67=\"\",\"\",_xlfn.RANK.EQ(AD67,TopScores,0))","v":65},null,"Lewis Buckley",{"$f":"INDEX(Picks!G:G,MATCH(AH67,Picks!A:A,0))","v":12.945454545454545},{"$f":"INDEX(Weekly!I:I,MATCH(AH67,Weekly!E:E,0))","v":1},{"$f":"IF(AI67=\"\",\"\",_xlfn.RANK.EQ(AI67,TopMaxScores,0))","v":62}]
[{"$f":"Results!B68","v":"Gareth Powell"},"Man U draw","32/13",3.4615384615384617,"x",{"$f":"IF(J68=\"\",-10,INDEX(Results!T:T,MATCH(A68,Results!V:V,0)))","v":-4.95},{"$f":"IF(J68=\"\",\"\",INDEX(Results!AI:AI,MATCH(A68,Results!V:V,0)))","v":39.626923076923077},{"$f":"IF(G68=\"\",0,1)","v":1},{"$f":"INDEX(Picks!AF:AF,MATCH(A68,Picks!AC:AC,0))","v":30},"Man U draw",{"$f":"INDEX(Odds!F:F,MATCH(J68,Odds!E:E,0))","v":"32/13"},{"$f":"INDEX(Odds!G:G,MATCH(J68,Odds!E:E,0))","v":3.4615384615384617},{"$f":"INDEX(Odds!H:H,MATCH(J68,Odds!E:E,0))","v":0},0,null,null,null,{"$f":"IF(Odds!E68=\"\",\"\",Odds!E68)","v":"Fleetwood draw"},{"$f":"INDEX(Odds!F:F,MATCH(R68,Odds!E:E,0))","v":"23/10"},0,null,null,null,null,null,null,null,null,"Pete Baron",{"$f":"INDEX(Picks!F:F,MATCH(AC68,Picks!A:A,0))","v":-10},{"$f":"INDEX(Weekly!I:I,MATCH(AC68,Weekly!E:E,0))","v":0},{"$f":"IF(AD68=\"\",\"\",_xlfn.RANK.EQ(AD68,TopScores,0))","v":65},null,"Andy Charleston",{"$f":"INDEX(Picks!G:G,MATCH(AH68,Picks!A:A,0))","v":11.210578512396694},{"$f":"INDEX(Weekly!I:I,MATCH(AH68,Weekly!E:E,0))","v":1},{"$f":"IF(AI68=\"\",\"\",_xlfn.RANK.EQ(AI68,TopMaxScores,0))","v":63}]
[{"$f":"A68","v":"Gareth Powell"},"Sheff W","21/20",2.0499999999999998,"√",null,null,null,null,"Sheff W",{"$f":"INDEX(Odds!F:F,MATCH(J69,Odds!E:E,0))","v":"21/20"},{"$f":"INDEX(Odds!G:G,MATCH(J69,Odds!E:E,0))","v":2.0499999999999998},{"$f":"INDEX(Odds!H:H,MATCH(J69,Odds!E:E,0))","v":1},2.0499999999999998,null,null,null,{"$f":"IF(Odds!E69=\"\",\"\",Odds!E69)","v":"Gillingham draw"},{"$f":"INDEX(Odds!F:F,MATCH(R69,Odds!E:E,0))","v":"23/10"},0,null,null,null,null,null,null,null,null,"Ste Bentley",{"$f":"INDEX(Picks!F:F,MATCH(AC69,Picks!A:A,0))","v":-10},{"$f":"INDEX(Weekly!I:I,MATCH(AC69,Weekly!E:E,0))","v":0},{"$f":"IF(AD69=\"\",\"\",_xlfn.RANK.EQ(AD69,TopScores,0))","v":65},null,"Steve Baxter",{"$f":"INDEX(Picks!G:G,MATCH(AH69,Picks!A:A,0))","v":7.8089285714285701},{"$f":"INDEX(Weekly!I:I,MATCH(AH69,Weekly!E:E,0))","v":3},{"$f":"IF(AI69=\"\",\"\",_xlfn.RANK.EQ(AI69,TopMaxScores,0))","v":64}]
[{"$f":"A68","v":"Gareth Powell"},"Everton","6/4",2.5,"x",null,null,null,null,"Everton",{"$f":"INDEX(Odds!F:F,MATCH(J70,Odds!E:E,0))","v":"6/4"},{"$f":"INDEX(Odds!G:G,MATCH(J70,Odds!E:E,0))","v":2.5},{"$f":"INDEX(Odds!H:H,MATCH(J70,Odds!E:E,0))","v":0},0,null,null,null,{"$f":"IF(Odds!E70=\"\",\"\",Odds!E70)","v":"Ipswich draw"},{"$f":"INDEX(Odds!F:F,MATCH(R70,Odds!E:E,0))","v":"23/10"},1]
[{"$f":"Results!B71","v":"Gerard Ventom"},{"$f":"IF(J71=\"\",\"\",J71)","v":"Burnley"},{"$f":"IF(J71=\"\",\"\",K71)","v":"31/20"},{"$f":"IF(J71=\"\",\"\",L71)","v":2.5499999999999998},{"$f":"IF(J71=\"\",\"\",IF(M71=1,\"√\",\"x\"))","v":"√"},{"$f":"IF(J71=\"\",-10,INDEX(Results!T:T,MATCH(A71,Results!V:V,0)))","v":-4.45},{"$f":"IF(J71=\"\",\"\",INDEX(Results!AI:AI,MATCH(A71,Results!V:V,0)))","v":55.402999999999999},{"$f":"IF(G71=\"\",0,1)","v":1},{"$f":"INDEX(Picks!AF:AF,MATCH(A71,Picks!AC:AC,0))","v":23},"Burnley",{"$f":"INDEX(Odds!F:F,MATCH(J71,Odds!E:E,0))","v":"31/20"},{"$f":"INDEX(Odds!G:G,MATCH(J71,Odds!E:E,0))","v":2.5499999999999998},{"$f":"INDEX(Odds!H:H,MATCH(J71,Odds!E:E,0))","v":1},2.5499999999999998,null,null,null,{"$f":"IF(Odds!E71=\"\",\"\",Odds!E71)","v":"MK Dons draw"},{"$f":"INDEX(Odds!F:F,MATCH(R71,Odds!E:E,0))","v":"23/10"},0]
[{"$f":"A71","v":"Gerard Ventom"},"Huddersfield","9/5",2.8,"x",null,null,null,null,"Huddersfield",{"$f":"INDEX(Odds!F:F,MATCH(J72,Odds!E:E,0))","v":"9/5"},{"$f":"INDEX(Odds!G:G,MATCH(J72,Odds!E:E,0))","v":2.8},{"$f":"INDEX(Odds!H:H,MATCH(J72,Odds!E:E,0))","v":0},0,null,null,null,{"$f":"IF(Odds!E72=\"\",\"\",Odds!E72)","v":"Oxford draw"},{"$f":"INDEX(Odds!F:F,MATCH(R72,Odds!E:E,0))","v":"23/10"},0]
[{"$f":"A71","v":"Gerard Ventom"},"Barnsley","27/10",3.7,"x",null,null,null,null,"Barnsley",{"$f":"INDEX(Odds!F:F,MATCH(J73,Odds!E:E,0))","v":"27/10"},{"$f":"INDEX(Odds!G:G,MATCH(J73,Odds!E:E,0))","v":3.7},{"$f":"INDEX(Odds!H:H,MATCH(J73,Odds!E:E,0))","v":0},0,null,null,null,{"$f":"IF(Odds!E73=\"\",\"\",Odds!E73)","v":"Portsmouth draw"},{"$f":"INDEX(Odds!F:F,MATCH(R73,Odds!E:E,0))","v":"11/4"},0]
[{"$f":"Results!B74","v":"Graeme Holmes"},"Derby","23/20",2.15,"x",{"$f":"IF(J74=\"\",-10,INDEX(Results!T:T,MATCH(A74,Results!V:V,0)))","v":-7},{"$f":"IF(J74=\"\",\"\",INDEX(Results!AI:AI,MATCH(A74,Results!V:V,0)))","v":26.3035},{"$f":"IF(G74=\"\",0,1)","v":1},{"$f":"INDEX(Picks!AF:AF,MATCH(A74,Picks!AC:AC,0))","v":49},"Derby",{"$f":"INDEX(Odds!F:F,MATCH(J74,Odds!E:E,0))","v":"23/20"},{"$f":"INDEX(Odds!G:G,MATCH(J74,Odds!E:E,0))","v":2.15},{"$f":"INDEX(Odds!H:H,MATCH(J74,Odds!E:E,0))","v":0},0,null,null,null,{"$f":"IF(Odds!E74=\"\",\"\",Odds!E74)","v":"Rochdale draw"},{"$f":"INDEX(Odds!F:F,MATCH(R74,Odds!E:E,0))","v":"23/10"},1]
[{"$f":"A74","v":"Graeme Holmes"},"Middlesbro","13/10",2.2999999999999998,"x",null,null,null,null,"Middlesbro",{"$f":"INDEX(Odds!F:F,MATCH(J75,Odds!E:E,0))","v":"13/10"},{"$f":"INDEX(Odds!G:G,MATCH(J75,Odds!E:E,0))","v":2.2999999999999998},{"$f":"INDEX(Odds!H:H,MATCH(J75,Odds!E:E,0))","v":0},0,null,null,null,{"$f":"IF(Odds!E75=\"\",\"\",Odds!E75)","v":"Rotherham draw"},{"$f":"INDEX(Odds!F:F,MATCH(R75,Odds!E:E,0))","v":"23/10"},0]
[{"$f":"A74","v":"Graeme Holmes"},"Leicester","13/10",2.2999999999999998,"x",null,null,null,null,"Leicester",{"$f":"INDEX(Odds!F:F,MATCH(J76,Odds!E:E,0))","v":"13/10"},{"$f":"INDEX(Odds!G:G,MATCH(J76,Odds!E:E,0))","v":2.2999999999999998},{"$f":"INDEX(Odds!H:H,MATCH(J76,Odds!E:E,0))","v":0},0,null,null,null,{"$f":"IF(Odds!E76=\"\",\"\",Odds!E76)","v":"Southend draw"},{"$f":"INDEX(Odds!F:F,MATCH(R76,Odds!E:E,0))","v":"23/10"},0]
[{"$f":"Results!B77","v":"Graham Miller"},"Charlton","21/10",3.1,"√",{"$f":"IF(J77=\"\",-10,INDEX(Results!T:T,MATCH(A77,Results!V:V,0)))","v":3.4800000000000004},{"$f":"IF(J77=\"\",\"\",INDEX(Results!AI:AI,MATCH(A77,Results!V:V,0)))","v":29.884},{"$f":"IF(G77=\"\",0,1)","v":1},{"$f":"INDEX(Picks!AF:AF,MATCH(A77,Picks!AC:AC,0))","v":8},"Charlton",{"$f":"INDEX(Odds!F:F,MATCH(J77,Odds!E:E,0))","v":"21/10"},{"$f":"INDEX(Odds!G:G,MATCH(J77,Odds!E:E,0))","v":3.1},{"$f":"INDEX(Odds!H:H,MATCH(J77,Odds!E:E,0))","v":1},3.1,null,null,null,{"$f":"IF(Odds!E77=\"\",\"\",Odds!E77)","v":"Cambridge draw"},{"$f":"INDEX(Odds!F:F,MATCH(R77,Odds!E:E,0))","v":"5/2"},1]
[{"$f":"A77","v":"Graham Miller"},"Fulham","4/5",1.8,"√",null,null,null,null,"Fulham",{"$f":"INDEX(Odds!F:F,MATCH(J78,Odds!E:E,0))","v":"4/5"},{"$f":"INDEX(Odds!G:G,MATCH(J78,Odds!E:E,0))","v":1.8},{"$f":"INDEX(Odds!H:H,MATCH(J78,Odds!E:E,0))","v":1},1.8,null,null,null,{"$f":"IF(Odds!E78=\"\",\"\",Odds!E78)","v":"Cheltenham draw"},{"$f":"INDEX(Odds!F:F,MATCH(R78,Odds!E:E,0))","v":"5/2"},0]
[{"$f":"A77","v":"Graham Miller"},"Middlesbro","13/10",2.2999999999999998,"x",null,null,null,null,"Middlesbro",{"$f":"INDEX(Odds!F:F,MATCH(J79,Odds!E:E,0))","v":"13/10"},{"$f":"INDEX(Odds!G:G,MATCH(J79,Odds!E:E,0))","v":2.2999999999999998},{"$f":"INDEX(Odds!H:H,MATCH(J79,Odds!E:E,0))","v":0},0,null,null,null,{"$f":"IF(Odds!E79=\"\",\"\",Odds!E79)","v":"Crawley draw"},{"$f":"INDEX(Odds!F:F,MATCH(R79,Odds!E:E,0))","v":"12/5"},0]
[{"$f":"Results!B80","v":"Howard Bradley"},"West Brom","7/10",1.7,"x",{"$f":"IF(J80=\"\",-10,INDEX(Results!T:T,MATCH(A80,Results!V:V,0)))","v":0.13333333333333286},{"$f":"IF(J80=\"\",\"\",INDEX(Results!AI:AI,MATCH(A80,Results!V:V,0)))","v":13.959999999999997},{"$f":"IF(G80=\"\",0,1)","v":1},{"$f":"INDEX(Picks!AF:AF,MATCH(A80,Picks!AC:AC,0))","v":14},"West Brom",{"$f":"INDEX(Odds!F:F,MATCH(J80,Odds!E:E,0))","v":"7/10"},{"$f":"INDEX(Odds!G:G,MATCH(J80,Odds!E:E,0))","v":1.7},{"$f":"INDEX(Odds!H:H,MATCH(J80,Odds!E:E,0))","v":0},0,null,null,null,{"$f":"IF(Odds!E80=\"\",\"\",Odds!E80)","v":"Grimsby draw"},{"$f":"INDEX(Odds!F:F,MATCH(R80,Odds!E:E,0))","v":"5/2"},1]
[{"$f":"A80","v":"Howard Bradley"},"Portsmouth","4/6",1.6666666666666665,"√",null,null,null,null,"Portsmouth",{"$f":"INDEX(Odds!F:F,MATCH(J81,Odds!E:E,0))","v":"4/6"},{"$f":"INDEX(Odds!G:G,MATCH(J81,Odds!E:E,0))","v":1.6666666666666665},{"$f":"INDEX(Odds!H:H,MATCH(J81,Odds!E:E,0))","v":1},1.6666666666666665,null,null,null,{"$f":"IF(Odds!E81=\"\",\"\",Odds!E81)","v":"Macclesfield draw"},{"$f":"INDEX(Odds!F:F,MATCH(R81,Odds!E:E,0))","v":"12/5"},0]
[{"$f":"A80","v":"Howard Bradley"},"Sheff W","21/20",2.0499999999999998,"√",null,null,null,null,"Sheff W",{"$f":"INDEX(Odds!F:F,MATCH(J82,Odds!E:E,0))","v":"21/20"},{"$f":"INDEX(Odds!G:G,MATCH(J82,Odds!E:E,0))","v":2.0499999999999998},{"$f":"INDEX(Odds!H:H,MATCH(J82,Odds!E:E,0))","v":1},2.0499999999999998,null,null,null,{"$f":"IF(Odds!E82=\"\",\"\",Odds!E82)","v":"Mansfield draw"},{"$f":"INDEX(Odds!F:F,MATCH(R82,Odds!E:E,0))","v":"3/1"},1]
[{"$f":"Results!B83","v":"Ian Davies"},"Burnley draw","23/10",3.3,"x",{"$f":"IF(J83=\"\",-10,INDEX(Results!T:T,MATCH(A83,Results!V:V,0)))","v":-3.6363636363636362},{"$f":"IF(J83=\"\",\"\",INDEX(Results!AI:AI,MATCH(A83,Results!V:V,0)))","v":42.661818181818177},{"$f":"IF(G83=\"\",0,1)","v":1},{"$f":"INDEX(Picks!AF:AF,MATCH(A83,Picks!AC:AC,0))","v":18},"Burnley draw",{"$f":"INDEX(Odds!F:F,MATCH(J83,Odds!E:E,0))","v":"23/10"},{"$f":"INDEX(Odds!G:G,MATCH(J83,Odds!E:E,0))","v":3.3},{"$f":"INDEX(Odds!H:H,MATCH(J83,Odds!E:E,0))","v":0},0,null,null,null,{"$f":"IF(Odds!E83=\"\",\"\",Odds!E83)","v":"Oldham draw"},{"$f":"INDEX(Odds!F:F,MATCH(R83,Odds!E:E,0))","v":"13/5"},0]
[{"$f":"A83","v":"Ian Davies"},"Leeds","7/10",1.7,"x",null,null,null,null,"Leeds",{"$f":"INDEX(Odds!F:F,MATCH(J84,Odds!E:E,0))","v":"7/10"},{"$f":"INDEX(Odds!G:G,MATCH(J84,Odds!E:E,0))","v":1.7},{"$f":"INDEX(Odds!H:H,MATCH(J84,Odds!E:E,0))","v":0},0,null,null,null,{"$f":"IF(Odds!E84=\"\",\"\",Odds!E84)","v":"Plymouth draw"},{"$f":"INDEX(Odds!F:F,MATCH(R84,Odds!E:E,0))","v":"5/2"},0]
[{"$f":"A83","v":"Ian Davies"},"Leicester draw","26/11",3.3636363636363638,"√",null,null,null,null,"Leicester draw",{"$f":"INDEX(Odds!F:F,MATCH(J85,Odds!E:E,0))","v":"26/11"},{"$f":"INDEX(Odds!G:G,MATCH(J85,Odds!E:E,0))","v":3.3636363636363638},{"$f":"INDEX(Odds!H:H,MATCH(J85,Odds!E:E,0))","v":1},3.3636363636363638,null,null,null,{"$f":"IF(Odds!E85=\"\",\"\",Odds!E85)","v":"Port Vale draw"},{"$f":"INDEX(Odds!F:F,MATCH(R85,Odds!E:E,0))","v":"23/10"},1]
[{"$f":"Results!B86","v":"Jack Walsh"},"QPR","31/20",2.5499999999999998,"x",{"$f":"IF(J86=\"\",-10,INDEX(Results!T:T,MATCH(A86,Results!V:V,0)))","v":-7},{"$f":"IF(J86=\"\",\"\",INDEX(Results!AI:AI,MATCH(A86,Results!V:V,0)))","v":28.145454545454548},{"$f":"IF(G86=\"\",0,1)","v":1},{"$f":"INDEX(Picks!AF:AF,MATCH(A86,Picks!AC:AC,0))","v":49},"QPR",{"$f":"INDEX(Odds!F:F,MATCH(J86,Odds!E:E,0))","v":"31/20"},{"$f":"INDEX(Odds!G:G,MATCH(J86,Odds!E:E,0))","v":2.5499999999999998},{"$f":"INDEX(Odds!H:H,MATCH(J86,Odds!E:E,0))","v":0},0,null,null,null,{"$f":"IF(Odds!E86=\"\",\"\",Odds!E86)","v":"Stevenage draw"},{"$f":"INDEX(Odds!F:F,MATCH(R86,Odds!E:E,0))","v":"5/2"},0]
[{"$f":"A86","v":"Jack Walsh"},"Everton","6/4",2.5,"x",null,null,null,null,"Everton",{"$f":"INDEX(Odds!F:F,MATCH(J87,Odds!E:E,0))","v":"6/4"},{"$f":"INDEX(Odds!G:G,MATCH(J87,Odds!E:E,0))","v":2.5},{"$f":"INDEX(Odds!H:H,MATCH(J87,Odds!E:E,0))","v":0},0,null,null,null,{"$f":"IF(Odds!E87=\"\",\"\",Odds!E87)","v":"Swindon draw"},{"$f":"INDEX(Odds!F:F,MATCH(R87,Odds!E:E,0))","v":"5/2"},0]
[{"$f":"A86","v":"Jack Walsh"},"Watford","10/11",1.9090909090909092,"x",null,null,null,null,"Watford",{"$f":"INDEX(Odds!F:F,MATCH(J88,Odds!E:E,0))","v":"10/11"},{"$f":"INDEX(Odds!G:G,MATCH(J88,Odds!E:E,0))","v":1.9090909090909092},{"$f":"INDEX(Odds!H:H,MATCH(J88,Odds!E:E,0))","v":0},0,null,null,null,{"$f":"IF(Odds!E88=\"\",\"\",Odds!E88)","v":"Walsall draw"},{"$f":"INDEX(Odds!F:F,MATCH(R88,Odds!E:E,0))","v":"12/5"},1]
[{"$f":"Results!B89","v":"James Bell"},"Newcastle","77/19",5.0526315789473681,"x",{"$f":"IF(J89=\"\",-10,INDEX(Results!T:T,MATCH(A89,Results!V:V,0)))","v":-7},{"$f":"IF(J89=\"\",\"\",INDEX(Results!AI:AI,MATCH(A89,Results!V:V,0)))","v":114.32368421052632},{"$f":"IF(G89=\"\",0,1)","v":1},{"$f":"INDEX(Picks!AF:AF,MATCH(A89,Picks!AC:AC,0))","v":49},"Newcastle",{"$f":"INDEX(Odds!F:F,MATCH(J89,Odds!E:E,0))","v":"77/19"},{"$f":"INDEX(Odds!G:G,MATCH(J89,Odds!E:E,0))","v":5.0526315789473681},{"$f":"INDEX(Odds!H:H,MATCH(J89,Odds!E:E,0))","v":0},0,null,null,null,{"$f":"IF(Odds!E89=\"\",\"\",Odds!E89)","v":"Leicester draw"},{"$f":"INDEX(Odds!F:F,MATCH(R89,Odds!E:E,0))","v":"26/11"},1]
[{"$f":"A89","v":"James Bell"},"Grimsby","23/10",3.3,"x",null,null,null,null,"Grimsby",{"$f":"INDEX(Odds!F:F,MATCH(J90,Odds!E:E,0))","v":"23/10"},{"$f":"INDEX(Odds!G:G,MATCH(J90,Odds!E:E,0))","v":3.3},{"$f":"INDEX(Odds!H:H,MATCH(J90,Odds!E:E,0))","v":0},0,null,null,null,{"$f":"IF(Odds!E90=\"\",\"\",Odds!E90)","v":"Man U draw"},{"$f":"INDEX(Odds!F:F,MATCH(R90,Odds!E:E,0))","v":"32/13"},0]
[{"$f":"A89","v":"James Bell"},"Wigan","27/10",3.7,"x",null,null,null,null,"Wigan",{"$f":"INDEX(Odds!F:F,MATCH(J91,Odds!E:E,0))","v":"27/10"},{"$f":"INDEX(Odds!G:G,MATCH(J91,Odds!E:E,0))","v":3.7},{"$f":"INDEX(Odds!H:H,MATCH(J91,Odds!E:E,0))","v":0},0,null,null,null,{"$f":"IF(Odds!E91=\"\",\"\",Odds!E91)","v":"Newcastle draw"},{"$f":"INDEX(Odds!F:F,MATCH(R91,Odds!E:E,0))","v":"29/10"},0]
[{"$f":"Results!B92","v":"Joel Bent"},"Liverpool draw","7/1",8,"x",{"$f":"IF(J92=\"\",-10,INDEX(Results!T:T,MATCH(A92,Results!V:V,0)))","v":-7},{"$f":"IF(J92=\"\",\"\",INDEX(Results!AI:AI,MATCH(A92,Results!V:V,0)))","v":126.66249999999999},{"$f":"IF(G92=\"\",0,1)","v":1},{"$f":"INDEX(Picks!AF:AF,MATCH(A92,Picks!AC:AC,0))","v":49},"Liverpool draw",{"$f":"INDEX(Odds!F:F,MATCH(J92,Odds!E:E,0))","v":"7/1"},{"$f":"INDEX(Odds!G:G,MATCH(J92,Odds!E:E,0))","v":8},{"$f":"INDEX(Odds!H:H,MATCH(J92,Odds!E:E,0))","v":0},0,null,null,null,{"$f":"IF(Odds!E92=\"\",\"\",Odds!E92)","v":""},{"$f":"INDEX(Odds!F:F,MATCH(R92,Odds!E:E,0))","v":""},{"$error":"#N/A"}]
[{"$f":"A92","v":"Joel Bent"},"Carlisle","11/4",3.75,"x",null,null,null,null,"Carlisle",{"$f":"INDEX(Odds!F:F,MATCH(J93,Odds!E:E,0))","v":"11/4"},{"$f":"INDEX(Odds!G:G,MATCH(J93,Odds!E:E,0))","v":3.75},{"$f":"INDEX(Odds!H:H,MATCH(J93,Odds!E:E,0))","v":0},0,null,null,null,{"$f":"IF(Odds!E93=\"\",\"\",Odds!E93)","v":""},{"$f":"INDEX(Odds!F:F,MATCH(R93,Odds!E:E,0))","v":""},{"$error":"#N/A"}]
[{"$f":"A92","v":"Joel Bent"},"Derby","23/20",2.15,"x",null,null,null,null,"Derby",{"$f":"INDEX(Odds!F:F,MATCH(J94,Odds!E:E,0))","v":"23/20"},{"$f":"INDEX(Odds!G:G,MATCH(J94,Odds!E:E,0))","v":2.15},{"$f":"INDEX(Odds!H:H,MATCH(J94,Odds!E:E,0))","v":0},0,null,null,null,{"$f":"IF(Odds!E94=\"\",\"\",Odds!E94)","v":"Norwich"},{"$f":"INDEX(Odds!F:F,MATCH(R94,Odds!E:E,0))","v":"18/1"},{"$f":"IF(V2<X2,1,0)","v":0}]
[{"$f":"Results!B95","v":"John Evans"},"Wigan","27/10",3.7,"x",{"$f":"IF(J95=\"\",-10,INDEX(Results!T:T,MATCH(A95,Results!V:V,0)))","v":-5.3333333333333339},{"$f":"IF(J95=\"\",\"\",INDEX(Results!AI:AI,MATCH(A95,Results!V:V,0)))","v":36.493333333333325},{"$f":"IF(G95=\"\",0,1)","v":1},{"$f":"INDEX(Picks!AF:AF,MATCH(A95,Picks!AC:AC,0))","v":43},"Wigan",{"$f":"INDEX(Odds!F:F,MATCH(J95,Odds!E:E,0))","v":"27/10"},{"$f":"INDEX(Odds!G:G,MATCH(J95,Odds!E:E,0))","v":3.7},{"$f":"INDEX(Odds!H:H,MATCH(J95,Odds!E:E,0))","v":0},0,null,null,null,{"$f":"IF(Odds!E95=\"\",\"\",Odds!E95)","v":"Sheff U"},{"$f":"INDEX(Odds!F:F,MATCH(R95,Odds!E:E,0))","v":"3/1"},0]
[{"$f":"A95","v":"John Evans"},"QPR","31/20",2.5499999999999998,"x",null,null,null,null,"QPR",{"$f":"INDEX(Odds!F:F,MATCH(J96,Odds!E:E,0))","v":"31/20"},{"$f":"INDEX(Odds!G:G,MATCH(J96,Odds!E:E,0))","v":2.5499999999999998},{"$f":"INDEX(Odds!H:H,MATCH(J96,Odds!E:E,0))","v":0},0,null,null,null,{"$f":"IF(Odds!E96=\"\",\"\",Odds!E96)","v":"Southampton"},{"$f":"INDEX(Odds!F:F,MATCH(R96,Odds!E:E,0))","v":"9/5"},0]
[{"$f":"A95","v":"John Evans"},"Portsmouth","4/6",1.6666666666666665,"√",null,null,null,null,"Portsmouth",{"$f":"INDEX(Odds!F:F,MATCH(J97,Odds!E:E,0))","v":"4/6"},{"$f":"INDEX(Odds!G:G,MATCH(J97,Odds!E:E,0))","v":1.6666666666666665},{"$f":"INDEX(Odds!H:H,MATCH(J97,Odds!E:E,0))","v":1},1.6666666666666665,null,null,null,{"$f":"IF(Odds!E97=\"\",\"\",Odds!E97)","v":"Everton"},{"$f":"INDEX(Odds!F:F,MATCH(R97,Odds!E:E,0))","v":"6/4"},0]
[{"$f":"Results!B98","v":"John Robinson"},"West Ham draw","5/1",6,"x",{"$f":"IF(J98=\"\",-10,INDEX(Results!T:T,MATCH(A98,Results!V:V,0)))","v":1.0181818181818194},{"$f":"IF(J98=\"\",\"\",INDEX(Results!AI:AI,MATCH(A98,Results!V:V,0)))","v":55.127272727272739},{"$f":"IF(G98=\"\",0,1)","v":1},{"$f":"INDEX(Picks!AF:AF,MATCH(A98,Picks!AC:AC,0))","v":12},"West Ham draw",{"$f":"INDEX(Odds!F:F,MATCH(J98,Odds!E:E,0))","v":"5/1"},{"$f":"INDEX(Odds!G:G,MATCH(J98,Odds!E:E,0))","v":6},{"$f":"INDEX(Odds!H:H,MATCH(J98,Odds!E:E,0))","v":0},{"$f":"L98*M98","v":0},null,null,null,{"$f":"IF(Odds!E98=\"\",\"\",Odds!E98)","v":"Villa"},{"$f":"INDEX(Odds!F:F,MATCH(R98,Odds!E:E,0))","v":"10/1"},0]
[{"$f":"A98","v":"John Robinson"},"Preston","11/10",2.1,"√",null,null,null,null,"Preston",{"$f":"INDEX(Odds!F:F,MATCH(J99,Odds!E:E,0))","v":"11/10"},{"$f":"INDEX(Odds!G:G,MATCH(J99,Odds!E:E,0))","v":2.1},{"$f":"INDEX(Odds!H:H,MATCH(J99,Odds!E:E,0))","v":1},2.1,null,null,null,{"$f":"IF(Odds!E99=\"\",\"\",Odds!E99)","v":"Brighton"},{"$f":"INDEX(Odds!F:F,MATCH(R99,Odds!E:E,0))","v":"10/3"},1]
[{"$f":"A98","v":"John Robinson"},"Fleetwood","10/11",1.9090909090909092,"√",null,null,null,null,"Fleetwood",{"$f":"INDEX(Odds!F:F,MATCH(J100,Odds!E:E,0))","v":"10/11"},{"$f":"INDEX(Odds!G:G,MATCH(J100,Odds!E:E,0))","v":1.9090909090909092},{"$f":"INDEX(Odds!H:H,MATCH(J100,Odds!E:E,0))","v":1},1.9090909090909092,null,null,null,{"$f":"IF(Odds!E100=\"\",\"\",Odds!E100)","v":"Man C"},{"$f":"INDEX(Odds!F:F,MATCH(R100,Odds!E:E,0))","v":"1/4"},1]
[{"$f":"Results!B101","v":"John Ronan"},"Charlton","21/10",3.1,"√",{"$f":"IF(J101=\"\",-10,INDEX(Results!T:T,MATCH(A101,Results!V:V,0)))","v":-3.9},{"$f":"IF(J101=\"\",\"\",INDEX(Results!AI:AI,MATCH(A101,Results!V:V,0)))","v":45.876562500000006},{"$f":"IF(G101=\"\",0,1)","v":1},{"$f":"INDEX(Picks!AF:AF,MATCH(A101,Picks!AC:AC,0))","v":21},"Charlton",{"$f":"INDEX(Odds!F:F,MATCH(J101,Odds!E:E,0))","v":"21/10"},{"$f":"INDEX(Odds!G:G,MATCH(J101,Odds!E:E,0))","v":3.1},{"$f":"INDEX(Odds!H:H,MATCH(J101,Odds!E:E,0))","v":1},3.1,null,null,null,{"$f":"IF(Odds!E101=\"\",\"\",Odds!E101)","v":"Bristol C"},{"$f":"INDEX(Odds!F:F,MATCH(R101,Odds!E:E,0))","v":"21/10"},0]
[{"$f":"A101","v":"John Ronan"},"Gillingham","13/8",2.625,"x",null,null,null,null,"Gillingham",{"$f":"INDEX(Odds!F:F,MATCH(J102,Odds!E:E,0))","v":"13/8"},{"$f":"INDEX(Odds!G:G,MATCH(J102,Odds!E:E,0))","v":2.625},{"$f":"INDEX(Odds!H:H,MATCH(J102,Odds!E:E,0))","v":0},0,null,null,null,{"$f":"IF(Odds!E102=\"\",\"\",Odds!E102)","v":"Luton"},{"$f":"INDEX(Odds!F:F,MATCH(R102,Odds!E:E,0))","v":"19/5"},0]
[{"$f":"A101","v":"John Ronan"},"Southend","13/8",2.625,"x",null,null,null,null,"Southend",{"$f":"INDEX(Odds!F:F,MATCH(J103,Odds!E:E,0))","v":"13/8"},{"$f":"INDEX(Odds!G:G,MATCH(J103,Odds!E:E,0))","v":2.625},{"$f":"INDEX(Odds!H:H,MATCH(J103,Odds!E:E,0))","v":0},0,null,null,null,{"$f":"IF(Odds!E103=\"\",\"\",Odds!E103)","v":"Stoke"},{"$f":"INDEX(Odds!F:F,MATCH(R103,Odds!E:E,0))","v":"13/10"},0]
[{"$f":"Results!B104","v":"Kei Lok Ma"},"Burnley","31/20",2.5499999999999998,"√",{"$f":"IF(J104=\"\",-10,INDEX(Results!T:T,MATCH(A104,Results!V:V,0)))","v":7.2649999999999988},{"$f":"IF(J104=\"\",\"\",INDEX(Results!AI:AI,MATCH(A104,Results!V:V,0)))","v":42.374499999999991},{"$f":"IF(G104=\"\",0,1)","v":1},{"$f":"INDEX(Picks!AF:AF,MATCH(A104,Picks!AC:AC,0))","v":5},"Burnley",{"$f":"INDEX(Odds!F:F,MATCH(J104,Odds!E:E,0))","v":"31/20"},{"$f":"INDEX(Odds!G:G,MATCH(J104,Odds!E:E,0))","v":2.5499999999999998},{"$f":"INDEX(Odds!H:H,MATCH(J104,Odds!E:E,0))","v":1},2.5499999999999998,null,null,null,{"$f":"IF(Odds!E104=\"\",\"\",Odds!E104)","v":"Swansea"},{"$f":"INDEX(Odds!F:F,MATCH(R104,Odds!E:E,0))","v":"12/5"},0]
[{"$f":"A104","v":"Kei Lok Ma"},"Palace draw","23/10",3.3,"√",null,null,null,null,"Palace draw",{"$f":"INDEX(Odds!F:F,MATCH(J105,Odds!E:E,0))","v":"23/10"},{"$f":"INDEX(Odds!G:G,MATCH(J105,Odds!E:E,0))","v":3.3},{"$f":"INDEX(Odds!H:H,MATCH(J105,Odds!E:E,0))","v":1},3.3,null,null,null,{"$f":"IF(Odds!E105=\"\",\"\",Odds!E105)","v":"Blackburn"},{"$f":"INDEX(Odds!F:F,MATCH(R105,Odds!E:E,0))","v":"17/5"},0]
[{"$f":"A104","v":"Kei Lok Ma"},"Leicester","13/10",2.2999999999999998,"x",null,null,null,null,"Leicester",{"$f":"INDEX(Odds!F:F,MATCH(J106,Odds!E:E,0))","v":"13/10"},{"$f":"INDEX(Odds!G:G,MATCH(J106,Odds!E:E,0))","v":2.2999999999999998},{"$f":"INDEX(Odds!H:H,MATCH(J106,Odds!E:E,0))","v":0},0,null,null,null,{"$f":"IF(Odds!E106=\"\",\"\",Odds!E106)","v":"Reading"},{"$f":"INDEX(Odds!F:F,MATCH(R106,Odds!E:E,0))","v":"27/10"},0]
[{"$f":"Results!B107","v":"Kevin Carter"},"Spurs draw","24/5",5.8,"x",{"$f":"IF(J107=\"\",-10,INDEX(Results!T:T,MATCH(A107,Results!V:V,0)))","v":-7},{"$f":"IF(J107=\"\",\"\",INDEX(Results!AI:AI,MATCH(A107,Results!V:V,0)))","v":138.60799999999998},{"$f":"IF(G107=\"\",0,1)","v":1},{"$f":"INDEX(Picks!AF:AF,MATCH(A107,Picks!AC:AC,0))","v":49},"Spurs draw",{"$f":"INDEX(Odds!F:F,MATCH(J107,Odds!E:E,0))","v":"24/5"},{"$f":"INDEX(Odds!G:G,MATCH(J107,Odds!E:E,0))","v":5.8},{"$f":"INDEX(Odds!H:H,MATCH(J107,Odds!E:E,0))","v":0},0,null,null,null,{"$f":"IF(Odds!E107=\"\",\"\",Odds!E107)","v":"Forest"},{"$f":"INDEX(Odds!F:F,MATCH(R107,Odds!E:E,0))","v":"4/1"},0]
[{"$f":"A107","v":"Kevin Carter"},"Watford draw","12/5",3.4,"x",null,null,null,null,"Watford draw",{"$f":"INDEX(Odds!F:F,MATCH(J108,Odds!E:E,0))","v":"12/5"},{"$f":"INDEX(Odds!G:G,MATCH(J108,Odds!E:E,0))","v":3.4},{"$f":"INDEX(Odds!H:H,MATCH(J108,Odds!E:E,0))","v":0},0,null,null,null,{"$f":"IF(Odds!E108=\"\",\"\",Odds!E108)","v":"Brentford"},{"$f":"INDEX(Odds!F:F,MATCH(R108,Odds!E:E,0))","v":"21/10"},1]
[{"$f":"A107","v":"Kevin Carter"},"Newcastle draw","29/10",3.9,"x",null,null,null,null,"Newcastle draw",{"$f":"INDEX(Odds!F:F,MATCH(J109,Odds!E:E,0))","v":"29/10"},{"$f":"INDEX(Odds!G:G,MATCH(J109,Odds!E:E,0))","v":3.9},{"$f":"INDEX(Odds!H:H,MATCH(J109,Odds!E:E,0))","v":0},0,null,null,null,{"$f":"IF(Odds!E109=\"\",\"\",Odds!E109)","v":"Wigan"},{"$f":"INDEX(Odds!F:F,MATCH(R109,Odds!E:E,0))","v":"27/10"},0]
[{"$f":"Results!B110","v":"Lennie Bow"},{"$f":"IF(J110=\"\",\"\",J110)","v":"West Brom"},{"$f":"IF(J110=\"\",\"\",K110)","v":"7/10"},{"$f":"IF(J110=\"\",\"\",L110)","v":1.7},"x",{"$f":"IF(J110=\"\",-10,INDEX(Results!T:T,MATCH(A110,Results!V:V,0)))","v":-4.8461538461538467},{"$f":"IF(J110=\"\",\"\",INDEX(Results!AI:AI,MATCH(A110,Results!V:V,0)))","v":14.991538461538457},{"$f":"IF(G110=\"\",0,1)","v":1},{"$f":"INDEX(Picks!AF:AF,MATCH(A110,Picks!AC:AC,0))","v":29},"West Brom",{"$f":"INDEX(Odds!F:F,MATCH(J110,Odds!E:E,0))","v":"7/10"},{"$f":"INDEX(Odds!G:G,MATCH(J110,Odds!E:E,0))","v":1.7},{"$f":"INDEX(Odds!H:H,MATCH(J110,Odds!E:E,0))","v":0},0,null,null,null,{"$f":"IF(Odds!E110=\"\",\"\",Odds!E110)","v":"Huddersfield"},{"$f":"INDEX(Odds!F:F,MATCH(R110,Odds!E:E,0))","v":"9/5"},0]
[{"$f":"A110","v":"Lennie Bow"},"MK Dons","15/13",2.1538461538461537,"√",null,null,null,null,"MK Dons",{"$f":"INDEX(Odds!F:F,MATCH(J111,Odds!E:E,0))","v":"15/13"},{"$f":"INDEX(Odds!G:G,MATCH(J111,Odds!E:E,0))","v":2.1538461538461537},{"$f":"INDEX(Odds!H:H,MATCH(J111,Odds!E:E,0))","v":1},2.1538461538461537,null,null,null,{"$f":"IF(Odds!E111=\"\",\"\",Odds!E111)","v":"Barnsley"},{"$f":"INDEX(Odds!F:F,MATCH(R111,Odds!E:E,0))","v":"27/10"},0]
[{"$f":"A110","v":"Lennie Bow"},"Mansfield","7/10",1.7,"x",null,null,null,null,"Mansfield",{"$f":"INDEX(Odds!F:F,MATCH(J112,Odds!E:E,0))","v":"7/10"},{"$f":"INDEX(Odds!G:G,MATCH(J112,Odds!E:E,0))","v":1.7},{"$f":"INDEX(Odds!H:H,MATCH(J112,Odds!E:E,0))","v":0},0,null,null,null,{"$f":"IF(Odds!E112=\"\",\"\",Odds!E112)","v":"Millwall"},{"$f":"INDEX(Odds!F:F,MATCH(R112,Odds!E:E,0))","v":"17/4"},0]
[{"$f":"Results!B113","v":"Lewis Buckley"},"Bournemouth","10/11",1.9090909090909092,"x",{"$f":"IF(J113=\"\",-10,INDEX(Results!T:T,MATCH(A113,Results!V:V,0)))","v":-5.3333333333333339},{"$f":"IF(J113=\"\",\"\",INDEX(Results!AI:AI,MATCH(A113,Results!V:V,0)))","v":12.945454545454545},{"$f":"IF(G113=\"\",0,1)","v":1},{"$f":"INDEX(Picks!AF:AF,MATCH(A113,Picks!AC:AC,0))","v":43},"Bournemouth",{"$f":"INDEX(Odds!F:F,MATCH(J113,Odds!E:E,0))","v":"10/11"},{"$f":"INDEX(Odds!G:G,MATCH(J113,Odds!E:E,0))","v":1.9090909090909092},{"$f":"INDEX(Odds!H:H,MATCH(J113,Odds!E:E,0))","v":0},0,null,null,null,{"$f":"IF(Odds!E113=\"\",\"\",Odds!E113)","v":"Wycombe"},{"$f":"INDEX(Odds!F:F,MATCH(R113,Odds!E:E,0))","v":"21/10"},0]
[{"$f":"A113","v":"Lewis Buckley"},"West Brom","7/10",1.7,"x",null,null,null,null,"West Brom",{"$f":"INDEX(Odds!F:F,MATCH(J114,Odds!E:E,0))","v":"7/10"},{"$f":"INDEX(Odds!G:G,MATCH(J114,Odds!E:E,0))","v":1.7},{"$f":"INDEX(Odds!H:H,MATCH(J114,Odds!E:E,0))","v":0},0,null,null,null,{"$f":"IF(Odds!E114=\"\",\"\",Odds!E114)","v":"Wimbledon"},{"$f":"INDEX(Odds!F:F,MATCH(R114,Odds!E:E,0))","v":"3/1"},0]
[{"$f":"A113","v":"Lewis Buckley"},"Portsmouth","4/6",1.6666666666666665,"√",null,null,null,null,"Portsmouth",{"$f":"INDEX(Odds!F:F,MATCH(J115,Odds!E:E,0))","v":"4/6"},{"$f":"INDEX(Odds!G:G,MATCH(J115,Odds!E:E,0))","v":1.6666666666666665},{"$f":"INDEX(Odds!H:H,MATCH(J115,Odds!E:E,0))","v":1},1.6666666666666665,null,null,null,{"$f":"IF(Odds!E115=\"\",\"\",Odds!E115)","v":"Burton"},{"$f":"INDEX(Odds!F:F,MATCH(R115,Odds!E:E,0))","v":"6/4"},1]
[{"$f":"Results!B116","v":"Liam Wah"},"Palace draw","23/10",3.3,"√",{"$f":"IF(J116=\"\",-10,INDEX(Results!T:T,MATCH(A116,Results!V:V,0)))","v":-3.7},{"$f":"IF(J116=\"\",\"\",INDEX(Results!AI:AI,MATCH(A116,Results!V:V,0)))","v":61.544230769230765},{"$f":"IF(G116=\"\",0,1)","v":1},{"$f":"INDEX(Picks!AF:AF,MATCH(A116,Picks!AC:AC,0))","v":19},"Palace draw",{"$f":"INDEX(Odds!F:F,MATCH(J116,Odds!E:E,0))","v":"23/10"},{"$f":"INDEX(Odds!G:G,MATCH(J116,Odds!E:E,0))","v":3.3},{"$f":"INDEX(Odds!H:H,MATCH(J116,Odds!E:E,0))","v":1},3.3,null,null,null,{"$f":"IF(Odds!E116=\"\",\"\",Odds!E116)","v":"Sunderland"},{"$f":"INDEX(Odds!F:F,MATCH(R116,Odds!E:E,0))","v":"9/5"},0]
[{"$f":"A116","v":"Liam Wah"},"Rochdale","13/8",2.625,"x",null,null,null,null,"Rochdale",{"$f":"INDEX(Odds!F:F,MATCH(J117,Odds!E:E,0))","v":"13/8"},{"$f":"INDEX(Odds!G:G,MATCH(J117,Odds!E:E,0))","v":2.625},{"$f":"INDEX(Odds!H:H,MATCH(J117,Odds!E:E,0))","v":0},0,null,null,null,{"$f":"IF(Odds!E117=\"\",\"\",Odds!E117)","v":"Shrewsbury"},{"$f":"INDEX(Odds!F:F,MATCH(R117,Odds!E:E,0))","v":"11/5"},0]
[{"$f":"A116","v":"Liam Wah"},"Man U draw","32/13",3.4615384615384617,"x",null,null,null,null,"Man U draw",{"$f":"INDEX(Odds!F:F,MATCH(J118,Odds!E:E,0))","v":"32/13"},{"$f":"INDEX(Odds!G:G,MATCH(J118,Odds!E:E,0))","v":3.4615384615384617},{"$f":"INDEX(Odds!H:H,MATCH(J118,Odds!E:E,0))","v":0},0,null,null,null,{"$f":"IF(Odds!E118=\"\",\"\",Odds!E118)","v":"Peterborough"},{"$f":"INDEX(Odds!F:F,MATCH(R118,Odds!E:E,0))","v":"13/8"},0]
[{"$f":"Results!B119","v":"Mal Stott"},"Bristol r","6/5",2.2000000000000002,"x",{"$f":"IF(J119=\"\",-10,INDEX(Results!T:T,MATCH(A119,Results!V:V,0)))","v":-0.53333333333333321},{"$f":"IF(J119=\"\",\"\",INDEX(Results!AI:AI,MATCH(A119,Results!V:V,0)))","v":15.893333333333338},{"$f":"IF(G119=\"\",0,1)","v":1},{"$f":"INDEX(Picks!AF:AF,MATCH(A119,Picks!AC:AC,0))","v":15},"Bristol r",{"$f":"INDEX(Odds!F:F,MATCH(J119,Odds!E:E,0))","v":"6/5"},{"$f":"INDEX(Odds!G:G,MATCH(J119,Odds!E:E,0))","v":2.2000000000000002},{"$f":"INDEX(Odds!H:H,MATCH(J119,Odds!E:E,0))","v":0},0,null,null,null,{"$f":"IF(Odds!E119=\"\",\"\",Odds!E119)","v":"Tranmere"},{"$f":"INDEX(Odds!F:F,MATCH(R119,Odds!E:E,0))","v":"18/5"},0]
[{"$f":"A119","v":"Mal Stott"},"Portsmouth","4/6",1.6666666666666665,"√",null,null,null,null,"Portsmouth",{"$f":"INDEX(Odds!F:F,MATCH(J120,Odds!E:E,0))","v":"4/6"},{"$f":"INDEX(Odds!G:G,MATCH(J120,Odds!E:E,0))","v":1.6666666666666665},{"$f":"INDEX(Odds!H:H,MATCH(J120,Odds!E:E,0))","v":1},1.6666666666666665,null,null,null,{"$f":"IF(Odds!E120=\"\",\"\",Odds!E120)","v":"Doncaster"},{"$f":"INDEX(Odds!F:F,MATCH(R120,Odds!E:E,0))","v":"6/4"},0]
[{"$f":"A119","v":"Mal Stott"},"Fulham","4/5",1.8,"√",null,null,null,null,"Fulham",{"$f":"INDEX(Odds!F:F,MATCH(J121,Odds!E:E,0))","v":"4/5"},{"$f":"INDEX(Odds!G:G,MATCH(J121,Odds!E:E,0))","v":1.8},{"$f":"INDEX(Odds!H:H,MATCH(J121,Odds!E:E,0))","v":1},1.8,null,null,null,{"$f":"IF(Odds!E121=\"\",\"\",Odds!E121)","v":"Lincoln"},{"$f":"INDEX(Odds!F:F,MATCH(R121,Odds!E:E,0))","v":"23/10"},1]
[{"$f":"Results!B122","v":"Mark Bunn"},"Middlesbro","13/10",2.2999999999999998,"x",{"$f":"IF(J122=\"\",-10,INDEX(Results!T:T,MATCH(A122,Results!V:V,0)))","v":-4.5},{"$f":"IF(J122=\"\",\"\",INDEX(Results!AI:AI,MATCH(A122,Results!V:V,0)))","v":33.002499999999998},{"$f":"IF(G122=\"\",0,1)","v":1},{"$f":"INDEX(Picks!AF:AF,MATCH(A122,Picks!AC:AC,0))","v":26},"Middlesbro",{"$f":"INDEX(Odds!F:F,MATCH(J122,Odds!E:E,0))","v":"13/10"},{"$f":"INDEX(Odds!G:G,MATCH(J122,Odds!E:E,0))","v":2.2999999999999998},{"$f":"INDEX(Odds!H:H,MATCH(J122,Odds!E:E,0))","v":0},0,null,null,null,{"$f":"IF(Odds!E122=\"\",\"\",Odds!E122)","v":"Blackpool"},{"$f":"INDEX(Odds!F:F,MATCH(R122,Odds!E:E,0))","v":"6/4"},1]
[{"$f":"A122","v":"Mark Bunn"},"QPR","31/20",2.5499999999999998,"x",null,null,null,null,"QPR",{"$f":"INDEX(Odds!F:F,MATCH(J123,Odds!E:E,0))","v":"31/20"},{"$f":"INDEX(Odds!G:G,MATCH(J123,Odds!E:E,0))","v":2.5499999999999998},{"$f":"INDEX(Odds!H:H,MATCH(J123,Odds!E:E,0))","v":0},0,null,null,null,{"$f":"IF(Odds!E123=\"\",\"\",Odds!E123)","v":"Newport"},{"$f":"INDEX(Odds!F:F,MATCH(R123,Odds!E:E,0))","v":"13/8"},0]
[{"$f":"A122","v":"Mark Bunn"},"Oxford","6/4",2.5,"√",null,null,null,null,"Oxford",{"$f":"INDEX(Odds!F:F,MATCH(J124,Odds!E:E,0))","v":"6/4"},{"$f":"INDEX(Odds!G:G,MATCH(J124,Odds!E:E,0))","v":2.5},{"$f":"INDEX(Odds!H:H,MATCH(J124,Odds!E:E,0))","v":1},2.5,null,null,null,{"$f":"IF(Odds!E124=\"\",\"\",Odds!E124)","v":"Scunthorpe"},{"$f":"INDEX(Odds!F:F,MATCH(R124,Odds!E:E,0))","v":"16/11"},0]
[{"$f":"Results!B125","v":"Mark Saunders"},"Bournemouth","10/11",1.9090909090909092,"x",{"$f":"IF(J125=\"\",-10,INDEX(Results!T:T,MATCH(A125,Results!V:V,0)))","v":-5.2},{"$f":"IF(J125=\"\",\"\",INDEX(Results!AI:AI,MATCH(A125,Results!V:V,0)))","v":18.88},{"$f":"IF(G125=\"\",0,1)","v":1},{"$f":"INDEX(Picks!AF:AF,MATCH(A125,Picks!AC:AC,0))","v":37},"Bournemouth",{"$f":"INDEX(Odds!F:F,MATCH(J125,Odds!E:E,0))","v":"10/11"},{"$f":"INDEX(Odds!G:G,MATCH(J125,Odds!E:E,0))","v":1.9090909090909092},{"$f":"INDEX(Odds!H:H,MATCH(J125,Odds!E:E,0))","v":0},0,null,null,null,{"$f":"IF(Odds!E125=\"\",\"\",Odds!E125)","v":"Salford"},{"$f":"INDEX(Odds!F:F,MATCH(R125,Odds!E:E,0))","v":"5/4"},0]
[{"$f":"A125","v":"Mark Saunders"},"Fulham","4/5",1.8,"√",null,null,null,null,"Fulham",{"$f":"INDEX(Odds!F:F,MATCH(J126,Odds!E:E,0))","v":"4/5"},{"$f":"INDEX(Odds!G:G,MATCH(J126,Odds!E:E,0))","v":1.8},{"$f":"INDEX(Odds!H:H,MATCH(J126,Odds!E:E,0))","v":1},1.8,null,null,null,{"$f":"IF(Odds!E126=\"\",\"\",Odds!E126)","v":"Bradford"},{"$f":"INDEX(Odds!F:F,MATCH(R126,Odds!E:E,0))","v":"6/5"},0]
[{"$f":"A125","v":"Mark Saunders"},"Middlesbro","13/10",2.2999999999999998,"x",null,null,null,null,"Middlesbro",{"$f":"INDEX(Odds!F:F,MATCH(J127,Odds!E:E,0))","v":"13/10"},{"$f":"INDEX(Odds!G:G,MATCH(J127,Odds!E:E,0))","v":2.2999999999999998},{"$f":"INDEX(Odds!H:H,MATCH(J127,Odds!E:E,0))","v":0},0,null,null,null,{"$f":"IF(Odds!E127=\"\",\"\",Odds!E127)","v":"Orient"},{"$f":"INDEX(Odds!F:F,MATCH(R127,Odds!E:E,0))","v":"7/5"},0]
[{"$f":"Results!B128","v":"Martin Molyneux"},"Leicester","13/10",2.2999999999999998,"x",{"$f":"IF(J128=\"\",-10,INDEX(Results!T:T,MATCH(A128,Results!V:V,0)))","v":-7},{"$f":"IF(J128=\"\",\"\",INDEX(Results!AI:AI,MATCH(A128,Results!V:V,0)))","v":38.3776923076923},{"$f":"IF(G128=\"\",0,1)","v":1},{"$f":"INDEX(Picks!AF:AF,MATCH(A128,Picks!AC:AC,0))","v":49},"Leicester",{"$f":"INDEX(Odds!F:F,MATCH(J128,Odds!E:E,0))","v":"13/10"},{"$f":"INDEX(Odds!G:G,MATCH(J128,Odds!E:E,0))","v":2.2999999999999998},{"$f":"INDEX(Odds!H:H,MATCH(J128,Odds!E:E,0))","v":0},0,null,null,null,{"$f":"IF(Odds!E128=\"\",\"\",Odds!E128)","v":"Morecambe"},{"$f":"INDEX(Odds!F:F,MATCH(R128,Odds!E:E,0))","v":"22/5"},0]
[{"$f":"A128","v":"Martin Molyneux"},"Derby","23/20",2.15,"x",null,null,null,null,"Derby",{"$f":"INDEX(Odds!F:F,MATCH(J129,Odds!E:E,0))","v":"23/20"},{"$f":"INDEX(Odds!G:G,MATCH(J129,Odds!E:E,0))","v":2.15},{"$f":"INDEX(Odds!H:H,MATCH(J129,Odds!E:E,0))","v":0},0,null,null,null,{"$f":"IF(Odds!E129=\"\",\"\",Odds!E129)","v":"Crewe"},{"$f":"INDEX(Odds!F:F,MATCH(R129,Odds!E:E,0))","v":"19/10"},1]
[{"$f":"A128","v":"Martin Molyneux"},"Man U Draw","32/13",3.4615384615384617,"x",null,null,null,null,"Man U Draw",{"$f":"INDEX(Odds!F:F,MATCH(J130,Odds!E:E,0))","v":"32/13"},{"$f":"INDEX(Odds!G:G,MATCH(J130,Odds!E:E,0))","v":3.4615384615384617},{"$f":"INDEX(Odds!H:H,MATCH(J130,Odds!E:E,0))","v":0},0,null,null,null,{"$f":"IF(Odds!E130=\"\",\"\",Odds!E130)","v":"Colchester"},{"$f":"INDEX(Odds!F:F,MATCH(R130,Odds!E:E,0))","v":"5/2"},0]
[{"$f":"Results!B131","v":"Martin Tarbuck"},"Walsall","11/8",2.375,{"$f":"IF(J131=\"\",\"\",IF(M131=1,\"√\",\"x\"))","v":"x"},{"$f":"IF(J131=\"\",-10,INDEX(Results!T:T,MATCH(A131,Results!V:V,0)))","v":-0.91249999999999964},{"$f":"IF(J131=\"\",\"\",INDEX(Results!AI:AI,MATCH(A131,Results!V:V,0)))","v":15.920312500000001},{"$f":"IF(G131=\"\",0,1)","v":1},{"$f":"INDEX(Picks!AF:AF,MATCH(A131,Picks!AC:AC,0))","v":16},"Walsall",{"$f":"INDEX(Odds!F:F,MATCH(J131,Odds!E:E,0))","v":"11/8"},{"$f":"INDEX(Odds!G:G,MATCH(J131,Odds!E:E,0))","v":2.375},{"$f":"INDEX(Odds!H:H,MATCH(J131,Odds!E:E,0))","v":0},0,null,null,null,{"$f":"IF(Odds!E131=\"\",\"\",Odds!E131)","v":"Northampton"},{"$f":"INDEX(Odds!F:F,MATCH(R131,Odds!E:E,0))","v":"9/5"},0]
[{"$f":"A131","v":"Martin Tarbuck"},"Plymouth","23/20",2.15,"√",null,null,null,null,"Plymouth",{"$f":"INDEX(Odds!F:F,MATCH(J132,Odds!E:E,0))","v":"23/20"},{"$f":"INDEX(Odds!G:G,MATCH(J132,Odds!E:E,0))","v":2.15},{"$f":"INDEX(Odds!H:H,MATCH(J132,Odds!E:E,0))","v":1},2.15,null,null,null,{"$f":"IF(Odds!E132=\"\",\"\",Odds!E132)","v":"Exeter"},{"$f":"INDEX(Odds!F:F,MATCH(R132,Odds!E:E,0))","v":"19/10"},1]
[{"$f":"A131","v":"Martin Tarbuck"},"Man C","1/4",1.25,"√",null,null,null,null,"Man C",{"$f":"INDEX(Odds!F:F,MATCH(J133,Odds!E:E,0))","v":"1/4"},{"$f":"INDEX(Odds!G:G,MATCH(J133,Odds!E:E,0))","v":1.25},{"$f":"INDEX(Odds!H:H,MATCH(J133,Odds!E:E,0))","v":1},1.25,null,null,null,{"$f":"IF(Odds!E133=\"\",\"\",Odds!E133)","v":"Carlisle"},{"$f":"INDEX(Odds!F:F,MATCH(R133,Odds!E:E,0))","v":"11/4"},0]
[{"$f":"Results!B134","v":"Mike Penk"},"Portsmouth","4/6",1.6666666666666665,"√",{"$f":"IF(J134=\"\",-10,INDEX(Results!T:T,MATCH(A134,Results!V:V,0)))","v":2.9333333333333336},{"$f":"IF(J134=\"\",\"\",INDEX(Results!AI:AI,MATCH(A134,Results!V:V,0)))","v":43.386666666666663},{"$f":"IF(G134=\"\",0,1)","v":1},{"$f":"INDEX(Picks!AF:AF,MATCH(A134,Picks!AC:AC,0))","v":9},"Portsmouth",{"$f":"INDEX(Odds!F:F,MATCH(J134,Odds!E:E,0))","v":"4/6"},{"$f":"INDEX(Odds!G:G,MATCH(J134,Odds!E:E,0))","v":1.6666666666666665},{"$f":"INDEX(Odds!H:H,MATCH(J134,Odds!E:E,0))","v":1},1.6666666666666665,null,null,null,{"$f":"IF(Odds!E134=\"\",\"\",Odds!E134)","v":"Forest Green"},{"$f":"INDEX(Odds!F:F,MATCH(R134,Odds!E:E,0))","v":"21/10"},0]
[{"$f":"A134","v":"Mike Penk"},"Wigan","27/10",3.7,"x",null,null,null,null,"Wigan",{"$f":"INDEX(Odds!F:F,MATCH(J135,Odds!E:E,0))","v":"27/10"},{"$f":"INDEX(Odds!G:G,MATCH(J135,Odds!E:E,0))","v":3.7},{"$f":"INDEX(Odds!H:H,MATCH(J135,Odds!E:E,0))","v":0},0,null,null,null,{"$f":"IF(Odds!E135=\"\",\"\",Odds!E135)","v":"Wolves"},{"$f":"INDEX(Odds!F:F,MATCH(R135,Odds!E:E,0))","v":"32/13"},0]
[{"$f":"A134","v":"Mike Penk"},"Charlton","21/10",3.1,"√",null,null,null,null,"Charlton",{"$f":"INDEX(Odds!F:F,MATCH(J136,Odds!E:E,0))","v":"21/10"},{"$f":"INDEX(Odds!G:G,MATCH(J136,Odds!E:E,0))","v":3.1},{"$f":"INDEX(Odds!H:H,MATCH(J136,Odds!E:E,0))","v":1},3.1,null,null,null,{"$f":"IF(Odds!E136=\"\",\"\",Odds!E136)","v":"Chelsea"},{"$f":"INDEX(Odds!F:F,MATCH(R136,Odds!E:E,0))","v":"13/5"},0]
[{"$f":"Results!B137","v":"Mo Sudell"},"Blackpool","6/4",2.5,"√",{"$f":"IF(J137=\"\",-10,INDEX(Results!T:T,MATCH(A137,Results!V:V,0)))","v":-4.5},{"$f":"IF(J137=\"\",\"\",INDEX(Results!AI:AI,MATCH(A137,Results!V:V,0)))","v":17.515000000000001},{"$f":"IF(G137=\"\",0,1)","v":1},{"$f":"INDEX(Picks!AF:AF,MATCH(A137,Picks!AC:AC,0))","v":26},"Blackpool",{"$f":"INDEX(Odds!F:F,MATCH(J137,Odds!E:E,0))","v":"6/4"},{"$f":"INDEX(Odds!G:G,MATCH(J137,Odds!E:E,0))","v":2.5},{"$f":"INDEX(Odds!H:H,MATCH(J137,Odds!E:E,0))","v":1},2.5,null,null,null,{"$f":"IF(Odds!E137=\"\",\"\",Odds!E137)","v":"Arsenal"},{"$f":"INDEX(Odds!F:F,MATCH(R137,Odds!E:E,0))","v":"9/11"},1]
[{"$f":"A137","v":"Mo Sudell"},"West Brom","7/10",1.7,"x",null,null,null,null,"West Brom",{"$f":"INDEX(Odds!F:F,MATCH(J138,Odds!E:E,0))","v":"7/10"},{"$f":"INDEX(Odds!G:G,MATCH(J138,Odds!E:E,0))","v":1.7},{"$f":"INDEX(Odds!H:H,MATCH(J138,Odds!E:E,0))","v":0},0,null,null,null,{"$f":"IF(Odds!E138=\"\",\"\",Odds!E138)","v":""},{"$f":"INDEX(Odds!F:F,MATCH(R138,Odds!E:E,0))","v":""},{"$error":"#N/A"}]
[{"$f":"A137","v":"Mo Sudell"},"Leeds","7/10",1.7,"x",null,null,null,null,"Leeds",{"$f":"INDEX(Odds!F:F,MATCH(J139,Odds!E:E,0))","v":"7/10"},{"$f":"INDEX(Odds!G:G,MATCH(J139,Odds!E:E,0))","v":1.7},{"$f":"INDEX(Odds!H:H,MATCH(J139,Odds!E:E,0))","v":0},0,null,null,null,{"$f":"IF(Odds!E139=\"\",\"\",Odds!E139)","v":""},{"$f":"INDEX(Odds!F:F,MATCH(R139,Odds!E:E,0))","v":""},{"$error":"#N/A"}]
[{"$f":"Results!B140","v":"Nick Blocksidge"},"Bournemouth","10/11",1.9090909090909092,"x",{"$f":"IF(J140=\"\",-10,INDEX(Results!T:T,MATCH(A140,Results!V:V,0)))","v":-4.45},{"$f":"IF(J140=\"\",\"\",INDEX(Results!AI:AI,MATCH(A140,Results!V:V,0)))","v":24.530909090909091},{"$f":"IF(G140=\"\",0,1)","v":1},{"$f":"INDEX(Picks!AF:AF,MATCH(A140,Picks!AC:AC,0))","v":23},"Bournemouth",{"$f":"INDEX(Odds!F:F,MATCH(J140,Odds!E:E,0))","v":"10/11"},{"$f":"INDEX(Odds!G:G,MATCH(J140,Odds!E:E,0))","v":1.9090909090909092},{"$f":"INDEX(Odds!H:H,MATCH(J140,Odds!E:E,0))","v":0},0]
[{"$f":"A140","v":"Nick Blocksidge"},"Burnley","31/20",2.5499999999999998,"√",null,null,null,null,"Burnley",{"$f":"INDEX(Odds!F:F,MATCH(J141,Odds!E:E,0))","v":"31/20"},{"$f":"INDEX(Odds!G:G,MATCH(J141,Odds!E:E,0))","v":2.5499999999999998},{"$f":"INDEX(Odds!H:H,MATCH(J141,Odds!E:E,0))","v":1},2.5499999999999998]
[{"$f":"A140","v":"Nick Blocksidge"},"Derby","23/20",2.15,"x",null,null,null,null,"Derby",{"$f":"INDEX(Odds!F:F,MATCH(J142,Odds!E:E,0))","v":"23/20"},{"$f":"INDEX(Odds!G:G,MATCH(J142,Odds!E:E,0))","v":2.15},{"$f":"INDEX(Odds!H:H,MATCH(J142,Odds!E:E,0))","v":0},0]
[{"$f":"Results!B143","v":"Nigel Heyes"},"Cardiff","78/100",1.78,"√",{"$f":"IF(J143=\"\",-10,INDEX(Results!T:T,MATCH(A143,Results!V:V,0)))","v":-5.22},{"$f":"IF(J143=\"\",\"\",INDEX(Results!AI:AI,MATCH(A143,Results!V:V,0)))","v":35.117799999999995},{"$f":"IF(G143=\"\",0,1)","v":1},{"$f":"INDEX(Picks!AF:AF,MATCH(A143,Picks!AC:AC,0))","v":39},"Cardiff",{"$f":"INDEX(Odds!F:F,MATCH(J143,Odds!E:E,0))","v":"78/100"},{"$f":"INDEX(Odds!G:G,MATCH(J143,Odds!E:E,0))","v":1.78},{"$f":"INDEX(Odds!H:H,MATCH(J143,Odds!E:E,0))","v":1},1.78]
[{"$f":"A143","v":"Nigel Heyes"},"Middlesbro","13/10",2.2999999999999998,"x",null,null,null,null,"Middlesbro",{"$f":"INDEX(Odds!F:F,MATCH(J144,Odds!E:E,0))","v":"13/10"},{"$f":"INDEX(Odds!G:G,MATCH(J144,Odds!E:E,0))","v":2.2999999999999998},{"$f":"INDEX(Odds!H:H,MATCH(J144,Odds!E:E,0))","v":0},0]
[{"$f":"A143","v":"Nigel Heyes"},"Wigan","27/10",3.7,"x",null,null,null,null,"Wigan",{"$f":"INDEX(Odds!F:F,MATCH(J145,Odds!E:E,0))","v":"27/10"},{"$f":"INDEX(Odds!G:G,MATCH(J145,Odds!E:E,0))","v":3.7},{"$f":"INDEX(Odds!H:H,MATCH(J145,Odds!E:E,0))","v":0},0]
[{"$f":"Results!B146","v":"Oscar Jackson"},"Reading","27/10",3.7,"x",{"$f":"IF(J146=\"\",-10,INDEX(Results!T:T,MATCH(A146,Results!V:V,0)))","v":-7},{"$f":"IF(J146=\"\",\"\",INDEX(Results!AI:AI,MATCH(A146,Results!V:V,0)))","v":33.2425},{"$f":"IF(G146=\"\",0,1)","v":1},{"$f":"INDEX(Picks!AF:AF,MATCH(A146,Picks!AC:AC,0))","v":49},"Reading",{"$f":"INDEX(Odds!F:F,MATCH(J146,Odds!E:E,0))","v":"27/10"},{"$f":"INDEX(Odds!G:G,MATCH(J146,Odds!E:E,0))","v":3.7},{"$f":"INDEX(Odds!H:H,MATCH(J146,Odds!E:E,0))","v":0},0]
[{"$f":"A146","v":"Oscar Jackson"},"Salford","5/4",2.25,"x",null,null,null,null,"Salford",{"$f":"INDEX(Odds!F:F,MATCH(J147,Odds!E:E,0))","v":"5/4"},{"$f":"INDEX(Odds!G:G,MATCH(J147,Odds!E:E,0))","v":2.25},{"$f":"INDEX(Odds!H:H,MATCH(J147,Odds!E:E,0))","v":0},0]
[{"$f":"A146","v":"Oscar Jackson"},"Mansfield","7/10",1.7,"x",null,null,null,null,"Mansfield",{"$f":"INDEX(Odds!F:F,MATCH(J148,Odds!E:E,0))","v":"7/10"},{"$f":"INDEX(Odds!G:G,MATCH(J148,Odds!E:E,0))","v":1.7},{"$f":"INDEX(Odds!H:H,MATCH(J148,Odds!E:E,0))","v":0},0]
[{"$f":"Results!B149","v":"Paul Adderley"},"Bournemouth","10/11",1.9090909090909092,"x",{"$f":"IF(J149=\"\",-10,INDEX(Results!T:T,MATCH(A149,Results!V:V,0)))","v":-4.45},{"$f":"IF(J149=\"\",\"\",INDEX(Results!AI:AI,MATCH(A149,Results!V:V,0)))","v":22.042975206611573},{"$f":"IF(G149=\"\",0,1)","v":1},{"$f":"INDEX(Picks!AF:AF,MATCH(A149,Picks!AC:AC,0))","v":23},"Bournemouth",{"$f":"INDEX(Odds!F:F,MATCH(J149,Odds!E:E,0))","v":"10/11"},{"$f":"INDEX(Odds!G:G,MATCH(J149,Odds!E:E,0))","v":1.9090909090909092},{"$f":"INDEX(Odds!H:H,MATCH(J149,Odds!E:E,0))","v":0},{"$f":"L149*M149","v":0}]
[{"$f":"A149","v":"Paul Adderley"},"Burnley","31/20",2.5499999999999998,"√",null,null,null,null,"Burnley",{"$f":"INDEX(Odds!F:F,MATCH(J150,Odds!E:E,0))","v":"31/20"},{"$f":"INDEX(Odds!G:G,MATCH(J150,Odds!E:E,0))","v":2.5499999999999998},{"$f":"INDEX(Odds!H:H,MATCH(J150,Odds!E:E,0))","v":1},2.5499999999999998]
[{"$f":"A149","v":"Paul Adderley"},"Watford","10/11",1.9090909090909092,"x",null,null,null,null,"Watford",{"$f":"INDEX(Odds!F:F,MATCH(J151,Odds!E:E,0))","v":"10/11"},{"$f":"INDEX(Odds!G:G,MATCH(J151,Odds!E:E,0))","v":1.9090909090909092},{"$f":"INDEX(Odds!H:H,MATCH(J151,Odds!E:E,0))","v":0},0]
[{"$f":"Results!B152","v":"Paul Allen"},"Bournemouth","10/11",1.9090909090909092,"x",{"$f":"IF(J152=\"\",-10,INDEX(Results!T:T,MATCH(A152,Results!V:V,0)))","v":-5.22},{"$f":"IF(J152=\"\",\"\",INDEX(Results!AI:AI,MATCH(A152,Results!V:V,0)))","v":15.526611570247937},{"$f":"IF(G152=\"\",0,1)","v":1},{"$f":"INDEX(Picks!AF:AF,MATCH(A152,Picks!AC:AC,0))","v":39},"Bournemouth",{"$f":"INDEX(Odds!F:F,MATCH(J152,Odds!E:E,0))","v":"10/11"},{"$f":"INDEX(Odds!G:G,MATCH(J152,Odds!E:E,0))","v":1.9090909090909092},{"$f":"INDEX(Odds!H:H,MATCH(J152,Odds!E:E,0))","v":0},0]
[{"$f":"A152","v":"Paul Allen"},"Watford","10/11",1.9090909090909092,"x",null,null,null,null,"Watford",{"$f":"INDEX(Odds!F:F,MATCH(J153,Odds!E:E,0))","v":"10/11"},{"$f":"INDEX(Odds!G:G,MATCH(J153,Odds!E:E,0))","v":1.9090909090909092},{"$f":"INDEX(Odds!H:H,MATCH(J153,Odds!E:E,0))","v":0},0]
[{"$f":"A152","v":"Paul Allen"},"Cardiff","78/100",1.78,"√",null,null,null,null,"Cardiff",{"$f":"INDEX(Odds!F:F,MATCH(J154,Odds!E:E,0))","v":"78/100"},{"$f":"INDEX(Odds!G:G,MATCH(J154,Odds!E:E,0))","v":1.78},{"$f":"INDEX(Odds!H:H,MATCH(J154,Odds!E:E,0))","v":1},1.78]
[{"$f":"Results!B155","v":"Paul Barnes"},"","","","",{"$f":"IF(J155=\"\",-10,INDEX(Results!T:T,MATCH(A155,Results!V:V,0)))","v":-10},{"$f":"IF(J155=\"\",\"\",INDEX(Results!AI:AI,MATCH(A155,Results!V:V,0)))","v":""},{"$f":"IF(G155=\"\",0,1)","v":0},{"$f":"INDEX(Picks!AF:AF,MATCH(A155,Picks!AC:AC,0))","v":65},null,{"$f":"INDEX(Odds!F:F,MATCH(J155,Odds!E:E,0))","v":{"$error":"#N/A"}},{"$f":"INDEX(Odds!G:G,MATCH(J155,Odds!E:E,0))","v":{"$error":"#N/A"}},{"$f":"INDEX(Odds!H:H,MATCH(J155,Odds!E:E,0))","v":{"$error":"#N/A"}},{"$error":"#N/A"}]
[{"$f":"A155","v":"Paul Barnes"},"","","","",null,null,null,null,null,{"$f":"INDEX(Odds!F:F,MATCH(J156,Odds!E:E,0))","v":{"$error":"#N/A"}},{"$f":"INDEX(Odds!G:G,MATCH(J156,Odds!E:E,0))","v":{"$error":"#N/A"}},{"$f":"INDEX(Odds!H:H,MATCH(J156,Odds!E:E,0))","v":{"$error":"#N/A"}},{"$error":"#N/A"}]
[{"$f":"A155","v":"Paul Barnes"},"","","","",null,null,null,null,null,{"$f":"INDEX(Odds!F:F,MATCH(J157,Odds!E:E,0))","v":{"$error":"#N/A"}},{"$f":"INDEX(Odds!G:G,MATCH(J157,Odds!E:E,0))","v":{"$error":"#N/A"}},{"$f":"INDEX(Odds!H:H,MATCH(J157,Odds!E:E,0))","v":{"$error":"#N/A"}},{"$error":"#N/A"}]
[{"$f":"Results!B158","v":"Paul Fairhurst"},"Cardiff","78/100",1.78,"√",{"$f":"IF(J158=\"\",-10,INDEX(Results!T:T,MATCH(A158,Results!V:V,0)))","v":3.9540000000000006},{"$f":"IF(J158=\"\",\"\",INDEX(Results!AI:AI,MATCH(A158,Results!V:V,0)))","v":30.252800000000001},{"$f":"IF(G158=\"\",0,1)","v":1},{"$f":"INDEX(Picks!AF:AF,MATCH(A158,Picks!AC:AC,0))","v":6},"Cardiff",{"$f":"INDEX(Odds!F:F,MATCH(J158,Odds!E:E,0))","v":"78/100"},{"$f":"INDEX(Odds!G:G,MATCH(J158,Odds!E:E,0))","v":1.78},{"$f":"INDEX(Odds!H:H,MATCH(J158,Odds!E:E,0))","v":1},1.78]
[{"$f":"A158","v":"Paul Fairhurst"},"Ipswich draw","23/10",3.3,"√",null,null,null,null,"Ipswich draw",{"$f":"INDEX(Odds!F:F,MATCH(J159,Odds!E:E,0))","v":"23/10"},{"$f":"INDEX(Odds!G:G,MATCH(J159,Odds!E:E,0))","v":3.3},{"$f":"INDEX(Odds!H:H,MATCH(J159,Odds!E:E,0))","v":1},3.3]
[{"$f":"A158","v":"Paul Fairhurst"},"Bradford","6/5",2.2000000000000002,"x",null,null,null,null,"Bradford",{"$f":"INDEX(Odds!F:F,MATCH(J160,Odds!E:E,0))","v":"6/5"},{"$f":"INDEX(Odds!G:G,MATCH(J160,Odds!E:E,0))","v":2.2000000000000002},{"$f":"INDEX(Odds!H:H,MATCH(J160,Odds!E:E,0))","v":0},0]
[{"$f":"Results!B161","v":"Paul Fiddler"},"Sheff W","21/20",2.0499999999999998,"√",{"$f":"IF(J161=\"\",-10,INDEX(Results!T:T,MATCH(A161,Results!V:V,0)))","v":-4.95},{"$f":"IF(J161=\"\",\"\",INDEX(Results!AI:AI,MATCH(A161,Results!V:V,0)))","v":37.155249999999995},{"$f":"IF(G161=\"\",0,1)","v":1},{"$f":"INDEX(Picks!AF:AF,MATCH(A161,Picks!AC:AC,0))","v":30},"Sheff W",{"$f":"INDEX(Odds!F:F,MATCH(J161,Odds!E:E,0))","v":"21/20"},{"$f":"INDEX(Odds!G:G,MATCH(J161,Odds!E:E,0))","v":2.0499999999999998},{"$f":"INDEX(Odds!H:H,MATCH(J161,Odds!E:E,0))","v":1},2.0499999999999998]
[{"$f":"A161","v":"Paul Fiddler"},"Derby","23/20",2.15,"x",null,null,null,null,"Derby",{"$f":"INDEX(Odds!F:F,MATCH(J162,Odds!E:E,0))","v":"23/20"},{"$f":"INDEX(Odds!G:G,MATCH(J162,Odds!E:E,0))","v":2.15},{"$f":"INDEX(Odds!H:H,MATCH(J162,Odds!E:E,0))","v":0},0]
[{"$f":"A161","v":"Paul Fiddler"},"Wigan","27/10",3.7,"x",null,null,null,null,"Wigan",{"$f":"INDEX(Odds!F:F,MATCH(J163,Odds!E:E,0))","v":"27/10"},{"$f":"INDEX(Odds!G:G,MATCH(J163,Odds!E:E,0))","v":3.7},{"$f":"INDEX(Odds!H:H,MATCH(J163,Odds!E:E,0))","v":0},0]
[{"$f":"Results!B164","v":"Paul Ridgeway"},{"$f":"IF(J164=\"\",\"\",J164)","v":"Derby"},{"$f":"IF(J164=\"\",\"\",K164)","v":"23/20"},{"$f":"IF(J164=\"\",\"\",L164)","v":2.15},"x",{"$f":"IF(J164=\"\",-10,INDEX(Results!T:T,MATCH(A164,Results!V:V,0)))","v":0.53999999999999915},{"$f":"IF(J164=\"\",\"\",INDEX(Results!AI:AI,MATCH(A164,Results!V:V,0)))","v":18.901},{"$f":"IF(G164=\"\",0,1)","v":1},{"$f":"INDEX(Picks!AF:AF,MATCH(A164,Picks!AC:AC,0))","v":13},"Derby",{"$f":"INDEX(Odds!F:F,MATCH(J164,Odds!E:E,0))","v":"23/20"},{"$f":"INDEX(Odds!G:G,MATCH(J164,Odds!E:E,0))","v":2.15},{"$f":"INDEX(Odds!H:H,MATCH(J164,Odds!E:E,0))","v":0},0]
[{"$f":"A164","v":"Paul Ridgeway"},"Fulham","4/5",1.8,"√",null,null,null,null,"Fulham",{"$f":"INDEX(Odds!F:F,MATCH(J165,Odds!E:E,0))","v":"4/5"},{"$f":"INDEX(Odds!G:G,MATCH(J165,Odds!E:E,0))","v":1.8},{"$f":"INDEX(Odds!H:H,MATCH(J165,Odds!E:E,0))","v":1},1.8]
[{"$f":"A164","v":"Paul Ridgeway"},"Hull","21/20",2.0499999999999998,"√",null,null,null,null,"Hull",{"$f":"INDEX(Odds!F:F,MATCH(J166,Odds!E:E,0))","v":"21/20"},{"$f":"INDEX(Odds!G:G,MATCH(J166,Odds!E:E,0))","v":2.0499999999999998},{"$f":"INDEX(Odds!H:H,MATCH(J166,Odds!E:E,0))","v":1},2.0499999999999998]
[{"$f":"Results!B167","v":"Pete Baron"},"","","","",{"$f":"IF(J167=\"\",-10,INDEX(Results!T:T,MATCH(A167,Results!V:V,0)))","v":-10},{"$f":"IF(J167=\"\",\"\",INDEX(Results!AI:AI,MATCH(A167,Results!V:V,0)))","v":""},{"$f":"IF(G167=\"\",0,1)","v":0},{"$f":"INDEX(Picks!AF:AF,MATCH(A167,Picks!AC:AC,0))","v":65},null,{"$f":"INDEX(Odds!F:F,MATCH(J167,Odds!E:E,0))","v":{"$error":"#N/A"}},{"$f":"INDEX(Odds!G:G,MATCH(J167,Odds!E:E,0))","v":{"$error":"#N/A"}},{"$f":"INDEX(Odds!H:H,MATCH(J167,Odds!E:E,0))","v":{"$error":"#N/A"}},{"$error":"#N/A"}]
[{"$f":"A167","v":"Pete Baron"},"","","","",null,null,null,null,null,{"$f":"INDEX(Odds!F:F,MATCH(J168,Odds!E:E,0))","v":{"$error":"#N/A"}},{"$f":"INDEX(Odds!G:G,MATCH(J168,Odds!E:E,0))","v":{"$error":"#N/A"}},{"$f":"INDEX(Odds!H:H,MATCH(J168,Odds!E:E,0))","v":{"$error":"#N/A"}},{"$error":"#N/A"}]
[{"$f":"A167","v":"Pete Baron"},"","","","",null,null,null,null,null,{"$f":"INDEX(Odds!F:F,MATCH(J169,Odds!E:E,0))","v":{"$error":"#N/A"}},{"$f":"INDEX(Odds!G:G,MATCH(J169,Odds!E:E,0))","v":{"$error":"#N/A"}},{"$f":"INDEX(Odds!H:H,MATCH(J169,Odds!E:E,0))","v":{"$error":"#N/A"}},{"$error":"#N/A"}]
[{"$f":"Results!B170","v":"Phil Miller"},"Bristol C","21/10",3.1,"x",{"$f":"IF(J170=\"\",-10,INDEX(Results!T:T,MATCH(A170,Results!V:V,0)))","v":-1.7000000000000002},{"$f":"IF(J170=\"\",\"\",INDEX(Results!AI:AI,MATCH(A170,Results!V:V,0)))","v":17.829999999999998},{"$f":"IF(G170=\"\",0,1)","v":1},{"$f":"INDEX(Picks!AF:AF,MATCH(A170,Picks!AC:AC,0))","v":17},"Bristol C",{"$f":"INDEX(Odds!F:F,MATCH(J170,Odds!E:E,0))","v":"21/10"},{"$f":"INDEX(Odds!G:G,MATCH(J170,Odds!E:E,0))","v":3.1},{"$f":"INDEX(Odds!H:H,MATCH(J170,Odds!E:E,0))","v":0},0]
[{"$f":"A170","v":"Phil Miller"},"Man C","1/4",1.25,"√",null,null,null,null,"Man C",{"$f":"INDEX(Odds!F:F,MATCH(J171,Odds!E:E,0))","v":"1/4"},{"$f":"INDEX(Odds!G:G,MATCH(J171,Odds!E:E,0))","v":1.25},{"$f":"INDEX(Odds!H:H,MATCH(J171,Odds!E:E,0))","v":1},1.25]
[{"$f":"A170","v":"Phil Miller"},"Fulham","4/5",1.8,"√",null,null,null,null,"Fulham",{"$f":"INDEX(Odds!F:F,MATCH(J172,Odds!E:E,0))","v":"4/5"},{"$f":"INDEX(Odds!G:G,MATCH(J172,Odds!E:E,0))","v":1.8},{"$f":"INDEX(Odds!H:H,MATCH(J172,Odds!E:E,0))","v":1},1.8]
[{"$f":"Results!B173","v":"Rob England"},"Liverpool","1/7",1.1428571428571428,"√",{"$f":"IF(J173=\"\",-10,INDEX(Results!T:T,MATCH(A173,Results!V:V,0)))","v":-5.8571428571428577},{"$f":"IF(J173=\"\",\"\",INDEX(Results!AI:AI,MATCH(A173,Results!V:V,0)))","v":29.778571428571425},{"$f":"IF(G173=\"\",0,1)","v":1},{"$f":"INDEX(Picks!AF:AF,MATCH(A173,Picks!AC:AC,0))","v":47},"Liverpool",{"$f":"INDEX(Odds!F:F,MATCH(J173,Odds!E:E,0))","v":"1/7"},{"$f":"INDEX(Odds!G:G,MATCH(J173,Odds!E:E,0))","v":1.1428571428571428},{"$f":"INDEX(Odds!H:H,MATCH(J173,Odds!E:E,0))","v":1},1.1428571428571428]
[{"$f":"A173","v":"Rob England"},"Wycombe","21/10",3.1,"x",null,null,null,null,"Wycombe",{"$f":"INDEX(Odds!F:F,MATCH(J174,Odds!E:E,0))","v":"21/10"},{"$f":"INDEX(Odds!G:G,MATCH(J174,Odds!E:E,0))","v":3.1},{"$f":"INDEX(Odds!H:H,MATCH(J174,Odds!E:E,0))","v":0},0]
[{"$f":"A173","v":"Rob England"},"Grimsby","23/10",3.3,"x",null,null,null,null,"Grimsby",{"$f":"INDEX(Odds!F:F,MATCH(J175,Odds!E:E,0))","v":"23/10"},{"$f":"INDEX(Odds!G:G,MATCH(J175,Odds!E:E,0))","v":3.3},{"$f":"INDEX(Odds!H:H,MATCH(J175,Odds!E:E,0))","v":0},0]
[{"$f":"Results!B176","v":"Sally Williams"},"Charlton draw","12/5",3.4,"x",{"$f":"IF(J176=\"\",-10,INDEX(Results!T:T,MATCH(A176,Results!V:V,0)))","v":-3.7},{"$f":"IF(J176=\"\",\"\",INDEX(Results!AI:AI,MATCH(A176,Results!V:V,0)))","v":73.355999999999995},{"$f":"IF(G176=\"\",0,1)","v":1},{"$f":"INDEX(Picks!AF:AF,MATCH(A176,Picks!AC:AC,0))","v":19},"Charlton draw",{"$f":"INDEX(Odds!F:F,MATCH(J176,Odds!E:E,0))","v":"12/5"},{"$f":"INDEX(Odds!G:G,MATCH(J176,Odds!E:E,0))","v":3.4},{"$f":"INDEX(Odds!H:H,MATCH(J176,Odds!E:E,0))","v":0},0]
[{"$f":"A176","v":"Sally Williams"},"Preston draw","23/10",3.3,"x",null,null,null,null,"Preston draw",{"$f":"INDEX(Odds!F:F,MATCH(J177,Odds!E:E,0))","v":"23/10"},{"$f":"INDEX(Odds!G:G,MATCH(J177,Odds!E:E,0))","v":3.3},{"$f":"INDEX(Odds!H:H,MATCH(J177,Odds!E:E,0))","v":0},0]
[{"$f":"A176","v":"Sally Williams"},"QPR draw","23/10",3.3,"√",null,null,null,null,"QPR draw",{"$f":"INDEX(Odds!F:F,MATCH(J178,Odds!E:E,0))","v":"23/10"},{"$f":"INDEX(Odds!G:G,MATCH(J178,Odds!E:E,0))","v":3.3},{"$f":"INDEX(Odds!H:H,MATCH(J178,Odds!E:E,0))","v":1},3.3]
[{"$f":"Results!B179","v":"Simon Greenhalgh"},"Oxford","6/4",2.5,"√",{"$f":"IF(J179=\"\",-10,INDEX(Results!T:T,MATCH(A179,Results!V:V,0)))","v":-4.5},{"$f":"IF(J179=\"\",\"\",INDEX(Results!AI:AI,MATCH(A179,Results!V:V,0)))","v":34.8203125},{"$f":"IF(G179=\"\",0,1)","v":1},{"$f":"INDEX(Picks!AF:AF,MATCH(A179,Picks!AC:AC,0))","v":26},"Oxford",{"$f":"INDEX(Odds!F:F,MATCH(J179,Odds!E:E,0))","v":"6/4"},{"$f":"INDEX(Odds!G:G,MATCH(J179,Odds!E:E,0))","v":2.5},{"$f":"INDEX(Odds!H:H,MATCH(J179,Odds!E:E,0))","v":1},2.5]
[{"$f":"A179","v":"Simon Greenhalgh"},"Rochdale","13/8",2.625,"x",null,null,null,null,"Rochdale",{"$f":"INDEX(Odds!F:F,MATCH(J180,Odds!E:E,0))","v":"13/8"},{"$f":"INDEX(Odds!G:G,MATCH(J180,Odds!E:E,0))","v":2.625},{"$f":"INDEX(Odds!H:H,MATCH(J180,Odds!E:E,0))","v":0},0]
[{"$f":"A179","v":"Simon Greenhalgh"},"Walsall","11/8",2.375,"x",null,null,null,null,"Walsall",{"$f":"INDEX(Odds!F:F,MATCH(J181,Odds!E:E,0))","v":"11/8"},{"$f":"INDEX(Odds!G:G,MATCH(J181,Odds!E:E,0))","v":2.375},{"$f":"INDEX(Odds!H:H,MATCH(J181,Odds!E:E,0))","v":0},0]
[{"$f":"Results!B182","v":"Ste Bentley"},"","","","",{"$f":"IF(J182=\"\",-10,INDEX(Results!T:T,MATCH(A182,Results!V:V,0)))","v":-10},{"$f":"IF(J182=\"\",\"\",INDEX(Results!AI:AI,MATCH(A182,Results!V:V,0)))","v":""},{"$f":"IF(G182=\"\",0,1)","v":0},{"$f":"INDEX(Picks!AF:AF,MATCH(A182,Picks!AC:AC,0))","v":65},null,{"$f":"INDEX(Odds!F:F,MATCH(J182,Odds!E:E,0))","v":{"$error":"#N/A"}},{"$f":"INDEX(Odds!G:G,MATCH(J182,Odds!E:E,0))","v":{"$error":"#N/A"}},{"$f":"INDEX(Odds!H:H,MATCH(J182,Odds!E:E,0))","v":{"$error":"#N/A"}},{"$error":"#N/A"}]
[{"$f":"A182","v":"Ste Bentley"},"","","","",null,null,null,null,null,{"$f":"INDEX(Odds!F:F,MATCH(J183,Odds!E:E,0))","v":{"$error":"#N/A"}},{"$f":"INDEX(Odds!G:G,MATCH(J183,Odds!E:E,0))","v":{"$error":"#N/A"}},{"$f":"INDEX(Odds!H:H,MATCH(J183,Odds!E:E,0))","v":{"$error":"#N/A"}},{"$error":"#N/A"}]
[{"$f":"A182","v":"Ste Bentley"},"","","","",null,null,null,null,null,{"$f":"INDEX(Odds!F:F,MATCH(J184,Odds!E:E,0))","v":{"$error":"#N/A"}},{"$f":"INDEX(Odds!G:G,MATCH(J184,Odds!E:E,0))","v":{"$error":"#N/A"}},{"$f":"INDEX(Odds!H:H,MATCH(J184,Odds!E:E,0))","v":{"$error":"#N/A"}},{"$error":"#N/A"}]
[{"$f":"Results!B185","v":"Stephen Barr"},{"$f":"IF(J185=\"\",\"\",J185)","v":"Arsenal"},{"$f":"IF(J185=\"\",\"\",K185)","v":"9/11"},{"$f":"IF(J185=\"\",\"\",L185)","v":1.8181818181818183},"√",{"$f":"IF(J185=\"\",-10,INDEX(Results!T:T,MATCH(A185,Results!V:V,0)))","v":15.895363636363633},{"$f":"IF(J185=\"\",\"\",INDEX(Results!AI:AI,MATCH(A185,Results!V:V,0)))","v":15.895363636363633},{"$f":"IF(G185=\"\",0,1)","v":1},{"$f":"INDEX(Picks!AF:AF,MATCH(A185,Picks!AC:AC,0))","v":1},"Arsenal",{"$f":"INDEX(Odds!F:F,MATCH(J185,Odds!E:E,0))","v":"9/11"},{"$f":"INDEX(Odds!G:G,MATCH(J185,Odds!E:E,0))","v":1.8181818181818183},{"$f":"INDEX(Odds!H:H,MATCH(J185,Odds!E:E,0))","v":1},{"$f":"L185*M185","v":1.8181818181818183}]
[{"$f":"A185","v":"Stephen Barr"},{"$f":"IF(J186=\"\",\"\",J186)","v":"Cardiff"},{"$f":"IF(J186=\"\",\"\",K186)","v":"78/100"},{"$f":"IF(J186=\"\",\"\",L186)","v":1.78},"√",null,null,null,null,"Cardiff",{"$f":"INDEX(Odds!F:F,MATCH(J186,Odds!E:E,0))","v":"78/100"},{"$f":"INDEX(Odds!G:G,MATCH(J186,Odds!E:E,0))","v":1.78},{"$f":"INDEX(Odds!H:H,MATCH(J186,Odds!E:E,0))","v":1},1.78]
[{"$f":"A185","v":"Stephen Barr"},{"$f":"IF(J187=\"\",\"\",J187)","v":"Sheff w"},{"$f":"IF(J187=\"\",\"\",K187)","v":"21/20"},{"$f":"IF(J187=\"\",\"\",L187)","v":2.0499999999999998},"√",null,null,null,null,"Sheff w",{"$f":"INDEX(Odds!F:F,MATCH(J187,Odds!E:E,0))","v":"21/20"},{"$f":"INDEX(Odds!G:G,MATCH(J187,Odds!E:E,0))","v":2.0499999999999998},{"$f":"INDEX(Odds!H:H,MATCH(J187,Odds!E:E,0))","v":1},2.0499999999999998]
[{"$f":"Results!B188","v":"Stephen Troop"},{"$f":"IF(J188=\"\",\"\",J188)","v":"Derby"},{"$f":"IF(J188=\"\",\"\",K188)","v":"23/20"},{"$f":"IF(J188=\"\",\"\",L188)","v":2.15},"x",{"$f":"IF(J188=\"\",-10,INDEX(Results!T:T,MATCH(A188,Results!V:V,0)))","v":-7},{"$f":"IF(J188=\"\",\"\",INDEX(Results!AI:AI,MATCH(A188,Results!V:V,0)))","v":19.216000000000001},{"$f":"IF(G188=\"\",0,1)","v":1},{"$f":"INDEX(Picks!AF:AF,MATCH(A188,Picks!AC:AC,0))","v":49},"Derby",{"$f":"INDEX(Odds!F:F,MATCH(J188,Odds!E:E,0))","v":"23/20"},{"$f":"INDEX(Odds!G:G,MATCH(J188,Odds!E:E,0))","v":2.15},{"$f":"INDEX(Odds!H:H,MATCH(J188,Odds!E:E,0))","v":0},0]
[{"$f":"A188","v":"Stephen Troop"},"Bristol R","6/5",2.2000000000000002,"x",null,null,null,null,"Bristol R",{"$f":"INDEX(Odds!F:F,MATCH(J189,Odds!E:E,0))","v":"6/5"},{"$f":"INDEX(Odds!G:G,MATCH(J189,Odds!E:E,0))","v":2.2000000000000002},{"$f":"INDEX(Odds!H:H,MATCH(J189,Odds!E:E,0))","v":0},0]
[{"$f":"A188","v":"Stephen Troop"},"Leeds","7/10",1.7,"x",null,null,null,null,"Leeds",{"$f":"INDEX(Odds!F:F,MATCH(J190,Odds!E:E,0))","v":"7/10"},{"$f":"INDEX(Odds!G:G,MATCH(J190,Odds!E:E,0))","v":1.7},{"$f":"INDEX(Odds!H:H,MATCH(J190,Odds!E:E,0))","v":0},0]
[{"$f":"Results!B191","v":"Steve Baxter"},"Liverpool","1/7",1.1428571428571428,"√",{"$f":"IF(J191=\"\",-10,INDEX(Results!T:T,MATCH(A191,Results!V:V,0)))","v":7.8089285714285701},{"$f":"IF(J191=\"\",\"\",INDEX(Results!AI:AI,MATCH(A191,Results!V:V,0)))","v":7.8089285714285701},{"$f":"IF(G191=\"\",0,1)","v":1},{"$f":"INDEX(Picks!AF:AF,MATCH(A191,Picks!AC:AC,0))","v":4},"Liverpool",{"$f":"INDEX(Odds!F:F,MATCH(J191,Odds!E:E,0))","v":"1/7"},{"$f":"INDEX(Odds!G:G,MATCH(J191,Odds!E:E,0))","v":1.1428571428571428},{"$f":"INDEX(Odds!H:H,MATCH(J191,Odds!E:E,0))","v":1},1.1428571428571428]
[{"$f":"A191","v":"Steve Baxter"},"Man U","5/4",2.25,"√",null,null,null,null,"Man U",{"$f":"INDEX(Odds!F:F,MATCH(J192,Odds!E:E,0))","v":"5/4"},{"$f":"INDEX(Odds!G:G,MATCH(J192,Odds!E:E,0))","v":2.25},{"$f":"INDEX(Odds!H:H,MATCH(J192,Odds!E:E,0))","v":1},2.25]
[{"$f":"A191","v":"Steve Baxter"},"Spurs","27/100",1.27,"√",null,null,null,null,"Spurs",{"$f":"INDEX(Odds!F:F,MATCH(J193,Odds!E:E,0))","v":"27/100"},{"$f":"INDEX(Odds!G:G,MATCH(J193,Odds!E:E,0))","v":1.27},{"$f":"INDEX(Odds!H:H,MATCH(J193,Odds!E:E,0))","v":1},1.27]
[{"$f":"Results!B194","v":"Steve Carter"},"Everton","6/4",2.5,"x",{"$f":"IF(J194=\"\",-10,INDEX(Results!T:T,MATCH(A194,Results!V:V,0)))","v":-5.1818181818181817},{"$f":"IF(J194=\"\",\"\",INDEX(Results!AI:AI,MATCH(A194,Results!V:V,0)))","v":36.006993006993014},{"$f":"IF(G194=\"\",0,1)","v":1},{"$f":"INDEX(Picks!AF:AF,MATCH(A194,Picks!AC:AC,0))","v":34},"Everton",{"$f":"INDEX(Odds!F:F,MATCH(J194,Odds!E:E,0))","v":"6/4"},{"$f":"INDEX(Odds!G:G,MATCH(J194,Odds!E:E,0))","v":2.5},{"$f":"INDEX(Odds!H:H,MATCH(J194,Odds!E:E,0))","v":0},0]
[{"$f":"A194","v":"Steve Carter"},"Arsenal","9/11",1.8181818181818183,{"$f":"IF(J195=\"\",\"\",IF(M195=1,\"√\",\"x\"))","v":"√"},null,null,null,null,"Arsenal",{"$f":"INDEX(Odds!F:F,MATCH(J195,Odds!E:E,0))","v":"9/11"},{"$f":"INDEX(Odds!G:G,MATCH(J195,Odds!E:E,0))","v":1.8181818181818183},{"$f":"INDEX(Odds!H:H,MATCH(J195,Odds!E:E,0))","v":1},1.8181818181818183]
[{"$f":"A194","v":"Steve Carter"},"Man U draw","32/13",3.4615384615384617,{"$f":"IF(J196=\"\",\"\",IF(M196=1,\"√\",\"x\"))","v":"x"},null,null,null,null,"Man U draw",{"$f":"INDEX(Odds!F:F,MATCH(J196,Odds!E:E,0))","v":"32/13"},{"$f":"INDEX(Odds!G:G,MATCH(J196,Odds!E:E,0))","v":3.4615384615384617},{"$f":"INDEX(Odds!H:H,MATCH(J196,Odds!E:E,0))","v":0},0]
[{"$f":"Results!B197","v":"Tom Robinson"},{"$f":"IF(J197=\"\",\"\",J197)","v":"Cardiff"},{"$f":"IF(J197=\"\",\"\",K197)","v":"78/100"},{"$f":"IF(J197=\"\",\"\",L197)","v":1.78},{"$f":"IF(J197=\"\",\"\",IF(M197=1,\"√\",\"x\"))","v":"√"},{"$f":"IF(J197=\"\",-10,INDEX(Results!T:T,MATCH(A197,Results!V:V,0)))","v":3.9540000000000006},{"$f":"IF(J197=\"\",\"\",INDEX(Results!AI:AI,MATCH(A197,Results!V:V,0)))","v":31.4482},{"$f":"IF(G197=\"\",0,1)","v":1},{"$f":"INDEX(Picks!AF:AF,MATCH(A197,Picks!AC:AC,0))","v":6},"Cardiff",{"$f":"INDEX(Odds!F:F,MATCH(J197,Odds!E:E,0))","v":"78/100"},{"$f":"INDEX(Odds!G:G,MATCH(J197,Odds!E:E,0))","v":1.78},{"$f":"INDEX(Odds!H:H,MATCH(J197,Odds!E:E,0))","v":1},{"$f":"L197*M197","v":1.78}]
[{"$f":"A197","v":"Tom Robinson"},"Stoke","13/10",2.2999999999999998,{"$f":"IF(J198=\"\",\"\",IF(M198=1,\"√\",\"x\"))","v":"x"},null,null,null,null,"Stoke",{"$f":"INDEX(Odds!F:F,MATCH(J198,Odds!E:E,0))","v":"13/10"},{"$f":"INDEX(Odds!G:G,MATCH(J198,Odds!E:E,0))","v":2.2999999999999998},{"$f":"INDEX(Odds!H:H,MATCH(J198,Odds!E:E,0))","v":0},0]
[{"$f":"A197","v":"Tom Robinson"},"Rochdale draw","23/10",3.3,{"$f":"IF(J199=\"\",\"\",IF(M199=1,\"√\",\"x\"))","v":"√"},null,null,null,null,"Rochdale draw",{"$f":"INDEX(Odds!F:F,MATCH(J199,Odds!E:E,0))","v":"23/10"},{"$f":"INDEX(Odds!G:G,MATCH(J199,Odds!E:E,0))","v":3.3},{"$f":"INDEX(Odds!H:H,MATCH(J199,Odds!E:E,0))","v":1},3.3]
[{"$f":"Results!B200","v":"Vinny Topping"},"Birmingham","27/20",2.35,{"$f":"IF(J200=\"\",\"\",IF(M200=1,\"√\",\"x\"))","v":"x"},{"$f":"IF(J200=\"\",-10,INDEX(Results!T:T,MATCH(A200,Results!V:V,0)))","v":-5.2},{"$f":"IF(J200=\"\",\"\",INDEX(Results!AI:AI,MATCH(A200,Results!V:V,0)))","v":23.892000000000003},{"$f":"IF(G200=\"\",0,1)","v":1},{"$f":"INDEX(Picks!AF:AF,MATCH(A200,Picks!AC:AC,0))","v":37},"Birmingham",{"$f":"INDEX(Odds!F:F,MATCH(J200,Odds!E:E,0))","v":"27/20"},{"$f":"INDEX(Odds!G:G,MATCH(J200,Odds!E:E,0))","v":2.35},{"$f":"INDEX(Odds!H:H,MATCH(J200,Odds!E:E,0))","v":0},0]
[{"$f":"A200","v":"Vinny Topping"},"Fulham","4/5",1.8,{"$f":"IF(J201=\"\",\"\",IF(M201=1,\"√\",\"x\"))","v":"√"},null,null,null,null,"Fulham",{"$f":"INDEX(Odds!F:F,MATCH(J201,Odds!E:E,0))","v":"4/5"},{"$f":"INDEX(Odds!G:G,MATCH(J201,Odds!E:E,0))","v":1.8},{"$f":"INDEX(Odds!H:H,MATCH(J201,Odds!E:E,0))","v":1},1.8]
[{"$f":"A200","v":"Vinny Topping"},"Oldham","7/5",2.4,{"$f":"IF(J202=\"\",\"\",IF(M202=1,\"√\",\"x\"))","v":"x"},null,null,null,null,"Oldham",{"$f":"INDEX(Odds!F:F,MATCH(J202,Odds!E:E,0))","v":"7/5"},{"$f":"INDEX(Odds!G:G,MATCH(J202,Odds!E:E,0))","v":2.4},{"$f":"INDEX(Odds!H:H,MATCH(J202,Odds!E:E,0))","v":0},0]
[{"$f":"Results!B203","v":"Andy Clucas"},{"$f":"IF(J203=\"\",\"\",J203)","v":"Bournemouth"},{"$f":"IF(J203=\"\",\"\",K203)","v":"10/11"},{"$f":"IF(J203=\"\",\"\",L203)","v":1.9090909090909092},{"$f":"IF(J203=\"\",\"\",IF(M203=1,\"√\",\"x\"))","v":"x"},{"$f":"IF(J203=\"\",-10,INDEX(Results!T:T,MATCH(A203,Results!V:V,0)))","v":-7},{"$f":"IF(J203=\"\",\"\",INDEX(Results!AI:AI,MATCH(A203,Results!V:V,0)))","v":13.207272727272731},{"$f":"IF(G203=\"\",0,1)","v":1},{"$f":"INDEX(Picks!AF:AF,MATCH(A203,Picks!AC:AC,0))","v":49},"Bournemouth",{"$f":"INDEX(Odds!F:F,MATCH(J203,Odds!E:E,0))","v":"10/11"},{"$f":"INDEX(Odds!G:G,MATCH(J203,Odds!E:E,0))","v":1.9090909090909092},{"$f":"INDEX(Odds!H:H,MATCH(J203,Odds!E:E,0))","v":0},{"$f":"L203*M203","v":0}]
[{"$f":"A203","v":"Andy Clucas"},"Leeds","7/10",1.7,{"$f":"IF(J204=\"\",\"\",IF(M204=1,\"√\",\"x\"))","v":"x"},null,null,null,null,"Leeds",{"$f":"INDEX(Odds!F:F,MATCH(J204,Odds!E:E,0))","v":"7/10"},{"$f":"INDEX(Odds!G:G,MATCH(J204,Odds!E:E,0))","v":1.7},{"$f":"INDEX(Odds!H:H,MATCH(J204,Odds!E:E,0))","v":0},0]
[{"$f":"A203","v":"Andy Clucas"},"West Brom","7/10",1.7,{"$f":"IF(J205=\"\",\"\",IF(M205=1,\"√\",\"x\"))","v":"x"},null,null,null,null,"West Brom",{"$f":"INDEX(Odds!F:F,MATCH(J205,Odds!E:E,0))","v":"7/10"},{"$f":"INDEX(Odds!G:G,MATCH(J205,Odds!E:E,0))","v":1.7},{"$f":"INDEX(Odds!H:H,MATCH(J205,Odds!E:E,0))","v":0},0]

{"sheet":"Results","index":7,"n_rows":205,"n_cols":36,"rows_kept":205,"cut":false,"hidden":false,"merged":[]}
["stake",null,"team","frac","dec","played","bet up","win","Entrants","Bet1","Bet2","Bet3","single 1","single 2","single 3","double 1","double 2","double 3","treble","total","bets in","Entrants","played","Max","Pred1","Pred2","Pred3","single 1","single 2","single 3","double 1","double 2","double 3","treble","total"]
[1,{"$f":"$V2","v":"Aaron Sudell"},{"$f":"Picks!B2","v":""},{"$f":"Picks!C2","v":""},{"$f":"Picks!D2","v":""},1,{"$f":"Picks!M2","v":{"$error":"#N/A"}},{"$f":"+((E2-1)*G2*F2*A$2)","v":{"$error":"#VALUE!"}},{"$f":"IF(V2=\"\",\"\",V2)","v":"Aaron Sudell"},{"$f":"H2","v":{"$error":"#VALUE!"}},{"$f":"H3","v":{"$error":"#VALUE!"}},{"$f":"H4","v":{"$error":"#VALUE!"}},{"$f":"IF(J2=0,0,1)+J2","v":{"$error":"#VALUE!"}},{"$f":"IF(K2=0,0,1)+K2","v":{"$error":"#VALUE!"}},{"$f":"IF(L2=0,0,1)+L2","v":{"$error":"#VALUE!"}},{"$f":"IF(K2=0,0,(M2*K2)+M2)","v":{"$error":"#VALUE!"}},{"$f":"IF(L2=0,0,(N2*L2)+N2)","v":{"$error":"#VALUE!"}},{"$f":"IF(J2=0,0,(O2*J2)+O2)","v":{"$error":"#VALUE!"}},{"$f":"IF(L2=0,0,(P2*L2)+P2)","v":{"$error":"#VALUE!"}},{"$f":"SUM(M2:S2)-(IF(W2=1,A$2*1,0))-(IF(W2=2,A$2*3,0))-(IF(W2=3,A$2*7,0))","v":{"$error":"#VALUE!"}},{"$f":"SUM(G2:G4)","v":{"$error":"#N/A"}},"Aaron Sudell",{"$f":"SUM(F2:F4)","v":3},{"$f":"+((E2-1)*F2*A$2)","v":{"$error":"#VALUE!"}},{"$f":"X2","v":{"$error":"#VALUE!"}},{"$f":"X3","v":{"$error":"#VALUE!"}},{"$f":"X4","v":{"$error":"#VALUE!"}},{"$f":"IF(Y2=0,0,1)+Y2","v":{"$error":"#VALUE!"}},{"$f":"IF(Z2=0,0,1)+Z2","v":{"$error":"#VALUE!"}},{"$f":"IF(AA2=0,0,1)+AA2","v":{"$error":"#VALUE!"}},{"$f":"IF(Z2=0,0,(AB2*Z2)+AB2)","v":{"$error":"#VALUE!"}},{"$f":"IF(AA2=0,0,(AC2*AA2)+AC2)","v":{"$error":"#VALUE!"}},{"$f":"IF(Y2=0,0,(AD2*Y2)+AD2)","v":{"$error":"#VALUE!"}},{"$f":"IF(AA2=0,0,(AE2*AA2)+AE2)","v":{"$error":"#VALUE!"}},{"$f":"SUM(AB2:AH2)-7","v":{"$error":"#VALUE!"}},{"$f":"$V2","v":"Aaron Sudell"}]
[null,null,{"$f":"Picks!B3","v":""},{"$f":"Picks!C3","v":""},{"$f":"Picks!D3","v":""},1,{"$f":"Picks!M3","v":{"$error":"#N/A"}},{"$error":"#VALUE!"},{"$f":"IF(V3=\"\",\"\",V3)","v":"Alan Rogers"},{"$f":"H5","v":1.875},{"$f":"H6","v":0},{"$f":"H7","v":2.5},2.875,0,3.5,{"$f":"IF(K3=0,0,(M3*K3)+M3)","v":0},{"$f":"IF(L3=0,0,(N3*L3)+N3)","v":0},{"$f":"IF(J3=0,0,(O3*J3)+O3)","v":10.0625},{"$f":"IF(L3=0,0,(P3*L3)+P3)","v":0},{"$f":"SUM(M3:S3)-(IF(W3=1,A$2*1,0))-(IF(W3=2,A$2*3,0))-(IF(W3=3,A$2*7,0))","v":9.4375},{"$f":"SUM(G5:G7)","v":2},"Alan Rogers",{"$f":"SUM(F5:F7)","v":3},{"$error":"#VALUE!"},{"$f":"X5","v":1.875},{"$f":"X6","v":1.25},{"$f":"X7","v":2.5},{"$f":"IF(Y3=0,0,1)+Y3","v":2.875},{"$f":"IF(Z3=0,0,1)+Z3","v":2.25},{"$f":"IF(AA3=0,0,1)+AA3","v":3.5},{"$f":"IF(Z3=0,0,(AB3*Z3)+AB3)","v":6.46875},{"$f":"IF(AA3=0,0,(AC3*AA3)+AC3)","v":7.875},{"$f":"IF(Y3=0,0,(AD3*Y3)+AD3)","v":10.0625},{"$f":"IF(AA3=0,0,(AE3*AA3)+AE3)","v":22.640625},{"$f":"SUM(AB3:AH3)-7","v":48.671875},{"$f":"$V3","v":"Alan Rogers"}]
[null,null,{"$f":"Picks!B4","v":""},{"$f":"Picks!C4","v":""},{"$f":"Picks!D4","v":""},1,{"$f":"Picks!M4","v":{"$error":"#N/A"}},{"$error":"#VALUE!"},"Alan White",{"$f":"H8","v":0},{"$f":"H9","v":0},{"$f":"H10","v":0},0,0,0,0,0,0,{"$f":"IF(L4=0,0,(P4*L4)+P4)","v":0},-7,{"$f":"SUM(G8:G10)","v":0},"Alan White",{"$f":"SUM(F8:F10)","v":3},{"$error":"#VALUE!"},{"$f":"X8","v":0.90909090909090917},{"$f":"X9","v":0.7},{"$f":"X10","v":1.25},1.9090909090909092,1.7,2.25,{"$f":"IF(Z4=0,0,(AB4*Z4)+AB4)","v":3.2454545454545456},{"$f":"IF(AA4=0,0,(AC4*AA4)+AC4)","v":3.8250000000000002},{"$f":"IF(Y4=0,0,(AD4*Y4)+AD4)","v":4.2954545454545459},{"$f":"IF(AA4=0,0,(AE4*AA4)+AE4)","v":7.3022727272727277},{"$f":"SUM(AB4:AH4)-7","v":17.527272727272731},"Alan White"]
[null,{"$f":"$V3","v":"Alan Rogers"},{"$f":"Picks!B5","v":"Cheltenham"},{"$f":"Picks!C5","v":"15/8"},{"$f":"Picks!D5","v":2.875},1,{"$f":"Picks!M5","v":1},1.875,"Alfie Davies",{"$f":"H11","v":0.14285714285714279},{"$f":"H12","v":0.27},{"$f":"H13","v":2.3636363636363638},1.1428571428571428,1.27,3.3636363636363638,1.4514285714285713,4.2718181818181815,3.8441558441558441,4.8820779220779214,13.225974025974025,{"$f":"SUM(G11:G13)","v":3},"Alfie Davies",{"$f":"SUM(F11:F13)","v":3},1.875,{"$f":"X11","v":0.14285714285714279},{"$f":"X12","v":0.27},{"$f":"X13","v":2.3636363636363638},1.1428571428571428,1.27,3.3636363636363638,1.4514285714285713,4.2718181818181815,3.8441558441558441,4.8820779220779214,13.225974025974025,"Alfie Davies"]
[null,null,{"$f":"Picks!B6","v":"Salford"},{"$f":"Picks!C6","v":"5/4"},{"$f":"Picks!D6","v":2.25},1,{"$f":"Picks!M6","v":0},0,"Alick Rocca",{"$f":"H14","v":0},{"$f":"H15","v":0.90909090909090917},{"$f":"H16","v":1.1499999999999999},0,1.9090909090909092,2.15,0,4.1045454545454545,0,0,1.163636363636364,{"$f":"SUM(G14:G16)","v":2},"Alick Rocca",{"$f":"SUM(F14:F16)","v":3},1.25,{"$f":"X14","v":0.7},{"$f":"X15","v":0.90909090909090917},{"$f":"X16","v":1.1499999999999999},1.7,1.9090909090909092,2.15,3.2454545454545456,4.1045454545454545,3.6549999999999998,6.9777272727272726,16.741818181818182,"Alick Rocca"]
[null,null,{"$f":"Picks!B7","v":"Grimsby draw"},{"$f":"Picks!C7","v":"5/2"},{"$f":"Picks!D7","v":3.5},1,{"$f":"Picks!M7","v":1},2.5,"Andy Charleston",{"$f":"H17","v":0},{"$f":"H18","v":0.27},{"$f":"H19","v":0},0,1.27,0,0,0,0,0,-5.73,{"$f":"SUM(G17:G19)","v":1},"Andy Charleston",{"$f":"SUM(F17:F19)","v":3},2.5,{"$f":"X17","v":0.90909090909090917},{"$f":"X18","v":0.27},{"$f":"X19","v":0.90909090909090917},1.9090909090909092,1.27,1.9090909090909092,2.4245454545454548,2.4245454545454548,3.6446280991735538,4.6286776859504144,11.210578512396694,"Andy Charleston"]
[null,{"$f":"$V4","v":"Alan White"},{"$f":"Picks!B8","v":"Watford"},{"$f":"Picks!C8","v":"10/11"},{"$f":"Picks!D8","v":1.9090909090909092},1,{"$f":"Picks!M8","v":0},0,"Andy White",{"$f":"H20","v":0},{"$f":"H21","v":0},{"$f":"H22","v":0.81818181818181834},0,0,1.8181818181818183,0,0,0,0,-5.1818181818181817,{"$f":"SUM(G20:G22)","v":1},"Andy White",{"$f":"SUM(F20:F22)","v":3},0.90909090909090917,{"$f":"X20","v":0.90909090909090917},{"$f":"X21","v":1.5},{"$f":"X22","v":0.81818181818181834},1.9090909090909092,2.5,1.8181818181818183,4.7727272727272734,4.5454545454545459,3.4710743801652897,8.677685950413224,20.694214876033062,"Andy White"]
[null,null,{"$f":"Picks!B9","v":"Leeds"},{"$f":"Picks!C9","v":"7/10"},{"$f":"Picks!D9","v":1.7},1,{"$f":"Picks!M9","v":0},0,"Antony Robinson",{"$f":"H23","v":0.14285714285714279},{"$f":"H24","v":0},{"$f":"H25","v":0},1.1428571428571428,0,0,0,0,0,0,-5.8571428571428577,{"$f":"SUM(G23:G25)","v":1},"Antony Robinson",{"$f":"SUM(F23:F25)","v":3},0.7,{"$f":"X23","v":0.14285714285714279},{"$f":"X24","v":3},{"$f":"X25","v":0.7},1.1428571428571428,4,1.7,4.5714285714285712,6.8,1.9428571428571426,7.7714285714285705,20.928571428571431,"Antony Robinson"]
[null,null,{"$f":"Picks!B10","v":"Salford"},{"$f":"Picks!C10","v":"5/4"},{"$f":"Picks!D10","v":2.25},1,{"$f":"Picks!M10","v":0},0,"Ashley Houghton",{"$f":"H26","v":0},{"$f":"H27","v":0},{"$f":"H28","v":0},0,0,0,0,0,0,0,-7,{"$f":"SUM(G26:G28)","v":0},"Ashley Houghton",{"$f":"SUM(F26:F28)","v":3},1.25,{"$f":"X26","v":0.90909090909090917},{"$f":"X27","v":1.1499999999999999},{"$f":"X28","v":0.7},1.9090909090909092,2.15,1.7,4.1045454545454545,3.6549999999999998,3.2454545454545456,6.9777272727272726,16.741818181818179,"Ashley Houghton"]
[null,{"$f":"$V5","v":"Alfie Davies"},{"$f":"Picks!B11","v":"Liverpool"},{"$f":"Picks!C11","v":"1/7"},{"$f":"Picks!D11","v":1.1428571428571428},1,{"$f":"Picks!M11","v":1},0.14285714285714279,"Barry Birchall",{"$f":"H29","v":0},{"$f":"H30","v":0.78},{"$f":"H31","v":0},0,1.78,0,0,0,0,0,-5.22,{"$f":"SUM(G29:G31)","v":1},"Barry Birchall",{"$f":"SUM(F29:F31)","v":3},0.14285714285714279,{"$f":"X29","v":0.90909090909090917},{"$f":"X30","v":0.78},{"$f":"X31","v":0.7},1.9090909090909092,1.78,1.7,3.3981818181818184,3.0259999999999998,3.2454545454545456,5.7769090909090917,13.835636363636368,"Barry Birchall"]
[null,null,{"$f":"Picks!B12","v":"Spurs"},{"$f":"Picks!C12","v":"27/100"},{"$f":"Picks!D12","v":1.27},1,{"$f":"Picks!M12","v":1},0.27,"Ben Rosser",{"$f":"H32","v":0},{"$f":"H33","v":0},{"$f":"H34","v":0},0,0,0,0,0,0,0,-7,{"$f":"SUM(G32:G34)","v":0},"Ben Rosser",{"$f":"SUM(F32:F34)","v":3},0.27,{"$f":"X32","v":2.2999999999999998},{"$f":"X33","v":1.5},{"$f":"X34","v":5},3.3,2.5,6,8.25,15,19.799999999999997,49.5,97.35,"Ben Rosser"]
[null,null,{"$f":"Picks!B13","v":"Leicester Draw"},{"$f":"Picks!C13","v":"26/11"},{"$f":"Picks!D13","v":3.3636363636363638},1,{"$f":"Picks!M13","v":1},2.3636363636363638,"Charlie Griffiths",{"$f":"H35","v":0},{"$f":"H36","v":0},{"$f":"H37","v":1.9},0,0,2.9,0,0,0,0,-4.0999999999999996,{"$f":"SUM(G35:G37)","v":1},"Charlie Griffiths",{"$f":"SUM(F35:F37)","v":3},2.3636363636363638,{"$f":"X35","v":2.1},{"$f":"X36","v":1.4},{"$f":"X37","v":1.9},3.1,2.4,2.9,7.4399999999999995,6.9599999999999991,8.99,21.576000000000001,46.366,"Charlie Griffiths"]
[null,{"$f":"$V6","v":"Alick Rocca"},{"$f":"Picks!B14","v":"Leeds"},{"$f":"Picks!C14","v":"7/10"},{"$f":"Picks!D14","v":1.7},1,{"$f":"Picks!M14","v":0},0,"Chris Bow",{"$f":"H38","v":0},{"$f":"H39","v":0},{"$f":"H40","v":0.90909090909090917},0,0,1.9090909090909092,0,0,0,0,-5.0909090909090908,{"$f":"SUM(G38:G40)","v":1},"Chris Bow",{"$f":"SUM(F38:F40)","v":3},0.7,{"$f":"X38","v":0.90909090909090917},{"$f":"X39","v":0.90909090909090917},{"$f":"X40","v":0.90909090909090917},1.9090909090909092,1.9090909090909092,1.9090909090909092,3.6446280991735538,3.6446280991735538,3.6446280991735538,6.9579263711495116,16.619083395942901,"Chris Bow"]
[null,null,{"$f":"Picks!B15","v":"Fleetwood"},{"$f":"Picks!C15","v":"10/11"},{"$f":"Picks!D15","v":1.9090909090909092},1,{"$f":"Picks!M15","v":1},0.90909090909090917,"Chris Griffin",{"$f":"H41","v":0},{"$f":"H42","v":0},{"$f":"H43","v":0.78},0,0,1.78,0,0,0,0,-5.22,{"$f":"SUM(G41:G43)","v":1},"Chris Griffin",{"$f":"SUM(F41:F43)","v":3},0.90909090909090917,{"$f":"X41","v":1.1499999999999999},{"$f":"X42","v":0.7},{"$f":"X43","v":0.78},2.15,1.7,1.78,3.6549999999999998,3.0259999999999998,3.827,6.5058999999999996,15.643899999999999,"Chris Griffin"]
[null,null,{"$f":"Picks!B16","v":"Plymouth"},{"$f":"Picks!C16","v":"23/20"},{"$f":"Picks!D16","v":2.15},1,{"$f":"Picks!M16","v":1},1.1499999999999999,"Chris Luck",{"$f":"H44","v":0},{"$f":"H45","v":0},{"$f":"H46","v":0},0,0,0,0,0,0,0,-7,{"$f":"SUM(G44:G46)","v":0},"Chris Luck",{"$f":"SUM(F44:F46)","v":3},1.1499999999999999,{"$f":"X44","v":1.7999999999999998},{"$f":"X45","v":1.5},{"$f":"X46","v":1.35},2.8,2.5,2.35,6.9999999999999991,5.875,6.58,16.45,36.554999999999993,"Chris Luck"]
[null,{"$f":"$V7","v":"Andy Charleston"},{"$f":"Picks!B17","v":"Bournemouth"},{"$f":"Picks!C17","v":"10/11"},{"$f":"Picks!D17","v":1.9090909090909092},1,{"$f":"Picks!M17","v":0},0,"Chris Townsend",{"$f":"H47","v":0},{"$f":"H48","v":0},{"$f":"H49","v":0},0,0,0,0,0,0,0,-7,{"$f":"SUM(G47:G49)","v":0},"Chris Townsend",{"$f":"SUM(F47:F49)","v":3},0.90909090909090917,{"$f":"X47","v":2.4},{"$f":"X48","v":2.7},{"$f":"X49","v":2.7},3.4,3.7,3.7,12.58,13.690000000000001,12.580000000000002,46.545999999999999,89.195999999999998,"Chris Townsend"]
[null,null,{"$f":"Picks!B18","v":"Spurs"},{"$f":"Picks!C18","v":"27/100"},{"$f":"Picks!D18","v":1.27},1,{"$f":"Picks!M18","v":1},0.27,"Dan Baxter",{"$f":"H50","v":0},{"$f":"H51","v":0},{"$f":"H52","v":0},0,0,0,0,0,0,0,-7,{"$f":"SUM(G50:G52)","v":0},"Dan Baxter",{"$f":"SUM(F50:F52)","v":3},0.27,{"$f":"X50","v":7},{"$f":"X51","v":0.90909090909090917},{"$f":"X52","v":1.2999999999999998},8,1.9090909090909092,2.2999999999999998,15.272727272727273,4.3909090909090907,18.399999999999999,35.127272727272725,78.400000000000006,"Dan Baxter"]
[null,null,{"$f":"Picks!B19","v":"Watford"},{"$f":"Picks!C19","v":"10/11"},{"$f":"Picks!D19","v":1.9090909090909092},1,{"$f":"Picks!M19","v":0},0,"Dave Bell",{"$f":"H53","v":0},{"$f":"H54","v":0},{"$f":"H55","v":0},0,0,0,0,0,0,0,-7,{"$f":"SUM(G53:G55)","v":0},"Dave Bell",{"$f":"SUM(F53:F55)","v":3},0.90909090909090917,{"$f":"X53","v":18},{"$f":"X54","v":10},{"$f":"X55","v":11},19,11,12,209,132,228,2508,3112,"Dave Bell"]
[null,{"$f":"$V8","v":"Andy White"},{"$f":"Picks!B20","v":"Watford"},{"$f":"Picks!C20","v":"10/11"},{"$f":"Picks!D20","v":1.9090909090909092},1,{"$f":"Picks!M20","v":0},0,"Dave Orrell",{"$f":"H56","v":0},{"$f":"H57","v":0.90909090909090917},{"$f":"H58","v":0},0,1.9090909090909092,0,0,0,0,0,-5.0909090909090908,{"$f":"SUM(G56:G58)","v":1},"Dave Orrell",{"$f":"SUM(F56:F58)","v":3},0.90909090909090917,{"$f":"X56","v":1.35},{"$f":"X57","v":0.90909090909090917},{"$f":"X58","v":1.375},2.35,1.9090909090909092,2.375,4.4863636363636363,4.5340909090909092,5.5812500000000007,10.655113636363637,24.890909090909094,"Dave Orrell"]
[null,null,{"$f":"Picks!B21","v":"Everton"},{"$f":"Picks!C21","v":"6/4"},{"$f":"Picks!D21","v":2.5},1,{"$f":"Picks!M21","v":0},0,"David Dunn",{"$f":"H59","v":0},{"$f":"H60","v":0.81818181818181834},{"$f":"H61","v":0},0,1.8181818181818183,0,0,0,0,0,-5.1818181818181817,{"$f":"SUM(G59:G61)","v":1},"David Dunn",{"$f":"SUM(F59:F61)","v":3},1.5,{"$f":"X59","v":2.6},{"$f":"X60","v":0.81818181818181834},{"$f":"X61","v":0.90909090909090917},3.6,1.8181818181818183,1.9090909090909092,6.5454545454545467,3.4710743801652897,6.872727272727273,12.495867768595044,29.712396694214888,"David Dunn"]
[null,null,{"$f":"Picks!B22","v":"Arsenal"},{"$f":"Picks!C22","v":"9/11"},{"$f":"Picks!D22","v":1.8181818181818183},1,{"$f":"Picks!M22","v":1},0.81818181818181834,"Gareth Fallows",{"$f":"H62","v":0},{"$f":"H63","v":0.90909090909090917},{"$f":"H64","v":1.1499999999999999},0,1.9090909090909092,2.15,0,4.1045454545454545,0,0,1.163636363636364,{"$f":"SUM(G62:G64)","v":2},"Gareth Fallows",{"$f":"SUM(F62:F64)","v":3},0.81818181818181834,{"$f":"X62","v":1.35},{"$f":"X63","v":0.90909090909090917},{"$f":"X64","v":1.1499999999999999},2.35,1.9090909090909092,2.15,4.4863636363636363,4.1045454545454545,5.0525000000000002,9.6456818181818171,22.698181818181819,"Gareth Fallows"]
[null,{"$f":"$V9","v":"Antony Robinson"},{"$f":"Picks!B23","v":"Liverpool"},{"$f":"Picks!C23","v":"1/7"},{"$f":"Picks!D23","v":1.1428571428571428},1,{"$f":"Picks!M23","v":1},0.14285714285714279,"Gareth McGuire",{"$f":"H65","v":0},{"$f":"H66","v":0},{"$f":"H67","v":0.66666666666666652},0,0,1.6666666666666665,0,0,0,0,-5.3333333333333339,{"$f":"SUM(G65:G67)","v":1},"Gareth McGuire",{"$f":"SUM(F65:F67)","v":3},0.14285714285714279,{"$f":"X65","v":0.90909090909090917},{"$f":"X66","v":1.2999999999999998},{"$f":"X67","v":0.66666666666666652},1.9090909090909092,2.2999999999999998,1.6666666666666665,4.3909090909090907,3.8333333333333326,3.1818181818181817,7.3181818181818166,17.599999999999998,"Gareth McGuire"]
[null,null,{"$f":"Picks!B24","v":"Sheff U"},{"$f":"Picks!C24","v":"3/1"},{"$f":"Picks!D24","v":4},1,{"$f":"Picks!M24","v":0},0,"Gareth Powell",{"$f":"H68","v":0},{"$f":"H69","v":1.0499999999999998},{"$f":"H70","v":0},0,2.0499999999999998,0,0,0,0,0,-4.95,{"$f":"SUM(G68:G70)","v":1},"Gareth Powell",{"$f":"SUM(F68:F70)","v":3},3,{"$f":"X68","v":2.4615384615384617},{"$f":"X69","v":1.0499999999999998},{"$f":"X70","v":1.5},3.4615384615384617,2.0499999999999998,2.5,7.0961538461538458,5.125,8.6538461538461533,17.740384615384613,39.626923076923077,"Gareth Powell"]
[null,null,{"$f":"Picks!B25","v":"Leeds"},{"$f":"Picks!C25","v":"7/10"},{"$f":"Picks!D25","v":1.7},1,{"$f":"Picks!M25","v":0},0,"Gerard Ventom",{"$f":"H71","v":1.5499999999999998},{"$f":"H72","v":0},{"$f":"H73","v":0},2.5499999999999998,0,0,0,0,0,0,-4.45,{"$f":"SUM(G71:G73)","v":1},"Gerard Ventom",{"$f":"SUM(F71:F73)","v":3},0.7,{"$f":"X71","v":1.5499999999999998},{"$f":"X72","v":1.7999999999999998},{"$f":"X73","v":2.7},2.5499999999999998,2.8,3.7,7.1399999999999988,10.36,9.4349999999999987,26.417999999999999,55.402999999999999,"Gerard Ventom"]
[null,{"$f":"$V10","v":"Ashley Houghton"},{"$f":"Picks!B26","v":"Watford"},{"$f":"Picks!C26","v":"10/11"},{"$f":"Picks!D26","v":1.9090909090909092},1,{"$f":"Picks!M26","v":0},0,"Graeme Holmes",{"$f":"H74","v":0},{"$f":"H75","v":0},{"$f":"H76","v":0},0,0,0,0,0,0,0,-7,{"$f":"SUM(G74:G76)","v":0},"Graeme Holmes",{"$f":"SUM(F74:F76)","v":3},0.90909090909090917,{"$f":"X74","v":1.1499999999999999},{"$f":"X75","v":1.2999999999999998},{"$f":"X76","v":1.2999999999999998},2.15,2.2999999999999998,2.2999999999999998,4.9449999999999994,5.2899999999999991,4.9449999999999994,11.373499999999998,26.3035,"Graeme Holmes"]
[null,null,{"$f":"Picks!B27","v":"Derby"},{"$f":"Picks!C27","v":"23/20"},{"$f":"Picks!D27","v":2.15},1,{"$f":"Picks!M27","v":0},0,"Graham Miller",{"$f":"H77","v":2.1},{"$f":"H78","v":0.8},{"$f":"H79","v":0},3.1,1.8,0,5.58,0,0,0,3.4800000000000004,{"$f":"SUM(G77:G79)","v":2},"Graham Miller",{"$f":"SUM(F77:F79)","v":3},1.1499999999999999,{"$f":"X77","v":2.1},{"$f":"X78","v":0.8},{"$f":"X79","v":1.2999999999999998},3.1,1.8,2.2999999999999998,5.58,4.1399999999999997,7.13,12.834,29.884,"Graham Miller"]
[null,null,{"$f":"Picks!B28","v":"Leeds"},{"$f":"Picks!C28","v":"7/10"},{"$f":"Picks!D28","v":1.7},1,{"$f":"Picks!M28","v":0},0,"Howard Bradley",{"$f":"H80","v":0},{"$f":"H81","v":0.66666666666666652},{"$f":"H82","v":1.0499999999999998},0,1.6666666666666665,2.0499999999999998,0,3.4166666666666661,0,0,0.13333333333333286,{"$f":"SUM(G80:G82)","v":2},"Howard Bradley",{"$f":"SUM(F80:F82)","v":3},0.7,{"$f":"X80","v":0.7},{"$f":"X81","v":0.66666666666666652},{"$f":"X82","v":1.0499999999999998},1.7,1.6666666666666665,2.0499999999999998,2.833333333333333,3.4166666666666661,3.4849999999999994,5.8083333333333318,13.959999999999997,"Howard Bradley"]
[null,{"$f":"$V11","v":"Barry Birchall"},{"$f":"Picks!B29","v":"Watford"},{"$f":"Picks!C29","v":"10/11"},{"$f":"Picks!D29","v":1.9090909090909092},1,{"$f":"Picks!M29","v":0},0,"Ian Davies",{"$f":"H83","v":0},{"$f":"H84","v":0},{"$f":"H85","v":2.3636363636363638},0,0,3.3636363636363638,0,0,0,0,-3.6363636363636362,{"$f":"SUM(G83:G85)","v":1},"Ian Davies",{"$f":"SUM(F83:F85)","v":3},0.90909090909090917,{"$f":"X83","v":2.2999999999999998},{"$f":"X84","v":0.7},{"$f":"X85","v":2.3636363636363638},3.3,1.7,3.3636363636363638,5.6099999999999994,5.7181818181818187,11.1,18.869999999999997,42.661818181818177,"Ian Davies"]
[null,null,{"$f":"Picks!B30","v":"Cardiff"},{"$f":"Picks!C30","v":"78/100"},{"$f":"Picks!D30","v":1.78},1,{"$f":"Picks!M30","v":1},0.78,"Jack Walsh",{"$f":"H86","v":0},{"$f":"H87","v":0},{"$f":"H88","v":0},0,0,0,0,0,0,0,-7,{"$f":"SUM(G86:G88)","v":0},"Jack Walsh",{"$f":"SUM(F86:F88)","v":3},0.78,{"$f":"X86","v":1.5499999999999998},{"$f":"X87","v":1.5},{"$f":"X88","v":0.90909090909090917},2.5499999999999998,2.5,1.9090909090909092,6.375,4.7727272727272734,4.8681818181818182,12.170454545454547,28.145454545454548,"Jack Walsh"]
[null,null,{"$f":"Picks!B31","v":"West Brom"},{"$f":"Picks!C31","v":"7/10"},{"$f":"Picks!D31","v":1.7},1,{"$f":"Picks!M31","v":0},0,"James Bell",{"$f":"H89","v":0},{"$f":"H90","v":0},{"$f":"H91","v":0},0,0,0,0,0,0,0,-7,{"$f":"SUM(G89:G91)","v":0},"James Bell",{"$f":"SUM(F89:F91)","v":3},0.7,{"$f":"X89","v":4.0526315789473681},{"$f":"X90","v":2.2999999999999998},{"$f":"X91","v":2.7},5.0526315789473681,3.3,3.7,16.673684210526314,12.21,18.694736842105264,61.69263157894737,114.32368421052632,"James Bell"]
[null,{"$f":"$V12","v":"Ben Rosser"},{"$f":"Picks!B32","v":"Burnley draw"},{"$f":"Picks!C32","v":"23/10"},{"$f":"Picks!D32","v":3.3},1,{"$f":"Picks!M32","v":0},0,"Joel Bent",{"$f":"H92","v":0},{"$f":"H93","v":0},{"$f":"H94","v":0},{"$f":"IF(J32=0,0,1)+J32","v":0},{"$f":"IF(K32=0,0,1)+K32","v":0},0,0,0,0,0,-7,{"$f":"SUM(G92:G94)","v":0},"Joel Bent",{"$f":"SUM(F92:F94)","v":3},2.2999999999999998,{"$f":"X92","v":7},{"$f":"X93","v":2.75},{"$f":"X94","v":1.1499999999999999},8,3.75,2.15,30,8.0625,17.2,64.5,126.66249999999999,"Joel Bent"]
[null,null,{"$f":"Picks!B33","v":"Everton"},{"$f":"Picks!C33","v":"6/4"},{"$f":"Picks!D33","v":2.5},1,{"$f":"Picks!M33","v":0},0,"John Evans",{"$f":"H95","v":0},{"$f":"H96","v":0},{"$f":"H97","v":0.66666666666666652},0,0,1.6666666666666665,0,0,0,0,-5.3333333333333339,{"$f":"SUM(G95:G97)","v":1},"John Evans",{"$f":"SUM(F95:F97)","v":3},1.5,{"$f":"X95","v":2.7},{"$f":"X96","v":1.5499999999999998},{"$f":"X97","v":0.66666666666666652},3.7,2.5499999999999998,1.6666666666666665,9.4349999999999987,4.2499999999999991,6.1666666666666661,15.724999999999996,36.493333333333325,"John Evans"]
[null,null,{"$f":"Picks!B34","v":"West Ham draw"},{"$f":"Picks!C34","v":"5/1"},{"$f":"Picks!D34","v":6},1,{"$f":"Picks!M34","v":0},{"$f":"+((E34-1)*G34*F34*A$2)","v":0},"John Robinson",{"$f":"H98","v":0},{"$f":"H99","v":1.1000000000000001},{"$f":"H100","v":0.90909090909090917},0,2.1,1.9090909090909092,0,4.0090909090909097,0,0,1.0181818181818194,{"$f":"SUM(G98:G100)","v":2},"John Robinson",{"$f":"SUM(F98:F100)","v":3},{"$f":"+((E34-1)*F34*A$2)","v":5},{"$f":"X98","v":5},{"$f":"X99","v":1.1000000000000001},{"$f":"X100","v":0.90909090909090917},6,2.1,1.9090909090909092,12.600000000000001,4.0090909090909097,11.454545454545457,24.054545454545458,55.127272727272739,"John Robinson"]
[null,{"$f":"$V13","v":"Charlie Griffiths"},{"$f":"Picks!B35","v":"Wycombe"},{"$f":"Picks!C35","v":"21/10"},{"$f":"Picks!D35","v":3.1},1,{"$f":"Picks!M35","v":0},0,"John Ronan",{"$f":"H101","v":2.1},{"$f":"H102","v":0},{"$f":"H103","v":0},3.1,0,0,0,0,0,0,-3.9,{"$f":"SUM(G101:G103)","v":1},"John Ronan",{"$f":"SUM(F101:F103)","v":3},2.1,{"$f":"X101","v":2.1},{"$f":"X102","v":1.625},{"$f":"X103","v":1.625},3.1,2.625,2.625,8.1375000000000011,6.890625,8.1374999999999993,21.360937500000002,45.876562500000006,"John Ronan"]
[null,null,{"$f":"Picks!B36","v":"Orient"},{"$f":"Picks!C36","v":"7/5"},{"$f":"Picks!D36","v":2.4},1,{"$f":"Picks!M36","v":0},0,"Kei Lok Ma",{"$f":"H104","v":1.5499999999999998},{"$f":"H105","v":2.2999999999999998},{"$f":"H106","v":0},2.5499999999999998,3.3,0,8.4149999999999991,0,0,0,7.2649999999999988,{"$f":"SUM(G104:G106)","v":2},"Kei Lok Ma",{"$f":"SUM(F104:F106)","v":3},1.4,{"$f":"X104","v":1.5499999999999998},{"$f":"X105","v":2.2999999999999998},{"$f":"X106","v":1.2999999999999998},2.5499999999999998,3.3,2.2999999999999998,8.4149999999999991,7.589999999999999,5.8649999999999993,19.354499999999994,42.374499999999991,"Kei Lok Ma"]
[null,null,{"$f":"Picks!B37","v":"Crewe"},{"$f":"Picks!C37","v":"19/10"},{"$f":"Picks!D37","v":2.9},1,{"$f":"Picks!M37","v":1},1.9,"Kevin Carter",{"$f":"H107","v":0},{"$f":"H108","v":0},{"$f":"H109","v":0},0,0,0,0,0,0,0,-7,{"$f":"SUM(G107:G109)","v":0},"Kevin Carter",{"$f":"SUM(F107:F109)","v":3},1.9,{"$f":"X107","v":4.8},{"$f":"X108","v":2.4},{"$f":"X109","v":2.9},5.8,3.4,3.9,19.72,13.26,22.619999999999997,76.907999999999987,138.60799999999998,"Kevin Carter"]
[null,{"$f":"$V14","v":"Chris Bow"},{"$f":"Picks!B38","v":"Bournemouth"},{"$f":"Picks!C38","v":"10/11"},{"$f":"Picks!D38","v":1.9090909090909092},1,{"$f":"Picks!M38","v":0},0,"Lennie Bow",{"$f":"H110","v":0},{"$f":"H111","v":1.1538461538461537},{"$f":"H112","v":0},0,2.1538461538461537,0,0,0,0,0,-4.8461538461538467,{"$f":"SUM(G110:G112)","v":1},"Lennie Bow",{"$f":"SUM(F110:F112)","v":3},0.90909090909090917,{"$f":"X110","v":0.7},{"$f":"X111","v":1.1538461538461537},{"$f":"X112","v":0.7},1.7,2.1538461538461537,1.7,3.661538461538461,3.661538461538461,2.8899999999999997,6.2246153846153831,14.991538461538457,"Lennie Bow"]
[null,null,{"$f":"Picks!B39","v":"Watford"},{"$f":"Picks!C39","v":"10/11"},{"$f":"Picks!D39","v":1.9090909090909092},1,{"$f":"Picks!M39","v":0},0,"Lewis Buckley",{"$f":"H113","v":0},{"$f":"H114","v":0},{"$f":"H115","v":0.66666666666666652},0,0,1.6666666666666665,0,0,0,0,-5.3333333333333339,{"$f":"SUM(G113:G115)","v":1},"Lewis Buckley",{"$f":"SUM(F113:F115)","v":3},0.90909090909090917,{"$f":"X113","v":0.90909090909090917},{"$f":"X114","v":0.7},{"$f":"X115","v":0.66666666666666652},1.9090909090909092,1.7,1.6666666666666665,3.2454545454545456,2.833333333333333,3.1818181818181817,5.4090909090909083,12.945454545454545,"Lewis Buckley"]
[null,null,{"$f":"Picks!B40","v":"Fleetwood"},{"$f":"Picks!C40","v":"10/11"},{"$f":"Picks!D40","v":1.9090909090909092},1,{"$f":"Picks!M40","v":1},0.90909090909090917,"Liam Wah",{"$f":"H116","v":2.2999999999999998},{"$f":"H117","v":0},{"$f":"H118","v":0},3.3,0,0,0,0,0,0,-3.7,{"$f":"SUM(G116:G118)","v":1},"Liam Wah",{"$f":"SUM(F116:F118)","v":3},0.90909090909090917,{"$f":"X116","v":2.2999999999999998},{"$f":"X117","v":1.625},{"$f":"X118","v":2.4615384615384617},3.3,2.625,3.4615384615384617,8.6624999999999996,9.0865384615384617,11.423076923076923,29.98557692307692,61.544230769230765,"Liam Wah"]
[null,{"$f":"$V15","v":"Chris Griffin"},{"$f":"Picks!B41","v":"Derby"},{"$f":"Picks!C41","v":"23/20"},{"$f":"Picks!D41","v":2.15},1,{"$f":"Picks!M41","v":0},0,"Mal Stott",{"$f":"H119","v":0},{"$f":"H120","v":0.66666666666666652},{"$f":"H121","v":0.8},0,1.6666666666666665,1.8,0,3,0,0,-0.53333333333333321,{"$f":"SUM(G119:G121)","v":2},"Mal Stott",{"$f":"SUM(F119:F121)","v":3},1.1499999999999999,{"$f":"X119","v":1.2000000000000002},{"$f":"X120","v":0.66666666666666652},{"$f":"X121","v":0.8},2.2000000000000002,1.6666666666666665,1.8,3.666666666666667,3,3.9600000000000009,6.6000000000000005,15.893333333333338,"Mal Stott"]
[null,null,{"$f":"Picks!B42","v":"West Brom"},{"$f":"Picks!C42","v":"7/10"},{"$f":"Picks!D42","v":1.7},1,{"$f":"Picks!M42","v":0},0,"Mark Bunn",{"$f":"H122","v":0},{"$f":"H123","v":0},{"$f":"H124","v":1.5},0,0,2.5,0,0,0,0,-4.5,{"$f":"SUM(G122:G124)","v":1},"Mark Bunn",{"$f":"SUM(F122:F124)","v":3},0.7,{"$f":"X122","v":1.2999999999999998},{"$f":"X123","v":1.5499999999999998},{"$f":"X124","v":1.5},2.2999999999999998,2.5499999999999998,2.5,5.8649999999999993,6.375,5.75,14.662499999999998,33.002499999999998,"Mark Bunn"]
[null,null,{"$f":"Picks!B43","v":"Cardiff"},{"$f":"Picks!C43","v":"78/100"},{"$f":"Picks!D43","v":1.78},1,{"$f":"Picks!M43","v":1},0.78,"Mark Saunders",{"$f":"H125","v":0},{"$f":"H126","v":0.8},{"$f":"H127","v":0},0,1.8,0,0,0,0,0,-5.2,{"$f":"SUM(G125:G127)","v":1},"Mark Saunders",{"$f":"SUM(F125:F127)","v":3},0.78,{"$f":"X125","v":0.90909090909090917},{"$f":"X126","v":0.8},{"$f":"X127","v":1.2999999999999998},1.9090909090909092,1.8,2.2999999999999998,3.4363636363636365,4.1399999999999997,4.3909090909090907,7.9036363636363633,18.88,"Mark Saunders"]
[null,{"$f":"$V16","v":"Chris Luck"},{"$f":"Picks!B44","v":"Southampton"},{"$f":"Picks!C44","v":"9/5"},{"$f":"Picks!D44","v":2.8},1,{"$f":"Picks!M44","v":0},{"$f":"+((E44-1)*G44*F44*A$2)","v":0},"Martin Molyneux",{"$f":"H128","v":0},{"$f":"H129","v":0},{"$f":"H130","v":0},0,0,0,0,0,0,0,{"$f":"SUM(M44:S44)-(IF(W44=1,A$2*1,0))-(IF(W44=2,A$2*3,0))-(IF(W44=3,A$2*7,0))","v":-7},{"$f":"SUM(G128:G130)","v":0},"Martin Molyneux",{"$f":"SUM(F128:F130)","v":3},1.7999999999999998,{"$f":"X128","v":1.2999999999999998},{"$f":"X129","v":1.1499999999999999},{"$f":"X130","v":2.4615384615384617},2.2999999999999998,2.15,3.4615384615384617,4.9449999999999994,7.4423076923076916,7.9615384615384617,17.117307692307691,38.3776923076923,"Martin Molyneux"]
[null,null,{"$f":"Picks!B45","v":"Everton"},{"$f":"Picks!C45","v":"6/4"},{"$f":"Picks!D45","v":2.5},1,{"$f":"Picks!M45","v":0},0,"Martin Tarbuck",{"$f":"H131","v":0},{"$f":"H132","v":1.1499999999999999},{"$f":"H133","v":0.25},0,2.15,1.25,0,2.6875,0,0,-0.91249999999999964,{"$f":"SUM(G131:G133)","v":2},"Martin Tarbuck",{"$f":"SUM(F131:F133)","v":3},1.5,{"$f":"X131","v":1.375},{"$f":"X132","v":1.1499999999999999},{"$f":"X133","v":0.25},2.375,2.15,1.25,5.1062499999999993,2.6875,2.96875,6.3828124999999991,15.920312500000001,"Martin Tarbuck"]
[null,null,{"$f":"Picks!B46","v":"Birmingham"},{"$f":"Picks!C46","v":"27/20"},{"$f":"Picks!D46","v":2.35},1,{"$f":"Picks!M46","v":0},0,"Mike Penk",{"$f":"H134","v":0.66666666666666652},{"$f":"H135","v":0},{"$f":"H136","v":2.1},1.6666666666666665,0,3.1,0,0,5.1666666666666661,0,2.9333333333333336,{"$f":"SUM(G134:G136)","v":2},"Mike Penk",{"$f":"SUM(F134:F136)","v":3},1.35,{"$f":"X134","v":0.66666666666666652},{"$f":"X135","v":2.7},{"$f":"X136","v":2.1},1.6666666666666665,3.7,3.1,6.1666666666666661,11.47,5.1666666666666661,19.116666666666667,43.386666666666663,"Mike Penk"]
[null,{"$f":"$V17","v":"Chris Townsend"},{"$f":"Picks!B47","v":"Swansea"},{"$f":"Picks!C47","v":"12/5"},{"$f":"Picks!D47","v":3.4},1,{"$f":"Picks!M47","v":0},0,"Mo Sudell",{"$f":"H137","v":1.5},{"$f":"H138","v":0},{"$f":"H139","v":0},2.5,0,0,0,0,0,0,-4.5,{"$f":"SUM(G137:G139)","v":1},"Mo Sudell",{"$f":"SUM(F137:F139)","v":3},2.4,{"$f":"X137","v":1.5},{"$f":"X138","v":0.7},{"$f":"X139","v":0.7},2.5,1.7,1.7,4.25,2.8899999999999997,4.25,7.2249999999999996,17.515000000000001,"Mo Sudell"]
[null,null,{"$f":"Picks!B48","v":"Reading"},{"$f":"Picks!C48","v":"27/10"},{"$f":"Picks!D48","v":3.7},1,{"$f":"Picks!M48","v":0},0,"Nick Blocksidge",{"$f":"H140","v":0},{"$f":"H141","v":1.5499999999999998},{"$f":"H142","v":0},0,2.5499999999999998,0,0,0,0,0,-4.45,{"$f":"SUM(G140:G142)","v":1},"Nick Blocksidge",{"$f":"SUM(F140:F142)","v":3},2.7,{"$f":"X140","v":0.90909090909090917},{"$f":"X141","v":1.5499999999999998},{"$f":"X142","v":1.1499999999999999},1.9090909090909092,2.5499999999999998,2.15,4.8681818181818182,5.4824999999999999,4.1045454545454545,10.466590909090908,24.530909090909091,"Nick Blocksidge"]
[null,null,{"$f":"Picks!B49","v":"Barnsley"},{"$f":"Picks!C49","v":"27/10"},{"$f":"Picks!D49","v":3.7},1,{"$f":"Picks!M49","v":0},0,"Nigel Heyes",{"$f":"H143","v":0.78},{"$f":"H144","v":0},{"$f":"H145","v":0},1.78,0,0,0,0,0,0,-5.22,{"$f":"SUM(G143:G145)","v":1},"Nigel Heyes",{"$f":"SUM(F143:F145)","v":3},2.7,{"$f":"X143","v":0.78},{"$f":"X144","v":1.2999999999999998},{"$f":"X145","v":2.7},1.78,2.2999999999999998,3.7,4.0939999999999994,8.51,6.5860000000000003,15.147799999999998,35.117799999999995,"Nigel Heyes"]
[null,{"$f":"$V18","v":"Dan Baxter"},{"$f":"Picks!B50","v":"Liverpool draw"},{"$f":"Picks!C50","v":"7/1"},{"$f":"Picks!D50","v":8},1,{"$f":"Picks!M50","v":0},0,"Oscar Jackson",{"$f":"H146","v":0},{"$f":"H147","v":0},{"$f":"H148","v":0},0,0,0,0,0,0,0,-7,{"$f":"SUM(G146:G148)","v":0},"Oscar Jackson",{"$f":"SUM(F146:F148)","v":3},7,{"$f":"X146","v":2.7},{"$f":"X147","v":1.25},{"$f":"X148","v":0.7},3.7,2.25,1.7,8.3249999999999993,3.8250000000000002,6.29,14.152499999999998,33.2425,"Oscar Jackson"]
[null,null,{"$f":"Picks!B51","v":"Watford"},{"$f":"Picks!C51","v":"10/11"},{"$f":"Picks!D51","v":1.9090909090909092},1,{"$f":"Picks!M51","v":0},0,"Paul Adderley",{"$f":"H149","v":0},{"$f":"H150","v":1.5499999999999998},{"$f":"H151","v":0},0,2.5499999999999998,0,0,0,0,0,-4.45,{"$f":"SUM(G149:G151)","v":1},"Paul Adderley",{"$f":"SUM(F149:F151)","v":3},0.90909090909090917,{"$f":"X149","v":0.90909090909090917},{"$f":"X150","v":1.5499999999999998},{"$f":"X151","v":0.90909090909090917},1.9090909090909092,2.5499999999999998,1.9090909090909092,4.8681818181818182,4.8681818181818182,3.6446280991735538,9.2938016528925615,22.042975206611573,"Paul Adderley"]
[null,null,{"$f":"Picks!B52","v":"Stoke"},{"$f":"Picks!C52","v":"13/10"},{"$f":"Picks!D52","v":2.2999999999999998},1,{"$f":"Picks!M52","v":0},0,"Paul Allen",{"$f":"H152","v":0},{"$f":"H153","v":0},{"$f":"H154","v":0.78},0,0,1.78,0,0,0,0,-5.22,{"$f":"SUM(G152:G154)","v":1},"Paul Allen",{"$f":"SUM(F152:F154)","v":3},1.2999999999999998,{"$f":"X152","v":0.90909090909090917},{"$f":"X153","v":0.90909090909090917},{"$f":"X154","v":0.78},1.9090909090909092,1.9090909090909092,1.78,3.6446280991735538,3.3981818181818184,3.3981818181818184,6.4874380165289258,15.526611570247937,"Paul Allen"]
[null,{"$f":"$V19","v":"Dave Bell"},{"$f":"Picks!B53","v":"Norwich"},{"$f":"Picks!C53","v":"18/1"},{"$f":"Picks!D53","v":19},1,{"$f":"Picks!M53","v":0},0,"Paul Barnes",{"$f":"H155","v":{"$error":"#VALUE!"}},{"$f":"H156","v":{"$error":"#VALUE!"}},{"$f":"H157","v":{"$error":"#VALUE!"}},{"$error":"#VALUE!"},{"$error":"#VALUE!"},{"$error":"#VALUE!"},{"$error":"#VALUE!"},{"$error":"#VALUE!"},{"$error":"#VALUE!"},{"$error":"#VALUE!"},{"$error":"#VALUE!"},{"$f":"SUM(G155:G157)","v":{"$error":"#N/A"}},"Paul Barnes",{"$f":"SUM(F155:F157)","v":3},18,{"$f":"X155","v":{"$error":"#VALUE!"}},{"$f":"X156","v":{"$error":"#VALUE!"}},{"$f":"X157","v":{"$error":"#VALUE!"}},{"$error":"#VALUE!"},{"$error":"#VALUE!"},{"$error":"#VALUE!"},{"$error":"#VALUE!"},{"$error":"#VALUE!"},{"$error":"#VALUE!"},{"$error":"#VALUE!"},{"$error":"#VALUE!"},"Paul Barnes"]
[null,null,{"$f":"Picks!B54","v":"Villa"},{"$f":"Picks!C54","v":"10/1"},{"$f":"Picks!D54","v":11},1,{"$f":"Picks!M54","v":0},0,"Paul Fairhurst",{"$f":"H158","v":0.78},{"$f":"H159","v":2.2999999999999998},{"$f":"H160","v":0},1.78,3.3,0,5.8739999999999997,0,0,0,3.9540000000000006,{"$f":"SUM(G158:G160)","v":2},"Paul Fairhurst",{"$f":"SUM(F158:F160)","v":3},10,{"$f":"X158","v":0.78},{"$f":"X159","v":2.2999999999999998},{"$f":"X160","v":1.2000000000000002},1.78,3.3,2.2000000000000002,5.8739999999999997,7.26,3.9160000000000004,12.922800000000001,30.252800000000001,"Paul Fairhurst"]
[null,null,{"$f":"Picks!B55","v":"West Ham"},{"$f":"Picks!C55","v":"11/1"},{"$f":"Picks!D55","v":12},1,{"$f":"Picks!M55","v":0},0,"Paul Fiddler",{"$f":"H161","v":1.0499999999999998},{"$f":"H162","v":0},{"$f":"H163","v":0},2.0499999999999998,0,0,0,0,0,0,-4.95,{"$f":"SUM(G161:G163)","v":1},"Paul Fiddler",{"$f":"SUM(F161:F163)","v":3},11,{"$f":"X161","v":1.0499999999999998},{"$f":"X162","v":1.1499999999999999},{"$f":"X163","v":2.7},2.0499999999999998,2.15,3.7,4.4074999999999989,7.9550000000000001,7.5849999999999991,16.307749999999999,37.155249999999995,"Paul Fiddler"]
[null,{"$f":"$V20","v":"Dave Orrell"},{"$f":"Picks!B56","v":"Birmingham"},{"$f":"Picks!C56","v":"27/20"},{"$f":"Picks!D56","v":2.35},1,{"$f":"Picks!M56","v":0},0,"Paul Ridgeway",{"$f":"H164","v":0},{"$f":"H165","v":0.8},{"$f":"H166","v":1.0499999999999998},0,1.8,2.0499999999999998,0,3.6899999999999995,0,0,0.53999999999999915,{"$f":"SUM(G164:G166)","v":2},"Paul Ridgeway",{"$f":"SUM(F164:F166)","v":3},1.35,{"$f":"X164","v":1.1499999999999999},{"$f":"X165","v":0.8},{"$f":"X166","v":1.0499999999999998},2.15,1.8,2.0499999999999998,3.87,3.6899999999999995,4.4074999999999989,7.9334999999999996,18.901,"Paul Ridgeway"]
[null,null,{"$f":"Picks!B57","v":"Fleetwood"},{"$f":"Picks!C57","v":"10/11"},{"$f":"Picks!D57","v":1.9090909090909092},1,{"$f":"Picks!M57","v":1},0.90909090909090917,"Pete Baron",{"$f":"H167","v":{"$error":"#VALUE!"}},{"$f":"H168","v":{"$error":"#VALUE!"}},{"$f":"H169","v":{"$error":"#VALUE!"}},{"$error":"#VALUE!"},{"$error":"#VALUE!"},{"$error":"#VALUE!"},{"$error":"#VALUE!"},{"$error":"#VALUE!"},{"$error":"#VALUE!"},{"$error":"#VALUE!"},{"$error":"#VALUE!"},{"$f":"SUM(G167:G169)","v":{"$error":"#N/A"}},"Pete Baron",{"$f":"SUM(F167:F169)","v":3},0.90909090909090917,{"$f":"X167","v":{"$error":"#VALUE!"}},{"$f":"X168","v":{"$error":"#VALUE!"}},{"$f":"X169","v":{"$error":"#VALUE!"}},{"$error":"#VALUE!"},{"$error":"#VALUE!"},{"$error":"#VALUE!"},{"$error":"#VALUE!"},{"$error":"#VALUE!"},{"$error":"#VALUE!"},{"$error":"#VALUE!"},{"$error":"#VALUE!"},"Pete Baron"]
[null,null,{"$f":"Picks!B58","v":"Walsall"},{"$f":"Picks!C58","v":"11/8"},{"$f":"Picks!D58","v":2.375},1,{"$f":"Picks!M58","v":0},0,"Phil Miller",{"$f":"H170","v":0},{"$f":"H171","v":0.25},{"$f":"H172","v":0.8},0,1.25,1.8,0,2.25,0,0,-1.7000000000000002,{"$f":"SUM(G170:G172)","v":2},"Phil Miller",{"$f":"SUM(F170:F172)","v":3},1.375,{"$f":"X170","v":2.1},{"$f":"X171","v":0.25},{"$f":"X172","v":0.8},3.1,1.25,1.8,3.875,2.25,5.58,6.9749999999999996,17.829999999999998,"Phil Miller"]
[null,{"$f":"$V21","v":"David Dunn"},{"$f":"Picks!B59","v":"Chelsea"},{"$f":"Picks!C59","v":"13/5"},{"$f":"Picks!D59","v":3.6},1,{"$f":"Picks!M59","v":0},0,"Rob England",{"$f":"H173","v":0.14285714285714279},{"$f":"H174","v":0},{"$f":"H175","v":0},1.1428571428571428,0,0,0,0,0,0,-5.8571428571428577,{"$f":"SUM(G173:G175)","v":1},"Rob England",{"$f":"SUM(F173:F175)","v":3},2.6,{"$f":"X173","v":0.14285714285714279},{"$f":"X174","v":2.1},{"$f":"X175","v":2.2999999999999998},1.1428571428571428,3.1,3.3,3.5428571428571427,10.23,3.7714285714285709,11.69142857142857,29.778571428571425,"Rob England"]
[null,null,{"$f":"Picks!B60","v":"Arsenal"},{"$f":"Picks!C60","v":"9/11"},{"$f":"Picks!D60","v":1.8181818181818183},1,{"$f":"Picks!M60","v":1},0.81818181818181834,"Sally Williams",{"$f":"H176","v":0},{"$f":"H177","v":0},{"$f":"H178","v":2.2999999999999998},0,0,3.3,0,0,0,0,-3.7,{"$f":"SUM(G176:G178)","v":1},"Sally Williams",{"$f":"SUM(F176:F178)","v":3},0.81818181818181834,{"$f":"X176","v":2.4},{"$f":"X177","v":2.2999999999999998},{"$f":"X178","v":2.2999999999999998},3.4,3.3,3.3,11.219999999999999,10.889999999999999,11.219999999999999,37.025999999999996,73.355999999999995,"Sally Williams"]
[null,null,{"$f":"Picks!B61","v":"Bournemouth"},{"$f":"Picks!C61","v":"10/11"},{"$f":"Picks!D61","v":1.9090909090909092},1,{"$f":"Picks!M61","v":0},0,"Simon Greenhalgh",{"$f":"H179","v":1.5},{"$f":"H180","v":0},{"$f":"H181","v":0},2.5,0,0,0,0,0,0,-4.5,{"$f":"SUM(G179:G181)","v":1},"Simon Greenhalgh",{"$f":"SUM(F179:F181)","v":3},0.90909090909090917,{"$f":"X179","v":1.5},{"$f":"X180","v":1.625},{"$f":"X181","v":1.375},2.5,2.625,2.375,6.5625,6.234375,5.9375,15.5859375,34.8203125,"Simon Greenhalgh"]
[null,{"$f":"$V22","v":"Gareth Fallows"},{"$f":"Picks!B62","v":"Birmingham"},{"$f":"Picks!C62","v":"27/20"},{"$f":"Picks!D62","v":2.35},1,{"$f":"Picks!M62","v":0},0,"Ste Bentley",{"$f":"H182","v":{"$error":"#VALUE!"}},{"$f":"H183","v":{"$error":"#VALUE!"}},{"$f":"H184","v":{"$error":"#VALUE!"}},{"$error":"#VALUE!"},{"$error":"#VALUE!"},{"$error":"#VALUE!"},{"$error":"#VALUE!"},{"$error":"#VALUE!"},{"$error":"#VALUE!"},{"$error":"#VALUE!"},{"$error":"#VALUE!"},{"$f":"SUM(G182:G184)","v":{"$error":"#N/A"}},"Ste Bentley",{"$f":"SUM(F182:F184)","v":3},1.35,{"$f":"X182","v":{"$error":"#VALUE!"}},{"$f":"X183","v":{"$error":"#VALUE!"}},{"$f":"X184","v":{"$error":"#VALUE!"}},{"$error":"#VALUE!"},{"$error":"#VALUE!"},{"$error":"#VALUE!"},{"$error":"#VALUE!"},{"$error":"#VALUE!"},{"$error":"#VALUE!"},{"$error":"#VALUE!"},{"$error":"#VALUE!"},"Ste Bentley"]
[null,null,{"$f":"Picks!B63","v":"Fleetwood"},{"$f":"Picks!C63","v":"10/11"},{"$f":"Picks!D63","v":1.9090909090909092},1,{"$f":"Picks!M63","v":1},{"$f":"+((E63-1)*G63*F63*A$2)","v":0.90909090909090917},"Stephen Barr",{"$f":"H185","v":0.81818181818181834},{"$f":"H186","v":0.78},{"$f":"H187","v":1.0499999999999998},1.8181818181818183,1.78,2.0499999999999998,3.2363636363636368,3.649,3.7272727272727275,6.6345454545454547,15.895363636363633,{"$f":"SUM(G185:G187)","v":3},"Stephen Barr",{"$f":"SUM(F185:F187)","v":3},0.90909090909090917,{"$f":"X185","v":0.81818181818181834},{"$f":"X186","v":0.78},{"$f":"X187","v":1.0499999999999998},1.8181818181818183,1.78,2.0499999999999998,3.2363636363636368,3.649,3.7272727272727275,6.6345454545454547,15.895363636363633,"Stephen Barr"]
[null,null,{"$f":"Picks!B64","v":"Plymouth"},{"$f":"Picks!C64","v":"23/20"},{"$f":"Picks!D64","v":2.15},1,{"$f":"Picks!M64","v":1},1.1499999999999999,"Stephen Troop",{"$f":"H188","v":0},{"$f":"H189","v":0},{"$f":"H190","v":0},0,0,0,0,0,0,0,-7,{"$f":"SUM(G188:G190)","v":0},"Stephen Troop",{"$f":"SUM(F188:F190)","v":3},1.1499999999999999,{"$f":"X188","v":1.1499999999999999},{"$f":"X189","v":1.2000000000000002},{"$f":"X190","v":0.7},2.15,2.2000000000000002,1.7,4.7300000000000004,3.74,3.6549999999999998,8.0410000000000004,19.216000000000001,"Stephen Troop"]
[null,{"$f":"$V23","v":"Gareth McGuire"},{"$f":"Picks!B65","v":"Watford"},{"$f":"Picks!C65","v":"10/11"},{"$f":"Picks!D65","v":1.9090909090909092},1,{"$f":"Picks!M65","v":0},0,"Steve Baxter",{"$f":"H191","v":0.14285714285714279},{"$f":"H192","v":1.25},{"$f":"H193","v":0.27},1.1428571428571428,2.25,1.27,2.5714285714285712,2.8574999999999999,1.4514285714285713,3.2657142857142856,7.8089285714285701,{"$f":"SUM(G191:G193)","v":3},"Steve Baxter",{"$f":"SUM(F191:F193)","v":3},0.90909090909090917,{"$f":"X191","v":0.14285714285714279},{"$f":"X192","v":1.25},{"$f":"X193","v":0.27},1.1428571428571428,2.25,1.27,2.5714285714285712,2.8574999999999999,1.4514285714285713,3.2657142857142856,7.8089285714285701,"Steve Baxter"]
[null,null,{"$f":"Picks!B66","v":"Middlesbro"},{"$f":"Picks!C66","v":"13/10"},{"$f":"Picks!D66","v":2.2999999999999998},1,{"$f":"Picks!M66","v":0},0,"Steve Carter",{"$f":"H194","v":0},{"$f":"H195","v":0.81818181818181834},{"$f":"H196","v":0},{"$f":"IF(J66=0,0,1)+J66","v":0},1.8181818181818183,0,0,0,0,0,-5.1818181818181817,{"$f":"SUM(G194:G196)","v":1},"Steve Carter",{"$f":"SUM(F194:F196)","v":3},{"$f":"+((E66-1)*F66*A$2)","v":1.2999999999999998},{"$f":"X194","v":1.5},{"$f":"X195","v":0.81818181818181834},{"$f":"X196","v":2.4615384615384617},2.5,1.8181818181818183,3.4615384615384617,4.5454545454545459,6.2937062937062942,8.6538461538461533,15.734265734265737,36.006993006993014,"Steve Carter"]
[null,null,{"$f":"Picks!B67","v":"Portsmouth"},{"$f":"Picks!C67","v":"4/6"},{"$f":"Picks!D67","v":1.6666666666666665},1,{"$f":"Picks!M67","v":1},0.66666666666666652,{"$f":"IF(V67=\"\",\"\",V67)","v":"Tom Robinson"},{"$f":"H197","v":0.78},{"$f":"H198","v":0},{"$f":"H199","v":2.2999999999999998},{"$f":"IF(J67=0,0,1)+J67","v":1.78},{"$f":"IF(K67=0,0,1)+K67","v":0},{"$f":"IF(L67=0,0,1)+L67","v":3.3},{"$f":"IF(K67=0,0,(M67*K67)+M67)","v":0},{"$f":"IF(L67=0,0,(N67*L67)+N67)","v":0},{"$f":"IF(J67=0,0,(O67*J67)+O67)","v":5.8739999999999997},{"$f":"IF(L67=0,0,(P67*L67)+P67)","v":0},{"$f":"SUM(M67:S67)-(IF(W67=1,A$2*1,0))-(IF(W67=2,A$2*3,0))-(IF(W67=3,A$2*7,0))","v":3.9540000000000006},{"$f":"SUM(G197:G199)","v":2},"Tom Robinson",{"$f":"SUM(F197:F199)","v":3},0.66666666666666652,{"$f":"X197","v":0.78},{"$f":"X198","v":1.2999999999999998},{"$f":"X199","v":2.2999999999999998},{"$f":"IF(Y67=0,0,1)+Y67","v":1.78},{"$f":"IF(Z67=0,0,1)+Z67","v":2.2999999999999998},{"$f":"IF(AA67=0,0,1)+AA67","v":3.3},{"$f":"IF(Z67=0,0,(AB67*Z67)+AB67)","v":4.0939999999999994},{"$f":"IF(AA67=0,0,(AC67*AA67)+AC67)","v":7.589999999999999},{"$f":"IF(Y67=0,0,(AD67*Y67)+AD67)","v":5.8739999999999997},{"$f":"IF(AA67=0,0,(AE67*AA67)+AE67)","v":13.510199999999998},{"$f":"SUM(AB67:AH67)-7","v":31.4482},"Tom Robinson"]
[null,{"$f":"$V24","v":"Gareth Powell"},{"$f":"Picks!B68","v":"Man U draw"},{"$f":"Picks!C68","v":"32/13"},{"$f":"Picks!D68","v":3.4615384615384617},1,{"$f":"Picks!M68","v":0},0,"Vinny Topping",{"$f":"H200","v":0},{"$f":"H201","v":0.8},{"$f":"H202","v":0},{"$f":"IF(J68=0,0,1)+J68","v":0},1.8,0,0,0,0,0,-5.2,{"$f":"SUM(G200:G202)","v":1},"Vinny Topping",{"$f":"SUM(F200:F202)","v":3},2.4615384615384617,{"$f":"X200","v":1.35},{"$f":"X201","v":0.8},{"$f":"X202","v":1.4},2.35,1.8,2.4,4.2300000000000004,4.32,5.6400000000000006,10.152000000000001,23.892000000000003,{"$f":"$V68","v":"Vinny Topping"}]
[null,null,{"$f":"Picks!B69","v":"Sheff W"},{"$f":"Picks!C69","v":"21/20"},{"$f":"Picks!D69","v":2.0499999999999998},1,{"$f":"Picks!M69","v":1},1.0499999999999998,"Andy Clucas",{"$f":"H203","v":0},{"$f":"H204","v":0},{"$f":"H205","v":0},{"$f":"IF(J69=0,0,1)+J69","v":0},{"$f":"IF(K69=0,0,1)+K69","v":0},{"$f":"IF(L69=0,0,1)+L69","v":0},{"$f":"IF(K69=0,0,(M69*K69)+M69)","v":0},{"$f":"IF(L69=0,0,(N69*L69)+N69)","v":0},{"$f":"IF(J69=0,0,(O69*J69)+O69)","v":0},{"$f":"IF(L69=0,0,(P69*L69)+P69)","v":0},{"$f":"SUM(M69:S69)-(IF(W69=1,A$2*1,0))-(IF(W69=2,A$2*3,0))-(IF(W69=3,A$2*7,0))","v":-7},{"$f":"SUM(G203:G205)","v":0},"Andy Clucas",{"$f":"SUM(F203:F205)","v":3},1.0499999999999998,{"$f":"X203","v":0.90909090909090917},{"$f":"X204","v":0.7},{"$f":"X205","v":0.7},{"$f":"IF(Y69=0,0,1)+Y69","v":1.9090909090909092},{"$f":"IF(Z69=0,0,1)+Z69","v":1.7},{"$f":"IF(AA69=0,0,1)+AA69","v":1.7},{"$f":"IF(Z69=0,0,(AB69*Z69)+AB69)","v":3.2454545454545456},{"$f":"IF(AA69=0,0,(AC69*AA69)+AC69)","v":2.8899999999999997},{"$f":"IF(Y69=0,0,(AD69*Y69)+AD69)","v":3.2454545454545456},{"$f":"IF(AA69=0,0,(AE69*AA69)+AE69)","v":5.5172727272727276},{"$f":"SUM(AB69:AH69)-7","v":13.207272727272731},"Andy Clucas"]
[null,null,{"$f":"Picks!B70","v":"Everton"},{"$f":"Picks!C70","v":"6/4"},{"$f":"Picks!D70","v":2.5},1,{"$f":"Picks!M70","v":0},0,"",null,null,null,null,null,null,null,null,null,null,null,null,null,null,1.5]
[null,{"$f":"$V25","v":"Gerard Ventom"},{"$f":"Picks!B71","v":"Burnley"},{"$f":"Picks!C71","v":"31/20"},{"$f":"Picks!D71","v":2.5499999999999998},1,{"$f":"Picks!M71","v":1},1.5499999999999998,"",null,null,null,null,null,null,null,null,null,null,null,null,null,null,1.5499999999999998]
[null,null,{"$f":"Picks!B72","v":"Huddersfield"},{"$f":"Picks!C72","v":"9/5"},{"$f":"Picks!D72","v":2.8},1,{"$f":"Picks!M72","v":0},0,"",null,null,null,null,null,null,null,null,null,null,null,null,null,null,1.7999999999999998]
[null,null,{"$f":"Picks!B73","v":"Barnsley"},{"$f":"Picks!C73","v":"27/10"},{"$f":"Picks!D73","v":3.7},1,{"$f":"Picks!M73","v":0},0,"",null,null,null,null,null,null,null,null,null,null,null,null,null,null,2.7]
[null,{"$f":"$V26","v":"Graeme Holmes"},{"$f":"Picks!B74","v":"Derby"},{"$f":"Picks!C74","v":"23/20"},{"$f":"Picks!D74","v":2.15},1,{"$f":"Picks!M74","v":0},0,"",null,null,null,null,null,null,null,null,null,null,null,null,null,null,1.1499999999999999]
[null,null,{"$f":"Picks!B75","v":"Middlesbro"},{"$f":"Picks!C75","v":"13/10"},{"$f":"Picks!D75","v":2.2999999999999998},1,{"$f":"Picks!M75","v":0},0,"",null,null,null,null,null,null,null,null,null,null,null,null,null,null,1.2999999999999998]
[null,null,{"$f":"Picks!B76","v":"Leicester"},{"$f":"Picks!C76","v":"13/10"},{"$f":"Picks!D76","v":2.2999999999999998},1,{"$f":"Picks!M76","v":0},0,"",null,null,null,null,null,null,null,null,null,null,null,null,null,null,1.2999999999999998]
[null,{"$f":"$V27","v":"Graham Miller"},{"$f":"Picks!B77","v":"Charlton"},{"$f":"Picks!C77","v":"21/10"},{"$f":"Picks!D77","v":3.1},1,{"$f":"Picks!M77","v":1},2.1,"",null,null,null,null,null,null,null,null,null,null,null,null,null,null,2.1]
[null,null,{"$f":"Picks!B78","v":"Fulham"},{"$f":"Picks!C78","v":"4/5"},{"$f":"Picks!D78","v":1.8},1,{"$f":"Picks!M78","v":1},0.8,"",null,null,null,null,null,null,null,null,null,null,null,null,null,null,0.8]
[null,null,{"$f":"Picks!B79","v":"Middlesbro"},{"$f":"Picks!C79","v":"13/10"},{"$f":"Picks!D79","v":2.2999999999999998},1,{"$f":"Picks!M79","v":0},0,"",null,null,null,null,null,null,null,null,null,null,null,null,null,null,1.2999999999999998]
[null,{"$f":"$V28","v":"Howard Bradley"},{"$f":"Picks!B80","v":"West Brom"},{"$f":"Picks!C80","v":"7/10"},{"$f":"Picks!D80","v":1.7},1,{"$f":"Picks!M80","v":0},0,"",null,null,null,null,null,null,null,null,null,null,null,null,null,null,0.7]
[null,null,{"$f":"Picks!B81","v":"Portsmouth"},{"$f":"Picks!C81","v":"4/6"},{"$f":"Picks!D81","v":1.6666666666666665},1,{"$f":"Picks!M81","v":1},0.66666666666666652,"",null,null,null,null,null,null,null,null,null,null,null,null,null,null,0.66666666666666652]
[null,null,{"$f":"Picks!B82","v":"Sheff W"},{"$f":"Picks!C82","v":"21/20"},{"$f":"Picks!D82","v":2.0499999999999998},1,{"$f":"Picks!M82","v":1},1.0499999999999998,"",null,null,null,null,null,null,null,null,null,null,null,null,null,null,1.0499999999999998]
[null,{"$f":"$V29","v":"Ian Davies"},{"$f":"Picks!B83","v":"Burnley draw"},{"$f":"Picks!C83","v":"23/10"},{"$f":"Picks!D83","v":3.3},1,{"$f":"Picks!M83","v":0},0,"",null,null,null,null,null,null,null,null,null,null,null,null,null,null,2.2999999999999998]
[null,null,{"$f":"Picks!B84","v":"Leeds"},{"$f":"Picks!C84","v":"7/10"},{"$f":"Picks!D84","v":1.7},1,{"$f":"Picks!M84","v":0},0,"",null,null,null,null,null,null,null,null,null,null,null,null,null,null,0.7]
[null,null,{"$f":"Picks!B85","v":"Leicester draw"},{"$f":"Picks!C85","v":"26/11"},{"$f":"Picks!D85","v":3.3636363636363638},1,{"$f":"Picks!M85","v":1},2.3636363636363638,"",null,null,null,null,null,null,null,null,null,null,null,null,null,null,2.3636363636363638]
[null,{"$f":"$V30","v":"Jack Walsh"},{"$f":"Picks!B86","v":"QPR"},{"$f":"Picks!C86","v":"31/20"},{"$f":"Picks!D86","v":2.5499999999999998},1,{"$f":"Picks!M86","v":0},0,"",null,null,null,null,null,null,null,null,null,null,null,null,null,null,1.5499999999999998]
[null,null,{"$f":"Picks!B87","v":"Everton"},{"$f":"Picks!C87","v":"6/4"},{"$f":"Picks!D87","v":2.5},1,{"$f":"Picks!M87","v":0},0,"",null,null,null,null,null,null,null,null,null,null,null,null,null,null,1.5]
[null,null,{"$f":"Picks!B88","v":"Watford"},{"$f":"Picks!C88","v":"10/11"},{"$f":"Picks!D88","v":1.9090909090909092},1,{"$f":"Picks!M88","v":0},0,"",null,null,null,null,null,null,null,null,null,null,null,null,null,null,0.90909090909090917]
[null,{"$f":"$V31","v":"James Bell"},{"$f":"Picks!B89","v":"Newcastle"},{"$f":"Picks!C89","v":"77/19"},{"$f":"Picks!D89","v":5.0526315789473681},1,{"$f":"Picks!M89","v":0},0,"",null,null,null,null,null,null,null,null,null,null,null,null,null,null,4.0526315789473681]
[null,null,{"$f":"Picks!B90","v":"Grimsby"},{"$f":"Picks!C90","v":"23/10"},{"$f":"Picks!D90","v":3.3},1,{"$f":"Picks!M90","v":0},0,"",null,null,null,null,null,null,null,null,null,null,null,null,null,null,2.2999999999999998]
[null,null,{"$f":"Picks!B91","v":"Wigan"},{"$f":"Picks!C91","v":"27/10"},{"$f":"Picks!D91","v":3.7},1,{"$f":"Picks!M91","v":0},0,"",null,null,null,null,null,null,null,null,null,null,null,null,null,null,2.7]
[null,{"$f":"$V32","v":"Joel Bent"},{"$f":"Picks!B92","v":"Liverpool draw"},{"$f":"Picks!C92","v":"7/1"},{"$f":"Picks!D92","v":8},1,{"$f":"Picks!M92","v":0},{"$f":"+((E92-1)*G92*F92*A$2)","v":0},"",null,null,null,null,null,null,null,null,null,null,null,null,null,null,7]
[null,null,{"$f":"Picks!B93","v":"Carlisle"},{"$f":"Picks!C93","v":"11/4"},{"$f":"Picks!D93","v":3.75},1,{"$f":"Picks!M93","v":0},0,"",null,null,null,null,null,null,null,null,null,null,null,null,null,null,2.75]
[null,null,{"$f":"Picks!B94","v":"Derby"},{"$f":"Picks!C94","v":"23/20"},{"$f":"Picks!D94","v":2.15},1,{"$f":"Picks!M94","v":0},0,"",null,null,null,null,null,null,null,null,null,null,null,null,null,null,1.1499999999999999]
[null,{"$f":"$V33","v":"John Evans"},{"$f":"Picks!B95","v":"Wigan"},{"$f":"Picks!C95","v":"27/10"},{"$f":"Picks!D95","v":3.7},1,{"$f":"Picks!M95","v":0},0,"",null,null,null,null,null,null,null,null,null,null,null,null,null,null,2.7]
[null,null,{"$f":"Picks!B96","v":"QPR"},{"$f":"Picks!C96","v":"31/20"},{"$f":"Picks!D96","v":2.5499999999999998},1,{"$f":"Picks!M96","v":0},0,"",null,null,null,null,null,null,null,null,null,null,null,null,null,null,1.5499999999999998]
[null,null,{"$f":"Picks!B97","v":"Portsmouth"},{"$f":"Picks!C97","v":"4/6"},{"$f":"Picks!D97","v":1.6666666666666665},1,{"$f":"Picks!M97","v":1},0.66666666666666652,"",null,null,null,null,null,null,null,null,null,null,null,null,null,null,0.66666666666666652]
[null,{"$f":"$V34","v":"John Robinson"},{"$f":"Picks!B98","v":"West Ham draw"},{"$f":"Picks!C98","v":"5/1"},{"$f":"Picks!D98","v":6},1,{"$f":"Picks!M98","v":0},0,"",null,null,null,null,null,null,null,null,null,null,null,null,null,null,{"$f":"+((E98-1)*F98*A$2)","v":5}]
[null,null,{"$f":"Picks!B99","v":"Preston"},{"$f":"Picks!C99","v":"11/10"},{"$f":"Picks!D99","v":2.1},1,{"$f":"Picks!M99","v":1},1.1000000000000001,"",null,null,null,null,null,null,null,null,null,null,null,null,null,null,1.1000000000000001]
[null,null,{"$f":"Picks!B100","v":"Fleetwood"},{"$f":"Picks!C100","v":"10/11"},{"$f":"Picks!D100","v":1.9090909090909092},1,{"$f":"Picks!M100","v":1},0.90909090909090917,"",null,null,null,null,null,null,null,null,null,null,null,null,null,null,0.90909090909090917]
[null,{"$f":"$V35","v":"John Ronan"},{"$f":"Picks!B101","v":"Charlton"},{"$f":"Picks!C101","v":"21/10"},{"$f":"Picks!D101","v":3.1},1,{"$f":"Picks!M101","v":1},2.1,"",null,null,null,null,null,null,null,null,null,null,null,null,null,null,2.1]
[null,null,{"$f":"Picks!B102","v":"Gillingham"},{"$f":"Picks!C102","v":"13/8"},{"$f":"Picks!D102","v":2.625},1,{"$f":"Picks!M102","v":0},0,"",null,null,null,null,null,null,null,null,null,null,null,null,null,null,1.625]
[null,null,{"$f":"Picks!B103","v":"Southend"},{"$f":"Picks!C103","v":"13/8"},{"$f":"Picks!D103","v":2.625},1,{"$f":"Picks!M103","v":0},0,"",null,null,null,null,null,null,null,null,null,null,null,null,null,null,1.625]
[null,{"$f":"$V36","v":"Kei Lok Ma"},{"$f":"Picks!B104","v":"Burnley"},{"$f":"Picks!C104","v":"31/20"},{"$f":"Picks!D104","v":2.5499999999999998},1,{"$f":"Picks!M104","v":1},1.5499999999999998,"",null,null,null,null,null,null,null,null,null,null,null,null,null,null,1.5499999999999998]
[null,null,{"$f":"Picks!B105","v":"Palace draw"},{"$f":"Picks!C105","v":"23/10"},{"$f":"Picks!D105","v":3.3},1,{"$f":"Picks!M105","v":1},2.2999999999999998,"",null,null,null,null,null,null,null,null,null,null,null,null,null,null,2.2999999999999998]
[null,null,{"$f":"Picks!B106","v":"Leicester"},{"$f":"Picks!C106","v":"13/10"},{"$f":"Picks!D106","v":2.2999999999999998},1,{"$f":"Picks!M106","v":0},0,"",null,null,null,null,null,null,null,null,null,null,null,null,null,null,1.2999999999999998]
[null,{"$f":"$V37","v":"Kevin Carter"},{"$f":"Picks!B107","v":"Spurs draw"},{"$f":"Picks!C107","v":"24/5"},{"$f":"Picks!D107","v":5.8},1,{"$f":"Picks!M107","v":0},0,"",null,null,null,null,null,null,null,null,null,null,null,null,null,null,4.8]
[null,null,{"$f":"Picks!B108","v":"Watford draw"},{"$f":"Picks!C108","v":"12/5"},{"$f":"Picks!D108","v":3.4},1,{"$f":"Picks!M108","v":0},0,"",null,null,null,null,null,null,null,null,null,null,null,null,null,null,2.4]
[null,null,{"$f":"Picks!B109","v":"Newcastle draw"},{"$f":"Picks!C109","v":"29/10"},{"$f":"Picks!D109","v":3.9},1,{"$f":"Picks!M109","v":0},0,"",null,null,null,null,null,null,null,null,null,null,null,null,null,null,2.9]
[null,{"$f":"$V38","v":"Lennie Bow"},{"$f":"Picks!B110","v":"West Brom"},{"$f":"Picks!C110","v":"7/10"},{"$f":"Picks!D110","v":1.7},1,{"$f":"Picks!M110","v":0},0,"",null,null,null,null,null,null,null,null,null,null,null,null,null,null,0.7]
[null,null,{"$f":"Picks!B111","v":"MK Dons"},{"$f":"Picks!C111","v":"15/13"},{"$f":"Picks!D111","v":2.1538461538461537},1,{"$f":"Picks!M111","v":1},1.1538461538461537,"",null,null,null,null,null,null,null,null,null,null,null,null,null,null,1.1538461538461537]
[null,null,{"$f":"Picks!B112","v":"Mansfield"},{"$f":"Picks!C112","v":"7/10"},{"$f":"Picks!D112","v":1.7},1,{"$f":"Picks!M112","v":0},0,"",null,null,null,null,null,null,null,null,null,null,null,null,null,null,0.7]
[null,{"$f":"$V39","v":"Lewis Buckley"},{"$f":"Picks!B113","v":"Bournemouth"},{"$f":"Picks!C113","v":"10/11"},{"$f":"Picks!D113","v":1.9090909090909092},1,{"$f":"Picks!M113","v":0},0,"",null,null,null,null,null,null,null,null,null,null,null,null,null,null,0.90909090909090917]
[null,null,{"$f":"Picks!B114","v":"West Brom"},{"$f":"Picks!C114","v":"7/10"},{"$f":"Picks!D114","v":1.7},1,{"$f":"Picks!M114","v":0},0,"",null,null,null,null,null,null,null,null,null,null,null,null,null,null,0.7]
[null,null,{"$f":"Picks!B115","v":"Portsmouth"},{"$f":"Picks!C115","v":"4/6"},{"$f":"Picks!D115","v":1.6666666666666665},1,{"$f":"Picks!M115","v":1},0.66666666666666652,"",null,null,null,null,null,null,null,null,null,null,null,null,null,null,0.66666666666666652]
[null,{"$f":"$V40","v":"Liam Wah"},{"$f":"Picks!B116","v":"Palace draw"},{"$f":"Picks!C116","v":"23/10"},{"$f":"Picks!D116","v":3.3},1,{"$f":"Picks!M116","v":1},2.2999999999999998,"",null,null,null,null,null,null,null,null,null,null,null,null,null,null,2.2999999999999998]
[null,null,{"$f":"Picks!B117","v":"Rochdale"},{"$f":"Picks!C117","v":"13/8"},{"$f":"Picks!D117","v":2.625},1,{"$f":"Picks!M117","v":0},0,"",null,null,null,null,null,null,null,null,null,null,null,null,null,null,1.625]
[null,null,{"$f":"Picks!B118","v":"Man U draw"},{"$f":"Picks!C118","v":"32/13"},{"$f":"Picks!D118","v":3.4615384615384617},1,{"$f":"Picks!M118","v":0},0,"",null,null,null,null,null,null,null,null,null,null,null,null,null,null,2.4615384615384617]
[null,{"$f":"$V41","v":"Mal Stott"},{"$f":"Picks!B119","v":"Bristol r"},{"$f":"Picks!C119","v":"6/5"},{"$f":"Picks!D119","v":2.2000000000000002},1,{"$f":"Picks!M119","v":0},0,"",null,null,null,null,null,null,null,null,null,null,null,null,null,null,1.2000000000000002]
[null,null,{"$f":"Picks!B120","v":"Portsmouth"},{"$f":"Picks!C120","v":"4/6"},{"$f":"Picks!D120","v":1.6666666666666665},1,{"$f":"Picks!M120","v":1},0.66666666666666652,"",null,null,null,null,null,null,null,null,null,null,null,null,null,null,0.66666666666666652]
[null,null,{"$f":"Picks!B121","v":"Fulham"},{"$f":"Picks!C121","v":"4/5"},{"$f":"Picks!D121","v":1.8},1,{"$f":"Picks!M121","v":1},{"$f":"+((E121-1)*G121*F121*A$2)","v":0.8},"",null,null,null,null,null,null,null,null,null,null,null,null,null,null,0.8]
[null,{"$f":"$V42","v":"Mark Bunn"},{"$f":"Picks!B122","v":"Middlesbro"},{"$f":"Picks!C122","v":"13/10"},{"$f":"Picks!D122","v":2.2999999999999998},1,{"$f":"Picks!M122","v":0},0,"",null,null,null,null,null,null,null,null,null,null,null,null,null,null,1.2999999999999998]
[null,null,{"$f":"Picks!B123","v":"QPR"},{"$f":"Picks!C123","v":"31/20"},{"$f":"Picks!D123","v":2.5499999999999998},1,{"$f":"Picks!M123","v":0},0,"",null,null,null,null,null,null,null,null,null,null,null,null,null,null,1.5499999999999998]
[null,null,{"$f":"Picks!B124","v":"Oxford"},{"$f":"Picks!C124","v":"6/4"},{"$f":"Picks!D124","v":2.5},1,{"$f":"Picks!M124","v":1},1.5,"",null,null,null,null,null,null,null,null,null,null,null,null,null,null,1.5]
[null,{"$f":"$V43","v":"Mark Saunders"},{"$f":"Picks!B125","v":"Bournemouth"},{"$f":"Picks!C125","v":"10/11"},{"$f":"Picks!D125","v":1.9090909090909092},1,{"$f":"Picks!M125","v":0},0,"",null,null,null,null,null,null,null,null,null,null,null,null,null,null,0.90909090909090917]
[null,null,{"$f":"Picks!B126","v":"Fulham"},{"$f":"Picks!C126","v":"4/5"},{"$f":"Picks!D126","v":1.8},1,{"$f":"Picks!M126","v":1},0.8,"",null,null,null,null,null,null,null,null,null,null,null,null,null,null,0.8]
[null,null,{"$f":"Picks!B127","v":"Middlesbro"},{"$f":"Picks!C127","v":"13/10"},{"$f":"Picks!D127","v":2.2999999999999998},1,{"$f":"Picks!M127","v":0},0,"",null,null,null,null,null,null,null,null,null,null,null,null,null,null,1.2999999999999998]
[null,{"$f":"$V44","v":"Martin Molyneux"},{"$f":"Picks!B128","v":"Leicester"},{"$f":"Picks!C128","v":"13/10"},{"$f":"Picks!D128","v":2.2999999999999998},1,{"$f":"Picks!M128","v":0},0,{"$f":"IF(V128=\"\",\"\",V128)","v":""},null,null,null,null,null,null,null,null,null,null,null,null,null,null,1.2999999999999998]
[null,null,{"$f":"Picks!B129","v":"Derby"},{"$f":"Picks!C129","v":"23/20"},{"$f":"Picks!D129","v":2.15},1,{"$f":"Picks!M129","v":0},0,"",null,null,null,null,null,null,null,null,null,null,null,null,null,null,1.1499999999999999]
[null,null,{"$f":"Picks!B130","v":"Man U Draw"},{"$f":"Picks!C130","v":"32/13"},{"$f":"Picks!D130","v":3.4615384615384617},1,{"$f":"Picks!M130","v":0},0,"",null,null,null,null,null,null,null,null,null,null,null,null,null,null,2.4615384615384617]
[null,{"$f":"$V45","v":"Martin Tarbuck"},{"$f":"Picks!B131","v":"Walsall"},{"$f":"Picks!C131","v":"11/8"},{"$f":"Picks!D131","v":2.375},1,{"$f":"Picks!M131","v":0},0,"",null,null,null,null,null,null,null,null,null,null,null,null,null,null,{"$f":"+((E131-1)*F131*A$2)","v":1.375}]
[null,null,{"$f":"Picks!B132","v":"Plymouth"},{"$f":"Picks!C132","v":"23/20"},{"$f":"Picks!D132","v":2.15},1,{"$f":"Picks!M132","v":1},1.1499999999999999,"",null,null,null,null,null,null,null,null,null,null,null,null,null,null,1.1499999999999999]
[null,null,{"$f":"Picks!B133","v":"Man C"},{"$f":"Picks!C133","v":"1/4"},{"$f":"Picks!D133","v":1.25},1,{"$f":"Picks!M133","v":1},0.25,"",null,null,null,null,null,null,null,null,null,null,null,null,null,null,0.25]
[null,{"$f":"$V46","v":"Mike Penk"},{"$f":"Picks!B134","v":"Portsmouth"},{"$f":"Picks!C134","v":"4/6"},{"$f":"Picks!D134","v":1.6666666666666665},1,{"$f":"Picks!M134","v":1},0.66666666666666652,"",null,null,null,null,null,null,null,null,null,null,null,null,null,null,0.66666666666666652]
[null,null,{"$f":"Picks!B135","v":"Wigan"},{"$f":"Picks!C135","v":"27/10"},{"$f":"Picks!D135","v":3.7},1,{"$f":"Picks!M135","v":0},0,"",null,null,null,null,null,null,null,null,null,null,null,null,null,null,2.7]
[null,null,{"$f":"Picks!B136","v":"Charlton"},{"$f":"Picks!C136","v":"21/10"},{"$f":"Picks!D136","v":3.1},1,{"$f":"Picks!M136","v":1},2.1,"",null,null,null,null,null,null,null,null,null,null,null,null,null,null,2.1]
[null,{"$f":"$V47","v":"Mo Sudell"},{"$f":"Picks!B137","v":"Blackpool"},{"$f":"Picks!C137","v":"6/4"},{"$f":"Picks!D137","v":2.5},1,{"$f":"Picks!M137","v":1},1.5,"",null,null,null,null,null,null,null,null,null,null,null,null,null,null,1.5]
[null,null,{"$f":"Picks!B138","v":"West Brom"},{"$f":"Picks!C138","v":"7/10"},{"$f":"Picks!D138","v":1.7},1,{"$f":"Picks!M138","v":0},0,"",null,null,null,null,null,null,null,null,null,null,null,null,null,null,0.7]
[null,null,{"$f":"Picks!B139","v":"Leeds"},{"$f":"Picks!C139","v":"7/10"},{"$f":"Picks!D139","v":1.7},1,{"$f":"Picks!M139","v":0},0,"",null,null,null,null,null,null,null,null,null,null,null,null,null,null,0.7]
[null,{"$f":"$V48","v":"Nick Blocksidge"},{"$f":"Picks!B140","v":"Bournemouth"},{"$f":"Picks!C140","v":"10/11"},{"$f":"Picks!D140","v":1.9090909090909092},1,{"$f":"Picks!M140","v":0},0,"",null,null,null,null,null,null,null,null,null,null,null,null,null,null,0.90909090909090917]
[null,null,{"$f":"Picks!B141","v":"Burnley"},{"$f":"Picks!C141","v":"31/20"},{"$f":"Picks!D141","v":2.5499999999999998},1,{"$f":"Picks!M141","v":1},1.5499999999999998,"",null,null,null,null,null,null,null,null,null,null,null,null,null,null,1.5499999999999998]
[null,null,{"$f":"Picks!B142","v":"Derby"},{"$f":"Picks!C142","v":"23/20"},{"$f":"Picks!D142","v":2.15},1,{"$f":"Picks!M142","v":0},0,"",null,null,null,null,null,null,null,null,null,null,null,null,null,null,1.1499999999999999]
[null,{"$f":"$V49","v":"Nigel Heyes"},{"$f":"Picks!B143","v":"Cardiff"},{"$f":"Picks!C143","v":"78/100"},{"$f":"Picks!D143","v":1.78},1,{"$f":"Picks!M143","v":1},0.78,"",null,null,null,null,null,null,null,null,null,null,null,null,null,null,0.78]
[null,null,{"$f":"Picks!B144","v":"Middlesbro"},{"$f":"Picks!C144","v":"13/10"},{"$f":"Picks!D144","v":2.2999999999999998},1,{"$f":"Picks!M144","v":0},0,"",null,null,null,null,null,null,null,null,null,null,null,null,null,null,1.2999999999999998]
[null,null,{"$f":"Picks!B145","v":"Wigan"},{"$f":"Picks!C145","v":"27/10"},{"$f":"Picks!D145","v":3.7},1,{"$f":"Picks!M145","v":0},0,"",null,null,null,null,null,null,null,null,null,null,null,null,null,null,2.7]
[null,{"$f":"$V50","v":"Oscar Jackson"},{"$f":"Picks!B146","v":"Reading"},{"$f":"Picks!C146","v":"27/10"},{"$f":"Picks!D146","v":3.7},1,{"$f":"Picks!M146","v":0},0,"",null,null,null,null,null,null,null,null,null,null,null,null,null,null,2.7]
[null,null,{"$f":"Picks!B147","v":"Salford"},{"$f":"Picks!C147","v":"5/4"},{"$f":"Picks!D147","v":2.25},1,{"$f":"Picks!M147","v":0},0,"",null,null,null,null,null,null,null,null,null,null,null,null,null,null,1.25]
[null,null,{"$f":"Picks!B148","v":"Mansfield"},{"$f":"Picks!C148","v":"7/10"},{"$f":"Picks!D148","v":1.7},1,{"$f":"Picks!M148","v":0},0,"",null,null,null,null,null,null,null,null,null,null,null,null,null,null,0.7]
[null,{"$f":"$V51","v":"Paul Adderley"},{"$f":"Picks!B149","v":"Bournemouth"},{"$f":"Picks!C149","v":"10/11"},{"$f":"Picks!D149","v":1.9090909090909092},1,{"$f":"Picks!M149","v":0},0,"",null,null,null,null,null,null,null,null,null,null,null,null,null,null,0.90909090909090917]
[null,null,{"$f":"Picks!B150","v":"Burnley"},{"$f":"Picks!C150","v":"31/20"},{"$f":"Picks!D150","v":2.5499999999999998},1,{"$f":"Picks!M150","v":1},1.5499999999999998,"",null,null,null,null,null,null,null,null,null,null,null,null,null,null,1.5499999999999998]
[null,null,{"$f":"Picks!B151","v":"Watford"},{"$f":"Picks!C151","v":"10/11"},{"$f":"Picks!D151","v":1.9090909090909092},1,{"$f":"Picks!M151","v":0},0,"",null,null,null,null,null,null,null,null,null,null,null,null,null,null,0.90909090909090917]
[null,{"$f":"$V52","v":"Paul Allen"},{"$f":"Picks!B152","v":"Bournemouth"},{"$f":"Picks!C152","v":"10/11"},{"$f":"Picks!D152","v":1.9090909090909092},1,{"$f":"Picks!M152","v":0},0,"",null,null,null,null,null,null,null,null,null,null,null,null,null,null,0.90909090909090917]
[null,null,{"$f":"Picks!B153","v":"Watford"},{"$f":"Picks!C153","v":"10/11"},{"$f":"Picks!D153","v":1.9090909090909092},1,{"$f":"Picks!M153","v":0},{"$f":"+((E153-1)*G153*F153*A$2)","v":0},"",null,null,null,null,null,null,null,null,null,null,null,null,null,null,0.90909090909090917]
[null,null,{"$f":"Picks!B154","v":"Cardiff"},{"$f":"Picks!C154","v":"78/100"},{"$f":"Picks!D154","v":1.78},1,{"$f":"Picks!M154","v":1},0.78,"",null,null,null,null,null,null,null,null,null,null,null,null,null,null,0.78]
[null,{"$f":"$V53","v":"Paul Barnes"},{"$f":"Picks!B155","v":""},{"$f":"Picks!C155","v":""},{"$f":"Picks!D155","v":""},1,{"$f":"Picks!M155","v":{"$error":"#N/A"}},{"$error":"#VALUE!"},"",null,null,null,null,null,null,null,null,null,null,null,null,null,null,{"$error":"#VALUE!"}]
[null,null,{"$f":"Picks!B156","v":""},{"$f":"Picks!C156","v":""},{"$f":"Picks!D156","v":""},1,{"$f":"Picks!M156","v":{"$error":"#N/A"}},{"$error":"#VALUE!"},"",null,null,null,null,null,null,null,null,null,null,null,null,null,null,{"$error":"#VALUE!"}]
[null,null,{"$f":"Picks!B157","v":""},{"$f":"Picks!C157","v":""},{"$f":"Picks!D157","v":""},1,{"$f":"Picks!M157","v":{"$error":"#N/A"}},{"$error":"#VALUE!"},"",null,null,null,null,null,null,null,null,null,null,null,null,null,null,{"$error":"#VALUE!"}]
[null,{"$f":"$V54","v":"Paul Fairhurst"},{"$f":"Picks!B158","v":"Cardiff"},{"$f":"Picks!C158","v":"78/100"},{"$f":"Picks!D158","v":1.78},1,{"$f":"Picks!M158","v":1},0.78,"",null,null,null,null,null,null,null,null,null,null,null,null,null,null,0.78]
[null,null,{"$f":"Picks!B159","v":"Ipswich draw"},{"$f":"Picks!C159","v":"23/10"},{"$f":"Picks!D159","v":3.3},1,{"$f":"Picks!M159","v":1},2.2999999999999998,"",null,null,null,null,null,null,null,null,null,null,null,null,null,null,2.2999999999999998]
[null,null,{"$f":"Picks!B160","v":"Bradford"},{"$f":"Picks!C160","v":"6/5"},{"$f":"Picks!D160","v":2.2000000000000002},1,{"$f":"Picks!M160","v":0},0,"",null,null,null,null,null,null,null,null,null,null,null,null,null,null,1.2000000000000002]
[null,{"$f":"$V55","v":"Paul Fiddler"},{"$f":"Picks!B161","v":"Sheff W"},{"$f":"Picks!C161","v":"21/20"},{"$f":"Picks!D161","v":2.0499999999999998},1,{"$f":"Picks!M161","v":1},1.0499999999999998,"",null,null,null,null,null,null,null,null,null,null,null,null,null,null,1.0499999999999998]
[null,null,{"$f":"Picks!B162","v":"Derby"},{"$f":"Picks!C162","v":"23/20"},{"$f":"Picks!D162","v":2.15},1,{"$f":"Picks!M162","v":0},0,"",null,null,null,null,null,null,null,null,null,null,null,null,null,null,1.1499999999999999]
[null,null,{"$f":"Picks!B163","v":"Wigan"},{"$f":"Picks!C163","v":"27/10"},{"$f":"Picks!D163","v":3.7},1,{"$f":"Picks!M163","v":0},0,"",null,null,null,null,null,null,null,null,null,null,null,null,null,null,2.7]
[null,{"$f":"$V56","v":"Paul Ridgeway"},{"$f":"Picks!B164","v":"Derby"},{"$f":"Picks!C164","v":"23/20"},{"$f":"Picks!D164","v":2.15},1,{"$f":"Picks!M164","v":0},0,"",null,null,null,null,null,null,null,null,null,null,null,null,null,null,1.1499999999999999]
[null,null,{"$f":"Picks!B165","v":"Fulham"},{"$f":"Picks!C165","v":"4/5"},{"$f":"Picks!D165","v":1.8},1,{"$f":"Picks!M165","v":1},0.8,"",null,null,null,null,null,null,null,null,null,null,null,null,null,null,0.8]
[null,null,{"$f":"Picks!B166","v":"Hull"},{"$f":"Picks!C166","v":"21/20"},{"$f":"Picks!D166","v":2.0499999999999998},1,{"$f":"Picks!M166","v":1},1.0499999999999998,"",null,null,null,null,null,null,null,null,null,null,null,null,null,null,1.0499999999999998]
[null,{"$f":"$V57","v":"Pete Baron"},{"$f":"Picks!B167","v":""},{"$f":"Picks!C167","v":""},{"$f":"Picks!D167","v":""},1,{"$f":"Picks!M167","v":{"$error":"#N/A"}},{"$error":"#VALUE!"},"",null,null,null,null,null,null,null,null,null,null,null,null,null,null,{"$error":"#VALUE!"}]
[null,null,{"$f":"Picks!B168","v":""},{"$f":"Picks!C168","v":""},{"$f":"Picks!D168","v":""},1,{"$f":"Picks!M168","v":{"$error":"#N/A"}},{"$error":"#VALUE!"},"",null,null,null,null,null,null,null,null,null,null,null,null,null,null,{"$error":"#VALUE!"}]
[null,null,{"$f":"Picks!B169","v":""},{"$f":"Picks!C169","v":""},{"$f":"Picks!D169","v":""},1,{"$f":"Picks!M169","v":{"$error":"#N/A"}},{"$error":"#VALUE!"},"",null,null,null,null,null,null,null,null,null,null,null,null,null,null,{"$error":"#VALUE!"}]
[null,{"$f":"$V58","v":"Phil Miller"},{"$f":"Picks!B170","v":"Bristol C"},{"$f":"Picks!C170","v":"21/10"},{"$f":"Picks!D170","v":3.1},1,{"$f":"Picks!M170","v":0},0,"",null,null,null,null,null,null,null,null,null,null,null,null,null,null,2.1]
[null,null,{"$f":"Picks!B171","v":"Man C"},{"$f":"Picks!C171","v":"1/4"},{"$f":"Picks!D171","v":1.25},1,{"$f":"Picks!M171","v":1},0.25,"",null,null,null,null,null,null,null,null,null,null,null,null,null,null,0.25]
[null,null,{"$f":"Picks!B172","v":"Fulham"},{"$f":"Picks!C172","v":"4/5"},{"$f":"Picks!D172","v":1.8},1,{"$f":"Picks!M172","v":1},0.8,"",null,null,null,null,null,null,null,null,null,null,null,null,null,null,0.8]
[null,{"$f":"$V59","v":"Rob England"},{"$f":"Picks!B173","v":"Liverpool"},{"$f":"Picks!C173","v":"1/7"},{"$f":"Picks!D173","v":1.1428571428571428},1,{"$f":"Picks!M173","v":1},0.14285714285714279,"",null,null,null,null,null,null,null,null,null,null,null,null,null,null,0.14285714285714279]
[null,null,{"$f":"Picks!B174","v":"Wycombe"},{"$f":"Picks!C174","v":"21/10"},{"$f":"Picks!D174","v":3.1},1,{"$f":"Picks!M174","v":0},0,"",null,null,null,null,null,null,null,null,null,null,null,null,null,null,2.1]
[null,null,{"$f":"Picks!B175","v":"Grimsby"},{"$f":"Picks!C175","v":"23/10"},{"$f":"Picks!D175","v":3.3},1,{"$f":"Picks!M175","v":0},0,"",null,null,null,null,null,null,null,null,null,null,null,null,null,null,2.2999999999999998]
[null,{"$f":"$V60","v":"Sally Williams"},{"$f":"Picks!B176","v":"Charlton draw"},{"$f":"Picks!C176","v":"12/5"},{"$f":"Picks!D176","v":3.4},1,{"$f":"Picks!M176","v":0},0,"",null,null,null,null,null,null,null,null,null,null,null,null,null,null,2.4]
[null,null,{"$f":"Picks!B177","v":"Preston draw"},{"$f":"Picks!C177","v":"23/10"},{"$f":"Picks!D177","v":3.3},1,{"$f":"Picks!M177","v":0},0,"",null,null,null,null,null,null,null,null,null,null,null,null,null,null,2.2999999999999998]
[null,null,{"$f":"Picks!B178","v":"QPR draw"},{"$f":"Picks!C178","v":"23/10"},{"$f":"Picks!D178","v":3.3},1,{"$f":"Picks!M178","v":1},2.2999999999999998,"",null,null,null,null,null,null,null,null,null,null,null,null,null,null,2.2999999999999998]
[null,{"$f":"$V61","v":"Simon Greenhalgh"},{"$f":"Picks!B179","v":"Oxford"},{"$f":"Picks!C179","v":"6/4"},{"$f":"Picks!D179","v":2.5},1,{"$f":"Picks!M179","v":1},1.5,"",null,null,null,null,null,null,null,null,null,null,null,null,null,null,1.5]
[null,null,{"$f":"Picks!B180","v":"Rochdale"},{"$f":"Picks!C180","v":"13/8"},{"$f":"Picks!D180","v":2.625},1,{"$f":"Picks!M180","v":0},0,"",null,null,null,null,null,null,null,null,null,null,null,null,null,null,1.625]
[null,null,{"$f":"Picks!B181","v":"Walsall"},{"$f":"Picks!C181","v":"11/8"},{"$f":"Picks!D181","v":2.375},1,{"$f":"Picks!M181","v":0},0,"",null,null,null,null,null,null,null,null,null,null,null,null,null,null,1.375]
[null,{"$f":"$V62","v":"Ste Bentley"},{"$f":"Picks!B182","v":""},{"$f":"Picks!C182","v":""},{"$f":"Picks!D182","v":""},1,{"$f":"Picks!M182","v":{"$error":"#N/A"}},{"$error":"#VALUE!"},"",null,null,null,null,null,null,null,null,null,null,null,null,null,null,{"$error":"#VALUE!"}]
[null,null,{"$f":"Picks!B183","v":""},{"$f":"Picks!C183","v":""},{"$f":"Picks!D183","v":""},1,{"$f":"Picks!M183","v":{"$error":"#N/A"}},{"$error":"#VALUE!"},"",null,null,null,null,null,null,null,null,null,null,null,null,null,null,{"$error":"#VALUE!"}]
[null,null,{"$f":"Picks!B184","v":""},{"$f":"Picks!C184","v":""},{"$f":"Picks!D184","v":""},1,{"$f":"Picks!M184","v":{"$error":"#N/A"}},{"$error":"#VALUE!"},"",null,null,null,null,null,null,null,null,null,null,null,null,null,null,{"$error":"#VALUE!"}]
[null,{"$f":"$V63","v":"Stephen Barr"},{"$f":"Picks!B185","v":"Arsenal"},{"$f":"Picks!C185","v":"9/11"},{"$f":"Picks!D185","v":1.8181818181818183},1,{"$f":"Picks!M185","v":1},{"$f":"+((E185-1)*G185*F185*A$2)","v":0.81818181818181834},"",null,null,null,null,null,null,null,null,null,null,null,null,null,null,0.81818181818181834]
[null,null,{"$f":"Picks!B186","v":"Cardiff"},{"$f":"Picks!C186","v":"78/100"},{"$f":"Picks!D186","v":1.78},1,{"$f":"Picks!M186","v":1},0.78,"",null,null,null,null,null,null,null,null,null,null,null,null,null,null,0.78]
[null,null,{"$f":"Picks!B187","v":"Sheff w"},{"$f":"Picks!C187","v":"21/20"},{"$f":"Picks!D187","v":2.0499999999999998},1,{"$f":"Picks!M187","v":1},1.0499999999999998,"",null,null,null,null,null,null,null,null,null,null,null,null,null,null,1.0499999999999998]
[null,{"$f":"$V64","v":"Stephen Troop"},{"$f":"Picks!B188","v":"Derby"},{"$f":"Picks!C188","v":"23/20"},{"$f":"Picks!D188","v":2.15},1,{"$f":"Picks!M188","v":0},0,"",null,null,null,null,null,null,null,null,null,null,null,null,null,null,1.1499999999999999]
[null,null,{"$f":"Picks!B189","v":"Bristol R"},{"$f":"Picks!C189","v":"6/5"},{"$f":"Picks!D189","v":2.2000000000000002},1,{"$f":"Picks!M189","v":0},0,"",null,null,null,null,null,null,null,null,null,null,null,null,null,null,1.2000000000000002]
[null,null,{"$f":"Picks!B190","v":"Leeds"},{"$f":"Picks!C190","v":"7/10"},{"$f":"Picks!D190","v":1.7},1,{"$f":"Picks!M190","v":0},0,"",null,null,null,null,null,null,null,null,null,null,null,null,null,null,0.7]
[null,{"$f":"$V65","v":"Steve Baxter"},{"$f":"Picks!B191","v":"Liverpool"},{"$f":"Picks!C191","v":"1/7"},{"$f":"Picks!D191","v":1.1428571428571428},1,{"$f":"Picks!M191","v":1},0.14285714285714279,"",null,null,null,null,null,null,null,null,null,null,null,null,null,null,0.14285714285714279]
[null,null,{"$f":"Picks!B192","v":"Man U"},{"$f":"Picks!C192","v":"5/4"},{"$f":"Picks!D192","v":2.25},1,{"$f":"Picks!M192","v":1},1.25,{"$f":"IF(V192=\"\",\"\",V192)","v":""},null,null,null,null,null,null,null,null,null,null,null,null,null,null,1.25]
[null,null,{"$f":"Picks!B193","v":"Spurs"},{"$f":"Picks!C193","v":"27/100"},{"$f":"Picks!D193","v":1.27},1,{"$f":"Picks!M193","v":1},0.27,"",null,null,null,null,null,null,null,null,null,null,null,null,null,null,0.27]
[null,{"$f":"$V66","v":"Steve Carter"},{"$f":"Picks!B194","v":"Everton"},{"$f":"Picks!C194","v":"6/4"},{"$f":"Picks!D194","v":2.5},1,{"$f":"Picks!M194","v":0},0,"",null,null,null,null,null,null,null,null,null,null,null,null,null,null,1.5]
[null,null,{"$f":"Picks!B195","v":"Arsenal"},{"$f":"Picks!C195","v":"9/11"},{"$f":"Picks!D195","v":1.8181818181818183},1,{"$f":"Picks!M195","v":1},0.81818181818181834,"",null,null,null,null,null,null,null,null,null,null,null,null,null,null,{"$f":"+((E195-1)*F195*A$2)","v":0.81818181818181834}]
[null,null,{"$f":"Picks!B196","v":"Man U draw"},{"$f":"Picks!C196","v":"32/13"},{"$f":"Picks!D196","v":3.4615384615384617},1,{"$f":"Picks!M196","v":0},0,"",null,null,null,null,null,null,null,null,null,null,null,null,null,null,{"$f":"+((E196-1)*F196*A$2)","v":2.4615384615384617}]
[null,{"$f":"$V67","v":"Tom Robinson"},{"$f":"Picks!B197","v":"Cardiff"},{"$f":"Picks!C197","v":"78/100"},{"$f":"Picks!D197","v":1.78},1,{"$f":"Picks!M197","v":1},{"$f":"+((E197-1)*G197*F197*A$2)","v":0.78},"",null,null,null,null,null,null,null,null,null,null,null,null,null,null,{"$f":"+((E197-1)*F197*A$2)","v":0.78}]
[null,null,{"$f":"Picks!B198","v":"Stoke"},{"$f":"Picks!C198","v":"13/10"},{"$f":"Picks!D198","v":2.2999999999999998},1,{"$f":"Picks!M198","v":0},0,"",null,null,null,null,null,null,null,null,null,null,null,null,null,null,1.2999999999999998]
[null,null,{"$f":"Picks!B199","v":"Rochdale draw"},{"$f":"Picks!C199","v":"23/10"},{"$f":"Picks!D199","v":3.3},1,{"$f":"Picks!M199","v":1},2.2999999999999998,"",null,null,null,null,null,null,null,null,null,null,null,null,null,null,2.2999999999999998,"`"]
[null,{"$f":"$V68","v":"Vinny Topping"},{"$f":"Picks!B200","v":"Birmingham"},{"$f":"Picks!C200","v":"27/20"},{"$f":"Picks!D200","v":2.35},1,{"$f":"Picks!M200","v":0},0,null,null,null,null,null,null,null,null,null,null,null,null,null,null,null,1.35]
[null,null,{"$f":"Picks!B201","v":"Fulham"},{"$f":"Picks!C201","v":"4/5"},{"$f":"Picks!D201","v":1.8},1,{"$f":"Picks!M201","v":1},0.8,null,null,null,null,null,null,null,null,null,null,null,null,null,null,null,0.8]
[null,null,{"$f":"Picks!B202","v":"Oldham"},{"$f":"Picks!C202","v":"7/5"},{"$f":"Picks!D202","v":2.4},1,{"$f":"Picks!M202","v":0},0,null,null,null,null,null,null,null,null,null,null,null,null,null,null,null,1.4]
[null,{"$f":"$V69","v":"Andy Clucas"},{"$f":"Picks!B203","v":"Bournemouth"},{"$f":"Picks!C203","v":"10/11"},{"$f":"Picks!D203","v":1.9090909090909092},1,{"$f":"Picks!M203","v":0},{"$f":"+((E203-1)*G203*F203*A$2)","v":0},null,null,null,null,null,null,null,null,null,null,null,null,null,null,null,0.90909090909090917]
[null,null,{"$f":"Picks!B204","v":"Leeds"},{"$f":"Picks!C204","v":"7/10"},{"$f":"Picks!D204","v":1.7},1,{"$f":"Picks!M204","v":0},0,null,null,null,null,null,null,null,null,null,null,null,null,null,null,null,0.7]
[null,null,{"$f":"Picks!B205","v":"West Brom"},{"$f":"Picks!C205","v":"7/10"},{"$f":"Picks!D205","v":1.7},1,{"$f":"Picks!M205","v":0},0,null,null,null,null,null,null,null,null,null,null,null,null,null,null,null,0.7]

{"sheet":"3of3","index":8,"n_rows":9,"n_cols":2,"rows_kept":9,"cut":false,"hidden":false,"merged":[]}
["Menu!A1"]
[]
["Count of Player"]
["Week\nCorrect","Total"]
[3,3]
[2,14]
[1,31]
[0,20]
["Grand Total",68]

{"sheet":"TopPicks","index":9,"n_rows":75,"n_cols":11,"rows_kept":75,"cut":false,"hidden":false,"merged":[]}
[]
["Count of Points","Bet up "]
["Week 1",0,1,"#N/A","Grand Total",null,null,null,"Prediction","Down (0)","Up (1)"]
["Barnsley",2,null,null,2,null,null,null,"Portsmouth",null,6]
["Blackpool",null,1,null,1,null,null,null,"Cardiff",null,6]
["Bournemouth",8,null,null,8,null,null,null,"Fleetwood",null,5]
["Bradford",1,null,null,1,null,null,null,"Fulham",null,5]
["Burnley",null,4,null,4,null,null,null,"Burnley",null,4]
["Burnley draw",2,null,null,2,null,null,null,"Liverpool",null,4]
["Carlisle",1,null,null,1,null,null,null,"Sheff W",null,4]
["Charlton",null,3,null,3,null,null,null,"Arsenal",null,4]
["Chelsea",1,null,null,1,null,null,null,"Charlton",null,3]
["Everton",6,null,null,6,null,null,null,"Plymouth",null,3]
["Fleetwood",null,5,null,5,null,null,null,"Spurs",null,3]
["Fulham",null,5,null,5,null,null,null,"Man C",null,2]
["Hull",null,1,null,1,null,null,null,"Oxford",null,2]
["Ipswich draw",null,1,null,1,null,null,null,"Palace draw",null,2]
["Leeds",7,null,null,7,null,null,null,"Leicester Draw",null,2]
["Leicester",3,null,null,3,null,null,null,"Blackpool",null,1]
["Liverpool",null,4,null,4,null,null,null,"Hull",null,1]
["Man C",null,2,null,2,null,null,null,"Ipswich draw",null,1]
["Man U",null,1,null,1,null,null,null,"Man U",null,1]
["Middlesbro",6,null,null,6,null,null,null,"MK Dons",null,1]
["MK Dons",null,1,null,1,null,null,null,"Preston",null,1]
["Newcastle",1,null,null,1,null,null,null,"Crewe",null,1]
["Norwich",1,null,null,1,null,null,null,"Cheltenham",null,1]
["Oxford",null,2,null,2,null,null,null,"QPR draw",null,1]
["Portsmouth",null,6,null,6,null,null,null,"Grimsby draw",null,1]
["Preston",null,1,null,1,null,null,null,"Watford",11]
["Preston draw",1,null,null,1,null,null,null,"Derby",9]
["Sheff W",null,4,null,4,null,null,null,"Bournemouth",8]
["Southend",1,null,null,1,null,null,null,"Leeds",7]
["Stoke",1,null,null,1,null,null,null,"Everton",6]
["Swansea",1,null,null,1,null,null,null,"Middlesbro",6]
["Villa",1,null,null,1,null,null,null,"West Brom",6]
["Watford",11,null,null,11,null,null,null,"Wigan",5]
["Watford draw",1,null,null,1,null,null,null,"Man U draw",4]
["West Brom",6,null,null,6,null,null,null,"Leicester",3]
["West Ham",1,null,null,1,null,null,null,"Walsall",3]
["West Ham draw",2,null,null,2,null,null,null,"QPR",3]
["Wigan",5,null,null,5,null,null,null,"Salford",3]
["(blank)",null,null,12,12,null,null,null,"Birmingham",3]
["Walsall",3,null,null,3,null,null,null,"Barnsley",2]
["Grimsby",2,null,null,2,null,null,null,"Burnley draw",2]
["QPR",3,null,null,3,null,null,null,"West Ham draw",2]
["Sheff U",1,null,null,1,null,null,null,"Grimsby",2]
["Crewe",null,1,null,1,null,null,null,"Rochdale",2]
["Plymouth",null,3,null,3,null,null,null,"Mansfield",2]
["Salford",3,null,null,3,null,null,null,"Bristol r",2]
["Rochdale",2,null,null,2,null,null,null,"Wycombe",2]
["Mansfield",2,null,null,2,null,null,null,"Liverpool draw",2]
["Gillingham",1,null,null,1,null,null,null,"Reading",2]
["Bristol r",2,null,null,2,null,null,null,"Bradford",1]
["Cheltenham",null,1,null,1,null,null,null,"Carlisle",1]
["Cardiff",null,6,null,6,null,null,null,"Chelsea",1]
["Spurs",null,3,null,3,null,null,null,"Newcastle",1]
["Wycombe",2,null,null,2,null,null,null,"Norwich",1]
["Liverpool draw",2,null,null,2,null,null,null,"Preston draw",1]
["Derby",9,null,null,9,null,null,null,"Southend",1]
["Man U draw",4,null,null,4,null,null,null,"Stoke",1]
["Southampton",1,null,null,1,null,null,null,"Swansea",1]
["Huddersfield",1,null,null,1,null,null,null,"Villa",1]
["Birmingham",3,null,null,3,null,null,null,"Watford draw",1]
["Arsenal",null,4,null,4,null,null,null,"West Ham",1]
["Bristol C",1,null,null,1,null,null,null,"Sheff U",1]
["Newcastle draw",1,null,null,1,null,null,null,"Gillingham",1]
["Charlton draw",1,null,null,1,null,null,null,"Southampton",1]
["Palace draw",null,2,null,2,null,null,null,"Huddersfield",1]
["Reading",2,null,null,2,null,null,null,"Bristol C",1]
["QPR draw",null,1,null,1,null,null,null,"Newcastle draw",1]
["Grimsby draw",null,1,null,1,null,null,null,"Charlton draw",1]
["Leicester Draw",null,2,null,2,null,null,null,"Orient",1]
["Orient",1,null,null,1,null,null,null,"Spurs draw",1]
["Spurs draw",1,null,null,1,null,null,null,"(blank)"]
["Grand Total",118,65,12,195]

{"sheet":"CupDraw","index":10,"n_rows":93,"n_cols":29,"rows_kept":93,"cut":false,"hidden":false,"merged":[[86,6,87,6],[90,6,91,6],[1,12,2,12],[85,24,86,24],[84,12,85,12],[88,12,89,12],[69,24,70,24],[76,12,77,12],[80,12,81,12]]}
["Number of Entrants",68,null,"Draw #","Entrants",null,"Prelim","2019-08-17",null,null,"Score",null,"R1 (64)","2019-09-07",null,null,"Score",null,"R2 (32)","2019-09-21",null,null,"Score",null,"R3 (16)","2019-10-12",null,null,"Score"]
["Number of rounds (7 if > 64 total)",7,null,1,"Pete Baron",null,1,"Pete Baron",null,{"$f":"IF(I2=\"\",\"\",IF(I2=I3,\"R\",\"\"))","v":""},{"$f":"INDEX(Results!T:T,MATCH(H2,Results!V:V,0))","v":{"$error":"#VALUE!"}},null,1,null,null,{"$f":"IF(O2=\"\",\"\",IF(O2=O3,\"R\",\"\"))","v":""},{"$f":"INDEX(Results!T:T,MATCH(N2,Results!V:V,0))","v":{"$error":"#N/A"}},null,1,{"$f":"IF(O2=O3,\"Await earlier tie\",IF(O2<O3,N3,N2))","v":"Await earlier tie"},null,{"$f":"IF(U2=\"\",\"\",IF(U2=U3,\"R\",\"\"))","v":""},{"$f":"INDEX(Results!T:T,MATCH(T2,Results!V:V,0))","v":{"$error":"#N/A"}},null,1,{"$f":"IF(U2=U3,\"Await earlier tie\",IF(U2<U3,T3,T2))","v":"Await earlier tie"},null,{"$f":"IF(AA2=\"\",\"\",IF(AA2=AA3,\"R\",\"\"))","v":""},{"$f":"INDEX(Results!T:T,MATCH(Z2,Results!V:V,0))","v":{"$error":"#N/A"}}]
[null,null,null,2,"Chris Townsend",null,null,"Chris Townsend",null,null,{"$f":"INDEX(Results!T:T,MATCH(H3,Results!V:V,0))","v":-7},null,null,null,null,null,{"$f":"INDEX(Results!T:T,MATCH(N3,Results!V:V,0))","v":{"$error":"#N/A"}},null,null,{"$f":"IF(O4=O5,\"Await earlier tie\",IF(O4<O5,N5,N4))","v":"Await earlier tie"},null,null,{"$f":"INDEX(Results!T:T,MATCH(T3,Results!V:V,0))","v":{"$error":"#N/A"}},null,null,{"$f":"IF(U4=U5,\"Await earlier tie\",IF(U4<U5,T5,T4))","v":"Await earlier tie"},null,null,{"$f":"INDEX(Results!T:T,MATCH(Z3,Results!V:V,0))","v":{"$error":"#N/A"}}]
["Byes into round 1",{"$f":"(POWER(2,B2)-B1)","v":60},null,3,"Alick Rocca",null,2,"Alick Rocca",null,{"$f":"IF(I4=\"\",\"\",IF(I4=I5,\"R\",\"\"))","v":""},{"$f":"INDEX(Results!T:T,MATCH(H4,Results!V:V,0))","v":1.163636363636364},null,2,null,null,{"$f":"IF(O4=\"\",\"\",IF(O4=O5,\"R\",\"\"))","v":""},{"$f":"INDEX(Results!T:T,MATCH(N4,Results!V:V,0))","v":{"$error":"#N/A"}},null,2,{"$f":"IF(O6=O7,\"Await earlier tie\",IF(O6<O7,N7,N6))","v":"Await earlier tie"},null,{"$f":"IF(U4=\"\",\"\",IF(U4=U5,\"R\",\"\"))","v":""},{"$f":"INDEX(Results!T:T,MATCH(T4,Results!V:V,0))","v":{"$error":"#N/A"}},null,2,{"$f":"IF(U6=U7,\"Await earlier tie\",IF(U6<U7,T7,T6))","v":"Await earlier tie"},null,{"$f":"IF(AA4=\"\",\"\",IF(AA4=AA5,\"R\",\"\"))","v":""},{"$f":"INDEX(Results!T:T,MATCH(Z4,Results!V:V,0))","v":{"$error":"#N/A"}}]
[null,null,null,4,"Mal Stott",null,null,"Mal Stott",null,null,{"$f":"INDEX(Results!T:T,MATCH(H5,Results!V:V,0))","v":-0.53333333333333321},null,null,null,null,null,{"$f":"INDEX(Results!T:T,MATCH(N5,Results!V:V,0))","v":{"$error":"#N/A"}},null,null,{"$f":"IF(O9=O8,\"Await earlier tie\",IF(O8<O9,N9,N8))","v":"Await earlier tie"},null,null,{"$f":"INDEX(Results!T:T,MATCH(T5,Results!V:V,0))","v":{"$error":"#N/A"}},null,null,{"$f":"IF(U8=U9,\"Await earlier tie\",IF(U8<U9,T9,T8))","v":"Await earlier tie"},null,null,{"$f":"INDEX(Results!T:T,MATCH(Z5,Results!V:V,0))","v":{"$error":"#N/A"}}]
["Fixtures in preliminary round",{"$f":"(B1-B4)/2","v":4},null,5,"Graham Miller",null,3,"Graham Miller",null,{"$f":"IF(I6=\"\",\"\",IF(I6=I7,\"R\",\"\"))","v":""},{"$f":"INDEX(Results!T:T,MATCH(H6,Results!V:V,0))","v":3.4800000000000004},null,3,"Rob England",null,{"$f":"IF(O6=\"\",\"\",IF(O6=O7,\"R\",\"\"))","v":""},{"$f":"INDEX(Results!T:T,MATCH(N6,Results!V:V,0))","v":-5.8571428571428577},null,3,{"$f":"IF(O10=O11,\"Await earlier tie\",IF(O10<O11,N11,N10))","v":"Await earlier tie"},null,{"$f":"IF(U6=\"\",\"\",IF(U6=U7,\"R\",\"\"))","v":""},{"$f":"INDEX(Results!T:T,MATCH(T6,Results!V:V,0))","v":{"$error":"#N/A"}},null,3,{"$f":"IF(U10=U11,\"Await earlier tie\",IF(U10<U11,T11,T10))","v":"Await earlier tie"},null,{"$f":"IF(AA6=\"\",\"\",IF(AA6=AA7,\"R\",\"\"))","v":""},{"$f":"INDEX(Results!T:T,MATCH(Z6,Results!V:V,0))","v":{"$error":"#N/A"}}]
[null,null,null,6,"Dan Baxter",null,null,"Dan Baxter",null,null,{"$f":"INDEX(Results!T:T,MATCH(H7,Results!V:V,0))","v":-7},null,null,"Ashley Houghton",null,null,{"$f":"INDEX(Results!T:T,MATCH(N7,Results!V:V,0))","v":-7},null,null,{"$f":"IF(O12=O13,\"Await earlier tie\",IF(O12<O13,N13,N12))","v":"Await earlier tie"},null,null,{"$f":"INDEX(Results!T:T,MATCH(T7,Results!V:V,0))","v":{"$error":"#N/A"}},null,null,{"$f":"IF(U12=U13,\"Await earlier tie\",IF(U12<U13,T13,T12))","v":"Await earlier tie"},null,null,{"$f":"INDEX(Results!T:T,MATCH(Z7,Results!V:V,0))","v":{"$error":"#N/A"}}]
["Current Round","Prelim",null,7,"Nigel Heyes",null,4,"Nigel Heyes",null,{"$f":"IF(I8=\"\",\"\",IF(I8=I9,\"R\",\"\"))","v":""},{"$f":"INDEX(Results!T:T,MATCH(H8,Results!V:V,0))","v":-5.22},null,4,"John Ronan",null,{"$f":"IF(O8=\"\",\"\",IF(O8=O9,\"R\",\"\"))","v":""},{"$f":"INDEX(Results!T:T,MATCH(N8,Results!V:V,0))","v":-3.9},null,4,{"$f":"IF(O14=O15,\"Await earlier tie\",IF(O14<O15,N15,N14))","v":"Await earlier tie"},null,{"$f":"IF(U8=\"\",\"\",IF(U8=U9,\"R\",\"\"))","v":""},{"$f":"INDEX(Results!T:T,MATCH(T8,Results!V:V,0))","v":{"$error":"#N/A"}},null,4,{"$f":"IF(U14=U15,\"Await earlier tie\",IF(U14<U15,T15,T14))","v":"Await earlier tie"},null,{"$f":"IF(AA8=\"\",\"\",IF(AA8=AA9,\"R\",\"\"))","v":""},{"$f":"INDEX(Results!T:T,MATCH(Z8,Results!V:V,0))","v":{"$error":"#N/A"}}]
[null,null,null,8,"Vinny Topping",null,null,"Vinny Topping",null,null,{"$f":"INDEX(Results!T:T,MATCH(H9,Results!V:V,0))","v":-5.2},null,null,"Steve Baxter",null,null,{"$f":"INDEX(Results!T:T,MATCH(N9,Results!V:V,0))","v":7.8089285714285701},null,null,{"$f":"IF(O16=O17,\"Await earlier tie\",IF(O16<O17,N17,N16))","v":"Await earlier tie"},null,null,{"$f":"INDEX(Results!T:T,MATCH(T9,Results!V:V,0))","v":{"$error":"#N/A"}},null,null,{"$f":"IF(U16=U17,\"Await earlier tie\",IF(U16<U17,T17,T16))","v":"Await earlier tie"},null,null,{"$f":"INDEX(Results!T:T,MATCH(Z9,Results!V:V,0))","v":{"$error":"#N/A"}}]
[null,null,null,9,"Rob England",null,5,null,null,{"$f":"IF(I10=\"\",\"\",IF(I10=I11,\"R\",\"\"))","v":""},{"$f":"INDEX(Results!T:T,MATCH(H10,Results!V:V,0))","v":{"$error":"#N/A"}},null,5,"Gareth McGuire",null,{"$f":"IF(O10=\"\",\"\",IF(O10=O11,\"R\",\"\"))","v":""},{"$f":"INDEX(Results!T:T,MATCH(N10,Results!V:V,0))","v":-5.3333333333333339},null,5,{"$f":"IF(O18=O19,\"Await earlier tie\",IF(O18<O19,N19,N18))","v":"Await earlier tie"},null,{"$f":"IF(U10=\"\",\"\",IF(U10=U11,\"R\",\"\"))","v":""},{"$f":"INDEX(Results!T:T,MATCH(T10,Results!V:V,0))","v":{"$error":"#N/A"}},null,5,{"$f":"IF(U18=U19,\"Await earlier tie\",IF(U18<U19,T19,T18))","v":"Await earlier tie"},null,{"$f":"IF(AA10=\"\",\"\",IF(AA10=AA11,\"R\",\"\"))","v":""},{"$f":"INDEX(Results!T:T,MATCH(Z10,Results!V:V,0))","v":{"$error":"#N/A"}}]
["Random number generator",null,null,10,"Ashley Houghton",null,null,null,null,null,{"$f":"INDEX(Results!T:T,MATCH(H11,Results!V:V,0))","v":{"$error":"#N/A"}},null,null,"Liam Wah",null,null,{"$f":"INDEX(Results!T:T,MATCH(N11,Results!V:V,0))","v":-3.7},null,null,{"$f":"IF(O20=O21,\"Await earlier tie\",IF(O20<O21,N21,N20))","v":"Await earlier tie"},null,null,{"$f":"INDEX(Results!T:T,MATCH(T11,Results!V:V,0))","v":{"$error":"#N/A"}},null,null,{"$f":"IF(U20=U21,\"Await earlier tie\",IF(U20<U21,T21,T20))","v":"Await earlier tie"},null,null,{"$f":"INDEX(Results!T:T,MATCH(Z11,Results!V:V,0))","v":{"$error":"#N/A"}}]
[null,null,null,11,"John Ronan",null,6,null,null,{"$f":"IF(I12=\"\",\"\",IF(I12=I13,\"R\",\"\"))","v":""},{"$f":"INDEX(Results!T:T,MATCH(H12,Results!V:V,0))","v":{"$error":"#N/A"}},null,6,"Ste Bentley",null,{"$f":"IF(O12=\"\",\"\",IF(O12=O13,\"R\",\"\"))","v":""},{"$f":"INDEX(Results!T:T,MATCH(N12,Results!V:V,0))","v":{"$error":"#VALUE!"}},null,6,{"$f":"IF(O22=O23,\"Await earlier tie\",IF(O22<O23,N23,N22))","v":"Await earlier tie"},null,{"$f":"IF(U12=\"\",\"\",IF(U12=U13,\"R\",\"\"))","v":""},{"$f":"INDEX(Results!T:T,MATCH(T12,Results!V:V,0))","v":{"$error":"#N/A"}},null,6,{"$f":"IF(U22=U23,\"Await earlier tie\",IF(U22<U23,T23,T22))","v":"Await earlier tie"},null,{"$f":"IF(AA12=\"\",\"\",IF(AA12=AA13,\"R\",\"\"))","v":""},{"$f":"INDEX(Results!T:T,MATCH(Z12,Results!V:V,0))","v":{"$error":"#N/A"}}]
[null,null,null,12,"Steve Baxter",null,null,null,null,null,{"$f":"INDEX(Results!T:T,MATCH(H13,Results!V:V,0))","v":{"$error":"#N/A"}},null,null,"Alan White",null,null,{"$f":"INDEX(Results!T:T,MATCH(N13,Results!V:V,0))","v":-7},null,null,{"$f":"IF(O24=O25,\"Await earlier tie\",IF(O24<O25,N25,N24))","v":"Await earlier tie"},null,null,{"$f":"INDEX(Results!T:T,MATCH(T13,Results!V:V,0))","v":{"$error":"#N/A"}},null,null,{"$f":"IF(U24=U25,\"Await earlier tie\",IF(U24<U25,T25,T24))","v":"Await earlier tie"},null,null,{"$f":"INDEX(Results!T:T,MATCH(Z13,Results!V:V,0))","v":{"$error":"#N/A"}}]
[null,null,null,13,"Gareth McGuire",null,7,null,null,{"$f":"IF(I14=\"\",\"\",IF(I14=I15,\"R\",\"\"))","v":""},{"$f":"INDEX(Results!T:T,MATCH(H14,Results!V:V,0))","v":{"$error":"#N/A"}},null,7,"Aaron Sudell",null,{"$f":"IF(O14=\"\",\"\",IF(O14=O15,\"R\",\"\"))","v":""},{"$f":"INDEX(Results!T:T,MATCH(N14,Results!V:V,0))","v":{"$error":"#VALUE!"}},null,7,{"$f":"IF(O26=O27,\"Await earlier tie\",IF(O26<O27,N27,N26))","v":"Await earlier tie"},null,{"$f":"IF(U14=\"\",\"\",IF(U14=U15,\"R\",\"\"))","v":""},{"$f":"INDEX(Results!T:T,MATCH(T14,Results!V:V,0))","v":{"$error":"#N/A"}},null,7,{"$f":"IF(U26=U27,\"Await earlier tie\",IF(U26<U27,T27,T26))","v":"Await earlier tie"},null,{"$f":"IF(AA14=\"\",\"\",IF(AA14=AA15,\"R\",\"\"))","v":""},{"$f":"INDEX(Results!T:T,MATCH(Z14,Results!V:V,0))","v":{"$error":"#N/A"}}]
[null,null,null,14,"Liam Wah",null,null,null,null,null,{"$f":"INDEX(Results!T:T,MATCH(H15,Results!V:V,0))","v":{"$error":"#N/A"}},null,null,"Antony Robinson",null,null,{"$f":"INDEX(Results!T:T,MATCH(N15,Results!V:V,0))","v":-5.8571428571428577},null,null,{"$f":"IF(O28=O29,\"Await earlier tie\",IF(O28<O29,N29,N28))","v":"Await earlier tie"},null,null,{"$f":"INDEX(Results!T:T,MATCH(T15,Results!V:V,0))","v":{"$error":"#N/A"}},null,null,{"$f":"IF(U28=U29,\"Await earlier tie\",IF(U28<U29,T29,T28))","v":"Await earlier tie"},null,null,{"$f":"INDEX(Results!T:T,MATCH(Z15,Results!V:V,0))","v":{"$error":"#N/A"}}]
[null,null,null,15,"Ste Bentley",null,8,null,null,{"$f":"IF(I16=\"\",\"\",IF(I16=I17,\"R\",\"\"))","v":""},{"$f":"INDEX(Results!T:T,MATCH(H16,Results!V:V,0))","v":{"$error":"#N/A"}},null,8,"Paul Adderley",null,{"$f":"IF(O16=\"\",\"\",IF(O16=O17,\"R\",\"\"))","v":""},{"$f":"INDEX(Results!T:T,MATCH(N16,Results!V:V,0))","v":-4.45},null,8,{"$f":"IF(O30=O31,\"Await earlier tie\",IF(O30<O31,N31,N30))","v":"Await earlier tie"},null,{"$f":"IF(U16=\"\",\"\",IF(U16=U17,\"R\",\"\"))","v":""},{"$f":"INDEX(Results!T:T,MATCH(T16,Results!V:V,0))","v":{"$error":"#N/A"}},null,8,{"$f":"IF(U30=U31,\"Await earlier tie\",IF(U30<U31,T31,T30))","v":"Await earlier tie"},null,{"$f":"IF(AA16=\"\",\"\",IF(AA16=AA17,\"R\",\"\"))","v":""},{"$f":"INDEX(Results!T:T,MATCH(Z16,Results!V:V,0))","v":{"$error":"#N/A"}}]
[null,null,null,16,"Alan White",null,null,null,null,null,{"$f":"INDEX(Results!T:T,MATCH(H17,Results!V:V,0))","v":{"$error":"#N/A"}},null,null,"Chris Bow",null,null,{"$f":"INDEX(Results!T:T,MATCH(N17,Results!V:V,0))","v":-5.0909090909090908},null,null,{"$f":"IF(O32=O33,\"Await earlier tie\",IF(O32<O33,N33,N32))","v":"Await earlier tie"},null,null,{"$f":"INDEX(Results!T:T,MATCH(T17,Results!V:V,0))","v":{"$error":"#N/A"}},null,null,{"$f":"IF(U32=U33,\"Await earlier tie\",IF(U32<U33,T33,T32))","v":"Await earlier tie"},null,null,{"$f":"INDEX(Results!T:T,MATCH(Z17,Results!V:V,0))","v":{"$error":"#N/A"}}]
[null,null,null,17,"Aaron Sudell",null,9,null,null,{"$f":"IF(I18=\"\",\"\",IF(I18=I19,\"R\",\"\"))","v":""},{"$f":"INDEX(Results!T:T,MATCH(H18,Results!V:V,0))","v":{"$error":"#N/A"}},null,9,"Andy White",null,{"$f":"IF(O18=\"\",\"\",IF(O18=O19,\"R\",\"\"))","v":""},{"$f":"INDEX(Results!T:T,MATCH(N18,Results!V:V,0))","v":-5.1818181818181817},null,9,{"$f":"IF(O34=O35,\"Await earlier tie\",IF(O34<O35,N35,N34))","v":"Await earlier tie"},null,{"$f":"IF(U18=\"\",\"\",IF(U18=U19,\"R\",\"\"))","v":""},{"$f":"INDEX(Results!T:T,MATCH(T18,Results!V:V,0))","v":{"$error":"#N/A"}}]
[null,null,null,18,"Antony Robinson",null,null,null,null,null,{"$f":"INDEX(Results!T:T,MATCH(H19,Results!V:V,0))","v":{"$error":"#N/A"}},null,null,"Joel Bent",null,null,{"$f":"INDEX(Results!T:T,MATCH(N19,Results!V:V,0))","v":-7},null,null,{"$f":"IF(O36=O37,\"Await earlier tie\",IF(O36<O37,N37,N36))","v":"Await earlier tie"},null,null,{"$f":"INDEX(Results!T:T,MATCH(T19,Results!V:V,0))","v":{"$error":"#N/A"}}]
[null,null,null,19,"Paul Adderley",null,10,null,null,{"$f":"IF(I20=\"\",\"\",IF(I20=I21,\"R\",\"\"))","v":""},{"$f":"INDEX(Results!T:T,MATCH(H20,Results!V:V,0))","v":{"$error":"#N/A"}},null,10,"John Evans",null,{"$f":"IF(O20=\"\",\"\",IF(O20=O21,\"R\",\"\"))","v":""},{"$f":"INDEX(Results!T:T,MATCH(N20,Results!V:V,0))","v":-5.3333333333333339},null,10,{"$f":"IF(O38=O39,\"Await earlier tie\",IF(O38<O39,N39,N38))","v":"Await earlier tie"},null,{"$f":"IF(U20=\"\",\"\",IF(U20=U21,\"R\",\"\"))","v":""},{"$f":"INDEX(Results!T:T,MATCH(T20,Results!V:V,0))","v":{"$error":"#N/A"}}]
[null,null,null,20,"Chris Bow",null,null,null,null,null,{"$f":"INDEX(Results!T:T,MATCH(H21,Results!V:V,0))","v":{"$error":"#N/A"}},null,null,"Mo Sudell",null,null,{"$f":"INDEX(Results!T:T,MATCH(N21,Results!V:V,0))","v":-4.5},null,null,{"$f":"IF(O40=O41,\"Await earlier tie\",IF(O40<O41,N41,N40))","v":"Await earlier tie"},null,null,{"$f":"INDEX(Results!T:T,MATCH(T21,Results!V:V,0))","v":{"$error":"#N/A"}},null,"Earlier Ties"]
[null,null,null,21,"Andy White",null,11,null,null,{"$f":"IF(I22=\"\",\"\",IF(I22=I23,\"R\",\"\"))","v":""},{"$f":"INDEX(Results!T:T,MATCH(H22,Results!V:V,0))","v":{"$error":"#N/A"}},null,11,"Dave Bell",null,{"$f":"IF(O22=\"\",\"\",IF(O22=O23,\"R\",\"\"))","v":""},{"$f":"INDEX(Results!T:T,MATCH(N22,Results!V:V,0))","v":-7},null,11,{"$f":"IF(O42=O43,\"Await earlier tie\",IF(O42<O43,N43,N42))","v":"Await earlier tie"},null,{"$f":"IF(U22=\"\",\"\",IF(U22=U23,\"R\",\"\"))","v":""},{"$f":"INDEX(Results!T:T,MATCH(T22,Results!V:V,0))","v":{"$error":"#N/A"}}]
[null,null,null,22,"Joel Bent",null,null,null,null,null,{"$f":"INDEX(Results!T:T,MATCH(H23,Results!V:V,0))","v":{"$error":"#N/A"}},null,null,"Martin Molyneux",null,null,{"$f":"INDEX(Results!T:T,MATCH(N23,Results!V:V,0))","v":-7},null,null,{"$f":"IF(O44=O45,\"Await earlier tie\",IF(O44<O45,N45,N44))","v":"Await earlier tie"},null,null,{"$f":"INDEX(Results!T:T,MATCH(T23,Results!V:V,0))","v":{"$error":"#N/A"}}]
[null,null,null,23,"John Evans",null,12,null,null,{"$f":"IF(I24=\"\",\"\",IF(I24=I25,\"R\",\"\"))","v":""},{"$f":"INDEX(Results!T:T,MATCH(H24,Results!V:V,0))","v":{"$error":"#N/A"}},null,12,"Mark Bunn",null,{"$f":"IF(O24=\"\",\"\",IF(O24=O25,\"R\",\"\"))","v":""},{"$f":"INDEX(Results!T:T,MATCH(N24,Results!V:V,0))","v":-4.5},null,12,{"$f":"IF(O46=O47,\"Await earlier tie\",IF(O46<O47,N47,N46))","v":"Await earlier tie"},null,{"$f":"IF(U24=\"\",\"\",IF(U24=U25,\"R\",\"\"))","v":""},{"$f":"INDEX(Results!T:T,MATCH(T24,Results!V:V,0))","v":{"$error":"#N/A"}}]
[null,null,null,24,"Mo Sudell",null,null,null,null,null,{"$f":"INDEX(Results!T:T,MATCH(H25,Results!V:V,0))","v":{"$error":"#N/A"}},null,null,"Paul Fiddler",null,null,{"$f":"INDEX(Results!T:T,MATCH(N25,Results!V:V,0))","v":-4.95},null,null,{"$f":"IF(O48=O49,\"Await earlier tie\",IF(O48<O49,N49,N48))","v":"Await earlier tie"},null,null,{"$f":"INDEX(Results!T:T,MATCH(T25,Results!V:V,0))","v":{"$error":"#N/A"}}]
[null,null,null,25,"Dave Bell",null,13,null,null,{"$f":"IF(I26=\"\",\"\",IF(I26=I27,\"R\",\"\"))","v":""},{"$f":"INDEX(Results!T:T,MATCH(H26,Results!V:V,0))","v":{"$error":"#N/A"}},null,13,"Lennie Bow",null,{"$f":"IF(O26=\"\",\"\",IF(O26=O27,\"R\",\"\"))","v":""},{"$f":"INDEX(Results!T:T,MATCH(N26,Results!V:V,0))","v":-4.8461538461538467},null,13,{"$f":"IF(O50=O51,\"Await earlier tie\",IF(O50<O51,N51,N50))","v":"Await earlier tie"},null,{"$f":"IF(U26=\"\",\"\",IF(U26=U27,\"R\",\"\"))","v":""},{"$f":"INDEX(Results!T:T,MATCH(T26,Results!V:V,0))","v":{"$error":"#N/A"}},null,null,null,null,{"$f":"IF(AA26=\"\",\"\",IF(AA26=AA27,\"R\",\"\"))","v":""}]
[null,null,null,26,"Martin Molyneux",null,null,null,null,null,{"$f":"INDEX(Results!T:T,MATCH(H27,Results!V:V,0))","v":{"$error":"#N/A"}},null,null,"Ben Rosser",null,null,{"$f":"INDEX(Results!T:T,MATCH(N27,Results!V:V,0))","v":-7},null,null,{"$f":"IF(O52=O53,\"Await earlier tie\",IF(O52<O53,N53,N52))","v":"Await earlier tie"},null,null,{"$f":"INDEX(Results!T:T,MATCH(T27,Results!V:V,0))","v":{"$error":"#N/A"}}]
[null,null,null,27,"Mark Bunn",null,14,null,null,{"$f":"IF(I28=\"\",\"\",IF(I28=I29,\"R\",\"\"))","v":""},{"$f":"INDEX(Results!T:T,MATCH(H28,Results!V:V,0))","v":{"$error":"#N/A"}},null,14,"Kei Lok Ma",null,{"$f":"IF(O28=\"\",\"\",IF(O28=O29,\"R\",\"\"))","v":""},{"$f":"INDEX(Results!T:T,MATCH(N28,Results!V:V,0))","v":7.2649999999999988},null,14,{"$f":"IF(O54=O55,\"Await earlier tie\",IF(O54<O55,N55,N54))","v":"Await earlier tie"},null,{"$f":"IF(U28=\"\",\"\",IF(U28=U29,\"R\",\"\"))","v":""},{"$f":"INDEX(Results!T:T,MATCH(T28,Results!V:V,0))","v":{"$error":"#N/A"}},null,null,null,null,{"$f":"IF(AA28=\"\",\"\",IF(AA28=AA29,\"R\",\"\"))","v":""}]
[null,null,null,28,"Paul Fiddler",null,null,null,null,null,{"$f":"INDEX(Results!T:T,MATCH(H29,Results!V:V,0))","v":{"$error":"#N/A"}},null,null,"Martin Tarbuck",null,null,{"$f":"INDEX(Results!T:T,MATCH(N29,Results!V:V,0))","v":-0.91249999999999964},null,null,{"$f":"IF(O56=O57,\"Await earlier tie\",IF(O56<O57,N57,N56))","v":"Await earlier tie"},null,null,{"$f":"INDEX(Results!T:T,MATCH(T29,Results!V:V,0))","v":{"$error":"#N/A"}}]
[null,null,null,29,"Lennie Bow",null,15,null,null,{"$f":"IF(I30=\"\",\"\",IF(I30=I31,\"R\",\"\"))","v":""},{"$f":"INDEX(Results!T:T,MATCH(H30,Results!V:V,0))","v":{"$error":"#N/A"}},null,15,"Barry Birchall",null,{"$f":"IF(O30=\"\",\"\",IF(O30=O31,\"R\",\"\"))","v":""},{"$f":"INDEX(Results!T:T,MATCH(N30,Results!V:V,0))","v":-5.22},null,15,{"$f":"IF(O58=O59,\"Await earlier tie\",IF(O58<O59,N59,N58))","v":"Await earlier tie"},null,{"$f":"IF(U30=\"\",\"\",IF(U30=U31,\"R\",\"\"))","v":""},{"$f":"INDEX(Results!T:T,MATCH(T30,Results!V:V,0))","v":{"$error":"#N/A"}}]
[null,null,null,30,"Ben Rosser",null,null,null,null,null,{"$f":"INDEX(Results!T:T,MATCH(H31,Results!V:V,0))","v":{"$error":"#N/A"}},null,null,"Paul Ridgeway",null,null,{"$f":"INDEX(Results!T:T,MATCH(N31,Results!V:V,0))","v":0.53999999999999915},null,null,{"$f":"IF(O60=O61,\"Await earlier tie\",IF(O60<O61,N61,N60))","v":"Await earlier tie"},null,null,{"$f":"INDEX(Results!T:T,MATCH(T31,Results!V:V,0))","v":{"$error":"#N/A"}}]
[null,null,null,31,"Kei Lok Ma",null,16,null,null,{"$f":"IF(I32=\"\",\"\",IF(I32=I33,\"R\",\"\"))","v":""},{"$f":"INDEX(Results!T:T,MATCH(H32,Results!V:V,0))","v":{"$error":"#N/A"}},null,16,"Jack Walsh",null,{"$f":"IF(O32=\"\",\"\",IF(O32=O33,\"R\",\"\"))","v":""},{"$f":"INDEX(Results!T:T,MATCH(N32,Results!V:V,0))","v":-7},null,16,{"$f":"IF(O62=O63,\"Await earlier tie\",IF(O62<O63,N63,N62))","v":"Await earlier tie"},null,{"$f":"IF(U32=\"\",\"\",IF(U32=U33,\"R\",\"\"))","v":""},{"$f":"INDEX(Results!T:T,MATCH(T32,Results!V:V,0))","v":{"$error":"#N/A"}}]
[null,null,null,32,"Martin Tarbuck",null,null,null,null,null,{"$f":"INDEX(Results!T:T,MATCH(H33,Results!V:V,0))","v":{"$error":"#N/A"}},null,null,"Andy Charleston",null,null,{"$f":"INDEX(Results!T:T,MATCH(N33,Results!V:V,0))","v":-5.73},null,null,{"$f":"IF(O64=O65,\"Await earlier tie\",IF(O64<O65,N65,N64))","v":"Await earlier tie"},null,null,{"$f":"INDEX(Results!T:T,MATCH(T33,Results!V:V,0))","v":{"$error":"#N/A"}}]
[null,null,null,33,"Barry Birchall",null,17,null,null,{"$f":"IF(I34=\"\",\"\",IF(I34=I35,\"R\",\"\"))","v":""},{"$f":"INDEX(Results!T:T,MATCH(H34,Results!V:V,0))","v":{"$error":"#N/A"}},null,17,"Ian Davies",null,{"$f":"IF(O34=\"\",\"\",IF(O34=O35,\"R\",\"\"))","v":""},{"$f":"INDEX(Results!T:T,MATCH(N34,Results!V:V,0))","v":-3.6363636363636362}]
[null,null,null,34,"Paul Ridgeway",null,null,null,null,null,{"$f":"INDEX(Results!T:T,MATCH(H35,Results!V:V,0))","v":{"$error":"#N/A"}},null,null,"Oscar Jackson",null,null,{"$f":"INDEX(Results!T:T,MATCH(N35,Results!V:V,0))","v":-7}]
[null,null,null,35,"Jack Walsh",null,18,null,null,{"$f":"IF(I36=\"\",\"\",IF(I36=I37,\"R\",\"\"))","v":""},{"$f":"INDEX(Results!T:T,MATCH(H36,Results!V:V,0))","v":{"$error":"#N/A"}},null,18,"Paul Allen",null,{"$f":"IF(O36=\"\",\"\",IF(O36=O37,\"R\",\"\"))","v":""},{"$f":"INDEX(Results!T:T,MATCH(N36,Results!V:V,0))","v":-5.22}]
[null,null,null,36,"Andy Charleston",null,null,null,null,null,{"$f":"INDEX(Results!T:T,MATCH(H37,Results!V:V,0))","v":{"$error":"#N/A"}},null,null,"Kevin Carter",null,null,{"$f":"INDEX(Results!T:T,MATCH(N37,Results!V:V,0))","v":-7},null,"Replay","2019-09-28"]
[null,null,null,37,"Ian Davies",null,19,null,null,{"$f":"IF(I38=\"\",\"\",IF(I38=I39,\"R\",\"\"))","v":""},{"$f":"INDEX(Results!T:T,MATCH(H38,Results!V:V,0))","v":{"$error":"#N/A"}},null,19,"Nick Blocksidge",null,{"$f":"IF(O38=\"\",\"\",IF(O38=O39,\"R\",\"\"))","v":""},{"$f":"INDEX(Results!T:T,MATCH(N38,Results!V:V,0))","v":-4.45},null,null,null,null,{"$f":"IF(U38=\"\",\"\",IF(U38=U39,\"R\",\"\"))","v":""},{"$f":"INDEX(Results!T:T,MATCH(T38,Results!V:V,0))","v":{"$error":"#N/A"}},null,"QF","2019-11-02"]
[null,null,null,38,"Oscar Jackson",null,null,null,null,null,{"$f":"INDEX(Results!T:T,MATCH(H39,Results!V:V,0))","v":{"$error":"#N/A"}},null,null,"James Bell",null,null,{"$f":"INDEX(Results!T:T,MATCH(N39,Results!V:V,0))","v":-7},null,null,null,null,null,{"$f":"INDEX(Results!T:T,MATCH(T39,Results!V:V,0))","v":{"$error":"#N/A"}},null,1,{"$f":"IF(AA2=AA3,\"Await earlier tie\",IF(AA2<AA3,Z3,Z2))","v":"Await earlier tie"},null,{"$f":"IF(AA39=\"\",\"\",IF(AA39=AA40,\"R\",\"\"))","v":""},{"$f":"INDEX(Results!T:T,MATCH(Z39,Results!V:V,0))","v":{"$error":"#N/A"}}]
[null,null,null,39,"Paul Allen",null,20,null,null,{"$f":"IF(I40=\"\",\"\",IF(I40=I41,\"R\",\"\"))","v":""},{"$f":"INDEX(Results!T:T,MATCH(H40,Results!V:V,0))","v":{"$error":"#N/A"}},null,20,"Phil Miller",null,{"$f":"IF(O40=\"\",\"\",IF(O40=O41,\"R\",\"\"))","v":""},{"$f":"INDEX(Results!T:T,MATCH(N40,Results!V:V,0))","v":-1.7000000000000002},null,null,null,null,{"$f":"IF(U40=\"\",\"\",IF(U40=U41,\"R\",\"\"))","v":""},{"$f":"INDEX(Results!T:T,MATCH(T40,Results!V:V,0))","v":{"$error":"#N/A"}},null,null,{"$f":"IF(AA4=AA5,\"Await earlier tie\",IF(AA4<AA5,Z5,Z4))","v":"Await earlier tie"},null,null,{"$f":"INDEX(Results!T:T,MATCH(Z40,Results!V:V,0))","v":{"$error":"#N/A"}}]
[null,null,null,40,"Kevin Carter",null,null,null,null,null,{"$f":"INDEX(Results!T:T,MATCH(H41,Results!V:V,0))","v":{"$error":"#N/A"}},null,null,"Gareth Powell",null,null,{"$f":"INDEX(Results!T:T,MATCH(N41,Results!V:V,0))","v":-4.95},null,null,null,null,null,{"$f":"INDEX(Results!T:T,MATCH(T41,Results!V:V,0))","v":{"$error":"#N/A"}},null,2,{"$f":"IF(AA6=AA7,\"Await earlier tie\",IF(AA6<AA7,Z7,Z6))","v":"Await earlier tie"},null,{"$f":"IF(AA41=\"\",\"\",IF(AA41=AA42,\"R\",\"\"))","v":""},{"$f":"INDEX(Results!T:T,MATCH(Z41,Results!V:V,0))","v":{"$error":"#N/A"}}]
[null,null,null,41,"Nick Blocksidge",null,21,null,null,{"$f":"IF(I42=\"\",\"\",IF(I42=I43,\"R\",\"\"))","v":""},{"$f":"INDEX(Results!T:T,MATCH(H42,Results!V:V,0))","v":{"$error":"#N/A"}},null,21,"Stephen Troop",null,{"$f":"IF(O42=\"\",\"\",IF(O42=O43,\"R\",\"\"))","v":""},{"$f":"INDEX(Results!T:T,MATCH(N42,Results!V:V,0))","v":-7},null,null,null,null,{"$f":"IF(U42=\"\",\"\",IF(U42=U43,\"R\",\"\"))","v":""},{"$f":"INDEX(Results!T:T,MATCH(T42,Results!V:V,0))","v":{"$error":"#N/A"}},null,null,{"$f":"IF(AA8=AA9,\"Await earlier tie\",IF(AA8<AA9,Z9,Z8))","v":"Await earlier tie"},null,null,{"$f":"INDEX(Results!T:T,MATCH(Z42,Results!V:V,0))","v":{"$error":"#N/A"}}]
[null,null,null,42,"James Bell",null,null,null,null,null,{"$f":"INDEX(Results!T:T,MATCH(H43,Results!V:V,0))","v":{"$error":"#N/A"}},null,null,"Sally Williams",null,null,{"$f":"INDEX(Results!T:T,MATCH(N43,Results!V:V,0))","v":-3.7},null,null,null,null,null,{"$f":"INDEX(Results!T:T,MATCH(T43,Results!V:V,0))","v":{"$error":"#N/A"}},null,3,{"$f":"IF(AA10=AA11,\"Await earlier tie\",IF(AA10<AA11,Z11,Z10))","v":"Await earlier tie"},null,{"$f":"IF(AA43=\"\",\"\",IF(AA43=AA44,\"R\",\"\"))","v":""},{"$f":"INDEX(Results!T:T,MATCH(Z43,Results!V:V,0))","v":{"$error":"#N/A"}}]
[null,null,null,43,"Phil Miller",null,22,null,null,{"$f":"IF(I44=\"\",\"\",IF(I44=I45,\"R\",\"\"))","v":""},{"$f":"INDEX(Results!T:T,MATCH(H44,Results!V:V,0))","v":{"$error":"#N/A"}},null,22,"Graeme Holmes",null,{"$f":"IF(O44=\"\",\"\",IF(O44=O45,\"R\",\"\"))","v":""},{"$f":"INDEX(Results!T:T,MATCH(N44,Results!V:V,0))","v":-7},null,null,null,null,{"$f":"IF(U44=\"\",\"\",IF(U44=U45,\"R\",\"\"))","v":""},{"$f":"INDEX(Results!T:T,MATCH(T44,Results!V:V,0))","v":{"$error":"#N/A"}},null,null,{"$f":"IF(AA12=AA13,\"Await earlier tie\",IF(AA12<AA13,Z13,Z12))","v":"Await earlier tie"},null,null,{"$f":"INDEX(Results!T:T,MATCH(Z44,Results!V:V,0))","v":{"$error":"#N/A"}}]
[null,null,null,44,"Gareth Powell",null,null,null,null,null,{"$f":"INDEX(Results!T:T,MATCH(H45,Results!V:V,0))","v":{"$error":"#N/A"}},null,null,"Stephen Barr",null,null,{"$f":"INDEX(Results!T:T,MATCH(N45,Results!V:V,0))","v":15.895363636363633},null,null,null,null,null,{"$f":"INDEX(Results!T:T,MATCH(T45,Results!V:V,0))","v":{"$error":"#N/A"}},null,4,{"$f":"IF(AA14=AA15,\"Await earlier tie\",IF(AA14<AA15,Z15,Z14))","v":"Await earlier tie"},null,{"$f":"IF(AA45=\"\",\"\",IF(AA45=AA46,\"R\",\"\"))","v":""},{"$f":"INDEX(Results!T:T,MATCH(Z45,Results!V:V,0))","v":{"$error":"#N/A"}}]
[null,null,null,45,"Stephen Troop",null,23,null,null,"",{"$f":"INDEX(Results!T:T,MATCH(H46,Results!V:V,0))","v":{"$error":"#N/A"}},null,23,"Steve Carter",null,{"$f":"IF(O46=\"\",\"\",IF(O46=O47,\"R\",\"\"))","v":""},{"$f":"INDEX(Results!T:T,MATCH(N46,Results!V:V,0))","v":-5.1818181818181817},null,null,null,null,{"$f":"IF(U46=\"\",\"\",IF(U46=U47,\"R\",\"\"))","v":""},{"$f":"INDEX(Results!T:T,MATCH(T46,Results!V:V,0))","v":{"$error":"#N/A"}},null,null,{"$f":"IF(AA16=AA17,\"Await earlier tie\",IF(AA16<AA17,Z17,Z16))","v":"Await earlier tie"},null,null,{"$f":"INDEX(Results!T:T,MATCH(Z46,Results!V:V,0))","v":{"$error":"#N/A"}}]
[null,null,null,46,"Sally Williams",null,null,null,null,null,{"$f":"INDEX(Results!T:T,MATCH(H47,Results!V:V,0))","v":{"$error":"#N/A"}},null,null,"Mike Penk",null,null,{"$f":"INDEX(Results!T:T,MATCH(N47,Results!V:V,0))","v":2.9333333333333336},null,null,null,null,null,{"$f":"INDEX(Results!T:T,MATCH(T47,Results!V:V,0))","v":{"$error":"#N/A"}}]
[null,null,null,47,"Graeme Holmes",null,24,null,null,"",{"$f":"INDEX(Results!T:T,MATCH(H48,Results!V:V,0))","v":{"$error":"#N/A"}},null,24,"Howard Bradley",null,{"$f":"IF(O48=\"\",\"\",IF(O48=O49,\"R\",\"\"))","v":""},{"$f":"INDEX(Results!T:T,MATCH(N48,Results!V:V,0))","v":0.13333333333333286},null,null,null,null,{"$f":"IF(U48=\"\",\"\",IF(U48=U49,\"R\",\"\"))","v":""},{"$f":"INDEX(Results!T:T,MATCH(T48,Results!V:V,0))","v":{"$error":"#N/A"}}]
[null,null,null,48,"Stephen Barr",null,null,null,null,null,{"$f":"INDEX(Results!T:T,MATCH(H49,Results!V:V,0))","v":{"$error":"#N/A"}},null,null,"Chris Griffin",null,null,{"$f":"INDEX(Results!T:T,MATCH(N49,Results!V:V,0))","v":-5.22},null,null,null,null,null,{"$f":"INDEX(Results!T:T,MATCH(T49,Results!V:V,0))","v":{"$error":"#N/A"}},null,"Earlier Ties"]
[null,null,null,49,"Steve Carter",null,25,null,null,"",{"$f":"INDEX(Results!T:T,MATCH(H50,Results!V:V,0))","v":{"$error":"#N/A"}},null,25,"Dave Orrell",null,{"$f":"IF(O50=\"\",\"\",IF(O50=O51,\"R\",\"\"))","v":""},{"$f":"INDEX(Results!T:T,MATCH(N50,Results!V:V,0))","v":-5.0909090909090908},null,null,null,null,{"$f":"IF(U50=\"\",\"\",IF(U50=U51,\"R\",\"\"))","v":""},{"$f":"INDEX(Results!T:T,MATCH(T50,Results!V:V,0))","v":{"$error":"#N/A"}},null,null,null,null,{"$f":"IF(AA50=\"\",\"\",IF(AA50=AA51,\"R\",\"\"))","v":""}]
[null,null,null,50,"Mike Penk",null,null,null,null,null,{"$f":"INDEX(Results!T:T,MATCH(H51,Results!V:V,0))","v":{"$error":"#N/A"}},null,null,"Chris Luck",null,null,{"$f":"INDEX(Results!T:T,MATCH(N51,Results!V:V,0))","v":-7},null,null,null,null,null,{"$f":"INDEX(Results!T:T,MATCH(T51,Results!V:V,0))","v":{"$error":"#N/A"}}]
[null,null,null,51,"Howard Bradley",null,26,null,null,"",{"$f":"INDEX(Results!T:T,MATCH(H52,Results!V:V,0))","v":{"$error":"#N/A"}},null,26,"David Dunn",null,{"$f":"IF(O52=\"\",\"\",IF(O52=O53,\"R\",\"\"))","v":""},{"$f":"INDEX(Results!T:T,MATCH(N52,Results!V:V,0))","v":-5.1818181818181817},null,null,null,null,{"$f":"IF(U52=\"\",\"\",IF(U52=U53,\"R\",\"\"))","v":""},{"$f":"INDEX(Results!T:T,MATCH(T52,Results!V:V,0))","v":{"$error":"#N/A"}},null,null,null,null,{"$f":"IF(AA52=\"\",\"\",IF(AA52=AA53,\"R\",\"\"))","v":""}]
[null,null,null,52,"Chris Griffin",null,null,null,null,null,{"$f":"INDEX(Results!T:T,MATCH(H53,Results!V:V,0))","v":{"$error":"#N/A"}},null,null,"Simon Greenhalgh",null,null,{"$f":"INDEX(Results!T:T,MATCH(N53,Results!V:V,0))","v":-4.5},null,null,null,null,null,{"$f":"INDEX(Results!T:T,MATCH(T53,Results!V:V,0))","v":{"$error":"#N/A"}}]
[null,null,null,53,"Dave Orrell",null,27,null,null,"",{"$f":"INDEX(Results!T:T,MATCH(H54,Results!V:V,0))","v":{"$error":"#N/A"}},null,27,"Mark Saunders",null,{"$f":"IF(O54=\"\",\"\",IF(O54=O55,\"R\",\"\"))","v":""},{"$f":"INDEX(Results!T:T,MATCH(N54,Results!V:V,0))","v":-5.2},null,null,null,null,null,null,null,null,null,null,{"$f":"IF(AA54=\"\",\"\",IF(AA54=AA55,\"R\",\"\"))","v":""}]
[null,null,null,54,"Chris Luck",null,null,null,null,null,{"$f":"INDEX(Results!T:T,MATCH(H55,Results!V:V,0))","v":{"$error":"#N/A"}},null,null,"Paul Fairhurst",null,null,{"$f":"INDEX(Results!T:T,MATCH(N55,Results!V:V,0))","v":3.9540000000000006}]
[null,null,null,55,"David Dunn",null,28,null,null,"",{"$f":"INDEX(Results!T:T,MATCH(H56,Results!V:V,0))","v":{"$error":"#N/A"}},null,28,"Charlie Griffiths",null,{"$f":"IF(O56=\"\",\"\",IF(O56=O57,\"R\",\"\"))","v":""},{"$f":"INDEX(Results!T:T,MATCH(N56,Results!V:V,0))","v":-4.0999999999999996},null,null,null,null,null,null,null,null,null,null,{"$f":"IF(AA56=\"\",\"\",IF(AA56=AA57,\"R\",\"\"))","v":""}]
[null,null,null,56,"Simon Greenhalgh",null,null,null,null,null,{"$f":"INDEX(Results!T:T,MATCH(H57,Results!V:V,0))","v":{"$error":"#N/A"}},null,null,"Alan Rogers",null,null,{"$f":"INDEX(Results!T:T,MATCH(N57,Results!V:V,0))","v":9.4375}]
[null,null,null,57,"Mark Saunders",null,29,null,null,"",{"$f":"INDEX(Results!T:T,MATCH(H58,Results!V:V,0))","v":{"$error":"#N/A"}},null,29,"Lewis Buckley",null,{"$f":"IF(O58=\"\",\"\",IF(O58=O59,\"R\",\"\"))","v":""},{"$f":"INDEX(Results!T:T,MATCH(N58,Results!V:V,0))","v":-5.3333333333333339}]
[null,null,null,58,"Paul Fairhurst",null,null,null,null,null,{"$f":"INDEX(Results!T:T,MATCH(H59,Results!V:V,0))","v":{"$error":"#N/A"}},null,null,"John Robinson",null,null,{"$f":"INDEX(Results!T:T,MATCH(N59,Results!V:V,0))","v":1.0181818181818194}]
[null,null,null,59,"Charlie Griffiths",null,30,null,null,"",{"$f":"INDEX(Results!T:T,MATCH(H60,Results!V:V,0))","v":{"$error":"#N/A"}},null,30,"Paul Barnes",null,{"$f":"IF(O60=\"\",\"\",IF(O60=O61,\"R\",\"\"))","v":""},{"$f":"INDEX(Results!T:T,MATCH(N60,Results!V:V,0))","v":{"$error":"#VALUE!"}}]
[null,null,null,60,"Alan Rogers",null,null,null,null,null,{"$f":"INDEX(Results!T:T,MATCH(H61,Results!V:V,0))","v":{"$error":"#N/A"}},null,null,"Gerard Ventom",null,null,{"$f":"INDEX(Results!T:T,MATCH(N61,Results!V:V,0))","v":-4.45}]
[null,null,null,61,"Lewis Buckley",null,31,null,null,"",{"$f":"INDEX(Results!T:T,MATCH(H62,Results!V:V,0))","v":{"$error":"#N/A"}},null,31,"Alfie Davies",null,{"$f":"IF(O62=\"\",\"\",IF(O62=O63,\"R\",\"\"))","v":""},{"$f":"INDEX(Results!T:T,MATCH(N62,Results!V:V,0))","v":13.225974025974025}]
[null,null,null,62,"John Robinson",null,null,null,null,null,{"$f":"INDEX(Results!T:T,MATCH(H63,Results!V:V,0))","v":{"$error":"#N/A"}},null,null,"Tom Robinson",null,null,{"$f":"INDEX(Results!T:T,MATCH(N63,Results!V:V,0))","v":3.9540000000000006},null,null,null,null,null,null,null,"SF","2019-11-16"]
[null,null,null,63,"Paul Barnes",null,32,null,null,"",{"$f":"INDEX(Results!T:T,MATCH(H64,Results!V:V,0))","v":{"$error":"#N/A"}},null,32,"Gareth Fallows",null,{"$f":"IF(O64=\"\",\"\",IF(O64=O65,\"R\",\"\"))","v":""},{"$f":"INDEX(Results!T:T,MATCH(N64,Results!V:V,0))","v":1.163636363636364},null,null,null,null,null,null,null,1,{"$f":"IF(AA39=AA40,\"Await earlier tie\",IF(AA39<AA40,Z40,Z39))","v":"Await earlier tie"},null,{"$f":"IF(AA64=\"\",\"\",IF(AA64=AA65,\"R\",\"\"))","v":""},{"$f":"INDEX(Results!T:T,MATCH(Z64,Results!V:V,0))","v":{"$error":"#N/A"}}]
[null,null,null,64,"Gerard Ventom",null,null,null,null,null,{"$f":"INDEX(Results!T:T,MATCH(H65,Results!V:V,0))","v":{"$error":"#N/A"}},null,null,"Andy Clucas",null,null,{"$f":"INDEX(Results!T:T,MATCH(N65,Results!V:V,0))","v":-7},null,null,null,null,null,null,null,null,{"$f":"IF(AA41=AA42,\"Await earlier tie\",IF(AA41<AA42,Z42,Z41))","v":"Await earlier tie"},null,null,{"$f":"INDEX(Results!T:T,MATCH(Z65,Results!V:V,0))","v":{"$error":"#N/A"}}]
[null,null,null,65,"Alfie Davies",null,33,null,null,"",{"$f":"INDEX(Results!T:T,MATCH(H66,Results!V:V,0))","v":{"$error":"#N/A"}},null,null,null,null,null,null,null,null,null,null,null,null,null,2,{"$f":"IF(AA43=AA44,\"Await earlier tie\",IF(AA43<AA44,Z44,Z43))","v":"Await earlier tie"},null,{"$f":"IF(AA66=\"\",\"\",IF(AA66=AA67,\"R\",\"\"))","v":""},{"$f":"INDEX(Results!T:T,MATCH(Z66,Results!V:V,0))","v":{"$error":"#N/A"}}]
[null,null,null,66,"Tom Robinson",null,null,null,null,null,{"$f":"INDEX(Results!T:T,MATCH(H67,Results!V:V,0))","v":{"$error":"#N/A"}},null,null,null,null,null,null,null,null,null,null,null,null,null,null,{"$f":"IF(AA45=AA46,\"Await earlier tie\",IF(AA45<AA46,Z46,Z45))","v":"Await earlier tie"},null,null,{"$f":"INDEX(Results!T:T,MATCH(Z67,Results!V:V,0))","v":{"$error":"#N/A"}}]
[null,null,null,67,"Gareth Fallows",null,34,null,null,"",{"$f":"INDEX(Results!T:T,MATCH(H68,Results!V:V,0))","v":{"$error":"#N/A"}},null,"Earlier ties"]
[null,null,null,null,null,null,null,null,null,null,{"$f":"INDEX(Results!T:T,MATCH(H69,Results!V:V,0))","v":{"$error":"#N/A"}},null,null,null,null,{"$f":"IF(O69=\"\",\"\",IF(O69=O70,\"R\",\"\"))","v":""},null,null,null,null,null,null,null,null,"Earlier ties"]
[null,null,null,null,null,null,35,null,null,"",{"$f":"INDEX(Results!T:T,MATCH(H70,Results!V:V,0))","v":{"$error":"#N/A"}},null,null,null,null,null,null,null,null,null,null,null,null,null,null,null,null,{"$f":"IF(AA70=\"\",\"\",IF(AA70=AA71,\"R\",\"\"))","v":""}]
[null,null,null,null,null,null,null,null,null,null,{"$f":"INDEX(Results!T:T,MATCH(H71,Results!V:V,0))","v":{"$error":"#N/A"}},null,null,null,null,{"$f":"IF(O71=\"\",\"\",IF(O71=O72,\"R\",\"\"))","v":""}]
[null,null,null,null,null,null,36,null,null,"",{"$f":"INDEX(Results!T:T,MATCH(H72,Results!V:V,0))","v":{"$error":"#N/A"}},null,null,null,null,null,null,null,null,null,null,null,null,null,null,null,null,{"$f":"IF(AA72=\"\",\"\",IF(AA72=AA73,\"R\",\"\"))","v":""}]
[null,null,null,null,null,null,null,null,null,null,{"$f":"INDEX(Results!T:T,MATCH(H73,Results!V:V,0))","v":{"$error":"#N/A"}},null,null,null,null,{"$f":"IF(O73=\"\",\"\",IF(O73=O74,\"R\",\"\"))","v":""}]
[]
[null,null,null,null,null,null,null,null,null,null,null,null,null,null,null,{"$f":"IF(O75=\"\",\"\",IF(O75=O76,\"R\",\"\"))","v":""}]
[]
[null,null,null,null,null,null,null,null,null,null,null,null,null,null,null,{"$f":"IF(O77=\"\",\"\",IF(O77=O78,\"R\",\"\"))","v":""}]
[null,null,null,null,null,null,"Earlier ties"]
[null,null,null,null,null,null,null,null,null,{"$f":"IF(I79=\"\",\"\",IF(I79=I80,\"R\",\"\"))","v":""},null,null,null,null,null,{"$f":"IF(O79=\"\",\"\",IF(O79=O80,\"R\",\"\"))","v":""}]
[null,null,null,null,null,null,null,null,null,null,null,null,null,null,null,null,null,null,null,null,null,null,null,null,"Final","2019-11-30"]
[null,null,null,null,null,null,null,null,null,{"$f":"IF(I81=\"\",\"\",IF(I81=I82,\"R\",\"\"))","v":""},null,null,null,null,null,{"$f":"IF(O81=\"\",\"\",IF(O81=O82,\"R\",\"\"))","v":""},null,null,null,null,null,null,null,null,1,{"$f":"IF(AA64=AA65,\"Await earlier tie\",IF(AA64<AA65,Z65,Z64))","v":"Await earlier tie"},null,{"$f":"IF(AA81=\"\",\"\",IF(AA81=AA82,\"R\",\"\"))","v":""},{"$f":"INDEX(Results!T:T,MATCH(Z81,Results!V:V,0))","v":{"$error":"#N/A"}}]
[null,null,null,null,null,null,null,null,null,null,null,null,null,null,null,null,null,null,null,null,null,null,null,null,null,{"$f":"IF(AA66=AA67,\"Await earlier tie\",IF(AA66<AA67,Z67,Z66))","v":"Await earlier tie"},null,null,{"$f":"INDEX(Results!T:T,MATCH(Z82,Results!V:V,0))","v":{"$error":"#N/A"}}]
[null,null,null,null,null,null,null,null,null,{"$f":"IF(I83=\"\",\"\",IF(I83=I84,\"R\",\"\"))","v":""},null,null,null,null,null,{"$f":"IF(O83=\"\",\"\",IF(O83=O84,\"R\",\"\"))","v":""}]
[]
[null,null,null,null,null,null,null,null,null,{"$f":"IF(I85=\"\",\"\",IF(I85=I86,\"R\",\"\"))","v":""},null,null,null,null,null,{"$f":"IF(O85=\"\",\"\",IF(O85=O86,\"R\",\"\"))","v":""},null,null,null,null,null,null,null,null,"Earlier ties"]
[null,null,null,null,null,null,null,null,null,null,null,null,null,null,null,null,null,null,null,null,null,null,null,null,null,null,null,{"$f":"IF(AA86=\"\",\"\",IF(AA86=AA87,\"R\",\"\"))","v":""}]
[null,null,null,null,null,null,null,null,null,{"$f":"IF(I87=\"\",\"\",IF(I87=I88,\"R\",\"\"))","v":""},null,null,null,null,null,{"$f":"IF(O87=\"\",\"\",IF(O87=O88,\"R\",\"\"))","v":""}]
[null,null,null,null,null,null,null,null,null,null,null,null,null,null,null,null,null,null,null,null,null,null,null,null,null,null,null,{"$f":"IF(AA88=\"\",\"\",IF(AA88=AA89,\"R\",\"\"))","v":""}]
[null,null,null,null,null,null,null,null,null,{"$f":"IF(I89=\"\",\"\",IF(I89=I90,\"R\",\"\"))","v":""},null,null,null,null,null,{"$f":"IF(O89=\"\",\"\",IF(O89=O90,\"R\",\"\"))","v":""}]
[]
[null,null,null,null,null,null,null,null,null,{"$f":"IF(I91=\"\",\"\",IF(I91=I92,\"R\",\"\"))","v":""},null,null,null,null,null,{"$f":"IF(O91=\"\",\"\",IF(O91=O92,\"R\",\"\"))","v":""}]
[]
[null,null,null,null,null,null,null,null,null,{"$f":"IF(I93=\"\",\"\",IF(I93=I94,\"R\",\"\"))","v":""}]

{"sheet":"Cup","index":11,"n_rows":94,"n_cols":23,"rows_kept":94,"cut":false,"hidden":false,"merged":[[2,7,3,7],[87,1,88,1],[91,1,92,1],[69,7,70,7],[91,7,92,7],[89,4,90,4],[91,4,92,4],[77,4,78,4],[79,4,80,4],[81,4,82,4],[83,4,84,4],[85,4,86,4],[87,4,88,4],[88,19,89,19],[89,7,90,7],[70,19,71,19],[73,7,74,7],[77,7,78,7],[81,7,82,7],[85,7,86,7],[86,19,87,19],[71,7,72,7],[75,7,76,7],[79,7,80,7],[83,7,84,7],[87,7,88,7]]}
["Menu!A1"]
[null,"Prelim",{"$f":"IF(CupDraw!H1=\"\",\"\",CupDraw!H1)","v":"2019-08-17"},null,null,null,null,{"$f":"CupDraw!M1","v":"R1 (64)"},{"$f":"CupDraw!N1","v":"2019-09-07"},null,null,null,null,{"$f":"CupDraw!S1","v":"R2 (32)"},{"$f":"CupDraw!T1","v":"2019-09-21"},null,null,null,null,{"$f":"CupDraw!Y1","v":"R3 (16)"},{"$f":"CupDraw!Z1","v":"2019-10-12"}]
[null,{"$f":"CupDraw!G2","v":1},{"$f":"IF(CupDraw!H2=\"\",\"\",CupDraw!H2)","v":"Pete Baron"},{"$f":"IF(CupDraw!I2=\"\",\"\",CupDraw!I2)","v":""},{"$f":"IF(CupDraw!J2=\"\",\"\",CupDraw!J2)","v":""},null,null,{"$f":"CupDraw!M2","v":1},{"$f":"IF(CupDraw!N2=\"\",\"\",CupDraw!N2)","v":""},{"$f":"IF(CupDraw!O2=\"\",\"\",CupDraw!O2)","v":""},{"$f":"IF(CupDraw!P2=\"\",\"\",CupDraw!P2)","v":""},null,null,{"$f":"CupDraw!S2","v":1},{"$f":"CupDraw!T2","v":"Await earlier tie"},{"$f":"IF(CupDraw!U2=\"\",\"\",CupDraw!U2)","v":""},{"$f":"IF(CupDraw!V2=\"\",\"\",CupDraw!V2)","v":""},null,null,{"$f":"CupDraw!Y2","v":1},{"$f":"CupDraw!Z2","v":"Await earlier tie"},{"$f":"IF(CupDraw!AA2=\"\",\"\",CupDraw!AA2)","v":""},{"$f":"CupDraw!AB2","v":""}]
[null,null,{"$f":"IF(CupDraw!H3=\"\",\"\",CupDraw!H3)","v":"Chris Townsend"},{"$f":"IF(CupDraw!I3=\"\",\"\",CupDraw!I3)","v":""},{"$f":"IF(CupDraw!J3=\"\",\"\",CupDraw!J3)","v":""},null,null,{"$f":"CupDraw!M3","v":0},{"$f":"IF(CupDraw!N3=\"\",\"\",CupDraw!N3)","v":""},{"$f":"IF(CupDraw!O3=\"\",\"\",CupDraw!O3)","v":""},{"$f":"IF(CupDraw!P3=\"\",\"\",CupDraw!P3)","v":""},null,null,null,{"$f":"CupDraw!T3","v":"Await earlier tie"},{"$f":"IF(CupDraw!U3=\"\",\"\",CupDraw!U3)","v":""},{"$f":"IF(CupDraw!V3=\"\",\"\",CupDraw!V3)","v":""},null,null,null,{"$f":"CupDraw!Z3","v":"Await earlier tie"},{"$f":"IF(CupDraw!AA3=\"\",\"\",CupDraw!AA3)","v":""}]
[null,{"$f":"CupDraw!G4","v":2},{"$f":"IF(CupDraw!H4=\"\",\"\",CupDraw!H4)","v":"Alick Rocca"},{"$f":"IF(CupDraw!I4=\"\",\"\",CupDraw!I4)","v":""},{"$f":"IF(CupDraw!J4=\"\",\"\",CupDraw!J4)","v":""},null,null,{"$f":"CupDraw!M4","v":2},{"$f":"IF(CupDraw!N4=\"\",\"\",CupDraw!N4)","v":""},{"$f":"IF(CupDraw!O4=\"\",\"\",CupDraw!O4)","v":""},{"$f":"IF(CupDraw!P4=\"\",\"\",CupDraw!P4)","v":""},null,null,{"$f":"CupDraw!S4","v":2},{"$f":"CupDraw!T4","v":"Await earlier tie"},{"$f":"IF(CupDraw!U4=\"\",\"\",CupDraw!U4)","v":""},{"$f":"IF(CupDraw!V4=\"\",\"\",CupDraw!V4)","v":""},null,null,{"$f":"CupDraw!Y4","v":2},{"$f":"CupDraw!Z4","v":"Await earlier tie"},{"$f":"IF(CupDraw!AA4=\"\",\"\",CupDraw!AA4)","v":""},{"$f":"CupDraw!AB4","v":""}]
[null,null,{"$f":"IF(CupDraw!H5=\"\",\"\",CupDraw!H5)","v":"Mal Stott"},{"$f":"IF(CupDraw!I5=\"\",\"\",CupDraw!I5)","v":""},{"$f":"IF(CupDraw!J5=\"\",\"\",CupDraw!J5)","v":""},null,null,null,{"$f":"IF(CupDraw!N5=\"\",\"\",CupDraw!N5)","v":""},{"$f":"IF(CupDraw!O5=\"\",\"\",CupDraw!O5)","v":""},{"$f":"IF(CupDraw!P5=\"\",\"\",CupDraw!P5)","v":""},null,null,null,{"$f":"CupDraw!T5","v":"Await earlier tie"},{"$f":"IF(CupDraw!U5=\"\",\"\",CupDraw!U5)","v":""},{"$f":"IF(CupDraw!V5=\"\",\"\",CupDraw!V5)","v":""},null,null,null,{"$f":"CupDraw!Z5","v":"Await earlier tie"},{"$f":"IF(CupDraw!AA5=\"\",\"\",CupDraw!AA5)","v":""}]
[null,{"$f":"CupDraw!G6","v":3},{"$f":"IF(CupDraw!H6=\"\",\"\",CupDraw!H6)","v":"Graham Miller"},{"$f":"IF(CupDraw!I6=\"\",\"\",CupDraw!I6)","v":""},{"$f":"IF(CupDraw!J6=\"\",\"\",CupDraw!J6)","v":""},null,null,{"$f":"CupDraw!M6","v":3},{"$f":"IF(CupDraw!N6=\"\",\"\",CupDraw!N6)","v":"Rob England"},{"$f":"IF(CupDraw!O6=\"\",\"\",CupDraw!O6)","v":""},{"$f":"IF(CupDraw!P6=\"\",\"\",CupDraw!P6)","v":""},null,null,{"$f":"CupDraw!S6","v":3},{"$f":"CupDraw!T6","v":"Await earlier tie"},{"$f":"IF(CupDraw!U6=\"\",\"\",CupDraw!U6)","v":""},{"$f":"IF(CupDraw!V6=\"\",\"\",CupDraw!V6)","v":""},null,null,{"$f":"CupDraw!Y6","v":3},{"$f":"CupDraw!Z6","v":"Await earlier tie"},{"$f":"IF(CupDraw!AA6=\"\",\"\",CupDraw!AA6)","v":""},{"$f":"CupDraw!AB6","v":""}]
[null,null,{"$f":"IF(CupDraw!H7=\"\",\"\",CupDraw!H7)","v":"Dan Baxter"},{"$f":"IF(CupDraw!I7=\"\",\"\",CupDraw!I7)","v":""},{"$f":"IF(CupDraw!J7=\"\",\"\",CupDraw!J7)","v":""},null,null,null,{"$f":"IF(CupDraw!N7=\"\",\"\",CupDraw!N7)","v":"Ashley Houghton"},{"$f":"IF(CupDraw!O7=\"\",\"\",CupDraw!O7)","v":""},{"$f":"IF(CupDraw!P7=\"\",\"\",CupDraw!P7)","v":""},null,null,null,{"$f":"CupDraw!T7","v":"Await earlier tie"},{"$f":"IF(CupDraw!U7=\"\",\"\",CupDraw!U7)","v":""},{"$f":"IF(CupDraw!V7=\"\",\"\",CupDraw!V7)","v":""},null,null,null,{"$f":"CupDraw!Z7","v":"Await earlier tie"},{"$f":"IF(CupDraw!AA7=\"\",\"\",CupDraw!AA7)","v":""}]
[null,{"$f":"CupDraw!G8","v":4},{"$f":"IF(CupDraw!H8=\"\",\"\",CupDraw!H8)","v":"Nigel Heyes"},{"$f":"IF(CupDraw!I8=\"\",\"\",CupDraw!I8)","v":""},{"$f":"IF(CupDraw!J8=\"\",\"\",CupDraw!J8)","v":""},null,null,{"$f":"CupDraw!M8","v":4},{"$f":"IF(CupDraw!N8=\"\",\"\",CupDraw!N8)","v":"John Ronan"},{"$f":"IF(CupDraw!O8=\"\",\"\",CupDraw!O8)","v":""},{"$f":"IF(CupDraw!P8=\"\",\"\",CupDraw!P8)","v":""},null,null,{"$f":"CupDraw!S8","v":4},{"$f":"CupDraw!T8","v":"Await earlier tie"},{"$f":"IF(CupDraw!U8=\"\",\"\",CupDraw!U8)","v":""},{"$f":"IF(CupDraw!V8=\"\",\"\",CupDraw!V8)","v":""},null,null,{"$f":"CupDraw!Y8","v":4},{"$f":"CupDraw!Z8","v":"Await earlier tie"},{"$f":"IF(CupDraw!AA8=\"\",\"\",CupDraw!AA8)","v":""},{"$f":"CupDraw!AB8","v":""}]
[null,null,{"$f":"IF(CupDraw!H9=\"\",\"\",CupDraw!H9)","v":"Vinny Topping"},{"$f":"IF(CupDraw!I9=\"\",\"\",CupDraw!I9)","v":""},{"$f":"IF(CupDraw!J9=\"\",\"\",CupDraw!J9)","v":""},null,null,null,{"$f":"IF(CupDraw!N9=\"\",\"\",CupDraw!N9)","v":"Steve Baxter"},{"$f":"IF(CupDraw!O9=\"\",\"\",CupDraw!O9)","v":""},{"$f":"IF(CupDraw!P9=\"\",\"\",CupDraw!P9)","v":""},null,null,null,{"$f":"CupDraw!T9","v":"Await earlier tie"},{"$f":"IF(CupDraw!U9=\"\",\"\",CupDraw!U9)","v":""},{"$f":"IF(CupDraw!V9=\"\",\"\",CupDraw!V9)","v":""},null,null,null,{"$f":"CupDraw!Z9","v":"Await earlier tie"},{"$f":"IF(CupDraw!AA9=\"\",\"\",CupDraw!AA9)","v":""}]
[null,{"$f":"CupDraw!G10","v":5},{"$f":"IF(CupDraw!H10=\"\",\"\",CupDraw!H10)","v":""},{"$f":"IF(CupDraw!I10=\"\",\"\",CupDraw!I10)","v":""},{"$f":"IF(CupDraw!J10=\"\",\"\",CupDraw!J10)","v":""},null,null,{"$f":"CupDraw!M10","v":5},{"$f":"IF(CupDraw!N10=\"\",\"\",CupDraw!N10)","v":"Gareth McGuire"},{"$f":"IF(CupDraw!O10=\"\",\"\",CupDraw!O10)","v":""},{"$f":"IF(CupDraw!P10=\"\",\"\",CupDraw!P10)","v":""},null,null,{"$f":"CupDraw!S10","v":5},{"$f":"CupDraw!T10","v":"Await earlier tie"},{"$f":"IF(CupDraw!U10=\"\",\"\",CupDraw!U10)","v":""},{"$f":"IF(CupDraw!V10=\"\",\"\",CupDraw!V10)","v":""},null,null,{"$f":"CupDraw!Y10","v":5},{"$f":"CupDraw!Z10","v":"Await earlier tie"},{"$f":"IF(CupDraw!AA10=\"\",\"\",CupDraw!AA10)","v":""},{"$f":"CupDraw!AB10","v":""}]
[null,null,{"$f":"IF(CupDraw!H11=\"\",\"\",CupDraw!H11)","v":""},{"$f":"IF(CupDraw!I11=\"\",\"\",CupDraw!I11)","v":""},{"$f":"IF(CupDraw!J11=\"\",\"\",CupDraw!J11)","v":""},null,null,null,{"$f":"IF(CupDraw!N11=\"\",\"\",CupDraw!N11)","v":"Liam Wah"},{"$f":"IF(CupDraw!O11=\"\",\"\",CupDraw!O11)","v":""},{"$f":"IF(CupDraw!P11=\"\",\"\",CupDraw!P11)","v":""},null,null,null,{"$f":"CupDraw!T11","v":"Await earlier tie"},{"$f":"IF(CupDraw!U11=\"\",\"\",CupDraw!U11)","v":""},{"$f":"IF(CupDraw!V11=\"\",\"\",CupDraw!V11)","v":""},null,null,null,{"$f":"CupDraw!Z11","v":"Await earlier tie"},{"$f":"IF(CupDraw!AA11=\"\",\"\",CupDraw!AA11)","v":""}]
[null,{"$f":"CupDraw!G12","v":6},{"$f":"IF(CupDraw!H12=\"\",\"\",CupDraw!H12)","v":""},{"$f":"IF(CupDraw!I12=\"\",\"\",CupDraw!I12)","v":""},{"$f":"IF(CupDraw!J12=\"\",\"\",CupDraw!J12)","v":""},null,null,{"$f":"CupDraw!M12","v":6},{"$f":"IF(CupDraw!N12=\"\",\"\",CupDraw!N12)","v":"Ste Bentley"},{"$f":"IF(CupDraw!O12=\"\",\"\",CupDraw!O12)","v":""},{"$f":"IF(CupDraw!P12=\"\",\"\",CupDraw!P12)","v":""},null,null,{"$f":"CupDraw!S12","v":6},{"$f":"CupDraw!T12","v":"Await earlier tie"},{"$f":"IF(CupDraw!U12=\"\",\"\",CupDraw!U12)","v":""},{"$f":"IF(CupDraw!V12=\"\",\"\",CupDraw!V12)","v":""},null,null,{"$f":"CupDraw!Y12","v":6},{"$f":"CupDraw!Z12","v":"Await earlier tie"},{"$f":"IF(CupDraw!AA12=\"\",\"\",CupDraw!AA12)","v":""},{"$f":"CupDraw!AB12","v":""}]
[null,null,{"$f":"IF(CupDraw!H13=\"\",\"\",CupDraw!H13)","v":""},{"$f":"IF(CupDraw!I13=\"\",\"\",CupDraw!I13)","v":""},{"$f":"IF(CupDraw!J13=\"\",\"\",CupDraw!J13)","v":""},null,null,null,{"$f":"IF(CupDraw!N13=\"\",\"\",CupDraw!N13)","v":"Alan White"},{"$f":"IF(CupDraw!O13=\"\",\"\",CupDraw!O13)","v":""},{"$f":"IF(CupDraw!P13=\"\",\"\",CupDraw!P13)","v":""},null,null,null,{"$f":"CupDraw!T13","v":"Await earlier tie"},{"$f":"IF(CupDraw!U13=\"\",\"\",CupDraw!U13)","v":""},{"$f":"IF(CupDraw!V13=\"\",\"\",CupDraw!V13)","v":""},null,null,null,{"$f":"CupDraw!Z13","v":"Await earlier tie"},{"$f":"IF(CupDraw!AA13=\"\",\"\",CupDraw!AA13)","v":""}]
[null,{"$f":"CupDraw!G14","v":7},{"$f":"IF(CupDraw!H14=\"\",\"\",CupDraw!H14)","v":""},{"$f":"IF(CupDraw!I14=\"\",\"\",CupDraw!I14)","v":""},{"$f":"IF(CupDraw!J14=\"\",\"\",CupDraw!J14)","v":""},null,null,{"$f":"CupDraw!M14","v":7},{"$f":"IF(CupDraw!N14=\"\",\"\",CupDraw!N14)","v":"Aaron Sudell"},{"$f":"IF(CupDraw!O14=\"\",\"\",CupDraw!O14)","v":""},{"$f":"IF(CupDraw!P14=\"\",\"\",CupDraw!P14)","v":""},null,null,{"$f":"CupDraw!S14","v":7},{"$f":"CupDraw!T14","v":"Await earlier tie"},{"$f":"IF(CupDraw!U14=\"\",\"\",CupDraw!U14)","v":""},{"$f":"IF(CupDraw!V14=\"\",\"\",CupDraw!V14)","v":""},null,null,{"$f":"CupDraw!Y14","v":7},{"$f":"CupDraw!Z14","v":"Await earlier tie"},{"$f":"IF(CupDraw!AA14=\"\",\"\",CupDraw!AA14)","v":""},{"$f":"CupDraw!AB14","v":""}]
[null,null,{"$f":"IF(CupDraw!H15=\"\",\"\",CupDraw!H15)","v":""},{"$f":"IF(CupDraw!I15=\"\",\"\",CupDraw!I15)","v":""},{"$f":"IF(CupDraw!J15=\"\",\"\",CupDraw!J15)","v":""},null,null,null,{"$f":"IF(CupDraw!N15=\"\",\"\",CupDraw!N15)","v":"Antony Robinson"},{"$f":"IF(CupDraw!O15=\"\",\"\",CupDraw!O15)","v":""},{"$f":"IF(CupDraw!P15=\"\",\"\",CupDraw!P15)","v":""},null,null,null,{"$f":"CupDraw!T15","v":"Await earlier tie"},{"$f":"IF(CupDraw!U15=\"\",\"\",CupDraw!U15)","v":""},{"$f":"IF(CupDraw!V15=\"\",\"\",CupDraw!V15)","v":""},null,null,null,{"$f":"CupDraw!Z15","v":"Await earlier tie"},{"$f":"IF(CupDraw!AA15=\"\",\"\",CupDraw!AA15)","v":""}]
[null,{"$f":"CupDraw!G16","v":8},{"$f":"IF(CupDraw!H16=\"\",\"\",CupDraw!H16)","v":""},{"$f":"IF(CupDraw!I16=\"\",\"\",CupDraw!I16)","v":""},{"$f":"IF(CupDraw!J16=\"\",\"\",CupDraw!J16)","v":""},null,null,{"$f":"CupDraw!M16","v":8},{"$f":"IF(CupDraw!N16=\"\",\"\",CupDraw!N16)","v":"Paul Adderley"},{"$f":"IF(CupDraw!O16=\"\",\"\",CupDraw!O16)","v":""},{"$f":"IF(CupDraw!P16=\"\",\"\",CupDraw!P16)","v":""},null,null,{"$f":"CupDraw!S16","v":8},{"$f":"CupDraw!T16","v":"Await earlier tie"},{"$f":"IF(CupDraw!U16=\"\",\"\",CupDraw!U16)","v":""},{"$f":"IF(CupDraw!V16=\"\",\"\",CupDraw!V16)","v":""},null,null,{"$f":"CupDraw!Y16","v":8},{"$f":"CupDraw!Z16","v":"Await earlier tie"},{"$f":"IF(CupDraw!AA16=\"\",\"\",CupDraw!AA16)","v":""},{"$f":"CupDraw!AB16","v":""}]
[null,null,{"$f":"IF(CupDraw!H17=\"\",\"\",CupDraw!H17)","v":""},{"$f":"IF(CupDraw!I17=\"\",\"\",CupDraw!I17)","v":""},{"$f":"IF(CupDraw!J17=\"\",\"\",CupDraw!J17)","v":""},null,null,null,{"$f":"IF(CupDraw!N17=\"\",\"\",CupDraw!N17)","v":"Chris Bow"},{"$f":"IF(CupDraw!O17=\"\",\"\",CupDraw!O17)","v":""},{"$f":"IF(CupDraw!P17=\"\",\"\",CupDraw!P17)","v":""},null,null,null,{"$f":"CupDraw!T17","v":"Await earlier tie"},{"$f":"IF(CupDraw!U17=\"\",\"\",CupDraw!U17)","v":""},{"$f":"IF(CupDraw!V17=\"\",\"\",CupDraw!V17)","v":""},null,null,null,{"$f":"CupDraw!Z17","v":"Await earlier tie"},{"$f":"IF(CupDraw!AA17=\"\",\"\",CupDraw!AA17)","v":""}]
[null,{"$f":"CupDraw!G18","v":9},{"$f":"IF(CupDraw!H18=\"\",\"\",CupDraw!H18)","v":""},{"$f":"IF(CupDraw!I18=\"\",\"\",CupDraw!I18)","v":""},{"$f":"IF(CupDraw!J18=\"\",\"\",CupDraw!J18)","v":""},null,null,{"$f":"CupDraw!M18","v":9},{"$f":"IF(CupDraw!N18=\"\",\"\",CupDraw!N18)","v":"Andy White"},{"$f":"IF(CupDraw!O18=\"\",\"\",CupDraw!O18)","v":""},{"$f":"IF(CupDraw!P18=\"\",\"\",CupDraw!P18)","v":""},null,null,{"$f":"CupDraw!S18","v":9},{"$f":"CupDraw!T18","v":"Await earlier tie"},{"$f":"IF(CupDraw!U18=\"\",\"\",CupDraw!U18)","v":""},{"$f":"IF(CupDraw!V18=\"\",\"\",CupDraw!V18)","v":""}]
[null,null,{"$f":"IF(CupDraw!H19=\"\",\"\",CupDraw!H19)","v":""},{"$f":"IF(CupDraw!I19=\"\",\"\",CupDraw!I19)","v":""},{"$f":"IF(CupDraw!J19=\"\",\"\",CupDraw!J19)","v":""},null,null,null,{"$f":"IF(CupDraw!N19=\"\",\"\",CupDraw!N19)","v":"Joel Bent"},{"$f":"IF(CupDraw!O19=\"\",\"\",CupDraw!O19)","v":""},{"$f":"IF(CupDraw!P19=\"\",\"\",CupDraw!P19)","v":""},null,null,null,{"$f":"CupDraw!T19","v":"Await earlier tie"},{"$f":"IF(CupDraw!U19=\"\",\"\",CupDraw!U19)","v":""},{"$f":"IF(CupDraw!V19=\"\",\"\",CupDraw!V19)","v":""}]
[null,{"$f":"CupDraw!G20","v":10},{"$f":"IF(CupDraw!H20=\"\",\"\",CupDraw!H20)","v":""},{"$f":"IF(CupDraw!I20=\"\",\"\",CupDraw!I20)","v":""},{"$f":"IF(CupDraw!J20=\"\",\"\",CupDraw!J20)","v":""},null,null,{"$f":"CupDraw!M20","v":10},{"$f":"IF(CupDraw!N20=\"\",\"\",CupDraw!N20)","v":"John Evans"},{"$f":"IF(CupDraw!O20=\"\",\"\",CupDraw!O20)","v":""},{"$f":"IF(CupDraw!P20=\"\",\"\",CupDraw!P20)","v":""},null,null,{"$f":"CupDraw!S20","v":10},{"$f":"CupDraw!T20","v":"Await earlier tie"},{"$f":"IF(CupDraw!U20=\"\",\"\",CupDraw!U20)","v":""},{"$f":"IF(CupDraw!V20=\"\",\"\",CupDraw!V20)","v":""}]
[null,null,{"$f":"IF(CupDraw!H21=\"\",\"\",CupDraw!H21)","v":""},{"$f":"IF(CupDraw!I21=\"\",\"\",CupDraw!I21)","v":""},{"$f":"IF(CupDraw!J21=\"\",\"\",CupDraw!J21)","v":""},null,null,null,{"$f":"IF(CupDraw!N21=\"\",\"\",CupDraw!N21)","v":"Mo Sudell"},{"$f":"IF(CupDraw!O21=\"\",\"\",CupDraw!O21)","v":""},{"$f":"IF(CupDraw!P21=\"\",\"\",CupDraw!P21)","v":""},null,null,null,{"$f":"CupDraw!T21","v":"Await earlier tie"},{"$f":"IF(CupDraw!U21=\"\",\"\",CupDraw!U21)","v":""},{"$f":"IF(CupDraw!V21=\"\",\"\",CupDraw!V21)","v":""},null,null,{"$f":"CupDraw!Y21","v":"Earlier Ties"}]
[null,{"$f":"CupDraw!G22","v":11},{"$f":"IF(CupDraw!H22=\"\",\"\",CupDraw!H22)","v":""},{"$f":"IF(CupDraw!I22=\"\",\"\",CupDraw!I22)","v":""},{"$f":"IF(CupDraw!J22=\"\",\"\",CupDraw!J22)","v":""},null,null,{"$f":"CupDraw!M22","v":11},{"$f":"IF(CupDraw!N22=\"\",\"\",CupDraw!N22)","v":"Dave Bell"},{"$f":"IF(CupDraw!O22=\"\",\"\",CupDraw!O22)","v":""},{"$f":"IF(CupDraw!P22=\"\",\"\",CupDraw!P22)","v":""},null,null,{"$f":"CupDraw!S22","v":11},{"$f":"CupDraw!T22","v":"Await earlier tie"},{"$f":"IF(CupDraw!U22=\"\",\"\",CupDraw!U22)","v":""},{"$f":"IF(CupDraw!V22=\"\",\"\",CupDraw!V22)","v":""}]
[null,null,{"$f":"IF(CupDraw!H23=\"\",\"\",CupDraw!H23)","v":""},{"$f":"IF(CupDraw!I23=\"\",\"\",CupDraw!I23)","v":""},{"$f":"IF(CupDraw!J23=\"\",\"\",CupDraw!J23)","v":""},null,null,null,{"$f":"IF(CupDraw!N23=\"\",\"\",CupDraw!N23)","v":"Martin Molyneux"},{"$f":"IF(CupDraw!O23=\"\",\"\",CupDraw!O23)","v":""},{"$f":"IF(CupDraw!P23=\"\",\"\",CupDraw!P23)","v":""},null,null,null,{"$f":"CupDraw!T23","v":"Await earlier tie"},{"$f":"IF(CupDraw!U23=\"\",\"\",CupDraw!U23)","v":""},{"$f":"IF(CupDraw!V23=\"\",\"\",CupDraw!V23)","v":""}]
[null,{"$f":"CupDraw!G24","v":12},{"$f":"IF(CupDraw!H24=\"\",\"\",CupDraw!H24)","v":""},{"$f":"IF(CupDraw!I24=\"\",\"\",CupDraw!I24)","v":""},{"$f":"IF(CupDraw!J24=\"\",\"\",CupDraw!J24)","v":""},null,null,{"$f":"CupDraw!M24","v":12},{"$f":"IF(CupDraw!N24=\"\",\"\",CupDraw!N24)","v":"Mark Bunn"},{"$f":"IF(CupDraw!O24=\"\",\"\",CupDraw!O24)","v":""},{"$f":"IF(CupDraw!P24=\"\",\"\",CupDraw!P24)","v":""},null,null,{"$f":"CupDraw!S24","v":12},{"$f":"CupDraw!T24","v":"Await earlier tie"},{"$f":"IF(CupDraw!U24=\"\",\"\",CupDraw!U24)","v":""},{"$f":"IF(CupDraw!V24=\"\",\"\",CupDraw!V24)","v":""},null,null,null,{"$f":"IF(CupDraw!Z24=\"\",\"\",CupDraw!Z24)","v":""},{"$f":"IF(CupDraw!AA24=\"\",\"\",CupDraw!AA24)","v":""}]
[null,null,{"$f":"IF(CupDraw!H25=\"\",\"\",CupDraw!H25)","v":""},{"$f":"IF(CupDraw!I25=\"\",\"\",CupDraw!I25)","v":""},{"$f":"IF(CupDraw!J25=\"\",\"\",CupDraw!J25)","v":""},null,null,null,{"$f":"IF(CupDraw!N25=\"\",\"\",CupDraw!N25)","v":"Paul Fiddler"},{"$f":"IF(CupDraw!O25=\"\",\"\",CupDraw!O25)","v":""},{"$f":"IF(CupDraw!P25=\"\",\"\",CupDraw!P25)","v":""},null,null,null,{"$f":"CupDraw!T25","v":"Await earlier tie"},{"$f":"IF(CupDraw!U25=\"\",\"\",CupDraw!U25)","v":""},{"$f":"IF(CupDraw!V25=\"\",\"\",CupDraw!V25)","v":""},null,null,null,{"$f":"IF(CupDraw!Z25=\"\",\"\",CupDraw!Z25)","v":""},{"$f":"IF(CupDraw!AA25=\"\",\"\",CupDraw!AA25)","v":""}]
[null,{"$f":"CupDraw!G26","v":13},{"$f":"IF(CupDraw!H26=\"\",\"\",CupDraw!H26)","v":""},{"$f":"IF(CupDraw!I26=\"\",\"\",CupDraw!I26)","v":""},{"$f":"IF(CupDraw!J26=\"\",\"\",CupDraw!J26)","v":""},null,null,{"$f":"CupDraw!M26","v":13},{"$f":"IF(CupDraw!N26=\"\",\"\",CupDraw!N26)","v":"Lennie Bow"},{"$f":"IF(CupDraw!O26=\"\",\"\",CupDraw!O26)","v":""},{"$f":"IF(CupDraw!P26=\"\",\"\",CupDraw!P26)","v":""},null,null,{"$f":"CupDraw!S26","v":13},{"$f":"CupDraw!T26","v":"Await earlier tie"},{"$f":"IF(CupDraw!U26=\"\",\"\",CupDraw!U26)","v":""},{"$f":"IF(CupDraw!V26=\"\",\"\",CupDraw!V26)","v":""},null,null,null,{"$f":"IF(CupDraw!Z26=\"\",\"\",CupDraw!Z26)","v":""},{"$f":"IF(CupDraw!AA26=\"\",\"\",CupDraw!AA26)","v":""},{"$f":"CupDraw!AB26","v":""}]
[null,null,{"$f":"IF(CupDraw!H27=\"\",\"\",CupDraw!H27)","v":""},{"$f":"IF(CupDraw!I27=\"\",\"\",CupDraw!I27)","v":""},{"$f":"IF(CupDraw!J27=\"\",\"\",CupDraw!J27)","v":""},null,null,null,{"$f":"IF(CupDraw!N27=\"\",\"\",CupDraw!N27)","v":"Ben Rosser"},{"$f":"IF(CupDraw!O27=\"\",\"\",CupDraw!O27)","v":""},{"$f":"IF(CupDraw!P27=\"\",\"\",CupDraw!P27)","v":""},null,null,null,{"$f":"CupDraw!T27","v":"Await earlier tie"},{"$f":"IF(CupDraw!U27=\"\",\"\",CupDraw!U27)","v":""},{"$f":"IF(CupDraw!V27=\"\",\"\",CupDraw!V27)","v":""},null,null,null,{"$f":"IF(CupDraw!Z27=\"\",\"\",CupDraw!Z27)","v":""},{"$f":"IF(CupDraw!AA27=\"\",\"\",CupDraw!AA27)","v":""}]
[null,{"$f":"CupDraw!G28","v":14},{"$f":"IF(CupDraw!H28=\"\",\"\",CupDraw!H28)","v":""},{"$f":"IF(CupDraw!I28=\"\",\"\",CupDraw!I28)","v":""},{"$f":"IF(CupDraw!J28=\"\",\"\",CupDraw!J28)","v":""},null,null,{"$f":"CupDraw!M28","v":14},{"$f":"IF(CupDraw!N28=\"\",\"\",CupDraw!N28)","v":"Kei Lok Ma"},{"$f":"IF(CupDraw!O28=\"\",\"\",CupDraw!O28)","v":""},{"$f":"IF(CupDraw!P28=\"\",\"\",CupDraw!P28)","v":""},null,null,{"$f":"CupDraw!S28","v":14},{"$f":"CupDraw!T28","v":"Await earlier tie"},{"$f":"IF(CupDraw!U28=\"\",\"\",CupDraw!U28)","v":""},{"$f":"IF(CupDraw!V28=\"\",\"\",CupDraw!V28)","v":""},null,null,null,{"$f":"IF(CupDraw!Z28=\"\",\"\",CupDraw!Z28)","v":""},{"$f":"IF(CupDraw!AA28=\"\",\"\",CupDraw!AA28)","v":""},{"$f":"CupDraw!AB28","v":""}]
[null,null,{"$f":"IF(CupDraw!H29=\"\",\"\",CupDraw!H29)","v":""},{"$f":"IF(CupDraw!I29=\"\",\"\",CupDraw!I29)","v":""},{"$f":"IF(CupDraw!J29=\"\",\"\",CupDraw!J29)","v":""},null,null,null,{"$f":"IF(CupDraw!N29=\"\",\"\",CupDraw!N29)","v":"Martin Tarbuck"},{"$f":"IF(CupDraw!O29=\"\",\"\",CupDraw!O29)","v":""},{"$f":"IF(CupDraw!P29=\"\",\"\",CupDraw!P29)","v":""},null,null,null,{"$f":"CupDraw!T29","v":"Await earlier tie"},{"$f":"IF(CupDraw!U29=\"\",\"\",CupDraw!U29)","v":""},{"$f":"IF(CupDraw!V29=\"\",\"\",CupDraw!V29)","v":""},null,null,null,{"$f":"IF(CupDraw!Z29=\"\",\"\",CupDraw!Z29)","v":""},{"$f":"IF(CupDraw!AA29=\"\",\"\",CupDraw!AA29)","v":""}]
[null,{"$f":"CupDraw!G30","v":15},{"$f":"IF(CupDraw!H30=\"\",\"\",CupDraw!H30)","v":""},{"$f":"IF(CupDraw!I30=\"\",\"\",CupDraw!I30)","v":""},{"$f":"IF(CupDraw!J30=\"\",\"\",CupDraw!J30)","v":""},null,null,{"$f":"CupDraw!M30","v":15},{"$f":"IF(CupDraw!N30=\"\",\"\",CupDraw!N30)","v":"Barry Birchall"},{"$f":"IF(CupDraw!O30=\"\",\"\",CupDraw!O30)","v":""},{"$f":"IF(CupDraw!P30=\"\",\"\",CupDraw!P30)","v":""},null,null,{"$f":"CupDraw!S30","v":15},{"$f":"CupDraw!T30","v":"Await earlier tie"},{"$f":"IF(CupDraw!U30=\"\",\"\",CupDraw!U30)","v":""},{"$f":"IF(CupDraw!V30=\"\",\"\",CupDraw!V30)","v":""}]
[null,null,{"$f":"IF(CupDraw!H31=\"\",\"\",CupDraw!H31)","v":""},{"$f":"IF(CupDraw!I31=\"\",\"\",CupDraw!I31)","v":""},{"$f":"IF(CupDraw!J31=\"\",\"\",CupDraw!J31)","v":""},null,null,null,{"$f":"IF(CupDraw!N31=\"\",\"\",CupDraw!N31)","v":"Paul Ridgeway"},{"$f":"IF(CupDraw!O31=\"\",\"\",CupDraw!O31)","v":""},{"$f":"IF(CupDraw!P31=\"\",\"\",CupDraw!P31)","v":""},null,null,null,{"$f":"CupDraw!T31","v":"Await earlier tie"},{"$f":"IF(CupDraw!U31=\"\",\"\",CupDraw!U31)","v":""},{"$f":"IF(CupDraw!V31=\"\",\"\",CupDraw!V31)","v":""}]
[null,{"$f":"CupDraw!G32","v":16},{"$f":"IF(CupDraw!H32=\"\",\"\",CupDraw!H32)","v":""},{"$f":"IF(CupDraw!I32=\"\",\"\",CupDraw!I32)","v":""},{"$f":"IF(CupDraw!J32=\"\",\"\",CupDraw!J32)","v":""},null,null,{"$f":"CupDraw!M32","v":16},{"$f":"IF(CupDraw!N32=\"\",\"\",CupDraw!N32)","v":"Jack Walsh"},{"$f":"IF(CupDraw!O32=\"\",\"\",CupDraw!O32)","v":""},{"$f":"IF(CupDraw!P32=\"\",\"\",CupDraw!P32)","v":""},null,null,{"$f":"CupDraw!S32","v":16},{"$f":"CupDraw!T32","v":"Await earlier tie"},{"$f":"IF(CupDraw!U32=\"\",\"\",CupDraw!U32)","v":""},{"$f":"IF(CupDraw!V32=\"\",\"\",CupDraw!V32)","v":""}]
[null,null,{"$f":"IF(CupDraw!H33=\"\",\"\",CupDraw!H33)","v":""},{"$f":"IF(CupDraw!I33=\"\",\"\",CupDraw!I33)","v":""},{"$f":"IF(CupDraw!J33=\"\",\"\",CupDraw!J33)","v":""},null,null,null,{"$f":"IF(CupDraw!N33=\"\",\"\",CupDraw!N33)","v":"Andy Charleston"},{"$f":"IF(CupDraw!O33=\"\",\"\",CupDraw!O33)","v":""},{"$f":"IF(CupDraw!P33=\"\",\"\",CupDraw!P33)","v":""},null,null,null,{"$f":"CupDraw!T33","v":"Await earlier tie"},{"$f":"IF(CupDraw!U33=\"\",\"\",CupDraw!U33)","v":""},{"$f":"IF(CupDraw!V33=\"\",\"\",CupDraw!V33)","v":""}]
[null,{"$f":"CupDraw!G34","v":17},{"$f":"IF(CupDraw!H34=\"\",\"\",CupDraw!H34)","v":""},{"$f":"IF(CupDraw!I34=\"\",\"\",CupDraw!I34)","v":""},{"$f":"IF(CupDraw!J34=\"\",\"\",CupDraw!J34)","v":""},null,null,{"$f":"CupDraw!M34","v":17},{"$f":"IF(CupDraw!N34=\"\",\"\",CupDraw!N34)","v":"Ian Davies"},{"$f":"IF(CupDraw!O34=\"\",\"\",CupDraw!O34)","v":""},{"$f":"IF(CupDraw!P34=\"\",\"\",CupDraw!P34)","v":""},null,null,null,null,null,{"$f":"IF(CupDraw!V34=\"\",\"\",CupDraw!V34)","v":""}]
[null,null,{"$f":"IF(CupDraw!H35=\"\",\"\",CupDraw!H35)","v":""},{"$f":"IF(CupDraw!I35=\"\",\"\",CupDraw!I35)","v":""},{"$f":"IF(CupDraw!J35=\"\",\"\",CupDraw!J35)","v":""},null,null,null,{"$f":"IF(CupDraw!N35=\"\",\"\",CupDraw!N35)","v":"Oscar Jackson"},{"$f":"IF(CupDraw!O35=\"\",\"\",CupDraw!O35)","v":""},{"$f":"IF(CupDraw!P35=\"\",\"\",CupDraw!P35)","v":""},null,null,null,null,null,{"$f":"IF(CupDraw!V35=\"\",\"\",CupDraw!V35)","v":""}]
[null,{"$f":"CupDraw!G36","v":18},{"$f":"IF(CupDraw!H36=\"\",\"\",CupDraw!H36)","v":""},{"$f":"IF(CupDraw!I36=\"\",\"\",CupDraw!I36)","v":""},{"$f":"IF(CupDraw!J36=\"\",\"\",CupDraw!J36)","v":""},null,null,{"$f":"CupDraw!M36","v":18},{"$f":"IF(CupDraw!N36=\"\",\"\",CupDraw!N36)","v":"Paul Allen"},{"$f":"IF(CupDraw!O36=\"\",\"\",CupDraw!O36)","v":""},{"$f":"IF(CupDraw!P36=\"\",\"\",CupDraw!P36)","v":""},null,null,null,null,null,{"$f":"IF(CupDraw!V36=\"\",\"\",CupDraw!V36)","v":""}]
[null,null,{"$f":"IF(CupDraw!H37=\"\",\"\",CupDraw!H37)","v":""},{"$f":"IF(CupDraw!I37=\"\",\"\",CupDraw!I37)","v":""},{"$f":"IF(CupDraw!J37=\"\",\"\",CupDraw!J37)","v":""},null,null,null,{"$f":"IF(CupDraw!N37=\"\",\"\",CupDraw!N37)","v":"Kevin Carter"},{"$f":"IF(CupDraw!O37=\"\",\"\",CupDraw!O37)","v":""},{"$f":"IF(CupDraw!P37=\"\",\"\",CupDraw!P37)","v":""},null,null,{"$f":"CupDraw!S37","v":"Replay"},null,null,{"$f":"IF(CupDraw!V37=\"\",\"\",CupDraw!V37)","v":""}]
[null,{"$f":"CupDraw!G38","v":19},{"$f":"IF(CupDraw!H38=\"\",\"\",CupDraw!H38)","v":""},{"$f":"IF(CupDraw!I38=\"\",\"\",CupDraw!I38)","v":""},{"$f":"IF(CupDraw!J38=\"\",\"\",CupDraw!J38)","v":""},null,null,{"$f":"CupDraw!M38","v":19},{"$f":"IF(CupDraw!N38=\"\",\"\",CupDraw!N38)","v":"Nick Blocksidge"},{"$f":"IF(CupDraw!O38=\"\",\"\",CupDraw!O38)","v":""},{"$f":"IF(CupDraw!P38=\"\",\"\",CupDraw!P38)","v":""},null,null,null,{"$f":"IF(CupDraw!T38=\"\",\"\",CupDraw!T38)","v":""},{"$f":"IF(CupDraw!U38=\"\",\"\",CupDraw!U38)","v":""},{"$f":"IF(CupDraw!V38=\"\",\"\",CupDraw!V38)","v":""},null,null,{"$f":"CupDraw!Y38","v":"QF"},{"$f":"CupDraw!Z38","v":"2019-11-02"}]
[null,null,{"$f":"IF(CupDraw!H39=\"\",\"\",CupDraw!H39)","v":""},{"$f":"IF(CupDraw!I39=\"\",\"\",CupDraw!I39)","v":""},{"$f":"IF(CupDraw!J39=\"\",\"\",CupDraw!J39)","v":""},null,null,null,{"$f":"IF(CupDraw!N39=\"\",\"\",CupDraw!N39)","v":"James Bell"},{"$f":"IF(CupDraw!O39=\"\",\"\",CupDraw!O39)","v":""},{"$f":"IF(CupDraw!P39=\"\",\"\",CupDraw!P39)","v":""},null,null,null,{"$f":"IF(CupDraw!T39=\"\",\"\",CupDraw!T39)","v":""},{"$f":"IF(CupDraw!U39=\"\",\"\",CupDraw!U39)","v":""},{"$f":"IF(CupDraw!V39=\"\",\"\",CupDraw!V39)","v":""},null,null,{"$f":"CupDraw!Y39","v":1},{"$f":"CupDraw!Z39","v":"Await earlier tie"},{"$f":"IF(CupDraw!AA39=\"\",\"\",CupDraw!AA39)","v":""},{"$f":"IF(CupDraw!AB39=\"\",\"\",CupDraw!AB39)","v":""}]
[null,{"$f":"CupDraw!G40","v":20},{"$f":"IF(CupDraw!H40=\"\",\"\",CupDraw!H40)","v":""},{"$f":"IF(CupDraw!I40=\"\",\"\",CupDraw!I40)","v":""},{"$f":"IF(CupDraw!J40=\"\",\"\",CupDraw!J40)","v":""},null,null,{"$f":"CupDraw!M40","v":20},{"$f":"IF(CupDraw!N40=\"\",\"\",CupDraw!N40)","v":"Phil Miller"},{"$f":"IF(CupDraw!O40=\"\",\"\",CupDraw!O40)","v":""},{"$f":"IF(CupDraw!P40=\"\",\"\",CupDraw!P40)","v":""},null,null,null,{"$f":"IF(CupDraw!T40=\"\",\"\",CupDraw!T40)","v":""},{"$f":"IF(CupDraw!U40=\"\",\"\",CupDraw!U40)","v":""},{"$f":"IF(CupDraw!V40=\"\",\"\",CupDraw!V40)","v":""},null,null,null,{"$f":"CupDraw!Z40","v":"Await earlier tie"},{"$f":"IF(CupDraw!AA40=\"\",\"\",CupDraw!AA40)","v":""},{"$f":"IF(CupDraw!AB40=\"\",\"\",CupDraw!AB40)","v":""}]
[null,null,{"$f":"IF(CupDraw!H41=\"\",\"\",CupDraw!H41)","v":""},{"$f":"IF(CupDraw!I41=\"\",\"\",CupDraw!I41)","v":""},{"$f":"IF(CupDraw!J41=\"\",\"\",CupDraw!J41)","v":""},null,null,null,{"$f":"IF(CupDraw!N41=\"\",\"\",CupDraw!N41)","v":"Gareth Powell"},{"$f":"IF(CupDraw!O41=\"\",\"\",CupDraw!O41)","v":""},{"$f":"IF(CupDraw!P41=\"\",\"\",CupDraw!P41)","v":""},null,null,null,{"$f":"IF(CupDraw!T41=\"\",\"\",CupDraw!T41)","v":""},{"$f":"IF(CupDraw!U41=\"\",\"\",CupDraw!U41)","v":""},{"$f":"IF(CupDraw!V41=\"\",\"\",CupDraw!V41)","v":""},null,null,{"$f":"CupDraw!Y41","v":2},{"$f":"CupDraw!Z41","v":"Await earlier tie"},{"$f":"IF(CupDraw!AA41=\"\",\"\",CupDraw!AA41)","v":""},{"$f":"IF(CupDraw!AB41=\"\",\"\",CupDraw!AB41)","v":""}]
[null,{"$f":"CupDraw!G42","v":21},{"$f":"IF(CupDraw!H42=\"\",\"\",CupDraw!H42)","v":""},{"$f":"IF(CupDraw!I42=\"\",\"\",CupDraw!I42)","v":""},{"$f":"IF(CupDraw!J42=\"\",\"\",CupDraw!J42)","v":""},null,null,{"$f":"CupDraw!M42","v":21},{"$f":"IF(CupDraw!N42=\"\",\"\",CupDraw!N42)","v":"Stephen Troop"},{"$f":"IF(CupDraw!O42=\"\",\"\",CupDraw!O42)","v":""},{"$f":"IF(CupDraw!P42=\"\",\"\",CupDraw!P42)","v":""},null,null,null,{"$f":"IF(CupDraw!T42=\"\",\"\",CupDraw!T42)","v":""},{"$f":"IF(CupDraw!U42=\"\",\"\",CupDraw!U42)","v":""},{"$f":"IF(CupDraw!V42=\"\",\"\",CupDraw!V42)","v":""},null,null,null,{"$f":"CupDraw!Z42","v":"Await earlier tie"},{"$f":"IF(CupDraw!AA42=\"\",\"\",CupDraw!AA42)","v":""},{"$f":"IF(CupDraw!AB42=\"\",\"\",CupDraw!AB42)","v":""}]
[null,null,{"$f":"IF(CupDraw!H43=\"\",\"\",CupDraw!H43)","v":""},{"$f":"IF(CupDraw!I43=\"\",\"\",CupDraw!I43)","v":""},{"$f":"IF(CupDraw!J43=\"\",\"\",CupDraw!J43)","v":""},null,null,null,{"$f":"IF(CupDraw!N43=\"\",\"\",CupDraw!N43)","v":"Sally Williams"},{"$f":"IF(CupDraw!O43=\"\",\"\",CupDraw!O43)","v":""},{"$f":"IF(CupDraw!P43=\"\",\"\",CupDraw!P43)","v":""},null,null,null,{"$f":"IF(CupDraw!T43=\"\",\"\",CupDraw!T43)","v":""},{"$f":"IF(CupDraw!U43=\"\",\"\",CupDraw!U43)","v":""},{"$f":"IF(CupDraw!V43=\"\",\"\",CupDraw!V43)","v":""},null,null,{"$f":"CupDraw!Y43","v":3},{"$f":"CupDraw!Z43","v":"Await earlier tie"},{"$f":"IF(CupDraw!AA43=\"\",\"\",CupDraw!AA43)","v":""},{"$f":"IF(CupDraw!AB43=\"\",\"\",CupDraw!AB43)","v":""}]
[null,{"$f":"CupDraw!G44","v":22},{"$f":"IF(CupDraw!H44=\"\",\"\",CupDraw!H44)","v":""},{"$f":"IF(CupDraw!I44=\"\",\"\",CupDraw!I44)","v":""},{"$f":"IF(CupDraw!J44=\"\",\"\",CupDraw!J44)","v":""},null,null,{"$f":"CupDraw!M44","v":22},{"$f":"IF(CupDraw!N44=\"\",\"\",CupDraw!N44)","v":"Graeme Holmes"},{"$f":"IF(CupDraw!O44=\"\",\"\",CupDraw!O44)","v":""},{"$f":"IF(CupDraw!P44=\"\",\"\",CupDraw!P44)","v":""},null,null,null,{"$f":"IF(CupDraw!T44=\"\",\"\",CupDraw!T44)","v":""},{"$f":"IF(CupDraw!U44=\"\",\"\",CupDraw!U44)","v":""},{"$f":"IF(CupDraw!V44=\"\",\"\",CupDraw!V44)","v":""},null,null,null,{"$f":"CupDraw!Z44","v":"Await earlier tie"},{"$f":"IF(CupDraw!AA44=\"\",\"\",CupDraw!AA44)","v":""},{"$f":"IF(CupDraw!AB44=\"\",\"\",CupDraw!AB44)","v":""}]
[null,null,{"$f":"IF(CupDraw!H45=\"\",\"\",CupDraw!H45)","v":""},{"$f":"IF(CupDraw!I45=\"\",\"\",CupDraw!I45)","v":""},{"$f":"IF(CupDraw!J45=\"\",\"\",CupDraw!J45)","v":""},null,null,null,{"$f":"IF(CupDraw!N45=\"\",\"\",CupDraw!N45)","v":"Stephen Barr"},{"$f":"IF(CupDraw!O45=\"\",\"\",CupDraw!O45)","v":""},{"$f":"IF(CupDraw!P45=\"\",\"\",CupDraw!P45)","v":""},null,null,null,{"$f":"IF(CupDraw!T45=\"\",\"\",CupDraw!T45)","v":""},{"$f":"IF(CupDraw!U45=\"\",\"\",CupDraw!U45)","v":""},{"$f":"IF(CupDraw!V45=\"\",\"\",CupDraw!V45)","v":""},null,null,{"$f":"CupDraw!Y45","v":4},{"$f":"CupDraw!Z45","v":"Await earlier tie"},{"$f":"IF(CupDraw!AA45=\"\",\"\",CupDraw!AA45)","v":""},{"$f":"IF(CupDraw!AB45=\"\",\"\",CupDraw!AB45)","v":""}]
[null,{"$f":"CupDraw!G46","v":23},{"$f":"IF(CupDraw!H46=\"\",\"\",CupDraw!H46)","v":""},{"$f":"IF(CupDraw!I46=\"\",\"\",CupDraw!I46)","v":""},{"$f":"IF(CupDraw!J46=\"\",\"\",CupDraw!J46)","v":""},null,null,{"$f":"CupDraw!M46","v":23},{"$f":"IF(CupDraw!N46=\"\",\"\",CupDraw!N46)","v":"Steve Carter"},{"$f":"IF(CupDraw!O46=\"\",\"\",CupDraw!O46)","v":""},{"$f":"IF(CupDraw!P46=\"\",\"\",CupDraw!P46)","v":""},null,null,null,{"$f":"IF(CupDraw!T46=\"\",\"\",CupDraw!T46)","v":""},{"$f":"IF(CupDraw!U46=\"\",\"\",CupDraw!U46)","v":""},{"$f":"IF(CupDraw!V46=\"\",\"\",CupDraw!V46)","v":""},null,null,null,{"$f":"CupDraw!Z46","v":"Await earlier tie"},{"$f":"IF(CupDraw!AA46=\"\",\"\",CupDraw!AA46)","v":""},{"$f":"IF(CupDraw!AB46=\"\",\"\",CupDraw!AB46)","v":""}]
[null,null,{"$f":"IF(CupDraw!H47=\"\",\"\",CupDraw!H47)","v":""},{"$f":"IF(CupDraw!I47=\"\",\"\",CupDraw!I47)","v":""},{"$f":"IF(CupDraw!J47=\"\",\"\",CupDraw!J47)","v":""},null,null,null,{"$f":"IF(CupDraw!N47=\"\",\"\",CupDraw!N47)","v":"Mike Penk"},{"$f":"IF(CupDraw!O47=\"\",\"\",CupDraw!O47)","v":""},{"$f":"IF(CupDraw!P47=\"\",\"\",CupDraw!P47)","v":""},null,null,null,{"$f":"IF(CupDraw!T47=\"\",\"\",CupDraw!T47)","v":""},{"$f":"IF(CupDraw!U47=\"\",\"\",CupDraw!U47)","v":""},{"$f":"IF(CupDraw!V47=\"\",\"\",CupDraw!V47)","v":""}]
[null,{"$f":"CupDraw!G48","v":24},{"$f":"IF(CupDraw!H48=\"\",\"\",CupDraw!H48)","v":""},{"$f":"IF(CupDraw!I48=\"\",\"\",CupDraw!I48)","v":""},{"$f":"IF(CupDraw!J48=\"\",\"\",CupDraw!J48)","v":""},null,null,{"$f":"CupDraw!M48","v":24},{"$f":"IF(CupDraw!N48=\"\",\"\",CupDraw!N48)","v":"Howard Bradley"},{"$f":"IF(CupDraw!O48=\"\",\"\",CupDraw!O48)","v":""},{"$f":"IF(CupDraw!P48=\"\",\"\",CupDraw!P48)","v":""}]
[null,null,{"$f":"IF(CupDraw!H49=\"\",\"\",CupDraw!H49)","v":""},{"$f":"IF(CupDraw!I49=\"\",\"\",CupDraw!I49)","v":""},{"$f":"IF(CupDraw!J49=\"\",\"\",CupDraw!J49)","v":""},null,null,null,{"$f":"IF(CupDraw!N49=\"\",\"\",CupDraw!N49)","v":"Chris Griffin"},{"$f":"IF(CupDraw!O49=\"\",\"\",CupDraw!O49)","v":""},{"$f":"IF(CupDraw!P49=\"\",\"\",CupDraw!P49)","v":""},null,null,null,null,null,null,null,null,{"$f":"CupDraw!Y49","v":"Earlier Ties"}]
[null,{"$f":"CupDraw!G50","v":25},{"$f":"IF(CupDraw!H50=\"\",\"\",CupDraw!H50)","v":""},{"$f":"IF(CupDraw!I50=\"\",\"\",CupDraw!I50)","v":""},{"$f":"IF(CupDraw!J50=\"\",\"\",CupDraw!J50)","v":""},null,null,{"$f":"CupDraw!M50","v":25},{"$f":"IF(CupDraw!N50=\"\",\"\",CupDraw!N50)","v":"Dave Orrell"},{"$f":"IF(CupDraw!O50=\"\",\"\",CupDraw!O50)","v":""},{"$f":"IF(CupDraw!P50=\"\",\"\",CupDraw!P50)","v":""},null,null,null,null,null,null,null,null,null,{"$f":"IF(CupDraw!Z50=\"\",\"\",CupDraw!Z50)","v":""},{"$f":"IF(CupDraw!AA50=\"\",\"\",CupDraw!AA50)","v":""},{"$f":"IF(CupDraw!AB50=\"\",\"\",CupDraw!AB50)","v":""}]
[null,null,{"$f":"IF(CupDraw!H51=\"\",\"\",CupDraw!H51)","v":""},{"$f":"IF(CupDraw!I51=\"\",\"\",CupDraw!I51)","v":""},{"$f":"IF(CupDraw!J51=\"\",\"\",CupDraw!J51)","v":""},null,null,null,{"$f":"IF(CupDraw!N51=\"\",\"\",CupDraw!N51)","v":"Chris Luck"},{"$f":"IF(CupDraw!O51=\"\",\"\",CupDraw!O51)","v":""},{"$f":"IF(CupDraw!P51=\"\",\"\",CupDraw!P51)","v":""},null,null,null,null,null,null,null,null,null,{"$f":"IF(CupDraw!Z51=\"\",\"\",CupDraw!Z51)","v":""},{"$f":"IF(CupDraw!AA51=\"\",\"\",CupDraw!AA51)","v":""},{"$f":"IF(CupDraw!AB51=\"\",\"\",CupDraw!AB51)","v":""}]
[null,{"$f":"CupDraw!G52","v":26},{"$f":"IF(CupDraw!H52=\"\",\"\",CupDraw!H52)","v":""},{"$f":"IF(CupDraw!I52=\"\",\"\",CupDraw!I52)","v":""},{"$f":"IF(CupDraw!J52=\"\",\"\",CupDraw!J52)","v":""},null,null,{"$f":"CupDraw!M52","v":26},{"$f":"IF(CupDraw!N52=\"\",\"\",CupDraw!N52)","v":"David Dunn"},{"$f":"IF(CupDraw!O52=\"\",\"\",CupDraw!O52)","v":""},{"$f":"IF(CupDraw!P52=\"\",\"\",CupDraw!P52)","v":""},null,null,null,null,null,null,null,null,null,{"$f":"IF(CupDraw!Z52=\"\",\"\",CupDraw!Z52)","v":""},{"$f":"IF(CupDraw!AA52=\"\",\"\",CupDraw!AA52)","v":""},{"$f":"IF(CupDraw!AB52=\"\",\"\",CupDraw!AB52)","v":""}]
[null,null,{"$f":"IF(CupDraw!H53=\"\",\"\",CupDraw!H53)","v":""},{"$f":"IF(CupDraw!I53=\"\",\"\",CupDraw!I53)","v":""},{"$f":"IF(CupDraw!J53=\"\",\"\",CupDraw!J53)","v":""},null,null,null,{"$f":"IF(CupDraw!N53=\"\",\"\",CupDraw!N53)","v":"Simon Greenhalgh"},{"$f":"IF(CupDraw!O53=\"\",\"\",CupDraw!O53)","v":""},{"$f":"IF(CupDraw!P53=\"\",\"\",CupDraw!P53)","v":""},null,null,null,null,null,null,null,null,null,{"$f":"IF(CupDraw!Z53=\"\",\"\",CupDraw!Z53)","v":""},{"$f":"IF(CupDraw!AA53=\"\",\"\",CupDraw!AA53)","v":""},{"$f":"IF(CupDraw!AB53=\"\",\"\",CupDraw!AB53)","v":""}]
[null,{"$f":"CupDraw!G54","v":27},{"$f":"IF(CupDraw!H54=\"\",\"\",CupDraw!H54)","v":""},{"$f":"IF(CupDraw!I54=\"\",\"\",CupDraw!I54)","v":""},{"$f":"IF(CupDraw!J54=\"\",\"\",CupDraw!J54)","v":""},null,null,{"$f":"CupDraw!M54","v":27},{"$f":"IF(CupDraw!N54=\"\",\"\",CupDraw!N54)","v":"Mark Saunders"},{"$f":"IF(CupDraw!O54=\"\",\"\",CupDraw!O54)","v":""},{"$f":"IF(CupDraw!P54=\"\",\"\",CupDraw!P54)","v":""},null,null,null,null,null,null,null,null,null,{"$f":"IF(CupDraw!Z54=\"\",\"\",CupDraw!Z54)","v":""},{"$f":"IF(CupDraw!AA54=\"\",\"\",CupDraw!AA54)","v":""},{"$f":"IF(CupDraw!AB54=\"\",\"\",CupDraw!AB54)","v":""}]
[null,null,{"$f":"IF(CupDraw!H55=\"\",\"\",CupDraw!H55)","v":""},{"$f":"IF(CupDraw!I55=\"\",\"\",CupDraw!I55)","v":""},{"$f":"IF(CupDraw!J55=\"\",\"\",CupDraw!J55)","v":""},null,null,null,{"$f":"IF(CupDraw!N55=\"\",\"\",CupDraw!N55)","v":"Paul Fairhurst"},{"$f":"IF(CupDraw!O55=\"\",\"\",CupDraw!O55)","v":""},{"$f":"IF(CupDraw!P55=\"\",\"\",CupDraw!P55)","v":""},null,null,null,null,null,null,null,null,null,{"$f":"IF(CupDraw!Z55=\"\",\"\",CupDraw!Z55)","v":""},{"$f":"IF(CupDraw!AA55=\"\",\"\",CupDraw!AA55)","v":""},{"$f":"IF(CupDraw!AB55=\"\",\"\",CupDraw!AB55)","v":""}]
[null,{"$f":"CupDraw!G56","v":28},{"$f":"IF(CupDraw!H56=\"\",\"\",CupDraw!H56)","v":""},{"$f":"IF(CupDraw!I56=\"\",\"\",CupDraw!I56)","v":""},{"$f":"IF(CupDraw!J56=\"\",\"\",CupDraw!J56)","v":""},null,null,{"$f":"CupDraw!M56","v":28},{"$f":"IF(CupDraw!N56=\"\",\"\",CupDraw!N56)","v":"Charlie Griffiths"},{"$f":"IF(CupDraw!O56=\"\",\"\",CupDraw!O56)","v":""},{"$f":"IF(CupDraw!P56=\"\",\"\",CupDraw!P56)","v":""},null,null,null,null,null,null,null,null,null,{"$f":"IF(CupDraw!Z56=\"\",\"\",CupDraw!Z56)","v":""},{"$f":"IF(CupDraw!AA56=\"\",\"\",CupDraw!AA56)","v":""},{"$f":"IF(CupDraw!AB56=\"\",\"\",CupDraw!AB56)","v":""}]
[null,null,{"$f":"IF(CupDraw!H57=\"\",\"\",CupDraw!H57)","v":""},{"$f":"IF(CupDraw!I57=\"\",\"\",CupDraw!I57)","v":""},{"$f":"IF(CupDraw!J57=\"\",\"\",CupDraw!J57)","v":""},null,null,null,{"$f":"IF(CupDraw!N57=\"\",\"\",CupDraw!N57)","v":"Alan Rogers"},{"$f":"IF(CupDraw!O57=\"\",\"\",CupDraw!O57)","v":""},{"$f":"IF(CupDraw!P57=\"\",\"\",CupDraw!P57)","v":""},null,null,null,null,null,null,null,null,null,{"$f":"IF(CupDraw!Z57=\"\",\"\",CupDraw!Z57)","v":""},{"$f":"IF(CupDraw!AA57=\"\",\"\",CupDraw!AA57)","v":""},{"$f":"IF(CupDraw!AB57=\"\",\"\",CupDraw!AB57)","v":""}]
[null,{"$f":"CupDraw!G58","v":29},{"$f":"IF(CupDraw!H58=\"\",\"\",CupDraw!H58)","v":""},{"$f":"IF(CupDraw!I58=\"\",\"\",CupDraw!I58)","v":""},{"$f":"IF(CupDraw!J58=\"\",\"\",CupDraw!J58)","v":""},null,null,{"$f":"CupDraw!M58","v":29},{"$f":"IF(CupDraw!N58=\"\",\"\",CupDraw!N58)","v":"Lewis Buckley"},{"$f":"IF(CupDraw!O58=\"\",\"\",CupDraw!O58)","v":""},{"$f":"IF(CupDraw!P58=\"\",\"\",CupDraw!P58)","v":""}]
[null,null,{"$f":"IF(CupDraw!H59=\"\",\"\",CupDraw!H59)","v":""},{"$f":"IF(CupDraw!I59=\"\",\"\",CupDraw!I59)","v":""},{"$f":"IF(CupDraw!J59=\"\",\"\",CupDraw!J59)","v":""},null,null,null,{"$f":"IF(CupDraw!N59=\"\",\"\",CupDraw!N59)","v":"John Robinson"},{"$f":"IF(CupDraw!O59=\"\",\"\",CupDraw!O59)","v":""},{"$f":"IF(CupDraw!P59=\"\",\"\",CupDraw!P59)","v":""}]
[null,{"$f":"CupDraw!G60","v":30},{"$f":"IF(CupDraw!H60=\"\",\"\",CupDraw!H60)","v":""},{"$f":"IF(CupDraw!I60=\"\",\"\",CupDraw!I60)","v":""},{"$f":"IF(CupDraw!J60=\"\",\"\",CupDraw!J60)","v":""},null,null,{"$f":"CupDraw!M60","v":30},{"$f":"IF(CupDraw!N60=\"\",\"\",CupDraw!N60)","v":"Paul Barnes"},{"$f":"IF(CupDraw!O60=\"\",\"\",CupDraw!O60)","v":""},{"$f":"IF(CupDraw!P60=\"\",\"\",CupDraw!P60)","v":""}]
[null,null,{"$f":"IF(CupDraw!H61=\"\",\"\",CupDraw!H61)","v":""},{"$f":"IF(CupDraw!I61=\"\",\"\",CupDraw!I61)","v":""},{"$f":"IF(CupDraw!J61=\"\",\"\",CupDraw!J61)","v":""},null,null,null,{"$f":"IF(CupDraw!N61=\"\",\"\",CupDraw!N61)","v":"Gerard Ventom"},{"$f":"IF(CupDraw!O61=\"\",\"\",CupDraw!O61)","v":""},{"$f":"IF(CupDraw!P61=\"\",\"\",CupDraw!P61)","v":""}]
[null,{"$f":"CupDraw!G62","v":31},{"$f":"IF(CupDraw!H62=\"\",\"\",CupDraw!H62)","v":""},{"$f":"IF(CupDraw!I62=\"\",\"\",CupDraw!I62)","v":""},{"$f":"IF(CupDraw!J62=\"\",\"\",CupDraw!J62)","v":""},null,null,{"$f":"CupDraw!M62","v":31},{"$f":"IF(CupDraw!N62=\"\",\"\",CupDraw!N62)","v":"Alfie Davies"},{"$f":"IF(CupDraw!O62=\"\",\"\",CupDraw!O62)","v":""},{"$f":"IF(CupDraw!P62=\"\",\"\",CupDraw!P62)","v":""}]
[null,null,{"$f":"IF(CupDraw!H63=\"\",\"\",CupDraw!H63)","v":""},{"$f":"IF(CupDraw!I63=\"\",\"\",CupDraw!I63)","v":""},{"$f":"IF(CupDraw!J63=\"\",\"\",CupDraw!J63)","v":""},null,null,null,{"$f":"IF(CupDraw!N63=\"\",\"\",CupDraw!N63)","v":"Tom Robinson"},{"$f":"IF(CupDraw!O63=\"\",\"\",CupDraw!O63)","v":""},{"$f":"IF(CupDraw!P63=\"\",\"\",CupDraw!P63)","v":""},null,null,null,null,null,null,null,null,{"$f":"CupDraw!Y63","v":"SF"},{"$f":"CupDraw!Z63","v":"2019-11-16"}]
[null,{"$f":"CupDraw!G64","v":32},{"$f":"IF(CupDraw!H64=\"\",\"\",CupDraw!H64)","v":""},{"$f":"IF(CupDraw!I64=\"\",\"\",CupDraw!I64)","v":""},{"$f":"IF(CupDraw!J64=\"\",\"\",CupDraw!J64)","v":""},null,null,{"$f":"CupDraw!M64","v":32},{"$f":"IF(CupDraw!N64=\"\",\"\",CupDraw!N64)","v":"Gareth Fallows"},{"$f":"IF(CupDraw!O64=\"\",\"\",CupDraw!O64)","v":""},{"$f":"IF(CupDraw!P64=\"\",\"\",CupDraw!P64)","v":""},null,null,null,null,null,null,null,null,{"$f":"CupDraw!Y64","v":1},{"$f":"IF(CupDraw!Z64=\"\",\"\",CupDraw!Z64)","v":"Await earlier tie"},{"$f":"IF(CupDraw!AA64=\"\",\"\",CupDraw!AA64)","v":""},{"$f":"CupDraw!AB64","v":""}]
[null,null,{"$f":"IF(CupDraw!H65=\"\",\"\",CupDraw!H65)","v":""},{"$f":"IF(CupDraw!I65=\"\",\"\",CupDraw!I65)","v":""},{"$f":"IF(CupDraw!J65=\"\",\"\",CupDraw!J65)","v":""},null,null,null,{"$f":"IF(CupDraw!N65=\"\",\"\",CupDraw!N65)","v":"Andy Clucas"},{"$f":"IF(CupDraw!O65=\"\",\"\",CupDraw!O65)","v":""},{"$f":"IF(CupDraw!P65=\"\",\"\",CupDraw!P65)","v":""},null,null,null,null,null,null,null,null,null,{"$f":"CupDraw!Z65","v":"Await earlier tie"},{"$f":"IF(CupDraw!AA65=\"\",\"\",CupDraw!AA65)","v":""}]
[null,{"$f":"CupDraw!G66","v":33},{"$f":"IF(CupDraw!H66=\"\",\"\",CupDraw!H66)","v":""},{"$f":"IF(CupDraw!I66=\"\",\"\",CupDraw!I66)","v":""},{"$f":"IF(CupDraw!J66=\"\",\"\",CupDraw!J66)","v":""},null,null,null,null,null,null,null,null,null,null,null,null,null,null,{"$f":"CupDraw!Y66","v":2},{"$f":"CupDraw!Z66","v":"Await earlier tie"},{"$f":"IF(CupDraw!AA66=\"\",\"\",CupDraw!AA66)","v":""},{"$f":"CupDraw!AB66","v":""}]
[null,null,{"$f":"IF(CupDraw!H67=\"\",\"\",CupDraw!H67)","v":""},{"$f":"IF(CupDraw!I67=\"\",\"\",CupDraw!I67)","v":""},{"$f":"IF(CupDraw!J67=\"\",\"\",CupDraw!J67)","v":""},null,null,null,null,null,null,null,null,null,null,null,null,null,null,null,{"$f":"CupDraw!Z67","v":"Await earlier tie"},{"$f":"IF(CupDraw!AA67=\"\",\"\",CupDraw!AA67)","v":""}]
[null,{"$f":"CupDraw!G68","v":34},{"$f":"IF(CupDraw!H68=\"\",\"\",CupDraw!H68)","v":""},{"$f":"IF(CupDraw!I68=\"\",\"\",CupDraw!I68)","v":""},{"$f":"IF(CupDraw!J68=\"\",\"\",CupDraw!J68)","v":""},null,null,{"$f":"CupDraw!M68","v":"Earlier ties"}]
[null,null,{"$f":"IF(CupDraw!H69=\"\",\"\",CupDraw!H69)","v":""},{"$f":"IF(CupDraw!I69=\"\",\"\",CupDraw!I69)","v":""},{"$f":"IF(CupDraw!J69=\"\",\"\",CupDraw!J69)","v":""},null,null,{"$f":"IF(CupDraw!M69=\"\",\"\",CupDraw!M69)","v":""},{"$f":"IF(CupDraw!N69=\"\",\"\",CupDraw!N69)","v":""},{"$f":"IF(CupDraw!O69=\"\",\"\",CupDraw!O69)","v":""},{"$f":"IF(CupDraw!P69=\"\",\"\",CupDraw!P69)","v":""},null,null,null,null,null,null,null,null,{"$f":"CupDraw!Y69","v":"Earlier ties"}]
[null,{"$f":"CupDraw!G70","v":35},{"$f":"IF(CupDraw!H70=\"\",\"\",CupDraw!H70)","v":""},{"$f":"IF(CupDraw!I70=\"\",\"\",CupDraw!I70)","v":""},{"$f":"IF(CupDraw!J70=\"\",\"\",CupDraw!J70)","v":""},null,null,{"$f":"CupDraw!M70","v":0},{"$f":"IF(CupDraw!N70=\"\",\"\",CupDraw!N70)","v":""},{"$f":"IF(CupDraw!O70=\"\",\"\",CupDraw!O70)","v":""},{"$f":"IF(CupDraw!P70=\"\",\"\",CupDraw!P70)","v":""},null,null,null,null,null,null,null,null,null,{"$f":"IF(CupDraw!Z70=\"\",\"\",CupDraw!Z70)","v":""},{"$f":"IF(CupDraw!AA70=\"\",\"\",CupDraw!AA70)","v":""},{"$f":"CupDraw!AB70","v":""}]
[null,null,{"$f":"IF(CupDraw!H71=\"\",\"\",CupDraw!H71)","v":""},{"$f":"IF(CupDraw!I71=\"\",\"\",CupDraw!I71)","v":""},{"$f":"IF(CupDraw!J71=\"\",\"\",CupDraw!J71)","v":""},null,null,{"$f":"IF(CupDraw!M71=\"\",\"\",CupDraw!M71)","v":""},{"$f":"IF(CupDraw!N71=\"\",\"\",CupDraw!N71)","v":""},{"$f":"IF(CupDraw!O71=\"\",\"\",CupDraw!O71)","v":""},{"$f":"IF(CupDraw!P71=\"\",\"\",CupDraw!P71)","v":""},null,null,null,null,null,null,null,null,null,{"$f":"IF(CupDraw!Z71=\"\",\"\",CupDraw!Z71)","v":""},{"$f":"IF(CupDraw!AA71=\"\",\"\",CupDraw!AA71)","v":""}]
[null,{"$f":"CupDraw!G72","v":36},{"$f":"IF(CupDraw!H72=\"\",\"\",CupDraw!H72)","v":""},{"$f":"IF(CupDraw!I72=\"\",\"\",CupDraw!I72)","v":""},{"$f":"IF(CupDraw!J72=\"\",\"\",CupDraw!J72)","v":""},null,null,{"$f":"CupDraw!M72","v":0},{"$f":"IF(CupDraw!N72=\"\",\"\",CupDraw!N72)","v":""},{"$f":"IF(CupDraw!O72=\"\",\"\",CupDraw!O72)","v":""},{"$f":"IF(CupDraw!P72=\"\",\"\",CupDraw!P72)","v":""},null,null,null,null,null,null,null,null,null,{"$f":"IF(CupDraw!Z72=\"\",\"\",CupDraw!Z72)","v":""},{"$f":"IF(CupDraw!AA72=\"\",\"\",CupDraw!AA72)","v":""},{"$f":"CupDraw!AB72","v":""}]
[null,null,{"$f":"IF(CupDraw!H73=\"\",\"\",CupDraw!H73)","v":""},{"$f":"IF(CupDraw!I73=\"\",\"\",CupDraw!I73)","v":""},{"$f":"IF(CupDraw!J73=\"\",\"\",CupDraw!J73)","v":""},null,null,{"$f":"IF(CupDraw!M73=\"\",\"\",CupDraw!M73)","v":""},{"$f":"IF(CupDraw!N73=\"\",\"\",CupDraw!N73)","v":""},{"$f":"IF(CupDraw!O73=\"\",\"\",CupDraw!O73)","v":""},{"$f":"IF(CupDraw!P73=\"\",\"\",CupDraw!P73)","v":""},null,null,null,null,null,null,null,null,null,{"$f":"IF(CupDraw!Z73=\"\",\"\",CupDraw!Z73)","v":""},{"$f":"IF(CupDraw!AA73=\"\",\"\",CupDraw!AA73)","v":""}]
[null,null,null,null,null,null,null,{"$f":"CupDraw!M74","v":0},{"$f":"IF(CupDraw!N74=\"\",\"\",CupDraw!N74)","v":""},{"$f":"IF(CupDraw!O74=\"\",\"\",CupDraw!O74)","v":""},{"$f":"IF(CupDraw!P74=\"\",\"\",CupDraw!P74)","v":""}]
[null,null,null,null,null,null,null,{"$f":"IF(CupDraw!M75=\"\",\"\",CupDraw!M75)","v":""},{"$f":"IF(CupDraw!N75=\"\",\"\",CupDraw!N75)","v":""},{"$f":"IF(CupDraw!O75=\"\",\"\",CupDraw!O75)","v":""},{"$f":"IF(CupDraw!P75=\"\",\"\",CupDraw!P75)","v":""}]
[null,"Earlier ties",null,null,null,null,null,{"$f":"CupDraw!M76","v":0},{"$f":"IF(CupDraw!N76=\"\",\"\",CupDraw!N76)","v":""},{"$f":"IF(CupDraw!O76=\"\",\"\",CupDraw!O76)","v":""},{"$f":"IF(CupDraw!P76=\"\",\"\",CupDraw!P76)","v":""}]
[null,null,{"$f":"IF(CupDraw!H79=\"\",\"\",CupDraw!H79)","v":""},{"$f":"IF(CupDraw!I79=\"\",\"\",CupDraw!I79)","v":""},{"$f":"IF(CupDraw!J79=\"\",\"\",CupDraw!J79)","v":""},null,null,{"$f":"IF(CupDraw!M77=\"\",\"\",CupDraw!M77)","v":""},{"$f":"IF(CupDraw!N77=\"\",\"\",CupDraw!N77)","v":""},{"$f":"IF(CupDraw!O77=\"\",\"\",CupDraw!O77)","v":""},{"$f":"IF(CupDraw!P77=\"\",\"\",CupDraw!P77)","v":""}]
[null,null,{"$f":"IF(CupDraw!H80=\"\",\"\",CupDraw!H80)","v":""},{"$f":"IF(CupDraw!I80=\"\",\"\",CupDraw!I80)","v":""},null,null,null,{"$f":"CupDraw!M78","v":0},{"$f":"IF(CupDraw!N78=\"\",\"\",CupDraw!N78)","v":""},{"$f":"IF(CupDraw!O78=\"\",\"\",CupDraw!O78)","v":""},{"$f":"IF(CupDraw!P78=\"\",\"\",CupDraw!P78)","v":""}]
[null,null,{"$f":"IF(CupDraw!H81=\"\",\"\",CupDraw!H81)","v":""},{"$f":"IF(CupDraw!I81=\"\",\"\",CupDraw!I81)","v":""},{"$f":"IF(CupDraw!J81=\"\",\"\",CupDraw!J81)","v":""},null,null,{"$f":"IF(CupDraw!M79=\"\",\"\",CupDraw!M79)","v":""},{"$f":"IF(CupDraw!N79=\"\",\"\",CupDraw!N79)","v":""},{"$f":"IF(CupDraw!O79=\"\",\"\",CupDraw!O79)","v":""},{"$f":"IF(CupDraw!P79=\"\",\"\",CupDraw!P79)","v":""}]
[null,null,{"$f":"IF(CupDraw!H82=\"\",\"\",CupDraw!H82)","v":""},{"$f":"IF(CupDraw!I82=\"\",\"\",CupDraw!I82)","v":""},null,null,null,{"$f":"CupDraw!M80","v":0},{"$f":"IF(CupDraw!N80=\"\",\"\",CupDraw!N80)","v":""},{"$f":"IF(CupDraw!O80=\"\",\"\",CupDraw!O80)","v":""},{"$f":"IF(CupDraw!P80=\"\",\"\",CupDraw!P80)","v":""},null,null,null,null,null,null,null,null,{"$f":"CupDraw!Y80","v":"Final"},{"$f":"CupDraw!Z80","v":"2019-11-30"}]
[null,null,{"$f":"IF(CupDraw!H83=\"\",\"\",CupDraw!H83)","v":""},{"$f":"IF(CupDraw!I83=\"\",\"\",CupDraw!I83)","v":""},{"$f":"IF(CupDraw!J83=\"\",\"\",CupDraw!J83)","v":""},null,null,{"$f":"IF(CupDraw!M81=\"\",\"\",CupDraw!M81)","v":""},{"$f":"IF(CupDraw!N81=\"\",\"\",CupDraw!N81)","v":""},{"$f":"IF(CupDraw!O81=\"\",\"\",CupDraw!O81)","v":""},{"$f":"IF(CupDraw!P81=\"\",\"\",CupDraw!P81)","v":""},null,null,null,null,null,null,null,null,{"$f":"CupDraw!Y81","v":1},{"$f":"CupDraw!Z81","v":"Await earlier tie"},{"$f":"IF(CupDraw!AA81=\"\",\"\",CupDraw!AA81)","v":""},{"$f":"CupDraw!AB81","v":""}]
[null,null,{"$f":"IF(CupDraw!H84=\"\",\"\",CupDraw!H84)","v":""},{"$f":"IF(CupDraw!I84=\"\",\"\",CupDraw!I84)","v":""},{"$f":"IF(CupDraw!J84=\"\",\"\",CupDraw!J84)","v":""},null,null,{"$f":"CupDraw!M82","v":0},{"$f":"IF(CupDraw!N82=\"\",\"\",CupDraw!N82)","v":""},{"$f":"IF(CupDraw!O82=\"\",\"\",CupDraw!O82)","v":""},{"$f":"IF(CupDraw!P82=\"\",\"\",CupDraw!P82)","v":""},null,null,null,null,null,null,null,null,null,{"$f":"CupDraw!Z82","v":"Await earlier tie"},{"$f":"IF(CupDraw!AA82=\"\",\"\",CupDraw!AA82)","v":""}]
[null,null,{"$f":"IF(CupDraw!H85=\"\",\"\",CupDraw!H85)","v":""},{"$f":"IF(CupDraw!I85=\"\",\"\",CupDraw!I85)","v":""},{"$f":"IF(CupDraw!J85=\"\",\"\",CupDraw!J85)","v":""},null,null,{"$f":"IF(CupDraw!M83=\"\",\"\",CupDraw!M83)","v":""},{"$f":"IF(CupDraw!N83=\"\",\"\",CupDraw!N83)","v":""},{"$f":"IF(CupDraw!O83=\"\",\"\",CupDraw!O83)","v":""},{"$f":"IF(CupDraw!P83=\"\",\"\",CupDraw!P83)","v":""}]
[null,null,{"$f":"IF(CupDraw!H86=\"\",\"\",CupDraw!H86)","v":""},{"$f":"IF(CupDraw!I86=\"\",\"\",CupDraw!I86)","v":""},{"$f":"IF(CupDraw!J86=\"\",\"\",CupDraw!J86)","v":""},null,null,{"$f":"CupDraw!M84","v":0},{"$f":"IF(CupDraw!N84=\"\",\"\",CupDraw!N84)","v":""},{"$f":"IF(CupDraw!O84=\"\",\"\",CupDraw!O84)","v":""},{"$f":"IF(CupDraw!P84=\"\",\"\",CupDraw!P84)","v":""}]
[null,null,{"$f":"IF(CupDraw!H87=\"\",\"\",CupDraw!H87)","v":""},{"$f":"IF(CupDraw!I87=\"\",\"\",CupDraw!I87)","v":""},{"$f":"IF(CupDraw!J87=\"\",\"\",CupDraw!J87)","v":""},null,null,{"$f":"IF(CupDraw!M85=\"\",\"\",CupDraw!M85)","v":""},{"$f":"IF(CupDraw!N85=\"\",\"\",CupDraw!N85)","v":""},{"$f":"IF(CupDraw!O85=\"\",\"\",CupDraw!O85)","v":""},{"$f":"IF(CupDraw!P85=\"\",\"\",CupDraw!P85)","v":""},null,null,null,null,null,null,null,null,{"$f":"CupDraw!Y85","v":"Earlier ties"}]
[null,null,{"$f":"IF(CupDraw!H88=\"\",\"\",CupDraw!H88)","v":""},{"$f":"IF(CupDraw!I88=\"\",\"\",CupDraw!I88)","v":""},{"$f":"IF(CupDraw!J88=\"\",\"\",CupDraw!J88)","v":""},null,null,{"$f":"CupDraw!M86","v":0},{"$f":"IF(CupDraw!N86=\"\",\"\",CupDraw!N86)","v":""},{"$f":"IF(CupDraw!O86=\"\",\"\",CupDraw!O86)","v":""},{"$f":"IF(CupDraw!P86=\"\",\"\",CupDraw!P86)","v":""},null,null,null,null,null,null,null,null,null,{"$f":"IF(CupDraw!Z86=\"\",\"\",CupDraw!Z86)","v":""},{"$f":"IF(CupDraw!AA86=\"\",\"\",CupDraw!AA86)","v":""},{"$f":"IF(CupDraw!AB86=\"\",\"\",CupDraw!AB86)","v":""}]
[null,null,{"$f":"IF(CupDraw!H89=\"\",\"\",CupDraw!H89)","v":""},{"$f":"IF(CupDraw!I89=\"\",\"\",CupDraw!I89)","v":""},{"$f":"IF(CupDraw!J89=\"\",\"\",CupDraw!J89)","v":""},null,null,{"$f":"IF(CupDraw!M87=\"\",\"\",CupDraw!M87)","v":""},{"$f":"IF(CupDraw!N87=\"\",\"\",CupDraw!N87)","v":""},{"$f":"IF(CupDraw!O87=\"\",\"\",CupDraw!O87)","v":""},{"$f":"IF(CupDraw!P87=\"\",\"\",CupDraw!P87)","v":""},null,null,null,null,null,null,null,null,null,{"$f":"IF(CupDraw!Z87=\"\",\"\",CupDraw!Z87)","v":""},{"$f":"IF(CupDraw!AA87=\"\",\"\",CupDraw!AA87)","v":""},{"$f":"IF(CupDraw!AB87=\"\",\"\",CupDraw!AB87)","v":""}]
[null,null,{"$f":"IF(CupDraw!H90=\"\",\"\",CupDraw!H90)","v":""},{"$f":"IF(CupDraw!I90=\"\",\"\",CupDraw!I90)","v":""},{"$f":"IF(CupDraw!J90=\"\",\"\",CupDraw!J90)","v":""},null,null,{"$f":"CupDraw!M88","v":0},{"$f":"IF(CupDraw!N88=\"\",\"\",CupDraw!N88)","v":""},{"$f":"IF(CupDraw!O88=\"\",\"\",CupDraw!O88)","v":""},{"$f":"IF(CupDraw!P88=\"\",\"\",CupDraw!P88)","v":""},null,null,null,null,null,null,null,null,null,{"$f":"IF(CupDraw!Z88=\"\",\"\",CupDraw!Z88)","v":""},{"$f":"IF(CupDraw!AA88=\"\",\"\",CupDraw!AA88)","v":""},{"$f":"IF(CupDraw!AB88=\"\",\"\",CupDraw!AB88)","v":""}]
[null,null,{"$f":"IF(CupDraw!H91=\"\",\"\",CupDraw!H91)","v":""},{"$f":"IF(CupDraw!I91=\"\",\"\",CupDraw!I91)","v":""},{"$f":"IF(CupDraw!J91=\"\",\"\",CupDraw!J91)","v":""},null,null,{"$f":"IF(CupDraw!M89=\"\",\"\",CupDraw!M89)","v":""},{"$f":"IF(CupDraw!N89=\"\",\"\",CupDraw!N89)","v":""},{"$f":"IF(CupDraw!O89=\"\",\"\",CupDraw!O89)","v":""},{"$f":"IF(CupDraw!P89=\"\",\"\",CupDraw!P89)","v":""},null,null,null,null,null,null,null,null,null,{"$f":"IF(CupDraw!Z89=\"\",\"\",CupDraw!Z89)","v":""},{"$f":"IF(CupDraw!AA89=\"\",\"\",CupDraw!AA89)","v":""},{"$f":"IF(CupDraw!AB89=\"\",\"\",CupDraw!AB89)","v":""}]
[null,null,{"$f":"IF(CupDraw!H92=\"\",\"\",CupDraw!H92)","v":""},{"$f":"IF(CupDraw!I92=\"\",\"\",CupDraw!I92)","v":""},{"$f":"IF(CupDraw!J92=\"\",\"\",CupDraw!J92)","v":""},null,null,{"$f":"CupDraw!M90","v":0},{"$f":"IF(CupDraw!N90=\"\",\"\",CupDraw!N90)","v":""},{"$f":"IF(CupDraw!O90=\"\",\"\",CupDraw!O90)","v":""},{"$f":"IF(CupDraw!P90=\"\",\"\",CupDraw!P90)","v":""}]
[null,null,{"$f":"IF(CupDraw!H93=\"\",\"\",CupDraw!H93)","v":""},{"$f":"IF(CupDraw!I93=\"\",\"\",CupDraw!I93)","v":""},{"$f":"IF(CupDraw!J93=\"\",\"\",CupDraw!J93)","v":""},null,null,{"$f":"IF(CupDraw!M91=\"\",\"\",CupDraw!M91)","v":""},{"$f":"IF(CupDraw!N91=\"\",\"\",CupDraw!N91)","v":""},{"$f":"IF(CupDraw!O91=\"\",\"\",CupDraw!O91)","v":""},{"$f":"IF(CupDraw!P91=\"\",\"\",CupDraw!P91)","v":""}]
[null,null,{"$f":"IF(CupDraw!H94=\"\",\"\",CupDraw!H94)","v":""},{"$f":"IF(CupDraw!I94=\"\",\"\",CupDraw!I94)","v":""},{"$f":"IF(CupDraw!J94=\"\",\"\",CupDraw!J94)","v":""},null,null,{"$f":"CupDraw!M92","v":0},{"$f":"IF(CupDraw!N92=\"\",\"\",CupDraw!N92)","v":""},{"$f":"IF(CupDraw!O92=\"\",\"\",CupDraw!O92)","v":""},{"$f":"IF(CupDraw!P92=\"\",\"\",CupDraw!P92)","v":""}]
[null,null,{"$f":"IF(CupDraw!H95=\"\",\"\",CupDraw!H95)","v":""}]

{"sheet":"Picks2","index":12,"n_rows":300,"n_cols":28,"rows_kept":300,"cut":false,"hidden":false,"merged":[]}
["Player","Prediction","Fraction","Decimal","Bet up?","Score","Max",{"$f":"entrants-SUM(H2:H205)","v":0},"Prediction","Frac","Dec","Bet up ","Points",null,"Results",null,"Choices","Odds","Up","Home team","H Score","Away team","A Score"]
[{"$f":"Results!B2","v":"Aaron Sudell"},{"$f":"IF(I2=\"\",\"\",I2)","v":""},{"$f":"IF(I2=\"\",\"\",J2)","v":""},{"$f":"IF(I2=\"\",\"\",K2)","v":""},{"$f":"IF(I2=\"\",\"\",IF(L2=1,\"Correct\",\"\"))","v":""},{"$f":"IF(I2=\"\",\"\",INDEX(Results!T:T,MATCH(A2,Results!V:V,0)))","v":""},{"$f":"IF(J2=\"\",\"\",INDEX(Results!AI:AI,MATCH(A2,Results!V:V,0)))","v":""},{"$f":"IF(ISERROR(G2),0,1)","v":1},null,null,{"$f":"INDEX(Odds!G:G,MATCH(I2,Odds!E:E,0))","v":{"$error":"#N/A"}},{"$f":"INDEX(Odds!H:H,MATCH(I2,Odds!E:E,0))","v":{"$error":"#N/A"}},{"$f":"K2*L2","v":{"$error":"#N/A"}},null,{"$f":"IF(Match!A2=\"\",\"\",Match!T2)","v":"Liverpool 4-1 Norwich "},null,{"$f":"IF(Odds!E2=\"\",\"\",Odds!E2)","v":"Liverpool"},{"$f":"INDEX(Odds!F:F,MATCH(Q2,Odds!E:E,0))","v":"1/7"},{"$f":"IF(U2>W2,1,0)","v":1},{"$f":"INDEX(Match!O:O,MATCH(O2,Match!T:T,0))","v":"Liverpool"},{"$f":"INDEX(Match!F:F,MATCH(O2,Match!T:T,0))","v":4},{"$f":"INDEX(Match!P:P,MATCH(O2,Match!T:T,0))","v":"Norwich"},{"$f":"INDEX(Match!G:G,MATCH(O2,Match!T:T,0))","v":1}]
[{"$f":"A2","v":"Aaron Sudell"},{"$f":"IF(I3=\"\",\"\",I3)","v":""},{"$f":"IF(I3=\"\",\"\",J3)","v":""},{"$f":"IF(I3=\"\",\"\",K3)","v":""},{"$f":"IF(I3=\"\",\"\",IF(L3=1,\"Correct\",\"\"))","v":""},null,null,null,null,null,{"$f":"INDEX(Odds!G:G,MATCH(I3,Odds!E:E,0))","v":{"$error":"#N/A"}},{"$f":"INDEX(Odds!H:H,MATCH(I3,Odds!E:E,0))","v":{"$error":"#N/A"}},{"$f":"K3*L3","v":{"$error":"#N/A"}},null,{"$f":"IF(Match!A3=\"\",\"\",Match!T3)","v":"Bournemouth 1-1 Sheff U "},null,{"$f":"IF(Odds!E3=\"\",\"\",Odds!E3)","v":"Bournemouth"},{"$f":"INDEX(Odds!F:F,MATCH(Q3,Odds!E:E,0))","v":"10/11"},0,{"$f":"INDEX(Match!O:O,MATCH(O3,Match!T:T,0))","v":"Bournemouth"},{"$f":"INDEX(Match!F:F,MATCH(O3,Match!T:T,0))","v":1},{"$f":"INDEX(Match!P:P,MATCH(O3,Match!T:T,0))","v":"Sheff U"},{"$f":"INDEX(Match!G:G,MATCH(O3,Match!T:T,0))","v":1}]
[{"$f":"A2","v":"Aaron Sudell"},"","","","",null,null,null,null,null,{"$f":"INDEX(Odds!G:G,MATCH(I4,Odds!E:E,0))","v":{"$error":"#N/A"}},{"$f":"INDEX(Odds!H:H,MATCH(I4,Odds!E:E,0))","v":{"$error":"#N/A"}},{"$f":"K4*L4","v":{"$error":"#N/A"}},null,{"$f":"IF(Match!A4=\"\",\"\",Match!T4)","v":"Burnley 3-0 Southampton "},null,{"$f":"IF(Odds!E4=\"\",\"\",Odds!E4)","v":"Burnley"},{"$f":"INDEX(Odds!F:F,MATCH(Q4,Odds!E:E,0))","v":"31/20"},1,{"$f":"INDEX(Match!O:O,MATCH(O4,Match!T:T,0))","v":"Burnley"},{"$f":"INDEX(Match!F:F,MATCH(O4,Match!T:T,0))","v":3},{"$f":"INDEX(Match!P:P,MATCH(O4,Match!T:T,0))","v":"Southampton"},{"$f":"INDEX(Match!G:G,MATCH(O4,Match!T:T,0))","v":0}]
[{"$f":"Results!B5","v":"Alan Rogers"},{"$f":"IF(I5=\"\",\"\",I5)","v":""},"","","",{"$f":"IF(I5=\"\",\"\",INDEX(Results!T:T,MATCH(A5,Results!V:V,0)))","v":""},{"$f":"IF(J5=\"\",\"\",INDEX(Results!AI:AI,MATCH(A5,Results!V:V,0)))","v":""},{"$f":"IF(ISERROR(G5),0,1)","v":1},null,null,{"$f":"INDEX(Odds!G:G,MATCH(I5,Odds!E:E,0))","v":{"$error":"#N/A"}},{"$f":"INDEX(Odds!H:H,MATCH(I5,Odds!E:E,0))","v":{"$error":"#N/A"}},{"$f":"K5*L5","v":{"$error":"#N/A"}},null,{"$f":"IF(Match!A5=\"\",\"\",Match!T5)","v":"Palace 0-0 Everton "},null,{"$f":"IF(Odds!E5=\"\",\"\",Odds!E5)","v":"Palace"},{"$f":"INDEX(Odds!F:F,MATCH(Q5,Odds!E:E,0))","v":"19/10"},0,{"$f":"INDEX(Match!O:O,MATCH(O5,Match!T:T,0))","v":"Palace"},{"$f":"INDEX(Match!F:F,MATCH(O5,Match!T:T,0))","v":0},{"$f":"INDEX(Match!P:P,MATCH(O5,Match!T:T,0))","v":"Everton"},{"$f":"INDEX(Match!G:G,MATCH(O5,Match!T:T,0))","v":0}]
[{"$f":"A5","v":"Alan Rogers"},"","","","",null,null,null,null,null,{"$f":"INDEX(Odds!G:G,MATCH(I6,Odds!E:E,0))","v":{"$error":"#N/A"}},{"$f":"INDEX(Odds!H:H,MATCH(I6,Odds!E:E,0))","v":{"$error":"#N/A"}},{"$error":"#N/A"},null,{"$f":"IF(Match!A6=\"\",\"\",Match!T6)","v":"Spurs 3-1 Villa "},null,{"$f":"IF(Odds!E6=\"\",\"\",Odds!E6)","v":"Spurs"},{"$f":"INDEX(Odds!F:F,MATCH(Q6,Odds!E:E,0))","v":"27/100"},1,{"$f":"INDEX(Match!O:O,MATCH(O6,Match!T:T,0))","v":"Spurs"},{"$f":"INDEX(Match!F:F,MATCH(O6,Match!T:T,0))","v":3},{"$f":"INDEX(Match!P:P,MATCH(O6,Match!T:T,0))","v":"Villa"},{"$f":"INDEX(Match!G:G,MATCH(O6,Match!T:T,0))","v":1}]
[{"$f":"A5","v":"Alan Rogers"},"","","","",null,null,null,null,null,{"$f":"INDEX(Odds!G:G,MATCH(I7,Odds!E:E,0))","v":{"$error":"#N/A"}},{"$f":"INDEX(Odds!H:H,MATCH(I7,Odds!E:E,0))","v":{"$error":"#N/A"}},{"$error":"#N/A"},null,{"$f":"IF(Match!A7=\"\",\"\",Match!T7)","v":"Watford 0-3 Brighton "},null,{"$f":"IF(Odds!E7=\"\",\"\",Odds!E7)","v":"Watford"},{"$f":"INDEX(Odds!F:F,MATCH(Q7,Odds!E:E,0))","v":"10/11"},0,{"$f":"INDEX(Match!O:O,MATCH(O7,Match!T:T,0))","v":"Watford"},{"$f":"INDEX(Match!F:F,MATCH(O7,Match!T:T,0))","v":0},{"$f":"INDEX(Match!P:P,MATCH(O7,Match!T:T,0))","v":"Brighton"},{"$f":"INDEX(Match!G:G,MATCH(O7,Match!T:T,0))","v":3}]
[{"$f":"Results!B8","v":"Alan White"},"","","","",{"$f":"IF(I8=\"\",\"\",INDEX(Results!T:T,MATCH(A8,Results!V:V,0)))","v":""},{"$f":"IF(J8=\"\",\"\",INDEX(Results!AI:AI,MATCH(A8,Results!V:V,0)))","v":""},{"$f":"IF(ISERROR(G8),0,1)","v":1},null,null,{"$f":"INDEX(Odds!G:G,MATCH(I8,Odds!E:E,0))","v":{"$error":"#N/A"}},{"$f":"INDEX(Odds!H:H,MATCH(I8,Odds!E:E,0))","v":{"$error":"#N/A"}},{"$error":"#N/A"},null,{"$f":"IF(Match!A8=\"\",\"\",Match!T8)","v":"West Ham 0-5 Man C "},null,{"$f":"IF(Odds!E8=\"\",\"\",Odds!E8)","v":"West Ham"},{"$f":"INDEX(Odds!F:F,MATCH(Q8,Odds!E:E,0))","v":"11/1"},0,{"$f":"INDEX(Match!O:O,MATCH(O8,Match!T:T,0))","v":"West Ham"},{"$f":"INDEX(Match!F:F,MATCH(O8,Match!T:T,0))","v":0},{"$f":"INDEX(Match!P:P,MATCH(O8,Match!T:T,0))","v":"Man C"},{"$f":"INDEX(Match!G:G,MATCH(O8,Match!T:T,0))","v":5}]
[{"$f":"A8","v":"Alan White"},"","","","",null,null,null,null,null,{"$f":"INDEX(Odds!G:G,MATCH(I9,Odds!E:E,0))","v":{"$error":"#N/A"}},{"$f":"INDEX(Odds!H:H,MATCH(I9,Odds!E:E,0))","v":{"$error":"#N/A"}},{"$error":"#N/A"},null,{"$f":"IF(Match!A9=\"\",\"\",Match!T9)","v":"Birmingham 1-1 Bristol C "},null,{"$f":"IF(Odds!E9=\"\",\"\",Odds!E9)","v":"Birmingham"},{"$f":"INDEX(Odds!F:F,MATCH(Q9,Odds!E:E,0))","v":"27/20"},0,{"$f":"INDEX(Match!O:O,MATCH(O9,Match!T:T,0))","v":"Birmingham"},{"$f":"INDEX(Match!F:F,MATCH(O9,Match!T:T,0))","v":1},{"$f":"INDEX(Match!P:P,MATCH(O9,Match!T:T,0))","v":"Bristol C"},{"$f":"INDEX(Match!G:G,MATCH(O9,Match!T:T,0))","v":1}]
[{"$f":"A8","v":"Alan White"},"",{"$f":"IF(I10=\"\",\"\",J10)","v":""},"","",null,null,null,null,null,{"$f":"INDEX(Odds!G:G,MATCH(I10,Odds!E:E,0))","v":{"$error":"#N/A"}},{"$f":"INDEX(Odds!H:H,MATCH(I10,Odds!E:E,0))","v":{"$error":"#N/A"}},{"$error":"#N/A"},null,{"$f":"IF(Match!A10=\"\",\"\",Match!T10)","v":"Cardiff 2-1 Luton "},null,{"$f":"IF(Odds!E10=\"\",\"\",Odds!E10)","v":"Cardiff"},{"$f":"INDEX(Odds!F:F,MATCH(Q10,Odds!E:E,0))","v":"78/100"},1,{"$f":"INDEX(Match!O:O,MATCH(O10,Match!T:T,0))","v":"Cardiff"},{"$f":"INDEX(Match!F:F,MATCH(O10,Match!T:T,0))","v":2},{"$f":"INDEX(Match!P:P,MATCH(O10,Match!T:T,0))","v":"Luton"},{"$f":"INDEX(Match!G:G,MATCH(O10,Match!T:T,0))","v":1}]
[{"$f":"Results!B11","v":"Alfie Davies"},"","","","",{"$f":"IF(I11=\"\",\"\",INDEX(Results!T:T,MATCH(A11,Results!V:V,0)))","v":""},{"$f":"IF(J11=\"\",\"\",INDEX(Results!AI:AI,MATCH(A11,Results!V:V,0)))","v":""},{"$f":"IF(ISERROR(G11),0,1)","v":1},null,null,{"$f":"INDEX(Odds!G:G,MATCH(I11,Odds!E:E,0))","v":{"$error":"#N/A"}},{"$f":"INDEX(Odds!H:H,MATCH(I11,Odds!E:E,0))","v":{"$error":"#N/A"}},{"$error":"#N/A"},null,{"$f":"IF(Match!A11=\"\",\"\",Match!T11)","v":"Charlton 3-1 Stoke "},null,{"$f":"IF(Odds!E11=\"\",\"\",Odds!E11)","v":"Charlton"},{"$f":"INDEX(Odds!F:F,MATCH(Q11,Odds!E:E,0))","v":"21/10"},1,{"$f":"INDEX(Match!O:O,MATCH(O11,Match!T:T,0))","v":"Charlton"},{"$f":"INDEX(Match!F:F,MATCH(O11,Match!T:T,0))","v":3},{"$f":"INDEX(Match!P:P,MATCH(O11,Match!T:T,0))","v":"Stoke"},{"$f":"INDEX(Match!G:G,MATCH(O11,Match!T:T,0))","v":1}]
[{"$f":"A11","v":"Alfie Davies"},"","","","",null,null,null,null,null,{"$f":"INDEX(Odds!G:G,MATCH(I12,Odds!E:E,0))","v":{"$error":"#N/A"}},{"$f":"INDEX(Odds!H:H,MATCH(I12,Odds!E:E,0))","v":{"$error":"#N/A"}},{"$error":"#N/A"},null,{"$f":"IF(Match!A12=\"\",\"\",Match!T12)","v":"Derby 0-0 Swansea "},null,{"$f":"IF(Odds!E12=\"\",\"\",Odds!E12)","v":"Derby"},{"$f":"INDEX(Odds!F:F,MATCH(Q12,Odds!E:E,0))","v":"23/20"},0,{"$f":"INDEX(Match!O:O,MATCH(O12,Match!T:T,0))","v":"Derby"},{"$f":"INDEX(Match!F:F,MATCH(O12,Match!T:T,0))","v":0},{"$f":"INDEX(Match!P:P,MATCH(O12,Match!T:T,0))","v":"Swansea"},{"$f":"INDEX(Match!G:G,MATCH(O12,Match!T:T,0))","v":0}]
[{"$f":"A11","v":"Alfie Davies"},{"$f":"IF(I13=\"\",\"\",I13)","v":""},"","","",null,null,null,null,null,{"$f":"INDEX(Odds!G:G,MATCH(I13,Odds!E:E,0))","v":{"$error":"#N/A"}},{"$f":"INDEX(Odds!H:H,MATCH(I13,Odds!E:E,0))","v":{"$error":"#N/A"}},{"$error":"#N/A"},null,{"$f":"IF(Match!A13=\"\",\"\",Match!T13)","v":"Fulham 2-0 Blackburn "},null,{"$f":"IF(Odds!E13=\"\",\"\",Odds!E13)","v":"Fulham"},{"$f":"INDEX(Odds!F:F,MATCH(Q13,Odds!E:E,0))","v":"4/5"},1,{"$f":"INDEX(Match!O:O,MATCH(O13,Match!T:T,0))","v":"Fulham"},{"$f":"INDEX(Match!F:F,MATCH(O13,Match!T:T,0))","v":2},{"$f":"INDEX(Match!P:P,MATCH(O13,Match!T:T,0))","v":"Blackburn"},{"$f":"INDEX(Match!G:G,MATCH(O13,Match!T:T,0))","v":0}]
[{"$f":"Results!B14","v":"Alick Rocca"},"","","","",{"$f":"IF(I14=\"\",\"\",INDEX(Results!T:T,MATCH(A14,Results!V:V,0)))","v":""},{"$f":"IF(J14=\"\",\"\",INDEX(Results!AI:AI,MATCH(A14,Results!V:V,0)))","v":""},{"$f":"IF(ISERROR(G14),0,1)","v":1},null,null,{"$f":"INDEX(Odds!G:G,MATCH(I14,Odds!E:E,0))","v":{"$error":"#N/A"}},{"$f":"INDEX(Odds!H:H,MATCH(I14,Odds!E:E,0))","v":{"$error":"#N/A"}},{"$error":"#N/A"},null,{"$f":"IF(Match!A14=\"\",\"\",Match!T14)","v":"Hull 2-1 Reading "},null,{"$f":"IF(Odds!E14=\"\",\"\",Odds!E14)","v":"Hull"},{"$f":"INDEX(Odds!F:F,MATCH(Q14,Odds!E:E,0))","v":"21/20"},1,{"$f":"INDEX(Match!O:O,MATCH(O14,Match!T:T,0))","v":"Hull"},{"$f":"INDEX(Match!F:F,MATCH(O14,Match!T:T,0))","v":2},{"$f":"INDEX(Match!P:P,MATCH(O14,Match!T:T,0))","v":"Reading"},{"$f":"INDEX(Match!G:G,MATCH(O14,Match!T:T,0))","v":1}]
[{"$f":"A14","v":"Alick Rocca"},"","","","",null,null,null,null,null,{"$f":"INDEX(Odds!G:G,MATCH(I15,Odds!E:E,0))","v":{"$error":"#N/A"}},{"$f":"INDEX(Odds!H:H,MATCH(I15,Odds!E:E,0))","v":{"$error":"#N/A"}},{"$error":"#N/A"},null,{"$f":"IF(Match!A15=\"\",\"\",Match!T15)","v":"Leeds 1-1 Forest "},null,{"$f":"IF(Odds!E15=\"\",\"\",Odds!E15)","v":"Leeds"},{"$f":"INDEX(Odds!F:F,MATCH(Q15,Odds!E:E,0))","v":"7/10"},0,{"$f":"INDEX(Match!O:O,MATCH(O15,Match!T:T,0))","v":"Leeds"},{"$f":"INDEX(Match!F:F,MATCH(O15,Match!T:T,0))","v":1},{"$f":"INDEX(Match!P:P,MATCH(O15,Match!T:T,0))","v":"Forest"},{"$f":"INDEX(Match!G:G,MATCH(O15,Match!T:T,0))","v":1}]
[{"$f":"A14","v":"Alick Rocca"},"","","","",null,null,null,null,null,{"$f":"INDEX(Odds!G:G,MATCH(I16,Odds!E:E,0))","v":{"$error":"#N/A"}},{"$f":"INDEX(Odds!H:H,MATCH(I16,Odds!E:E,0))","v":{"$error":"#N/A"}},{"$error":"#N/A"},null,{"$f":"IF(Match!A16=\"\",\"\",Match!T16)","v":"Middlesbro 0-1 Brentford "},null,{"$f":"IF(Odds!E16=\"\",\"\",Odds!E16)","v":"Middlesbro"},{"$f":"INDEX(Odds!F:F,MATCH(Q16,Odds!E:E,0))","v":"13/10"},0,{"$f":"INDEX(Match!O:O,MATCH(O16,Match!T:T,0))","v":"Middlesbro"},{"$f":"INDEX(Match!F:F,MATCH(O16,Match!T:T,0))","v":0},{"$f":"INDEX(Match!P:P,MATCH(O16,Match!T:T,0))","v":"Brentford"},{"$f":"INDEX(Match!G:G,MATCH(O16,Match!T:T,0))","v":1}]
[{"$f":"Results!B17","v":"Andy Charleston"},"","","","",{"$f":"IF(I17=\"\",\"\",INDEX(Results!T:T,MATCH(A17,Results!V:V,0)))","v":""},{"$f":"IF(J17=\"\",\"\",INDEX(Results!AI:AI,MATCH(A17,Results!V:V,0)))","v":""},{"$f":"IF(ISERROR(G17),0,1)","v":1},null,null,{"$f":"INDEX(Odds!G:G,MATCH(I17,Odds!E:E,0))","v":{"$error":"#N/A"}},{"$f":"INDEX(Odds!H:H,MATCH(I17,Odds!E:E,0))","v":{"$error":"#N/A"}},{"$error":"#N/A"},null,{"$f":"IF(Match!A17=\"\",\"\",Match!T17)","v":"Preston 3-0 Wigan "},null,{"$f":"IF(Odds!E17=\"\",\"\",Odds!E17)","v":"Preston"},{"$f":"INDEX(Odds!F:F,MATCH(Q17,Odds!E:E,0))","v":"11/10"},1,{"$f":"INDEX(Match!O:O,MATCH(O17,Match!T:T,0))","v":"Preston"},{"$f":"INDEX(Match!F:F,MATCH(O17,Match!T:T,0))","v":3},{"$f":"INDEX(Match!P:P,MATCH(O17,Match!T:T,0))","v":"Wigan"},{"$f":"INDEX(Match!G:G,MATCH(O17,Match!T:T,0))","v":0}]
[{"$f":"A17","v":"Andy Charleston"},"","","","",null,null,null,null,null,{"$f":"INDEX(Odds!G:G,MATCH(I18,Odds!E:E,0))","v":{"$error":"#N/A"}},{"$f":"INDEX(Odds!H:H,MATCH(I18,Odds!E:E,0))","v":{"$error":"#N/A"}},{"$error":"#N/A"},null,{"$f":"IF(Match!A18=\"\",\"\",Match!T18)","v":"QPR 1-1 Huddersfield "},null,{"$f":"IF(Odds!E18=\"\",\"\",Odds!E18)","v":"QPR"},{"$f":"INDEX(Odds!F:F,MATCH(Q18,Odds!E:E,0))","v":"31/20"},0,{"$f":"INDEX(Match!O:O,MATCH(O18,Match!T:T,0))","v":"QPR"},{"$f":"INDEX(Match!F:F,MATCH(O18,Match!T:T,0))","v":1},{"$f":"INDEX(Match!P:P,MATCH(O18,Match!T:T,0))","v":"Huddersfield"},{"$f":"INDEX(Match!G:G,MATCH(O18,Match!T:T,0))","v":1}]
[{"$f":"A17","v":"Andy Charleston"},"","","","",null,null,null,null,null,{"$f":"INDEX(Odds!G:G,MATCH(I19,Odds!E:E,0))","v":{"$error":"#N/A"}},{"$f":"INDEX(Odds!H:H,MATCH(I19,Odds!E:E,0))","v":{"$error":"#N/A"}},{"$error":"#N/A"},null,{"$f":"IF(Match!A19=\"\",\"\",Match!T19)","v":"Sheff W 2-0 Barnsley "},null,{"$f":"IF(Odds!E19=\"\",\"\",Odds!E19)","v":"Sheff W"},{"$f":"INDEX(Odds!F:F,MATCH(Q19,Odds!E:E,0))","v":"21/20"},1,{"$f":"INDEX(Match!O:O,MATCH(O19,Match!T:T,0))","v":"Sheff W"},{"$f":"INDEX(Match!F:F,MATCH(O19,Match!T:T,0))","v":2},{"$f":"INDEX(Match!P:P,MATCH(O19,Match!T:T,0))","v":"Barnsley"},{"$f":"INDEX(Match!G:G,MATCH(O19,Match!T:T,0))","v":0}]
[{"$f":"Results!B20","v":"Andy White"},"","","","",{"$f":"IF(I20=\"\",\"\",INDEX(Results!T:T,MATCH(A20,Results!V:V,0)))","v":""},{"$f":"IF(J20=\"\",\"\",INDEX(Results!AI:AI,MATCH(A20,Results!V:V,0)))","v":""},{"$f":"IF(ISERROR(G20),0,1)","v":1},null,null,{"$f":"INDEX(Odds!G:G,MATCH(I20,Odds!E:E,0))","v":{"$error":"#N/A"}},{"$f":"INDEX(Odds!H:H,MATCH(I20,Odds!E:E,0))","v":{"$error":"#N/A"}},{"$error":"#N/A"},null,{"$f":"IF(Match!A20=\"\",\"\",Match!T20)","v":"West Brom 1-1 Millwall "},null,{"$f":"IF(Odds!E20=\"\",\"\",Odds!E20)","v":"West Brom"},{"$f":"INDEX(Odds!F:F,MATCH(Q20,Odds!E:E,0))","v":"7/10"},0,{"$f":"INDEX(Match!O:O,MATCH(O20,Match!T:T,0))","v":"West Brom"},{"$f":"INDEX(Match!F:F,MATCH(O20,Match!T:T,0))","v":1},{"$f":"INDEX(Match!P:P,MATCH(O20,Match!T:T,0))","v":"Millwall"},{"$f":"INDEX(Match!G:G,MATCH(O20,Match!T:T,0))","v":1}]
[{"$f":"A20","v":"Andy White"},"","","","",null,null,null,null,null,{"$f":"INDEX(Odds!G:G,MATCH(I21,Odds!E:E,0))","v":{"$error":"#N/A"}},{"$f":"INDEX(Odds!H:H,MATCH(I21,Odds!E:E,0))","v":{"$error":"#N/A"}},{"$error":"#N/A"},null,{"$f":"IF(Match!A21=\"\",\"\",Match!T21)","v":"Bristol R 0-0 Wycombe "},null,{"$f":"IF(Odds!E21=\"\",\"\",Odds!E21)","v":"Bristol R"},{"$f":"INDEX(Odds!F:F,MATCH(Q21,Odds!E:E,0))","v":"6/5"},0,{"$f":"INDEX(Match!O:O,MATCH(O21,Match!T:T,0))","v":"Bristol R"},{"$f":"INDEX(Match!F:F,MATCH(O21,Match!T:T,0))","v":0},{"$f":"INDEX(Match!P:P,MATCH(O21,Match!T:T,0))","v":"Wycombe"},{"$f":"INDEX(Match!G:G,MATCH(O21,Match!T:T,0))","v":0}]
[{"$f":"A20","v":"Andy White"},"","","","",null,null,null,null,null,{"$f":"INDEX(Odds!G:G,MATCH(I22,Odds!E:E,0))","v":{"$error":"#N/A"}},{"$f":"INDEX(Odds!H:H,MATCH(I22,Odds!E:E,0))","v":{"$error":"#N/A"}},{"$error":"#N/A"},null,{"$f":"IF(Match!A22=\"\",\"\",Match!T22)","v":"Fleetwood 2-1 Wimbledon "},null,{"$f":"IF(Odds!E22=\"\",\"\",Odds!E22)","v":"Fleetwood"},{"$f":"INDEX(Odds!F:F,MATCH(Q22,Odds!E:E,0))","v":"10/11"},1,{"$f":"INDEX(Match!O:O,MATCH(O22,Match!T:T,0))","v":"Fleetwood"},{"$f":"INDEX(Match!F:F,MATCH(O22,Match!T:T,0))","v":2},{"$f":"INDEX(Match!P:P,MATCH(O22,Match!T:T,0))","v":"Wimbledon"},{"$f":"INDEX(Match!G:G,MATCH(O22,Match!T:T,0))","v":1}]
[{"$f":"Results!B23","v":"Antony Robinson"},"","","","",{"$f":"IF(I23=\"\",\"\",INDEX(Results!T:T,MATCH(A23,Results!V:V,0)))","v":""},{"$f":"IF(J23=\"\",\"\",INDEX(Results!AI:AI,MATCH(A23,Results!V:V,0)))","v":""},{"$f":"IF(ISERROR(G23),0,1)","v":1},null,null,{"$f":"INDEX(Odds!G:G,MATCH(I23,Odds!E:E,0))","v":{"$error":"#N/A"}},{"$f":"INDEX(Odds!H:H,MATCH(I23,Odds!E:E,0))","v":{"$error":"#N/A"}},{"$error":"#N/A"},null,{"$f":"IF(Match!A23=\"\",\"\",Match!T23)","v":"Gillingham 1-2 Burton "},null,{"$f":"IF(Odds!E23=\"\",\"\",Odds!E23)","v":"Gillingham"},{"$f":"INDEX(Odds!F:F,MATCH(Q23,Odds!E:E,0))","v":"13/8"},0,{"$f":"INDEX(Match!O:O,MATCH(O23,Match!T:T,0))","v":"Gillingham"},{"$f":"INDEX(Match!F:F,MATCH(O23,Match!T:T,0))","v":1},{"$f":"INDEX(Match!P:P,MATCH(O23,Match!T:T,0))","v":"Burton"},{"$f":"INDEX(Match!G:G,MATCH(O23,Match!T:T,0))","v":2}]
[{"$f":"A23","v":"Antony Robinson"},"","","","",null,null,null,null,null,{"$f":"INDEX(Odds!G:G,MATCH(I24,Odds!E:E,0))","v":{"$error":"#N/A"}},{"$f":"INDEX(Odds!H:H,MATCH(I24,Odds!E:E,0))","v":{"$error":"#N/A"}},{"$error":"#N/A"},null,{"$f":"IF(Match!A24=\"\",\"\",Match!T24)","v":"Ipswich 1-1 Sunderland "},null,{"$f":"IF(Odds!E24=\"\",\"\",Odds!E24)","v":"Ipswich"},{"$f":"INDEX(Odds!F:F,MATCH(Q24,Odds!E:E,0))","v":"7/5"},0,{"$f":"INDEX(Match!O:O,MATCH(O24,Match!T:T,0))","v":"Ipswich"},{"$f":"INDEX(Match!F:F,MATCH(O24,Match!T:T,0))","v":1},{"$f":"INDEX(Match!P:P,MATCH(O24,Match!T:T,0))","v":"Sunderland"},{"$f":"INDEX(Match!G:G,MATCH(O24,Match!T:T,0))","v":1}]
[{"$f":"A23","v":"Antony Robinson"},"","","","",null,null,null,null,null,{"$f":"INDEX(Odds!G:G,MATCH(I25,Odds!E:E,0))","v":{"$error":"#N/A"}},{"$f":"INDEX(Odds!H:H,MATCH(I25,Odds!E:E,0))","v":{"$error":"#N/A"}},{"$error":"#N/A"},null,{"$f":"IF(Match!A25=\"\",\"\",Match!T25)","v":"MK Dons 1-0 Shrewsbury "},null,{"$f":"IF(Odds!E25=\"\",\"\",Odds!E25)","v":"MK Dons"},{"$f":"INDEX(Odds!F:F,MATCH(Q25,Odds!E:E,0))","v":"15/13"},1,{"$f":"INDEX(Match!O:O,MATCH(O25,Match!T:T,0))","v":"MK Dons"},{"$f":"INDEX(Match!F:F,MATCH(O25,Match!T:T,0))","v":1},{"$f":"INDEX(Match!P:P,MATCH(O25,Match!T:T,0))","v":"Shrewsbury"},{"$f":"INDEX(Match!G:G,MATCH(O25,Match!T:T,0))","v":0}]
[{"$f":"Results!B26","v":"Ashley Houghton"},"","","","",{"$f":"IF(I26=\"\",\"\",INDEX(Results!T:T,MATCH(A26,Results!V:V,0)))","v":""},{"$f":"IF(J26=\"\",\"\",INDEX(Results!AI:AI,MATCH(A26,Results!V:V,0)))","v":""},{"$f":"IF(ISERROR(G26),0,1)","v":1},null,null,{"$f":"INDEX(Odds!G:G,MATCH(I26,Odds!E:E,0))","v":{"$error":"#N/A"}},{"$f":"INDEX(Odds!H:H,MATCH(I26,Odds!E:E,0))","v":{"$error":"#N/A"}},{"$error":"#N/A"},null,{"$f":"IF(Match!A26=\"\",\"\",Match!T26)","v":"Oxford 1-0 Peterborough "},null,{"$f":"IF(Odds!E26=\"\",\"\",Odds!E26)","v":"Oxford"},{"$f":"INDEX(Odds!F:F,MATCH(Q26,Odds!E:E,0))","v":"6/4"},1,{"$f":"INDEX(Match!O:O,MATCH(O26,Match!T:T,0))","v":"Oxford"},{"$f":"INDEX(Match!F:F,MATCH(O26,Match!T:T,0))","v":1},{"$f":"INDEX(Match!P:P,MATCH(O26,Match!T:T,0))","v":"Peterborough"},{"$f":"INDEX(Match!G:G,MATCH(O26,Match!T:T,0))","v":0}]
[{"$f":"A26","v":"Ashley Houghton"},"","","","",null,null,null,null,null,{"$f":"INDEX(Odds!G:G,MATCH(I27,Odds!E:E,0))","v":{"$error":"#N/A"}},{"$f":"INDEX(Odds!H:H,MATCH(I27,Odds!E:E,0))","v":{"$error":"#N/A"}},{"$error":"#N/A"},null,{"$f":"IF(Match!A27=\"\",\"\",Match!T27)","v":"Portsmouth 2-0 Tranmere "},null,{"$f":"IF(Odds!E27=\"\",\"\",Odds!E27)","v":"Portsmouth"},{"$f":"INDEX(Odds!F:F,MATCH(Q27,Odds!E:E,0))","v":"4/6"},1,{"$f":"INDEX(Match!O:O,MATCH(O27,Match!T:T,0))","v":"Portsmouth"},{"$f":"INDEX(Match!F:F,MATCH(O27,Match!T:T,0))","v":2},{"$f":"INDEX(Match!P:P,MATCH(O27,Match!T:T,0))","v":"Tranmere"},{"$f":"INDEX(Match!G:G,MATCH(O27,Match!T:T,0))","v":0}]
[{"$f":"A26","v":"Ashley Houghton"},"","","","",null,null,null,null,null,{"$f":"INDEX(Odds!G:G,MATCH(I28,Odds!E:E,0))","v":{"$error":"#N/A"}},{"$f":"INDEX(Odds!H:H,MATCH(I28,Odds!E:E,0))","v":{"$error":"#N/A"}},{"$error":"#N/A"},null,{"$f":"IF(Match!A28=\"\",\"\",Match!T28)","v":"Rochdale 1-1 Doncaster "},null,{"$f":"IF(Odds!E28=\"\",\"\",Odds!E28)","v":"Rochdale"},{"$f":"INDEX(Odds!F:F,MATCH(Q28,Odds!E:E,0))","v":"13/8"},0,{"$f":"INDEX(Match!O:O,MATCH(O28,Match!T:T,0))","v":"Rochdale"},{"$f":"INDEX(Match!F:F,MATCH(O28,Match!T:T,0))","v":1},{"$f":"INDEX(Match!P:P,MATCH(O28,Match!T:T,0))","v":"Doncaster"},{"$f":"INDEX(Match!G:G,MATCH(O28,Match!T:T,0))","v":1}]
[{"$f":"Results!B29","v":"Barry Birchall"},"","","","",{"$f":"IF(I29=\"\",\"\",INDEX(Results!T:T,MATCH(A29,Results!V:V,0)))","v":""},{"$f":"IF(J29=\"\",\"\",INDEX(Results!AI:AI,MATCH(A29,Results!V:V,0)))","v":""},{"$f":"IF(ISERROR(G29),0,1)","v":1},null,null,{"$f":"INDEX(Odds!G:G,MATCH(I29,Odds!E:E,0))","v":{"$error":"#N/A"}},{"$f":"INDEX(Odds!H:H,MATCH(I29,Odds!E:E,0))","v":{"$error":"#N/A"}},{"$error":"#N/A"},null,{"$f":"IF(Match!A29=\"\",\"\",Match!T29)","v":"Rotherham 0-2 Lincoln "},null,{"$f":"IF(Odds!E29=\"\",\"\",Odds!E29)","v":"Rotherham"},{"$f":"INDEX(Odds!F:F,MATCH(Q29,Odds!E:E,0))","v":"11/10"},0,{"$f":"INDEX(Match!O:O,MATCH(O29,Match!T:T,0))","v":"Rotherham"},{"$f":"INDEX(Match!F:F,MATCH(O29,Match!T:T,0))","v":0},{"$f":"INDEX(Match!P:P,MATCH(O29,Match!T:T,0))","v":"Lincoln"},{"$f":"INDEX(Match!G:G,MATCH(O29,Match!T:T,0))","v":2}]
[{"$f":"A29","v":"Barry Birchall"},"","","","",null,null,null,null,null,{"$f":"INDEX(Odds!G:G,MATCH(I30,Odds!E:E,0))","v":{"$error":"#N/A"}},{"$f":"INDEX(Odds!H:H,MATCH(I30,Odds!E:E,0))","v":{"$error":"#N/A"}},{"$error":"#N/A"},null,{"$f":"IF(Match!A30=\"\",\"\",Match!T30)","v":"Southend 1-3 Blackpool "},null,{"$f":"IF(Odds!E30=\"\",\"\",Odds!E30)","v":"Southend"},{"$f":"INDEX(Odds!F:F,MATCH(Q30,Odds!E:E,0))","v":"13/8"},0,{"$f":"INDEX(Match!O:O,MATCH(O30,Match!T:T,0))","v":"Southend"},{"$f":"INDEX(Match!F:F,MATCH(O30,Match!T:T,0))","v":1},{"$f":"INDEX(Match!P:P,MATCH(O30,Match!T:T,0))","v":"Blackpool"},{"$f":"INDEX(Match!G:G,MATCH(O30,Match!T:T,0))","v":3}]
[{"$f":"A29","v":"Barry Birchall"},"","","","",null,null,null,null,null,{"$f":"INDEX(Odds!G:G,MATCH(I31,Odds!E:E,0))","v":{"$error":"#N/A"}},{"$f":"INDEX(Odds!H:H,MATCH(I31,Odds!E:E,0))","v":{"$error":"#N/A"}},{"$error":"#N/A"},null,{"$f":"IF(Match!A31=\"\",\"\",Match!T31)","v":"Cambridge 0-0 Newport "},null,{"$f":"IF(Odds!E31=\"\",\"\",Odds!E31)","v":"Cambridge"},{"$f":"INDEX(Odds!F:F,MATCH(Q31,Odds!E:E,0))","v":"17/10"},0,{"$f":"INDEX(Match!O:O,MATCH(O31,Match!T:T,0))","v":"Cambridge"},{"$f":"INDEX(Match!F:F,MATCH(O31,Match!T:T,0))","v":0},{"$f":"INDEX(Match!P:P,MATCH(O31,Match!T:T,0))","v":"Newport"},{"$f":"INDEX(Match!G:G,MATCH(O31,Match!T:T,0))","v":0}]
[{"$f":"Results!B32","v":"Ben Rosser"},"","","","",{"$f":"IF(I32=\"\",\"\",INDEX(Results!T:T,MATCH(A32,Results!V:V,0)))","v":""},{"$f":"IF(J32=\"\",\"\",INDEX(Results!AI:AI,MATCH(A32,Results!V:V,0)))","v":""},{"$f":"IF(ISERROR(G32),0,1)","v":1},null,null,{"$f":"INDEX(Odds!G:G,MATCH(I32,Odds!E:E,0))","v":{"$error":"#N/A"}},{"$f":"INDEX(Odds!H:H,MATCH(I32,Odds!E:E,0))","v":{"$error":"#N/A"}},{"$error":"#N/A"},null,{"$f":"IF(Match!A32=\"\",\"\",Match!T32)","v":"Cheltenham 4-1 Scunthorpe "},null,{"$f":"IF(Odds!E32=\"\",\"\",Odds!E32)","v":"Cheltenham"},{"$f":"INDEX(Odds!F:F,MATCH(Q32,Odds!E:E,0))","v":"15/8"},1,{"$f":"INDEX(Match!O:O,MATCH(O32,Match!T:T,0))","v":"Cheltenham"},{"$f":"INDEX(Match!F:F,MATCH(O32,Match!T:T,0))","v":4},{"$f":"INDEX(Match!P:P,MATCH(O32,Match!T:T,0))","v":"Scunthorpe"},{"$f":"INDEX(Match!G:G,MATCH(O32,Match!T:T,0))","v":1}]
[{"$f":"A32","v":"Ben Rosser"},"","","","",null,null,null,null,null,{"$f":"INDEX(Odds!G:G,MATCH(I33,Odds!E:E,0))","v":{"$error":"#N/A"}},{"$f":"INDEX(Odds!H:H,MATCH(I33,Odds!E:E,0))","v":{"$error":"#N/A"}},{"$error":"#N/A"},null,{"$f":"IF(Match!A33=\"\",\"\",Match!T33)","v":"Crawley 2-0 Salford "},null,{"$f":"IF(Odds!E33=\"\",\"\",Odds!E33)","v":"Crawley"},{"$f":"INDEX(Odds!F:F,MATCH(Q33,Odds!E:E,0))","v":"23/10"},1,{"$f":"INDEX(Match!O:O,MATCH(O33,Match!T:T,0))","v":"Crawley"},{"$f":"INDEX(Match!F:F,MATCH(O33,Match!T:T,0))","v":2},{"$f":"INDEX(Match!P:P,MATCH(O33,Match!T:T,0))","v":"Salford"},{"$f":"INDEX(Match!G:G,MATCH(O33,Match!T:T,0))","v":0}]
[{"$f":"A32","v":"Ben Rosser"},"","","","",null,null,null,null,null,{"$f":"INDEX(Odds!G:G,MATCH(I34,Odds!E:E,0))","v":{"$error":"#N/A"}},{"$f":"INDEX(Odds!H:H,MATCH(I34,Odds!E:E,0))","v":{"$error":"#N/A"}},{"$error":"#N/A"},null,{"$f":"IF(Match!A34=\"\",\"\",Match!T34)","v":"Grimsby 1-1 Bradford "},null,{"$f":"IF(Odds!E34=\"\",\"\",Odds!E34)","v":"Grimsby"},{"$f":"INDEX(Odds!F:F,MATCH(Q34,Odds!E:E,0))","v":"23/10"},0,{"$f":"INDEX(Match!O:O,MATCH(O34,Match!T:T,0))","v":"Grimsby"},{"$f":"INDEX(Match!F:F,MATCH(O34,Match!T:T,0))","v":1},{"$f":"INDEX(Match!P:P,MATCH(O34,Match!T:T,0))","v":"Bradford"},{"$f":"INDEX(Match!G:G,MATCH(O34,Match!T:T,0))","v":1}]
[{"$f":"Results!B35","v":"Charlie Griffiths"},"","","","",{"$f":"IF(I35=\"\",\"\",INDEX(Results!T:T,MATCH(A35,Results!V:V,0)))","v":""},{"$f":"IF(J35=\"\",\"\",INDEX(Results!AI:AI,MATCH(A35,Results!V:V,0)))","v":""},{"$f":"IF(ISERROR(G35),0,1)","v":1},null,null,{"$f":"INDEX(Odds!G:G,MATCH(I35,Odds!E:E,0))","v":{"$error":"#N/A"}},{"$f":"INDEX(Odds!H:H,MATCH(I35,Odds!E:E,0))","v":{"$error":"#N/A"}},{"$error":"#N/A"},null,{"$f":"IF(Match!A35=\"\",\"\",Match!T35)","v":"Macclesfield 3-0 Orient "},null,{"$f":"IF(Odds!E35=\"\",\"\",Odds!E35)","v":"Macclesfield"},{"$f":"INDEX(Odds!F:F,MATCH(Q35,Odds!E:E,0))","v":"2/1"},1,{"$f":"INDEX(Match!O:O,MATCH(O35,Match!T:T,0))","v":"Macclesfield"},{"$f":"INDEX(Match!F:F,MATCH(O35,Match!T:T,0))","v":3},{"$f":"INDEX(Match!P:P,MATCH(O35,Match!T:T,0))","v":"Orient"},{"$f":"INDEX(Match!G:G,MATCH(O35,Match!T:T,0))","v":0}]
[{"$f":"A35","v":"Charlie Griffiths"},"","","","",null,null,null,null,null,{"$f":"INDEX(Odds!G:G,MATCH(I36,Odds!E:E,0))","v":{"$error":"#N/A"}},{"$f":"INDEX(Odds!H:H,MATCH(I36,Odds!E:E,0))","v":{"$error":"#N/A"}},{"$error":"#N/A"},null,{"$f":"IF(Match!A36=\"\",\"\",Match!T36)","v":"Mansfield 2-2 Morecambe "},null,{"$f":"IF(Odds!E36=\"\",\"\",Odds!E36)","v":"Mansfield"},{"$f":"INDEX(Odds!F:F,MATCH(Q36,Odds!E:E,0))","v":"7/10"},0,{"$f":"INDEX(Match!O:O,MATCH(O36,Match!T:T,0))","v":"Mansfield"},{"$f":"INDEX(Match!F:F,MATCH(O36,Match!T:T,0))","v":2},{"$f":"INDEX(Match!P:P,MATCH(O36,Match!T:T,0))","v":"Morecambe"},{"$f":"INDEX(Match!G:G,MATCH(O36,Match!T:T,0))","v":2}]
[{"$f":"A35","v":"Charlie Griffiths"},"","","","",null,null,null,null,null,{"$f":"INDEX(Odds!G:G,MATCH(I37,Odds!E:E,0))","v":{"$error":"#N/A"}},{"$f":"INDEX(Odds!H:H,MATCH(I37,Odds!E:E,0))","v":{"$error":"#N/A"}},{"$error":"#N/A"},null,{"$f":"IF(Match!A37=\"\",\"\",Match!T37)","v":"Oldham 1-2 Crewe "},null,{"$f":"IF(Odds!E37=\"\",\"\",Odds!E37)","v":"Oldham"},{"$f":"INDEX(Odds!F:F,MATCH(Q37,Odds!E:E,0))","v":"7/5"},0,{"$f":"INDEX(Match!O:O,MATCH(O37,Match!T:T,0))","v":"Oldham"},{"$f":"INDEX(Match!F:F,MATCH(O37,Match!T:T,0))","v":1},{"$f":"INDEX(Match!P:P,MATCH(O37,Match!T:T,0))","v":"Crewe"},{"$f":"INDEX(Match!G:G,MATCH(O37,Match!T:T,0))","v":2}]
[{"$f":"Results!B38","v":"Chris Bow"},"","","","",{"$f":"IF(I38=\"\",\"\",INDEX(Results!T:T,MATCH(A38,Results!V:V,0)))","v":""},{"$f":"IF(J38=\"\",\"\",INDEX(Results!AI:AI,MATCH(A38,Results!V:V,0)))","v":""},{"$f":"IF(ISERROR(G38),0,1)","v":1},null,null,{"$f":"INDEX(Odds!G:G,MATCH(I38,Odds!E:E,0))","v":{"$error":"#N/A"}},{"$f":"INDEX(Odds!H:H,MATCH(I38,Odds!E:E,0))","v":{"$error":"#N/A"}},{"$error":"#N/A"},null,{"$f":"IF(Match!A38=\"\",\"\",Match!T38)","v":"Plymouth 1-0 Colchester "},null,{"$f":"IF(Odds!E38=\"\",\"\",Odds!E38)","v":"Plymouth"},{"$f":"INDEX(Odds!F:F,MATCH(Q38,Odds!E:E,0))","v":"23/20"},1,{"$f":"INDEX(Match!O:O,MATCH(O38,Match!T:T,0))","v":"Plymouth"},{"$f":"INDEX(Match!F:F,MATCH(O38,Match!T:T,0))","v":1},{"$f":"INDEX(Match!P:P,MATCH(O38,Match!T:T,0))","v":"Colchester"},{"$f":"INDEX(Match!G:G,MATCH(O38,Match!T:T,0))","v":0}]
[{"$f":"A38","v":"Chris Bow"},"","","","",null,null,null,null,null,{"$f":"INDEX(Odds!G:G,MATCH(I39,Odds!E:E,0))","v":{"$error":"#N/A"}},{"$f":"INDEX(Odds!H:H,MATCH(I39,Odds!E:E,0))","v":{"$error":"#N/A"}},{"$error":"#N/A"},null,{"$f":"IF(Match!A39=\"\",\"\",Match!T39)","v":"Port Vale 1-1 Northampton "},null,{"$f":"IF(Odds!E39=\"\",\"\",Odds!E39)","v":"Port Vale"},{"$f":"INDEX(Odds!F:F,MATCH(Q39,Odds!E:E,0))","v":"13/8"},0,{"$f":"INDEX(Match!O:O,MATCH(O39,Match!T:T,0))","v":"Port Vale"},{"$f":"INDEX(Match!F:F,MATCH(O39,Match!T:T,0))","v":1},{"$f":"INDEX(Match!P:P,MATCH(O39,Match!T:T,0))","v":"Northampton"},{"$f":"INDEX(Match!G:G,MATCH(O39,Match!T:T,0))","v":1}]
[{"$f":"A38","v":"Chris Bow"},"","","","",null,null,null,null,null,{"$f":"INDEX(Odds!G:G,MATCH(I40,Odds!E:E,0))","v":{"$error":"#N/A"}},{"$f":"INDEX(Odds!H:H,MATCH(I40,Odds!E:E,0))","v":{"$error":"#N/A"}},{"$error":"#N/A"},null,{"$f":"IF(Match!A40=\"\",\"\",Match!T40)","v":"Stevenage 0-1 Exeter "},null,{"$f":"IF(Odds!E40=\"\",\"\",Odds!E40)","v":"Stevenage"},{"$f":"INDEX(Odds!F:F,MATCH(Q40,Odds!E:E,0))","v":"16/11"},0,{"$f":"INDEX(Match!O:O,MATCH(O40,Match!T:T,0))","v":"Stevenage"},{"$f":"INDEX(Match!F:F,MATCH(O40,Match!T:T,0))","v":0},{"$f":"INDEX(Match!P:P,MATCH(O40,Match!T:T,0))","v":"Exeter"},{"$f":"INDEX(Match!G:G,MATCH(O40,Match!T:T,0))","v":1}]
[{"$f":"Results!B41","v":"Chris Griffin"},"","","","",{"$f":"IF(I41=\"\",\"\",INDEX(Results!T:T,MATCH(A41,Results!V:V,0)))","v":""},{"$f":"IF(J41=\"\",\"\",INDEX(Results!AI:AI,MATCH(A41,Results!V:V,0)))","v":""},{"$f":"IF(ISERROR(G41),0,1)","v":1},null,null,{"$f":"INDEX(Odds!G:G,MATCH(I41,Odds!E:E,0))","v":{"$error":"#N/A"}},{"$f":"INDEX(Odds!H:H,MATCH(I41,Odds!E:E,0))","v":{"$error":"#N/A"}},{"$error":"#N/A"},null,{"$f":"IF(Match!A41=\"\",\"\",Match!T41)","v":"Swindon 3-2 Carlisle "},null,{"$f":"IF(Odds!E41=\"\",\"\",Odds!E41)","v":"Swindon"},{"$f":"INDEX(Odds!F:F,MATCH(Q41,Odds!E:E,0))","v":"21/20"},1,{"$f":"INDEX(Match!O:O,MATCH(O41,Match!T:T,0))","v":"Swindon"},{"$f":"INDEX(Match!F:F,MATCH(O41,Match!T:T,0))","v":3},{"$f":"INDEX(Match!P:P,MATCH(O41,Match!T:T,0))","v":"Carlisle"},{"$f":"INDEX(Match!G:G,MATCH(O41,Match!T:T,0))","v":2}]
[{"$f":"A41","v":"Chris Griffin"},"","","","",null,null,null,null,null,{"$f":"INDEX(Odds!G:G,MATCH(I42,Odds!E:E,0))","v":{"$error":"#N/A"}},{"$f":"INDEX(Odds!H:H,MATCH(I42,Odds!E:E,0))","v":{"$error":"#N/A"}},{"$error":"#N/A"},null,{"$f":"IF(Match!A42=\"\",\"\",Match!T42)","v":"Walsall 1-1 Forest Green "},null,{"$f":"IF(Odds!E42=\"\",\"\",Odds!E42)","v":"Walsall"},{"$f":"INDEX(Odds!F:F,MATCH(Q42,Odds!E:E,0))","v":"11/8"},0,{"$f":"INDEX(Match!O:O,MATCH(O42,Match!T:T,0))","v":"Walsall"},{"$f":"INDEX(Match!F:F,MATCH(O42,Match!T:T,0))","v":1},{"$f":"INDEX(Match!P:P,MATCH(O42,Match!T:T,0))","v":"Forest Green"},{"$f":"INDEX(Match!G:G,MATCH(O42,Match!T:T,0))","v":1}]
[{"$f":"A41","v":"Chris Griffin"},"","","","",null,null,null,null,null,{"$f":"INDEX(Odds!G:G,MATCH(I43,Odds!E:E,0))","v":{"$error":"#N/A"}},{"$f":"INDEX(Odds!H:H,MATCH(I43,Odds!E:E,0))","v":{"$error":"#N/A"}},{"$error":"#N/A"},null,{"$f":"IF(Match!A43=\"\",\"\",Match!T43)","v":"Leicester 0-0 Wolves "},null,{"$f":"IF(Odds!E43=\"\",\"\",Odds!E43)","v":"Leicester"},{"$f":"INDEX(Odds!F:F,MATCH(Q43,Odds!E:E,0))","v":"13/10"},0,{"$f":"INDEX(Match!O:O,MATCH(O43,Match!T:T,0))","v":"Leicester"},{"$f":"INDEX(Match!F:F,MATCH(O43,Match!T:T,0))","v":0},{"$f":"INDEX(Match!P:P,MATCH(O43,Match!T:T,0))","v":"Wolves"},{"$f":"INDEX(Match!G:G,MATCH(O43,Match!T:T,0))","v":0}]
[{"$f":"Results!B44","v":"Chris Luck"},"","","","",{"$f":"IF(I44=\"\",\"\",INDEX(Results!T:T,MATCH(A44,Results!V:V,0)))","v":""},{"$f":"IF(J44=\"\",\"\",INDEX(Results!AI:AI,MATCH(A44,Results!V:V,0)))","v":""},{"$f":"IF(ISERROR(G44),0,1)","v":1},null,null,{"$f":"INDEX(Odds!G:G,MATCH(I44,Odds!E:E,0))","v":{"$error":"#N/A"}},{"$f":"INDEX(Odds!H:H,MATCH(I44,Odds!E:E,0))","v":{"$error":"#N/A"}},{"$error":"#N/A"},null,{"$f":"IF(Match!A44=\"\",\"\",Match!T44)","v":"Man U 4-0 Chelsea "},null,{"$f":"IF(Odds!E44=\"\",\"\",Odds!E44)","v":"Man U"},{"$f":"INDEX(Odds!F:F,MATCH(Q44,Odds!E:E,0))","v":"5/4"},1,{"$f":"INDEX(Match!O:O,MATCH(O44,Match!T:T,0))","v":"Man U"},{"$f":"INDEX(Match!F:F,MATCH(O44,Match!T:T,0))","v":4},{"$f":"INDEX(Match!P:P,MATCH(O44,Match!T:T,0))","v":"Chelsea"},{"$f":"INDEX(Match!G:G,MATCH(O44,Match!T:T,0))","v":0}]
[{"$f":"A44","v":"Chris Luck"},"","","","",null,null,null,null,null,{"$f":"INDEX(Odds!G:G,MATCH(I45,Odds!E:E,0))","v":{"$error":"#N/A"}},{"$f":"INDEX(Odds!H:H,MATCH(I45,Odds!E:E,0))","v":{"$error":"#N/A"}},{"$error":"#N/A"},null,{"$f":"IF(Match!A45=\"\",\"\",Match!T45)","v":"Newcastle 0-1 Arsenal "},null,{"$f":"IF(Odds!E45=\"\",\"\",Odds!E45)","v":"Newcastle"},{"$f":"INDEX(Odds!F:F,MATCH(Q45,Odds!E:E,0))","v":"77/19"},0,{"$f":"INDEX(Match!O:O,MATCH(O45,Match!T:T,0))","v":"Newcastle"},{"$f":"INDEX(Match!F:F,MATCH(O45,Match!T:T,0))","v":0},{"$f":"INDEX(Match!P:P,MATCH(O45,Match!T:T,0))","v":"Arsenal"},{"$f":"INDEX(Match!G:G,MATCH(O45,Match!T:T,0))","v":1}]
[{"$f":"A44","v":"Chris Luck"},"","","","",null,null,null,null,null,{"$f":"INDEX(Odds!G:G,MATCH(I46,Odds!E:E,0))","v":{"$error":"#N/A"}},{"$f":"INDEX(Odds!H:H,MATCH(I46,Odds!E:E,0))","v":{"$error":"#N/A"}},{"$error":"#N/A"},null,{"$f":"IF(Match!A46=\"\",\"\",Match!T46)","v":""},null,{"$f":"IF(Odds!E46=\"\",\"\",Odds!E46)","v":""},{"$f":"INDEX(Odds!F:F,MATCH(Q46,Odds!E:E,0))","v":""},{"$error":"#N/A"},{"$f":"INDEX(Match!O:O,MATCH(O46,Match!T:T,0))","v":{"$error":"#N/A"}},{"$f":"INDEX(Match!F:F,MATCH(O46,Match!T:T,0))","v":{"$error":"#N/A"}},{"$f":"INDEX(Match!P:P,MATCH(O46,Match!T:T,0))","v":{"$error":"#N/A"}},{"$f":"INDEX(Match!G:G,MATCH(O46,Match!T:T,0))","v":{"$error":"#N/A"}}]
[{"$f":"Results!B47","v":"Chris Townsend"},"","","","",{"$f":"IF(I47=\"\",\"\",INDEX(Results!T:T,MATCH(A47,Results!V:V,0)))","v":""},{"$f":"IF(J47=\"\",\"\",INDEX(Results!AI:AI,MATCH(A47,Results!V:V,0)))","v":""},{"$f":"IF(ISERROR(G47),0,1)","v":1},null,null,{"$f":"INDEX(Odds!G:G,MATCH(I47,Odds!E:E,0))","v":{"$error":"#N/A"}},{"$f":"INDEX(Odds!H:H,MATCH(I47,Odds!E:E,0))","v":{"$error":"#N/A"}},{"$error":"#N/A"},null,{"$f":"IF(Match!A47=\"\",\"\",Match!T47)","v":""},null,{"$f":"IF(Odds!E47=\"\",\"\",Odds!E47)","v":""},{"$f":"INDEX(Odds!F:F,MATCH(Q47,Odds!E:E,0))","v":""},{"$f":"IF(U47>W47,1,0)","v":{"$error":"#N/A"}},{"$f":"INDEX(Match!O:O,MATCH(O47,Match!T:T,0))","v":{"$error":"#N/A"}},{"$f":"INDEX(Match!F:F,MATCH(O47,Match!T:T,0))","v":{"$error":"#N/A"}},{"$f":"INDEX(Match!P:P,MATCH(O47,Match!T:T,0))","v":{"$error":"#N/A"}},{"$f":"INDEX(Match!G:G,MATCH(O47,Match!T:T,0))","v":{"$error":"#N/A"}}]
[{"$f":"A47","v":"Chris Townsend"},"","","","",null,null,null,null,null,{"$f":"INDEX(Odds!G:G,MATCH(I48,Odds!E:E,0))","v":{"$error":"#N/A"}},{"$f":"INDEX(Odds!H:H,MATCH(I48,Odds!E:E,0))","v":{"$error":"#N/A"}},{"$error":"#N/A"},null,null,null,{"$f":"IF(Odds!E48=\"\",\"\",Odds!E48)","v":"Liverpool draw"},{"$f":"INDEX(Odds!F:F,MATCH(Q48,Odds!E:E,0))","v":"7/1"},{"$f":"IF(U2=W2,1,0)","v":0}]
[{"$f":"A47","v":"Chris Townsend"},"","","","",null,null,null,null,null,{"$f":"INDEX(Odds!G:G,MATCH(I49,Odds!E:E,0))","v":{"$error":"#N/A"}},{"$f":"INDEX(Odds!H:H,MATCH(I49,Odds!E:E,0))","v":{"$error":"#N/A"}},{"$error":"#N/A"},null,null,null,{"$f":"IF(Odds!E49=\"\",\"\",Odds!E49)","v":"Bournemouth draw"},{"$f":"INDEX(Odds!F:F,MATCH(Q49,Odds!E:E,0))","v":"13/5"},1]
[{"$f":"Results!B50","v":"Dan Baxter"},"","","","",{"$f":"IF(I50=\"\",\"\",INDEX(Results!T:T,MATCH(A50,Results!V:V,0)))","v":""},{"$f":"IF(J50=\"\",\"\",INDEX(Results!AI:AI,MATCH(A50,Results!V:V,0)))","v":""},{"$f":"IF(ISERROR(G50),0,1)","v":1},null,null,{"$f":"INDEX(Odds!G:G,MATCH(I50,Odds!E:E,0))","v":{"$error":"#N/A"}},{"$f":"INDEX(Odds!H:H,MATCH(I50,Odds!E:E,0))","v":{"$error":"#N/A"}},{"$error":"#N/A"},null,null,"`",{"$f":"IF(Odds!E50=\"\",\"\",Odds!E50)","v":"Burnley draw"},{"$f":"INDEX(Odds!F:F,MATCH(Q50,Odds!E:E,0))","v":"23/10"},0]
[{"$f":"A50","v":"Dan Baxter"},"","","","",null,null,null,null,null,{"$f":"INDEX(Odds!G:G,MATCH(I51,Odds!E:E,0))","v":{"$error":"#N/A"}},{"$f":"INDEX(Odds!H:H,MATCH(I51,Odds!E:E,0))","v":{"$error":"#N/A"}},{"$error":"#N/A"},null,null,null,{"$f":"IF(Odds!E51=\"\",\"\",Odds!E51)","v":"Palace draw"},{"$f":"INDEX(Odds!F:F,MATCH(Q51,Odds!E:E,0))","v":"23/10"},1]
[{"$f":"A50","v":"Dan Baxter"},"","","","",null,null,null,null,null,{"$f":"INDEX(Odds!G:G,MATCH(I52,Odds!E:E,0))","v":{"$error":"#N/A"}},{"$f":"INDEX(Odds!H:H,MATCH(I52,Odds!E:E,0))","v":{"$error":"#N/A"}},{"$error":"#N/A"},null,null,null,{"$f":"IF(Odds!E52=\"\",\"\",Odds!E52)","v":"Spurs draw"},{"$f":"INDEX(Odds!F:F,MATCH(Q52,Odds!E:E,0))","v":"24/5"},0]
[{"$f":"Results!B53","v":"Dave Bell"},"","","","",{"$f":"IF(I53=\"\",\"\",INDEX(Results!T:T,MATCH(A53,Results!V:V,0)))","v":""},{"$f":"IF(J53=\"\",\"\",INDEX(Results!AI:AI,MATCH(A53,Results!V:V,0)))","v":""},{"$f":"IF(ISERROR(G53),0,1)","v":1},null,null,{"$f":"INDEX(Odds!G:G,MATCH(I53,Odds!E:E,0))","v":{"$error":"#N/A"}},{"$f":"INDEX(Odds!H:H,MATCH(I53,Odds!E:E,0))","v":{"$error":"#N/A"}},{"$error":"#N/A"},null,null,null,{"$f":"IF(Odds!E53=\"\",\"\",Odds!E53)","v":"Watford draw"},{"$f":"INDEX(Odds!F:F,MATCH(Q53,Odds!E:E,0))","v":"12/5"},0]
[{"$f":"A53","v":"Dave Bell"},"","","","",null,null,null,null,null,{"$f":"INDEX(Odds!G:G,MATCH(I54,Odds!E:E,0))","v":{"$error":"#N/A"}},{"$f":"INDEX(Odds!H:H,MATCH(I54,Odds!E:E,0))","v":{"$error":"#N/A"}},{"$error":"#N/A"},null,null,null,{"$f":"IF(Odds!E54=\"\",\"\",Odds!E54)","v":"West Ham draw"},{"$f":"INDEX(Odds!F:F,MATCH(Q54,Odds!E:E,0))","v":"5/1"},0]
[{"$f":"A53","v":"Dave Bell"},"","","","",null,null,null,null,null,{"$f":"INDEX(Odds!G:G,MATCH(I55,Odds!E:E,0))","v":{"$error":"#N/A"}},{"$f":"INDEX(Odds!H:H,MATCH(I55,Odds!E:E,0))","v":{"$error":"#N/A"}},{"$error":"#N/A"},null,null,null,{"$f":"IF(Odds!E55=\"\",\"\",Odds!E55)","v":"Birmingham draw"},{"$f":"INDEX(Odds!F:F,MATCH(Q55,Odds!E:E,0))","v":"23/10"},1]
[{"$f":"Results!B56","v":"Dave Orrell"},"","","","",{"$f":"IF(I56=\"\",\"\",INDEX(Results!T:T,MATCH(A56,Results!V:V,0)))","v":""},{"$f":"IF(J56=\"\",\"\",INDEX(Results!AI:AI,MATCH(A56,Results!V:V,0)))","v":""},{"$f":"IF(ISERROR(G56),0,1)","v":1},null,null,{"$f":"INDEX(Odds!G:G,MATCH(I56,Odds!E:E,0))","v":{"$error":"#N/A"}},{"$f":"INDEX(Odds!H:H,MATCH(I56,Odds!E:E,0))","v":{"$error":"#N/A"}},{"$error":"#N/A"},null,null,null,{"$f":"IF(Odds!E56=\"\",\"\",Odds!E56)","v":"Cardiff draw"},{"$f":"INDEX(Odds!F:F,MATCH(Q56,Odds!E:E,0))","v":"13/5"},0]
[{"$f":"A56","v":"Dave Orrell"},"","","","",null,null,null,null,null,{"$f":"INDEX(Odds!G:G,MATCH(I57,Odds!E:E,0))","v":{"$error":"#N/A"}},{"$f":"INDEX(Odds!H:H,MATCH(I57,Odds!E:E,0))","v":{"$error":"#N/A"}},{"$error":"#N/A"},null,null,null,{"$f":"IF(Odds!E57=\"\",\"\",Odds!E57)","v":"Charlton draw"},{"$f":"INDEX(Odds!F:F,MATCH(Q57,Odds!E:E,0))","v":"12/5"},0]
[{"$f":"A56","v":"Dave Orrell"},"","","","",null,null,null,null,null,{"$f":"INDEX(Odds!G:G,MATCH(I58,Odds!E:E,0))","v":{"$error":"#N/A"}},{"$f":"INDEX(Odds!H:H,MATCH(I58,Odds!E:E,0))","v":{"$error":"#N/A"}},{"$error":"#N/A"},null,null,null,{"$f":"IF(Odds!E58=\"\",\"\",Odds!E58)","v":"Derby draw"},{"$f":"INDEX(Odds!F:F,MATCH(Q58,Odds!E:E,0))","v":"12/5"},1]
[{"$f":"Results!B59","v":"David Dunn"},"","","","",{"$f":"IF(I59=\"\",\"\",INDEX(Results!T:T,MATCH(A59,Results!V:V,0)))","v":""},{"$f":"IF(J59=\"\",\"\",INDEX(Results!AI:AI,MATCH(A59,Results!V:V,0)))","v":""},{"$f":"IF(ISERROR(G59),0,1)","v":1},null,null,{"$f":"INDEX(Odds!G:G,MATCH(I59,Odds!E:E,0))","v":{"$error":"#N/A"}},{"$f":"INDEX(Odds!H:H,MATCH(I59,Odds!E:E,0))","v":{"$error":"#N/A"}},{"$error":"#N/A"},null,null,null,{"$f":"IF(Odds!E59=\"\",\"\",Odds!E59)","v":"Fulham draw"},{"$f":"INDEX(Odds!F:F,MATCH(Q59,Odds!E:E,0))","v":"11/4"},0]
[{"$f":"A59","v":"David Dunn"},"","","","",null,null,null,null,null,{"$f":"INDEX(Odds!G:G,MATCH(I60,Odds!E:E,0))","v":{"$error":"#N/A"}},{"$f":"INDEX(Odds!H:H,MATCH(I60,Odds!E:E,0))","v":{"$error":"#N/A"}},{"$error":"#N/A"},null,null,null,{"$f":"IF(Odds!E60=\"\",\"\",Odds!E60)","v":"Hull draw"},{"$f":"INDEX(Odds!F:F,MATCH(Q60,Odds!E:E,0))","v":"12/5"},0]
[{"$f":"A59","v":"David Dunn"},"","","","",null,null,null,null,null,{"$f":"INDEX(Odds!G:G,MATCH(I61,Odds!E:E,0))","v":{"$error":"#N/A"}},{"$f":"INDEX(Odds!H:H,MATCH(I61,Odds!E:E,0))","v":{"$error":"#N/A"}},{"$error":"#N/A"},null,null,null,{"$f":"IF(Odds!E61=\"\",\"\",Odds!E61)","v":"Leeds draw"},{"$f":"INDEX(Odds!F:F,MATCH(Q61,Odds!E:E,0))","v":"14/5"},1]
[{"$f":"Results!B62","v":"Gareth Fallows"},"","","","",{"$f":"IF(I62=\"\",\"\",INDEX(Results!T:T,MATCH(A62,Results!V:V,0)))","v":""},{"$f":"IF(J62=\"\",\"\",INDEX(Results!AI:AI,MATCH(A62,Results!V:V,0)))","v":""},{"$f":"IF(ISERROR(G62),0,1)","v":1},null,null,{"$f":"INDEX(Odds!G:G,MATCH(I62,Odds!E:E,0))","v":{"$error":"#N/A"}},{"$f":"INDEX(Odds!H:H,MATCH(I62,Odds!E:E,0))","v":{"$error":"#N/A"}},{"$error":"#N/A"},null,null,null,{"$f":"IF(Odds!E62=\"\",\"\",Odds!E62)","v":"Middlesbro draw"},{"$f":"INDEX(Odds!F:F,MATCH(Q62,Odds!E:E,0))","v":"12/5"},0]
[{"$f":"A62","v":"Gareth Fallows"},"","","","",null,null,null,null,null,{"$f":"INDEX(Odds!G:G,MATCH(I63,Odds!E:E,0))","v":{"$error":"#N/A"}},{"$f":"INDEX(Odds!H:H,MATCH(I63,Odds!E:E,0))","v":{"$error":"#N/A"}},{"$error":"#N/A"},null,null,null,{"$f":"IF(Odds!E63=\"\",\"\",Odds!E63)","v":"Preston draw"},{"$f":"INDEX(Odds!F:F,MATCH(Q63,Odds!E:E,0))","v":"23/10"},0]
[{"$f":"A62","v":"Gareth Fallows"},"","","","",null,null,null,null,null,{"$f":"INDEX(Odds!G:G,MATCH(I64,Odds!E:E,0))","v":{"$error":"#N/A"}},{"$f":"INDEX(Odds!H:H,MATCH(I64,Odds!E:E,0))","v":{"$error":"#N/A"}},{"$error":"#N/A"},null,null,null,{"$f":"IF(Odds!E64=\"\",\"\",Odds!E64)","v":"QPR draw"},{"$f":"INDEX(Odds!F:F,MATCH(Q64,Odds!E:E,0))","v":"23/10"},1]
[{"$f":"Results!B65","v":"Gareth McGuire"},"","","","",{"$f":"IF(I65=\"\",\"\",INDEX(Results!T:T,MATCH(A65,Results!V:V,0)))","v":""},{"$f":"IF(J65=\"\",\"\",INDEX(Results!AI:AI,MATCH(A65,Results!V:V,0)))","v":""},{"$f":"IF(ISERROR(G65),0,1)","v":1},null,null,{"$f":"INDEX(Odds!G:G,MATCH(I65,Odds!E:E,0))","v":{"$error":"#N/A"}},{"$f":"INDEX(Odds!H:H,MATCH(I65,Odds!E:E,0))","v":{"$error":"#N/A"}},{"$error":"#N/A"},null,null,null,{"$f":"IF(Odds!E65=\"\",\"\",Odds!E65)","v":"Sheff W draw"},{"$f":"INDEX(Odds!F:F,MATCH(Q65,Odds!E:E,0))","v":"12/5"},0]
[{"$f":"A65","v":"Gareth McGuire"},"","","","",null,null,null,null,null,{"$f":"INDEX(Odds!G:G,MATCH(I66,Odds!E:E,0))","v":{"$error":"#N/A"}},{"$f":"INDEX(Odds!H:H,MATCH(I66,Odds!E:E,0))","v":{"$error":"#N/A"}},{"$error":"#N/A"},null,null,null,{"$f":"IF(Odds!E66=\"\",\"\",Odds!E66)","v":"West Brom draw"},{"$f":"INDEX(Odds!F:F,MATCH(Q66,Odds!E:E,0))","v":"11/4"},1]
[{"$f":"A65","v":"Gareth McGuire"},{"$f":"IF(I67=\"\",\"\",I67)","v":""},{"$f":"IF(I67=\"\",\"\",J67)","v":""},{"$f":"IF(I67=\"\",\"\",K67)","v":""},{"$f":"IF(I67=\"\",\"\",IF(L67=1,\"Correct\",\"\"))","v":""},null,null,null,null,null,{"$f":"INDEX(Odds!G:G,MATCH(I67,Odds!E:E,0))","v":{"$error":"#N/A"}},{"$f":"INDEX(Odds!H:H,MATCH(I67,Odds!E:E,0))","v":{"$error":"#N/A"}},{"$error":"#N/A"},null,null,null,{"$f":"IF(Odds!E67=\"\",\"\",Odds!E67)","v":"Bristol R draw"},{"$f":"INDEX(Odds!F:F,MATCH(Q67,Odds!E:E,0))","v":"23/10"},1]
[{"$f":"Results!B68","v":"Gareth Powell"},"","","","",{"$f":"IF(I68=\"\",\"\",INDEX(Results!T:T,MATCH(A68,Results!V:V,0)))","v":""},{"$f":"IF(J68=\"\",\"\",INDEX(Results!AI:AI,MATCH(A68,Results!V:V,0)))","v":""},{"$f":"IF(ISERROR(G68),0,1)","v":1},null,null,{"$f":"INDEX(Odds!G:G,MATCH(I68,Odds!E:E,0))","v":{"$error":"#N/A"}},{"$f":"INDEX(Odds!H:H,MATCH(I68,Odds!E:E,0))","v":{"$error":"#N/A"}},{"$error":"#N/A"},null,null,null,{"$f":"IF(Odds!E68=\"\",\"\",Odds!E68)","v":"Fleetwood draw"},{"$f":"INDEX(Odds!F:F,MATCH(Q68,Odds!E:E,0))","v":"23/10"},0]
[{"$f":"A68","v":"Gareth Powell"},"","","","",null,null,null,null,null,{"$f":"INDEX(Odds!G:G,MATCH(I69,Odds!E:E,0))","v":{"$error":"#N/A"}},{"$f":"INDEX(Odds!H:H,MATCH(I69,Odds!E:E,0))","v":{"$error":"#N/A"}},{"$f":"K69*L69","v":{"$error":"#N/A"}},null,null,null,{"$f":"IF(Odds!E69=\"\",\"\",Odds!E69)","v":"Gillingham draw"},{"$f":"INDEX(Odds!F:F,MATCH(Q69,Odds!E:E,0))","v":"23/10"},0]
[{"$f":"A68","v":"Gareth Powell"},"","","","",null,null,null,null,null,{"$f":"INDEX(Odds!G:G,MATCH(I70,Odds!E:E,0))","v":{"$error":"#N/A"}},{"$f":"INDEX(Odds!H:H,MATCH(I70,Odds!E:E,0))","v":{"$error":"#N/A"}},{"$error":"#N/A"},null,null,null,{"$f":"IF(Odds!E70=\"\",\"\",Odds!E70)","v":"Ipswich draw"},{"$f":"INDEX(Odds!F:F,MATCH(Q70,Odds!E:E,0))","v":"23/10"},1]
[{"$f":"Results!B71","v":"Gerard Ventom"},"","","","",{"$f":"IF(I71=\"\",\"\",INDEX(Results!T:T,MATCH(A71,Results!V:V,0)))","v":""},{"$f":"IF(J71=\"\",\"\",INDEX(Results!AI:AI,MATCH(A71,Results!V:V,0)))","v":""},{"$f":"IF(ISERROR(G71),0,1)","v":1},null,null,{"$f":"INDEX(Odds!G:G,MATCH(I71,Odds!E:E,0))","v":{"$error":"#N/A"}},{"$f":"INDEX(Odds!H:H,MATCH(I71,Odds!E:E,0))","v":{"$error":"#N/A"}},{"$error":"#N/A"},null,null,null,{"$f":"IF(Odds!E71=\"\",\"\",Odds!E71)","v":"MK Dons draw"},{"$f":"INDEX(Odds!F:F,MATCH(Q71,Odds!E:E,0))","v":"23/10"},0]
[{"$f":"A71","v":"Gerard Ventom"},"","","","",null,null,null,null,null,{"$f":"INDEX(Odds!G:G,MATCH(I72,Odds!E:E,0))","v":{"$error":"#N/A"}},{"$f":"INDEX(Odds!H:H,MATCH(I72,Odds!E:E,0))","v":{"$error":"#N/A"}},{"$error":"#N/A"},null,null,null,{"$f":"IF(Odds!E72=\"\",\"\",Odds!E72)","v":"Oxford draw"},{"$f":"INDEX(Odds!F:F,MATCH(Q72,Odds!E:E,0))","v":"23/10"},0]
[{"$f":"A71","v":"Gerard Ventom"},"","","","",null,null,null,null,null,{"$f":"INDEX(Odds!G:G,MATCH(I73,Odds!E:E,0))","v":{"$error":"#N/A"}},{"$f":"INDEX(Odds!H:H,MATCH(I73,Odds!E:E,0))","v":{"$error":"#N/A"}},{"$error":"#N/A"},null,null,null,{"$f":"IF(Odds!E73=\"\",\"\",Odds!E73)","v":"Portsmouth draw"},{"$f":"INDEX(Odds!F:F,MATCH(Q73,Odds!E:E,0))","v":"11/4"},0]
[{"$f":"Results!B74","v":"Graeme Holmes"},"","","","",{"$f":"IF(I74=\"\",\"\",INDEX(Results!T:T,MATCH(A74,Results!V:V,0)))","v":""},{"$f":"IF(J74=\"\",\"\",INDEX(Results!AI:AI,MATCH(A74,Results!V:V,0)))","v":""},{"$f":"IF(ISERROR(G74),0,1)","v":1},null,null,{"$f":"INDEX(Odds!G:G,MATCH(I74,Odds!E:E,0))","v":{"$error":"#N/A"}},{"$f":"INDEX(Odds!H:H,MATCH(I74,Odds!E:E,0))","v":{"$error":"#N/A"}},{"$error":"#N/A"},null,null,null,{"$f":"IF(Odds!E74=\"\",\"\",Odds!E74)","v":"Rochdale draw"},{"$f":"INDEX(Odds!F:F,MATCH(Q74,Odds!E:E,0))","v":"23/10"},1]
[{"$f":"A74","v":"Graeme Holmes"},"","","","",null,null,null,null,null,{"$f":"INDEX(Odds!G:G,MATCH(I75,Odds!E:E,0))","v":{"$error":"#N/A"}},{"$f":"INDEX(Odds!H:H,MATCH(I75,Odds!E:E,0))","v":{"$error":"#N/A"}},{"$error":"#N/A"},null,null,null,{"$f":"IF(Odds!E75=\"\",\"\",Odds!E75)","v":"Rotherham draw"},{"$f":"INDEX(Odds!F:F,MATCH(Q75,Odds!E:E,0))","v":"23/10"},0]
[{"$f":"A74","v":"Graeme Holmes"},"","","","",null,null,null,null,null,{"$f":"INDEX(Odds!G:G,MATCH(I76,Odds!E:E,0))","v":{"$error":"#N/A"}},{"$f":"INDEX(Odds!H:H,MATCH(I76,Odds!E:E,0))","v":{"$error":"#N/A"}},{"$error":"#N/A"},null,null,null,{"$f":"IF(Odds!E76=\"\",\"\",Odds!E76)","v":"Southend draw"},{"$f":"INDEX(Odds!F:F,MATCH(Q76,Odds!E:E,0))","v":"23/10"},0]
[{"$f":"Results!B77","v":"Graham Miller"},"","","","",{"$f":"IF(I77=\"\",\"\",INDEX(Results!T:T,MATCH(A77,Results!V:V,0)))","v":""},{"$f":"IF(J77=\"\",\"\",INDEX(Results!AI:AI,MATCH(A77,Results!V:V,0)))","v":""},{"$f":"IF(ISERROR(G77),0,1)","v":1},null,null,{"$f":"INDEX(Odds!G:G,MATCH(I77,Odds!E:E,0))","v":{"$error":"#N/A"}},{"$f":"INDEX(Odds!H:H,MATCH(I77,Odds!E:E,0))","v":{"$error":"#N/A"}},{"$error":"#N/A"},null,null,null,{"$f":"IF(Odds!E77=\"\",\"\",Odds!E77)","v":"Cambridge draw"},{"$f":"INDEX(Odds!F:F,MATCH(Q77,Odds!E:E,0))","v":"5/2"},1]
[{"$f":"A77","v":"Graham Miller"},"","","","",null,null,null,null,null,{"$f":"INDEX(Odds!G:G,MATCH(I78,Odds!E:E,0))","v":{"$error":"#N/A"}},{"$f":"INDEX(Odds!H:H,MATCH(I78,Odds!E:E,0))","v":{"$error":"#N/A"}},{"$error":"#N/A"},null,null,null,{"$f":"IF(Odds!E78=\"\",\"\",Odds!E78)","v":"Cheltenham draw"},{"$f":"INDEX(Odds!F:F,MATCH(Q78,Odds!E:E,0))","v":"5/2"},0]
[{"$f":"A77","v":"Graham Miller"},"","","","",null,null,null,null,null,{"$f":"INDEX(Odds!G:G,MATCH(I79,Odds!E:E,0))","v":{"$error":"#N/A"}},{"$f":"INDEX(Odds!H:H,MATCH(I79,Odds!E:E,0))","v":{"$error":"#N/A"}},{"$error":"#N/A"},null,null,null,{"$f":"IF(Odds!E79=\"\",\"\",Odds!E79)","v":"Crawley draw"},{"$f":"INDEX(Odds!F:F,MATCH(Q79,Odds!E:E,0))","v":"12/5"},0]
[{"$f":"Results!B80","v":"Howard Bradley"},"","","","",{"$f":"IF(I80=\"\",\"\",INDEX(Results!T:T,MATCH(A80,Results!V:V,0)))","v":""},{"$f":"IF(J80=\"\",\"\",INDEX(Results!AI:AI,MATCH(A80,Results!V:V,0)))","v":""},{"$f":"IF(ISERROR(G80),0,1)","v":1},null,null,{"$f":"INDEX(Odds!G:G,MATCH(I80,Odds!E:E,0))","v":{"$error":"#N/A"}},{"$f":"INDEX(Odds!H:H,MATCH(I80,Odds!E:E,0))","v":{"$error":"#N/A"}},{"$error":"#N/A"},null,null,null,{"$f":"IF(Odds!E80=\"\",\"\",Odds!E80)","v":"Grimsby draw"},{"$f":"INDEX(Odds!F:F,MATCH(Q80,Odds!E:E,0))","v":"5/2"},1]
[{"$f":"A80","v":"Howard Bradley"},"","","","",null,null,null,null,null,{"$f":"INDEX(Odds!G:G,MATCH(I81,Odds!E:E,0))","v":{"$error":"#N/A"}},{"$f":"INDEX(Odds!H:H,MATCH(I81,Odds!E:E,0))","v":{"$error":"#N/A"}},{"$error":"#N/A"},null,null,null,{"$f":"IF(Odds!E81=\"\",\"\",Odds!E81)","v":"Macclesfield draw"},{"$f":"INDEX(Odds!F:F,MATCH(Q81,Odds!E:E,0))","v":"12/5"},0]
[{"$f":"A80","v":"Howard Bradley"},"","","","",null,null,null,null,null,{"$f":"INDEX(Odds!G:G,MATCH(I82,Odds!E:E,0))","v":{"$error":"#N/A"}},{"$f":"INDEX(Odds!H:H,MATCH(I82,Odds!E:E,0))","v":{"$error":"#N/A"}},{"$error":"#N/A"},null,null,null,{"$f":"IF(Odds!E82=\"\",\"\",Odds!E82)","v":"Mansfield draw"},{"$f":"INDEX(Odds!F:F,MATCH(Q82,Odds!E:E,0))","v":"3/1"},1]
[{"$f":"Results!B83","v":"Ian Davies"},"","","","",{"$f":"IF(I83=\"\",\"\",INDEX(Results!T:T,MATCH(A83,Results!V:V,0)))","v":""},{"$f":"IF(J83=\"\",\"\",INDEX(Results!AI:AI,MATCH(A83,Results!V:V,0)))","v":""},{"$f":"IF(ISERROR(G83),0,1)","v":1},null,null,{"$f":"INDEX(Odds!G:G,MATCH(I83,Odds!E:E,0))","v":{"$error":"#N/A"}},{"$f":"INDEX(Odds!H:H,MATCH(I83,Odds!E:E,0))","v":{"$error":"#N/A"}},{"$error":"#N/A"},null,null,null,{"$f":"IF(Odds!E83=\"\",\"\",Odds!E83)","v":"Oldham draw"},{"$f":"INDEX(Odds!F:F,MATCH(Q83,Odds!E:E,0))","v":"13/5"},0]
[{"$f":"A83","v":"Ian Davies"},"","","","",null,null,null,null,null,{"$f":"INDEX(Odds!G:G,MATCH(I84,Odds!E:E,0))","v":{"$error":"#N/A"}},{"$f":"INDEX(Odds!H:H,MATCH(I84,Odds!E:E,0))","v":{"$error":"#N/A"}},{"$error":"#N/A"},null,null,null,{"$f":"IF(Odds!E84=\"\",\"\",Odds!E84)","v":"Plymouth draw"},{"$f":"INDEX(Odds!F:F,MATCH(Q84,Odds!E:E,0))","v":"5/2"},0]
[{"$f":"A83","v":"Ian Davies"},"","","","",null,null,null,null,null,{"$f":"INDEX(Odds!G:G,MATCH(I85,Odds!E:E,0))","v":{"$error":"#N/A"}},{"$f":"INDEX(Odds!H:H,MATCH(I85,Odds!E:E,0))","v":{"$error":"#N/A"}},{"$error":"#N/A"},null,null,null,{"$f":"IF(Odds!E85=\"\",\"\",Odds!E85)","v":"Port Vale draw"},{"$f":"INDEX(Odds!F:F,MATCH(Q85,Odds!E:E,0))","v":"23/10"},1]
[{"$f":"Results!B86","v":"Jack Walsh"},"","","","",{"$f":"IF(I86=\"\",\"\",INDEX(Results!T:T,MATCH(A86,Results!V:V,0)))","v":""},{"$f":"IF(J86=\"\",\"\",INDEX(Results!AI:AI,MATCH(A86,Results!V:V,0)))","v":""},{"$f":"IF(ISERROR(G86),0,1)","v":1},null,null,{"$f":"INDEX(Odds!G:G,MATCH(I86,Odds!E:E,0))","v":{"$error":"#N/A"}},{"$f":"INDEX(Odds!H:H,MATCH(I86,Odds!E:E,0))","v":{"$error":"#N/A"}},{"$error":"#N/A"},null,null,null,{"$f":"IF(Odds!E86=\"\",\"\",Odds!E86)","v":"Stevenage draw"},{"$f":"INDEX(Odds!F:F,MATCH(Q86,Odds!E:E,0))","v":"5/2"},0]
[{"$f":"A86","v":"Jack Walsh"},"","","","",null,null,null,null,null,{"$f":"INDEX(Odds!G:G,MATCH(I87,Odds!E:E,0))","v":{"$error":"#N/A"}},{"$f":"INDEX(Odds!H:H,MATCH(I87,Odds!E:E,0))","v":{"$error":"#N/A"}},{"$error":"#N/A"},null,null,null,{"$f":"IF(Odds!E87=\"\",\"\",Odds!E87)","v":"Swindon draw"},{"$f":"INDEX(Odds!F:F,MATCH(Q87,Odds!E:E,0))","v":"5/2"},0]
[{"$f":"A86","v":"Jack Walsh"},"","","","",null,null,null,null,null,{"$f":"INDEX(Odds!G:G,MATCH(I88,Odds!E:E,0))","v":{"$error":"#N/A"}},{"$f":"INDEX(Odds!H:H,MATCH(I88,Odds!E:E,0))","v":{"$error":"#N/A"}},{"$error":"#N/A"},null,null,null,{"$f":"IF(Odds!E88=\"\",\"\",Odds!E88)","v":"Walsall draw"},{"$f":"INDEX(Odds!F:F,MATCH(Q88,Odds!E:E,0))","v":"12/5"},1]
[{"$f":"Results!B89","v":"James Bell"},"","","","",{"$f":"IF(I89=\"\",\"\",INDEX(Results!T:T,MATCH(A89,Results!V:V,0)))","v":""},{"$f":"IF(J89=\"\",\"\",INDEX(Results!AI:AI,MATCH(A89,Results!V:V,0)))","v":""},{"$f":"IF(ISERROR(G89),0,1)","v":1},null,null,{"$f":"INDEX(Odds!G:G,MATCH(I89,Odds!E:E,0))","v":{"$error":"#N/A"}},{"$f":"INDEX(Odds!H:H,MATCH(I89,Odds!E:E,0))","v":{"$error":"#N/A"}},{"$error":"#N/A"},null,null,null,{"$f":"IF(Odds!E89=\"\",\"\",Odds!E89)","v":"Leicester draw"},{"$f":"INDEX(Odds!F:F,MATCH(Q89,Odds!E:E,0))","v":"26/11"},1]
[{"$f":"A89","v":"James Bell"},"","","","",null,null,null,null,null,{"$f":"INDEX(Odds!G:G,MATCH(I90,Odds!E:E,0))","v":{"$error":"#N/A"}},{"$f":"INDEX(Odds!H:H,MATCH(I90,Odds!E:E,0))","v":{"$error":"#N/A"}},{"$error":"#N/A"},null,null,null,{"$f":"IF(Odds!E90=\"\",\"\",Odds!E90)","v":"Man U draw"},{"$f":"INDEX(Odds!F:F,MATCH(Q90,Odds!E:E,0))","v":"32/13"},0]
[{"$f":"A89","v":"James Bell"},"","","","",null,null,null,null,null,{"$f":"INDEX(Odds!G:G,MATCH(I91,Odds!E:E,0))","v":{"$error":"#N/A"}},{"$f":"INDEX(Odds!H:H,MATCH(I91,Odds!E:E,0))","v":{"$error":"#N/A"}},{"$error":"#N/A"},null,null,null,{"$f":"IF(Odds!E91=\"\",\"\",Odds!E91)","v":"Newcastle draw"},{"$f":"INDEX(Odds!F:F,MATCH(Q91,Odds!E:E,0))","v":"29/10"},0]
[{"$f":"Results!B92","v":"Joel Bent"},"","","","",{"$f":"IF(I92=\"\",\"\",INDEX(Results!T:T,MATCH(A92,Results!V:V,0)))","v":""},{"$f":"IF(J92=\"\",\"\",INDEX(Results!AI:AI,MATCH(A92,Results!V:V,0)))","v":""},{"$f":"IF(ISERROR(G92),0,1)","v":1},null,null,{"$f":"INDEX(Odds!G:G,MATCH(I92,Odds!E:E,0))","v":{"$error":"#N/A"}},{"$f":"INDEX(Odds!H:H,MATCH(I92,Odds!E:E,0))","v":{"$error":"#N/A"}},{"$error":"#N/A"},null,null,null,{"$f":"IF(Odds!E92=\"\",\"\",Odds!E92)","v":""},{"$f":"INDEX(Odds!F:F,MATCH(Q92,Odds!E:E,0))","v":""},{"$error":"#N/A"}]
[{"$f":"A92","v":"Joel Bent"},"","","","",null,null,null,null,null,{"$f":"INDEX(Odds!G:G,MATCH(I93,Odds!E:E,0))","v":{"$error":"#N/A"}},{"$f":"INDEX(Odds!H:H,MATCH(I93,Odds!E:E,0))","v":{"$error":"#N/A"}},{"$error":"#N/A"},null,null,null,{"$f":"IF(Odds!E93=\"\",\"\",Odds!E93)","v":""},{"$f":"INDEX(Odds!F:F,MATCH(Q93,Odds!E:E,0))","v":""},{"$error":"#N/A"}]
[{"$f":"A92","v":"Joel Bent"},"","","","",null,null,null,null,null,{"$f":"INDEX(Odds!G:G,MATCH(I94,Odds!E:E,0))","v":{"$error":"#N/A"}},{"$f":"INDEX(Odds!H:H,MATCH(I94,Odds!E:E,0))","v":{"$error":"#N/A"}},{"$error":"#N/A"},null,null,null,{"$f":"IF(Odds!E94=\"\",\"\",Odds!E94)","v":"Norwich"},{"$f":"INDEX(Odds!F:F,MATCH(Q94,Odds!E:E,0))","v":"18/1"},{"$f":"IF(U2<W2,1,0)","v":0}]
[{"$f":"Results!B95","v":"John Evans"},"","","","",{"$f":"IF(I95=\"\",\"\",INDEX(Results!T:T,MATCH(A95,Results!V:V,0)))","v":""},{"$f":"IF(J95=\"\",\"\",INDEX(Results!AI:AI,MATCH(A95,Results!V:V,0)))","v":""},{"$f":"IF(ISERROR(G95),0,1)","v":1},null,null,{"$f":"INDEX(Odds!G:G,MATCH(I95,Odds!E:E,0))","v":{"$error":"#N/A"}},{"$f":"INDEX(Odds!H:H,MATCH(I95,Odds!E:E,0))","v":{"$error":"#N/A"}},{"$error":"#N/A"},null,null,null,{"$f":"IF(Odds!E95=\"\",\"\",Odds!E95)","v":"Sheff U"},{"$f":"INDEX(Odds!F:F,MATCH(Q95,Odds!E:E,0))","v":"3/1"},0]
[{"$f":"A95","v":"John Evans"},"","","","",null,null,null,null,null,{"$f":"INDEX(Odds!G:G,MATCH(I96,Odds!E:E,0))","v":{"$error":"#N/A"}},{"$f":"INDEX(Odds!H:H,MATCH(I96,Odds!E:E,0))","v":{"$error":"#N/A"}},{"$error":"#N/A"},null,null,null,{"$f":"IF(Odds!E96=\"\",\"\",Odds!E96)","v":"Southampton"},{"$f":"INDEX(Odds!F:F,MATCH(Q96,Odds!E:E,0))","v":"9/5"},0]
[{"$f":"A95","v":"John Evans"},"","","","",null,null,null,null,null,{"$f":"INDEX(Odds!G:G,MATCH(I97,Odds!E:E,0))","v":{"$error":"#N/A"}},{"$f":"INDEX(Odds!H:H,MATCH(I97,Odds!E:E,0))","v":{"$error":"#N/A"}},{"$error":"#N/A"},null,null,null,{"$f":"IF(Odds!E97=\"\",\"\",Odds!E97)","v":"Everton"},{"$f":"INDEX(Odds!F:F,MATCH(Q97,Odds!E:E,0))","v":"6/4"},0]
[{"$f":"Results!B98","v":"John Robinson"},"","","","",{"$f":"IF(I98=\"\",\"\",INDEX(Results!T:T,MATCH(A98,Results!V:V,0)))","v":""},{"$f":"IF(J98=\"\",\"\",INDEX(Results!AI:AI,MATCH(A98,Results!V:V,0)))","v":""},{"$f":"IF(ISERROR(G98),0,1)","v":1},null,null,{"$f":"INDEX(Odds!G:G,MATCH(I98,Odds!E:E,0))","v":{"$error":"#N/A"}},{"$f":"INDEX(Odds!H:H,MATCH(I98,Odds!E:E,0))","v":{"$error":"#N/A"}},{"$error":"#N/A"},null,null,null,{"$f":"IF(Odds!E98=\"\",\"\",Odds!E98)","v":"Villa"},{"$f":"INDEX(Odds!F:F,MATCH(Q98,Odds!E:E,0))","v":"10/1"},0]
[{"$f":"A98","v":"John Robinson"},"","","","",null,null,null,null,null,{"$f":"INDEX(Odds!G:G,MATCH(I99,Odds!E:E,0))","v":{"$error":"#N/A"}},{"$f":"INDEX(Odds!H:H,MATCH(I99,Odds!E:E,0))","v":{"$error":"#N/A"}},{"$error":"#N/A"},null,null,null,{"$f":"IF(Odds!E99=\"\",\"\",Odds!E99)","v":"Brighton"},{"$f":"INDEX(Odds!F:F,MATCH(Q99,Odds!E:E,0))","v":"10/3"},1]
[{"$f":"A98","v":"John Robinson"},"","","","",null,null,null,null,null,{"$f":"INDEX(Odds!G:G,MATCH(I100,Odds!E:E,0))","v":{"$error":"#N/A"}},{"$f":"INDEX(Odds!H:H,MATCH(I100,Odds!E:E,0))","v":{"$error":"#N/A"}},{"$error":"#N/A"},null,null,null,{"$f":"IF(Odds!E100=\"\",\"\",Odds!E100)","v":"Man C"},{"$f":"INDEX(Odds!F:F,MATCH(Q100,Odds!E:E,0))","v":"1/4"},1]
[{"$f":"Results!B101","v":"John Ronan"},"","","","",{"$f":"IF(I101=\"\",\"\",INDEX(Results!T:T,MATCH(A101,Results!V:V,0)))","v":""},{"$f":"IF(J101=\"\",\"\",INDEX(Results!AI:AI,MATCH(A101,Results!V:V,0)))","v":""},{"$f":"IF(ISERROR(G101),0,1)","v":1},null,null,{"$f":"INDEX(Odds!G:G,MATCH(I101,Odds!E:E,0))","v":{"$error":"#N/A"}},{"$f":"INDEX(Odds!H:H,MATCH(I101,Odds!E:E,0))","v":{"$error":"#N/A"}},{"$error":"#N/A"},null,null,null,{"$f":"IF(Odds!E101=\"\",\"\",Odds!E101)","v":"Bristol C"},{"$f":"INDEX(Odds!F:F,MATCH(Q101,Odds!E:E,0))","v":"21/10"},0]
[{"$f":"A101","v":"John Ronan"},"","","","",null,null,null,null,null,{"$f":"INDEX(Odds!G:G,MATCH(I102,Odds!E:E,0))","v":{"$error":"#N/A"}},{"$f":"INDEX(Odds!H:H,MATCH(I102,Odds!E:E,0))","v":{"$error":"#N/A"}},{"$error":"#N/A"},null,null,null,{"$f":"IF(Odds!E102=\"\",\"\",Odds!E102)","v":"Luton"},{"$f":"INDEX(Odds!F:F,MATCH(Q102,Odds!E:E,0))","v":"19/5"},0]
[{"$f":"A101","v":"John Ronan"},"","","","",null,null,null,null,null,{"$f":"INDEX(Odds!G:G,MATCH(I103,Odds!E:E,0))","v":{"$error":"#N/A"}},{"$f":"INDEX(Odds!H:H,MATCH(I103,Odds!E:E,0))","v":{"$error":"#N/A"}},{"$error":"#N/A"},null,null,null,{"$f":"IF(Odds!E103=\"\",\"\",Odds!E103)","v":"Stoke"},{"$f":"INDEX(Odds!F:F,MATCH(Q103,Odds!E:E,0))","v":"13/10"},0]
[{"$f":"Results!B104","v":"Kei Lok Ma"},"","","","",{"$f":"IF(I104=\"\",\"\",INDEX(Results!T:T,MATCH(A104,Results!V:V,0)))","v":""},{"$f":"IF(J104=\"\",\"\",INDEX(Results!AI:AI,MATCH(A104,Results!V:V,0)))","v":""},{"$f":"IF(ISERROR(G104),0,1)","v":1},null,null,{"$f":"INDEX(Odds!G:G,MATCH(I104,Odds!E:E,0))","v":{"$error":"#N/A"}},{"$f":"INDEX(Odds!H:H,MATCH(I104,Odds!E:E,0))","v":{"$error":"#N/A"}},{"$error":"#N/A"},null,null,null,{"$f":"IF(Odds!E104=\"\",\"\",Odds!E104)","v":"Swansea"},{"$f":"INDEX(Odds!F:F,MATCH(Q104,Odds!E:E,0))","v":"12/5"},0]
[{"$f":"A104","v":"Kei Lok Ma"},"","","","",null,null,null,null,null,{"$f":"INDEX(Odds!G:G,MATCH(I105,Odds!E:E,0))","v":{"$error":"#N/A"}},{"$f":"INDEX(Odds!H:H,MATCH(I105,Odds!E:E,0))","v":{"$error":"#N/A"}},{"$error":"#N/A"},null,null,null,{"$f":"IF(Odds!E105=\"\",\"\",Odds!E105)","v":"Blackburn"},{"$f":"INDEX(Odds!F:F,MATCH(Q105,Odds!E:E,0))","v":"17/5"},0]
[{"$f":"A104","v":"Kei Lok Ma"},"","","","",null,null,null,null,null,{"$f":"INDEX(Odds!G:G,MATCH(I106,Odds!E:E,0))","v":{"$error":"#N/A"}},{"$f":"INDEX(Odds!H:H,MATCH(I106,Odds!E:E,0))","v":{"$error":"#N/A"}},{"$error":"#N/A"},null,null,null,{"$f":"IF(Odds!E106=\"\",\"\",Odds!E106)","v":"Reading"},{"$f":"INDEX(Odds!F:F,MATCH(Q106,Odds!E:E,0))","v":"27/10"},0]
[{"$f":"Results!B107","v":"Kevin Carter"},"","","","",{"$f":"IF(I107=\"\",\"\",INDEX(Results!T:T,MATCH(A107,Results!V:V,0)))","v":""},{"$f":"IF(J107=\"\",\"\",INDEX(Results!AI:AI,MATCH(A107,Results!V:V,0)))","v":""},{"$f":"IF(ISERROR(G107),0,1)","v":1},null,null,{"$f":"INDEX(Odds!G:G,MATCH(I107,Odds!E:E,0))","v":{"$error":"#N/A"}},{"$f":"INDEX(Odds!H:H,MATCH(I107,Odds!E:E,0))","v":{"$error":"#N/A"}},{"$error":"#N/A"},null,null,null,{"$f":"IF(Odds!E107=\"\",\"\",Odds!E107)","v":"Forest"},{"$f":"INDEX(Odds!F:F,MATCH(Q107,Odds!E:E,0))","v":"4/1"},0]
[{"$f":"A107","v":"Kevin Carter"},"","","","",null,null,null,null,null,{"$f":"INDEX(Odds!G:G,MATCH(I108,Odds!E:E,0))","v":{"$error":"#N/A"}},{"$f":"INDEX(Odds!H:H,MATCH(I108,Odds!E:E,0))","v":{"$error":"#N/A"}},{"$error":"#N/A"},null,null,null,{"$f":"IF(Odds!E108=\"\",\"\",Odds!E108)","v":"Brentford"},{"$f":"INDEX(Odds!F:F,MATCH(Q108,Odds!E:E,0))","v":"21/10"},1]
[{"$f":"A107","v":"Kevin Carter"},"","","","",null,null,null,null,null,{"$f":"INDEX(Odds!G:G,MATCH(I109,Odds!E:E,0))","v":{"$error":"#N/A"}},{"$f":"INDEX(Odds!H:H,MATCH(I109,Odds!E:E,0))","v":{"$error":"#N/A"}},{"$error":"#N/A"},null,null,null,{"$f":"IF(Odds!E109=\"\",\"\",Odds!E109)","v":"Wigan"},{"$f":"INDEX(Odds!F:F,MATCH(Q109,Odds!E:E,0))","v":"27/10"},0]
[{"$f":"Results!B110","v":"Lennie Bow"},"","","","",{"$f":"IF(I110=\"\",\"\",INDEX(Results!T:T,MATCH(A110,Results!V:V,0)))","v":""},{"$f":"IF(J110=\"\",\"\",INDEX(Results!AI:AI,MATCH(A110,Results!V:V,0)))","v":""},{"$f":"IF(ISERROR(G110),0,1)","v":1},null,null,{"$f":"INDEX(Odds!G:G,MATCH(I110,Odds!E:E,0))","v":{"$error":"#N/A"}},{"$f":"INDEX(Odds!H:H,MATCH(I110,Odds!E:E,0))","v":{"$error":"#N/A"}},{"$error":"#N/A"},null,null,null,{"$f":"IF(Odds!E110=\"\",\"\",Odds!E110)","v":"Huddersfield"},{"$f":"INDEX(Odds!F:F,MATCH(Q110,Odds!E:E,0))","v":"9/5"},0]
[{"$f":"A110","v":"Lennie Bow"},"","","","",null,null,null,null,null,{"$f":"INDEX(Odds!G:G,MATCH(I111,Odds!E:E,0))","v":{"$error":"#N/A"}},{"$f":"INDEX(Odds!H:H,MATCH(I111,Odds!E:E,0))","v":{"$error":"#N/A"}},{"$error":"#N/A"},null,null,null,{"$f":"IF(Odds!E111=\"\",\"\",Odds!E111)","v":"Barnsley"},{"$f":"INDEX(Odds!F:F,MATCH(Q111,Odds!E:E,0))","v":"27/10"},0]
[{"$f":"A110","v":"Lennie Bow"},"","","","",null,null,null,null,null,{"$f":"INDEX(Odds!G:G,MATCH(I112,Odds!E:E,0))","v":{"$error":"#N/A"}},{"$f":"INDEX(Odds!H:H,MATCH(I112,Odds!E:E,0))","v":{"$error":"#N/A"}},{"$error":"#N/A"},null,null,null,{"$f":"IF(Odds!E112=\"\",\"\",Odds!E112)","v":"Millwall"},{"$f":"INDEX(Odds!F:F,MATCH(Q112,Odds!E:E,0))","v":"17/4"},0]
[{"$f":"Results!B113","v":"Lewis Buckley"},"","","","",{"$f":"IF(I113=\"\",\"\",INDEX(Results!T:T,MATCH(A113,Results!V:V,0)))","v":""},{"$f":"IF(J113=\"\",\"\",INDEX(Results!AI:AI,MATCH(A113,Results!V:V,0)))","v":""},{"$f":"IF(ISERROR(G113),0,1)","v":1},null,null,{"$f":"INDEX(Odds!G:G,MATCH(I113,Odds!E:E,0))","v":{"$error":"#N/A"}},{"$f":"INDEX(Odds!H:H,MATCH(I113,Odds!E:E,0))","v":{"$error":"#N/A"}},{"$error":"#N/A"},null,null,null,{"$f":"IF(Odds!E113=\"\",\"\",Odds!E113)","v":"Wycombe"},{"$f":"INDEX(Odds!F:F,MATCH(Q113,Odds!E:E,0))","v":"21/10"},0]
[{"$f":"A113","v":"Lewis Buckley"},"","","","",null,null,null,null,null,{"$f":"INDEX(Odds!G:G,MATCH(I114,Odds!E:E,0))","v":{"$error":"#N/A"}},{"$f":"INDEX(Odds!H:H,MATCH(I114,Odds!E:E,0))","v":{"$error":"#N/A"}},{"$error":"#N/A"},null,null,null,{"$f":"IF(Odds!E114=\"\",\"\",Odds!E114)","v":"Wimbledon"},{"$f":"INDEX(Odds!F:F,MATCH(Q114,Odds!E:E,0))","v":"3/1"},0]
[{"$f":"A113","v":"Lewis Buckley"},"","","","",null,null,null,null,null,{"$f":"INDEX(Odds!G:G,MATCH(I115,Odds!E:E,0))","v":{"$error":"#N/A"}},{"$f":"INDEX(Odds!H:H,MATCH(I115,Odds!E:E,0))","v":{"$error":"#N/A"}},{"$error":"#N/A"},null,null,null,{"$f":"IF(Odds!E115=\"\",\"\",Odds!E115)","v":"Burton"},{"$f":"INDEX(Odds!F:F,MATCH(Q115,Odds!E:E,0))","v":"6/4"},1]
[{"$f":"Results!B116","v":"Liam Wah"},"","","","",{"$f":"IF(I116=\"\",\"\",INDEX(Results!T:T,MATCH(A116,Results!V:V,0)))","v":""},{"$f":"IF(J116=\"\",\"\",INDEX(Results!AI:AI,MATCH(A116,Results!V:V,0)))","v":""},{"$f":"IF(ISERROR(G116),0,1)","v":1},null,null,{"$f":"INDEX(Odds!G:G,MATCH(I116,Odds!E:E,0))","v":{"$error":"#N/A"}},{"$f":"INDEX(Odds!H:H,MATCH(I116,Odds!E:E,0))","v":{"$error":"#N/A"}},{"$error":"#N/A"},null,null,null,{"$f":"IF(Odds!E116=\"\",\"\",Odds!E116)","v":"Sunderland"},{"$f":"INDEX(Odds!F:F,MATCH(Q116,Odds!E:E,0))","v":"9/5"},0]
[{"$f":"A116","v":"Liam Wah"},"","","","",null,null,null,null,null,{"$f":"INDEX(Odds!G:G,MATCH(I117,Odds!E:E,0))","v":{"$error":"#N/A"}},{"$f":"INDEX(Odds!H:H,MATCH(I117,Odds!E:E,0))","v":{"$error":"#N/A"}},{"$error":"#N/A"},null,null,null,{"$f":"IF(Odds!E117=\"\",\"\",Odds!E117)","v":"Shrewsbury"},{"$f":"INDEX(Odds!F:F,MATCH(Q117,Odds!E:E,0))","v":"11/5"},0]
[{"$f":"A116","v":"Liam Wah"},"","","","",null,null,null,null,null,{"$f":"INDEX(Odds!G:G,MATCH(I118,Odds!E:E,0))","v":{"$error":"#N/A"}},{"$f":"INDEX(Odds!H:H,MATCH(I118,Odds!E:E,0))","v":{"$error":"#N/A"}},{"$error":"#N/A"},null,null,null,{"$f":"IF(Odds!E118=\"\",\"\",Odds!E118)","v":"Peterborough"},{"$f":"INDEX(Odds!F:F,MATCH(Q118,Odds!E:E,0))","v":"13/8"},0]
[{"$f":"Results!B119","v":"Mal Stott"},"","","","",{"$f":"IF(I119=\"\",\"\",INDEX(Results!T:T,MATCH(A119,Results!V:V,0)))","v":""},{"$f":"IF(J119=\"\",\"\",INDEX(Results!AI:AI,MATCH(A119,Results!V:V,0)))","v":""},{"$f":"IF(ISERROR(G119),0,1)","v":1},null,null,{"$f":"INDEX(Odds!G:G,MATCH(I119,Odds!E:E,0))","v":{"$error":"#N/A"}},{"$f":"INDEX(Odds!H:H,MATCH(I119,Odds!E:E,0))","v":{"$error":"#N/A"}},{"$error":"#N/A"},null,null,null,{"$f":"IF(Odds!E119=\"\",\"\",Odds!E119)","v":"Tranmere"},{"$f":"INDEX(Odds!F:F,MATCH(Q119,Odds!E:E,0))","v":"18/5"},0]
[{"$f":"A119","v":"Mal Stott"},"","","","",null,null,null,null,null,{"$f":"INDEX(Odds!G:G,MATCH(I120,Odds!E:E,0))","v":{"$error":"#N/A"}},{"$f":"INDEX(Odds!H:H,MATCH(I120,Odds!E:E,0))","v":{"$error":"#N/A"}},{"$error":"#N/A"},null,null,null,{"$f":"IF(Odds!E120=\"\",\"\",Odds!E120)","v":"Doncaster"},{"$f":"INDEX(Odds!F:F,MATCH(Q120,Odds!E:E,0))","v":"6/4"},0]
[{"$f":"A119","v":"Mal Stott"},"","","","",null,null,null,null,null,{"$f":"INDEX(Odds!G:G,MATCH(I121,Odds!E:E,0))","v":{"$error":"#N/A"}},{"$f":"INDEX(Odds!H:H,MATCH(I121,Odds!E:E,0))","v":{"$error":"#N/A"}},{"$error":"#N/A"},null,null,null,{"$f":"IF(Odds!E121=\"\",\"\",Odds!E121)","v":"Lincoln"},{"$f":"INDEX(Odds!F:F,MATCH(Q121,Odds!E:E,0))","v":"23/10"},1]
[{"$f":"Results!B122","v":"Mark Bunn"},"","","","",{"$f":"IF(I122=\"\",\"\",INDEX(Results!T:T,MATCH(A122,Results!V:V,0)))","v":""},{"$f":"IF(J122=\"\",\"\",INDEX(Results!AI:AI,MATCH(A122,Results!V:V,0)))","v":""},{"$f":"IF(ISERROR(G122),0,1)","v":1},null,null,{"$f":"INDEX(Odds!G:G,MATCH(I122,Odds!E:E,0))","v":{"$error":"#N/A"}},{"$f":"INDEX(Odds!H:H,MATCH(I122,Odds!E:E,0))","v":{"$error":"#N/A"}},{"$error":"#N/A"},null,null,null,{"$f":"IF(Odds!E122=\"\",\"\",Odds!E122)","v":"Blackpool"},{"$f":"INDEX(Odds!F:F,MATCH(Q122,Odds!E:E,0))","v":"6/4"},1]
[{"$f":"A122","v":"Mark Bunn"},"","","","",null,null,null,null,null,{"$f":"INDEX(Odds!G:G,MATCH(I123,Odds!E:E,0))","v":{"$error":"#N/A"}},{"$f":"INDEX(Odds!H:H,MATCH(I123,Odds!E:E,0))","v":{"$error":"#N/A"}},{"$error":"#N/A"},null,null,null,{"$f":"IF(Odds!E123=\"\",\"\",Odds!E123)","v":"Newport"},{"$f":"INDEX(Odds!F:F,MATCH(Q123,Odds!E:E,0))","v":"13/8"},0]
[{"$f":"A122","v":"Mark Bunn"},"","","","",null,null,null,null,null,{"$f":"INDEX(Odds!G:G,MATCH(I124,Odds!E:E,0))","v":{"$error":"#N/A"}},{"$f":"INDEX(Odds!H:H,MATCH(I124,Odds!E:E,0))","v":{"$error":"#N/A"}},{"$error":"#N/A"},null,null,null,{"$f":"IF(Odds!E124=\"\",\"\",Odds!E124)","v":"Scunthorpe"},{"$f":"INDEX(Odds!F:F,MATCH(Q124,Odds!E:E,0))","v":"16/11"},0]
[{"$f":"Results!B125","v":"Mark Saunders"},"","","","",{"$f":"IF(I125=\"\",\"\",INDEX(Results!T:T,MATCH(A125,Results!V:V,0)))","v":""},{"$f":"IF(J125=\"\",\"\",INDEX(Results!AI:AI,MATCH(A125,Results!V:V,0)))","v":""},{"$f":"IF(ISERROR(G125),0,1)","v":1},null,null,{"$f":"INDEX(Odds!G:G,MATCH(I125,Odds!E:E,0))","v":{"$error":"#N/A"}},{"$f":"INDEX(Odds!H:H,MATCH(I125,Odds!E:E,0))","v":{"$error":"#N/A"}},{"$error":"#N/A"},null,null,null,{"$f":"IF(Odds!E125=\"\",\"\",Odds!E125)","v":"Salford"},{"$f":"INDEX(Odds!F:F,MATCH(Q125,Odds!E:E,0))","v":"5/4"},0]
[{"$f":"A125","v":"Mark Saunders"},"","","","",null,null,null,null,null,{"$f":"INDEX(Odds!G:G,MATCH(I126,Odds!E:E,0))","v":{"$error":"#N/A"}},{"$f":"INDEX(Odds!H:H,MATCH(I126,Odds!E:E,0))","v":{"$error":"#N/A"}},{"$error":"#N/A"},null,null,null,{"$f":"IF(Odds!E126=\"\",\"\",Odds!E126)","v":"Bradford"},{"$f":"INDEX(Odds!F:F,MATCH(Q126,Odds!E:E,0))","v":"6/5"},0]
[{"$f":"A125","v":"Mark Saunders"},"","","","",null,null,null,null,null,{"$f":"INDEX(Odds!G:G,MATCH(I127,Odds!E:E,0))","v":{"$error":"#N/A"}},{"$f":"INDEX(Odds!H:H,MATCH(I127,Odds!E:E,0))","v":{"$error":"#N/A"}},{"$error":"#N/A"},null,null,null,{"$f":"IF(Odds!E127=\"\",\"\",Odds!E127)","v":"Orient"},{"$f":"INDEX(Odds!F:F,MATCH(Q127,Odds!E:E,0))","v":"7/5"},0]
[{"$f":"Results!B128","v":"Martin Molyneux"},"","","","",{"$f":"IF(I128=\"\",\"\",INDEX(Results!T:T,MATCH(A128,Results!V:V,0)))","v":""},{"$f":"IF(J128=\"\",\"\",INDEX(Results!AI:AI,MATCH(A128,Results!V:V,0)))","v":""},{"$f":"IF(ISERROR(G128),0,1)","v":1},null,null,{"$f":"INDEX(Odds!G:G,MATCH(I128,Odds!E:E,0))","v":{"$error":"#N/A"}},{"$f":"INDEX(Odds!H:H,MATCH(I128,Odds!E:E,0))","v":{"$error":"#N/A"}},{"$error":"#N/A"},null,null,null,{"$f":"IF(Odds!E128=\"\",\"\",Odds!E128)","v":"Morecambe"},{"$f":"INDEX(Odds!F:F,MATCH(Q128,Odds!E:E,0))","v":"22/5"},0]
[{"$f":"A128","v":"Martin Molyneux"},"","","","",null,null,null,null,null,{"$f":"INDEX(Odds!G:G,MATCH(I129,Odds!E:E,0))","v":{"$error":"#N/A"}},{"$f":"INDEX(Odds!H:H,MATCH(I129,Odds!E:E,0))","v":{"$error":"#N/A"}},{"$error":"#N/A"},null,null,null,{"$f":"IF(Odds!E129=\"\",\"\",Odds!E129)","v":"Crewe"},{"$f":"INDEX(Odds!F:F,MATCH(Q129,Odds!E:E,0))","v":"19/10"},1]
[{"$f":"A128","v":"Martin Molyneux"},"","","","",null,null,null,null,null,{"$f":"INDEX(Odds!G:G,MATCH(I130,Odds!E:E,0))","v":{"$error":"#N/A"}},{"$f":"INDEX(Odds!H:H,MATCH(I130,Odds!E:E,0))","v":{"$error":"#N/A"}},{"$error":"#N/A"},null,null,null,{"$f":"IF(Odds!E130=\"\",\"\",Odds!E130)","v":"Colchester"},{"$f":"INDEX(Odds!F:F,MATCH(Q130,Odds!E:E,0))","v":"5/2"},0]
[{"$f":"Results!B131","v":"Martin Tarbuck"},{"$f":"IF(I131=\"\",\"\",I131)","v":""},{"$f":"IF(I131=\"\",\"\",J131)","v":""},{"$f":"IF(I131=\"\",\"\",K131)","v":""},{"$f":"IF(I131=\"\",\"\",IF(L131=1,\"Correct\",\"\"))","v":""},{"$f":"IF(I131=\"\",\"\",INDEX(Results!T:T,MATCH(A131,Results!V:V,0)))","v":""},{"$f":"IF(J131=\"\",\"\",INDEX(Results!AI:AI,MATCH(A131,Results!V:V,0)))","v":""},{"$f":"IF(ISERROR(G131),0,1)","v":1},null,null,{"$f":"INDEX(Odds!G:G,MATCH(I131,Odds!E:E,0))","v":{"$error":"#N/A"}},{"$f":"INDEX(Odds!H:H,MATCH(I131,Odds!E:E,0))","v":{"$error":"#N/A"}},{"$error":"#N/A"},null,null,null,{"$f":"IF(Odds!E131=\"\",\"\",Odds!E131)","v":"Northampton"},{"$f":"INDEX(Odds!F:F,MATCH(Q131,Odds!E:E,0))","v":"9/5"},0]
[{"$f":"A131","v":"Martin Tarbuck"},"","","","",null,null,null,null,null,{"$f":"INDEX(Odds!G:G,MATCH(I132,Odds!E:E,0))","v":{"$error":"#N/A"}},{"$f":"INDEX(Odds!H:H,MATCH(I132,Odds!E:E,0))","v":{"$error":"#N/A"}},{"$error":"#N/A"},null,null,null,{"$f":"IF(Odds!E132=\"\",\"\",Odds!E132)","v":"Exeter"},{"$f":"INDEX(Odds!F:F,MATCH(Q132,Odds!E:E,0))","v":"19/10"},1]
[{"$f":"A131","v":"Martin Tarbuck"},"","","","",null,null,null,null,null,{"$f":"INDEX(Odds!G:G,MATCH(I133,Odds!E:E,0))","v":{"$error":"#N/A"}},{"$f":"INDEX(Odds!H:H,MATCH(I133,Odds!E:E,0))","v":{"$error":"#N/A"}},{"$f":"K133*L133","v":{"$error":"#N/A"}},null,null,null,{"$f":"IF(Odds!E133=\"\",\"\",Odds!E133)","v":"Carlisle"},{"$f":"INDEX(Odds!F:F,MATCH(Q133,Odds!E:E,0))","v":"11/4"},0]
[{"$f":"Results!B134","v":"Mike Penk"},"","","","",{"$f":"IF(I134=\"\",\"\",INDEX(Results!T:T,MATCH(A134,Results!V:V,0)))","v":""},{"$f":"IF(J134=\"\",\"\",INDEX(Results!AI:AI,MATCH(A134,Results!V:V,0)))","v":""},{"$f":"IF(ISERROR(G134),0,1)","v":1},null,null,{"$f":"INDEX(Odds!G:G,MATCH(I134,Odds!E:E,0))","v":{"$error":"#N/A"}},{"$f":"INDEX(Odds!H:H,MATCH(I134,Odds!E:E,0))","v":{"$error":"#N/A"}},{"$error":"#N/A"},null,null,null,{"$f":"IF(Odds!E134=\"\",\"\",Odds!E134)","v":"Forest Green"},{"$f":"INDEX(Odds!F:F,MATCH(Q134,Odds!E:E,0))","v":"21/10"},0]
[{"$f":"A134","v":"Mike Penk"},"","","","",null,null,null,null,null,{"$f":"INDEX(Odds!G:G,MATCH(I135,Odds!E:E,0))","v":{"$error":"#N/A"}},{"$f":"INDEX(Odds!H:H,MATCH(I135,Odds!E:E,0))","v":{"$error":"#N/A"}},{"$error":"#N/A"},null,null,null,{"$f":"IF(Odds!E135=\"\",\"\",Odds!E135)","v":"Wolves"},{"$f":"INDEX(Odds!F:F,MATCH(Q135,Odds!E:E,0))","v":"32/13"},0]
[{"$f":"A134","v":"Mike Penk"},"","","","",null,null,null,null,null,{"$f":"INDEX(Odds!G:G,MATCH(I136,Odds!E:E,0))","v":{"$error":"#N/A"}},{"$f":"INDEX(Odds!H:H,MATCH(I136,Odds!E:E,0))","v":{"$error":"#N/A"}},{"$error":"#N/A"},null,null,null,{"$f":"IF(Odds!E136=\"\",\"\",Odds!E136)","v":"Chelsea"},{"$f":"INDEX(Odds!F:F,MATCH(Q136,Odds!E:E,0))","v":"13/5"},0]
[{"$f":"Results!B137","v":"Mo Sudell"},"","","","",{"$f":"IF(I137=\"\",\"\",INDEX(Results!T:T,MATCH(A137,Results!V:V,0)))","v":""},{"$f":"IF(J137=\"\",\"\",INDEX(Results!AI:AI,MATCH(A137,Results!V:V,0)))","v":""},{"$f":"IF(ISERROR(G137),0,1)","v":1},null,null,{"$f":"INDEX(Odds!G:G,MATCH(I137,Odds!E:E,0))","v":{"$error":"#N/A"}},{"$f":"INDEX(Odds!H:H,MATCH(I137,Odds!E:E,0))","v":{"$error":"#N/A"}},{"$error":"#N/A"},null,null,null,{"$f":"IF(Odds!E137=\"\",\"\",Odds!E137)","v":"Arsenal"},{"$f":"INDEX(Odds!F:F,MATCH(Q137,Odds!E:E,0))","v":"9/11"},1]
[{"$f":"A137","v":"Mo Sudell"},"","","","",null,null,null,null,null,{"$f":"INDEX(Odds!G:G,MATCH(I138,Odds!E:E,0))","v":{"$error":"#N/A"}},{"$f":"INDEX(Odds!H:H,MATCH(I138,Odds!E:E,0))","v":{"$error":"#N/A"}},{"$error":"#N/A"},null,null,null,{"$f":"IF(Odds!E138=\"\",\"\",Odds!E138)","v":""},{"$f":"INDEX(Odds!F:F,MATCH(Q138,Odds!E:E,0))","v":""},{"$error":"#N/A"}]
[{"$f":"A137","v":"Mo Sudell"},"","","","",null,null,null,null,null,{"$f":"INDEX(Odds!G:G,MATCH(I139,Odds!E:E,0))","v":{"$error":"#N/A"}},{"$f":"INDEX(Odds!H:H,MATCH(I139,Odds!E:E,0))","v":{"$error":"#N/A"}},{"$error":"#N/A"},null,null,null,{"$f":"IF(Odds!E139=\"\",\"\",Odds!E139)","v":""},{"$f":"INDEX(Odds!F:F,MATCH(Q139,Odds!E:E,0))","v":""},{"$error":"#N/A"}]
[{"$f":"Results!B140","v":"Nick Blocksidge"},"","","","",{"$f":"IF(I140=\"\",\"\",INDEX(Results!T:T,MATCH(A140,Results!V:V,0)))","v":""},{"$f":"IF(J140=\"\",\"\",INDEX(Results!AI:AI,MATCH(A140,Results!V:V,0)))","v":""},{"$f":"IF(ISERROR(G140),0,1)","v":1},null,null,{"$f":"INDEX(Odds!G:G,MATCH(I140,Odds!E:E,0))","v":{"$error":"#N/A"}},{"$f":"INDEX(Odds!H:H,MATCH(I140,Odds!E:E,0))","v":{"$error":"#N/A"}},{"$error":"#N/A"}]
[{"$f":"A140","v":"Nick Blocksidge"},"","","","",null,null,null,null,null,{"$f":"INDEX(Odds!G:G,MATCH(I141,Odds!E:E,0))","v":{"$error":"#N/A"}},{"$f":"INDEX(Odds!H:H,MATCH(I141,Odds!E:E,0))","v":{"$error":"#N/A"}},{"$error":"#N/A"}]
[{"$f":"A140","v":"Nick Blocksidge"},"","","","",null,null,null,null,null,{"$f":"INDEX(Odds!G:G,MATCH(I142,Odds!E:E,0))","v":{"$error":"#N/A"}},{"$f":"INDEX(Odds!H:H,MATCH(I142,Odds!E:E,0))","v":{"$error":"#N/A"}},{"$error":"#N/A"}]
[{"$f":"Results!B143","v":"Nigel Heyes"},"","","","",{"$f":"IF(I143=\"\",\"\",INDEX(Results!T:T,MATCH(A143,Results!V:V,0)))","v":""},{"$f":"IF(J143=\"\",\"\",INDEX(Results!AI:AI,MATCH(A143,Results!V:V,0)))","v":""},{"$f":"IF(ISERROR(G143),0,1)","v":1},null,null,{"$f":"INDEX(Odds!G:G,MATCH(I143,Odds!E:E,0))","v":{"$error":"#N/A"}},{"$f":"INDEX(Odds!H:H,MATCH(I143,Odds!E:E,0))","v":{"$error":"#N/A"}},{"$error":"#N/A"}]
[{"$f":"A143","v":"Nigel Heyes"},"","","","",null,null,null,null,null,{"$f":"INDEX(Odds!G:G,MATCH(I144,Odds!E:E,0))","v":{"$error":"#N/A"}},{"$f":"INDEX(Odds!H:H,MATCH(I144,Odds!E:E,0))","v":{"$error":"#N/A"}},{"$error":"#N/A"}]
[{"$f":"A143","v":"Nigel Heyes"},"","","","",null,null,null,null,null,{"$f":"INDEX(Odds!G:G,MATCH(I145,Odds!E:E,0))","v":{"$error":"#N/A"}},{"$f":"INDEX(Odds!H:H,MATCH(I145,Odds!E:E,0))","v":{"$error":"#N/A"}},{"$error":"#N/A"}]
[{"$f":"Results!B146","v":"Oscar Jackson"},"","","","",{"$f":"IF(I146=\"\",\"\",INDEX(Results!T:T,MATCH(A146,Results!V:V,0)))","v":""},{"$f":"IF(J146=\"\",\"\",INDEX(Results!AI:AI,MATCH(A146,Results!V:V,0)))","v":""},{"$f":"IF(ISERROR(G146),0,1)","v":1},null,null,{"$f":"INDEX(Odds!G:G,MATCH(I146,Odds!E:E,0))","v":{"$error":"#N/A"}},{"$f":"INDEX(Odds!H:H,MATCH(I146,Odds!E:E,0))","v":{"$error":"#N/A"}},{"$error":"#N/A"}]
[{"$f":"A146","v":"Oscar Jackson"},"","","","",null,null,null,null,null,{"$f":"INDEX(Odds!G:G,MATCH(I147,Odds!E:E,0))","v":{"$error":"#N/A"}},{"$f":"INDEX(Odds!H:H,MATCH(I147,Odds!E:E,0))","v":{"$error":"#N/A"}},{"$error":"#N/A"}]
[{"$f":"A146","v":"Oscar Jackson"},"","","","",null,null,null,null,null,{"$f":"INDEX(Odds!G:G,MATCH(I148,Odds!E:E,0))","v":{"$error":"#N/A"}},{"$f":"INDEX(Odds!H:H,MATCH(I148,Odds!E:E,0))","v":{"$error":"#N/A"}},{"$error":"#N/A"}]
[{"$f":"Results!B149","v":"Paul Adderley"},"","","","",{"$f":"IF(I149=\"\",\"\",INDEX(Results!T:T,MATCH(A149,Results!V:V,0)))","v":""},{"$f":"IF(J149=\"\",\"\",INDEX(Results!AI:AI,MATCH(A149,Results!V:V,0)))","v":""},{"$f":"IF(ISERROR(G149),0,1)","v":1},null,null,{"$f":"INDEX(Odds!G:G,MATCH(I149,Odds!E:E,0))","v":{"$error":"#N/A"}},{"$f":"INDEX(Odds!H:H,MATCH(I149,Odds!E:E,0))","v":{"$error":"#N/A"}},{"$error":"#N/A"}]
[{"$f":"A149","v":"Paul Adderley"},"","","","",null,null,null,null,null,{"$f":"INDEX(Odds!G:G,MATCH(I150,Odds!E:E,0))","v":{"$error":"#N/A"}},{"$f":"INDEX(Odds!H:H,MATCH(I150,Odds!E:E,0))","v":{"$error":"#N/A"}},{"$error":"#N/A"}]
[{"$f":"A149","v":"Paul Adderley"},"","","","",null,null,null,null,null,{"$f":"INDEX(Odds!G:G,MATCH(I151,Odds!E:E,0))","v":{"$error":"#N/A"}},{"$f":"INDEX(Odds!H:H,MATCH(I151,Odds!E:E,0))","v":{"$error":"#N/A"}},{"$error":"#N/A"}]
[{"$f":"Results!B152","v":"Paul Allen"},"","","","",{"$f":"IF(I152=\"\",\"\",INDEX(Results!T:T,MATCH(A152,Results!V:V,0)))","v":""},{"$f":"IF(J152=\"\",\"\",INDEX(Results!AI:AI,MATCH(A152,Results!V:V,0)))","v":""},{"$f":"IF(ISERROR(G152),0,1)","v":1},null,null,{"$f":"INDEX(Odds!G:G,MATCH(I152,Odds!E:E,0))","v":{"$error":"#N/A"}},{"$f":"INDEX(Odds!H:H,MATCH(I152,Odds!E:E,0))","v":{"$error":"#N/A"}},{"$error":"#N/A"}]
[{"$f":"A152","v":"Paul Allen"},"","","","",null,null,null,null,null,{"$f":"INDEX(Odds!G:G,MATCH(I153,Odds!E:E,0))","v":{"$error":"#N/A"}},{"$f":"INDEX(Odds!H:H,MATCH(I153,Odds!E:E,0))","v":{"$error":"#N/A"}},{"$error":"#N/A"}]
[{"$f":"A152","v":"Paul Allen"},"","","","",null,null,null,null,null,{"$f":"INDEX(Odds!G:G,MATCH(I154,Odds!E:E,0))","v":{"$error":"#N/A"}},{"$f":"INDEX(Odds!H:H,MATCH(I154,Odds!E:E,0))","v":{"$error":"#N/A"}},{"$error":"#N/A"}]
[{"$f":"Results!B155","v":"Paul Barnes"},"","","","",{"$f":"IF(I155=\"\",\"\",INDEX(Results!T:T,MATCH(A155,Results!V:V,0)))","v":""},{"$f":"IF(J155=\"\",\"\",INDEX(Results!AI:AI,MATCH(A155,Results!V:V,0)))","v":""},{"$f":"IF(ISERROR(G155),0,1)","v":1},null,null,{"$f":"INDEX(Odds!G:G,MATCH(I155,Odds!E:E,0))","v":{"$error":"#N/A"}},{"$f":"INDEX(Odds!H:H,MATCH(I155,Odds!E:E,0))","v":{"$error":"#N/A"}},{"$error":"#N/A"}]
[{"$f":"A155","v":"Paul Barnes"},"","","","",null,null,null,null,null,{"$f":"INDEX(Odds!G:G,MATCH(I156,Odds!E:E,0))","v":{"$error":"#N/A"}},{"$f":"INDEX(Odds!H:H,MATCH(I156,Odds!E:E,0))","v":{"$error":"#N/A"}},{"$error":"#N/A"}]
[{"$f":"A155","v":"Paul Barnes"},"","","","",null,null,null,null,null,{"$f":"INDEX(Odds!G:G,MATCH(I157,Odds!E:E,0))","v":{"$error":"#N/A"}},{"$f":"INDEX(Odds!H:H,MATCH(I157,Odds!E:E,0))","v":{"$error":"#N/A"}},{"$error":"#N/A"}]
[{"$f":"Results!B158","v":"Paul Fairhurst"},"","","","",{"$f":"IF(I158=\"\",\"\",INDEX(Results!T:T,MATCH(A158,Results!V:V,0)))","v":""},{"$f":"IF(J158=\"\",\"\",INDEX(Results!AI:AI,MATCH(A158,Results!V:V,0)))","v":""},{"$f":"IF(ISERROR(G158),0,1)","v":1},null,null,{"$f":"INDEX(Odds!G:G,MATCH(I158,Odds!E:E,0))","v":{"$error":"#N/A"}},{"$f":"INDEX(Odds!H:H,MATCH(I158,Odds!E:E,0))","v":{"$error":"#N/A"}},{"$error":"#N/A"}]
[{"$f":"A158","v":"Paul Fairhurst"},"","","","",null,null,null,null,null,{"$f":"INDEX(Odds!G:G,MATCH(I159,Odds!E:E,0))","v":{"$error":"#N/A"}},{"$f":"INDEX(Odds!H:H,MATCH(I159,Odds!E:E,0))","v":{"$error":"#N/A"}},{"$error":"#N/A"}]
[{"$f":"A158","v":"Paul Fairhurst"},"","","","",null,null,null,null,null,{"$f":"INDEX(Odds!G:G,MATCH(I160,Odds!E:E,0))","v":{"$error":"#N/A"}},{"$f":"INDEX(Odds!H:H,MATCH(I160,Odds!E:E,0))","v":{"$error":"#N/A"}},{"$error":"#N/A"}]
[{"$f":"Results!B161","v":"Paul Fiddler"},"","","","",{"$f":"IF(I161=\"\",\"\",INDEX(Results!T:T,MATCH(A161,Results!V:V,0)))","v":""},{"$f":"IF(J161=\"\",\"\",INDEX(Results!AI:AI,MATCH(A161,Results!V:V,0)))","v":""},{"$f":"IF(ISERROR(G161),0,1)","v":1},null,null,{"$f":"INDEX(Odds!G:G,MATCH(I161,Odds!E:E,0))","v":{"$error":"#N/A"}},{"$f":"INDEX(Odds!H:H,MATCH(I161,Odds!E:E,0))","v":{"$error":"#N/A"}},{"$error":"#N/A"}]
[{"$f":"A161","v":"Paul Fiddler"},"","","","",null,null,null,null,null,{"$f":"INDEX(Odds!G:G,MATCH(I162,Odds!E:E,0))","v":{"$error":"#N/A"}},{"$f":"INDEX(Odds!H:H,MATCH(I162,Odds!E:E,0))","v":{"$error":"#N/A"}},{"$error":"#N/A"}]
[{"$f":"A161","v":"Paul Fiddler"},"","","","",null,null,null,null,null,{"$f":"INDEX(Odds!G:G,MATCH(I163,Odds!E:E,0))","v":{"$error":"#N/A"}},{"$f":"INDEX(Odds!H:H,MATCH(I163,Odds!E:E,0))","v":{"$error":"#N/A"}},{"$error":"#N/A"}]
[{"$f":"Results!B164","v":"Paul Ridgeway"},"","","","",{"$f":"IF(I164=\"\",\"\",INDEX(Results!T:T,MATCH(A164,Results!V:V,0)))","v":""},{"$f":"IF(J164=\"\",\"\",INDEX(Results!AI:AI,MATCH(A164,Results!V:V,0)))","v":""},{"$f":"IF(ISERROR(G164),0,1)","v":1},null,null,{"$f":"INDEX(Odds!G:G,MATCH(I164,Odds!E:E,0))","v":{"$error":"#N/A"}},{"$f":"INDEX(Odds!H:H,MATCH(I164,Odds!E:E,0))","v":{"$error":"#N/A"}},{"$error":"#N/A"}]
[{"$f":"A164","v":"Paul Ridgeway"},"","","","",null,null,null,null,null,{"$f":"INDEX(Odds!G:G,MATCH(I165,Odds!E:E,0))","v":{"$error":"#N/A"}},{"$f":"INDEX(Odds!H:H,MATCH(I165,Odds!E:E,0))","v":{"$error":"#N/A"}},{"$error":"#N/A"}]
[{"$f":"A164","v":"Paul Ridgeway"},"","","","",null,null,null,null,null,{"$f":"INDEX(Odds!G:G,MATCH(I166,Odds!E:E,0))","v":{"$error":"#N/A"}},{"$f":"INDEX(Odds!H:H,MATCH(I166,Odds!E:E,0))","v":{"$error":"#N/A"}},{"$error":"#N/A"}]
[{"$f":"Results!B167","v":"Pete Baron"},"","","","",{"$f":"IF(I167=\"\",\"\",INDEX(Results!T:T,MATCH(A167,Results!V:V,0)))","v":""},{"$f":"IF(J167=\"\",\"\",INDEX(Results!AI:AI,MATCH(A167,Results!V:V,0)))","v":""},{"$f":"IF(ISERROR(G167),0,1)","v":1},null,null,{"$f":"INDEX(Odds!G:G,MATCH(I167,Odds!E:E,0))","v":{"$error":"#N/A"}},{"$f":"INDEX(Odds!H:H,MATCH(I167,Odds!E:E,0))","v":{"$error":"#N/A"}},{"$error":"#N/A"}]
[{"$f":"A167","v":"Pete Baron"},"","","","",null,null,null,null,null,{"$f":"INDEX(Odds!G:G,MATCH(I168,Odds!E:E,0))","v":{"$error":"#N/A"}},{"$f":"INDEX(Odds!H:H,MATCH(I168,Odds!E:E,0))","v":{"$error":"#N/A"}},{"$error":"#N/A"}]
[{"$f":"A167","v":"Pete Baron"},"","","","",null,null,null,null,null,{"$f":"INDEX(Odds!G:G,MATCH(I169,Odds!E:E,0))","v":{"$error":"#N/A"}},{"$f":"INDEX(Odds!H:H,MATCH(I169,Odds!E:E,0))","v":{"$error":"#N/A"}},{"$error":"#N/A"}]
[{"$f":"Results!B170","v":"Phil Miller"},"","","","",{"$f":"IF(I170=\"\",\"\",INDEX(Results!T:T,MATCH(A170,Results!V:V,0)))","v":""},{"$f":"IF(J170=\"\",\"\",INDEX(Results!AI:AI,MATCH(A170,Results!V:V,0)))","v":""},{"$f":"IF(ISERROR(G170),0,1)","v":1},null,null,{"$f":"INDEX(Odds!G:G,MATCH(I170,Odds!E:E,0))","v":{"$error":"#N/A"}},{"$f":"INDEX(Odds!H:H,MATCH(I170,Odds!E:E,0))","v":{"$error":"#N/A"}},{"$error":"#N/A"}]
[{"$f":"A170","v":"Phil Miller"},"","","","",null,null,null,null,null,{"$f":"INDEX(Odds!G:G,MATCH(I171,Odds!E:E,0))","v":{"$error":"#N/A"}},{"$f":"INDEX(Odds!H:H,MATCH(I171,Odds!E:E,0))","v":{"$error":"#N/A"}},{"$error":"#N/A"}]
[{"$f":"A170","v":"Phil Miller"},"","","","",null,null,null,null,null,{"$f":"INDEX(Odds!G:G,MATCH(I172,Odds!E:E,0))","v":{"$error":"#N/A"}},{"$f":"INDEX(Odds!H:H,MATCH(I172,Odds!E:E,0))","v":{"$error":"#N/A"}},{"$error":"#N/A"}]
[{"$f":"Results!B173","v":"Rob England"},"","","","",{"$f":"IF(I173=\"\",\"\",INDEX(Results!T:T,MATCH(A173,Results!V:V,0)))","v":""},{"$f":"IF(J173=\"\",\"\",INDEX(Results!AI:AI,MATCH(A173,Results!V:V,0)))","v":""},{"$f":"IF(ISERROR(G173),0,1)","v":1},null,null,{"$f":"INDEX(Odds!G:G,MATCH(I173,Odds!E:E,0))","v":{"$error":"#N/A"}},{"$f":"INDEX(Odds!H:H,MATCH(I173,Odds!E:E,0))","v":{"$error":"#N/A"}},{"$error":"#N/A"}]
[{"$f":"A173","v":"Rob England"},"","","","",null,null,null,null,null,{"$f":"INDEX(Odds!G:G,MATCH(I174,Odds!E:E,0))","v":{"$error":"#N/A"}},{"$f":"INDEX(Odds!H:H,MATCH(I174,Odds!E:E,0))","v":{"$error":"#N/A"}},{"$error":"#N/A"}]
[{"$f":"A173","v":"Rob England"},"","","","",null,null,null,null,null,{"$f":"INDEX(Odds!G:G,MATCH(I175,Odds!E:E,0))","v":{"$error":"#N/A"}},{"$f":"INDEX(Odds!H:H,MATCH(I175,Odds!E:E,0))","v":{"$error":"#N/A"}},{"$error":"#N/A"}]
[{"$f":"Results!B176","v":"Sally Williams"},"","","","",{"$f":"IF(I176=\"\",\"\",INDEX(Results!T:T,MATCH(A176,Results!V:V,0)))","v":""},{"$f":"IF(J176=\"\",\"\",INDEX(Results!AI:AI,MATCH(A176,Results!V:V,0)))","v":""},{"$f":"IF(ISERROR(G176),0,1)","v":1},null,null,{"$f":"INDEX(Odds!G:G,MATCH(I176,Odds!E:E,0))","v":{"$error":"#N/A"}},{"$f":"INDEX(Odds!H:H,MATCH(I176,Odds!E:E,0))","v":{"$error":"#N/A"}},{"$error":"#N/A"}]
[{"$f":"A176","v":"Sally Williams"},"","","","",null,null,null,null,null,{"$f":"INDEX(Odds!G:G,MATCH(I177,Odds!E:E,0))","v":{"$error":"#N/A"}},{"$f":"INDEX(Odds!H:H,MATCH(I177,Odds!E:E,0))","v":{"$error":"#N/A"}},{"$error":"#N/A"}]
[{"$f":"A176","v":"Sally Williams"},"","","","",null,null,null,null,null,{"$f":"INDEX(Odds!G:G,MATCH(I178,Odds!E:E,0))","v":{"$error":"#N/A"}},{"$f":"INDEX(Odds!H:H,MATCH(I178,Odds!E:E,0))","v":{"$error":"#N/A"}},{"$error":"#N/A"}]
[{"$f":"Results!B179","v":"Simon Greenhalgh"},"","","","",{"$f":"IF(I179=\"\",\"\",INDEX(Results!T:T,MATCH(A179,Results!V:V,0)))","v":""},{"$f":"IF(J179=\"\",\"\",INDEX(Results!AI:AI,MATCH(A179,Results!V:V,0)))","v":""},{"$f":"IF(ISERROR(G179),0,1)","v":1},null,null,{"$f":"INDEX(Odds!G:G,MATCH(I179,Odds!E:E,0))","v":{"$error":"#N/A"}},{"$f":"INDEX(Odds!H:H,MATCH(I179,Odds!E:E,0))","v":{"$error":"#N/A"}},{"$error":"#N/A"}]
[{"$f":"A179","v":"Simon Greenhalgh"},"","","","",null,null,null,null,null,{"$f":"INDEX(Odds!G:G,MATCH(I180,Odds!E:E,0))","v":{"$error":"#N/A"}},{"$f":"INDEX(Odds!H:H,MATCH(I180,Odds!E:E,0))","v":{"$error":"#N/A"}},{"$error":"#N/A"}]
[{"$f":"A179","v":"Simon Greenhalgh"},"","","","",null,null,null,null,null,{"$f":"INDEX(Odds!G:G,MATCH(I181,Odds!E:E,0))","v":{"$error":"#N/A"}},{"$f":"INDEX(Odds!H:H,MATCH(I181,Odds!E:E,0))","v":{"$error":"#N/A"}},{"$error":"#N/A"}]
[{"$f":"Results!B182","v":"Ste Bentley"},"","","","",{"$f":"IF(I182=\"\",\"\",INDEX(Results!T:T,MATCH(A182,Results!V:V,0)))","v":""},{"$f":"IF(J182=\"\",\"\",INDEX(Results!AI:AI,MATCH(A182,Results!V:V,0)))","v":""},{"$f":"IF(ISERROR(G182),0,1)","v":1},null,null,{"$f":"INDEX(Odds!G:G,MATCH(I182,Odds!E:E,0))","v":{"$error":"#N/A"}},{"$f":"INDEX(Odds!H:H,MATCH(I182,Odds!E:E,0))","v":{"$error":"#N/A"}},{"$error":"#N/A"}]
[{"$f":"A182","v":"Ste Bentley"},"","","","",null,null,null,null,null,{"$f":"INDEX(Odds!G:G,MATCH(I183,Odds!E:E,0))","v":{"$error":"#N/A"}},{"$f":"INDEX(Odds!H:H,MATCH(I183,Odds!E:E,0))","v":{"$error":"#N/A"}},{"$error":"#N/A"}]
[{"$f":"A182","v":"Ste Bentley"},"","","","",null,null,null,null,null,{"$f":"INDEX(Odds!G:G,MATCH(I184,Odds!E:E,0))","v":{"$error":"#N/A"}},{"$f":"INDEX(Odds!H:H,MATCH(I184,Odds!E:E,0))","v":{"$error":"#N/A"}},{"$error":"#N/A"}]
[{"$f":"Results!B185","v":"Stephen Barr"},{"$f":"IF(I185=\"\",\"\",I185)","v":""},{"$f":"IF(I185=\"\",\"\",J185)","v":""},{"$f":"IF(I185=\"\",\"\",K185)","v":""},{"$f":"IF(I185=\"\",\"\",IF(L185=1,\"Correct\",\"\"))","v":""},{"$f":"IF(I185=\"\",\"\",INDEX(Results!T:T,MATCH(A185,Results!V:V,0)))","v":""},{"$f":"IF(J185=\"\",\"\",INDEX(Results!AI:AI,MATCH(A185,Results!V:V,0)))","v":""},{"$f":"IF(ISERROR(G185),0,1)","v":1},null,null,{"$f":"INDEX(Odds!G:G,MATCH(I185,Odds!E:E,0))","v":{"$error":"#N/A"}},{"$f":"INDEX(Odds!H:H,MATCH(I185,Odds!E:E,0))","v":{"$error":"#N/A"}},{"$f":"K185*L185","v":{"$error":"#N/A"}}]
[{"$f":"A185","v":"Stephen Barr"},"","","","",null,null,null,null,null,{"$f":"INDEX(Odds!G:G,MATCH(I186,Odds!E:E,0))","v":{"$error":"#N/A"}},{"$f":"INDEX(Odds!H:H,MATCH(I186,Odds!E:E,0))","v":{"$error":"#N/A"}},{"$error":"#N/A"}]
[{"$f":"A185","v":"Stephen Barr"},"","","","",null,null,null,null,null,{"$f":"INDEX(Odds!G:G,MATCH(I187,Odds!E:E,0))","v":{"$error":"#N/A"}},{"$f":"INDEX(Odds!H:H,MATCH(I187,Odds!E:E,0))","v":{"$error":"#N/A"}},{"$error":"#N/A"}]
[{"$f":"Results!B188","v":"Stephen Troop"},"","","","",{"$f":"IF(I188=\"\",\"\",INDEX(Results!T:T,MATCH(A188,Results!V:V,0)))","v":""},{"$f":"IF(J188=\"\",\"\",INDEX(Results!AI:AI,MATCH(A188,Results!V:V,0)))","v":""},{"$f":"IF(ISERROR(G188),0,1)","v":1},null,null,{"$f":"INDEX(Odds!G:G,MATCH(I188,Odds!E:E,0))","v":{"$error":"#N/A"}},{"$f":"INDEX(Odds!H:H,MATCH(I188,Odds!E:E,0))","v":{"$error":"#N/A"}},{"$error":"#N/A"}]
[{"$f":"A188","v":"Stephen Troop"},"","","","",null,null,null,null,null,{"$f":"INDEX(Odds!G:G,MATCH(I189,Odds!E:E,0))","v":{"$error":"#N/A"}},{"$f":"INDEX(Odds!H:H,MATCH(I189,Odds!E:E,0))","v":{"$error":"#N/A"}},{"$error":"#N/A"}]
[{"$f":"A188","v":"Stephen Troop"},"","","","",null,null,null,null,null,{"$f":"INDEX(Odds!G:G,MATCH(I190,Odds!E:E,0))","v":{"$error":"#N/A"}},{"$f":"INDEX(Odds!H:H,MATCH(I190,Odds!E:E,0))","v":{"$error":"#N/A"}},{"$error":"#N/A"}]
[{"$f":"Results!B191","v":"Steve Baxter"},"","","","",{"$f":"IF(I191=\"\",\"\",INDEX(Results!T:T,MATCH(A191,Results!V:V,0)))","v":""},{"$f":"IF(J191=\"\",\"\",INDEX(Results!AI:AI,MATCH(A191,Results!V:V,0)))","v":""},{"$f":"IF(ISERROR(G191),0,1)","v":1},null,null,{"$f":"INDEX(Odds!G:G,MATCH(I191,Odds!E:E,0))","v":{"$error":"#N/A"}},{"$f":"INDEX(Odds!H:H,MATCH(I191,Odds!E:E,0))","v":{"$error":"#N/A"}},{"$error":"#N/A"}]
[{"$f":"A191","v":"Steve Baxter"},"","","","",null,null,null,null,null,{"$f":"INDEX(Odds!G:G,MATCH(I192,Odds!E:E,0))","v":{"$error":"#N/A"}},{"$f":"INDEX(Odds!H:H,MATCH(I192,Odds!E:E,0))","v":{"$error":"#N/A"}},{"$error":"#N/A"}]
[{"$f":"A191","v":"Steve Baxter"},"","","","",null,null,null,null,null,{"$f":"INDEX(Odds!G:G,MATCH(I193,Odds!E:E,0))","v":{"$error":"#N/A"}},{"$f":"INDEX(Odds!H:H,MATCH(I193,Odds!E:E,0))","v":{"$error":"#N/A"}},{"$error":"#N/A"}]
[{"$f":"Results!B194","v":"Steve Carter"},"","","","",{"$f":"IF(I194=\"\",\"\",INDEX(Results!T:T,MATCH(A194,Results!V:V,0)))","v":""},{"$f":"IF(J194=\"\",\"\",INDEX(Results!AI:AI,MATCH(A194,Results!V:V,0)))","v":""},{"$f":"IF(ISERROR(G194),0,1)","v":1},null,null,{"$f":"INDEX(Odds!G:G,MATCH(I194,Odds!E:E,0))","v":{"$error":"#N/A"}},{"$f":"INDEX(Odds!H:H,MATCH(I194,Odds!E:E,0))","v":{"$error":"#N/A"}},{"$error":"#N/A"}]
[{"$f":"A194","v":"Steve Carter"},"","","","",null,null,null,null,null,{"$f":"INDEX(Odds!G:G,MATCH(I195,Odds!E:E,0))","v":{"$error":"#N/A"}},{"$f":"INDEX(Odds!H:H,MATCH(I195,Odds!E:E,0))","v":{"$error":"#N/A"}},{"$error":"#N/A"}]
[{"$f":"A194","v":"Steve Carter"},"","","","",null,null,null,null,null,{"$f":"INDEX(Odds!G:G,MATCH(I196,Odds!E:E,0))","v":{"$error":"#N/A"}},{"$f":"INDEX(Odds!H:H,MATCH(I196,Odds!E:E,0))","v":{"$error":"#N/A"}},{"$error":"#N/A"}]
[{"$f":"Results!B197","v":"Tom Robinson"},{"$f":"IF(I197=\"\",\"\",I197)","v":""},{"$f":"IF(I197=\"\",\"\",J197)","v":""},{"$f":"IF(I197=\"\",\"\",K197)","v":""},{"$f":"IF(I197=\"\",\"\",IF(L197=1,\"Correct\",\"\"))","v":""},{"$f":"IF(I197=\"\",\"\",INDEX(Results!T:T,MATCH(A197,Results!V:V,0)))","v":""},{"$f":"IF(J197=\"\",\"\",INDEX(Results!AI:AI,MATCH(A197,Results!V:V,0)))","v":""},{"$f":"IF(ISERROR(G197),0,1)","v":1},null,null,{"$f":"INDEX(Odds!G:G,MATCH(I197,Odds!E:E,0))","v":{"$error":"#N/A"}},{"$f":"INDEX(Odds!H:H,MATCH(I197,Odds!E:E,0))","v":{"$error":"#N/A"}},{"$f":"K197*L197","v":{"$error":"#N/A"}}]
[{"$f":"A197","v":"Tom Robinson"},"","","","",null,null,null,null,null,{"$f":"INDEX(Odds!G:G,MATCH(I198,Odds!E:E,0))","v":{"$error":"#N/A"}},{"$f":"INDEX(Odds!H:H,MATCH(I198,Odds!E:E,0))","v":{"$error":"#N/A"}},{"$error":"#N/A"}]
[{"$f":"A197","v":"Tom Robinson"},"","","","",null,null,null,null,null,{"$f":"INDEX(Odds!G:G,MATCH(I199,Odds!E:E,0))","v":{"$error":"#N/A"}},{"$f":"INDEX(Odds!H:H,MATCH(I199,Odds!E:E,0))","v":{"$error":"#N/A"}},{"$error":"#N/A"}]
[{"$f":"Results!B200","v":"Vinny Topping"},"","","","",{"$f":"IF(I200=\"\",\"\",INDEX(Results!T:T,MATCH(A200,Results!V:V,0)))","v":""},{"$f":"IF(J200=\"\",\"\",INDEX(Results!AI:AI,MATCH(A200,Results!V:V,0)))","v":""},{"$f":"IF(ISERROR(G200),0,1)","v":1},null,null,{"$f":"INDEX(Odds!G:G,MATCH(I200,Odds!E:E,0))","v":{"$error":"#N/A"}},{"$f":"INDEX(Odds!H:H,MATCH(I200,Odds!E:E,0))","v":{"$error":"#N/A"}},{"$error":"#N/A"}]
[{"$f":"A200","v":"Vinny Topping"},"","","","",null,null,null,null,null,{"$f":"INDEX(Odds!G:G,MATCH(I201,Odds!E:E,0))","v":{"$error":"#N/A"}},{"$f":"INDEX(Odds!H:H,MATCH(I201,Odds!E:E,0))","v":{"$error":"#N/A"}},{"$error":"#N/A"}]
[{"$f":"A200","v":"Vinny Topping"},"","","","",null,null,null,null,null,{"$f":"INDEX(Odds!G:G,MATCH(I202,Odds!E:E,0))","v":{"$error":"#N/A"}},{"$f":"INDEX(Odds!H:H,MATCH(I202,Odds!E:E,0))","v":{"$error":"#N/A"}},{"$error":"#N/A"}]
[{"$f":"Results!B203","v":"Andy Clucas"},{"$f":"IF(I203=\"\",\"\",I203)","v":""},{"$f":"IF(I203=\"\",\"\",J203)","v":""},{"$f":"IF(I203=\"\",\"\",K203)","v":""},{"$f":"IF(I203=\"\",\"\",IF(L203=1,\"Correct\",\"\"))","v":""},{"$f":"IF(I203=\"\",\"\",INDEX(Results!T:T,MATCH(A203,Results!V:V,0)))","v":""},{"$f":"IF(J203=\"\",\"\",INDEX(Results!AI:AI,MATCH(A203,Results!V:V,0)))","v":""},{"$f":"IF(ISERROR(G203),0,1)","v":1},null,null,{"$f":"INDEX(Odds!G:G,MATCH(I203,Odds!E:E,0))","v":{"$error":"#N/A"}},{"$f":"INDEX(Odds!H:H,MATCH(I203,Odds!E:E,0))","v":{"$error":"#N/A"}},{"$f":"K203*L203","v":{"$error":"#N/A"}}]
[{"$f":"A203","v":"Andy Clucas"},"","","","",null,null,null,null,null,{"$f":"INDEX(Odds!G:G,MATCH(I204,Odds!E:E,0))","v":{"$error":"#N/A"}},{"$f":"INDEX(Odds!H:H,MATCH(I204,Odds!E:E,0))","v":{"$error":"#N/A"}},{"$error":"#N/A"}]
[{"$f":"A203","v":"Andy Clucas"},"","","","",null,null,null,null,null,{"$f":"INDEX(Odds!G:G,MATCH(I205,Odds!E:E,0))","v":{"$error":"#N/A"}},{"$f":"INDEX(Odds!H:H,MATCH(I205,Odds!E:E,0))","v":{"$error":"#N/A"}},{"$error":"#N/A"}]
[]
[]
[]
[]
[]
[]
[]
[]
[]
[]
[]
[]
[]
[]
[]
[]
[]
[]
[]
[]
[]
[]
[]
[]
[]
[]
[]
[]
[]
[]
[]
[]
[]
[]
[]
[]
[]
[]
[]
[]
[]
[]
[]
[]
[]
[]
[]
[]
[]
[]
[]
[]
[]
[]
[]
[]
[]
[]
[]
[]
[]
[]
[]
[]
[]
[]
[]
[]
[]
[]
[]
[]
[]
[]
[]
[]
[]
[]
[]
[]
[]
[]
[]
[]
[]
[]
[]
[]
[]
[]
[]
[]
[null,null,null,null,null,null,null,null,null,null,null,null,null,null,null,null,null,null,null,null,null,null,null,null,null,null,null,"Bolton"]
[null,null,null,null,null,null,null,null,null,null,null,null,null,null,null,null,null,null,null,null,null,null,null,null,null,null,null,"Middlesbro"]
[null,null,null,null,null,null,null,null,null,null,null,null,null,null,null,null,null,null,null,null,null,null,null,null,null,null,null,"Watford"]

{"sheet":"Predictions","index":13,"n_rows":196,"n_cols":7,"rows_kept":196,"cut":false,"hidden":false,"merged":[]}
[{"$f":"IF(Picks!A1=\"\",\"\",Picks!A1)","v":"Player"},{"$f":"IF(Picks!B1=\"\",\"\",Picks!B1)","v":"Prediction"},{"$f":"IF(Picks!C1=\"\",\"\",Picks!C1)","v":"Fraction"},{"$f":"IF(Picks!D1=\"\",\"\",Picks!D1)","v":"Decimal"},{"$f":"IF(Picks!E1=\"\",\"\",Picks!E1)","v":"Bet in?"},{"$f":"IF(Picks!F1=\"\",\"\",Picks!F1)","v":"Score"},{"$f":"IF(Picks!G1=\"\",\"\",Picks!G1)","v":"Max"}]
[{"$f":"IF(Picks!A2=\"\",\"\",Picks!A2)","v":"Aaron Sudell"},{"$f":"IF(Picks!B2=\"\",\"\",Picks!B2)","v":""},{"$f":"IF(Picks!C2=\"\",\"\",Picks!C2)","v":""},{"$f":"IF(Picks!D2=\"\",\"\",Picks!D2)","v":""},{"$f":"IF(Picks!E2=\"\",\"\",Picks!E2)","v":""},{"$f":"IF(Picks!F2=\"\",\"\",Picks!F2)","v":-10},{"$f":"IF(Picks!G2=\"\",\"\",Picks!G2)","v":""}]
[null,{"$f":"IF(Picks!B3=\"\",\"\",Picks!B3)","v":""},{"$f":"IF(Picks!C3=\"\",\"\",Picks!C3)","v":""},{"$f":"IF(Picks!D3=\"\",\"\",Picks!D3)","v":""},{"$f":"IF(Picks!E3=\"\",\"\",Picks!E3)","v":""},{"$f":"IF(Picks!F3=\"\",\"\",Picks!F3)","v":""},{"$f":"IF(Picks!G3=\"\",\"\",Picks!G3)","v":""}]
[null,{"$f":"IF(Picks!B4=\"\",\"\",Picks!B4)","v":""},{"$f":"IF(Picks!C4=\"\",\"\",Picks!C4)","v":""},{"$f":"IF(Picks!D4=\"\",\"\",Picks!D4)","v":""},{"$f":"IF(Picks!E4=\"\",\"\",Picks!E4)","v":""},{"$f":"IF(Picks!F4=\"\",\"\",Picks!F4)","v":""},{"$f":"IF(Picks!G4=\"\",\"\",Picks!G4)","v":""}]
[{"$f":"IF(Picks!A5=\"\",\"\",Picks!A5)","v":"Alan Rogers"},{"$f":"IF(Picks!B5=\"\",\"\",Picks!B5)","v":"Cheltenham"},{"$f":"IF(Picks!C5=\"\",\"\",Picks!C5)","v":"15/8"},{"$f":"IF(Picks!D5=\"\",\"\",Picks!D5)","v":2.875},{"$f":"IF(Picks!E5=\"\",\"\",Picks!E5)","v":"√"},{"$f":"IF(Picks!F5=\"\",\"\",Picks!F5)","v":9.4375},{"$f":"IF(Picks!G5=\"\",\"\",Picks!G5)","v":48.671875}]
[null,{"$f":"IF(Picks!B6=\"\",\"\",Picks!B6)","v":"Salford"},{"$f":"IF(Picks!C6=\"\",\"\",Picks!C6)","v":"5/4"},{"$f":"IF(Picks!D6=\"\",\"\",Picks!D6)","v":2.25},{"$f":"IF(Picks!E6=\"\",\"\",Picks!E6)","v":"x"},{"$f":"IF(Picks!F6=\"\",\"\",Picks!F6)","v":""},{"$f":"IF(Picks!G6=\"\",\"\",Picks!G6)","v":""}]
[null,{"$f":"IF(Picks!B7=\"\",\"\",Picks!B7)","v":"Grimsby draw"},{"$f":"IF(Picks!C7=\"\",\"\",Picks!C7)","v":"5/2"},{"$f":"IF(Picks!D7=\"\",\"\",Picks!D7)","v":3.5},{"$f":"IF(Picks!E7=\"\",\"\",Picks!E7)","v":"√"},{"$f":"IF(Picks!F7=\"\",\"\",Picks!F7)","v":""},{"$f":"IF(Picks!G7=\"\",\"\",Picks!G7)","v":""}]
[{"$f":"IF(Picks!A8=\"\",\"\",Picks!A8)","v":"Alan White"},{"$f":"IF(Picks!B8=\"\",\"\",Picks!B8)","v":"Watford"},{"$f":"IF(Picks!C8=\"\",\"\",Picks!C8)","v":"10/11"},{"$f":"IF(Picks!D8=\"\",\"\",Picks!D8)","v":1.9090909090909092},{"$f":"IF(Picks!E8=\"\",\"\",Picks!E8)","v":"x"},{"$f":"IF(Picks!F8=\"\",\"\",Picks!F8)","v":-7},{"$f":"IF(Picks!G8=\"\",\"\",Picks!G8)","v":17.527272727272731}]
[null,{"$f":"IF(Picks!B9=\"\",\"\",Picks!B9)","v":"Leeds"},{"$f":"IF(Picks!C9=\"\",\"\",Picks!C9)","v":"7/10"},{"$f":"IF(Picks!D9=\"\",\"\",Picks!D9)","v":1.7},{"$f":"IF(Picks!E9=\"\",\"\",Picks!E9)","v":"x"},{"$f":"IF(Picks!F9=\"\",\"\",Picks!F9)","v":""},{"$f":"IF(Picks!G9=\"\",\"\",Picks!G9)","v":""}]
[null,{"$f":"IF(Picks!B10=\"\",\"\",Picks!B10)","v":"Salford"},{"$f":"IF(Picks!C10=\"\",\"\",Picks!C10)","v":"5/4"},{"$f":"IF(Picks!D10=\"\",\"\",Picks!D10)","v":2.25},{"$f":"IF(Picks!E10=\"\",\"\",Picks!E10)","v":"x"},{"$f":"IF(Picks!F10=\"\",\"\",Picks!F10)","v":""},{"$f":"IF(Picks!G10=\"\",\"\",Picks!G10)","v":""}]
[{"$f":"IF(Picks!A11=\"\",\"\",Picks!A11)","v":"Alfie Davies"},{"$f":"IF(Picks!B11=\"\",\"\",Picks!B11)","v":"Liverpool"},{"$f":"IF(Picks!C11=\"\",\"\",Picks!C11)","v":"1/7"},{"$f":"IF(Picks!D11=\"\",\"\",Picks!D11)","v":1.1428571428571428},{"$f":"IF(Picks!E11=\"\",\"\",Picks!E11)","v":"√"},{"$f":"IF(Picks!F11=\"\",\"\",Picks!F11)","v":13.225974025974025},{"$f":"IF(Picks!G11=\"\",\"\",Picks!G11)","v":13.225974025974025}]
[null,{"$f":"IF(Picks!B12=\"\",\"\",Picks!B12)","v":"Spurs"},{"$f":"IF(Picks!C12=\"\",\"\",Picks!C12)","v":"27/100"},{"$f":"IF(Picks!D12=\"\",\"\",Picks!D12)","v":1.27},{"$f":"IF(Picks!E12=\"\",\"\",Picks!E12)","v":"√"},{"$f":"IF(Picks!F12=\"\",\"\",Picks!F12)","v":""},{"$f":"IF(Picks!G12=\"\",\"\",Picks!G12)","v":""}]
[null,{"$f":"IF(Picks!B13=\"\",\"\",Picks!B13)","v":"Leicester Draw"},{"$f":"IF(Picks!C13=\"\",\"\",Picks!C13)","v":"26/11"},{"$f":"IF(Picks!D13=\"\",\"\",Picks!D13)","v":3.3636363636363638},{"$f":"IF(Picks!E13=\"\",\"\",Picks!E13)","v":"√"},{"$f":"IF(Picks!F13=\"\",\"\",Picks!F13)","v":""},{"$f":"IF(Picks!G13=\"\",\"\",Picks!G13)","v":""}]
[{"$f":"IF(Picks!A14=\"\",\"\",Picks!A14)","v":"Alick Rocca"},{"$f":"IF(Picks!B14=\"\",\"\",Picks!B14)","v":"Leeds"},{"$f":"IF(Picks!C14=\"\",\"\",Picks!C14)","v":"7/10"},{"$f":"IF(Picks!D14=\"\",\"\",Picks!D14)","v":1.7},{"$f":"IF(Picks!E14=\"\",\"\",Picks!E14)","v":"x"},{"$f":"IF(Picks!F14=\"\",\"\",Picks!F14)","v":1.163636363636364},{"$f":"IF(Picks!G14=\"\",\"\",Picks!G14)","v":16.741818181818182}]
[null,{"$f":"IF(Picks!B15=\"\",\"\",Picks!B15)","v":"Fleetwood"},{"$f":"IF(Picks!C15=\"\",\"\",Picks!C15)","v":"10/11"},{"$f":"IF(Picks!D15=\"\",\"\",Picks!D15)","v":1.9090909090909092},{"$f":"IF(Picks!E15=\"\",\"\",Picks!E15)","v":"√"},{"$f":"IF(Picks!F15=\"\",\"\",Picks!F15)","v":""},{"$f":"IF(Picks!G15=\"\",\"\",Picks!G15)","v":""}]
[null,{"$f":"IF(Picks!B16=\"\",\"\",Picks!B16)","v":"Plymouth"},{"$f":"IF(Picks!C16=\"\",\"\",Picks!C16)","v":"23/20"},{"$f":"IF(Picks!D16=\"\",\"\",Picks!D16)","v":2.15},{"$f":"IF(Picks!E16=\"\",\"\",Picks!E16)","v":"√"},{"$f":"IF(Picks!F16=\"\",\"\",Picks!F16)","v":""},{"$f":"IF(Picks!G16=\"\",\"\",Picks!G16)","v":""}]
[{"$f":"IF(Picks!A17=\"\",\"\",Picks!A17)","v":"Andy Charleston"},{"$f":"IF(Picks!B17=\"\",\"\",Picks!B17)","v":"Bournemouth"},{"$f":"IF(Picks!C17=\"\",\"\",Picks!C17)","v":"10/11"},{"$f":"IF(Picks!D17=\"\",\"\",Picks!D17)","v":1.9090909090909092},{"$f":"IF(Picks!E17=\"\",\"\",Picks!E17)","v":"x"},{"$f":"IF(Picks!F17=\"\",\"\",Picks!F17)","v":-5.73},{"$f":"IF(Picks!G17=\"\",\"\",Picks!G17)","v":11.210578512396694}]
[null,{"$f":"IF(Picks!B18=\"\",\"\",Picks!B18)","v":"Spurs"},{"$f":"IF(Picks!C18=\"\",\"\",Picks!C18)","v":"27/100"},{"$f":"IF(Picks!D18=\"\",\"\",Picks!D18)","v":1.27},{"$f":"IF(Picks!E18=\"\",\"\",Picks!E18)","v":"√"},{"$f":"IF(Picks!F18=\"\",\"\",Picks!F18)","v":""},{"$f":"IF(Picks!G18=\"\",\"\",Picks!G18)","v":""}]
[null,{"$f":"IF(Picks!B19=\"\",\"\",Picks!B19)","v":"Watford"},{"$f":"IF(Picks!C19=\"\",\"\",Picks!C19)","v":"10/11"},{"$f":"IF(Picks!D19=\"\",\"\",Picks!D19)","v":1.9090909090909092},{"$f":"IF(Picks!E19=\"\",\"\",Picks!E19)","v":"x"},{"$f":"IF(Picks!F19=\"\",\"\",Picks!F19)","v":""},{"$f":"IF(Picks!G19=\"\",\"\",Picks!G19)","v":""}]
[{"$f":"IF(Picks!A20=\"\",\"\",Picks!A20)","v":"Andy White"},{"$f":"IF(Picks!B20=\"\",\"\",Picks!B20)","v":"Watford"},{"$f":"IF(Picks!C20=\"\",\"\",Picks!C20)","v":"10/11"},{"$f":"IF(Picks!D20=\"\",\"\",Picks!D20)","v":1.9090909090909092},{"$f":"IF(Picks!E20=\"\",\"\",Picks!E20)","v":"x"},{"$f":"IF(Picks!F20=\"\",\"\",Picks!F20)","v":-5.1818181818181817},{"$f":"IF(Picks!G20=\"\",\"\",Picks!G20)","v":20.694214876033062}]
[null,{"$f":"IF(Picks!B21=\"\",\"\",Picks!B21)","v":"Everton"},{"$f":"IF(Picks!C21=\"\",\"\",Picks!C21)","v":"6/4"},{"$f":"IF(Picks!D21=\"\",\"\",Picks!D21)","v":2.5},{"$f":"IF(Picks!E21=\"\",\"\",Picks!E21)","v":"x"},{"$f":"IF(Picks!F21=\"\",\"\",Picks!F21)","v":""},{"$f":"IF(Picks!G21=\"\",\"\",Picks!G21)","v":""}]
[null,{"$f":"IF(Picks!B22=\"\",\"\",Picks!B22)","v":"Arsenal"},{"$f":"IF(Picks!C22=\"\",\"\",Picks!C22)","v":"9/11"},{"$f":"IF(Picks!D22=\"\",\"\",Picks!D22)","v":1.8181818181818183},{"$f":"IF(Picks!E22=\"\",\"\",Picks!E22)","v":"√"},{"$f":"IF(Picks!F22=\"\",\"\",Picks!F22)","v":""},{"$f":"IF(Picks!G22=\"\",\"\",Picks!G22)","v":""}]
[{"$f":"IF(Picks!A23=\"\",\"\",Picks!A23)","v":"Antony Robinson"},{"$f":"IF(Picks!B23=\"\",\"\",Picks!B23)","v":"Liverpool"},{"$f":"IF(Picks!C23=\"\",\"\",Picks!C23)","v":"1/7"},{"$f":"IF(Picks!D23=\"\",\"\",Picks!D23)","v":1.1428571428571428},{"$f":"IF(Picks!E23=\"\",\"\",Picks!E23)","v":"√"},{"$f":"IF(Picks!F23=\"\",\"\",Picks!F23)","v":-5.8571428571428577},{"$f":"IF(Picks!G23=\"\",\"\",Picks!G23)","v":20.928571428571431}]
[null,{"$f":"IF(Picks!B24=\"\",\"\",Picks!B24)","v":"Sheff U"},{"$f":"IF(Picks!C24=\"\",\"\",Picks!C24)","v":"3/1"},{"$f":"IF(Picks!D24=\"\",\"\",Picks!D24)","v":4},{"$f":"IF(Picks!E24=\"\",\"\",Picks!E24)","v":"x"},{"$f":"IF(Picks!F24=\"\",\"\",Picks!F24)","v":""},{"$f":"IF(Picks!G24=\"\",\"\",Picks!G24)","v":""}]
[null,{"$f":"IF(Picks!B25=\"\",\"\",Picks!B25)","v":"Leeds"},{"$f":"IF(Picks!C25=\"\",\"\",Picks!C25)","v":"7/10"},{"$f":"IF(Picks!D25=\"\",\"\",Picks!D25)","v":1.7},{"$f":"IF(Picks!E25=\"\",\"\",Picks!E25)","v":"x"},{"$f":"IF(Picks!F25=\"\",\"\",Picks!F25)","v":""},{"$f":"IF(Picks!G25=\"\",\"\",Picks!G25)","v":""}]
[{"$f":"IF(Picks!A26=\"\",\"\",Picks!A26)","v":"Ashley Houghton"},{"$f":"IF(Picks!B26=\"\",\"\",Picks!B26)","v":"Watford"},{"$f":"IF(Picks!C26=\"\",\"\",Picks!C26)","v":"10/11"},{"$f":"IF(Picks!D26=\"\",\"\",Picks!D26)","v":1.9090909090909092},{"$f":"IF(Picks!E26=\"\",\"\",Picks!E26)","v":"x"},{"$f":"IF(Picks!F26=\"\",\"\",Picks!F26)","v":-7},{"$f":"IF(Picks!G26=\"\",\"\",Picks!G26)","v":16.741818181818179}]
[null,{"$f":"IF(Picks!B27=\"\",\"\",Picks!B27)","v":"Derby"},{"$f":"IF(Picks!C27=\"\",\"\",Picks!C27)","v":"23/20"},{"$f":"IF(Picks!D27=\"\",\"\",Picks!D27)","v":2.15},{"$f":"IF(Picks!E27=\"\",\"\",Picks!E27)","v":"x"},{"$f":"IF(Picks!F27=\"\",\"\",Picks!F27)","v":""},{"$f":"IF(Picks!G27=\"\",\"\",Picks!G27)","v":""}]
[null,{"$f":"IF(Picks!B28=\"\",\"\",Picks!B28)","v":"Leeds"},{"$f":"IF(Picks!C28=\"\",\"\",Picks!C28)","v":"7/10"},{"$f":"IF(Picks!D28=\"\",\"\",Picks!D28)","v":1.7},{"$f":"IF(Picks!E28=\"\",\"\",Picks!E28)","v":"x"},{"$f":"IF(Picks!F28=\"\",\"\",Picks!F28)","v":""},{"$f":"IF(Picks!G28=\"\",\"\",Picks!G28)","v":""}]
[{"$f":"IF(Picks!A29=\"\",\"\",Picks!A29)","v":"Barry Birchall"},{"$f":"IF(Picks!B29=\"\",\"\",Picks!B29)","v":"Watford"},{"$f":"IF(Picks!C29=\"\",\"\",Picks!C29)","v":"10/11"},{"$f":"IF(Picks!D29=\"\",\"\",Picks!D29)","v":1.9090909090909092},{"$f":"IF(Picks!E29=\"\",\"\",Picks!E29)","v":"x"},{"$f":"IF(Picks!F29=\"\",\"\",Picks!F29)","v":-5.22},{"$f":"IF(Picks!G29=\"\",\"\",Picks!G29)","v":13.835636363636368}]
[null,{"$f":"IF(Picks!B30=\"\",\"\",Picks!B30)","v":"Cardiff"},{"$f":"IF(Picks!C30=\"\",\"\",Picks!C30)","v":"78/100"},{"$f":"IF(Picks!D30=\"\",\"\",Picks!D30)","v":1.78},{"$f":"IF(Picks!E30=\"\",\"\",Picks!E30)","v":"√"},{"$f":"IF(Picks!F30=\"\",\"\",Picks!F30)","v":""},{"$f":"IF(Picks!G30=\"\",\"\",Picks!G30)","v":""}]
[null,{"$f":"IF(Picks!B31=\"\",\"\",Picks!B31)","v":"West Brom"},{"$f":"IF(Picks!C31=\"\",\"\",Picks!C31)","v":"7/10"},{"$f":"IF(Picks!D31=\"\",\"\",Picks!D31)","v":1.7},{"$f":"IF(Picks!E31=\"\",\"\",Picks!E31)","v":"x"},{"$f":"IF(Picks!F31=\"\",\"\",Picks!F31)","v":""},{"$f":"IF(Picks!G31=\"\",\"\",Picks!G31)","v":""}]
[{"$f":"IF(Picks!A32=\"\",\"\",Picks!A32)","v":"Ben Rosser"},{"$f":"IF(Picks!B32=\"\",\"\",Picks!B32)","v":"Burnley draw"},{"$f":"IF(Picks!C32=\"\",\"\",Picks!C32)","v":"23/10"},{"$f":"IF(Picks!D32=\"\",\"\",Picks!D32)","v":3.3},{"$f":"IF(Picks!E32=\"\",\"\",Picks!E32)","v":"x"},{"$f":"IF(Picks!F32=\"\",\"\",Picks!F32)","v":-7},{"$f":"IF(Picks!G32=\"\",\"\",Picks!G32)","v":97.35}]
[null,{"$f":"IF(Picks!B33=\"\",\"\",Picks!B33)","v":"Everton"},{"$f":"IF(Picks!C33=\"\",\"\",Picks!C33)","v":"6/4"},{"$f":"IF(Picks!D33=\"\",\"\",Picks!D33)","v":2.5},{"$f":"IF(Picks!E33=\"\",\"\",Picks!E33)","v":"x"},{"$f":"IF(Picks!F33=\"\",\"\",Picks!F33)","v":""},{"$f":"IF(Picks!G33=\"\",\"\",Picks!G33)","v":""}]
[null,{"$f":"IF(Picks!B34=\"\",\"\",Picks!B34)","v":"West Ham draw"},{"$f":"IF(Picks!C34=\"\",\"\",Picks!C34)","v":"5/1"},{"$f":"IF(Picks!D34=\"\",\"\",Picks!D34)","v":6},{"$f":"IF(Picks!E34=\"\",\"\",Picks!E34)","v":"x"},{"$f":"IF(Picks!F34=\"\",\"\",Picks!F34)","v":""},{"$f":"IF(Picks!G34=\"\",\"\",Picks!G34)","v":""}]
[{"$f":"IF(Picks!A35=\"\",\"\",Picks!A35)","v":"Charlie Griffiths"},{"$f":"IF(Picks!B35=\"\",\"\",Picks!B35)","v":"Wycombe"},{"$f":"IF(Picks!C35=\"\",\"\",Picks!C35)","v":"21/10"},{"$f":"IF(Picks!D35=\"\",\"\",Picks!D35)","v":3.1},{"$f":"IF(Picks!E35=\"\",\"\",Picks!E35)","v":"x"},{"$f":"IF(Picks!F35=\"\",\"\",Picks!F35)","v":-4.0999999999999996},{"$f":"IF(Picks!G35=\"\",\"\",Picks!G35)","v":46.366}]
[null,{"$f":"IF(Picks!B36=\"\",\"\",Picks!B36)","v":"Orient"},{"$f":"IF(Picks!C36=\"\",\"\",Picks!C36)","v":"7/5"},{"$f":"IF(Picks!D36=\"\",\"\",Picks!D36)","v":2.4},{"$f":"IF(Picks!E36=\"\",\"\",Picks!E36)","v":"x"},{"$f":"IF(Picks!F36=\"\",\"\",Picks!F36)","v":""},{"$f":"IF(Picks!G36=\"\",\"\",Picks!G36)","v":""}]
[null,{"$f":"IF(Picks!B37=\"\",\"\",Picks!B37)","v":"Crewe"},{"$f":"IF(Picks!C37=\"\",\"\",Picks!C37)","v":"19/10"},{"$f":"IF(Picks!D37=\"\",\"\",Picks!D37)","v":2.9},{"$f":"IF(Picks!E37=\"\",\"\",Picks!E37)","v":"√"},{"$f":"IF(Picks!F37=\"\",\"\",Picks!F37)","v":""},{"$f":"IF(Picks!G37=\"\",\"\",Picks!G37)","v":""}]
[{"$f":"IF(Picks!A38=\"\",\"\",Picks!A38)","v":"Chris Bow"},{"$f":"IF(Picks!B38=\"\",\"\",Picks!B38)","v":"Bournemouth"},{"$f":"IF(Picks!C38=\"\",\"\",Picks!C38)","v":"10/11"},{"$f":"IF(Picks!D38=\"\",\"\",Picks!D38)","v":1.9090909090909092},{"$f":"IF(Picks!E38=\"\",\"\",Picks!E38)","v":"x"},{"$f":"IF(Picks!F38=\"\",\"\",Picks!F38)","v":-5.0909090909090908},{"$f":"IF(Picks!G38=\"\",\"\",Picks!G38)","v":16.619083395942901}]
[null,{"$f":"IF(Picks!B39=\"\",\"\",Picks!B39)","v":"Watford"},{"$f":"IF(Picks!C39=\"\",\"\",Picks!C39)","v":"10/11"},{"$f":"IF(Picks!D39=\"\",\"\",Picks!D39)","v":1.9090909090909092},{"$f":"IF(Picks!E39=\"\",\"\",Picks!E39)","v":"x"},{"$f":"IF(Picks!F39=\"\",\"\",Picks!F39)","v":""},{"$f":"IF(Picks!G39=\"\",\"\",Picks!G39)","v":""}]
[null,{"$f":"IF(Picks!B40=\"\",\"\",Picks!B40)","v":"Fleetwood"},{"$f":"IF(Picks!C40=\"\",\"\",Picks!C40)","v":"10/11"},{"$f":"IF(Picks!D40=\"\",\"\",Picks!D40)","v":1.9090909090909092},{"$f":"IF(Picks!E40=\"\",\"\",Picks!E40)","v":"√"},{"$f":"IF(Picks!F40=\"\",\"\",Picks!F40)","v":""},{"$f":"IF(Picks!G40=\"\",\"\",Picks!G40)","v":""}]
[{"$f":"IF(Picks!A41=\"\",\"\",Picks!A41)","v":"Chris Griffin"},{"$f":"IF(Picks!B41=\"\",\"\",Picks!B41)","v":"Derby"},{"$f":"IF(Picks!C41=\"\",\"\",Picks!C41)","v":"23/20"},{"$f":"IF(Picks!D41=\"\",\"\",Picks!D41)","v":2.15},{"$f":"IF(Picks!E41=\"\",\"\",Picks!E41)","v":"x"},{"$f":"IF(Picks!F41=\"\",\"\",Picks!F41)","v":-5.22},{"$f":"IF(Picks!G41=\"\",\"\",Picks!G41)","v":15.643899999999999}]
[null,{"$f":"IF(Picks!B42=\"\",\"\",Picks!B42)","v":"West Brom"},{"$f":"IF(Picks!C42=\"\",\"\",Picks!C42)","v":"7/10"},{"$f":"IF(Picks!D42=\"\",\"\",Picks!D42)","v":1.7},{"$f":"IF(Picks!E42=\"\",\"\",Picks!E42)","v":"x"},{"$f":"IF(Picks!F42=\"\",\"\",Picks!F42)","v":""},{"$f":"IF(Picks!G42=\"\",\"\",Picks!G42)","v":""}]
[null,{"$f":"IF(Picks!B43=\"\",\"\",Picks!B43)","v":"Cardiff"},{"$f":"IF(Picks!C43=\"\",\"\",Picks!C43)","v":"78/100"},{"$f":"IF(Picks!D43=\"\",\"\",Picks!D43)","v":1.78},{"$f":"IF(Picks!E43=\"\",\"\",Picks!E43)","v":"√"},{"$f":"IF(Picks!F43=\"\",\"\",Picks!F43)","v":""},{"$f":"IF(Picks!G43=\"\",\"\",Picks!G43)","v":""}]
[{"$f":"IF(Picks!A44=\"\",\"\",Picks!A44)","v":"Chris Luck"},{"$f":"IF(Picks!B44=\"\",\"\",Picks!B44)","v":"Southampton"},{"$f":"IF(Picks!C44=\"\",\"\",Picks!C44)","v":"9/5"},{"$f":"IF(Picks!D44=\"\",\"\",Picks!D44)","v":2.8},{"$f":"IF(Picks!E44=\"\",\"\",Picks!E44)","v":"x"},{"$f":"IF(Picks!F44=\"\",\"\",Picks!F44)","v":-7},{"$f":"IF(Picks!G44=\"\",\"\",Picks!G44)","v":36.554999999999993}]
[null,{"$f":"IF(Picks!B45=\"\",\"\",Picks!B45)","v":"Everton"},{"$f":"IF(Picks!C45=\"\",\"\",Picks!C45)","v":"6/4"},{"$f":"IF(Picks!D45=\"\",\"\",Picks!D45)","v":2.5},{"$f":"IF(Picks!E45=\"\",\"\",Picks!E45)","v":"x"},{"$f":"IF(Picks!F45=\"\",\"\",Picks!F45)","v":""},{"$f":"IF(Picks!G45=\"\",\"\",Picks!G45)","v":""}]
[null,{"$f":"IF(Picks!B46=\"\",\"\",Picks!B46)","v":"Birmingham"},{"$f":"IF(Picks!C46=\"\",\"\",Picks!C46)","v":"27/20"},{"$f":"IF(Picks!D46=\"\",\"\",Picks!D46)","v":2.35},{"$f":"IF(Picks!E46=\"\",\"\",Picks!E46)","v":"x"},{"$f":"IF(Picks!F46=\"\",\"\",Picks!F46)","v":""},{"$f":"IF(Picks!G46=\"\",\"\",Picks!G46)","v":""}]
[{"$f":"IF(Picks!A47=\"\",\"\",Picks!A47)","v":"Chris Townsend"},{"$f":"IF(Picks!B47=\"\",\"\",Picks!B47)","v":"Swansea"},{"$f":"IF(Picks!C47=\"\",\"\",Picks!C47)","v":"12/5"},{"$f":"IF(Picks!D47=\"\",\"\",Picks!D47)","v":3.4},{"$f":"IF(Picks!E47=\"\",\"\",Picks!E47)","v":"x"},{"$f":"IF(Picks!F47=\"\",\"\",Picks!F47)","v":-7},{"$f":"IF(Picks!G47=\"\",\"\",Picks!G47)","v":89.195999999999998}]
[null,{"$f":"IF(Picks!B48=\"\",\"\",Picks!B48)","v":"Reading"},{"$f":"IF(Picks!C48=\"\",\"\",Picks!C48)","v":"27/10"},{"$f":"IF(Picks!D48=\"\",\"\",Picks!D48)","v":3.7},{"$f":"IF(Picks!E48=\"\",\"\",Picks!E48)","v":"x"},{"$f":"IF(Picks!F48=\"\",\"\",Picks!F48)","v":""},{"$f":"IF(Picks!G48=\"\",\"\",Picks!G48)","v":""}]
[null,{"$f":"IF(Picks!B49=\"\",\"\",Picks!B49)","v":"Barnsley"},{"$f":"IF(Picks!C49=\"\",\"\",Picks!C49)","v":"27/10"},{"$f":"IF(Picks!D49=\"\",\"\",Picks!D49)","v":3.7},{"$f":"IF(Picks!E49=\"\",\"\",Picks!E49)","v":"x"},{"$f":"IF(Picks!F49=\"\",\"\",Picks!F49)","v":""},{"$f":"IF(Picks!G49=\"\",\"\",Picks!G49)","v":""}]
[{"$f":"IF(Picks!A50=\"\",\"\",Picks!A50)","v":"Dan Baxter"},{"$f":"IF(Picks!B50=\"\",\"\",Picks!B50)","v":"Liverpool draw"},{"$f":"IF(Picks!C50=\"\",\"\",Picks!C50)","v":"7/1"},{"$f":"IF(Picks!D50=\"\",\"\",Picks!D50)","v":8},{"$f":"IF(Picks!E50=\"\",\"\",Picks!E50)","v":"x"},{"$f":"IF(Picks!F50=\"\",\"\",Picks!F50)","v":-7},{"$f":"IF(Picks!G50=\"\",\"\",Picks!G50)","v":78.400000000000006}]
[null,{"$f":"IF(Picks!B51=\"\",\"\",Picks!B51)","v":"Watford"},{"$f":"IF(Picks!C51=\"\",\"\",Picks!C51)","v":"10/11"},{"$f":"IF(Picks!D51=\"\",\"\",Picks!D51)","v":1.9090909090909092},{"$f":"IF(Picks!E51=\"\",\"\",Picks!E51)","v":"x"},{"$f":"IF(Picks!F51=\"\",\"\",Picks!F51)","v":""},{"$f":"IF(Picks!G51=\"\",\"\",Picks!G51)","v":""}]
[null,{"$f":"IF(Picks!B52=\"\",\"\",Picks!B52)","v":"Stoke"},{"$f":"IF(Picks!C52=\"\",\"\",Picks!C52)","v":"13/10"},{"$f":"IF(Picks!D52=\"\",\"\",Picks!D52)","v":2.2999999999999998},{"$f":"IF(Picks!E52=\"\",\"\",Picks!E52)","v":"x"},{"$f":"IF(Picks!F52=\"\",\"\",Picks!F52)","v":""},{"$f":"IF(Picks!G52=\"\",\"\",Picks!G52)","v":""}]
[{"$f":"IF(Picks!A53=\"\",\"\",Picks!A53)","v":"Dave Bell"},{"$f":"IF(Picks!B53=\"\",\"\",Picks!B53)","v":"Norwich"},{"$f":"IF(Picks!C53=\"\",\"\",Picks!C53)","v":"18/1"},{"$f":"IF(Picks!D53=\"\",\"\",Picks!D53)","v":19},{"$f":"IF(Picks!E53=\"\",\"\",Picks!E53)","v":"x"},{"$f":"IF(Picks!F53=\"\",\"\",Picks!F53)","v":-7},{"$f":"IF(Picks!G53=\"\",\"\",Picks!G53)","v":3112}]
[null,{"$f":"IF(Picks!B54=\"\",\"\",Picks!B54)","v":"Villa"},{"$f":"IF(Picks!C54=\"\",\"\",Picks!C54)","v":"10/1"},{"$f":"IF(Picks!D54=\"\",\"\",Picks!D54)","v":11},{"$f":"IF(Picks!E54=\"\",\"\",Picks!E54)","v":"x"},{"$f":"IF(Picks!F54=\"\",\"\",Picks!F54)","v":""},{"$f":"IF(Picks!G54=\"\",\"\",Picks!G54)","v":""}]
[null,{"$f":"IF(Picks!B55=\"\",\"\",Picks!B55)","v":"West Ham"},{"$f":"IF(Picks!C55=\"\",\"\",Picks!C55)","v":"11/1"},{"$f":"IF(Picks!D55=\"\",\"\",Picks!D55)","v":12},{"$f":"IF(Picks!E55=\"\",\"\",Picks!E55)","v":"x"},{"$f":"IF(Picks!F55=\"\",\"\",Picks!F55)","v":""},{"$f":"IF(Picks!G55=\"\",\"\",Picks!G55)","v":""}]
[{"$f":"IF(Picks!A56=\"\",\"\",Picks!A56)","v":"Dave Orrell"},{"$f":"IF(Picks!B56=\"\",\"\",Picks!B56)","v":"Birmingham"},{"$f":"IF(Picks!C56=\"\",\"\",Picks!C56)","v":"27/20"},{"$f":"IF(Picks!D56=\"\",\"\",Picks!D56)","v":2.35},{"$f":"IF(Picks!E56=\"\",\"\",Picks!E56)","v":"x"},{"$f":"IF(Picks!F56=\"\",\"\",Picks!F56)","v":-5.0909090909090908},{"$f":"IF(Picks!G56=\"\",\"\",Picks!G56)","v":24.890909090909094}]
[null,{"$f":"IF(Picks!B57=\"\",\"\",Picks!B57)","v":"Fleetwood"},{"$f":"IF(Picks!C57=\"\",\"\",Picks!C57)","v":"10/11"},{"$f":"IF(Picks!D57=\"\",\"\",Picks!D57)","v":1.9090909090909092},{"$f":"IF(Picks!E57=\"\",\"\",Picks!E57)","v":"√"},{"$f":"IF(Picks!F57=\"\",\"\",Picks!F57)","v":""},{"$f":"IF(Picks!G57=\"\",\"\",Picks!G57)","v":""}]
[null,{"$f":"IF(Picks!B58=\"\",\"\",Picks!B58)","v":"Walsall"},{"$f":"IF(Picks!C58=\"\",\"\",Picks!C58)","v":"11/8"},{"$f":"IF(Picks!D58=\"\",\"\",Picks!D58)","v":2.375},{"$f":"IF(Picks!E58=\"\",\"\",Picks!E58)","v":"x"},{"$f":"IF(Picks!F58=\"\",\"\",Picks!F58)","v":""},{"$f":"IF(Picks!G58=\"\",\"\",Picks!G58)","v":""}]
[{"$f":"IF(Picks!A59=\"\",\"\",Picks!A59)","v":"David Dunn"},{"$f":"IF(Picks!B59=\"\",\"\",Picks!B59)","v":"Chelsea"},{"$f":"IF(Picks!C59=\"\",\"\",Picks!C59)","v":"13/5"},{"$f":"IF(Picks!D59=\"\",\"\",Picks!D59)","v":3.6},{"$f":"IF(Picks!E59=\"\",\"\",Picks!E59)","v":"x"},{"$f":"IF(Picks!F59=\"\",\"\",Picks!F59)","v":-5.1818181818181817},{"$f":"IF(Picks!G59=\"\",\"\",Picks!G59)","v":29.712396694214888}]
[null,{"$f":"IF(Picks!B60=\"\",\"\",Picks!B60)","v":"Arsenal"},{"$f":"IF(Picks!C60=\"\",\"\",Picks!C60)","v":"9/11"},{"$f":"IF(Picks!D60=\"\",\"\",Picks!D60)","v":1.8181818181818183},{"$f":"IF(Picks!E60=\"\",\"\",Picks!E60)","v":"√"},{"$f":"IF(Picks!F60=\"\",\"\",Picks!F60)","v":""},{"$f":"IF(Picks!G60=\"\",\"\",Picks!G60)","v":""}]
[null,{"$f":"IF(Picks!B61=\"\",\"\",Picks!B61)","v":"Bournemouth"},{"$f":"IF(Picks!C61=\"\",\"\",Picks!C61)","v":"10/11"},{"$f":"IF(Picks!D61=\"\",\"\",Picks!D61)","v":1.9090909090909092},{"$f":"IF(Picks!E61=\"\",\"\",Picks!E61)","v":"x"},{"$f":"IF(Picks!F61=\"\",\"\",Picks!F61)","v":""},{"$f":"IF(Picks!G61=\"\",\"\",Picks!G61)","v":""}]
[{"$f":"IF(Picks!A62=\"\",\"\",Picks!A62)","v":"Gareth Fallows"},{"$f":"IF(Picks!B62=\"\",\"\",Picks!B62)","v":"Birmingham"},{"$f":"IF(Picks!C62=\"\",\"\",Picks!C62)","v":"27/20"},{"$f":"IF(Picks!D62=\"\",\"\",Picks!D62)","v":2.35},{"$f":"IF(Picks!E62=\"\",\"\",Picks!E62)","v":"x"},{"$f":"IF(Picks!F62=\"\",\"\",Picks!F62)","v":1.163636363636364},{"$f":"IF(Picks!G62=\"\",\"\",Picks!G62)","v":22.698181818181819}]
[null,{"$f":"IF(Picks!B63=\"\",\"\",Picks!B63)","v":"Fleetwood"},{"$f":"IF(Picks!C63=\"\",\"\",Picks!C63)","v":"10/11"},{"$f":"IF(Picks!D63=\"\",\"\",Picks!D63)","v":1.9090909090909092},{"$f":"IF(Picks!E63=\"\",\"\",Picks!E63)","v":"√"},{"$f":"IF(Picks!F63=\"\",\"\",Picks!F63)","v":""},{"$f":"IF(Picks!G63=\"\",\"\",Picks!G63)","v":""}]
[null,{"$f":"IF(Picks!B64=\"\",\"\",Picks!B64)","v":"Plymouth"},{"$f":"IF(Picks!C64=\"\",\"\",Picks!C64)","v":"23/20"},{"$f":"IF(Picks!D64=\"\",\"\",Picks!D64)","v":2.15},{"$f":"IF(Picks!E64=\"\",\"\",Picks!E64)","v":"√"},{"$f":"IF(Picks!F64=\"\",\"\",Picks!F64)","v":""},{"$f":"IF(Picks!G64=\"\",\"\",Picks!G64)","v":""}]
[{"$f":"IF(Picks!A65=\"\",\"\",Picks!A65)","v":"Gareth McGuire"},{"$f":"IF(Picks!B65=\"\",\"\",Picks!B65)","v":"Watford"},{"$f":"IF(Picks!C65=\"\",\"\",Picks!C65)","v":"10/11"},{"$f":"IF(Picks!D65=\"\",\"\",Picks!D65)","v":1.9090909090909092},{"$f":"IF(Picks!E65=\"\",\"\",Picks!E65)","v":"x"},{"$f":"IF(Picks!F65=\"\",\"\",Picks!F65)","v":-5.3333333333333339},{"$f":"IF(Picks!G65=\"\",\"\",Picks!G65)","v":17.599999999999998}]
[null,{"$f":"IF(Picks!B66=\"\",\"\",Picks!B66)","v":"Middlesbro"},{"$f":"IF(Picks!C66=\"\",\"\",Picks!C66)","v":"13/10"},{"$f":"IF(Picks!D66=\"\",\"\",Picks!D66)","v":2.2999999999999998},{"$f":"IF(Picks!E66=\"\",\"\",Picks!E66)","v":"x"},{"$f":"IF(Picks!F66=\"\",\"\",Picks!F66)","v":""},{"$f":"IF(Picks!G66=\"\",\"\",Picks!G66)","v":""}]
[null,{"$f":"IF(Picks!B67=\"\",\"\",Picks!B67)","v":"Portsmouth"},{"$f":"IF(Picks!C67=\"\",\"\",Picks!C67)","v":"4/6"},{"$f":"IF(Picks!D67=\"\",\"\",Picks!D67)","v":1.6666666666666665},{"$f":"IF(Picks!E67=\"\",\"\",Picks!E67)","v":"√"},{"$f":"IF(Picks!F67=\"\",\"\",Picks!F67)","v":""},{"$f":"IF(Picks!G67=\"\",\"\",Picks!G67)","v":""}]
[{"$f":"IF(Picks!A68=\"\",\"\",Picks!A68)","v":"Gareth Powell"},{"$f":"IF(Picks!B68=\"\",\"\",Picks!B68)","v":"Man U draw"},{"$f":"IF(Picks!C68=\"\",\"\",Picks!C68)","v":"32/13"},{"$f":"IF(Picks!D68=\"\",\"\",Picks!D68)","v":3.4615384615384617},{"$f":"IF(Picks!E68=\"\",\"\",Picks!E68)","v":"x"},{"$f":"IF(Picks!F68=\"\",\"\",Picks!F68)","v":-4.95},{"$f":"IF(Picks!G68=\"\",\"\",Picks!G68)","v":39.626923076923077}]
[null,{"$f":"IF(Picks!B69=\"\",\"\",Picks!B69)","v":"Sheff W"},{"$f":"IF(Picks!C69=\"\",\"\",Picks!C69)","v":"21/20"},{"$f":"IF(Picks!D69=\"\",\"\",Picks!D69)","v":2.0499999999999998},{"$f":"IF(Picks!E69=\"\",\"\",Picks!E69)","v":"√"},{"$f":"IF(Picks!F69=\"\",\"\",Picks!F69)","v":""},{"$f":"IF(Picks!G69=\"\",\"\",Picks!G69)","v":""}]
[null,{"$f":"IF(Picks!B70=\"\",\"\",Picks!B70)","v":"Everton"},{"$f":"IF(Picks!C70=\"\",\"\",Picks!C70)","v":"6/4"},{"$f":"IF(Picks!D70=\"\",\"\",Picks!D70)","v":2.5},{"$f":"IF(Picks!E70=\"\",\"\",Picks!E70)","v":"x"},{"$f":"IF(Picks!F70=\"\",\"\",Picks!F70)","v":""},{"$f":"IF(Picks!G70=\"\",\"\",Picks!G70)","v":""}]
[{"$f":"IF(Picks!A71=\"\",\"\",Picks!A71)","v":"Gerard Ventom"},{"$f":"IF(Picks!B71=\"\",\"\",Picks!B71)","v":"Burnley"},{"$f":"IF(Picks!C71=\"\",\"\",Picks!C71)","v":"31/20"},{"$f":"IF(Picks!D71=\"\",\"\",Picks!D71)","v":2.5499999999999998},{"$f":"IF(Picks!E71=\"\",\"\",Picks!E71)","v":"√"},{"$f":"IF(Picks!F71=\"\",\"\",Picks!F71)","v":-4.45},{"$f":"IF(Picks!G71=\"\",\"\",Picks!G71)","v":55.402999999999999}]
[null,{"$f":"IF(Picks!B72=\"\",\"\",Picks!B72)","v":"Huddersfield"},{"$f":"IF(Picks!C72=\"\",\"\",Picks!C72)","v":"9/5"},{"$f":"IF(Picks!D72=\"\",\"\",Picks!D72)","v":2.8},{"$f":"IF(Picks!E72=\"\",\"\",Picks!E72)","v":"x"},{"$f":"IF(Picks!F72=\"\",\"\",Picks!F72)","v":""},{"$f":"IF(Picks!G72=\"\",\"\",Picks!G72)","v":""}]
[null,{"$f":"IF(Picks!B73=\"\",\"\",Picks!B73)","v":"Barnsley"},{"$f":"IF(Picks!C73=\"\",\"\",Picks!C73)","v":"27/10"},{"$f":"IF(Picks!D73=\"\",\"\",Picks!D73)","v":3.7},{"$f":"IF(Picks!E73=\"\",\"\",Picks!E73)","v":"x"},{"$f":"IF(Picks!F73=\"\",\"\",Picks!F73)","v":""},{"$f":"IF(Picks!G73=\"\",\"\",Picks!G73)","v":""}]
[{"$f":"IF(Picks!A74=\"\",\"\",Picks!A74)","v":"Graeme Holmes"},{"$f":"IF(Picks!B74=\"\",\"\",Picks!B74)","v":"Derby"},{"$f":"IF(Picks!C74=\"\",\"\",Picks!C74)","v":"23/20"},{"$f":"IF(Picks!D74=\"\",\"\",Picks!D74)","v":2.15},{"$f":"IF(Picks!E74=\"\",\"\",Picks!E74)","v":"x"},{"$f":"IF(Picks!F74=\"\",\"\",Picks!F74)","v":-7},{"$f":"IF(Picks!G74=\"\",\"\",Picks!G74)","v":26.3035}]
[null,{"$f":"IF(Picks!B75=\"\",\"\",Picks!B75)","v":"Middlesbro"},{"$f":"IF(Picks!C75=\"\",\"\",Picks!C75)","v":"13/10"},{"$f":"IF(Picks!D75=\"\",\"\",Picks!D75)","v":2.2999999999999998},{"$f":"IF(Picks!E75=\"\",\"\",Picks!E75)","v":"x"},{"$f":"IF(Picks!F75=\"\",\"\",Picks!F75)","v":""},{"$f":"IF(Picks!G75=\"\",\"\",Picks!G75)","v":""}]
[null,{"$f":"IF(Picks!B76=\"\",\"\",Picks!B76)","v":"Leicester"},{"$f":"IF(Picks!C76=\"\",\"\",Picks!C76)","v":"13/10"},{"$f":"IF(Picks!D76=\"\",\"\",Picks!D76)","v":2.2999999999999998},{"$f":"IF(Picks!E76=\"\",\"\",Picks!E76)","v":"x"},{"$f":"IF(Picks!F76=\"\",\"\",Picks!F76)","v":""},{"$f":"IF(Picks!G76=\"\",\"\",Picks!G76)","v":""}]
[{"$f":"IF(Picks!A77=\"\",\"\",Picks!A77)","v":"Graham Miller"},{"$f":"IF(Picks!B77=\"\",\"\",Picks!B77)","v":"Charlton"},{"$f":"IF(Picks!C77=\"\",\"\",Picks!C77)","v":"21/10"},{"$f":"IF(Picks!D77=\"\",\"\",Picks!D77)","v":3.1},{"$f":"IF(Picks!E77=\"\",\"\",Picks!E77)","v":"√"},{"$f":"IF(Picks!F77=\"\",\"\",Picks!F77)","v":3.4800000000000004},{"$f":"IF(Picks!G77=\"\",\"\",Picks!G77)","v":29.884}]
[null,{"$f":"IF(Picks!B78=\"\",\"\",Picks!B78)","v":"Fulham"},{"$f":"IF(Picks!C78=\"\",\"\",Picks!C78)","v":"4/5"},{"$f":"IF(Picks!D78=\"\",\"\",Picks!D78)","v":1.8},{"$f":"IF(Picks!E78=\"\",\"\",Picks!E78)","v":"√"},{"$f":"IF(Picks!F78=\"\",\"\",Picks!F78)","v":""},{"$f":"IF(Picks!G78=\"\",\"\",Picks!G78)","v":""}]
[null,{"$f":"IF(Picks!B79=\"\",\"\",Picks!B79)","v":"Middlesbro"},{"$f":"IF(Picks!C79=\"\",\"\",Picks!C79)","v":"13/10"},{"$f":"IF(Picks!D79=\"\",\"\",Picks!D79)","v":2.2999999999999998},{"$f":"IF(Picks!E79=\"\",\"\",Picks!E79)","v":"x"},{"$f":"IF(Picks!F79=\"\",\"\",Picks!F79)","v":""},{"$f":"IF(Picks!G79=\"\",\"\",Picks!G79)","v":""}]
[{"$f":"IF(Picks!A80=\"\",\"\",Picks!A80)","v":"Howard Bradley"},{"$f":"IF(Picks!B80=\"\",\"\",Picks!B80)","v":"West Brom"},{"$f":"IF(Picks!C80=\"\",\"\",Picks!C80)","v":"7/10"},{"$f":"IF(Picks!D80=\"\",\"\",Picks!D80)","v":1.7},{"$f":"IF(Picks!E80=\"\",\"\",Picks!E80)","v":"x"},{"$f":"IF(Picks!F80=\"\",\"\",Picks!F80)","v":0.13333333333333286},{"$f":"IF(Picks!G80=\"\",\"\",Picks!G80)","v":13.959999999999997}]
[null,{"$f":"IF(Picks!B81=\"\",\"\",Picks!B81)","v":"Portsmouth"},{"$f":"IF(Picks!C81=\"\",\"\",Picks!C81)","v":"4/6"},{"$f":"IF(Picks!D81=\"\",\"\",Picks!D81)","v":1.6666666666666665},{"$f":"IF(Picks!E81=\"\",\"\",Picks!E81)","v":"√"},{"$f":"IF(Picks!F81=\"\",\"\",Picks!F81)","v":""},{"$f":"IF(Picks!G81=\"\",\"\",Picks!G81)","v":""}]
[null,{"$f":"IF(Picks!B82=\"\",\"\",Picks!B82)","v":"Sheff W"},{"$f":"IF(Picks!C82=\"\",\"\",Picks!C82)","v":"21/20"},{"$f":"IF(Picks!D82=\"\",\"\",Picks!D82)","v":2.0499999999999998},{"$f":"IF(Picks!E82=\"\",\"\",Picks!E82)","v":"√"},{"$f":"IF(Picks!F82=\"\",\"\",Picks!F82)","v":""},{"$f":"IF(Picks!G82=\"\",\"\",Picks!G82)","v":""}]
[{"$f":"IF(Picks!A83=\"\",\"\",Picks!A83)","v":"Ian Davies"},{"$f":"IF(Picks!B83=\"\",\"\",Picks!B83)","v":"Burnley draw"},{"$f":"IF(Picks!C83=\"\",\"\",Picks!C83)","v":"23/10"},{"$f":"IF(Picks!D83=\"\",\"\",Picks!D83)","v":3.3},{"$f":"IF(Picks!E83=\"\",\"\",Picks!E83)","v":"x"},{"$f":"IF(Picks!F83=\"\",\"\",Picks!F83)","v":-3.6363636363636362},{"$f":"IF(Picks!G83=\"\",\"\",Picks!G83)","v":42.661818181818177}]
[null,{"$f":"IF(Picks!B84=\"\",\"\",Picks!B84)","v":"Leeds"},{"$f":"IF(Picks!C84=\"\",\"\",Picks!C84)","v":"7/10"},{"$f":"IF(Picks!D84=\"\",\"\",Picks!D84)","v":1.7},{"$f":"IF(Picks!E84=\"\",\"\",Picks!E84)","v":"x"},{"$f":"IF(Picks!F84=\"\",\"\",Picks!F84)","v":""},{"$f":"IF(Picks!G84=\"\",\"\",Picks!G84)","v":""}]
[null,{"$f":"IF(Picks!B85=\"\",\"\",Picks!B85)","v":"Leicester draw"},{"$f":"IF(Picks!C85=\"\",\"\",Picks!C85)","v":"26/11"},{"$f":"IF(Picks!D85=\"\",\"\",Picks!D85)","v":3.3636363636363638},{"$f":"IF(Picks!E85=\"\",\"\",Picks!E85)","v":"√"},{"$f":"IF(Picks!F85=\"\",\"\",Picks!F85)","v":""},{"$f":"IF(Picks!G85=\"\",\"\",Picks!G85)","v":""}]
[{"$f":"IF(Picks!A86=\"\",\"\",Picks!A86)","v":"Jack Walsh"},{"$f":"IF(Picks!B86=\"\",\"\",Picks!B86)","v":"QPR"},{"$f":"IF(Picks!C86=\"\",\"\",Picks!C86)","v":"31/20"},{"$f":"IF(Picks!D86=\"\",\"\",Picks!D86)","v":2.5499999999999998},{"$f":"IF(Picks!E86=\"\",\"\",Picks!E86)","v":"x"},{"$f":"IF(Picks!F86=\"\",\"\",Picks!F86)","v":-7},{"$f":"IF(Picks!G86=\"\",\"\",Picks!G86)","v":28.145454545454548}]
[null,{"$f":"IF(Picks!B87=\"\",\"\",Picks!B87)","v":"Everton"},{"$f":"IF(Picks!C87=\"\",\"\",Picks!C87)","v":"6/4"},{"$f":"IF(Picks!D87=\"\",\"\",Picks!D87)","v":2.5},{"$f":"IF(Picks!E87=\"\",\"\",Picks!E87)","v":"x"},{"$f":"IF(Picks!F87=\"\",\"\",Picks!F87)","v":""},{"$f":"IF(Picks!G87=\"\",\"\",Picks!G87)","v":""}]
[null,{"$f":"IF(Picks!B88=\"\",\"\",Picks!B88)","v":"Watford"},{"$f":"IF(Picks!C88=\"\",\"\",Picks!C88)","v":"10/11"},{"$f":"IF(Picks!D88=\"\",\"\",Picks!D88)","v":1.9090909090909092},{"$f":"IF(Picks!E88=\"\",\"\",Picks!E88)","v":"x"},{"$f":"IF(Picks!F88=\"\",\"\",Picks!F88)","v":""},{"$f":"IF(Picks!G88=\"\",\"\",Picks!G88)","v":""}]
[{"$f":"IF(Picks!A89=\"\",\"\",Picks!A89)","v":"James Bell"},{"$f":"IF(Picks!B89=\"\",\"\",Picks!B89)","v":"Newcastle"},{"$f":"IF(Picks!C89=\"\",\"\",Picks!C89)","v":"77/19"},{"$f":"IF(Picks!D89=\"\",\"\",Picks!D89)","v":5.0526315789473681},{"$f":"IF(Picks!E89=\"\",\"\",Picks!E89)","v":"x"},{"$f":"IF(Picks!F89=\"\",\"\",Picks!F89)","v":-7},{"$f":"IF(Picks!G89=\"\",\"\",Picks!G89)","v":114.32368421052632}]
[null,{"$f":"IF(Picks!B90=\"\",\"\",Picks!B90)","v":"Grimsby"},{"$f":"IF(Picks!C90=\"\",\"\",Picks!C90)","v":"23/10"},{"$f":"IF(Picks!D90=\"\",\"\",Picks!D90)","v":3.3},{"$f":"IF(Picks!E90=\"\",\"\",Picks!E90)","v":"x"},{"$f":"IF(Picks!F90=\"\",\"\",Picks!F90)","v":""},{"$f":"IF(Picks!G90=\"\",\"\",Picks!G90)","v":""}]
[null,{"$f":"IF(Picks!B91=\"\",\"\",Picks!B91)","v":"Wigan"},{"$f":"IF(Picks!C91=\"\",\"\",Picks!C91)","v":"27/10"},{"$f":"IF(Picks!D91=\"\",\"\",Picks!D91)","v":3.7},{"$f":"IF(Picks!E91=\"\",\"\",Picks!E91)","v":"x"},{"$f":"IF(Picks!F91=\"\",\"\",Picks!F91)","v":""},{"$f":"IF(Picks!G91=\"\",\"\",Picks!G91)","v":""}]
[{"$f":"IF(Picks!A92=\"\",\"\",Picks!A92)","v":"Joel Bent"},{"$f":"IF(Picks!B92=\"\",\"\",Picks!B92)","v":"Liverpool draw"},{"$f":"IF(Picks!C92=\"\",\"\",Picks!C92)","v":"7/1"},{"$f":"IF(Picks!D92=\"\",\"\",Picks!D92)","v":8},{"$f":"IF(Picks!E92=\"\",\"\",Picks!E92)","v":"x"},{"$f":"IF(Picks!F92=\"\",\"\",Picks!F92)","v":-7},{"$f":"IF(Picks!G92=\"\",\"\",Picks!G92)","v":126.66249999999999}]
[null,{"$f":"IF(Picks!B93=\"\",\"\",Picks!B93)","v":"Carlisle"},{"$f":"IF(Picks!C93=\"\",\"\",Picks!C93)","v":"11/4"},{"$f":"IF(Picks!D93=\"\",\"\",Picks!D93)","v":3.75},{"$f":"IF(Picks!E93=\"\",\"\",Picks!E93)","v":"x"},{"$f":"IF(Picks!F93=\"\",\"\",Picks!F93)","v":""},{"$f":"IF(Picks!G93=\"\",\"\",Picks!G93)","v":""}]
[null,{"$f":"IF(Picks!B94=\"\",\"\",Picks!B94)","v":"Derby"},{"$f":"IF(Picks!C94=\"\",\"\",Picks!C94)","v":"23/20"},{"$f":"IF(Picks!D94=\"\",\"\",Picks!D94)","v":2.15},{"$f":"IF(Picks!E94=\"\",\"\",Picks!E94)","v":"x"},{"$f":"IF(Picks!F94=\"\",\"\",Picks!F94)","v":""},{"$f":"IF(Picks!G94=\"\",\"\",Picks!G94)","v":""}]
[{"$f":"IF(Picks!A95=\"\",\"\",Picks!A95)","v":"John Evans"},{"$f":"IF(Picks!B95=\"\",\"\",Picks!B95)","v":"Wigan"},{"$f":"IF(Picks!C95=\"\",\"\",Picks!C95)","v":"27/10"},{"$f":"IF(Picks!D95=\"\",\"\",Picks!D95)","v":3.7},{"$f":"IF(Picks!E95=\"\",\"\",Picks!E95)","v":"x"},{"$f":"IF(Picks!F95=\"\",\"\",Picks!F95)","v":-5.3333333333333339},{"$f":"IF(Picks!G95=\"\",\"\",Picks!G95)","v":36.493333333333325}]
[null,{"$f":"IF(Picks!B96=\"\",\"\",Picks!B96)","v":"QPR"},{"$f":"IF(Picks!C96=\"\",\"\",Picks!C96)","v":"31/20"},{"$f":"IF(Picks!D96=\"\",\"\",Picks!D96)","v":2.5499999999999998},{"$f":"IF(Picks!E96=\"\",\"\",Picks!E96)","v":"x"},{"$f":"IF(Picks!F96=\"\",\"\",Picks!F96)","v":""},{"$f":"IF(Picks!G96=\"\",\"\",Picks!G96)","v":""}]
[null,{"$f":"IF(Picks!B97=\"\",\"\",Picks!B97)","v":"Portsmouth"},{"$f":"IF(Picks!C97=\"\",\"\",Picks!C97)","v":"4/6"},{"$f":"IF(Picks!D97=\"\",\"\",Picks!D97)","v":1.6666666666666665},{"$f":"IF(Picks!E97=\"\",\"\",Picks!E97)","v":"√"},{"$f":"IF(Picks!F97=\"\",\"\",Picks!F97)","v":""},{"$f":"IF(Picks!G97=\"\",\"\",Picks!G97)","v":""}]
[{"$f":"IF(Picks!A98=\"\",\"\",Picks!A98)","v":"John Robinson"},{"$f":"IF(Picks!B98=\"\",\"\",Picks!B98)","v":"West Ham draw"},{"$f":"IF(Picks!C98=\"\",\"\",Picks!C98)","v":"5/1"},{"$f":"IF(Picks!D98=\"\",\"\",Picks!D98)","v":6},{"$f":"IF(Picks!E98=\"\",\"\",Picks!E98)","v":"x"},{"$f":"IF(Picks!F98=\"\",\"\",Picks!F98)","v":1.0181818181818194},{"$f":"IF(Picks!G98=\"\",\"\",Picks!G98)","v":55.127272727272739}]
[null,{"$f":"IF(Picks!B99=\"\",\"\",Picks!B99)","v":"Preston"},{"$f":"IF(Picks!C99=\"\",\"\",Picks!C99)","v":"11/10"},{"$f":"IF(Picks!D99=\"\",\"\",Picks!D99)","v":2.1},{"$f":"IF(Picks!E99=\"\",\"\",Picks!E99)","v":"√"},{"$f":"IF(Picks!F99=\"\",\"\",Picks!F99)","v":""},{"$f":"IF(Picks!G99=\"\",\"\",Picks!G99)","v":""}]
[null,{"$f":"IF(Picks!B100=\"\",\"\",Picks!B100)","v":"Fleetwood"},{"$f":"IF(Picks!C100=\"\",\"\",Picks!C100)","v":"10/11"},{"$f":"IF(Picks!D100=\"\",\"\",Picks!D100)","v":1.9090909090909092},{"$f":"IF(Picks!E100=\"\",\"\",Picks!E100)","v":"√"},{"$f":"IF(Picks!F100=\"\",\"\",Picks!F100)","v":""},{"$f":"IF(Picks!G100=\"\",\"\",Picks!G100)","v":""}]
[{"$f":"IF(Picks!A101=\"\",\"\",Picks!A101)","v":"John Ronan"},{"$f":"IF(Picks!B101=\"\",\"\",Picks!B101)","v":"Charlton"},{"$f":"IF(Picks!C101=\"\",\"\",Picks!C101)","v":"21/10"},{"$f":"IF(Picks!D101=\"\",\"\",Picks!D101)","v":3.1},{"$f":"IF(Picks!E101=\"\",\"\",Picks!E101)","v":"√"},{"$f":"IF(Picks!F101=\"\",\"\",Picks!F101)","v":-3.9},{"$f":"IF(Picks!G101=\"\",\"\",Picks!G101)","v":45.876562500000006}]
[null,{"$f":"IF(Picks!B102=\"\",\"\",Picks!B102)","v":"Gillingham"},{"$f":"IF(Picks!C102=\"\",\"\",Picks!C102)","v":"13/8"},{"$f":"IF(Picks!D102=\"\",\"\",Picks!D102)","v":2.625},{"$f":"IF(Picks!E102=\"\",\"\",Picks!E102)","v":"x"},{"$f":"IF(Picks!F102=\"\",\"\",Picks!F102)","v":""},{"$f":"IF(Picks!G102=\"\",\"\",Picks!G102)","v":""}]
[null,{"$f":"IF(Picks!B103=\"\",\"\",Picks!B103)","v":"Southend"},{"$f":"IF(Picks!C103=\"\",\"\",Picks!C103)","v":"13/8"},{"$f":"IF(Picks!D103=\"\",\"\",Picks!D103)","v":2.625},{"$f":"IF(Picks!E103=\"\",\"\",Picks!E103)","v":"x"},{"$f":"IF(Picks!F103=\"\",\"\",Picks!F103)","v":""},{"$f":"IF(Picks!G103=\"\",\"\",Picks!G103)","v":""}]
[{"$f":"IF(Picks!A104=\"\",\"\",Picks!A104)","v":"Kei Lok Ma"},{"$f":"IF(Picks!B104=\"\",\"\",Picks!B104)","v":"Burnley"},{"$f":"IF(Picks!C104=\"\",\"\",Picks!C104)","v":"31/20"},{"$f":"IF(Picks!D104=\"\",\"\",Picks!D104)","v":2.5499999999999998},{"$f":"IF(Picks!E104=\"\",\"\",Picks!E104)","v":"√"},{"$f":"IF(Picks!F104=\"\",\"\",Picks!F104)","v":7.2649999999999988},{"$f":"IF(Picks!G104=\"\",\"\",Picks!G104)","v":42.374499999999991}]
[null,{"$f":"IF(Picks!B105=\"\",\"\",Picks!B105)","v":"Palace draw"},{"$f":"IF(Picks!C105=\"\",\"\",Picks!C105)","v":"23/10"},{"$f":"IF(Picks!D105=\"\",\"\",Picks!D105)","v":3.3},{"$f":"IF(Picks!E105=\"\",\"\",Picks!E105)","v":"√"},{"$f":"IF(Picks!F105=\"\",\"\",Picks!F105)","v":""},{"$f":"IF(Picks!G105=\"\",\"\",Picks!G105)","v":""}]
[null,{"$f":"IF(Picks!B106=\"\",\"\",Picks!B106)","v":"Leicester"},{"$f":"IF(Picks!C106=\"\",\"\",Picks!C106)","v":"13/10"},{"$f":"IF(Picks!D106=\"\",\"\",Picks!D106)","v":2.2999999999999998},{"$f":"IF(Picks!E106=\"\",\"\",Picks!E106)","v":"x"},{"$f":"IF(Picks!F106=\"\",\"\",Picks!F106)","v":""},{"$f":"IF(Picks!G106=\"\",\"\",Picks!G106)","v":""}]
[{"$f":"IF(Picks!A107=\"\",\"\",Picks!A107)","v":"Kevin Carter"},{"$f":"IF(Picks!B107=\"\",\"\",Picks!B107)","v":"Spurs draw"},{"$f":"IF(Picks!C107=\"\",\"\",Picks!C107)","v":"24/5"},{"$f":"IF(Picks!D107=\"\",\"\",Picks!D107)","v":5.8},{"$f":"IF(Picks!E107=\"\",\"\",Picks!E107)","v":"x"},{"$f":"IF(Picks!F107=\"\",\"\",Picks!F107)","v":-7},{"$f":"IF(Picks!G107=\"\",\"\",Picks!G107)","v":138.60799999999998}]
[null,{"$f":"IF(Picks!B108=\"\",\"\",Picks!B108)","v":"Watford draw"},{"$f":"IF(Picks!C108=\"\",\"\",Picks!C108)","v":"12/5"},{"$f":"IF(Picks!D108=\"\",\"\",Picks!D108)","v":3.4},{"$f":"IF(Picks!E108=\"\",\"\",Picks!E108)","v":"x"},{"$f":"IF(Picks!F108=\"\",\"\",Picks!F108)","v":""},{"$f":"IF(Picks!G108=\"\",\"\",Picks!G108)","v":""}]
[null,{"$f":"IF(Picks!B109=\"\",\"\",Picks!B109)","v":"Newcastle draw"},{"$f":"IF(Picks!C109=\"\",\"\",Picks!C109)","v":"29/10"},{"$f":"IF(Picks!D109=\"\",\"\",Picks!D109)","v":3.9},{"$f":"IF(Picks!E109=\"\",\"\",Picks!E109)","v":"x"},{"$f":"IF(Picks!F109=\"\",\"\",Picks!F109)","v":""},{"$f":"IF(Picks!G109=\"\",\"\",Picks!G109)","v":""}]
[{"$f":"IF(Picks!A110=\"\",\"\",Picks!A110)","v":"Lennie Bow"},{"$f":"IF(Picks!B110=\"\",\"\",Picks!B110)","v":"West Brom"},{"$f":"IF(Picks!C110=\"\",\"\",Picks!C110)","v":"7/10"},{"$f":"IF(Picks!D110=\"\",\"\",Picks!D110)","v":1.7},{"$f":"IF(Picks!E110=\"\",\"\",Picks!E110)","v":"x"},{"$f":"IF(Picks!F110=\"\",\"\",Picks!F110)","v":-4.8461538461538467},{"$f":"IF(Picks!G110=\"\",\"\",Picks!G110)","v":14.991538461538457}]
[null,{"$f":"IF(Picks!B111=\"\",\"\",Picks!B111)","v":"MK Dons"},{"$f":"IF(Picks!C111=\"\",\"\",Picks!C111)","v":"15/13"},{"$f":"IF(Picks!D111=\"\",\"\",Picks!D111)","v":2.1538461538461537},{"$f":"IF(Picks!E111=\"\",\"\",Picks!E111)","v":"√"},{"$f":"IF(Picks!F111=\"\",\"\",Picks!F111)","v":""},{"$f":"IF(Picks!G111=\"\",\"\",Picks!G111)","v":""}]
[null,{"$f":"IF(Picks!B112=\"\",\"\",Picks!B112)","v":"Mansfield"},{"$f":"IF(Picks!C112=\"\",\"\",Picks!C112)","v":"7/10"},{"$f":"IF(Picks!D112=\"\",\"\",Picks!D112)","v":1.7},{"$f":"IF(Picks!E112=\"\",\"\",Picks!E112)","v":"x"},{"$f":"IF(Picks!F112=\"\",\"\",Picks!F112)","v":""},{"$f":"IF(Picks!G112=\"\",\"\",Picks!G112)","v":""}]
[{"$f":"IF(Picks!A113=\"\",\"\",Picks!A113)","v":"Lewis Buckley"},{"$f":"IF(Picks!B113=\"\",\"\",Picks!B113)","v":"Bournemouth"},{"$f":"IF(Picks!C113=\"\",\"\",Picks!C113)","v":"10/11"},{"$f":"IF(Picks!D113=\"\",\"\",Picks!D113)","v":1.9090909090909092},{"$f":"IF(Picks!E113=\"\",\"\",Picks!E113)","v":"x"},{"$f":"IF(Picks!F113=\"\",\"\",Picks!F113)","v":-5.3333333333333339},{"$f":"IF(Picks!G113=\"\",\"\",Picks!G113)","v":12.945454545454545}]
[null,{"$f":"IF(Picks!B114=\"\",\"\",Picks!B114)","v":"West Brom"},{"$f":"IF(Picks!C114=\"\",\"\",Picks!C114)","v":"7/10"},{"$f":"IF(Picks!D114=\"\",\"\",Picks!D114)","v":1.7},{"$f":"IF(Picks!E114=\"\",\"\",Picks!E114)","v":"x"},{"$f":"IF(Picks!F114=\"\",\"\",Picks!F114)","v":""},{"$f":"IF(Picks!G114=\"\",\"\",Picks!G114)","v":""}]
[null,{"$f":"IF(Picks!B115=\"\",\"\",Picks!B115)","v":"Portsmouth"},{"$f":"IF(Picks!C115=\"\",\"\",Picks!C115)","v":"4/6"},{"$f":"IF(Picks!D115=\"\",\"\",Picks!D115)","v":1.6666666666666665},{"$f":"IF(Picks!E115=\"\",\"\",Picks!E115)","v":"√"},{"$f":"IF(Picks!F115=\"\",\"\",Picks!F115)","v":""},{"$f":"IF(Picks!G115=\"\",\"\",Picks!G115)","v":""}]
[{"$f":"IF(Picks!A116=\"\",\"\",Picks!A116)","v":"Liam Wah"},{"$f":"IF(Picks!B116=\"\",\"\",Picks!B116)","v":"Palace draw"},{"$f":"IF(Picks!C116=\"\",\"\",Picks!C116)","v":"23/10"},{"$f":"IF(Picks!D116=\"\",\"\",Picks!D116)","v":3.3},{"$f":"IF(Picks!E116=\"\",\"\",Picks!E116)","v":"√"},{"$f":"IF(Picks!F116=\"\",\"\",Picks!F116)","v":-3.7},{"$f":"IF(Picks!G116=\"\",\"\",Picks!G116)","v":61.544230769230765}]
[null,{"$f":"IF(Picks!B117=\"\",\"\",Picks!B117)","v":"Rochdale"},{"$f":"IF(Picks!C117=\"\",\"\",Picks!C117)","v":"13/8"},{"$f":"IF(Picks!D117=\"\",\"\",Picks!D117)","v":2.625},{"$f":"IF(Picks!E117=\"\",\"\",Picks!E117)","v":"x"},{"$f":"IF(Picks!F117=\"\",\"\",Picks!F117)","v":""},{"$f":"IF(Picks!G117=\"\",\"\",Picks!G117)","v":""}]
[null,{"$f":"IF(Picks!B118=\"\",\"\",Picks!B118)","v":"Man U draw"},{"$f":"IF(Picks!C118=\"\",\"\",Picks!C118)","v":"32/13"},{"$f":"IF(Picks!D118=\"\",\"\",Picks!D118)","v":3.4615384615384617},{"$f":"IF(Picks!E118=\"\",\"\",Picks!E118)","v":"x"},{"$f":"IF(Picks!F118=\"\",\"\",Picks!F118)","v":""},{"$f":"IF(Picks!G118=\"\",\"\",Picks!G118)","v":""}]
[{"$f":"IF(Picks!A119=\"\",\"\",Picks!A119)","v":"Mal Stott"},{"$f":"IF(Picks!B119=\"\",\"\",Picks!B119)","v":"Bristol r"},{"$f":"IF(Picks!C119=\"\",\"\",Picks!C119)","v":"6/5"},{"$f":"IF(Picks!D119=\"\",\"\",Picks!D119)","v":2.2000000000000002},{"$f":"IF(Picks!E119=\"\",\"\",Picks!E119)","v":"x"},{"$f":"IF(Picks!F119=\"\",\"\",Picks!F119)","v":-0.53333333333333321},{"$f":"IF(Picks!G119=\"\",\"\",Picks!G119)","v":15.893333333333338}]
[null,{"$f":"IF(Picks!B120=\"\",\"\",Picks!B120)","v":"Portsmouth"},{"$f":"IF(Picks!C120=\"\",\"\",Picks!C120)","v":"4/6"},{"$f":"IF(Picks!D120=\"\",\"\",Picks!D120)","v":1.6666666666666665},{"$f":"IF(Picks!E120=\"\",\"\",Picks!E120)","v":"√"},{"$f":"IF(Picks!F120=\"\",\"\",Picks!F120)","v":""},{"$f":"IF(Picks!G120=\"\",\"\",Picks!G120)","v":""}]
[null,{"$f":"IF(Picks!B121=\"\",\"\",Picks!B121)","v":"Fulham"},{"$f":"IF(Picks!C121=\"\",\"\",Picks!C121)","v":"4/5"},{"$f":"IF(Picks!D121=\"\",\"\",Picks!D121)","v":1.8},{"$f":"IF(Picks!E121=\"\",\"\",Picks!E121)","v":"√"},{"$f":"IF(Picks!F121=\"\",\"\",Picks!F121)","v":""},{"$f":"IF(Picks!G121=\"\",\"\",Picks!G121)","v":""}]
[{"$f":"IF(Picks!A122=\"\",\"\",Picks!A122)","v":"Mark Bunn"},{"$f":"IF(Picks!B122=\"\",\"\",Picks!B122)","v":"Middlesbro"},{"$f":"IF(Picks!C122=\"\",\"\",Picks!C122)","v":"13/10"},{"$f":"IF(Picks!D122=\"\",\"\",Picks!D122)","v":2.2999999999999998},{"$f":"IF(Picks!E122=\"\",\"\",Picks!E122)","v":"x"},{"$f":"IF(Picks!F122=\"\",\"\",Picks!F122)","v":-4.5},{"$f":"IF(Picks!G122=\"\",\"\",Picks!G122)","v":33.002499999999998}]
[null,{"$f":"IF(Picks!B123=\"\",\"\",Picks!B123)","v":"QPR"},{"$f":"IF(Picks!C123=\"\",\"\",Picks!C123)","v":"31/20"},{"$f":"IF(Picks!D123=\"\",\"\",Picks!D123)","v":2.5499999999999998},{"$f":"IF(Picks!E123=\"\",\"\",Picks!E123)","v":"x"},{"$f":"IF(Picks!F123=\"\",\"\",Picks!F123)","v":""},{"$f":"IF(Picks!G123=\"\",\"\",Picks!G123)","v":""}]
[null,{"$f":"IF(Picks!B124=\"\",\"\",Picks!B124)","v":"Oxford"},{"$f":"IF(Picks!C124=\"\",\"\",Picks!C124)","v":"6/4"},{"$f":"IF(Picks!D124=\"\",\"\",Picks!D124)","v":2.5},{"$f":"IF(Picks!E124=\"\",\"\",Picks!E124)","v":"√"},{"$f":"IF(Picks!F124=\"\",\"\",Picks!F124)","v":""},{"$f":"IF(Picks!G124=\"\",\"\",Picks!G124)","v":""}]
[{"$f":"IF(Picks!A125=\"\",\"\",Picks!A125)","v":"Mark Saunders"},{"$f":"IF(Picks!B125=\"\",\"\",Picks!B125)","v":"Bournemouth"},{"$f":"IF(Picks!C125=\"\",\"\",Picks!C125)","v":"10/11"},{"$f":"IF(Picks!D125=\"\",\"\",Picks!D125)","v":1.9090909090909092},{"$f":"IF(Picks!E125=\"\",\"\",Picks!E125)","v":"x"},{"$f":"IF(Picks!F125=\"\",\"\",Picks!F125)","v":-5.2},{"$f":"IF(Picks!G125=\"\",\"\",Picks!G125)","v":18.88}]
[null,{"$f":"IF(Picks!B126=\"\",\"\",Picks!B126)","v":"Fulham"},{"$f":"IF(Picks!C126=\"\",\"\",Picks!C126)","v":"4/5"},{"$f":"IF(Picks!D126=\"\",\"\",Picks!D126)","v":1.8},{"$f":"IF(Picks!E126=\"\",\"\",Picks!E126)","v":"√"},{"$f":"IF(Picks!F126=\"\",\"\",Picks!F126)","v":""},{"$f":"IF(Picks!G126=\"\",\"\",Picks!G126)","v":""}]
[null,{"$f":"IF(Picks!B127=\"\",\"\",Picks!B127)","v":"Middlesbro"},{"$f":"IF(Picks!C127=\"\",\"\",Picks!C127)","v":"13/10"},{"$f":"IF(Picks!D127=\"\",\"\",Picks!D127)","v":2.2999999999999998},{"$f":"IF(Picks!E127=\"\",\"\",Picks!E127)","v":"x"},{"$f":"IF(Picks!F127=\"\",\"\",Picks!F127)","v":""},{"$f":"IF(Picks!G127=\"\",\"\",Picks!G127)","v":""}]
[{"$f":"IF(Picks!A128=\"\",\"\",Picks!A128)","v":"Martin Molyneux"},{"$f":"IF(Picks!B128=\"\",\"\",Picks!B128)","v":"Leicester"},{"$f":"IF(Picks!C128=\"\",\"\",Picks!C128)","v":"13/10"},{"$f":"IF(Picks!D128=\"\",\"\",Picks!D128)","v":2.2999999999999998},{"$f":"IF(Picks!E128=\"\",\"\",Picks!E128)","v":"x"},{"$f":"IF(Picks!F128=\"\",\"\",Picks!F128)","v":-7},{"$f":"IF(Picks!G128=\"\",\"\",Picks!G128)","v":38.3776923076923}]
[null,{"$f":"IF(Picks!B129=\"\",\"\",Picks!B129)","v":"Derby"},{"$f":"IF(Picks!C129=\"\",\"\",Picks!C129)","v":"23/20"},{"$f":"IF(Picks!D129=\"\",\"\",Picks!D129)","v":2.15},{"$f":"IF(Picks!E129=\"\",\"\",Picks!E129)","v":"x"},{"$f":"IF(Picks!F129=\"\",\"\",Picks!F129)","v":""},{"$f":"IF(Picks!G129=\"\",\"\",Picks!G129)","v":""}]
[null,{"$f":"IF(Picks!B130=\"\",\"\",Picks!B130)","v":"Man U Draw"},{"$f":"IF(Picks!C130=\"\",\"\",Picks!C130)","v":"32/13"},{"$f":"IF(Picks!D130=\"\",\"\",Picks!D130)","v":3.4615384615384617},{"$f":"IF(Picks!E130=\"\",\"\",Picks!E130)","v":"x"},{"$f":"IF(Picks!F130=\"\",\"\",Picks!F130)","v":""},{"$f":"IF(Picks!G130=\"\",\"\",Picks!G130)","v":""}]
[{"$f":"IF(Picks!A131=\"\",\"\",Picks!A131)","v":"Martin Tarbuck"},{"$f":"IF(Picks!B131=\"\",\"\",Picks!B131)","v":"Walsall"},{"$f":"IF(Picks!C131=\"\",\"\",Picks!C131)","v":"11/8"},{"$f":"IF(Picks!D131=\"\",\"\",Picks!D131)","v":2.375},{"$f":"IF(Picks!E131=\"\",\"\",Picks!E131)","v":"x"},{"$f":"IF(Picks!F131=\"\",\"\",Picks!F131)","v":-0.91249999999999964},{"$f":"IF(Picks!G131=\"\",\"\",Picks!G131)","v":15.920312500000001}]
[null,{"$f":"IF(Picks!B132=\"\",\"\",Picks!B132)","v":"Plymouth"},{"$f":"IF(Picks!C132=\"\",\"\",Picks!C132)","v":"23/20"},{"$f":"IF(Picks!D132=\"\",\"\",Picks!D132)","v":2.15},{"$f":"IF(Picks!E132=\"\",\"\",Picks!E132)","v":"√"},{"$f":"IF(Picks!F132=\"\",\"\",Picks!F132)","v":""},{"$f":"IF(Picks!G132=\"\",\"\",Picks!G132)","v":""}]
[null,{"$f":"IF(Picks!B133=\"\",\"\",Picks!B133)","v":"Man C"},{"$f":"IF(Picks!C133=\"\",\"\",Picks!C133)","v":"1/4"},{"$f":"IF(Picks!D133=\"\",\"\",Picks!D133)","v":1.25},{"$f":"IF(Picks!E133=\"\",\"\",Picks!E133)","v":"√"},{"$f":"IF(Picks!F133=\"\",\"\",Picks!F133)","v":""},{"$f":"IF(Picks!G133=\"\",\"\",Picks!G133)","v":""}]
[{"$f":"IF(Picks!A134=\"\",\"\",Picks!A134)","v":"Mike Penk"},{"$f":"IF(Picks!B134=\"\",\"\",Picks!B134)","v":"Portsmouth"},{"$f":"IF(Picks!C134=\"\",\"\",Picks!C134)","v":"4/6"},{"$f":"IF(Picks!D134=\"\",\"\",Picks!D134)","v":1.6666666666666665},{"$f":"IF(Picks!E134=\"\",\"\",Picks!E134)","v":"√"},{"$f":"IF(Picks!F134=\"\",\"\",Picks!F134)","v":2.9333333333333336},{"$f":"IF(Picks!G134=\"\",\"\",Picks!G134)","v":43.386666666666663}]
[null,{"$f":"IF(Picks!B135=\"\",\"\",Picks!B135)","v":"Wigan"},{"$f":"IF(Picks!C135=\"\",\"\",Picks!C135)","v":"27/10"},{"$f":"IF(Picks!D135=\"\",\"\",Picks!D135)","v":3.7},{"$f":"IF(Picks!E135=\"\",\"\",Picks!E135)","v":"x"},{"$f":"IF(Picks!F135=\"\",\"\",Picks!F135)","v":""},{"$f":"IF(Picks!G135=\"\",\"\",Picks!G135)","v":""}]
[null,{"$f":"IF(Picks!B136=\"\",\"\",Picks!B136)","v":"Charlton"},{"$f":"IF(Picks!C136=\"\",\"\",Picks!C136)","v":"21/10"},{"$f":"IF(Picks!D136=\"\",\"\",Picks!D136)","v":3.1},{"$f":"IF(Picks!E136=\"\",\"\",Picks!E136)","v":"√"},{"$f":"IF(Picks!F136=\"\",\"\",Picks!F136)","v":""},{"$f":"IF(Picks!G136=\"\",\"\",Picks!G136)","v":""}]
[{"$f":"IF(Picks!A137=\"\",\"\",Picks!A137)","v":"Mo Sudell"},{"$f":"IF(Picks!B137=\"\",\"\",Picks!B137)","v":"Blackpool"},{"$f":"IF(Picks!C137=\"\",\"\",Picks!C137)","v":"6/4"},{"$f":"IF(Picks!D137=\"\",\"\",Picks!D137)","v":2.5},{"$f":"IF(Picks!E137=\"\",\"\",Picks!E137)","v":"√"},{"$f":"IF(Picks!F137=\"\",\"\",Picks!F137)","v":-4.5},{"$f":"IF(Picks!G137=\"\",\"\",Picks!G137)","v":17.515000000000001}]
[null,{"$f":"IF(Picks!B138=\"\",\"\",Picks!B138)","v":"West Brom"},{"$f":"IF(Picks!C138=\"\",\"\",Picks!C138)","v":"7/10"},{"$f":"IF(Picks!D138=\"\",\"\",Picks!D138)","v":1.7},{"$f":"IF(Picks!E138=\"\",\"\",Picks!E138)","v":"x"},{"$f":"IF(Picks!F138=\"\",\"\",Picks!F138)","v":""},{"$f":"IF(Picks!G138=\"\",\"\",Picks!G138)","v":""}]
[null,{"$f":"IF(Picks!B139=\"\",\"\",Picks!B139)","v":"Leeds"},{"$f":"IF(Picks!C139=\"\",\"\",Picks!C139)","v":"7/10"},{"$f":"IF(Picks!D139=\"\",\"\",Picks!D139)","v":1.7},{"$f":"IF(Picks!E139=\"\",\"\",Picks!E139)","v":"x"},{"$f":"IF(Picks!F139=\"\",\"\",Picks!F139)","v":""},{"$f":"IF(Picks!G139=\"\",\"\",Picks!G139)","v":""}]
[{"$f":"IF(Picks!A140=\"\",\"\",Picks!A140)","v":"Nick Blocksidge"},{"$f":"IF(Picks!B140=\"\",\"\",Picks!B140)","v":"Bournemouth"},{"$f":"IF(Picks!C140=\"\",\"\",Picks!C140)","v":"10/11"},{"$f":"IF(Picks!D140=\"\",\"\",Picks!D140)","v":1.9090909090909092},{"$f":"IF(Picks!E140=\"\",\"\",Picks!E140)","v":"x"},{"$f":"IF(Picks!F140=\"\",\"\",Picks!F140)","v":-4.45},{"$f":"IF(Picks!G140=\"\",\"\",Picks!G140)","v":24.530909090909091}]
[null,{"$f":"IF(Picks!B141=\"\",\"\",Picks!B141)","v":"Burnley"},{"$f":"IF(Picks!C141=\"\",\"\",Picks!C141)","v":"31/20"},{"$f":"IF(Picks!D141=\"\",\"\",Picks!D141)","v":2.5499999999999998},{"$f":"IF(Picks!E141=\"\",\"\",Picks!E141)","v":"√"},{"$f":"IF(Picks!F141=\"\",\"\",Picks!F141)","v":""},{"$f":"IF(Picks!G141=\"\",\"\",Picks!G141)","v":""}]
[null,{"$f":"IF(Picks!B142=\"\",\"\",Picks!B142)","v":"Derby"},{"$f":"IF(Picks!C142=\"\",\"\",Picks!C142)","v":"23/20"},{"$f":"IF(Picks!D142=\"\",\"\",Picks!D142)","v":2.15},{"$f":"IF(Picks!E142=\"\",\"\",Picks!E142)","v":"x"},{"$f":"IF(Picks!F142=\"\",\"\",Picks!F142)","v":""},{"$f":"IF(Picks!G142=\"\",\"\",Picks!G142)","v":""}]
[{"$f":"IF(Picks!A143=\"\",\"\",Picks!A143)","v":"Nigel Heyes"},{"$f":"IF(Picks!B143=\"\",\"\",Picks!B143)","v":"Cardiff"},{"$f":"IF(Picks!C143=\"\",\"\",Picks!C143)","v":"78/100"},{"$f":"IF(Picks!D143=\"\",\"\",Picks!D143)","v":1.78},{"$f":"IF(Picks!E143=\"\",\"\",Picks!E143)","v":"√"},{"$f":"IF(Picks!F143=\"\",\"\",Picks!F143)","v":-5.22},{"$f":"IF(Picks!G143=\"\",\"\",Picks!G143)","v":35.117799999999995}]
[null,{"$f":"IF(Picks!B144=\"\",\"\",Picks!B144)","v":"Middlesbro"},{"$f":"IF(Picks!C144=\"\",\"\",Picks!C144)","v":"13/10"},{"$f":"IF(Picks!D144=\"\",\"\",Picks!D144)","v":2.2999999999999998},{"$f":"IF(Picks!E144=\"\",\"\",Picks!E144)","v":"x"},{"$f":"IF(Picks!F144=\"\",\"\",Picks!F144)","v":""},{"$f":"IF(Picks!G144=\"\",\"\",Picks!G144)","v":""}]
[null,{"$f":"IF(Picks!B145=\"\",\"\",Picks!B145)","v":"Wigan"},{"$f":"IF(Picks!C145=\"\",\"\",Picks!C145)","v":"27/10"},{"$f":"IF(Picks!D145=\"\",\"\",Picks!D145)","v":3.7},{"$f":"IF(Picks!E145=\"\",\"\",Picks!E145)","v":"x"},{"$f":"IF(Picks!F145=\"\",\"\",Picks!F145)","v":""},{"$f":"IF(Picks!G145=\"\",\"\",Picks!G145)","v":""}]
[{"$f":"IF(Picks!A146=\"\",\"\",Picks!A146)","v":"Oscar Jackson"},{"$f":"IF(Picks!B146=\"\",\"\",Picks!B146)","v":"Reading"},{"$f":"IF(Picks!C146=\"\",\"\",Picks!C146)","v":"27/10"},{"$f":"IF(Picks!D146=\"\",\"\",Picks!D146)","v":3.7},{"$f":"IF(Picks!E146=\"\",\"\",Picks!E146)","v":"x"},{"$f":"IF(Picks!F146=\"\",\"\",Picks!F146)","v":-7},{"$f":"IF(Picks!G146=\"\",\"\",Picks!G146)","v":33.2425}]
[null,{"$f":"IF(Picks!B147=\"\",\"\",Picks!B147)","v":"Salford"},{"$f":"IF(Picks!C147=\"\",\"\",Picks!C147)","v":"5/4"},{"$f":"IF(Picks!D147=\"\",\"\",Picks!D147)","v":2.25},{"$f":"IF(Picks!E147=\"\",\"\",Picks!E147)","v":"x"},{"$f":"IF(Picks!F147=\"\",\"\",Picks!F147)","v":""},{"$f":"IF(Picks!G147=\"\",\"\",Picks!G147)","v":""}]
[null,{"$f":"IF(Picks!B148=\"\",\"\",Picks!B148)","v":"Mansfield"},{"$f":"IF(Picks!C148=\"\",\"\",Picks!C148)","v":"7/10"},{"$f":"IF(Picks!D148=\"\",\"\",Picks!D148)","v":1.7},{"$f":"IF(Picks!E148=\"\",\"\",Picks!E148)","v":"x"},{"$f":"IF(Picks!F148=\"\",\"\",Picks!F148)","v":""},{"$f":"IF(Picks!G148=\"\",\"\",Picks!G148)","v":""}]
[{"$f":"IF(Picks!A149=\"\",\"\",Picks!A149)","v":"Paul Adderley"},{"$f":"IF(Picks!B149=\"\",\"\",Picks!B149)","v":"Bournemouth"},{"$f":"IF(Picks!C149=\"\",\"\",Picks!C149)","v":"10/11"},{"$f":"IF(Picks!D149=\"\",\"\",Picks!D149)","v":1.9090909090909092},{"$f":"IF(Picks!E149=\"\",\"\",Picks!E149)","v":"x"},{"$f":"IF(Picks!F149=\"\",\"\",Picks!F149)","v":-4.45},{"$f":"IF(Picks!G149=\"\",\"\",Picks!G149)","v":22.042975206611573}]
[null,{"$f":"IF(Picks!B150=\"\",\"\",Picks!B150)","v":"Burnley"},{"$f":"IF(Picks!C150=\"\",\"\",Picks!C150)","v":"31/20"},{"$f":"IF(Picks!D150=\"\",\"\",Picks!D150)","v":2.5499999999999998},{"$f":"IF(Picks!E150=\"\",\"\",Picks!E150)","v":"√"},{"$f":"IF(Picks!F150=\"\",\"\",Picks!F150)","v":""},{"$f":"IF(Picks!G150=\"\",\"\",Picks!G150)","v":""}]
[null,{"$f":"IF(Picks!B151=\"\",\"\",Picks!B151)","v":"Watford"},{"$f":"IF(Picks!C151=\"\",\"\",Picks!C151)","v":"10/11"},{"$f":"IF(Picks!D151=\"\",\"\",Picks!D151)","v":1.9090909090909092},{"$f":"IF(Picks!E151=\"\",\"\",Picks!E151)","v":"x"},{"$f":"IF(Picks!F151=\"\",\"\",Picks!F151)","v":""},{"$f":"IF(Picks!G151=\"\",\"\",Picks!G151)","v":""}]
[{"$f":"IF(Picks!A152=\"\",\"\",Picks!A152)","v":"Paul Allen"},{"$f":"IF(Picks!B152=\"\",\"\",Picks!B152)","v":"Bournemouth"},{"$f":"IF(Picks!C152=\"\",\"\",Picks!C152)","v":"10/11"},{"$f":"IF(Picks!D152=\"\",\"\",Picks!D152)","v":1.9090909090909092},{"$f":"IF(Picks!E152=\"\",\"\",Picks!E152)","v":"x"},{"$f":"IF(Picks!F152=\"\",\"\",Picks!F152)","v":-5.22},{"$f":"IF(Picks!G152=\"\",\"\",Picks!G152)","v":15.526611570247937}]
[null,{"$f":"IF(Picks!B153=\"\",\"\",Picks!B153)","v":"Watford"},{"$f":"IF(Picks!C153=\"\",\"\",Picks!C153)","v":"10/11"},{"$f":"IF(Picks!D153=\"\",\"\",Picks!D153)","v":1.9090909090909092},{"$f":"IF(Picks!E153=\"\",\"\",Picks!E153)","v":"x"},{"$f":"IF(Picks!F153=\"\",\"\",Picks!F153)","v":""},{"$f":"IF(Picks!G153=\"\",\"\",Picks!G153)","v":""}]
[null,{"$f":"IF(Picks!B154=\"\",\"\",Picks!B154)","v":"Cardiff"},{"$f":"IF(Picks!C154=\"\",\"\",Picks!C154)","v":"78/100"},{"$f":"IF(Picks!D154=\"\",\"\",Picks!D154)","v":1.78},{"$f":"IF(Picks!E154=\"\",\"\",Picks!E154)","v":"√"},{"$f":"IF(Picks!F154=\"\",\"\",Picks!F154)","v":""},{"$f":"IF(Picks!G154=\"\",\"\",Picks!G154)","v":""}]
[{"$f":"IF(Picks!A155=\"\",\"\",Picks!A155)","v":"Paul Barnes"},{"$f":"IF(Picks!B155=\"\",\"\",Picks!B155)","v":""},{"$f":"IF(Picks!C155=\"\",\"\",Picks!C155)","v":""},{"$f":"IF(Picks!D155=\"\",\"\",Picks!D155)","v":""},{"$f":"IF(Picks!E155=\"\",\"\",Picks!E155)","v":""},{"$f":"IF(Picks!F155=\"\",\"\",Picks!F155)","v":-10},{"$f":"IF(Picks!G155=\"\",\"\",Picks!G155)","v":""}]
[null,{"$f":"IF(Picks!B156=\"\",\"\",Picks!B156)","v":""},{"$f":"IF(Picks!C156=\"\",\"\",Picks!C156)","v":""},{"$f":"IF(Picks!D156=\"\",\"\",Picks!D156)","v":""},{"$f":"IF(Picks!E156=\"\",\"\",Picks!E156)","v":""},{"$f":"IF(Picks!F156=\"\",\"\",Picks!F156)","v":""},{"$f":"IF(Picks!G156=\"\",\"\",Picks!G156)","v":""}]
[null,{"$f":"IF(Picks!B157=\"\",\"\",Picks!B157)","v":""},{"$f":"IF(Picks!C157=\"\",\"\",Picks!C157)","v":""},{"$f":"IF(Picks!D157=\"\",\"\",Picks!D157)","v":""},{"$f":"IF(Picks!E157=\"\",\"\",Picks!E157)","v":""},{"$f":"IF(Picks!F157=\"\",\"\",Picks!F157)","v":""},{"$f":"IF(Picks!G157=\"\",\"\",Picks!G157)","v":""}]
[{"$f":"IF(Picks!A158=\"\",\"\",Picks!A158)","v":"Paul Fairhurst"},{"$f":"IF(Picks!B158=\"\",\"\",Picks!B158)","v":"Cardiff"},{"$f":"IF(Picks!C158=\"\",\"\",Picks!C158)","v":"78/100"},{"$f":"IF(Picks!D158=\"\",\"\",Picks!D158)","v":1.78},{"$f":"IF(Picks!E158=\"\",\"\",Picks!E158)","v":"√"},{"$f":"IF(Picks!F158=\"\",\"\",Picks!F158)","v":3.9540000000000006},{"$f":"IF(Picks!G158=\"\",\"\",Picks!G158)","v":30.252800000000001}]
[null,{"$f":"IF(Picks!B159=\"\",\"\",Picks!B159)","v":"Ipswich draw"},{"$f":"IF(Picks!C159=\"\",\"\",Picks!C159)","v":"23/10"},{"$f":"IF(Picks!D159=\"\",\"\",Picks!D159)","v":3.3},{"$f":"IF(Picks!E159=\"\",\"\",Picks!E159)","v":"√"},{"$f":"IF(Picks!F159=\"\",\"\",Picks!F159)","v":""},{"$f":"IF(Picks!G159=\"\",\"\",Picks!G159)","v":""}]
[null,{"$f":"IF(Picks!B160=\"\",\"\",Picks!B160)","v":"Bradford"},{"$f":"IF(Picks!C160=\"\",\"\",Picks!C160)","v":"6/5"},{"$f":"IF(Picks!D160=\"\",\"\",Picks!D160)","v":2.2000000000000002},{"$f":"IF(Picks!E160=\"\",\"\",Picks!E160)","v":"x"},{"$f":"IF(Picks!F160=\"\",\"\",Picks!F160)","v":""},{"$f":"IF(Picks!G160=\"\",\"\",Picks!G160)","v":""}]
[{"$f":"IF(Picks!A161=\"\",\"\",Picks!A161)","v":"Paul Fiddler"},{"$f":"IF(Picks!B161=\"\",\"\",Picks!B161)","v":"Sheff W"},{"$f":"IF(Picks!C161=\"\",\"\",Picks!C161)","v":"21/20"},{"$f":"IF(Picks!D161=\"\",\"\",Picks!D161)","v":2.0499999999999998},{"$f":"IF(Picks!E161=\"\",\"\",Picks!E161)","v":"√"},{"$f":"IF(Picks!F161=\"\",\"\",Picks!F161)","v":-4.95},{"$f":"IF(Picks!G161=\"\",\"\",Picks!G161)","v":37.155249999999995}]
[null,{"$f":"IF(Picks!B162=\"\",\"\",Picks!B162)","v":"Derby"},{"$f":"IF(Picks!C162=\"\",\"\",Picks!C162)","v":"23/20"},{"$f":"IF(Picks!D162=\"\",\"\",Picks!D162)","v":2.15},{"$f":"IF(Picks!E162=\"\",\"\",Picks!E162)","v":"x"},{"$f":"IF(Picks!F162=\"\",\"\",Picks!F162)","v":""},{"$f":"IF(Picks!G162=\"\",\"\",Picks!G162)","v":""}]
[null,{"$f":"IF(Picks!B163=\"\",\"\",Picks!B163)","v":"Wigan"},{"$f":"IF(Picks!C163=\"\",\"\",Picks!C163)","v":"27/10"},{"$f":"IF(Picks!D163=\"\",\"\",Picks!D163)","v":3.7},{"$f":"IF(Picks!E163=\"\",\"\",Picks!E163)","v":"x"},{"$f":"IF(Picks!F163=\"\",\"\",Picks!F163)","v":""},{"$f":"IF(Picks!G163=\"\",\"\",Picks!G163)","v":""}]
[{"$f":"IF(Picks!A164=\"\",\"\",Picks!A164)","v":"Paul Ridgeway"},{"$f":"IF(Picks!B164=\"\",\"\",Picks!B164)","v":"Derby"},{"$f":"IF(Picks!C164=\"\",\"\",Picks!C164)","v":"23/20"},{"$f":"IF(Picks!D164=\"\",\"\",Picks!D164)","v":2.15},{"$f":"IF(Picks!E164=\"\",\"\",Picks!E164)","v":"x"},{"$f":"IF(Picks!F164=\"\",\"\",Picks!F164)","v":0.53999999999999915},{"$f":"IF(Picks!G164=\"\",\"\",Picks!G164)","v":18.901}]
[null,{"$f":"IF(Picks!B165=\"\",\"\",Picks!B165)","v":"Fulham"},{"$f":"IF(Picks!C165=\"\",\"\",Picks!C165)","v":"4/5"},{"$f":"IF(Picks!D165=\"\",\"\",Picks!D165)","v":1.8},{"$f":"IF(Picks!E165=\"\",\"\",Picks!E165)","v":"√"},{"$f":"IF(Picks!F165=\"\",\"\",Picks!F165)","v":""},{"$f":"IF(Picks!G165=\"\",\"\",Picks!G165)","v":""}]
[null,{"$f":"IF(Picks!B166=\"\",\"\",Picks!B166)","v":"Hull"},{"$f":"IF(Picks!C166=\"\",\"\",Picks!C166)","v":"21/20"},{"$f":"IF(Picks!D166=\"\",\"\",Picks!D166)","v":2.0499999999999998},{"$f":"IF(Picks!E166=\"\",\"\",Picks!E166)","v":"√"},{"$f":"IF(Picks!F166=\"\",\"\",Picks!F166)","v":""},{"$f":"IF(Picks!G166=\"\",\"\",Picks!G166)","v":""}]
[{"$f":"IF(Picks!A167=\"\",\"\",Picks!A167)","v":"Pete Baron"},{"$f":"IF(Picks!B167=\"\",\"\",Picks!B167)","v":""},{"$f":"IF(Picks!C167=\"\",\"\",Picks!C167)","v":""},{"$f":"IF(Picks!D167=\"\",\"\",Picks!D167)","v":""},{"$f":"IF(Picks!E167=\"\",\"\",Picks!E167)","v":""},{"$f":"IF(Picks!F167=\"\",\"\",Picks!F167)","v":-10},{"$f":"IF(Picks!G167=\"\",\"\",Picks!G167)","v":""}]
[null,{"$f":"IF(Picks!B168=\"\",\"\",Picks!B168)","v":""},{"$f":"IF(Picks!C168=\"\",\"\",Picks!C168)","v":""},{"$f":"IF(Picks!D168=\"\",\"\",Picks!D168)","v":""},{"$f":"IF(Picks!E168=\"\",\"\",Picks!E168)","v":""},{"$f":"IF(Picks!F168=\"\",\"\",Picks!F168)","v":""},{"$f":"IF(Picks!G168=\"\",\"\",Picks!G168)","v":""}]
[null,{"$f":"IF(Picks!B169=\"\",\"\",Picks!B169)","v":""},{"$f":"IF(Picks!C169=\"\",\"\",Picks!C169)","v":""},{"$f":"IF(Picks!D169=\"\",\"\",Picks!D169)","v":""},{"$f":"IF(Picks!E169=\"\",\"\",Picks!E169)","v":""},{"$f":"IF(Picks!F169=\"\",\"\",Picks!F169)","v":""},{"$f":"IF(Picks!G169=\"\",\"\",Picks!G169)","v":""}]
[{"$f":"IF(Picks!A170=\"\",\"\",Picks!A170)","v":"Phil Miller"},{"$f":"IF(Picks!B170=\"\",\"\",Picks!B170)","v":"Bristol C"},{"$f":"IF(Picks!C170=\"\",\"\",Picks!C170)","v":"21/10"},{"$f":"IF(Picks!D170=\"\",\"\",Picks!D170)","v":3.1},{"$f":"IF(Picks!E170=\"\",\"\",Picks!E170)","v":"x"},{"$f":"IF(Picks!F170=\"\",\"\",Picks!F170)","v":-1.7000000000000002},{"$f":"IF(Picks!G170=\"\",\"\",Picks!G170)","v":17.829999999999998}]
[null,{"$f":"IF(Picks!B171=\"\",\"\",Picks!B171)","v":"Man C"},{"$f":"IF(Picks!C171=\"\",\"\",Picks!C171)","v":"1/4"},{"$f":"IF(Picks!D171=\"\",\"\",Picks!D171)","v":1.25},{"$f":"IF(Picks!E171=\"\",\"\",Picks!E171)","v":"√"},{"$f":"IF(Picks!F171=\"\",\"\",Picks!F171)","v":""},{"$f":"IF(Picks!G171=\"\",\"\",Picks!G171)","v":""}]
[null,{"$f":"IF(Picks!B172=\"\",\"\",Picks!B172)","v":"Fulham"},{"$f":"IF(Picks!C172=\"\",\"\",Picks!C172)","v":"4/5"},{"$f":"IF(Picks!D172=\"\",\"\",Picks!D172)","v":1.8},{"$f":"IF(Picks!E172=\"\",\"\",Picks!E172)","v":"√"},{"$f":"IF(Picks!F172=\"\",\"\",Picks!F172)","v":""},{"$f":"IF(Picks!G172=\"\",\"\",Picks!G172)","v":""}]
[{"$f":"IF(Picks!A173=\"\",\"\",Picks!A173)","v":"Rob England"},{"$f":"IF(Picks!B173=\"\",\"\",Picks!B173)","v":"Liverpool"},{"$f":"IF(Picks!C173=\"\",\"\",Picks!C173)","v":"1/7"},{"$f":"IF(Picks!D173=\"\",\"\",Picks!D173)","v":1.1428571428571428},{"$f":"IF(Picks!E173=\"\",\"\",Picks!E173)","v":"√"},{"$f":"IF(Picks!F173=\"\",\"\",Picks!F173)","v":-5.8571428571428577},{"$f":"IF(Picks!G173=\"\",\"\",Picks!G173)","v":29.778571428571425}]
[null,{"$f":"IF(Picks!B174=\"\",\"\",Picks!B174)","v":"Wycombe"},{"$f":"IF(Picks!C174=\"\",\"\",Picks!C174)","v":"21/10"},{"$f":"IF(Picks!D174=\"\",\"\",Picks!D174)","v":3.1},{"$f":"IF(Picks!E174=\"\",\"\",Picks!E174)","v":"x"},{"$f":"IF(Picks!F174=\"\",\"\",Picks!F174)","v":""},{"$f":"IF(Picks!G174=\"\",\"\",Picks!G174)","v":""}]
[null,{"$f":"IF(Picks!B175=\"\",\"\",Picks!B175)","v":"Grimsby"},{"$f":"IF(Picks!C175=\"\",\"\",Picks!C175)","v":"23/10"},{"$f":"IF(Picks!D175=\"\",\"\",Picks!D175)","v":3.3},{"$f":"IF(Picks!E175=\"\",\"\",Picks!E175)","v":"x"},{"$f":"IF(Picks!F175=\"\",\"\",Picks!F175)","v":""},{"$f":"IF(Picks!G175=\"\",\"\",Picks!G175)","v":""}]
[{"$f":"IF(Picks!A176=\"\",\"\",Picks!A176)","v":"Sally Williams"},{"$f":"IF(Picks!B176=\"\",\"\",Picks!B176)","v":"Charlton draw"},{"$f":"IF(Picks!C176=\"\",\"\",Picks!C176)","v":"12/5"},{"$f":"IF(Picks!D176=\"\",\"\",Picks!D176)","v":3.4},{"$f":"IF(Picks!E176=\"\",\"\",Picks!E176)","v":"x"},{"$f":"IF(Picks!F176=\"\",\"\",Picks!F176)","v":-3.7},{"$f":"IF(Picks!G176=\"\",\"\",Picks!G176)","v":73.355999999999995}]
[null,{"$f":"IF(Picks!B177=\"\",\"\",Picks!B177)","v":"Preston draw"},{"$f":"IF(Picks!C177=\"\",\"\",Picks!C177)","v":"23/10"},{"$f":"IF(Picks!D177=\"\",\"\",Picks!D177)","v":3.3},{"$f":"IF(Picks!E177=\"\",\"\",Picks!E177)","v":"x"},{"$f":"IF(Picks!F177=\"\",\"\",Picks!F177)","v":""},{"$f":"IF(Picks!G177=\"\",\"\",Picks!G177)","v":""}]
[null,{"$f":"IF(Picks!B178=\"\",\"\",Picks!B178)","v":"QPR draw"},{"$f":"IF(Picks!C178=\"\",\"\",Picks!C178)","v":"23/10"},{"$f":"IF(Picks!D178=\"\",\"\",Picks!D178)","v":3.3},{"$f":"IF(Picks!E178=\"\",\"\",Picks!E178)","v":"√"},{"$f":"IF(Picks!F178=\"\",\"\",Picks!F178)","v":""},{"$f":"IF(Picks!G178=\"\",\"\",Picks!G178)","v":""}]
[{"$f":"IF(Picks!A179=\"\",\"\",Picks!A179)","v":"Simon Greenhalgh"},{"$f":"IF(Picks!B179=\"\",\"\",Picks!B179)","v":"Oxford"},{"$f":"IF(Picks!C179=\"\",\"\",Picks!C179)","v":"6/4"},{"$f":"IF(Picks!D179=\"\",\"\",Picks!D179)","v":2.5},{"$f":"IF(Picks!E179=\"\",\"\",Picks!E179)","v":"√"},{"$f":"IF(Picks!F179=\"\",\"\",Picks!F179)","v":-4.5},{"$f":"IF(Picks!G179=\"\",\"\",Picks!G179)","v":34.8203125}]
[null,{"$f":"IF(Picks!B180=\"\",\"\",Picks!B180)","v":"Rochdale"},{"$f":"IF(Picks!C180=\"\",\"\",Picks!C180)","v":"13/8"},{"$f":"IF(Picks!D180=\"\",\"\",Picks!D180)","v":2.625},{"$f":"IF(Picks!E180=\"\",\"\",Picks!E180)","v":"x"},{"$f":"IF(Picks!F180=\"\",\"\",Picks!F180)","v":""},{"$f":"IF(Picks!G180=\"\",\"\",Picks!G180)","v":""}]
[null,{"$f":"IF(Picks!B181=\"\",\"\",Picks!B181)","v":"Walsall"},{"$f":"IF(Picks!C181=\"\",\"\",Picks!C181)","v":"11/8"},{"$f":"IF(Picks!D181=\"\",\"\",Picks!D181)","v":2.375},{"$f":"IF(Picks!E181=\"\",\"\",Picks!E181)","v":"x"},{"$f":"IF(Picks!F181=\"\",\"\",Picks!F181)","v":""},{"$f":"IF(Picks!G181=\"\",\"\",Picks!G181)","v":""}]
[{"$f":"IF(Picks!A182=\"\",\"\",Picks!A182)","v":"Ste Bentley"},{"$f":"IF(Picks!B182=\"\",\"\",Picks!B182)","v":""},{"$f":"IF(Picks!C182=\"\",\"\",Picks!C182)","v":""},{"$f":"IF(Picks!D182=\"\",\"\",Picks!D182)","v":""},{"$f":"IF(Picks!E182=\"\",\"\",Picks!E182)","v":""},{"$f":"IF(Picks!F182=\"\",\"\",Picks!F182)","v":-10},{"$f":"IF(Picks!G182=\"\",\"\",Picks!G182)","v":""}]
[null,{"$f":"IF(Picks!B183=\"\",\"\",Picks!B183)","v":""},{"$f":"IF(Picks!C183=\"\",\"\",Picks!C183)","v":""},{"$f":"IF(Picks!D183=\"\",\"\",Picks!D183)","v":""},{"$f":"IF(Picks!E183=\"\",\"\",Picks!E183)","v":""},{"$f":"IF(Picks!F183=\"\",\"\",Picks!F183)","v":""},{"$f":"IF(Picks!G183=\"\",\"\",Picks!G183)","v":""}]
[null,{"$f":"IF(Picks!B184=\"\",\"\",Picks!B184)","v":""},{"$f":"IF(Picks!C184=\"\",\"\",Picks!C184)","v":""},{"$f":"IF(Picks!D184=\"\",\"\",Picks!D184)","v":""},{"$f":"IF(Picks!E184=\"\",\"\",Picks!E184)","v":""},{"$f":"IF(Picks!F184=\"\",\"\",Picks!F184)","v":""},{"$f":"IF(Picks!G184=\"\",\"\",Picks!G184)","v":""}]
[{"$f":"IF(Picks!A185=\"\",\"\",Picks!A185)","v":"Stephen Barr"},{"$f":"IF(Picks!B185=\"\",\"\",Picks!B185)","v":"Arsenal"},{"$f":"IF(Picks!C185=\"\",\"\",Picks!C185)","v":"9/11"},{"$f":"IF(Picks!D185=\"\",\"\",Picks!D185)","v":1.8181818181818183},{"$f":"IF(Picks!E185=\"\",\"\",Picks!E185)","v":"√"},{"$f":"IF(Picks!F185=\"\",\"\",Picks!F185)","v":15.895363636363633},{"$f":"IF(Picks!G185=\"\",\"\",Picks!G185)","v":15.895363636363633}]
[null,{"$f":"IF(Picks!B186=\"\",\"\",Picks!B186)","v":"Cardiff"},{"$f":"IF(Picks!C186=\"\",\"\",Picks!C186)","v":"78/100"},{"$f":"IF(Picks!D186=\"\",\"\",Picks!D186)","v":1.78},{"$f":"IF(Picks!E186=\"\",\"\",Picks!E186)","v":"√"},{"$f":"IF(Picks!F186=\"\",\"\",Picks!F186)","v":""},{"$f":"IF(Picks!G186=\"\",\"\",Picks!G186)","v":""}]
[null,{"$f":"IF(Picks!B187=\"\",\"\",Picks!B187)","v":"Sheff w"},{"$f":"IF(Picks!C187=\"\",\"\",Picks!C187)","v":"21/20"},{"$f":"IF(Picks!D187=\"\",\"\",Picks!D187)","v":2.0499999999999998},{"$f":"IF(Picks!E187=\"\",\"\",Picks!E187)","v":"√"},{"$f":"IF(Picks!F187=\"\",\"\",Picks!F187)","v":""},{"$f":"IF(Picks!G187=\"\",\"\",Picks!G187)","v":""}]
[{"$f":"IF(Picks!A188=\"\",\"\",Picks!A188)","v":"Stephen Troop"},{"$f":"IF(Picks!B188=\"\",\"\",Picks!B188)","v":"Derby"},{"$f":"IF(Picks!C188=\"\",\"\",Picks!C188)","v":"23/20"},{"$f":"IF(Picks!D188=\"\",\"\",Picks!D188)","v":2.15},{"$f":"IF(Picks!E188=\"\",\"\",Picks!E188)","v":"x"},{"$f":"IF(Picks!F188=\"\",\"\",Picks!F188)","v":-7},{"$f":"IF(Picks!G188=\"\",\"\",Picks!G188)","v":19.216000000000001}]
[null,{"$f":"IF(Picks!B189=\"\",\"\",Picks!B189)","v":"Bristol R"},{"$f":"IF(Picks!C189=\"\",\"\",Picks!C189)","v":"6/5"},{"$f":"IF(Picks!D189=\"\",\"\",Picks!D189)","v":2.2000000000000002},{"$f":"IF(Picks!E189=\"\",\"\",Picks!E189)","v":"x"},{"$f":"IF(Picks!F189=\"\",\"\",Picks!F189)","v":""},{"$f":"IF(Picks!G189=\"\",\"\",Picks!G189)","v":""}]
[null,{"$f":"IF(Picks!B190=\"\",\"\",Picks!B190)","v":"Leeds"},{"$f":"IF(Picks!C190=\"\",\"\",Picks!C190)","v":"7/10"},{"$f":"IF(Picks!D190=\"\",\"\",Picks!D190)","v":1.7},{"$f":"IF(Picks!E190=\"\",\"\",Picks!E190)","v":"x"},{"$f":"IF(Picks!F190=\"\",\"\",Picks!F190)","v":""},{"$f":"IF(Picks!G190=\"\",\"\",Picks!G190)","v":""}]
[{"$f":"IF(Picks!A191=\"\",\"\",Picks!A191)","v":"Steve Baxter"},{"$f":"IF(Picks!B191=\"\",\"\",Picks!B191)","v":"Liverpool"},{"$f":"IF(Picks!C191=\"\",\"\",Picks!C191)","v":"1/7"},{"$f":"IF(Picks!D191=\"\",\"\",Picks!D191)","v":1.1428571428571428},{"$f":"IF(Picks!E191=\"\",\"\",Picks!E191)","v":"√"},{"$f":"IF(Picks!F191=\"\",\"\",Picks!F191)","v":7.8089285714285701},{"$f":"IF(Picks!G191=\"\",\"\",Picks!G191)","v":7.8089285714285701}]
[null,{"$f":"IF(Picks!B192=\"\",\"\",Picks!B192)","v":"Man U"},{"$f":"IF(Picks!C192=\"\",\"\",Picks!C192)","v":"5/4"},{"$f":"IF(Picks!D192=\"\",\"\",Picks!D192)","v":2.25},{"$f":"IF(Picks!E192=\"\",\"\",Picks!E192)","v":"√"},{"$f":"IF(Picks!F192=\"\",\"\",Picks!F192)","v":""},{"$f":"IF(Picks!G192=\"\",\"\",Picks!G192)","v":""}]
[null,{"$f":"IF(Picks!B193=\"\",\"\",Picks!B193)","v":"Spurs"},{"$f":"IF(Picks!C193=\"\",\"\",Picks!C193)","v":"27/100"},{"$f":"IF(Picks!D193=\"\",\"\",Picks!D193)","v":1.27},{"$f":"IF(Picks!E193=\"\",\"\",Picks!E193)","v":"√"},{"$f":"IF(Picks!F193=\"\",\"\",Picks!F193)","v":""},{"$f":"IF(Picks!G193=\"\",\"\",Picks!G193)","v":""}]
[{"$f":"IF(Picks!A194=\"\",\"\",Picks!A194)","v":"Steve Carter"},{"$f":"IF(Picks!B194=\"\",\"\",Picks!B194)","v":"Everton"},{"$f":"IF(Picks!C194=\"\",\"\",Picks!C194)","v":"6/4"},{"$f":"IF(Picks!D194=\"\",\"\",Picks!D194)","v":2.5},{"$f":"IF(Picks!E194=\"\",\"\",Picks!E194)","v":"x"},{"$f":"IF(Picks!F194=\"\",\"\",Picks!F194)","v":-5.1818181818181817},{"$f":"IF(Picks!G194=\"\",\"\",Picks!G194)","v":36.006993006993014}]
[null,{"$f":"IF(Picks!B195=\"\",\"\",Picks!B195)","v":"Arsenal"},{"$f":"IF(Picks!C195=\"\",\"\",Picks!C195)","v":"9/11"},{"$f":"IF(Picks!D195=\"\",\"\",Picks!D195)","v":1.8181818181818183},{"$f":"IF(Picks!E195=\"\",\"\",Picks!E195)","v":"√"},{"$f":"IF(Picks!F195=\"\",\"\",Picks!F195)","v":""},{"$f":"IF(Picks!G195=\"\",\"\",Picks!G195)","v":""}]
[null,{"$f":"IF(Picks!B196=\"\",\"\",Picks!B196)","v":"Man U draw"},{"$f":"IF(Picks!C196=\"\",\"\",Picks!C196)","v":"32/13"},{"$f":"IF(Picks!D196=\"\",\"\",Picks!D196)","v":3.4615384615384617},{"$f":"IF(Picks!E196=\"\",\"\",Picks!E196)","v":"x"},{"$f":"IF(Picks!F196=\"\",\"\",Picks!F196)","v":""},{"$f":"IF(Picks!G196=\"\",\"\",Picks!G196)","v":""}]

{"sheet":"Diary","index":14,"n_rows":47,"n_cols":11,"rows_kept":47,"cut":false,"hidden":false,"merged":[[25,1,25,5],[2,1,2,5]]}
[34,2019]
[]
[null,{"$f":"CONCATENATE(\"Season PL\",$A$1,\" (Autumn \",$B$1,\")\")","v":"Season PL34 (Autumn 2019)"},null,null,null,null,null,null,"Weekly actions"]
[null,"Weekend of…","3in! PL\nWeek No.","Double\nWeek?","Quaifiying Competitions","PL Cup\nRound",null,null,"Scrape Odds","Issue Odds","Issue Results"]
[null,"2019-08-10",1,null,"Prm\\Chp\\FL1\\FL2",null,null,null,{"$f":"IF($B5=\"\",\"\",$B5-5)","v":"2019-08-05"},{"$f":"IF($B5=\"\",\"\",$B5-3)","v":"2019-08-07"},{"$f":"IF($B5=\"\",\"\",$B5+2)","v":"2019-08-12"}]
[null,"2019-08-17",2,null,"Prm\\Chp\\FL1\\FL2","Preliminary",null,null,{"$f":"IF($B6=\"\",\"\",$B6-5)","v":"2019-08-12"},{"$f":"IF($B6=\"\",\"\",$B6-3)","v":"2019-08-14"},{"$f":"IF($B6=\"\",\"\",$B6+2)","v":"2019-08-19"}]
[null,"2019-08-24",3,null,"Prm\\Chp\\FL1\\FL2","Preliminary Rep",null,null,"2019-08-19","2019-08-21","2019-08-26"]
[null,"2019-08-31",4,null,"Prm\\Chp\\FL1\\FL2",null,null,null,"2019-08-26","2019-08-28","2019-09-02"]
[null,"2019-09-07",5,null,"INT\\FL1\\FL2\\NL","Round 1 ",null,null,"2019-09-02","2019-09-04","2019-09-09"]
[null,"2019-09-14",6,null,"Prm\\Chp\\FL1\\FL2","Round 1 Rep",null,null,"2019-09-09","2019-09-11","2019-09-16"]
[null,"2019-09-21",7,"*","Prm\\Chp\\FL1\\FL2",null,null,null,"2019-09-16","2019-09-18","2019-09-23"]
[null,"2019-09-21","8","*","Prm\\Chp\\FL1\\FL2","Round 2",null,null,"2019-09-16","2019-09-18","2019-09-23"]
[null,"2019-09-28","9",null,"Prm\\Chp\\FL1\\FL2","Round 2 Rep",null,null,"2019-09-23","2019-09-25","2019-09-30"]
[null,"2019-10-05","10",null,"INT\\FL1\\FL2\\NL",null,null,null,"2019-09-30","2019-10-02","2019-10-07"]
[null,"2019-10-12","11",null,"Prm\\Chp\\FL1\\FL2","Round 3 ",null,null,"2019-10-07","2019-10-09","2019-10-14"]
[null,"2019-10-19","12",null,"Prm\\Chp\\FL1\\FL2","Round 3 Rep",null,null,"2019-10-14","2019-10-16","2019-10-21"]
[null,"2019-10-26","13",null,"Prm\\Chp\\FAC",null,null,null,"2019-10-21","2019-10-23","2019-10-28"]
[null,"2019-11-02","14",null,"Prm\\Chp\\EFL1&2","Quarter-Final ",null,null,"2019-10-28","2019-10-30","2019-11-04"]
[null,"2019-11-09","15",null,"INT\\FL1\\FL2\\NL","Quarter-Final Rep",null,null,"2019-11-04","2019-11-06","2019-11-11"]
[null,"2019-11-16","16",null,"Prm\\Chp\\FAC","Semi-Final",null,null,"2019-11-11","2019-11-13","2019-11-18"]
[null,"2019-11-23","17",null,"Prm\\Chp\\FL1\\FL2","Semi-Final Rep",null,null,"2019-11-18","2019-11-20","2019-11-25"]
[null,"2019-11-30","18",null,"Prm\\Chp\\FL1\\FL2","Final",null,null,"2019-11-25","2019-11-27","2019-12-02"]
[null,"2019-12-07","19",null,"Prm\\Chp\\FL1\\FL2","Final Rep",null,null,"2019-12-02","2019-12-04","2019-12-09"]
[null,"2019-12-14",20,null,"Prm\\Chp\\FL1\\FL2",null,null,null,"2019-12-09","2019-12-11","2019-12-16"]
[35,2020]
[null,{"$f":"CONCATENATE(\"Season PL\",$A$25,\" (Autumn \",$B$25,\")\")","v":"Season PL35 (Autumn 2020)"},null,null,null,null,null,null,"Weekly actions"]
[null,"Weekend of…","3in! PL\nWeek No.","Double\nWeek?","Competitions","Cup Round",null,null,"Scrape Odds","Issue Odds","Issue Results"]
[null,"2019-08-10",1,null,"Prm\\Chp\\FL1\\FL2",null,null,null,{"$f":"IF($B28=\"\",\"\",$B28-6)","v":"2019-08-04"},{"$f":"IF($B28=\"\",\"\",$B28-4)","v":"2019-08-06"},{"$f":"IF($B28=\"\",\"\",$B28+2)","v":"2019-08-12"}]
[null,"2019-08-17",2,null,"Prm\\Chp\\FL1\\FL2","Preliminary",null,null,{"$f":"IF($B29=\"\",\"\",$B29-6)","v":"2019-08-11"},{"$f":"IF($B29=\"\",\"\",$B29-4)","v":"2019-08-13"},{"$f":"IF($B29=\"\",\"\",$B29+2)","v":"2019-08-19"}]
[null,"2019-08-24",3,null,"Prm\\Chp\\FL1\\FL2","Preliminary Rep",null,null,"2019-08-18","2019-08-20","2019-08-26"]
[null,"2019-08-31",4,null,"Prm\\Chp\\FL1\\FL2",null,null,null,"2019-08-25","2019-08-27","2019-09-02"]
[null,"2019-09-07",5,null,"INT\\FL1\\FL2\\NL","Round 1 ",null,null,"2019-09-01","2019-09-03","2019-09-09"]
[null,"2019-09-14",6,null,"Prm\\Chp\\FL1\\FL2","Round 1 Rep",null,null,"2019-09-08","2019-09-10","2019-09-16"]
[null,"2019-09-21",7,"*","Prm\\Chp\\FL1\\FL2",null,null,null,"2019-09-15","2019-09-17","2019-09-23"]
[null,"2019-09-21","8","*","Prm\\Chp\\FL1\\FL2","Round 2",null,null,"2019-09-15","2019-09-17","2019-09-23"]
[null,"2019-09-28","9",null,"Prm\\Chp\\FL1\\FL2","Round 2 Rep",null,null,"2019-09-22","2019-09-24","2019-09-30"]
[null,"2019-10-05","10",null,"INT\\FL1\\FL2\\NL",null,null,null,"2019-09-29","2019-10-01","2019-10-07"]
[null,"2019-10-12","11",null,"Prm\\Chp\\FL1\\FL2","Round 3 ",null,null,"2019-10-06","2019-10-08","2019-10-14"]
[null,"2019-10-19","12",null,"Prm\\Chp\\FL1\\FL2","Round 3 Rep",null,null,"2019-10-13","2019-10-15","2019-10-21"]
[null,"2019-10-26","13",null,"Prm\\Chp\\FAC",null,null,null,"2019-10-20","2019-10-22","2019-10-28"]
[null,"2019-11-02","14",null,"Prm\\Chp\\EFL1&2","Quarter-Final ",null,null,"2019-10-27","2019-10-29","2019-11-04"]
[null,"2019-11-09","15",null,"INT\\FL1\\FL2\\NL","Quarter-Final Rep",null,null,"2019-11-03","2019-11-05","2019-11-11"]
[null,"2019-11-16","16",null,"Prm\\Chp\\FAC","Semi-Final",null,null,"2019-11-10","2019-11-12","2019-11-18"]
[null,"2019-11-23","17",null,"Prm\\Chp\\FL1\\FL2","Semi-Final Rep",null,null,"2019-11-17","2019-11-19","2019-11-25"]
[null,"2019-11-30","18",null,"Prm\\Chp\\FL1\\FL2","Final",null,null,"2019-11-24","2019-11-26","2019-12-02"]
[null,"2019-12-07","19",null,"Prm\\Chp\\FL1\\FL2","Final Rep",null,null,"2019-12-01","2019-12-03","2019-12-09"]
[null,"2019-12-14",20,null,"Prm\\Chp\\FL1\\FL2",null,null,null,"2019-12-08","2019-12-10","2019-12-16"]

{"sheet":"Players","index":15,"n_rows":102,"n_cols":22,"rows_kept":102,"cut":false,"hidden":false,"merged":[]}
["Brough-\nForward","Next\nDiv","Resigned?","Prev/Final\nDiv","Prev/FInal\nPos",{"$f":"(COUNTA(C:C)-1)-(COUNTIF(C:C,\"Y\"))","v":68},"Prev\nScore","Total\nCorrect","Week\nScore","Week\nCorrect","Curr\nCarry Over","League\nPlacing","Weekly\nPrize","Cup\nPrize","Total\nWon","Curr End Season\nBalance","Next\nOwed","Next\nPaid","Pre-Next\nPay-outs",null,"Row Labels","Count of 67 "]
[{"$f":"IF(F2=\"\",\"\",Q2-S2+R2)","v":151.35499999999999},"A","N","A",1,"Paul Fairhurst",61.081088379213369,35,-1.3142857142857141,2,28.78,127.575,15,0,142.57499999999999,171.35499999999999,{"$f":"IF(F2=\"\",\"\",P2-20)","v":151.35499999999999},null,null,null,"A",16]
[206.965,"A","N","A",2,"Alick Rocca",41.132048340548337,29,4.6000000000000014,2,115.84,91.125,20,0,111.125,226.965,206.965,null,null,null,"B",16]
[147.98500000000001,"A","N","A",3,"Chris Luck",19.35960784313724,21,11.36,2,87.375,65.61,15,0,80.61,167.98500000000001,147.98500000000001,null,null,null,"C",16]
[44.844999999999999,"A","N","A",4,"Stephen Troop",13.266205908289242,33,9.8095238095238102,3,16.105000000000004,43.74,5,0,48.74,64.844999999999999,44.844999999999999,null,null,null,"D",19]
[51.265000000000001,"A","N","A",5,"Phil Miller",10.224072510822502,27,25.171428571428564,3,30.75,25.515000000000001,15,0,40.515000000000001,71.265000000000001,51.265000000000001,null,null,null,"E",6]
[5.4999999999999716E-2,"A","N","A",6,"Mike Penk",-8.9684830977845635,35,9.8095238095238102,3,9.120000000000001,10.935,0,0,10.935,20.055,5.4999999999999716E-2,null,null,null,"(blank)"]
[-20,"A","N","A",7,"Barry Birchall",-12.464320445349863,28,-3,1,-5,0,5,0,5,0,-20,null,null,null,"Grand Total",73]
[11.18,"A","N","A",8,"Stephen Barr",-14.07083333333334,25,-4.45,1,26.18,0,5,0,5,31.18,11.18]
[-28.25,"A","N","B",1,"Gareth Powell",-23.556502525252526,31,2.2708333333333339,2,-8.25,0,0,0,0,-8.25,-28.25]
[14.545000000000002,"A","N","B",2,"Kevin Carter",-32.585439814814819,19,6.91,2,29.545000000000002,0,5,0,5,34.545000000000002,14.545000000000002]
[65.349999999999994,"A","N","B",3,"Andy Charleston",-38.61475207390648,21,-7,0,75.349999999999994,0,10,0,10,85.35,65.349999999999994]
[-28.97,"A","N","B",4,"Ste Bentley",-52.318484848484857,18,-7,0,-8.9699999999999989,0,0,0,0,-8.9699999999999989,-28.97]
[63.75,"A","N","B",5,"Nigel Heyes",-54.154999999999994,16,-7,0,78.75,0,5,0,5,83.75,63.75]
[26.25,"A","N","B",6,"Steve Baxter",-22.169700854700853,24,-7,0,41.25,0,5,0,5,46.25,26.25]
[-25,"A","N","B",7,"Pete Baron",-22.862219251336899,23,-5,1,-15,0,10,0,10,-5,-25]
[-20,"A","N","B",8,"Mal Stott",-37.151919191919191,22,-7,0,-10,0,10,0,10,0,-20]
[33.375,"B","N","A",9,"Mo Sudell",-17.504233734402856,36,0.5,2,53.375,0,0,0,0,53.375,33.375]
[-10.93,"B","N","A",10,"Paul Fiddler",-17.55121212121211,27,0.40000000000000036,2,-0.92999999999999972,0,10,0,10,9.07,-10.93]
[93.55,"B","N","A",11,"Lennie Bow",164.59714285714284,26,10.777777777777779,3,-6.5,85.05,35,0,120.05,113.55,93.55]
[73.84,"B","N","A",12,"Steve Carter",28.646717171717164,25,0.60000000000000009,2,8.09,60.75,25,0,85.75,93.84,73.84]
[13.740000000000002,"B","N","A",13,"Graham Miller",24.292501498501512,30,1.1285714285714263,2,-20,43.74,10,0,53.74,33.74,13.740000000000002]
[22.659999999999997,"B","N","A",14,"Mark Saunders",22.970029781946444,34,0.26666666666666661,2,8.5,29.16,5,0,34.159999999999997,42.66,22.659999999999997]
[24.045000000000002,"B","N","A",15,"Andy White",-9.3728280542986404,25,6.91,2,17.034999999999997,17.010000000000002,10,0,27.01,44.045000000000002,24.045000000000002]
[-15.515000000000001,"B","N","A",16,"Alan Rogers",-14.675394223423631,28,10.720000000000002,3,-2.8049999999999997,7.29,0,0,7.29,4.4850000000000003,-15.515000000000001]
[47.775000000000006,"B","N","B",9,"Tom Robinson",100.85998015873017,26,-0.89999999999999991,1,0.25,42.524999999999999,25,0,67.525000000000006,67.775000000000006,47.775000000000006]
[45.320000000000007,"B","N","B",11,"Kei Lok Ma",51.294573993907321,34,3.466666666666665,2,23.450000000000003,21.87,20,0,41.870000000000005,65.320000000000007,45.320000000000007]
[25.174999999999997,"B","N","C",1,"Paul Allen",-37.779999999999994,23,-4.5999999999999996,1,35.174999999999997,0,10,0,10,45.174999999999997,25.174999999999997]
[-40,"B","N","C",2,"Rob England",-46.573863636363626,23,-7,0,-20,0,0,0,0,-20,-40]
[88.13,"B","N","C",3,"John Evans",-51.769482750365114,28,6.91,2,108.13,0,0,0,0,108.13,88.13]
[-7.9399999999999977,"B","N","C",4,"Chris Griffin",-56.986694971694973,23,-7,0,12.060000000000002,0,0,0,0,12.060000000000002,-7.9399999999999977]
[-20,"B","N","C",5,"Alfie Davies",-63.143333333333331,12,-3.4,1,-10,0,10,0,10,0,-20]
[-11.370000000000001,"B","N","C",6,"Dave Orrell",-64.975285320739886,20,2.2857142857142847,2,8.629999999999999,0,0,0,0,8.629999999999999,-11.370000000000001]
[{"$f":"IF(F34=\"\",\"\",Q34-S34+R34)","v":-7.3800000000000026},"C","N","B",12,"Mark Bunn",16.591097892187179,39,-0.44444444444444464,2,-6.9600000000000009,14.58,5,0,19.579999999999998,12.619999999999997,{"$f":"IF(F34=\"\",\"\",P34-20)","v":-7.3800000000000026}]
[-22.494999999999997,"C","N","B",13,"Martin Molyneux",16.391882284382287,22,6.91,2,-21,8.5050000000000008,10,0,18.505000000000003,-2.4949999999999974,-22.494999999999997]
[-31.355,"C","N","B",14,"Charlie Griffiths",15.934872814534691,37,-3.6,1,-15,3.645,0,0,3.645,-11.355,-31.355]
[-10.309999999999999,"C","N","B",15,"John Robinson",10.815330169830176,35,-2.3666666666666663,2,-10.309999999999999,0,5,15,20,9.6900000000000013,-10.309999999999999]
[-30,"C","N","B",16,"Oscar Jackson",0.38923076923076749,23,-5.6,1,-15,0,5,0,5,-10,-30]
[-55,"C","N","C",8,"David Dunn",-7.3278968253968175,37,-0.28571428571428648,2,-35,0,0,0,0,-35,-55]
[-26.675000000000001,"C","N","C",9,"Chris Townsend",-10.434081679809974,34,11.428571428571427,3,-11.675000000000001,0,5,0,5,-6.6750000000000007,-26.675000000000001]
[5,"C","N","C",10,"Jack Walsh",-16.158484848484846,20,-5,1,0,0,20,5,25,25,5]
[-12.939999999999998,"C","N","D",1,"Gerard Ventom",-22.501893939393934,24,-3.8,1,2.0600000000000023,0,0,5,5,7.0600000000000023,-12.939999999999998]
[-3.75,"C","N","D",2,"Antony Robinson",-38.619999999999997,18,-4,1,11.25,0,5,0,5,16.25,-3.75]
[-35,"C","N","D",3,"Graeme Holmes",-40.412960539460535,29,0.67857142857142794,2,-15,0,0,0,0,-15,-35]
[-0.625,"C","N","D",4,"Howard Bradley",-45.514368686868693,25,0,2,19.375,0,0,0,0,19.375,-0.625]
[-40,"C","N","D",5,"Nick Blocksidge",-91.574691358024694,14,-7,0,-20,0,0,0,0,-20,-40]
[-40,"C","N","D",6,"Paul Ridgeway",-15.493020117137771,34,-1.7142857142857144,2,-20,0,0,0,0,-20,-40]
[-40,"C","N","D",7,"Gareth Fallows",-16.463535353535349,30,4.071428571428573,3,-20,0,0,0,0,-20,-40]
[-40,"C","N","D",8,"Ben Rosser",-21.329826680672273,25,4.4875000000000007,2,-20,0,0,0,0,-20,-40]
[3.3500000000000014,"D","N","C",11,"Simon Greenhalgh",70.445449250912475,36,-0.66666666666666607,2,-20,28.35,15,0,43.35,23.35,3.3500000000000014]
[55.069999999999993,"D","N","C",12,"Vinny Topping",40.206118237318236,29,-3.8,1,9.82,20.25,20,25,65.25,75.069999999999993,55.069999999999993]
[18.329999999999998,"D","N","C",13,"Paul Adderley",24.969226190476199,27,2.4833333333333343,2,-1.25,14.58,25,0,39.58,38.33,18.329999999999998]
[-20.28,"D","N","C",14,"Sally Williams",-1.6674999999999969,22,-7,0,-20,9.7200000000000006,10,0,19.72,-0.28000000000000114,-20.28]
[-24.33,"D","N","C",15,"Paul Barnes",-8.726694971694986,27,-1.1428571428571432,2,-20,5.67,10,0,15.67,-4.33,-24.33]
[-27.57,"D","N","C",16,"Aaron Sudell",-13.226037975912986,22,-7,0,-20,2.4300000000000002,10,0,12.43,-7.57,-27.57]
[-35,"D","N","D",9,"Ian Davies",-25.094594017094014,21,-4.45,1,-20,0,5,0,5,-15,-35]
[-35,"D","N","D",10,"Dan Baxter",-30.674790209790203,22,-7,0,-20,0,5,0,5,-15,-35]
[-35,"D","N","D",11,"Ashley Houghton",-41.869027777777781,23,7.8437500000000018,3,-20,0,5,0,5,-15,-35]
[-30,"D","N","D",12,"Liam Wah",-47.766168831168834,20,-4.6500000000000004,1,-20,0,10,0,10,-10,-30]
[-40,"D","N","D",13,"Martin Tarbuck",-58.080492424242422,23,-7,0,-20,0,0,0,0,-20,-40]
[-40,"D","N","D",14,"Chris Bow",-70.759396019013664,18,-7,0,-20,0,0,0,0,-20,-40]
[-35,"D","N","D",15,"James Bell",-70.821666666666658,17,-4,1,-20,0,5,0,5,-15,-35]
[-35,"D","N","D",16,"John Ronan",-91.5,3,-7,0,-20,0,5,0,5,-15,-35]
[0,"D","N","D",17,"Dave Bell"]
[0,"D","X",null,null,"Joel Bent"]
[{"$f":"IF(F66=\"\",\"\",Q66-S66+R66)","v":0},"D","X",null,null,"Gareth McGuire"]
[0,"D","X",null,null,"Lewis Buckley"]
[0,"D","X",null,null,"Alan White"]
[{"$f":"IF(F69=\"\",\"\",Q69-S69+R69)","v":0},"D","X",null,null,"Andy Clucas"]
[0.5,"E","Y","A",16,"Paul Hooton",-77.992355699855693,20,-4.625,1,20.5,0,0,0,0,20.5,{"$f":"IF(F70=\"\",\"\",P70-20)","v":0.5}]
[42.125,"E","Y","B",10,"John Brown",56.937402148356696,40,-1.8285714285714292,2,11.75,30.375,20,0,50.375,62.125,42.125]
[10.125,"E","Y","C",7,"Phil Brown",-79.659821428571433,16,3.7249999999999996,2,30.125,0,0,0,0,30.125,10.125]
[-35,"E","Y","D",7,"Ian James",-14.346494599676411,34,0.26666666666666661,2,-20,0,5,0,5,-15,-35]
[-30,"E","Y","D",10,"Lee Jeffrey",-16.724721548292976,28,-5.4,1,-20,0,10,0,10,-10,-30]
[-40,"E","Y","D",15,"Ian Bentley",-44.482821284108041,22,-7,0,-20,0,0,0,0,-20,-40]
[""]
[""]
[""]
[""]
["",null,null,null,null,null,null,null,null,null,null,null,null,null,null,null,{"$f":"IF(F80=\"\",\"\",P80-20)","v":""}]
["",null,null,null,null,null,null,null,null,null,null,null,null,null,null,null,""]
["",null,null,null,null,null,null,null,null,null,null,null,null,null,null,null,""]
["",null,null,null,null,null,null,null,null,null,null,null,null,null,null,null,""]
["",null,null,null,null,null,null,null,null,null,null,null,null,null,null,null,""]
["",null,null,null,null,null,null,null,null,null,null,null,null,null,null,null,""]
["",null,null,null,null,null,null,null,null,null,null,null,null,null,null,null,""]
["",null,null,null,null,null,null,null,null,null,null,null,null,null,null,null,""]
["",null,null,null,null,null,null,null,null,null,null,null,null,null,null,null,""]
["",null,null,null,null,null,null,null,null,null,null,null,null,null,null,null,""]
["",null,null,null,null,null,null,null,null,null,null,null,null,null,null,null,""]
["",null,null,null,null,null,null,null,null,null,null,null,null,null,null,null,""]
["",null,null,null,null,null,null,null,null,null,null,null,null,null,null,null,""]
["",null,null,null,null,null,null,null,null,null,null,null,null,null,null,null,""]
["",null,null,null,null,null,null,null,null,null,null,null,null,null,null,null,""]
["",null,null,null,null,null,null,null,null,null,null,null,null,null,null,null,""]
["",null,null,null,null,null,null,null,null,null,null,null,null,null,null,null,""]
["",null,null,null,null,null,null,null,null,null,null,null,null,null,null,null,""]
["",null,null,null,null,null,null,null,null,null,null,null,null,null,null,null,""]
["",null,null,null,null,null,null,null,null,null,null,null,null,null,null,null,""]
["",null,null,null,null,null,null,null,null,null,null,null,null,null,null,null,""]
["",null,null,null,null,null,null,null,null,null,null,null,null,null,null,null,""]
["",null,null,null,null,null,null,null,null,null,null,null,null,null,null,null,""]

{"sheet":"Prizelist","index":16,"n_rows":26,"n_cols":2,"rows_kept":26,"cut":false,"hidden":false,"merged":[]}
["No of Entrants:",68]
["Fee pp per season",20]
["Fees collected:",{"$f":"B1*B2","v":1360}]
[]
["Number of weeks",20]
["Number of £10 highest weekly score prize",1]
["Number of £5 weekly prizes",3]
["Weekly payouts",{"$f":"(B7*5*B5)+(B6*10*B5)","v":500}]
[]
["Cup winner",25]
["Cup runner-up",15]
["Cup semi-finalists",10]
["Cup payouts",{"$f":"SUM(B10:B12)","v":50}]
[]
["Div A top 6 places (35%/25/18/12/7/3)",{"$f":"Prizes!I2","v":364.5}]
["Div B top 6 places (35%/25/18/12/7/3)",{"$f":"Prizes!I3","v":243}]
["Div C top 6 places (35%/25/18/12/7/3)",{"$f":"Prizes!I4","v":121.5}]
["Div D top 6 places (35%/25/18/12/7/3)",{"$f":"Prizes!I5","v":81}]
[]
["End of season place prices",{"$f":"SUM(B15:B19)","v":810}]
[]
["Fund deductions (eg, non-payers)",0]
[]
["Final placing payouts",{"$f":"B20-B22","v":810}]
[]
["Balance",{"$f":"B3-B8-B13-B20-B22","v":0}]

{"sheet":"Prizes","index":17,"n_rows":101,"n_cols":13,"rows_kept":101,"cut":false,"hidden":false,"merged":[]}
["Menu!A1","Division","Position","Division Pot %","Position%","Div Pot",null,"Total",{"$f":"M2-550","v":810},null,"Division","% of pot","Fees"]
[{"$f":"CONCATENATE(B2,C2)","v":"A1"},"A",1,45,35,{"$f":"PotA*E2/100","v":127.575},null,"Div A",{"$f":"pot*0.45","v":364.5},null,1,45,{"$f":"entrants*20","v":1360}]
[{"$f":"CONCATENATE(B3,C3)","v":"A2"},"A",2,null,25,91.125,null,"Div B",{"$f":"pot*0.3","v":243},null,2,30]
["A3","A",3,null,18,65.61,null,"Div C",{"$f":"pot*0.15","v":121.5},null,3,15]
["A4","A",4,null,12,43.74,null,"Div D",{"$f":"pot*0.1","v":81},null,4,10]
["A5","A",5,null,7,25.515000000000001,null,null,null,null,null,{"$f":"SUM(L2:L5)","v":100}]
["A6","A",6,null,3,10.935]
["A7","A",7,null,null,0]
["A8","A",8,null,null,0]
["A9","A",9,null,null,0]
["A10","A",10,null,null,0]
["A11","A",11,null,null,0]
["A12","A",12,null,null,0]
["A13","A",13,null,null,0]
["A14","A",14,null,null,0]
["A15","A",15,null,null,0]
["A16","A",16,null,null,0]
["B1","B",1,30,35,{"$f":"PotB*E18/100","v":85.05}]
["B2","B",2,null,25,60.75]
["B3","B",3,null,18,43.74]
["B4","B",4,null,12,29.16]
["B5","B",5,null,7,17.010000000000002]
["B6","B",6,null,3,7.29]
["B7","B",7,null,null,0]
["B8","B",8,null,null,0]
["B9","B",9,null,null,0]
["B10","B",10,null,null,0]
["B11","B",11,null,null,0]
["B12","B",12,null,null,0]
["B13","B",13,null,null,0]
["B14","B",14,null,null,0]
["B15","B",15,null,null,0]
["B16","B",16,null,null,0]
["C1","C",1,15,35,{"$f":"PotC*E34/100","v":42.524999999999999}]
["C2","C",2,null,25,30.375]
["C3","C",3,null,18,21.87]
["C4","C",4,null,12,14.58]
["C5","C",5,null,7,8.5050000000000008]
["C6","C",6,null,3,3.645]
["C7","C",7,null,null,0]
["C8","C",8,null,null,0]
["C9","C",9,null,null,0]
["C10","C",10,null,null,0]
["C11","C",11,null,null,0]
["C12","C",12,null,null,0]
["C13","C",13,null,null,0]
["C14","C",14,null,null,0]
["C15","C",15,null,null,0]
["C16","C",16,null,null,0]
["D1","D",1,10,35,{"$f":"PotD*E50/100","v":28.35}]
["D2","D",2,null,25,20.25]
["D3","D",3,null,18,14.58]
["D4","D",4,null,12,9.7200000000000006]
["D5","D",5,null,7,5.67]
["D6","D",6,null,3,2.4300000000000002]
["D7","D",7,null,null,0]
["D8","D",8,null,null,0]
["D9","D",9,null,null,0]
["D10","D",10,null,null,0]
["D11","D",11,null,null,0]
["D12","D",12,null,null,0]
["D13","D",13,null,null,0]
["D14","D",14,null,null,0]
[{"$f":"CONCATENATE(B64,C64)","v":"D15"},"D",15,null,null,0]
["D16","D",16,null,null,0]
["D17","D",17,null,null,0]
["D18","D",18,null,null,0]
["D19","D",19,null,null,0]
["D20","D",20,null,null,0]
["D21","D",21,null,null,0]
["D22","D",22,null,null,0]
["D23","D",23,null,null,0]
["D24","D",24,null,null,0]
["D25","D",25,null,null,0]
["D26","D",26,null,null,0]
["D27","D",27,null,null,0]
["D28","D",28,null,null,0]
["D29","D",29,null,null,0]
["D30","D",30,null,null,0]
["D31","D",31,null,null,0]
["D32","D",32,null,null,0]
["D33","D",33,null,null,0]
["D34","D",34,null,null,0]
["D35","D",35,null,null,0]
["D36","D",36,null,null,0]
["D37","D",37,null,null,0]
["D38","D",38,null,null,0]
["D39","D",39,null,null,0]
["D40","D",40,null,null,0]
["D41","D",41,null,null,0]
["D42","D",42,null,null,0]
["D43","D",43,null,null,0]
["D44","D",44,null,null,0]
["D45","D",45,null,null,0]
["D46","D",46,null,null,0]
["D47","D",47,null,null,0]
["D48","D",48,null,null,0]
["D49","D",49,null,null,0]
["D50","D",50,null,null,0]
["D51","D",51,null,null,0]
["D52","D",52,null,null,0]

{"sheet":"MiniLeagues","index":18,"n_rows":30,"n_cols":12,"rows_kept":30,"cut":false,"hidden":false,"merged":[]}
[null,"Total\nScore","Total\nCorrect","Max Score\nThis Week","Act Score\nThis Week","Week\nCorrect","Week\nRank",null,null,"Max Score\nThis Week","Act Score\nThis Week","Season\nSo Far"]
["Andy Charleston",{"$f":"IF(A2=\"\",\"\",INDEX(Table!G:G,MATCH(A2,Table!$F:$F,0)))","v":-5.73},{"$f":"IF(A2=\"\",\"\",INDEX(Table!H:H,MATCH(A2,Table!$F:$F,0)))","v":1},{"$f":"IF(A2=\"\",\"\",IF(ISERROR(INDEX(Results!AI:AI,MATCH(A2,Results!$V:$V,0))),\"TBC\",INDEX(Results!AI:AI,MATCH(A2,Results!$V:$V,0))))","v":11.210578512396694},{"$f":"IF(A2=\"\",\"\",INDEX(Table!I:I,MATCH(A2,Table!$F:$F,0)))","v":-5.73},{"$f":"IF(A2=\"\",\"\",INDEX(Table!J:J,MATCH(A2,Table!$F:$F,0)))","v":1},{"$f":"IF(A2=\"\",\"\",INDEX(Picks!AF:AF,MATCH(A2,Picks!$AC:$AC,0)))","v":46},null,"John Evans",{"$f":"IF(I2=\"\",\"\",IF(ISERROR(INDEX(Results!AI:AI,MATCH(I2,Results!$V:$V,0))),\"TBC\",INDEX(Results!AI:AI,MATCH(I2,Results!$V:$V,0))))","v":36.493333333333325},{"$f":"IF(I2=\"\",\"\",IF(ISERROR(INDEX(Results!T:T,MATCH(I2,Results!$V:$V,0))),\"TBC\",INDEX(Results!T:T,MATCH(I2,Results!$V:$V,0))))","v":-5.3333333333333339},{"$f":"IF(I2=\"\",\"\",INDEX(Table!G:G,MATCH(I2,Table!$F:$F,0)))","v":-5.3333333333333339}]
["John Evans",{"$f":"IF(A3=\"\",\"\",INDEX(Table!G:G,MATCH(A3,Table!$F:$F,0)))","v":-5.3333333333333339},{"$f":"IF(A3=\"\",\"\",INDEX(Table!H:H,MATCH(A3,Table!$F:$F,0)))","v":1},{"$f":"IF(A3=\"\",\"\",IF(ISERROR(INDEX(Results!AI:AI,MATCH(A3,Results!$V:$V,0))),\"TBC\",INDEX(Results!AI:AI,MATCH(A3,Results!$V:$V,0))))","v":36.493333333333325},{"$f":"IF(A3=\"\",\"\",INDEX(Table!I:I,MATCH(A3,Table!$F:$F,0)))","v":-5.3333333333333339},{"$f":"IF(A3=\"\",\"\",INDEX(Table!J:J,MATCH(A3,Table!$F:$F,0)))","v":1},{"$f":"IF(A3=\"\",\"\",INDEX(Picks!AF:AF,MATCH(A3,Picks!$AC:$AC,0)))","v":43},null,"Chris Griffin",{"$f":"IF(I3=\"\",\"\",IF(ISERROR(INDEX(Results!AI:AI,MATCH(I3,Results!$V:$V,0))),\"TBC\",INDEX(Results!AI:AI,MATCH(I3,Results!$V:$V,0))))","v":15.643899999999999},{"$f":"IF(I3=\"\",\"\",IF(ISERROR(INDEX(Results!T:T,MATCH(I3,Results!$V:$V,0))),\"TBC\",INDEX(Results!T:T,MATCH(I3,Results!$V:$V,0))))","v":-5.22},{"$f":"IF(I3=\"\",\"\",INDEX(Table!G:G,MATCH(I3,Table!$F:$F,0)))","v":-5.22}]
["Chris Griffin",{"$f":"IF(A4=\"\",\"\",INDEX(Table!G:G,MATCH(A4,Table!$F:$F,0)))","v":-5.22},{"$f":"IF(A4=\"\",\"\",INDEX(Table!H:H,MATCH(A4,Table!$F:$F,0)))","v":1},{"$f":"IF(A4=\"\",\"\",IF(ISERROR(INDEX(Results!AI:AI,MATCH(A4,Results!$V:$V,0))),\"TBC\",INDEX(Results!AI:AI,MATCH(A4,Results!$V:$V,0))))","v":15.643899999999999},{"$f":"IF(A4=\"\",\"\",INDEX(Table!I:I,MATCH(A4,Table!$F:$F,0)))","v":-5.22},{"$f":"IF(A4=\"\",\"\",INDEX(Table!J:J,MATCH(A4,Table!$F:$F,0)))","v":1},{"$f":"IF(A4=\"\",\"\",INDEX(Picks!AF:AF,MATCH(A4,Picks!$AC:$AC,0)))","v":39},null,"Paul Fiddler",{"$f":"IF(I4=\"\",\"\",IF(ISERROR(INDEX(Results!AI:AI,MATCH(I4,Results!$V:$V,0))),\"TBC\",INDEX(Results!AI:AI,MATCH(I4,Results!$V:$V,0))))","v":37.155249999999995},{"$f":"IF(I4=\"\",\"\",IF(ISERROR(INDEX(Results!T:T,MATCH(I4,Results!$V:$V,0))),\"TBC\",INDEX(Results!T:T,MATCH(I4,Results!$V:$V,0))))","v":-4.95},{"$f":"IF(I4=\"\",\"\",INDEX(Table!G:G,MATCH(I4,Table!$F:$F,0)))","v":-4.95}]
["Mo Sudell",{"$f":"IF(A5=\"\",\"\",INDEX(Table!G:G,MATCH(A5,Table!$F:$F,0)))","v":-4.5},{"$f":"IF(A5=\"\",\"\",INDEX(Table!H:H,MATCH(A5,Table!$F:$F,0)))","v":1},{"$f":"IF(A5=\"\",\"\",IF(ISERROR(INDEX(Results!AI:AI,MATCH(A5,Results!$V:$V,0))),\"TBC\",INDEX(Results!AI:AI,MATCH(A5,Results!$V:$V,0))))","v":17.515000000000001},{"$f":"IF(A5=\"\",\"\",INDEX(Table!I:I,MATCH(A5,Table!$F:$F,0)))","v":-4.5},{"$f":"IF(A5=\"\",\"\",INDEX(Table!J:J,MATCH(A5,Table!$F:$F,0)))","v":1},{"$f":"IF(A5=\"\",\"\",INDEX(Picks!AF:AF,MATCH(A5,Picks!$AC:$AC,0)))","v":26},null,"Mo Sudell",{"$f":"IF(I5=\"\",\"\",IF(ISERROR(INDEX(Results!AI:AI,MATCH(I5,Results!$V:$V,0))),\"TBC\",INDEX(Results!AI:AI,MATCH(I5,Results!$V:$V,0))))","v":17.515000000000001},{"$f":"IF(I5=\"\",\"\",IF(ISERROR(INDEX(Results!T:T,MATCH(I5,Results!$V:$V,0))),\"TBC\",INDEX(Results!T:T,MATCH(I5,Results!$V:$V,0))))","v":-4.5},{"$f":"IF(I5=\"\",\"\",INDEX(Table!G:G,MATCH(I5,Table!$F:$F,0)))","v":-4.5}]
["Paul Fiddler",{"$f":"IF(A6=\"\",\"\",INDEX(Table!G:G,MATCH(A6,Table!$F:$F,0)))","v":-4.95},{"$f":"IF(A6=\"\",\"\",INDEX(Table!H:H,MATCH(A6,Table!$F:$F,0)))","v":1},{"$f":"IF(A6=\"\",\"\",IF(ISERROR(INDEX(Results!AI:AI,MATCH(A6,Results!$V:$V,0))),\"TBC\",INDEX(Results!AI:AI,MATCH(A6,Results!$V:$V,0))))","v":37.155249999999995},{"$f":"IF(A6=\"\",\"\",INDEX(Table!I:I,MATCH(A6,Table!$F:$F,0)))","v":-4.95},{"$f":"IF(A6=\"\",\"\",INDEX(Table!J:J,MATCH(A6,Table!$F:$F,0)))","v":1},{"$f":"IF(A6=\"\",\"\",INDEX(Picks!AF:AF,MATCH(A6,Picks!$AC:$AC,0)))","v":30},null,"Andy Charleston",{"$f":"IF(I6=\"\",\"\",IF(ISERROR(INDEX(Results!AI:AI,MATCH(I6,Results!$V:$V,0))),\"TBC\",INDEX(Results!AI:AI,MATCH(I6,Results!$V:$V,0))))","v":11.210578512396694},{"$f":"IF(I6=\"\",\"\",IF(ISERROR(INDEX(Results!T:T,MATCH(I6,Results!$V:$V,0))),\"TBC\",INDEX(Results!T:T,MATCH(I6,Results!$V:$V,0))))","v":-5.73},{"$f":"IF(I6=\"\",\"\",INDEX(Table!G:G,MATCH(I6,Table!$F:$F,0)))","v":-5.73}]
[null,null,{"$f":"IF(A7=\"\",\"\",INDEX(Table!H:H,MATCH(A7,Table!$F:$F,0)))","v":""}]
[null,null,{"$f":"IF(A8=\"\",\"\",INDEX(Table!H:H,MATCH(A8,Table!$F:$F,0)))","v":""}]
[null,null,{"$f":"IF(A9=\"\",\"\",INDEX(Table!H:H,MATCH(A9,Table!$F:$F,0)))","v":""}]
[null,null,{"$f":"IF(A10=\"\",\"\",INDEX(Table!H:H,MATCH(A10,Table!$F:$F,0)))","v":""}]
[null,null,{"$f":"IF(A11=\"\",\"\",INDEX(Table!H:H,MATCH(A11,Table!$F:$F,0)))","v":""}]
[null,null,{"$f":"IF(A12=\"\",\"\",INDEX(Table!H:H,MATCH(A12,Table!$F:$F,0)))","v":""}]
[null,null,{"$f":"IF(A13=\"\",\"\",INDEX(Table!H:H,MATCH(A13,Table!$F:$F,0)))","v":""}]
[null,null,{"$f":"IF(A14=\"\",\"\",INDEX(Table!H:H,MATCH(A14,Table!$F:$F,0)))","v":""}]
[null,null,{"$f":"IF(A15=\"\",\"\",INDEX(Table!H:H,MATCH(A15,Table!$F:$F,0)))","v":""}]
[null,null,{"$f":"IF(A16=\"\",\"\",INDEX(Table!H:H,MATCH(A16,Table!$F:$F,0)))","v":""}]
[null,null,{"$f":"IF(A17=\"\",\"\",INDEX(Table!H:H,MATCH(A17,Table!$F:$F,0)))","v":""}]
[null,null,{"$f":"IF(A18=\"\",\"\",INDEX(Table!H:H,MATCH(A18,Table!$F:$F,0)))","v":""}]
[null,null,{"$f":"IF(A19=\"\",\"\",INDEX(Table!H:H,MATCH(A19,Table!$F:$F,0)))","v":""}]
[null,null,{"$f":"IF(A20=\"\",\"\",INDEX(Table!H:H,MATCH(A20,Table!$F:$F,0)))","v":""}]
[null,null,{"$f":"IF(A21=\"\",\"\",INDEX(Table!H:H,MATCH(A21,Table!$F:$F,0)))","v":""}]
[null,null,{"$f":"IF(A22=\"\",\"\",INDEX(Table!H:H,MATCH(A22,Table!$F:$F,0)))","v":""}]
[null,null,{"$f":"IF(A23=\"\",\"\",INDEX(Table!H:H,MATCH(A23,Table!$F:$F,0)))","v":""}]
[null,null,{"$f":"IF(A24=\"\",\"\",INDEX(Table!H:H,MATCH(A24,Table!$F:$F,0)))","v":""}]
[null,null,{"$f":"IF(A25=\"\",\"\",INDEX(Table!H:H,MATCH(A25,Table!$F:$F,0)))","v":""}]
[null,null,{"$f":"IF(A26=\"\",\"\",INDEX(Table!H:H,MATCH(A26,Table!$F:$F,0)))","v":""}]
[null,null,{"$f":"IF(A27=\"\",\"\",INDEX(Table!H:H,MATCH(A27,Table!$F:$F,0)))","v":""}]
[null,null,{"$f":"IF(A28=\"\",\"\",INDEX(Table!H:H,MATCH(A28,Table!$F:$F,0)))","v":""}]
[null,null,{"$f":"IF(A29=\"\",\"\",INDEX(Table!H:H,MATCH(A29,Table!$F:$F,0)))","v":""}]
[null,null,{"$f":"IF(A30=\"\",\"\",INDEX(Table!H:H,MATCH(A30,Table!$F:$F,0)))","v":""}]

{"sheet":"FAQ","index":19,"n_rows":76,"n_cols":2,"rows_kept":76,"cut":false,"hidden":false,"merged":[]}
["Menu!A1"]
[null,"So, what is the 3in! Prediction League? Basically, each player in the league chooses just three matches from the weekend’s fixture list and predicts whether they will be a home win, an away win or a draw. You score points based on how correct your three predictions turn out to be and the match odds published by William Hills."]
[]
[null,"How does the scoring actually work? Your three predictions are entered as a Patent bet, which means you get three singles, three doubles, and a treble. So, you have seven bets in total.  (If you went into a bookies and placed a £1 patent bet it would cost you £7, £1 for each bet). What you would stake and win with a real bookie with this bet, we convert to virtual money, or points, in the Prediction League."]
[]
[null,"Then what? Basically, you total the decimal odds of all your winning bets and that becomes your points score for the week. The more of your three predictions you get right, the higher your win will be and so will your score. Also, if you pick matches with higher odds and predict the correct result, you will score more points."]
[]
[null,"Hmmm, I’m still not really getting it! Right, here’s an example below. The fractional odds are converted to decimal – for example, the 9/4 for a Bristol City draw becomes 2.25 to which you add your virtual £1 stake, so 3.25. Do the same with the other two bets to calculate the three single bet values. The bookie calculates the odds for the three doubles and the treble but I am not sufficiently geeky to know how they do that."]
[]
[null,"The table below shows what you would score if you predicted all three matches correctly; add up the 7 bet scores – 59.99 – and subtract the £7 stake to arrive at 52.99."]
[]
[]
[]
[]
[]
[]
[]
[]
[null,"Here’s what happens if you get the Bristol City prediction wrong…"]
[]
[]
[]
[]
[]
[]
[]
[]
[null,"… and if you get you only get the Sunderland one right, your score gets even lower, into negative numbers…"]
[]
[]
[]
[]
[]
[]
[]
[]
[null,"… and if, like me in most weeks, you get all three wrong, then you score a big fat -7.00… "]
[]
[]
[]
[]
[]
[]
[]
[]
[null,"OK, got it. So, when does it start and how long does it last? The 3in! season lasts for 20 weeks.  We have two PL seasons in one regular football season, one before Christmas and one after. The weekly schedule is published on the website."]
[]
[null,"Which fixtures can I choose from? Each week you will receive an email listing the fixture list. This will normally be the fixtures from the top four English leagues played on Friday, Saturday and Sunday. Sometimes, there list may also include international matches or FA Cup matches. There will be between 40 and 46 matches to choose from."]
[]
[null,"How do I submit predictions? If you are predicting a win, I just need the team name exactly as it appears in the fixture list. If you are predicting a draw, I just need the home team name exactly as it appears in the fixture list plus the word “draw”. In fact, just as you can see in the examples above, with each of the three predictions on a separate line."]
[]
[null,"Why do you need the team name to be exactly as it appears in the fixture list? Because, it helps me to cut and paste them directly into my system and if you give me anything different I have to start typing things manually. With almost 100 sets of predictions to deal with each week, that becomes a pain in the arse. So, just do it right, please! Do not get creative with the names of the teams or the format of the predictions submission.  If it says “Tottenham” that’s what I want to see – not “Tottenham Hotspur” or “Spurs” or “Tott’ham” or “Tottenham H”. Just plain old “Tottenham” please."]
[]
[null,"Can I send them via text instead? Only in an emergency, please don’t make a habit of it! There is more chance of me not missing your entry if you reply to the original email fixtures list.  If you lose the email, the fixtures are always on the Next Odds page of the website."]
[]
[null,"Is there a deadline by which I have to submit each week? No, not specifically. You have up until a match kicks off to predict its result so you could miss all of Saturday’s main fixture list and rely on the Sunday games. You just have to hope that there are at least three games on the Sunday or your chances of scoring big are reduced accordingly."]
[]
[null,"What if a cup game goes to extra time and penalties? Bookies odds are generally based on the score at 90 minutes so we go with that."]
[]
[null,"What if a game is postponed? If one or more of your three selections is postponed then your Patent bet permutations are again reduced accordingly. Again, I don’t pretend to understand exactly how the bookies calculate this but I have a formula that does it for me. Basically it means that your maximum win or loss will be reduced. If all three of your selections are postponed, you should give serious consideration to packing it all in."]
[]
[null,"Can I change my predictions after I have submitted them? It’s a brave man (or woman) that does so but yes, provided the new matches you select haven’t yet kicked off you can change your mind. I will always take your latest submission – you’ll be amazed how many people send in three pcks, completely forget that have done so and the send in three completey different new ones. I never ask questions, I just take your most recent predictions in good faith."]
[]
[null,"Will I receive a confirmation that you have received my predictions? Definitely not! With 90 sets of predictions to process I don’t have the time. But, if you reply to the official fixture list email and you don’t receive a failure, you can safely assume I have got it."]
[]
[null,"Will you send me a reminder if I haven’t sent you any predictions? Er, what do you think? No, I won’t. You’re a grown adult, sort your life out."]
[]
[null,"How much does it cost to enter? It’s £1 per week, so £20 for the season. Then we start again in January if you’re still with us."]
[]
[null,"How much can I win? There are weekly prizes of £25 to the highest four score of the week – £10 to the highest scorer and three times £5 to the next three highest. The top 25 players at the end of the 20 weeks share the rest of the fund between them. 100% of entry fees are re-distributed as prizes. The breakdown of the prize fund is listed on the Diary page of the website."]
[]
[null,"Do I have to pay my £20 before I can join? No. You will start £20 in debt and, at the end of the year, we will nett off any prizes and collect/pay out the balance. Except if you are brand new to the League in which case we ask you to pay your £20 by Week 3 of your first season. As a gesture of goodwill, more than anything else."]
[]
[null,"How can I find out how I am doing as the season progresses? Update tables and stats are published on a weekly basis on the News section of the website and you will receive an email notifying you when the updates have been made."]
[]
[null,"Can I change the email address you send the updates to? Yes, you can unsubscribe your existing email address or add a new one here."]

{"sheet":"PizzaRace","index":20,"n_rows":50,"n_cols":23,"rows_kept":50,"cut":false,"hidden":false,"merged":[]}
[]
[null,null,null,null,null,null,null,null,null,null,null,null,null,null,"-7.00"]
[null,"Paul Fiddler",null,null,null,null,null,null,null,null,null,"Wk 19: ",{"$f":"INDEX(Table!G:G,MATCH(B3,Table!F:F,0))","v":-4.95},null,{"$f":"M3-7","v":-11.95}]
[null,null,"Prediction","Odds -","Odds - ","Odds - ","Prediction",null,null,null,null,"Single 1","Single 2",null,{"$f":"IF(K4=0,0,1)+K4","v":0},null,null,null,null,null,null,"Andy Charleston","Portsmouth"]
[null,null,"Correct?","Fraction","decimal","decimal","Correct",null,{"$f":"F6","v":0.27},{"$f":"F7","v":{"$error":"#N/A"}},{"$f":"F8","v":3},{"$f":"IF(I5=0,0,1)+I5","v":1.27},{"$f":"IF(J5=0,0,1)+J5","v":{"$error":"#N/A"}},null,{"$f":"IF(K5=0,0,1)+K5","v":4},{"$f":"IF(J5=0,0,(L5*J5)+L5)","v":{"$error":"#N/A"}},{"$f":"IF(K5=0,0,(M5*K5)+M5)","v":{"$error":"#N/A"}},{"$f":"IF(I5=0,0,(O5*I5)+O5)","v":5.08},{"$f":"IF(K5=0,0,(P5*K5)+P5)","v":{"$error":"#N/A"}},null,null,"Andy Charleston","Doncaster"]
[null,"Spurs","√",{"$f":"INDEX(Picks!C:C,MATCH(B6,Picks!B:B,0))","v":"27/100"},{"$f":"INDEX(Picks!D:D,MATCH(B6,Picks!B:B,0))","v":1.27},{"$f":"+((E6-1)*G6)","v":0.27},1,null,null,null,null,null,null,null,null,null,null,null,null,null,null,"Andy Charleston","Wigan"]
[null,"Sunderland","√",{"$f":"INDEX(Picks!C:C,MATCH(B7,Picks!B:B,0))","v":{"$error":"#N/A"}},{"$f":"INDEX(Picks!D:D,MATCH(B7,Picks!B:B,0))","v":{"$error":"#N/A"}},{"$f":"+((E7-1)*G7)","v":{"$error":"#N/A"}},1,null,null,null,null,"Correct","Score",null,"Final",null,null,null,null,null,null,"Chris Griffin","Wigan"]
[null,"Sheff U","√",{"$f":"INDEX(Picks!C:C,MATCH(B8,Picks!B:B,0))","v":"3/1"},{"$f":"INDEX(Picks!D:D,MATCH(B8,Picks!B:B,0))","v":4},{"$f":"+((E8-1)*G8)","v":3},1,null,null,null,null,{"$f":"SUM(G6:G8)","v":3},{"$f":"SUM(L5:S5)-7","v":{"$error":"#N/A"}},null,{"$f":"$M$3+M8","v":{"$error":"#N/A"}},null,null,null,null,null,null,"Chris Griffin","Sunderland"]
[null,null,null,null,null,null,null,null,null,null,null,null,null,null,null,null,null,null,null,null,null,"Chris Griffin","Reading draw"]
[null,null,null,null,null,null,null,null,null,null,null,null,null,null,null,null,null,null,null,null,null,"John Evans","West Ham"]
[null,null,"Prediction","Odds -","Odds - ","Odds - ","Prediction",null,null,null,null,"Single 1","Single 2",null,"Single 3","Double 1","Double 2","Double 3","Treble",null,null,"John Evans","Wycombe"]
[null,null,"Correct?","Fraction","decimal","decimal","Correct",null,{"$f":"F13","v":0.27},{"$f":"F14","v":{"$error":"#N/A"}},{"$f":"F15","v":0},{"$f":"IF(I12=0,0,1)+I12","v":1.27},{"$f":"IF(J12=0,0,1)+J12","v":{"$error":"#N/A"}},null,{"$f":"IF(K12=0,0,1)+K12","v":0},{"$f":"IF(J12=0,0,(L12*J12)+L12)","v":{"$error":"#N/A"}},{"$f":"IF(K12=0,0,(M12*K12)+M12)","v":0},{"$f":"IF(I12=0,0,(O12*I12)+O12)","v":0},{"$f":"IF(K12=0,0,(P12*K12)+P12)","v":0},null,null,"John Evans","Wigan"]
[null,{"$f":"game1","v":"Spurs"},"√",{"$f":"INDEX(Picks!C:C,MATCH(B13,Picks!B:B,0))","v":"27/100"},{"$f":"INDEX(Picks!D:D,MATCH(B13,Picks!B:B,0))","v":1.27},{"$f":"+((E13-1)*G13)","v":0.27},1,null,null,null,null,null,null,null,null,null,null,null,null,null,null,"Mo Sudell","Villa"]
[null,{"$f":"game2","v":"Sunderland"},"√",{"$f":"INDEX(Picks!C:C,MATCH(B14,Picks!B:B,0))","v":{"$error":"#N/A"}},{"$f":"INDEX(Picks!D:D,MATCH(B14,Picks!B:B,0))","v":{"$error":"#N/A"}},{"$f":"+((E14-1)*G14)","v":{"$error":"#N/A"}},1,null,null,null,null,"Correct","Score",null,"Final",null,null,null,null,null,null,"Mo Sudell","Wigan"]
[null,{"$f":"game3","v":"Sheff U"},"x",{"$f":"INDEX(Picks!C:C,MATCH(B15,Picks!B:B,0))","v":"3/1"},{"$f":"INDEX(Picks!D:D,MATCH(B15,Picks!B:B,0))","v":4},{"$f":"+((E15-1)*G15)","v":0},0,null,null,null,null,{"$f":"SUM(G13:G15)","v":2},{"$f":"SUM(L12:S12)-7","v":{"$error":"#N/A"}},null,{"$f":"$M$3+M15","v":{"$error":"#N/A"}},null,null,null,null,null,null,"Mo Sudell","Sheff U"]
[null,null,null,null,null,null,null,null,null,null,null,null,null,null,null,null,null,null,null,null,null,"Paul Fiddler","Spurs"]
[null,null,null,"`",null,null,null,null,null,null,null,null,null,null,null,null,null,null,null,null,null,"Paul Fiddler","Sunderland"]
[null,null,"Prediction","Odds -","Odds - ","Odds - ","Prediction",null,null,null,null,"Single 1","Single 2",null,"Single 3","Double 1","Double 2","Double 3","Treble",null,null,"Paul Fiddler","Sheff U"]
[null,null,"Correct?","Fraction","decimal","decimal","Correct",null,{"$f":"F20","v":0},{"$f":"F21","v":{"$error":"#N/A"}},{"$f":"F22","v":3},{"$f":"IF(I19=0,0,1)+I19","v":0},{"$f":"IF(J19=0,0,1)+J19","v":{"$error":"#N/A"}},null,{"$f":"IF(K19=0,0,1)+K19","v":4},{"$f":"IF(J19=0,0,(L19*J19)+L19)","v":{"$error":"#N/A"}},{"$f":"IF(K19=0,0,(M19*K19)+M19)","v":{"$error":"#N/A"}},{"$f":"IF(I19=0,0,(O19*I19)+O19)","v":0},{"$f":"IF(K19=0,0,(P19*K19)+P19)","v":{"$error":"#N/A"}}]
[null,{"$f":"game1","v":"Spurs"},"x",{"$f":"INDEX(Picks!C:C,MATCH(B20,Picks!B:B,0))","v":"27/100"},{"$f":"INDEX(Picks!D:D,MATCH(B20,Picks!B:B,0))","v":1.27},{"$f":"+((E20-1)*G20)","v":0},0]
[null,{"$f":"game2","v":"Sunderland"},"√",{"$f":"INDEX(Picks!C:C,MATCH(B21,Picks!B:B,0))","v":{"$error":"#N/A"}},{"$f":"INDEX(Picks!D:D,MATCH(B21,Picks!B:B,0))","v":{"$error":"#N/A"}},{"$f":"+((E21-1)*G21)","v":{"$error":"#N/A"}},1,null,null,null,null,"Correct","Score",null,"Final"]
[null,{"$f":"game3","v":"Sheff U"},"√",{"$f":"INDEX(Picks!C:C,MATCH(B22,Picks!B:B,0))","v":"3/1"},{"$f":"INDEX(Picks!D:D,MATCH(B22,Picks!B:B,0))","v":4},{"$f":"+((E22-1)*G22)","v":3},1,null,null,null,null,{"$f":"SUM(G20:G22)","v":2},{"$f":"SUM(L19:S19)-7","v":{"$error":"#N/A"}},null,{"$f":"$M$3+M22","v":{"$error":"#N/A"}}]
[]
[]
[null,null,"Prediction","Odds -","Odds - ","Odds - ","Prediction",null,null,null,null,"Single 1","Single 2",null,"Single 3","Double 1","Double 2","Double 3","Treble"]
[null,null,"Correct?","Fraction","decimal","decimal","Correct",null,{"$f":"F27","v":0.27},{"$f":"F28","v":{"$error":"#N/A"}},{"$f":"F29","v":3},{"$f":"IF(I26=0,0,1)+I26","v":1.27},{"$f":"IF(J26=0,0,1)+J26","v":{"$error":"#N/A"}},null,{"$f":"IF(K26=0,0,1)+K26","v":4},{"$f":"IF(J26=0,0,(L26*J26)+L26)","v":{"$error":"#N/A"}},{"$f":"IF(K26=0,0,(M26*K26)+M26)","v":{"$error":"#N/A"}},{"$f":"IF(I26=0,0,(O26*I26)+O26)","v":5.08},{"$f":"IF(K26=0,0,(P26*K26)+P26)","v":{"$error":"#N/A"}}]
[null,{"$f":"game1","v":"Spurs"},"√",{"$f":"INDEX(Picks!C:C,MATCH(B27,Picks!B:B,0))","v":"27/100"},{"$f":"INDEX(Picks!D:D,MATCH(B27,Picks!B:B,0))","v":1.27},{"$f":"+((E27-1)*G27)","v":0.27},1]
[null,{"$f":"game2","v":"Sunderland"},"x",{"$f":"INDEX(Picks!C:C,MATCH(B28,Picks!B:B,0))","v":{"$error":"#N/A"}},{"$f":"INDEX(Picks!D:D,MATCH(B28,Picks!B:B,0))","v":{"$error":"#N/A"}},{"$f":"+((E28-1)*G28)","v":{"$error":"#N/A"}},0,null,null,null,null,"Correct","Score",null,"Final"]
[null,{"$f":"game3","v":"Sheff U"},"√",{"$f":"INDEX(Picks!C:C,MATCH(B29,Picks!B:B,0))","v":"3/1"},{"$f":"INDEX(Picks!D:D,MATCH(B29,Picks!B:B,0))","v":4},{"$f":"+((E29-1)*G29)","v":3},1,null,null,null,null,{"$f":"SUM(G27:G29)","v":2},{"$f":"SUM(L26:S26)-7","v":{"$error":"#N/A"}},null,{"$f":"$M$3+M29","v":{"$error":"#N/A"}}]
[]
[]
[null,null,"Prediction","Odds -","Odds - ","Odds - ","Prediction",null,null,null,null,"Single 1","Single 2",null,"Single 3","Double 1","Double 2","Double 3","Treble"]
[null,null,"Correct?","Fraction","decimal","decimal","Correct",null,{"$f":"F34","v":0.27},{"$f":"F35","v":{"$error":"#N/A"}},{"$f":"F36","v":0},{"$f":"IF(I33=0,0,1)+I33","v":1.27},{"$f":"IF(J33=0,0,1)+J33","v":{"$error":"#N/A"}},null,{"$f":"IF(K33=0,0,1)+K33","v":0},{"$f":"IF(J33=0,0,(L33*J33)+L33)","v":{"$error":"#N/A"}},{"$f":"IF(K33=0,0,(M33*K33)+M33)","v":0},{"$f":"IF(I33=0,0,(O33*I33)+O33)","v":0},{"$f":"IF(K33=0,0,(P33*K33)+P33)","v":0}]
[null,{"$f":"game1","v":"Spurs"},"√",{"$f":"INDEX(Picks!C:C,MATCH(B34,Picks!B:B,0))","v":"27/100"},{"$f":"INDEX(Picks!D:D,MATCH(B34,Picks!B:B,0))","v":1.27},{"$f":"+((E34-1)*G34)","v":0.27},1]
[null,{"$f":"game2","v":"Sunderland"},"x",{"$f":"INDEX(Picks!C:C,MATCH(B35,Picks!B:B,0))","v":{"$error":"#N/A"}},{"$f":"INDEX(Picks!D:D,MATCH(B35,Picks!B:B,0))","v":{"$error":"#N/A"}},{"$f":"+((E35-1)*G35)","v":{"$error":"#N/A"}},0,null,null,null,null,"Correct","Score",null,"Final"]
[null,{"$f":"game3","v":"Sheff U"},"x",{"$f":"INDEX(Picks!C:C,MATCH(B36,Picks!B:B,0))","v":"3/1"},{"$f":"INDEX(Picks!D:D,MATCH(B36,Picks!B:B,0))","v":4},{"$f":"+((E36-1)*G36)","v":0},0,null,null,null,null,{"$f":"SUM(G34:G36)","v":1},{"$f":"SUM(L33:S33)-7","v":{"$error":"#N/A"}},null,{"$f":"$M$3+M36","v":{"$error":"#N/A"}}]
[]
[]
[null,null,"Prediction","Odds -","Odds - ","Odds - ","Prediction",null,null,null,null,"Single 1","Single 2",null,"Single 3","Double 1","Double 2","Double 3","Treble"]
[null,null,"Correct?","Fraction","decimal","decimal","Correct",null,{"$f":"F41","v":0},{"$f":"F42","v":{"$error":"#N/A"}},{"$f":"F43","v":0},{"$f":"IF(I40=0,0,1)+I40","v":0},{"$f":"IF(J40=0,0,1)+J40","v":{"$error":"#N/A"}},null,{"$f":"IF(K40=0,0,1)+K40","v":0},{"$f":"IF(J40=0,0,(L40*J40)+L40)","v":{"$error":"#N/A"}},{"$f":"IF(K40=0,0,(M40*K40)+M40)","v":0},{"$f":"IF(I40=0,0,(O40*I40)+O40)","v":0},{"$f":"IF(K40=0,0,(P40*K40)+P40)","v":0}]
[null,{"$f":"game1","v":"Spurs"},"x",{"$f":"INDEX(Picks!C:C,MATCH(B41,Picks!B:B,0))","v":"27/100"},{"$f":"INDEX(Picks!D:D,MATCH(B41,Picks!B:B,0))","v":1.27},{"$f":"+((E41-1)*G41)","v":0},0]
[null,{"$f":"game2","v":"Sunderland"},"√",{"$f":"INDEX(Picks!C:C,MATCH(B42,Picks!B:B,0))","v":{"$error":"#N/A"}},{"$f":"INDEX(Picks!D:D,MATCH(B42,Picks!B:B,0))","v":{"$error":"#N/A"}},{"$f":"+((E42-1)*G42)","v":{"$error":"#N/A"}},1,null,null,null,null,"Correct","Score",null,"Final"]
[null,{"$f":"game3","v":"Sheff U"},"x",{"$f":"INDEX(Picks!C:C,MATCH(B43,Picks!B:B,0))","v":"3/1"},{"$f":"INDEX(Picks!D:D,MATCH(B43,Picks!B:B,0))","v":4},{"$f":"+((E43-1)*G43)","v":0},0,null,null,null,null,{"$f":"SUM(G41:G43)","v":1},{"$f":"SUM(L40:S40)-7","v":{"$error":"#N/A"}},null,{"$f":"$M$3+M43","v":{"$error":"#N/A"}}]
[]
[]
[null,null,"Prediction","Odds -","Odds - ","Odds - ","Prediction",null,null,null,null,"Single 1","Single 2",null,"Single 3","Double 1","Double 2","Double 3","Treble"]
[null,null,"Correct?","Fraction","decimal","decimal","Correct",null,{"$f":"F48","v":0},{"$f":"F49","v":{"$error":"#N/A"}},{"$f":"F50","v":3},{"$f":"IF(I47=0,0,1)+I47","v":0},{"$f":"IF(J47=0,0,1)+J47","v":{"$error":"#N/A"}},null,{"$f":"IF(K47=0,0,1)+K47","v":4},{"$f":"IF(J47=0,0,(L47*J47)+L47)","v":{"$error":"#N/A"}},{"$f":"IF(K47=0,0,(M47*K47)+M47)","v":{"$error":"#N/A"}},{"$f":"IF(I47=0,0,(O47*I47)+O47)","v":0},{"$f":"IF(K47=0,0,(P47*K47)+P47)","v":{"$error":"#N/A"}}]
[null,{"$f":"game1","v":"Spurs"},"x",{"$f":"INDEX(Picks!C:C,MATCH(B48,Picks!B:B,0))","v":"27/100"},{"$f":"INDEX(Picks!D:D,MATCH(B48,Picks!B:B,0))","v":1.27},{"$f":"+((E48-1)*G48)","v":0},0]
[null,{"$f":"game2","v":"Sunderland"},"x",{"$f":"INDEX(Picks!C:C,MATCH(B49,Picks!B:B,0))","v":{"$error":"#N/A"}},{"$f":"INDEX(Picks!D:D,MATCH(B49,Picks!B:B,0))","v":{"$error":"#N/A"}},{"$f":"+((E49-1)*G49)","v":{"$error":"#N/A"}},0,null,null,null,null,"Correct","Score",null,"Final"]
[null,{"$f":"game3","v":"Sheff U"},"√",{"$f":"INDEX(Picks!C:C,MATCH(B50,Picks!B:B,0))","v":"3/1"},{"$f":"INDEX(Picks!D:D,MATCH(B50,Picks!B:B,0))","v":4},{"$f":"+((E50-1)*G50)","v":3},1,null,null,null,null,{"$f":"SUM(G48:G50)","v":1},{"$f":"SUM(L47:S47)-7","v":{"$error":"#N/A"}},null,{"$f":"$M$3+M50","v":{"$error":"#N/A"}}]

{"sheet":"Sample","index":21,"n_rows":27,"n_cols":18,"rows_kept":27,"cut":false,"hidden":false,"merged":[]}
["Menu!A1","John Evans"]
[null,null,"Prediction","Odds - ","Odds - ","Odds - ","Prediction",null,null,null,null,"Single 1","Single 2","Single 3","Double 1","Double 2","Double 3","Treble"]
[null,null,"Correct?","fractional","decimal","decimal","Correct",null,{"$f":"F4","v":2.25},{"$f":"F5","v":1.5},{"$f":"F6","v":2.1},{"$f":"IF(I3=0,0,1)+I3","v":3.25},{"$f":"IF(J3=0,0,1)+J3","v":2.5},{"$f":"IF(K3=0,0,1)+K3","v":3.1},{"$f":"IF(J3=0,0,(L3*J3)+L3)","v":8.125},{"$f":"IF(K3=0,0,(M3*K3)+M3)","v":7.75},{"$f":"IF(I3=0,0,(N3*I3)+N3)","v":10.075000000000001},{"$f":"IF(K3=0,0,(O3*K3)+O3)","v":25.1875}]
[null,"Wigan","√","1/20",3.25,2.25,1]
[null,"Bolton","√","6/4",2.5,1.5,1,null,null,null,null,"Correct","Score",null,"Current","Final"]
[null,"Leeds","√","21/10",3.1,2.1,1,null,null,null,null,{"$f":"SUM(G4:G6)","v":3},{"$f":"SUM(L3:R3)-7","v":52.987500000000004}]
[]
[]
[null,null,"Prediction","Odds - ","Odds - ","Odds - ","Prediction",null,null,null,null,"Single 1","Single 2","Single 3","Double 1","Double 2","Double 3","Treble"]
[null,null,"Correct?","fractional","decimal","decimal","Correct",null,{"$f":"F11","v":0},{"$f":"F12","v":1.5},{"$f":"F13","v":2.1},{"$f":"IF(I10=0,0,1)+I10","v":0},{"$f":"IF(J10=0,0,1)+J10","v":2.5},{"$f":"IF(K10=0,0,1)+K10","v":3.1},{"$f":"IF(J10=0,0,(L10*J10)+L10)","v":0},{"$f":"IF(K10=0,0,(M10*K10)+M10)","v":7.75},{"$f":"IF(I10=0,0,(N10*I10)+N10)","v":0},{"$f":"IF(K10=0,0,(O10*K10)+O10)","v":0}]
[null,"Bristol City Draw","x","9/4",{"$f":"(TRUNC(((VALUE(LEFT(D11,SEARCH(\"/\",D11)-1)))/(VALUE(MID(D11,(SEARCH(\"/\",D11)+1),3))))*100)/100)+1","v":3.25},{"$f":"+((E11-1)*G11)","v":0},0]
[null,"Tottenham","√","6/4",{"$f":"(TRUNC(((VALUE(LEFT(D12,SEARCH(\"/\",D12)-1)))/(VALUE(MID(D12,(SEARCH(\"/\",D12)+1),3))))*100)/100)+1","v":2.5},{"$f":"+((E12-1)*G12)","v":1.5},1,null,null,null,null,"Correct","Score"]
[null,"Sunderland","√","21/10",{"$f":"(TRUNC(((VALUE(LEFT(D13,SEARCH(\"/\",D13)-1)))/(VALUE(MID(D13,(SEARCH(\"/\",D13)+1),3))))*100)/100)+1","v":3.1},{"$f":"+((E13-1)*G13)","v":2.1},1,null,null,null,null,{"$f":"SUM(G11:G13)","v":2},{"$f":"SUM(L10:R10)-7","v":6.35}]
[]
[]
[null,null,"Prediction","Odds - ","Odds - ","Odds - ","Prediction",null,null,null,null,"Single 1","Single 2","Single 3","Double 1","Double 2","Double 3","Treble"]
[null,null,"Correct?","fractional","decimal","decimal","Correct",null,{"$f":"F18","v":0},{"$f":"F19","v":0},{"$f":"F20","v":2.1},{"$f":"IF(I17=0,0,1)+I17","v":0},{"$f":"IF(J17=0,0,1)+J17","v":0},{"$f":"IF(K17=0,0,1)+K17","v":3.1},{"$f":"IF(J17=0,0,(L17*J17)+L17)","v":0},{"$f":"IF(K17=0,0,(M17*K17)+M17)","v":0},{"$f":"IF(I17=0,0,(N17*I17)+N17)","v":0},{"$f":"IF(K17=0,0,(O17*K17)+O17)","v":0}]
[null,"Bristol City Draw","x","9/4",{"$f":"(TRUNC(((VALUE(LEFT(D18,SEARCH(\"/\",D18)-1)))/(VALUE(MID(D18,(SEARCH(\"/\",D18)+1),3))))*100)/100)+1","v":3.25},{"$f":"+((E18-1)*G18)","v":0},0]
[null,"Tottenham","x","6/4",{"$f":"(TRUNC(((VALUE(LEFT(D19,SEARCH(\"/\",D19)-1)))/(VALUE(MID(D19,(SEARCH(\"/\",D19)+1),3))))*100)/100)+1","v":2.5},{"$f":"+((E19-1)*G19)","v":0},0,null,null,null,null,"Correct","Score"]
[null,"Sunderland","√","21/10",{"$f":"(TRUNC(((VALUE(LEFT(D20,SEARCH(\"/\",D20)-1)))/(VALUE(MID(D20,(SEARCH(\"/\",D20)+1),3))))*100)/100)+1","v":3.1},{"$f":"+((E20-1)*G20)","v":2.1},1,null,null,null,null,{"$f":"SUM(G18:G20)","v":1},{"$f":"SUM(L17:R17)-7","v":-3.9}]
[]
[]
[null,null,"Prediction","Odds - ","Odds - ","Odds - ","Prediction",null,null,null,null,"Single 1","Single 2","Single 3","Double 1","Double 2","Double 3","Treble"]
[null,null,"Correct?","fractional","decimal","decimal","Correct",null,{"$f":"F25","v":0},{"$f":"F26","v":0},{"$f":"F27","v":0},{"$f":"IF(I24=0,0,1)+I24","v":0},{"$f":"IF(J24=0,0,1)+J24","v":0},{"$f":"IF(K24=0,0,1)+K24","v":0},{"$f":"IF(J24=0,0,(L24*J24)+L24)","v":0},{"$f":"IF(K24=0,0,(M24*K24)+M24)","v":0},{"$f":"IF(I24=0,0,(N24*I24)+N24)","v":0},{"$f":"IF(K24=0,0,(O24*K24)+O24)","v":0}]
[null,"Bristol City Draw","x","9/4",{"$f":"(TRUNC(((VALUE(LEFT(D25,SEARCH(\"/\",D25)-1)))/(VALUE(MID(D25,(SEARCH(\"/\",D25)+1),3))))*100)/100)+1","v":3.25},{"$f":"+((E25-1)*G25)","v":0},0]
[null,"Tottenham","x","6/4",{"$f":"(TRUNC(((VALUE(LEFT(D26,SEARCH(\"/\",D26)-1)))/(VALUE(MID(D26,(SEARCH(\"/\",D26)+1),3))))*100)/100)+1","v":2.5},{"$f":"+((E26-1)*G26)","v":0},0,null,null,null,null,"Correct","Score"]
[null,"Sunderland","x","21/10",{"$f":"(TRUNC(((VALUE(LEFT(D27,SEARCH(\"/\",D27)-1)))/(VALUE(MID(D27,(SEARCH(\"/\",D27)+1),3))))*100)/100)+1","v":3.1},{"$f":"+((E27-1)*G27)","v":0},0,null,null,null,null,{"$f":"SUM(G25:G27)","v":0},{"$f":"SUM(L24:R24)-7","v":-7}]

{"sheet":"Odds","index":22,"n_rows":139,"n_cols":16,"rows_kept":139,"cut":false,"hidden":false,"merged":[]}
["Date","Competition","Odds","Result","Choices","Odds","Dec","Bet Up","Home team","Home win odds","Away team","Draw odds","Away odds","Home dec","Draw dec","Away dec"]
[{"$f":"IF(Match!A2=\"\",\"\",Match!A2)","v":"2019-08-09"},{"$f":"IF(Match!C2=\"\",\"\",Match!C2)","v":"Premier"},{"$f":"IF(Match!S2=\"\",\"\",Match!S2)","v":"Liverpool  v  Norwich   1/7  7/1  18/1"},{"$f":"IF(Match!T2=\"\",\"\",Match!T2)","v":"Liverpool 4-1 Norwich "},{"$f":"IF(C2=\"\",\"\",I2)","v":"Liverpool"},{"$f":"IF(C2=\"\",\"\",J2)","v":"1/7"},{"$f":"IF(C2=\"\",\"\",N2)","v":1.1428571428571428},{"$f":"INDEX(Picks!T:T,MATCH(E2,Picks!R:R,0))","v":1},{"$f":"INDEX(Match!O:O,MATCH(C2,Match!S:S,0))","v":"Liverpool"},{"$f":"INDEX(Match!V:V,MATCH(C2,Match!S:S,0))","v":"1/7"},{"$f":"INDEX(Match!P:P,MATCH(C2,Match!S:S,0))","v":"Norwich"},{"$f":"INDEX(Match!W:W,MATCH(C2,Match!S:S,0))","v":"7/1"},{"$f":"INDEX(Match!X:X,MATCH(C2,Match!S:S,0))","v":"18/1"},{"$f":"INDEX(Match!Y:Y,MATCH(C2,Match!S:S,0))","v":1.1428571428571428},{"$f":"INDEX(Match!Z:Z,MATCH(C2,Match!S:S,0))","v":8},{"$f":"INDEX(Match!AA:AA,MATCH(C2,Match!S:S,0))","v":19}]
[{"$f":"IF(Match!A3=\"\",\"\",Match!A3)","v":"2019-08-10"},{"$f":"IF(Match!C3=\"\",\"\",Match!C3)","v":"Premier"},{"$f":"IF(Match!S3=\"\",\"\",Match!S3)","v":"Bournemouth  v  Sheff U   10/11  13/5  3/1"},{"$f":"IF(Match!T3=\"\",\"\",Match!T3)","v":"Bournemouth 1-1 Sheff U "},"Bournemouth","10/11",{"$f":"IF(C3=\"\",\"\",N3)","v":1.9090909090909092},{"$f":"INDEX(Picks!T:T,MATCH(E3,Picks!R:R,0))","v":0},{"$f":"INDEX(Match!O:O,MATCH(C3,Match!S:S,0))","v":"Bournemouth"},{"$f":"INDEX(Match!V:V,MATCH(C3,Match!S:S,0))","v":"10/11"},{"$f":"INDEX(Match!P:P,MATCH(C3,Match!S:S,0))","v":"Sheff U"},{"$f":"INDEX(Match!W:W,MATCH(C3,Match!S:S,0))","v":"13/5"},{"$f":"INDEX(Match!X:X,MATCH(C3,Match!S:S,0))","v":"3/1"},{"$f":"INDEX(Match!Y:Y,MATCH(C3,Match!S:S,0))","v":1.9090909090909092},{"$f":"INDEX(Match!Z:Z,MATCH(C3,Match!S:S,0))","v":3.6},{"$f":"INDEX(Match!AA:AA,MATCH(C3,Match!S:S,0))","v":4}]
[{"$f":"IF(Match!A4=\"\",\"\",Match!A4)","v":"2019-08-10"},{"$f":"IF(Match!C4=\"\",\"\",Match!C4)","v":"Premier"},{"$f":"IF(Match!S4=\"\",\"\",Match!S4)","v":"Burnley  v  Southampton   31/20  23/10  9/5"},{"$f":"IF(Match!T4=\"\",\"\",Match!T4)","v":"Burnley 3-0 Southampton "},"Burnley","31/20",2.5499999999999998,{"$f":"INDEX(Picks!T:T,MATCH(E4,Picks!R:R,0))","v":1},{"$f":"INDEX(Match!O:O,MATCH(C4,Match!S:S,0))","v":"Burnley"},{"$f":"INDEX(Match!V:V,MATCH(C4,Match!S:S,0))","v":"31/20"},{"$f":"INDEX(Match!P:P,MATCH(C4,Match!S:S,0))","v":"Southampton"},{"$f":"INDEX(Match!W:W,MATCH(C4,Match!S:S,0))","v":"23/10"},{"$f":"INDEX(Match!X:X,MATCH(C4,Match!S:S,0))","v":"9/5"},{"$f":"INDEX(Match!Y:Y,MATCH(C4,Match!S:S,0))","v":2.5499999999999998},{"$f":"INDEX(Match!Z:Z,MATCH(C4,Match!S:S,0))","v":3.3},{"$f":"INDEX(Match!AA:AA,MATCH(C4,Match!S:S,0))","v":2.8}]
[{"$f":"IF(Match!A5=\"\",\"\",Match!A5)","v":"2019-08-10"},{"$f":"IF(Match!C5=\"\",\"\",Match!C5)","v":"Premier"},{"$f":"IF(Match!S5=\"\",\"\",Match!S5)","v":"Palace  v  Everton   19/10  23/10  6/4"},{"$f":"IF(Match!T5=\"\",\"\",Match!T5)","v":"Palace 0-0 Everton "},"Palace","19/10",2.9,{"$f":"INDEX(Picks!T:T,MATCH(E5,Picks!R:R,0))","v":0},{"$f":"INDEX(Match!O:O,MATCH(C5,Match!S:S,0))","v":"Palace"},{"$f":"INDEX(Match!V:V,MATCH(C5,Match!S:S,0))","v":"19/10"},{"$f":"INDEX(Match!P:P,MATCH(C5,Match!S:S,0))","v":"Everton"},{"$f":"INDEX(Match!W:W,MATCH(C5,Match!S:S,0))","v":"23/10"},{"$f":"INDEX(Match!X:X,MATCH(C5,Match!S:S,0))","v":"6/4"},{"$f":"INDEX(Match!Y:Y,MATCH(C5,Match!S:S,0))","v":2.9},{"$f":"INDEX(Match!Z:Z,MATCH(C5,Match!S:S,0))","v":3.3},{"$f":"INDEX(Match!AA:AA,MATCH(C5,Match!S:S,0))","v":2.5}]
[{"$f":"IF(Match!A6=\"\",\"\",Match!A6)","v":"2019-08-10"},{"$f":"IF(Match!C6=\"\",\"\",Match!C6)","v":"Premier"},{"$f":"IF(Match!S6=\"\",\"\",Match!S6)","v":"Spurs  v  Villa   27/100  24/5  10/1"},{"$f":"IF(Match!T6=\"\",\"\",Match!T6)","v":"Spurs 3-1 Villa "},"Spurs","27/100",1.27,{"$f":"INDEX(Picks!T:T,MATCH(E6,Picks!R:R,0))","v":1},{"$f":"INDEX(Match!O:O,MATCH(C6,Match!S:S,0))","v":"Spurs"},{"$f":"INDEX(Match!V:V,MATCH(C6,Match!S:S,0))","v":"27/100"},{"$f":"INDEX(Match!P:P,MATCH(C6,Match!S:S,0))","v":"Villa"},{"$f":"INDEX(Match!W:W,MATCH(C6,Match!S:S,0))","v":"24/5"},{"$f":"INDEX(Match!X:X,MATCH(C6,Match!S:S,0))","v":"10/1"},{"$f":"INDEX(Match!Y:Y,MATCH(C6,Match!S:S,0))","v":1.27},{"$f":"INDEX(Match!Z:Z,MATCH(C6,Match!S:S,0))","v":5.8},{"$f":"INDEX(Match!AA:AA,MATCH(C6,Match!S:S,0))","v":11}]
[{"$f":"IF(Match!A7=\"\",\"\",Match!A7)","v":"2019-08-10"},{"$f":"IF(Match!C7=\"\",\"\",Match!C7)","v":"Premier"},{"$f":"IF(Match!S7=\"\",\"\",Match!S7)","v":"Watford  v  Brighton   10/11  12/5  10/3"},{"$f":"IF(Match!T7=\"\",\"\",Match!T7)","v":"Watford 0-3 Brighton "},"Watford","10/11",1.9090909090909092,{"$f":"INDEX(Picks!T:T,MATCH(E7,Picks!R:R,0))","v":0},{"$f":"INDEX(Match!O:O,MATCH(C7,Match!S:S,0))","v":"Watford"},{"$f":"INDEX(Match!V:V,MATCH(C7,Match!S:S,0))","v":"10/11"},{"$f":"INDEX(Match!P:P,MATCH(C7,Match!S:S,0))","v":"Brighton"},{"$f":"INDEX(Match!W:W,MATCH(C7,Match!S:S,0))","v":"12/5"},{"$f":"INDEX(Match!X:X,MATCH(C7,Match!S:S,0))","v":"10/3"},{"$f":"INDEX(Match!Y:Y,MATCH(C7,Match!S:S,0))","v":1.9090909090909092},{"$f":"INDEX(Match!Z:Z,MATCH(C7,Match!S:S,0))","v":3.4},{"$f":"INDEX(Match!AA:AA,MATCH(C7,Match!S:S,0))","v":4.3333333333333339}]
[{"$f":"IF(Match!A8=\"\",\"\",Match!A8)","v":"2019-08-10"},{"$f":"IF(Match!C8=\"\",\"\",Match!C8)","v":"Premier"},{"$f":"IF(Match!S8=\"\",\"\",Match!S8)","v":"West Ham  v  Man C   11/1  5/1  1/4"},{"$f":"IF(Match!T8=\"\",\"\",Match!T8)","v":"West Ham 0-5 Man C "},"West Ham","11/1",12,{"$f":"INDEX(Picks!T:T,MATCH(E8,Picks!R:R,0))","v":0},{"$f":"INDEX(Match!O:O,MATCH(C8,Match!S:S,0))","v":"West Ham"},{"$f":"INDEX(Match!V:V,MATCH(C8,Match!S:S,0))","v":"11/1"},{"$f":"INDEX(Match!P:P,MATCH(C8,Match!S:S,0))","v":"Man C"},{"$f":"INDEX(Match!W:W,MATCH(C8,Match!S:S,0))","v":"5/1"},{"$f":"INDEX(Match!X:X,MATCH(C8,Match!S:S,0))","v":"1/4"},{"$f":"INDEX(Match!Y:Y,MATCH(C8,Match!S:S,0))","v":12},{"$f":"INDEX(Match!Z:Z,MATCH(C8,Match!S:S,0))","v":6},{"$f":"INDEX(Match!AA:AA,MATCH(C8,Match!S:S,0))","v":1.25}]
[{"$f":"IF(Match!A9=\"\",\"\",Match!A9)","v":"2019-08-10"},{"$f":"IF(Match!C9=\"\",\"\",Match!C9)","v":"Champ"},{"$f":"IF(Match!S9=\"\",\"\",Match!S9)","v":"Birmingham  v  Bristol C   27/20  23/10  21/10"},{"$f":"IF(Match!T9=\"\",\"\",Match!T9)","v":"Birmingham 1-1 Bristol C "},"Birmingham","27/20",2.35,{"$f":"INDEX(Picks!T:T,MATCH(E9,Picks!R:R,0))","v":0},{"$f":"INDEX(Match!O:O,MATCH(C9,Match!S:S,0))","v":"Birmingham"},{"$f":"INDEX(Match!V:V,MATCH(C9,Match!S:S,0))","v":"27/20"},{"$f":"INDEX(Match!P:P,MATCH(C9,Match!S:S,0))","v":"Bristol C"},{"$f":"INDEX(Match!W:W,MATCH(C9,Match!S:S,0))","v":"23/10"},{"$f":"INDEX(Match!X:X,MATCH(C9,Match!S:S,0))","v":"21/10"},{"$f":"INDEX(Match!Y:Y,MATCH(C9,Match!S:S,0))","v":2.35},{"$f":"INDEX(Match!Z:Z,MATCH(C9,Match!S:S,0))","v":3.3},{"$f":"INDEX(Match!AA:AA,MATCH(C9,Match!S:S,0))","v":3.1}]
[{"$f":"IF(Match!A10=\"\",\"\",Match!A10)","v":"2019-08-10"},{"$f":"IF(Match!C10=\"\",\"\",Match!C10)","v":"Champ"},{"$f":"IF(Match!S10=\"\",\"\",Match!S10)","v":"Cardiff  v  Luton   78/100  13/5  19/5"},{"$f":"IF(Match!T10=\"\",\"\",Match!T10)","v":"Cardiff 2-1 Luton "},"Cardiff","78/100",1.78,{"$f":"INDEX(Picks!T:T,MATCH(E10,Picks!R:R,0))","v":1},{"$f":"INDEX(Match!O:O,MATCH(C10,Match!S:S,0))","v":"Cardiff"},{"$f":"INDEX(Match!V:V,MATCH(C10,Match!S:S,0))","v":"78/100"},{"$f":"INDEX(Match!P:P,MATCH(C10,Match!S:S,0))","v":"Luton"},{"$f":"INDEX(Match!W:W,MATCH(C10,Match!S:S,0))","v":"13/5"},{"$f":"INDEX(Match!X:X,MATCH(C10,Match!S:S,0))","v":"19/5"},{"$f":"INDEX(Match!Y:Y,MATCH(C10,Match!S:S,0))","v":1.78},{"$f":"INDEX(Match!Z:Z,MATCH(C10,Match!S:S,0))","v":3.6},{"$f":"INDEX(Match!AA:AA,MATCH(C10,Match!S:S,0))","v":4.8}]
[{"$f":"IF(Match!A11=\"\",\"\",Match!A11)","v":"2019-08-10"},{"$f":"IF(Match!C11=\"\",\"\",Match!C11)","v":"Champ"},{"$f":"IF(Match!S11=\"\",\"\",Match!S11)","v":"Charlton  v  Stoke   21/10  12/5  13/10"},{"$f":"IF(Match!T11=\"\",\"\",Match!T11)","v":"Charlton 3-1 Stoke "},"Charlton","21/10",3.1,{"$f":"INDEX(Picks!T:T,MATCH(E11,Picks!R:R,0))","v":1},{"$f":"INDEX(Match!O:O,MATCH(C11,Match!S:S,0))","v":"Charlton"},{"$f":"INDEX(Match!V:V,MATCH(C11,Match!S:S,0))","v":"21/10"},{"$f":"INDEX(Match!P:P,MATCH(C11,Match!S:S,0))","v":"Stoke"},{"$f":"INDEX(Match!W:W,MATCH(C11,Match!S:S,0))","v":"12/5"},{"$f":"INDEX(Match!X:X,MATCH(C11,Match!S:S,0))","v":"13/10"},{"$f":"INDEX(Match!Y:Y,MATCH(C11,Match!S:S,0))","v":3.1},{"$f":"INDEX(Match!Z:Z,MATCH(C11,Match!S:S,0))","v":3.4},{"$f":"INDEX(Match!AA:AA,MATCH(C11,Match!S:S,0))","v":2.2999999999999998}]
[{"$f":"IF(Match!A12=\"\",\"\",Match!A12)","v":"2019-08-10"},{"$f":"IF(Match!C12=\"\",\"\",Match!C12)","v":"Champ"},{"$f":"IF(Match!S12=\"\",\"\",Match!S12)","v":"Derby  v  Swansea   23/20  12/5  12/5"},{"$f":"IF(Match!T12=\"\",\"\",Match!T12)","v":"Derby 0-0 Swansea "},"Derby","23/20",2.15,{"$f":"INDEX(Picks!T:T,MATCH(E12,Picks!R:R,0))","v":0},{"$f":"INDEX(Match!O:O,MATCH(C12,Match!S:S,0))","v":"Derby"},{"$f":"INDEX(Match!V:V,MATCH(C12,Match!S:S,0))","v":"23/20"},{"$f":"INDEX(Match!P:P,MATCH(C12,Match!S:S,0))","v":"Swansea"},{"$f":"INDEX(Match!W:W,MATCH(C12,Match!S:S,0))","v":"12/5"},{"$f":"INDEX(Match!X:X,MATCH(C12,Match!S:S,0))","v":"12/5"},{"$f":"INDEX(Match!Y:Y,MATCH(C12,Match!S:S,0))","v":2.15},{"$f":"INDEX(Match!Z:Z,MATCH(C12,Match!S:S,0))","v":3.4},{"$f":"INDEX(Match!AA:AA,MATCH(C12,Match!S:S,0))","v":3.4}]
[{"$f":"IF(Match!A13=\"\",\"\",Match!A13)","v":"2019-08-10"},{"$f":"IF(Match!C13=\"\",\"\",Match!C13)","v":"Champ"},{"$f":"IF(Match!S13=\"\",\"\",Match!S13)","v":"Fulham  v  Blackburn   4/5  11/4  17/5"},{"$f":"IF(Match!T13=\"\",\"\",Match!T13)","v":"Fulham 2-0 Blackburn "},"Fulham","4/5",1.8,{"$f":"INDEX(Picks!T:T,MATCH(E13,Picks!R:R,0))","v":1},{"$f":"INDEX(Match!O:O,MATCH(C13,Match!S:S,0))","v":"Fulham"},{"$f":"INDEX(Match!V:V,MATCH(C13,Match!S:S,0))","v":"4/5"},{"$f":"INDEX(Match!P:P,MATCH(C13,Match!S:S,0))","v":"Blackburn"},{"$f":"INDEX(Match!W:W,MATCH(C13,Match!S:S,0))","v":"11/4"},{"$f":"INDEX(Match!X:X,MATCH(C13,Match!S:S,0))","v":"17/5"},{"$f":"INDEX(Match!Y:Y,MATCH(C13,Match!S:S,0))","v":1.8},{"$f":"INDEX(Match!Z:Z,MATCH(C13,Match!S:S,0))","v":3.75},{"$f":"INDEX(Match!AA:AA,MATCH(C13,Match!S:S,0))","v":4.4000000000000004}]
[{"$f":"IF(Match!A14=\"\",\"\",Match!A14)","v":"2019-08-10"},{"$f":"IF(Match!C14=\"\",\"\",Match!C14)","v":"Champ"},{"$f":"IF(Match!S14=\"\",\"\",Match!S14)","v":"Hull  v  Reading   21/20  12/5  27/10"},{"$f":"IF(Match!T14=\"\",\"\",Match!T14)","v":"Hull 2-1 Reading "},"Hull","21/20",2.0499999999999998,{"$f":"INDEX(Picks!T:T,MATCH(E14,Picks!R:R,0))","v":1},{"$f":"INDEX(Match!O:O,MATCH(C14,Match!S:S,0))","v":"Hull"},{"$f":"INDEX(Match!V:V,MATCH(C14,Match!S:S,0))","v":"21/20"},{"$f":"INDEX(Match!P:P,MATCH(C14,Match!S:S,0))","v":"Reading"},{"$f":"INDEX(Match!W:W,MATCH(C14,Match!S:S,0))","v":"12/5"},{"$f":"INDEX(Match!X:X,MATCH(C14,Match!S:S,0))","v":"27/10"},{"$f":"INDEX(Match!Y:Y,MATCH(C14,Match!S:S,0))","v":2.0499999999999998},{"$f":"INDEX(Match!Z:Z,MATCH(C14,Match!S:S,0))","v":3.4},{"$f":"INDEX(Match!AA:AA,MATCH(C14,Match!S:S,0))","v":3.7}]
[{"$f":"IF(Match!A15=\"\",\"\",Match!A15)","v":"2019-08-10"},{"$f":"IF(Match!C15=\"\",\"\",Match!C15)","v":"Champ"},{"$f":"IF(Match!S15=\"\",\"\",Match!S15)","v":"Leeds  v  Forest   7/10  14/5  4/1"},{"$f":"IF(Match!T15=\"\",\"\",Match!T15)","v":"Leeds 1-1 Forest "},"Leeds","7/10",1.7,{"$f":"INDEX(Picks!T:T,MATCH(E15,Picks!R:R,0))","v":0},{"$f":"INDEX(Match!O:O,MATCH(C15,Match!S:S,0))","v":"Leeds"},{"$f":"INDEX(Match!V:V,MATCH(C15,Match!S:S,0))","v":"7/10"},{"$f":"INDEX(Match!P:P,MATCH(C15,Match!S:S,0))","v":"Forest"},{"$f":"INDEX(Match!W:W,MATCH(C15,Match!S:S,0))","v":"14/5"},{"$f":"INDEX(Match!X:X,MATCH(C15,Match!S:S,0))","v":"4/1"},{"$f":"INDEX(Match!Y:Y,MATCH(C15,Match!S:S,0))","v":1.7},{"$f":"INDEX(Match!Z:Z,MATCH(C15,Match!S:S,0))","v":3.8},{"$f":"INDEX(Match!AA:AA,MATCH(C15,Match!S:S,0))","v":5}]
[{"$f":"IF(Match!A16=\"\",\"\",Match!A16)","v":"2019-08-10"},{"$f":"IF(Match!C16=\"\",\"\",Match!C16)","v":"Champ"},{"$f":"IF(Match!S16=\"\",\"\",Match!S16)","v":"Middlesbro  v  Brentford   13/10  12/5  21/10"},{"$f":"IF(Match!T16=\"\",\"\",Match!T16)","v":"Middlesbro 0-1 Brentford "},"Middlesbro","13/10",2.2999999999999998,{"$f":"INDEX(Picks!T:T,MATCH(E16,Picks!R:R,0))","v":0},{"$f":"INDEX(Match!O:O,MATCH(C16,Match!S:S,0))","v":"Middlesbro"},{"$f":"INDEX(Match!V:V,MATCH(C16,Match!S:S,0))","v":"13/10"},{"$f":"INDEX(Match!P:P,MATCH(C16,Match!S:S,0))","v":"Brentford"},{"$f":"INDEX(Match!W:W,MATCH(C16,Match!S:S,0))","v":"12/5"},{"$f":"INDEX(Match!X:X,MATCH(C16,Match!S:S,0))","v":"21/10"},{"$f":"INDEX(Match!Y:Y,MATCH(C16,Match!S:S,0))","v":2.2999999999999998},{"$f":"INDEX(Match!Z:Z,MATCH(C16,Match!S:S,0))","v":3.4},{"$f":"INDEX(Match!AA:AA,MATCH(C16,Match!S:S,0))","v":3.1}]
[{"$f":"IF(Match!A17=\"\",\"\",Match!A17)","v":"2019-08-10"},{"$f":"IF(Match!C17=\"\",\"\",Match!C17)","v":"Champ"},{"$f":"IF(Match!S17=\"\",\"\",Match!S17)","v":"Preston  v  Wigan   11/10  23/10  27/10"},{"$f":"IF(Match!T17=\"\",\"\",Match!T17)","v":"Preston 3-0 Wigan "},"Preston","11/10",2.1,{"$f":"INDEX(Picks!T:T,MATCH(E17,Picks!R:R,0))","v":1},{"$f":"INDEX(Match!O:O,MATCH(C17,Match!S:S,0))","v":"Preston"},{"$f":"INDEX(Match!V:V,MATCH(C17,Match!S:S,0))","v":"11/10"},{"$f":"INDEX(Match!P:P,MATCH(C17,Match!S:S,0))","v":"Wigan"},{"$f":"INDEX(Match!W:W,MATCH(C17,Match!S:S,0))","v":"23/10"},{"$f":"INDEX(Match!X:X,MATCH(C17,Match!S:S,0))","v":"27/10"},{"$f":"INDEX(Match!Y:Y,MATCH(C17,Match!S:S,0))","v":2.1},{"$f":"INDEX(Match!Z:Z,MATCH(C17,Match!S:S,0))","v":3.3},{"$f":"INDEX(Match!AA:AA,MATCH(C17,Match!S:S,0))","v":3.7}]
[{"$f":"IF(Match!A18=\"\",\"\",Match!A18)","v":"2019-08-10"},{"$f":"IF(Match!C21=\"\",\"\",Match!C21)","v":"League 1"},{"$f":"IF(Match!S18=\"\",\"\",Match!S18)","v":"QPR  v  Huddersfield   31/20  23/10  9/5"},{"$f":"IF(Match!T18=\"\",\"\",Match!T18)","v":"QPR 1-1 Huddersfield "},"QPR","31/20",2.5499999999999998,{"$f":"INDEX(Picks!T:T,MATCH(E18,Picks!R:R,0))","v":0},{"$f":"INDEX(Match!O:O,MATCH(C18,Match!S:S,0))","v":"QPR"},{"$f":"INDEX(Match!V:V,MATCH(C18,Match!S:S,0))","v":"31/20"},{"$f":"INDEX(Match!P:P,MATCH(C18,Match!S:S,0))","v":"Huddersfield"},{"$f":"INDEX(Match!W:W,MATCH(C18,Match!S:S,0))","v":"23/10"},{"$f":"INDEX(Match!X:X,MATCH(C18,Match!S:S,0))","v":"9/5"},{"$f":"INDEX(Match!Y:Y,MATCH(C18,Match!S:S,0))","v":2.5499999999999998},{"$f":"INDEX(Match!Z:Z,MATCH(C18,Match!S:S,0))","v":3.3},{"$f":"INDEX(Match!AA:AA,MATCH(C18,Match!S:S,0))","v":2.8}]
[{"$f":"IF(Match!A19=\"\",\"\",Match!A19)","v":"2019-08-10"},{"$f":"IF(Match!C19=\"\",\"\",Match!C19)","v":"Champ"},{"$f":"IF(Match!S19=\"\",\"\",Match!S19)","v":"Sheff W  v  Barnsley   21/20  12/5  27/10"},{"$f":"IF(Match!T19=\"\",\"\",Match!T19)","v":"Sheff W 2-0 Barnsley "},"Sheff W","21/20",2.0499999999999998,{"$f":"INDEX(Picks!T:T,MATCH(E19,Picks!R:R,0))","v":1},{"$f":"INDEX(Match!O:O,MATCH(C19,Match!S:S,0))","v":"Sheff W"},{"$f":"INDEX(Match!V:V,MATCH(C19,Match!S:S,0))","v":"21/20"},{"$f":"INDEX(Match!P:P,MATCH(C19,Match!S:S,0))","v":"Barnsley"},{"$f":"INDEX(Match!W:W,MATCH(C19,Match!S:S,0))","v":"12/5"},{"$f":"INDEX(Match!X:X,MATCH(C19,Match!S:S,0))","v":"27/10"},{"$f":"INDEX(Match!Y:Y,MATCH(C19,Match!S:S,0))","v":2.0499999999999998},{"$f":"INDEX(Match!Z:Z,MATCH(C19,Match!S:S,0))","v":3.4},{"$f":"INDEX(Match!AA:AA,MATCH(C19,Match!S:S,0))","v":3.7}]
[{"$f":"IF(Match!A20=\"\",\"\",Match!A20)","v":"2019-08-10"},{"$f":"IF(Match!C20=\"\",\"\",Match!C20)","v":"Champ"},{"$f":"IF(Match!S20=\"\",\"\",Match!S20)","v":"West Brom  v  Millwall   7/10  11/4  17/4"},{"$f":"IF(Match!T20=\"\",\"\",Match!T20)","v":"West Brom 1-1 Millwall "},"West Brom","7/10",1.7,{"$f":"INDEX(Picks!T:T,MATCH(E20,Picks!R:R,0))","v":0},{"$f":"INDEX(Match!O:O,MATCH(C20,Match!S:S,0))","v":"West Brom"},{"$f":"INDEX(Match!V:V,MATCH(C20,Match!S:S,0))","v":"7/10"},{"$f":"INDEX(Match!P:P,MATCH(C20,Match!S:S,0))","v":"Millwall"},{"$f":"INDEX(Match!W:W,MATCH(C20,Match!S:S,0))","v":"11/4"},{"$f":"INDEX(Match!X:X,MATCH(C20,Match!S:S,0))","v":"17/4"},{"$f":"INDEX(Match!Y:Y,MATCH(C20,Match!S:S,0))","v":1.7},{"$f":"INDEX(Match!Z:Z,MATCH(C20,Match!S:S,0))","v":3.75},{"$f":"INDEX(Match!AA:AA,MATCH(C20,Match!S:S,0))","v":5.25}]
[{"$f":"IF(Match!A21=\"\",\"\",Match!A21)","v":"2019-08-10"},{"$f":"IF(Match!C21=\"\",\"\",Match!C21)","v":"League 1"},{"$f":"IF(Match!S21=\"\",\"\",Match!S21)","v":"Bristol R  v  Wycombe   6/5  23/10  21/10"},{"$f":"IF(Match!T21=\"\",\"\",Match!T21)","v":"Bristol R 0-0 Wycombe "},"Bristol R","6/5",2.2000000000000002,{"$f":"INDEX(Picks!T:T,MATCH(E21,Picks!R:R,0))","v":0},{"$f":"INDEX(Match!O:O,MATCH(C21,Match!S:S,0))","v":"Bristol R"},{"$f":"INDEX(Match!V:V,MATCH(C21,Match!S:S,0))","v":"6/5"},{"$f":"INDEX(Match!P:P,MATCH(C21,Match!S:S,0))","v":"Wycombe"},{"$f":"INDEX(Match!W:W,MATCH(C21,Match!S:S,0))","v":"23/10"},{"$f":"INDEX(Match!X:X,MATCH(C21,Match!S:S,0))","v":"21/10"},{"$f":"INDEX(Match!Y:Y,MATCH(C21,Match!S:S,0))","v":2.2000000000000002},{"$f":"INDEX(Match!Z:Z,MATCH(C21,Match!S:S,0))","v":3.3},{"$f":"INDEX(Match!AA:AA,MATCH(C21,Match!S:S,0))","v":3.1}]
[{"$f":"IF(Match!A22=\"\",\"\",Match!A22)","v":"2019-08-10"},{"$f":"IF(Match!C22=\"\",\"\",Match!C22)","v":"League 1"},{"$f":"IF(Match!S22=\"\",\"\",Match!S22)","v":"Fleetwood  v  Wimbledon   10/11  23/10  3/1"},{"$f":"IF(Match!T22=\"\",\"\",Match!T22)","v":"Fleetwood 2-1 Wimbledon "},"Fleetwood","10/11",1.9090909090909092,{"$f":"INDEX(Picks!T:T,MATCH(E22,Picks!R:R,0))","v":1},{"$f":"INDEX(Match!O:O,MATCH(C22,Match!S:S,0))","v":"Fleetwood"},{"$f":"INDEX(Match!V:V,MATCH(C22,Match!S:S,0))","v":"10/11"},{"$f":"INDEX(Match!P:P,MATCH(C22,Match!S:S,0))","v":"Wimbledon"},{"$f":"INDEX(Match!W:W,MATCH(C22,Match!S:S,0))","v":"23/10"},{"$f":"INDEX(Match!X:X,MATCH(C22,Match!S:S,0))","v":"3/1"},{"$f":"INDEX(Match!Y:Y,MATCH(C22,Match!S:S,0))","v":1.9090909090909092},{"$f":"INDEX(Match!Z:Z,MATCH(C22,Match!S:S,0))","v":3.3},{"$f":"INDEX(Match!AA:AA,MATCH(C22,Match!S:S,0))","v":4}]
[{"$f":"IF(Match!A23=\"\",\"\",Match!A23)","v":"2019-08-10"},{"$f":"IF(Match!C23=\"\",\"\",Match!C23)","v":"League 1"},{"$f":"IF(Match!S23=\"\",\"\",Match!S23)","v":"Gillingham  v  Burton   13/8  23/10  6/4"},{"$f":"IF(Match!T23=\"\",\"\",Match!T23)","v":"Gillingham 1-2 Burton "},"Gillingham","13/8",2.625,{"$f":"INDEX(Picks!T:T,MATCH(E23,Picks!R:R,0))","v":0},{"$f":"INDEX(Match!O:O,MATCH(C23,Match!S:S,0))","v":"Gillingham"},{"$f":"INDEX(Match!V:V,MATCH(C23,Match!S:S,0))","v":"13/8"},{"$f":"INDEX(Match!P:P,MATCH(C23,Match!S:S,0))","v":"Burton"},{"$f":"INDEX(Match!W:W,MATCH(C23,Match!S:S,0))","v":"23/10"},{"$f":"INDEX(Match!X:X,MATCH(C23,Match!S:S,0))","v":"6/4"},{"$f":"INDEX(Match!Y:Y,MATCH(C23,Match!S:S,0))","v":2.625},{"$f":"INDEX(Match!Z:Z,MATCH(C23,Match!S:S,0))","v":3.3},{"$f":"INDEX(Match!AA:AA,MATCH(C23,Match!S:S,0))","v":2.5}]
[{"$f":"IF(Match!A24=\"\",\"\",Match!A24)","v":"2019-08-10"},{"$f":"IF(Match!C24=\"\",\"\",Match!C24)","v":"League 1"},{"$f":"IF(Match!S24=\"\",\"\",Match!S24)","v":"Ipswich  v  Sunderland   7/5  23/10  9/5"},{"$f":"IF(Match!T24=\"\",\"\",Match!T24)","v":"Ipswich 1-1 Sunderland "},"Ipswich","7/5",2.4,{"$f":"INDEX(Picks!T:T,MATCH(E24,Picks!R:R,0))","v":0},{"$f":"INDEX(Match!O:O,MATCH(C24,Match!S:S,0))","v":"Ipswich"},{"$f":"INDEX(Match!V:V,MATCH(C24,Match!S:S,0))","v":"7/5"},{"$f":"INDEX(Match!P:P,MATCH(C24,Match!S:S,0))","v":"Sunderland"},{"$f":"INDEX(Match!W:W,MATCH(C24,Match!S:S,0))","v":"23/10"},{"$f":"INDEX(Match!X:X,MATCH(C24,Match!S:S,0))","v":"9/5"},{"$f":"INDEX(Match!Y:Y,MATCH(C24,Match!S:S,0))","v":2.4},{"$f":"INDEX(Match!Z:Z,MATCH(C24,Match!S:S,0))","v":3.3},{"$f":"INDEX(Match!AA:AA,MATCH(C24,Match!S:S,0))","v":2.8}]
[{"$f":"IF(Match!A25=\"\",\"\",Match!A25)","v":"2019-08-10"},{"$f":"IF(Match!C25=\"\",\"\",Match!C25)","v":"League 1"},{"$f":"IF(Match!S25=\"\",\"\",Match!S25)","v":"MK Dons  v  Shrewsbury   15/13  23/10  11/5"},{"$f":"IF(Match!T25=\"\",\"\",Match!T25)","v":"MK Dons 1-0 Shrewsbury "},"MK Dons","15/13",2.1538461538461537,{"$f":"INDEX(Picks!T:T,MATCH(E25,Picks!R:R,0))","v":1},{"$f":"INDEX(Match!O:O,MATCH(C25,Match!S:S,0))","v":"MK Dons"},{"$f":"INDEX(Match!V:V,MATCH(C25,Match!S:S,0))","v":"15/13"},{"$f":"INDEX(Match!P:P,MATCH(C25,Match!S:S,0))","v":"Shrewsbury"},{"$f":"INDEX(Match!W:W,MATCH(C25,Match!S:S,0))","v":"23/10"},{"$f":"INDEX(Match!X:X,MATCH(C25,Match!S:S,0))","v":"11/5"},{"$f":"INDEX(Match!Y:Y,MATCH(C25,Match!S:S,0))","v":2.1538461538461537},{"$f":"INDEX(Match!Z:Z,MATCH(C25,Match!S:S,0))","v":3.3},{"$f":"INDEX(Match!AA:AA,MATCH(C25,Match!S:S,0))","v":3.2}]
[{"$f":"IF(Match!A26=\"\",\"\",Match!A26)","v":"2019-08-10"},{"$f":"IF(Match!C26=\"\",\"\",Match!C26)","v":"League 1"},{"$f":"IF(Match!S26=\"\",\"\",Match!S26)","v":"Oxford  v  Peterborough   6/4  23/10  13/8"},{"$f":"IF(Match!T26=\"\",\"\",Match!T26)","v":"Oxford 1-0 Peterborough "},"Oxford","6/4",2.5,{"$f":"INDEX(Picks!T:T,MATCH(E26,Picks!R:R,0))","v":1},{"$f":"INDEX(Match!O:O,MATCH(C26,Match!S:S,0))","v":"Oxford"},{"$f":"INDEX(Match!V:V,MATCH(C26,Match!S:S,0))","v":"6/4"},{"$f":"INDEX(Match!P:P,MATCH(C26,Match!S:S,0))","v":"Peterborough"},{"$f":"INDEX(Match!W:W,MATCH(C26,Match!S:S,0))","v":"23/10"},{"$f":"INDEX(Match!X:X,MATCH(C26,Match!S:S,0))","v":"13/8"},{"$f":"INDEX(Match!Y:Y,MATCH(C26,Match!S:S,0))","v":2.5},{"$f":"INDEX(Match!Z:Z,MATCH(C26,Match!S:S,0))","v":3.3},{"$f":"INDEX(Match!AA:AA,MATCH(C26,Match!S:S,0))","v":2.625}]
[{"$f":"IF(Match!A27=\"\",\"\",Match!A27)","v":"2019-08-10"},{"$f":"IF(Match!C27=\"\",\"\",Match!C27)","v":"League 1"},{"$f":"IF(Match!S27=\"\",\"\",Match!S27)","v":"Portsmouth  v  Tranmere   4/6  11/4  18/5"},{"$f":"IF(Match!T27=\"\",\"\",Match!T27)","v":"Portsmouth 2-0 Tranmere "},"Portsmouth","4/6",1.6666666666666665,{"$f":"INDEX(Picks!T:T,MATCH(E27,Picks!R:R,0))","v":1},{"$f":"INDEX(Match!O:O,MATCH(C27,Match!S:S,0))","v":"Portsmouth"},{"$f":"INDEX(Match!V:V,MATCH(C27,Match!S:S,0))","v":"4/6"},{"$f":"INDEX(Match!P:P,MATCH(C27,Match!S:S,0))","v":"Tranmere"},{"$f":"INDEX(Match!W:W,MATCH(C27,Match!S:S,0))","v":"11/4"},{"$f":"INDEX(Match!X:X,MATCH(C27,Match!S:S,0))","v":"18/5"},{"$f":"INDEX(Match!Y:Y,MATCH(C27,Match!S:S,0))","v":1.6666666666666665},{"$f":"INDEX(Match!Z:Z,MATCH(C27,Match!S:S,0))","v":3.75},{"$f":"INDEX(Match!AA:AA,MATCH(C27,Match!S:S,0))","v":4.5999999999999996}]
[{"$f":"IF(Match!A28=\"\",\"\",Match!A28)","v":"2019-08-10"},{"$f":"IF(Match!C28=\"\",\"\",Match!C28)","v":"League 1"},{"$f":"IF(Match!S28=\"\",\"\",Match!S28)","v":"Rochdale  v  Doncaster   13/8  23/10  6/4"},{"$f":"IF(Match!T28=\"\",\"\",Match!T28)","v":"Rochdale 1-1 Doncaster "},"Rochdale","13/8",2.625,{"$f":"INDEX(Picks!T:T,MATCH(E28,Picks!R:R,0))","v":0},{"$f":"INDEX(Match!O:O,MATCH(C28,Match!S:S,0))","v":"Rochdale"},{"$f":"INDEX(Match!V:V,MATCH(C28,Match!S:S,0))","v":"13/8"},{"$f":"INDEX(Match!P:P,MATCH(C28,Match!S:S,0))","v":"Doncaster"},{"$f":"INDEX(Match!W:W,MATCH(C28,Match!S:S,0))","v":"23/10"},{"$f":"INDEX(Match!X:X,MATCH(C28,Match!S:S,0))","v":"6/4"},{"$f":"INDEX(Match!Y:Y,MATCH(C28,Match!S:S,0))","v":2.625},{"$f":"INDEX(Match!Z:Z,MATCH(C28,Match!S:S,0))","v":3.3},{"$f":"INDEX(Match!AA:AA,MATCH(C28,Match!S:S,0))","v":2.5}]
[{"$f":"IF(Match!A29=\"\",\"\",Match!A29)","v":"2019-08-10"},{"$f":"IF(Match!C29=\"\",\"\",Match!C29)","v":"League 1"},{"$f":"IF(Match!S29=\"\",\"\",Match!S29)","v":"Rotherham  v  Lincoln   11/10  23/10  23/10"},{"$f":"IF(Match!T29=\"\",\"\",Match!T29)","v":"Rotherham 0-2 Lincoln "},"Rotherham","11/10",2.1,{"$f":"INDEX(Picks!T:T,MATCH(E29,Picks!R:R,0))","v":0},{"$f":"INDEX(Match!O:O,MATCH(C29,Match!S:S,0))","v":"Rotherham"},{"$f":"INDEX(Match!V:V,MATCH(C29,Match!S:S,0))","v":"11/10"},{"$f":"INDEX(Match!P:P,MATCH(C29,Match!S:S,0))","v":"Lincoln"},{"$f":"INDEX(Match!W:W,MATCH(C29,Match!S:S,0))","v":"23/10"},{"$f":"INDEX(Match!X:X,MATCH(C29,Match!S:S,0))","v":"23/10"},{"$f":"INDEX(Match!Y:Y,MATCH(C29,Match!S:S,0))","v":2.1},{"$f":"INDEX(Match!Z:Z,MATCH(C29,Match!S:S,0))","v":3.3},{"$f":"INDEX(Match!AA:AA,MATCH(C29,Match!S:S,0))","v":3.3}]
[{"$f":"IF(Match!A30=\"\",\"\",Match!A30)","v":"2019-08-10"},{"$f":"IF(Match!C30=\"\",\"\",Match!C30)","v":"League 1"},{"$f":"IF(Match!S30=\"\",\"\",Match!S30)","v":"Southend  v  Blackpool   13/8  23/10  6/4"},{"$f":"IF(Match!T30=\"\",\"\",Match!T30)","v":"Southend 1-3 Blackpool "},"Southend","13/8",2.625,{"$f":"INDEX(Picks!T:T,MATCH(E30,Picks!R:R,0))","v":0},{"$f":"INDEX(Match!O:O,MATCH(C30,Match!S:S,0))","v":"Southend"},{"$f":"INDEX(Match!V:V,MATCH(C30,Match!S:S,0))","v":"13/8"},{"$f":"INDEX(Match!P:P,MATCH(C30,Match!S:S,0))","v":"Blackpool"},{"$f":"INDEX(Match!W:W,MATCH(C30,Match!S:S,0))","v":"23/10"},{"$f":"INDEX(Match!X:X,MATCH(C30,Match!S:S,0))","v":"6/4"},{"$f":"INDEX(Match!Y:Y,MATCH(C30,Match!S:S,0))","v":2.625},{"$f":"INDEX(Match!Z:Z,MATCH(C30,Match!S:S,0))","v":3.3},{"$f":"INDEX(Match!AA:AA,MATCH(C30,Match!S:S,0))","v":2.5}]
[{"$f":"IF(Match!A31=\"\",\"\",Match!A31)","v":"2019-08-10"},{"$f":"IF(Match!C31=\"\",\"\",Match!C31)","v":"League 2"},{"$f":"IF(Match!S31=\"\",\"\",Match!S31)","v":"Cambridge  v  Newport   17/10  5/2  13/8"},{"$f":"IF(Match!T31=\"\",\"\",Match!T31)","v":"Cambridge 0-0 Newport "},"Cambridge","17/10",2.7,{"$f":"INDEX(Picks!T:T,MATCH(E31,Picks!R:R,0))","v":0},{"$f":"INDEX(Match!O:O,MATCH(C31,Match!S:S,0))","v":"Cambridge"},{"$f":"INDEX(Match!V:V,MATCH(C31,Match!S:S,0))","v":"17/10"},{"$f":"INDEX(Match!P:P,MATCH(C31,Match!S:S,0))","v":"Newport"},{"$f":"INDEX(Match!W:W,MATCH(C31,Match!S:S,0))","v":"5/2"},{"$f":"INDEX(Match!X:X,MATCH(C31,Match!S:S,0))","v":"13/8"},{"$f":"INDEX(Match!Y:Y,MATCH(C31,Match!S:S,0))","v":2.7},{"$f":"INDEX(Match!Z:Z,MATCH(C31,Match!S:S,0))","v":3.5},{"$f":"INDEX(Match!AA:AA,MATCH(C31,Match!S:S,0))","v":2.625}]
[{"$f":"IF(Match!A32=\"\",\"\",Match!A32)","v":"2019-08-10"},{"$f":"IF(Match!C32=\"\",\"\",Match!C32)","v":"League 2"},{"$f":"IF(Match!S32=\"\",\"\",Match!S32)","v":"Cheltenham  v  Scunthorpe   15/8  5/2  16/11"},{"$f":"IF(Match!T32=\"\",\"\",Match!T32)","v":"Cheltenham 4-1 Scunthorpe "},"Cheltenham","15/8",2.875,{"$f":"INDEX(Picks!T:T,MATCH(E32,Picks!R:R,0))","v":1},{"$f":"INDEX(Match!O:O,MATCH(C32,Match!S:S,0))","v":"Cheltenham"},{"$f":"INDEX(Match!V:V,MATCH(C32,Match!S:S,0))","v":"15/8"},{"$f":"INDEX(Match!P:P,MATCH(C32,Match!S:S,0))","v":"Scunthorpe"},{"$f":"INDEX(Match!W:W,MATCH(C32,Match!S:S,0))","v":"5/2"},{"$f":"INDEX(Match!X:X,MATCH(C32,Match!S:S,0))","v":"16/11"},{"$f":"INDEX(Match!Y:Y,MATCH(C32,Match!S:S,0))","v":2.875},{"$f":"INDEX(Match!Z:Z,MATCH(C32,Match!S:S,0))","v":3.5},{"$f":"INDEX(Match!AA:AA,MATCH(C32,Match!S:S,0))","v":2.4545454545454546}]
[{"$f":"IF(Match!A33=\"\",\"\",Match!A33)","v":"2019-08-10"},{"$f":"IF(Match!C33=\"\",\"\",Match!C33)","v":"League 2"},{"$f":"IF(Match!S33=\"\",\"\",Match!S33)","v":"Crawley  v  Salford   23/10  12/5  5/4"},{"$f":"IF(Match!T33=\"\",\"\",Match!T33)","v":"Crawley 2-0 Salford "},{"$f":"IF(C33=\"\",\"\",I33)","v":"Crawley"},"23/10",3.3,{"$f":"INDEX(Picks!T:T,MATCH(E33,Picks!R:R,0))","v":1},{"$f":"INDEX(Match!O:O,MATCH(C33,Match!S:S,0))","v":"Crawley"},{"$f":"INDEX(Match!V:V,MATCH(C33,Match!S:S,0))","v":"23/10"},{"$f":"INDEX(Match!P:P,MATCH(C33,Match!S:S,0))","v":"Salford"},{"$f":"INDEX(Match!W:W,MATCH(C33,Match!S:S,0))","v":"12/5"},{"$f":"INDEX(Match!X:X,MATCH(C33,Match!S:S,0))","v":"5/4"},{"$f":"INDEX(Match!Y:Y,MATCH(C33,Match!S:S,0))","v":3.3},{"$f":"INDEX(Match!Z:Z,MATCH(C33,Match!S:S,0))","v":3.4},{"$f":"INDEX(Match!AA:AA,MATCH(C33,Match!S:S,0))","v":2.25}]
[{"$f":"IF(Match!A34=\"\",\"\",Match!A34)","v":"2019-08-10"},{"$f":"IF(Match!C34=\"\",\"\",Match!C34)","v":"League 2"},{"$f":"IF(Match!S34=\"\",\"\",Match!S34)","v":"Grimsby  v  Bradford   23/10  5/2  6/5"},{"$f":"IF(Match!T34=\"\",\"\",Match!T34)","v":"Grimsby 1-1 Bradford "},"Grimsby","23/10",3.3,{"$f":"INDEX(Picks!T:T,MATCH(E34,Picks!R:R,0))","v":0},{"$f":"INDEX(Match!O:O,MATCH(C34,Match!S:S,0))","v":"Grimsby"},{"$f":"INDEX(Match!V:V,MATCH(C34,Match!S:S,0))","v":"23/10"},{"$f":"INDEX(Match!P:P,MATCH(C34,Match!S:S,0))","v":"Bradford"},{"$f":"INDEX(Match!W:W,MATCH(C34,Match!S:S,0))","v":"5/2"},{"$f":"INDEX(Match!X:X,MATCH(C34,Match!S:S,0))","v":"6/5"},{"$f":"INDEX(Match!Y:Y,MATCH(C34,Match!S:S,0))","v":3.3},{"$f":"INDEX(Match!Z:Z,MATCH(C34,Match!S:S,0))","v":3.5},{"$f":"INDEX(Match!AA:AA,MATCH(C34,Match!S:S,0))","v":2.2000000000000002}]
[{"$f":"IF(Match!A35=\"\",\"\",Match!A35)","v":"2019-08-10"},{"$f":"IF(Match!C35=\"\",\"\",Match!C35)","v":"League 2"},{"$f":"IF(Match!S35=\"\",\"\",Match!S35)","v":"Macclesfield  v  Orient   2/1  12/5  7/5"},{"$f":"IF(Match!T35=\"\",\"\",Match!T35)","v":"Macclesfield 3-0 Orient "},"Macclesfield","2/1",3,{"$f":"INDEX(Picks!T:T,MATCH(E35,Picks!R:R,0))","v":1},{"$f":"INDEX(Match!O:O,MATCH(C35,Match!S:S,0))","v":"Macclesfield"},{"$f":"INDEX(Match!V:V,MATCH(C35,Match!S:S,0))","v":"2/1"},{"$f":"INDEX(Match!P:P,MATCH(C35,Match!S:S,0))","v":"Orient"},{"$f":"INDEX(Match!W:W,MATCH(C35,Match!S:S,0))","v":"12/5"},{"$f":"INDEX(Match!X:X,MATCH(C35,Match!S:S,0))","v":"7/5"},{"$f":"INDEX(Match!Y:Y,MATCH(C35,Match!S:S,0))","v":3},{"$f":"INDEX(Match!Z:Z,MATCH(C35,Match!S:S,0))","v":3.4},{"$f":"INDEX(Match!AA:AA,MATCH(C35,Match!S:S,0))","v":2.4}]
[{"$f":"IF(Match!A36=\"\",\"\",Match!A36)","v":"2019-08-10"},{"$f":"IF(Match!C36=\"\",\"\",Match!C36)","v":"League 2"},{"$f":"IF(Match!S36=\"\",\"\",Match!S36)","v":"Mansfield  v  Morecambe   7/10  3/1  22/5"},{"$f":"IF(Match!T36=\"\",\"\",Match!T36)","v":"Mansfield 2-2 Morecambe "},"Mansfield","7/10",1.7,{"$f":"INDEX(Picks!T:T,MATCH(E36,Picks!R:R,0))","v":0},{"$f":"INDEX(Match!O:O,MATCH(C36,Match!S:S,0))","v":"Mansfield"},{"$f":"INDEX(Match!V:V,MATCH(C36,Match!S:S,0))","v":"7/10"},{"$f":"INDEX(Match!P:P,MATCH(C36,Match!S:S,0))","v":"Morecambe"},{"$f":"INDEX(Match!W:W,MATCH(C36,Match!S:S,0))","v":"3/1"},{"$f":"INDEX(Match!X:X,MATCH(C36,Match!S:S,0))","v":"22/5"},{"$f":"INDEX(Match!Y:Y,MATCH(C36,Match!S:S,0))","v":1.7},{"$f":"INDEX(Match!Z:Z,MATCH(C36,Match!S:S,0))","v":4},{"$f":"INDEX(Match!AA:AA,MATCH(C36,Match!S:S,0))","v":5.4}]
[{"$f":"IF(Match!A37=\"\",\"\",Match!A37)","v":"2019-08-10"},{"$f":"IF(Match!C37=\"\",\"\",Match!C37)","v":"League 2"},{"$f":"IF(Match!S37=\"\",\"\",Match!S37)","v":"Oldham  v  Crewe   7/5  13/5  19/10"},{"$f":"IF(Match!T37=\"\",\"\",Match!T37)","v":"Oldham 1-2 Crewe "},"Oldham","7/5",2.4,{"$f":"INDEX(Picks!T:T,MATCH(E37,Picks!R:R,0))","v":0},{"$f":"INDEX(Match!O:O,MATCH(C37,Match!S:S,0))","v":"Oldham"},{"$f":"INDEX(Match!V:V,MATCH(C37,Match!S:S,0))","v":"7/5"},{"$f":"INDEX(Match!P:P,MATCH(C37,Match!S:S,0))","v":"Crewe"},{"$f":"INDEX(Match!W:W,MATCH(C37,Match!S:S,0))","v":"13/5"},{"$f":"INDEX(Match!X:X,MATCH(C37,Match!S:S,0))","v":"19/10"},{"$f":"INDEX(Match!Y:Y,MATCH(C37,Match!S:S,0))","v":2.4},{"$f":"INDEX(Match!Z:Z,MATCH(C37,Match!S:S,0))","v":3.6},{"$f":"INDEX(Match!AA:AA,MATCH(C37,Match!S:S,0))","v":2.9}]
[{"$f":"IF(Match!A38=\"\",\"\",Match!A38)","v":"2019-08-10"},{"$f":"IF(Match!C38=\"\",\"\",Match!C38)","v":"League 2"},{"$f":"IF(Match!S38=\"\",\"\",Match!S38)","v":"Plymouth  v  Colchester   23/20  5/2  5/2"},{"$f":"IF(Match!T38=\"\",\"\",Match!T38)","v":"Plymouth 1-0 Colchester "},"Plymouth","23/20",2.15,{"$f":"INDEX(Picks!T:T,MATCH(E38,Picks!R:R,0))","v":1},{"$f":"INDEX(Match!O:O,MATCH(C38,Match!S:S,0))","v":"Plymouth"},{"$f":"INDEX(Match!V:V,MATCH(C38,Match!S:S,0))","v":"23/20"},{"$f":"INDEX(Match!P:P,MATCH(C38,Match!S:S,0))","v":"Colchester"},{"$f":"INDEX(Match!W:W,MATCH(C38,Match!S:S,0))","v":"5/2"},{"$f":"INDEX(Match!X:X,MATCH(C38,Match!S:S,0))","v":"5/2"},{"$f":"INDEX(Match!Y:Y,MATCH(C38,Match!S:S,0))","v":2.15},{"$f":"INDEX(Match!Z:Z,MATCH(C38,Match!S:S,0))","v":3.5},{"$f":"INDEX(Match!AA:AA,MATCH(C38,Match!S:S,0))","v":3.5}]
[{"$f":"IF(Match!A39=\"\",\"\",Match!A39)","v":"2019-08-10"},{"$f":"IF(Match!C39=\"\",\"\",Match!C39)","v":"League 2"},{"$f":"IF(Match!S39=\"\",\"\",Match!S39)","v":"Port Vale  v  Northampton   13/8  23/10  9/5"},{"$f":"IF(Match!T39=\"\",\"\",Match!T39)","v":"Port Vale 1-1 Northampton "},"Port Vale","13/8",2.625,{"$f":"INDEX(Picks!T:T,MATCH(E39,Picks!R:R,0))","v":0},{"$f":"INDEX(Match!O:O,MATCH(C39,Match!S:S,0))","v":"Port Vale"},{"$f":"INDEX(Match!V:V,MATCH(C39,Match!S:S,0))","v":"13/8"},{"$f":"INDEX(Match!P:P,MATCH(C39,Match!S:S,0))","v":"Northampton"},{"$f":"INDEX(Match!W:W,MATCH(C39,Match!S:S,0))","v":"23/10"},{"$f":"INDEX(Match!X:X,MATCH(C39,Match!S:S,0))","v":"9/5"},{"$f":"INDEX(Match!Y:Y,MATCH(C39,Match!S:S,0))","v":2.625},{"$f":"INDEX(Match!Z:Z,MATCH(C39,Match!S:S,0))","v":3.3},{"$f":"INDEX(Match!AA:AA,MATCH(C39,Match!S:S,0))","v":2.8}]
[{"$f":"IF(Match!A40=\"\",\"\",Match!A40)","v":"2019-08-10"},{"$f":"IF(Match!C40=\"\",\"\",Match!C40)","v":"League 2"},{"$f":"IF(Match!S40=\"\",\"\",Match!S40)","v":"Stevenage  v  Exeter   16/11  5/2  19/10"},{"$f":"IF(Match!T40=\"\",\"\",Match!T40)","v":"Stevenage 0-1 Exeter "},"Stevenage","16/11",2.4545454545454546,{"$f":"INDEX(Picks!T:T,MATCH(E40,Picks!R:R,0))","v":0},{"$f":"INDEX(Match!O:O,MATCH(C40,Match!S:S,0))","v":"Stevenage"},{"$f":"INDEX(Match!V:V,MATCH(C40,Match!S:S,0))","v":"16/11"},{"$f":"INDEX(Match!P:P,MATCH(C40,Match!S:S,0))","v":"Exeter"},{"$f":"INDEX(Match!W:W,MATCH(C40,Match!S:S,0))","v":"5/2"},{"$f":"INDEX(Match!X:X,MATCH(C40,Match!S:S,0))","v":"19/10"},{"$f":"INDEX(Match!Y:Y,MATCH(C40,Match!S:S,0))","v":2.4545454545454546},{"$f":"INDEX(Match!Z:Z,MATCH(C40,Match!S:S,0))","v":3.5},{"$f":"INDEX(Match!AA:AA,MATCH(C40,Match!S:S,0))","v":2.9}]
[{"$f":"IF(Match!A41=\"\",\"\",Match!A41)","v":"2019-08-10"},{"$f":"IF(Match!C41=\"\",\"\",Match!C41)","v":"League 2"},{"$f":"IF(Match!S41=\"\",\"\",Match!S41)","v":"Swindon  v  Carlisle   21/20  5/2  11/4"},{"$f":"IF(Match!T41=\"\",\"\",Match!T41)","v":"Swindon 3-2 Carlisle "},"Swindon","21/20",2.0499999999999998,{"$f":"INDEX(Picks!T:T,MATCH(E41,Picks!R:R,0))","v":1},{"$f":"INDEX(Match!O:O,MATCH(C41,Match!S:S,0))","v":"Swindon"},{"$f":"INDEX(Match!V:V,MATCH(C41,Match!S:S,0))","v":"21/20"},{"$f":"INDEX(Match!P:P,MATCH(C41,Match!S:S,0))","v":"Carlisle"},{"$f":"INDEX(Match!W:W,MATCH(C41,Match!S:S,0))","v":"5/2"},{"$f":"INDEX(Match!X:X,MATCH(C41,Match!S:S,0))","v":"11/4"},{"$f":"INDEX(Match!Y:Y,MATCH(C41,Match!S:S,0))","v":2.0499999999999998},{"$f":"INDEX(Match!Z:Z,MATCH(C41,Match!S:S,0))","v":3.5},{"$f":"INDEX(Match!AA:AA,MATCH(C41,Match!S:S,0))","v":3.75}]
[{"$f":"IF(Match!A42=\"\",\"\",Match!A42)","v":"2019-08-10"},{"$f":"IF(Match!C42=\"\",\"\",Match!C42)","v":"League 2"},{"$f":"IF(Match!S42=\"\",\"\",Match!S42)","v":"Walsall  v  Forest Green   11/8  12/5  21/10"},{"$f":"IF(Match!T42=\"\",\"\",Match!T42)","v":"Walsall 1-1 Forest Green "},"Walsall","11/8",2.375,{"$f":"INDEX(Picks!T:T,MATCH(E42,Picks!R:R,0))","v":0},{"$f":"INDEX(Match!O:O,MATCH(C42,Match!S:S,0))","v":"Walsall"},{"$f":"INDEX(Match!V:V,MATCH(C42,Match!S:S,0))","v":"11/8"},{"$f":"INDEX(Match!P:P,MATCH(C42,Match!S:S,0))","v":"Forest Green"},{"$f":"INDEX(Match!W:W,MATCH(C42,Match!S:S,0))","v":"12/5"},{"$f":"INDEX(Match!X:X,MATCH(C42,Match!S:S,0))","v":"21/10"},{"$f":"INDEX(Match!Y:Y,MATCH(C42,Match!S:S,0))","v":2.375},{"$f":"INDEX(Match!Z:Z,MATCH(C42,Match!S:S,0))","v":3.4},{"$f":"INDEX(Match!AA:AA,MATCH(C42,Match!S:S,0))","v":3.1}]
[{"$f":"IF(Match!A43=\"\",\"\",Match!A43)","v":"2019-08-11"},{"$f":"IF(Match!C43=\"\",\"\",Match!C43)","v":"Premier"},{"$f":"IF(Match!S43=\"\",\"\",Match!S43)","v":"Leicester  v  Wolves   13/10  26/11  32/13"},{"$f":"IF(Match!T43=\"\",\"\",Match!T43)","v":"Leicester 0-0 Wolves "},"Leicester","13/10",2.2999999999999998,{"$f":"INDEX(Picks!T:T,MATCH(E43,Picks!R:R,0))","v":0},{"$f":"INDEX(Match!O:O,MATCH(C43,Match!S:S,0))","v":"Leicester"},{"$f":"INDEX(Match!V:V,MATCH(C43,Match!S:S,0))","v":"13/10"},{"$f":"INDEX(Match!P:P,MATCH(C43,Match!S:S,0))","v":"Wolves"},{"$f":"INDEX(Match!W:W,MATCH(C43,Match!S:S,0))","v":"26/11"},{"$f":"INDEX(Match!X:X,MATCH(C43,Match!S:S,0))","v":"32/13"},{"$f":"INDEX(Match!Y:Y,MATCH(C43,Match!S:S,0))","v":2.2999999999999998},{"$f":"INDEX(Match!Z:Z,MATCH(C43,Match!S:S,0))","v":3.3636363636363638},{"$f":"INDEX(Match!AA:AA,MATCH(C43,Match!S:S,0))","v":3.4615384615384617}]
[{"$f":"IF(Match!A44=\"\",\"\",Match!A44)","v":"2019-08-11"},{"$f":"IF(Match!C44=\"\",\"\",Match!C44)","v":"Premier"},{"$f":"IF(Match!S44=\"\",\"\",Match!S44)","v":"Man U  v  Chelsea   5/4  32/13  13/5"},{"$f":"IF(Match!T44=\"\",\"\",Match!T44)","v":"Man U 4-0 Chelsea "},"Man U","5/4",2.25,{"$f":"INDEX(Picks!T:T,MATCH(E44,Picks!R:R,0))","v":1},{"$f":"INDEX(Match!O:O,MATCH(C44,Match!S:S,0))","v":"Man U"},{"$f":"INDEX(Match!V:V,MATCH(C44,Match!S:S,0))","v":"5/4"},{"$f":"INDEX(Match!P:P,MATCH(C44,Match!S:S,0))","v":"Chelsea"},{"$f":"INDEX(Match!W:W,MATCH(C44,Match!S:S,0))","v":"32/13"},{"$f":"INDEX(Match!X:X,MATCH(C44,Match!S:S,0))","v":"13/5"},{"$f":"INDEX(Match!Y:Y,MATCH(C44,Match!S:S,0))","v":2.25},{"$f":"INDEX(Match!Z:Z,MATCH(C44,Match!S:S,0))","v":3.4615384615384617},{"$f":"INDEX(Match!AA:AA,MATCH(C44,Match!S:S,0))","v":3.6}]
[{"$f":"IF(Match!A45=\"\",\"\",Match!A45)","v":"2019-08-11"},{"$f":"IF(Match!C45=\"\",\"\",Match!C45)","v":"Premier"},{"$f":"IF(Match!S45=\"\",\"\",Match!S45)","v":"Newcastle  v  Arsenal   77/19  29/10  9/11"},{"$f":"IF(Match!T45=\"\",\"\",Match!T45)","v":"Newcastle 0-1 Arsenal "},"Newcastle","77/19",5.0526315789473681,{"$f":"INDEX(Picks!T:T,MATCH(E45,Picks!R:R,0))","v":0},{"$f":"INDEX(Match!O:O,MATCH(C45,Match!S:S,0))","v":"Newcastle"},{"$f":"INDEX(Match!V:V,MATCH(C45,Match!S:S,0))","v":"77/19"},{"$f":"INDEX(Match!P:P,MATCH(C45,Match!S:S,0))","v":"Arsenal"},{"$f":"INDEX(Match!W:W,MATCH(C45,Match!S:S,0))","v":"29/10"},{"$f":"INDEX(Match!X:X,MATCH(C45,Match!S:S,0))","v":"9/11"},{"$f":"INDEX(Match!Y:Y,MATCH(C45,Match!S:S,0))","v":5.0526315789473681},{"$f":"INDEX(Match!Z:Z,MATCH(C45,Match!S:S,0))","v":3.9},{"$f":"INDEX(Match!AA:AA,MATCH(C45,Match!S:S,0))","v":1.8181818181818183}]
[{"$f":"IF(Match!A46=\"\",\"\",Match!A46)","v":""},{"$f":"IF(Match!C46=\"\",\"\",Match!C46)","v":""},{"$f":"IF(Match!S46=\"\",\"\",Match!S46)","v":""},{"$f":"IF(Match!T46=\"\",\"\",Match!T46)","v":" -  "},"",{"$f":"IF(C46=\"\",\"\",J46)","v":""},"",{"$f":"INDEX(Picks!T:T,MATCH(E46,Picks!R:R,0))","v":{"$error":"#N/A"}},{"$f":"INDEX(Match!O:O,MATCH(C46,Match!S:S,0))","v":""},{"$f":"INDEX(Match!V:V,MATCH(C46,Match!S:S,0))","v":"/"},{"$f":"INDEX(Match!P:P,MATCH(C46,Match!S:S,0))","v":""},{"$f":"INDEX(Match!W:W,MATCH(C46,Match!S:S,0))","v":"/"},{"$f":"INDEX(Match!X:X,MATCH(C46,Match!S:S,0))","v":"/"},{"$f":"INDEX(Match!Y:Y,MATCH(C46,Match!S:S,0))","v":""},{"$f":"INDEX(Match!Z:Z,MATCH(C46,Match!S:S,0))","v":""},{"$f":"INDEX(Match!AA:AA,MATCH(C46,Match!S:S,0))","v":""}]
[{"$f":"IF(Match!A47=\"\",\"\",Match!A47)","v":""},{"$f":"IF(Match!C47=\"\",\"\",Match!C47)","v":""},{"$f":"IF(Match!S47=\"\",\"\",Match!S47)","v":""},{"$f":"IF(Match!T47=\"\",\"\",Match!T47)","v":" - "},{"$f":"IF(C47=\"\",\"\",I47)","v":""},{"$f":"IF(C47=\"\",\"\",J47)","v":""},"",{"$f":"INDEX(Picks!T:T,MATCH(E47,Picks!R:R,0))","v":{"$error":"#N/A"}},{"$f":"INDEX(Match!O:O,MATCH(C47,Match!S:S,0))","v":""},{"$f":"INDEX(Match!V:V,MATCH(C47,Match!S:S,0))","v":"/"},{"$f":"INDEX(Match!P:P,MATCH(C47,Match!S:S,0))","v":""},{"$f":"INDEX(Match!W:W,MATCH(C47,Match!S:S,0))","v":"/"},{"$f":"INDEX(Match!X:X,MATCH(C47,Match!S:S,0))","v":"/"},{"$f":"INDEX(Match!Y:Y,MATCH(C47,Match!S:S,0))","v":""},{"$f":"INDEX(Match!Z:Z,MATCH(C47,Match!S:S,0))","v":""},{"$f":"INDEX(Match!AA:AA,MATCH(C47,Match!S:S,0))","v":""}]
[null,null,null,null,{"$f":"IF(C2=\"\",\"\",I2&\" draw\")","v":"Liverpool draw"},{"$f":"IF(C2=\"\",\"\",L2)","v":"7/1"},{"$f":"IF(C2=\"\",\"\",O2)","v":8},{"$f":"INDEX(Picks!T:T,MATCH(E48,Picks!R:R,0))","v":0}]
[null,null,null,null,"Bournemouth draw","13/5",{"$f":"IF(C3=\"\",\"\",O3)","v":3.6},{"$f":"INDEX(Picks!T:T,MATCH(E49,Picks!R:R,0))","v":1}]
[null,null,null,null,"Burnley draw","23/10",3.3,{"$f":"INDEX(Picks!T:T,MATCH(E50,Picks!R:R,0))","v":0}]
[null,null,null,null,"Palace draw","23/10",3.3,{"$f":"INDEX(Picks!T:T,MATCH(E51,Picks!R:R,0))","v":1}]
[null,null,null,null,"Spurs draw","24/5",5.8,{"$f":"INDEX(Picks!T:T,MATCH(E52,Picks!R:R,0))","v":0}]
[null,null,null,null,"Watford draw","12/5",3.4,{"$f":"INDEX(Picks!T:T,MATCH(E53,Picks!R:R,0))","v":0}]
[null,null,null,null,"West Ham draw","5/1",6,{"$f":"INDEX(Picks!T:T,MATCH(E54,Picks!R:R,0))","v":0}]
[null,null,null,null,"Birmingham draw","23/10",3.3,{"$f":"INDEX(Picks!T:T,MATCH(E55,Picks!R:R,0))","v":1}]
[null,null,null,null,"Cardiff draw","13/5",3.6,{"$f":"INDEX(Picks!T:T,MATCH(E56,Picks!R:R,0))","v":0}]
[null,null,null,null,"Charlton draw","12/5",3.4,{"$f":"INDEX(Picks!T:T,MATCH(E57,Picks!R:R,0))","v":0}]
[null,null,null,null,"Derby draw","12/5",3.4,{"$f":"INDEX(Picks!T:T,MATCH(E58,Picks!R:R,0))","v":1}]
[null,null,null,null,"Fulham draw","11/4",3.75,{"$f":"INDEX(Picks!T:T,MATCH(E59,Picks!R:R,0))","v":0}]
[null,null,null,null,"Hull draw","12/5",3.4,{"$f":"INDEX(Picks!T:T,MATCH(E60,Picks!R:R,0))","v":0}]
[null,null,null,null,"Leeds draw","14/5",3.8,{"$f":"INDEX(Picks!T:T,MATCH(E61,Picks!R:R,0))","v":1}]
[null,null,null,null,"Middlesbro draw","12/5",3.4,{"$f":"INDEX(Picks!T:T,MATCH(E62,Picks!R:R,0))","v":0}]
[null,null,null,null,"Preston draw","23/10",3.3,{"$f":"INDEX(Picks!T:T,MATCH(E63,Picks!R:R,0))","v":0}]
[null,null,null,null,"QPR draw","23/10",3.3,{"$f":"INDEX(Picks!T:T,MATCH(E64,Picks!R:R,0))","v":1}]
[null,null,null,null,"Sheff W draw","12/5",3.4,{"$f":"INDEX(Picks!T:T,MATCH(E65,Picks!R:R,0))","v":0}]
[null,null,null,null,"West Brom draw","11/4",3.75,{"$f":"INDEX(Picks!T:T,MATCH(E66,Picks!R:R,0))","v":1}]
[null,null,null,null,"Bristol R draw","23/10",3.3,{"$f":"INDEX(Picks!T:T,MATCH(E67,Picks!R:R,0))","v":1}]
[null,null,null,null,"Fleetwood draw","23/10",3.3,{"$f":"INDEX(Picks!T:T,MATCH(E68,Picks!R:R,0))","v":0}]
[null,null,null,null,"Gillingham draw","23/10",3.3,{"$f":"INDEX(Picks!T:T,MATCH(E69,Picks!R:R,0))","v":0}]
[null,null,null,null,"Ipswich draw","23/10",3.3,{"$f":"INDEX(Picks!T:T,MATCH(E70,Picks!R:R,0))","v":1}]
[null,null,null,null,"MK Dons draw","23/10",3.3,{"$f":"INDEX(Picks!T:T,MATCH(E71,Picks!R:R,0))","v":0}]
[null,null,null,null,"Oxford draw","23/10",3.3,{"$f":"INDEX(Picks!T:T,MATCH(E72,Picks!R:R,0))","v":0}]
[null,null,null,null,"Portsmouth draw","11/4",3.75,{"$f":"INDEX(Picks!T:T,MATCH(E73,Picks!R:R,0))","v":0}]
[null,null,null,null,"Rochdale draw","23/10",3.3,{"$f":"INDEX(Picks!T:T,MATCH(E74,Picks!R:R,0))","v":1}]
[null,null,null,null,"Rotherham draw","23/10",3.3,{"$f":"INDEX(Picks!T:T,MATCH(E75,Picks!R:R,0))","v":0}]
[null,null,null,null,"Southend draw","23/10",3.3,{"$f":"INDEX(Picks!T:T,MATCH(E76,Picks!R:R,0))","v":0}]
[null,null,null,null,"Cambridge draw","5/2",3.5,{"$f":"INDEX(Picks!T:T,MATCH(E77,Picks!R:R,0))","v":1}]
[null,null,null,null,"Cheltenham draw","5/2",3.5,{"$f":"INDEX(Picks!T:T,MATCH(E78,Picks!R:R,0))","v":0}]
[null,null,null,null,"Crawley draw","12/5",3.4,{"$f":"INDEX(Picks!T:T,MATCH(E79,Picks!R:R,0))","v":0}]
[null,null,null,null,"Grimsby draw","5/2",3.5,{"$f":"INDEX(Picks!T:T,MATCH(E80,Picks!R:R,0))","v":1}]
[null,null,null,null,"Macclesfield draw","12/5",3.4,{"$f":"INDEX(Picks!T:T,MATCH(E81,Picks!R:R,0))","v":0}]
[null,null,null,null,"Mansfield draw","3/1",4,{"$f":"INDEX(Picks!T:T,MATCH(E82,Picks!R:R,0))","v":1}]
[null,null,null,null,"Oldham draw","13/5",3.6,{"$f":"INDEX(Picks!T:T,MATCH(E83,Picks!R:R,0))","v":0}]
[null,null,null,null,"Plymouth draw","5/2",3.5,{"$f":"INDEX(Picks!T:T,MATCH(E84,Picks!R:R,0))","v":0}]
[null,null,null,null,"Port Vale draw","23/10",3.3,{"$f":"INDEX(Picks!T:T,MATCH(E85,Picks!R:R,0))","v":1}]
[null,null,null,null,"Stevenage draw","5/2",3.5,{"$f":"INDEX(Picks!T:T,MATCH(E86,Picks!R:R,0))","v":0}]
[null,null,null,null,"Swindon draw","5/2",3.5,{"$f":"INDEX(Picks!T:T,MATCH(E87,Picks!R:R,0))","v":0}]
[null,null,null,null,"Walsall draw","12/5",3.4,{"$f":"INDEX(Picks!T:T,MATCH(E88,Picks!R:R,0))","v":1}]
[null,null,null,null,"Leicester draw","26/11",3.3636363636363638,{"$f":"INDEX(Picks!T:T,MATCH(E89,Picks!R:R,0))","v":1}]
[null,null,null,null,"Man U draw","32/13",3.4615384615384617,{"$f":"INDEX(Picks!T:T,MATCH(E90,Picks!R:R,0))","v":0}]
[null,null,null,null,"Newcastle draw","29/10",3.9,{"$f":"INDEX(Picks!T:T,MATCH(E91,Picks!R:R,0))","v":0}]
[null,null,null,null,"","","",{"$f":"INDEX(Picks!T:T,MATCH(E92,Picks!R:R,0))","v":{"$error":"#N/A"}}]
[null,null,null,null,"","","",{"$f":"INDEX(Picks!T:T,MATCH(E93,Picks!R:R,0))","v":{"$error":"#N/A"}}]
[null,null,null,null,{"$f":"IF(C2=\"\",\"\",K2)","v":"Norwich"},{"$f":"IF(C2=\"\",\"\",M2)","v":"18/1"},{"$f":"IF(C2=\"\",\"\",P2)","v":19},{"$f":"INDEX(Picks!T:T,MATCH(E94,Picks!R:R,0))","v":0}]
[null,null,null,null,"Sheff U","3/1",{"$f":"IF(C3=\"\",\"\",P3)","v":4},{"$f":"INDEX(Picks!T:T,MATCH(E95,Picks!R:R,0))","v":0}]
[null,null,null,null,"Southampton","9/5",2.8,{"$f":"INDEX(Picks!T:T,MATCH(E96,Picks!R:R,0))","v":0}]
[null,null,null,null,"Everton","6/4",2.5,{"$f":"INDEX(Picks!T:T,MATCH(E97,Picks!R:R,0))","v":0}]
[null,null,null,null,"Villa","10/1",11,{"$f":"INDEX(Picks!T:T,MATCH(E98,Picks!R:R,0))","v":0}]
[null,null,null,null,"Brighton","10/3",4.3333333333333339,{"$f":"INDEX(Picks!T:T,MATCH(E99,Picks!R:R,0))","v":1}]
[null,null,null,null,"Man C","1/4",1.25,{"$f":"INDEX(Picks!T:T,MATCH(E100,Picks!R:R,0))","v":1}]
[null,null,null,null,"Bristol C","21/10",3.1,{"$f":"INDEX(Picks!T:T,MATCH(E101,Picks!R:R,0))","v":0}]
[null,null,null,null,"Luton","19/5",4.8,{"$f":"INDEX(Picks!T:T,MATCH(E102,Picks!R:R,0))","v":0}]
[null,null,null,null,"Stoke","13/10",2.2999999999999998,{"$f":"INDEX(Picks!T:T,MATCH(E103,Picks!R:R,0))","v":0}]
[null,null,null,null,"Swansea","12/5",3.4,{"$f":"INDEX(Picks!T:T,MATCH(E104,Picks!R:R,0))","v":0}]
[null,null,null,null,"Blackburn","17/5",4.4000000000000004,{"$f":"INDEX(Picks!T:T,MATCH(E105,Picks!R:R,0))","v":0}]
[null,null,null,null,"Reading","27/10",3.7,{"$f":"INDEX(Picks!T:T,MATCH(E106,Picks!R:R,0))","v":0}]
[null,null,null,null,"Forest","4/1",5,{"$f":"INDEX(Picks!T:T,MATCH(E107,Picks!R:R,0))","v":0}]
[null,null,null,null,"Brentford","21/10",3.1,{"$f":"INDEX(Picks!T:T,MATCH(E108,Picks!R:R,0))","v":1}]
[null,null,null,null,"Wigan","27/10",3.7,{"$f":"INDEX(Picks!T:T,MATCH(E109,Picks!R:R,0))","v":0}]
[null,null,null,null,"Huddersfield","9/5",2.8,{"$f":"INDEX(Picks!T:T,MATCH(E110,Picks!R:R,0))","v":0}]
[null,null,null,null,"Barnsley","27/10",3.7,{"$f":"INDEX(Picks!T:T,MATCH(E111,Picks!R:R,0))","v":0}]
[null,null,null,null,"Millwall","17/4",5.25,{"$f":"INDEX(Picks!T:T,MATCH(E112,Picks!R:R,0))","v":0}]
[null,null,null,null,"Wycombe","21/10",3.1,{"$f":"INDEX(Picks!T:T,MATCH(E113,Picks!R:R,0))","v":0}]
[null,null,null,null,"Wimbledon","3/1",4,{"$f":"INDEX(Picks!T:T,MATCH(E114,Picks!R:R,0))","v":0}]
[null,null,null,null,"Burton","6/4",2.5,{"$f":"INDEX(Picks!T:T,MATCH(E115,Picks!R:R,0))","v":1}]
[null,null,null,null,"Sunderland","9/5",2.8,{"$f":"INDEX(Picks!T:T,MATCH(E116,Picks!R:R,0))","v":0}]
[null,null,null,null,"Shrewsbury","11/5",3.2,{"$f":"INDEX(Picks!T:T,MATCH(E117,Picks!R:R,0))","v":0}]
[null,null,null,null,"Peterborough","13/8",2.625,{"$f":"INDEX(Picks!T:T,MATCH(E118,Picks!R:R,0))","v":0}]
[null,null,null,null,"Tranmere","18/5",4.5999999999999996,{"$f":"INDEX(Picks!T:T,MATCH(E119,Picks!R:R,0))","v":0}]
[null,null,null,null,"Doncaster","6/4",2.5,{"$f":"INDEX(Picks!T:T,MATCH(E120,Picks!R:R,0))","v":0}]
[null,null,null,null,"Lincoln","23/10",3.3,{"$f":"INDEX(Picks!T:T,MATCH(E121,Picks!R:R,0))","v":1}]
[null,null,null,null,"Blackpool","6/4",2.5,{"$f":"INDEX(Picks!T:T,MATCH(E122,Picks!R:R,0))","v":1}]
[null,null,null,null,"Newport","13/8",2.625,{"$f":"INDEX(Picks!T:T,MATCH(E123,Picks!R:R,0))","v":0}]
[null,null,null,null,"Scunthorpe","16/11",2.4545454545454546,{"$f":"INDEX(Picks!T:T,MATCH(E124,Picks!R:R,0))","v":0}]
[null,null,null,null,"Salford","5/4",2.25,{"$f":"INDEX(Picks!T:T,MATCH(E125,Picks!R:R,0))","v":0}]
[null,null,null,null,"Bradford","6/5",2.2000000000000002,{"$f":"INDEX(Picks!T:T,MATCH(E126,Picks!R:R,0))","v":0}]
[null,null,null,null,"Orient","7/5",2.4,{"$f":"INDEX(Picks!T:T,MATCH(E127,Picks!R:R,0))","v":0}]
[null,null,null,null,"Morecambe","22/5",5.4,{"$f":"INDEX(Picks!T:T,MATCH(E128,Picks!R:R,0))","v":0}]
[null,null,null,null,"Crewe","19/10",2.9,{"$f":"INDEX(Picks!T:T,MATCH(E129,Picks!R:R,0))","v":1}]
[null,null,null,null,"Colchester","5/2",3.5,{"$f":"INDEX(Picks!T:T,MATCH(E130,Picks!R:R,0))","v":0}]
[null,null,null,null,"Northampton","9/5",2.8,{"$f":"INDEX(Picks!T:T,MATCH(E131,Picks!R:R,0))","v":0}]
[null,null,null,null,"Exeter","19/10",2.9,{"$f":"INDEX(Picks!T:T,MATCH(E132,Picks!R:R,0))","v":1}]
[null,null,null,null,"Carlisle","11/4",3.75,{"$f":"INDEX(Picks!T:T,MATCH(E133,Picks!R:R,0))","v":0}]
[null,null,null,null,"Forest Green","21/10",3.1,{"$f":"INDEX(Picks!T:T,MATCH(E134,Picks!R:R,0))","v":0}]
[null,null,null,null,"Wolves","32/13",3.4615384615384617,{"$f":"INDEX(Picks!T:T,MATCH(E135,Picks!R:R,0))","v":0}]
[null,null,null,null,"Chelsea","13/5",3.6,{"$f":"INDEX(Picks!T:T,MATCH(E136,Picks!R:R,0))","v":0}]
[null,null,null,null,"Arsenal","9/11",1.8181818181818183,{"$f":"INDEX(Picks!T:T,MATCH(E137,Picks!R:R,0))","v":1}]
[null,null,null,null,"","","",{"$f":"INDEX(Picks!T:T,MATCH(E138,Picks!R:R,0))","v":{"$error":"#N/A"}}]
[null,null,null,null,"","","",{"$f":"INDEX(Picks!T:T,MATCH(E139,Picks!R:R,0))","v":{"$error":"#N/A"}}]