{"text_format":"1","workbook":"xlsx","n_sheets":22,"sheets":["Home","Players","Fixture","Table","Weekly","Cup","Predictions","Diary","Match","Odds","Picks","Results","What-If","3of3","TopPicks","Images","PizzaRace","CupDraw","Prizelist","Prizes","Perms","FAQ"],"not_rendered":{"charts":0,"images":7,"macros":1,"external_links":0,"defined_names":44,"comments":3,"pivot_tables":3},"unopened":[],"bounds":{"document_bytes":16777216,"sheet_cells":100000,"rows_first":2000,"rows_last":500,"rows_between":2000,"halvings":0,"cell_chars":16384,"cell_head_chars":4096},"cells_cut":0,"cells_raw":0,"read":"whole","date_system":"1900"}

{"sheet":"Home","index":0,"n_rows":8,"n_cols":5,"rows_kept":8,"cut":false,"hidden":false,"merged":[]}
[null,"Click the top left cell in any tab to return Home"]
[null,"Weekly Reports","Useful Info","Admin (Weekly)","Admin (Other)"]
[null,"League Table","Pics for Publication","Add Matches","Calculations"]
[null,"Weekly Results","Prizes - Summary","Add Predictions","Entrants"]
[null,"Cup Draw","Prizes - Divisional Splits","Add Predictions (double-week)","Last Season Places"]
[null,"Season Diary","FAQ","1-2-3 Pivot","Brought Forward"]
[null,"Current Week Fixtures","Sample Bets","Top Picks","End of Season Finance"]
[null,"Current Week Predictions",null,"Cup Draw Raw","Mini Leagues "]

{"sheet":"Players","index":1,"n_rows":65,"n_cols":9,"rows_kept":65,"cut":false,"hidden":false,"merged":[]}
["Prev/Final\nPos","Prev/Final\nDiv","Players","Resigned?","Next\nDiv","Closing \nBalance"]
[1,"A","Gerard Ventom","N","A",null,null,"Row Labels","Count of Players"]
[2,"A","Steve Baxter","N","A",null,null,"A",16]
[3,"A","Nigel Heyes","N","A",null,null,"B",16]
[4,"A","Barry Birchall","N","A",null,null,"C",16]
[5,"A","Kei Lok Ma","N","A",null,null,"D",14]
[6,"A","Mark Bunn","N","A",null,null,"E",2]
[7,"A","Mark Saunders","N","A",null,null,"(blank)"]
[8,"A","Alfie Davies","N","A",null,null,"Grand Total",64]
[1,"B","Mal Stott","N","A"]
[2,"B","Kevin Carter","N","A"]
[3,"B","Paul Fairhurst","N","A"]
[4,"B","Sally Williams","N","A"]
[5,"B","Chris Bow","N","A"]
[6,"B","Phil Miller","N","A"]
[7,"B","Steve Carter","N","A"]
[8,"B","Lennie Bow","N","A"]
[9,"A","Pete Baron","N","B"]
[10,"A","Chris Luck","N","B"]
[11,"A","Stephen Troop","N","B"]
[12,"A","Mike Penk","N","B"]
[13,"A","Alick Rocca","N","B"]
[14,"A","Andy White","N","B"]
[15,"A","Alan Rogers","N","B"]
[16,"A","Stephen Barr","N","B"]
[9,"B","Charlie Griffiths","N","B"]
[10,"B","Mo Sudell","N","B"]
[1,"C","Howard Bradley","N","B"]
[2,"C","John Ronan","N","B"]
[3,"C","Vinny Topping","N","B"]
[4,"C","Simon Greenhalgh","N","B"]
[5,"C","James Bell","N","B"]
[6,"C","Dave Orrell","N","B"]
[11,"B","Rob England","N","C"]
[12,"B","Chris Griffin","N","C"]
[13,"B","Chris Townsend","N","C"]
[14,"B","Paul Fiddler","N","C"]
[15,"B","Andy Charleston","N","C"]
[16,"B","Oscar Jackson","N","C"]
[7,"C","Tom Robinson","N","C"]
[8,"C","Graham Miller","N","C"]
[9,"C","Paul Allen","N","C"]
[1,"D","Alan White","N","C"]
[2,"D","Ben Rosser","N","C"]
[3,"D","Jack Walsh","N","C"]
[5,"D","Nick Blocksidge","N","C"]
[6,"D","Gareth McGuire","N","C"]
[7,"D","David Dunn","N","C"]
[8,"D","Paul Adderley","N","C"]
[11,"C","Martin Molyneux","N","D"]
[12,"C","Dave Bell","N","D"]
[13,"C","Gareth Powell","N","D"]
[14,"C","Martin Tarbuck","N","D"]
[15,"C","Ashley Houghton","N","D"]
[9,"D","Liam Wah","N","D"]
[10,"D","Ian Davies","N","D"]
[null,null,"Andy Hargreaves","X","D"]
[null,null,"Alan Bond","X","D"]
[null,null,"John Murphy","X","D"]
[null,null,"Bob Bailey","X","D"]
[null,null,"Dan Gibbard","X","D"]
[null,null,"Frank Allen","X","D"]
[10,"C","Paul Barnes","Y","D"]
[16,"C","Joel Bent","Y","E"]
[4,"D","Paul Ridgeway","Y","E"]

{"sheet":"Fixture","index":2,"n_rows":47,"n_cols":5,"rows_kept":47,"cut":false,"hidden":false,"merged":[]}
["Date","Competition","Odds","Result"]
[{"$f":"IF(Match!B2=\"\",\"\",Match!B2)","v":"2021-08-27"},{"$f":"IF(Match!D2=\"\",\"\",Match!D2)","v":"League 1"},{"$f":"IF(Match!U2=\"\",\"\",Match!U2)","v":"Burton  v  Cheltenham   1/1  5/2  27/10"},{"$f":"IF(Match!V2=\"\",\"\",Match!V2)","v":"Burton 1-1 Cheltenham "}]
[{"$f":"IF(Match!B3=\"\",\"\",Match!B3)","v":"2021-08-27"},{"$f":"IF(Match!D3=\"\",\"\",Match!D3)","v":"League 2"},{"$f":"IF(Match!U3=\"\",\"\",Match!U3)","v":"Rochdale  v  Colchester   11/8  11/5  21/10"},{"$f":"IF(Match!V3=\"\",\"\",Match!V3)","v":"Rochdale 1-1 Colchester "}]
[{"$f":"IF(Match!B4=\"\",\"\",Match!B4)","v":"2021-08-28"},{"$f":"IF(Match!D4=\"\",\"\",Match!D4)","v":"Premier"},{"$f":"IF(Match!U4=\"\",\"\",Match!U4)","v":"Brighton  v  Everton   11/8  11/5  11/5"},{"$f":"IF(Match!V4=\"\",\"\",Match!V4)","v":"Brighton 0-2 Everton "}]
[{"$f":"IF(Match!B5=\"\",\"\",Match!B5)","v":"2021-08-28"},{"$f":"IF(Match!D5=\"\",\"\",Match!D5)","v":"Premier"},{"$f":"IF(Match!U5=\"\",\"\",Match!U5)","v":"Liverpool  v  Chelsea   8/5  23/10  7/4"},{"$f":"IF(Match!V5=\"\",\"\",Match!V5)","v":"Liverpool 1-1 Chelsea "}]
[{"$f":"IF(Match!B6=\"\",\"\",Match!B6)","v":"2021-08-28"},{"$f":"IF(Match!D6=\"\",\"\",Match!D6)","v":"Premier"},{"$f":"IF(Match!U6=\"\",\"\",Match!U6)","v":"Man C  v  Arsenal   1/4  24/5  11/1"},{"$f":"IF(Match!V6=\"\",\"\",Match!V6)","v":"Man C 5-0 Arsenal "}]
[{"$f":"IF(Match!B7=\"\",\"\",Match!B7)","v":"2021-08-28"},{"$f":"IF(Match!D7=\"\",\"\",Match!D7)","v":"Premier"},{"$f":"IF(Match!U7=\"\",\"\",Match!U7)","v":"Newcastle  v  Southampton   13/8  5/2  13/8"},{"$f":"IF(Match!V7=\"\",\"\",Match!V7)","v":"Newcastle 2-2 Southampton "}]
[{"$f":"IF(Match!B8=\"\",\"\",Match!B8)","v":"2021-08-28"},{"$f":"IF(Match!D8=\"\",\"\",Match!D8)","v":"Premier"},{"$f":"IF(Match!U8=\"\",\"\",Match!U8)","v":"Norwich  v  Leicester   4/1  27/10  8/11"},{"$f":"IF(Match!V8=\"\",\"\",Match!V8)","v":"Norwich 1-2 Leicester "}]
[{"$f":"IF(Match!B9=\"\",\"\",Match!B9)","v":"2021-08-28"},{"$f":"IF(Match!D9=\"\",\"\",Match!D9)","v":"Premier"},{"$f":"IF(Match!U9=\"\",\"\",Match!U9)","v":"Villa  v  Brentford   1/1  13/5  27/10"},{"$f":"IF(Match!V9=\"\",\"\",Match!V9)","v":"Villa 1-1 Brentford "}]
[{"$f":"IF(Match!B10=\"\",\"\",Match!B10)","v":"2021-08-28"},{"$f":"IF(Match!D10=\"\",\"\",Match!D10)","v":"Premier"},{"$f":"IF(Match!U10=\"\",\"\",Match!U10)","v":"West Ham  v  Palace   6/10  29/10  24/5"},{"$f":"IF(Match!V10=\"\",\"\",Match!V10)","v":"West Ham 2-2 Palace "}]
[{"$f":"IF(Match!B11=\"\",\"\",Match!B11)","v":"2021-08-28"},{"$f":"IF(Match!D11=\"\",\"\",Match!D11)","v":"Champ"},{"$f":"IF(Match!U11=\"\",\"\",Match!U11)","v":"Barnsley  v  Birmingham   23/20  21/10  27/10"},{"$f":"IF(Match!V11=\"\",\"\",Match!V11)","v":"Barnsley 1-1 Birmingham "}]
[{"$f":"IF(Match!B12=\"\",\"\",Match!B12)","v":"2021-08-28"},{"$f":"IF(Match!D12=\"\",\"\",Match!D12)","v":"Champ"},{"$f":"IF(Match!U12=\"\",\"\",Match!U12)","v":"Cardiff  v  Bristol C   19/20  23/10  16/5"},{"$f":"IF(Match!V12=\"\",\"\",Match!V12)","v":"Cardiff 1-2 Bristol C "}]
[{"$f":"IF(Match!B13=\"\",\"\",Match!B13)","v":"2021-08-28"},{"$f":"IF(Match!D13=\"\",\"\",Match!D13)","v":"Champ"},{"$f":"IF(Match!U13=\"\",\"\",Match!U13)","v":"Derby  v  Forest   7/4  2/1  7/4"},{"$f":"IF(Match!V13=\"\",\"\",Match!V13)","v":"Derby 1-1 Forest "}]
[{"$f":"IF(Match!B14=\"\",\"\",Match!B14)","v":"2021-08-28"},{"$f":"IF(Match!D14=\"\",\"\",Match!D14)","v":"Champ"},{"$f":"IF(Match!U14=\"\",\"\",Match!U14)","v":"Fulham  v  Stoke   1/1  11/5  3/1"},{"$f":"IF(Match!V14=\"\",\"\",Match!V14)","v":"Fulham 3-0 Stoke "}]
[{"$f":"IF(Match!B15=\"\",\"\",Match!B15)","v":"2021-08-28"},{"$f":"IF(Match!D15=\"\",\"\",Match!D15)","v":"Champ"},{"$f":"IF(Match!U15=\"\",\"\",Match!U15)","v":"Huddersfield  v  Reading   13/8  12/5  2/1"},{"$f":"IF(Match!V15=\"\",\"\",Match!V15)","v":"Huddersfield 4-0 Reading "}]
[{"$f":"IF(Match!B16=\"\",\"\",Match!B16)","v":"2021-08-28"},{"$f":"IF(Match!D16=\"\",\"\",Match!D16)","v":"Champ"},{"$f":"IF(Match!U16=\"\",\"\",Match!U16)","v":"Hull  v  Bournemouth   9/4  11/5  13/10"},{"$f":"IF(Match!V16=\"\",\"\",Match!V16)","v":"Hull 0-0 Bournemouth "}]
[{"$f":"IF(Match!B17=\"\",\"\",Match!B17)","v":"2021-08-28"},{"$f":"IF(Match!D17=\"\",\"\",Match!D17)","v":"Champ"},{"$f":"IF(Match!U17=\"\",\"\",Match!U17)","v":"Luton  v  Sheff U   11/5  21/10  11/8"},{"$f":"IF(Match!V17=\"\",\"\",Match!V17)","v":"Luton 0-0 Sheff U "}]
[{"$f":"IF(Match!B18=\"\",\"\",Match!B18)","v":"2021-08-28"},{"$f":"IF(Match!D18=\"\",\"\",Match!D18)","v":"Champ"},{"$f":"IF(Match!U18=\"\",\"\",Match!U18)","v":"Middlesbro  v  Blackburn   6/5  11/5  17/5"},{"$f":"IF(Match!V18=\"\",\"\",Match!V18)","v":"Middlesbro 1-1 Blackburn "}]
[{"$f":"IF(Match!B19=\"\",\"\",Match!B19)","v":"2021-08-28"},{"$f":"IF(Match!D19=\"\",\"\",Match!D19)","v":"Champ"},{"$f":"IF(Match!U19=\"\",\"\",Match!U19)","v":"Millwall  v  Blackpool   10/11  11/5  17/5"},{"$f":"IF(Match!V19=\"\",\"\",Match!V19)","v":"Millwall 2-1 Blackpool "}]
[{"$f":"IF(Match!B20=\"\",\"\",Match!B20)","v":"2021-08-28"},{"$f":"IF(Match!D20=\"\",\"\",Match!D20)","v":"Champ"},{"$f":"IF(Match!U20=\"\",\"\",Match!U20)","v":"Peterborough  v  West Brom   16/5  5/2  17/20"},{"$f":"IF(Match!V20=\"\",\"\",Match!V20)","v":"Peterborough 0-1 West Brom "}]
[{"$f":"IF(Match!B21=\"\",\"\",Match!B21)","v":"2021-08-28"},{"$f":"IF(Match!D21=\"\",\"\",Match!D21)","v":"Champ"},{"$f":"IF(Match!U21=\"\",\"\",Match!U21)","v":"Preston  v  Swansea   8/5  21/10  9/5"},{"$f":"IF(Match!V21=\"\",\"\",Match!V21)","v":"Preston 3-1 Swansea "}]
[{"$f":"IF(Match!B22=\"\",\"\",Match!B22)","v":"2021-08-28"},{"$f":"IF(Match!D22=\"\",\"\",Match!D22)","v":"Champ"},{"$f":"IF(Match!U22=\"\",\"\",Match!U22)","v":"QPR  v  Coventry   23/20  11/5  13/5"},{"$f":"IF(Match!V22=\"\",\"\",Match!V22)","v":"QPR 2-0 Coventry "}]
[{"$f":"IF(Match!B23=\"\",\"\",Match!B23)","v":"2021-08-28"},{"$f":"IF(Match!D23=\"\",\"\",Match!D23)","v":"League 1"},{"$f":"IF(Match!U23=\"\",\"\",Match!U23)","v":"Cambridge  v  Bolton   2/1  12/5  13/10"},{"$f":"IF(Match!V23=\"\",\"\",Match!V23)","v":"Cambridge 1-0 Bolton "}]
[{"$f":"IF(Match!B24=\"\",\"\",Match!B24)","v":"2021-08-28"},{"$f":"IF(Match!D24=\"\",\"\",Match!D24)","v":"League 1"},{"$f":"IF(Match!U24=\"\",\"\",Match!U24)","v":"Charlton  v  Crewe   17/20  5/2  16/5"},{"$f":"IF(Match!V24=\"\",\"\",Match!V24)","v":"Charlton 2-0 Crewe "}]
[{"$f":"IF(Match!B25=\"\",\"\",Match!B25)","v":"2021-08-28"},{"$f":"IF(Match!D25=\"\",\"\",Match!D25)","v":"League 1"},{"$f":"IF(Match!U25=\"\",\"\",Match!U25)","v":"Ipswich  v  Wimbledon   1/1  23/10  29/10"},{"$f":"IF(Match!V25=\"\",\"\",Match!V25)","v":"Ipswich 2-2 Wimbledon "}]
[{"$f":"IF(Match!B26=\"\",\"\",Match!B26)","v":"2021-08-28"},{"$f":"IF(Match!D26=\"\",\"\",Match!D26)","v":"League 1"},{"$f":"IF(Match!U26=\"\",\"\",Match!U26)","v":"MK Dons  v  Accrington   11/10  12/5  12/5"},{"$f":"IF(Match!V26=\"\",\"\",Match!V26)","v":"MK Dons 2-0 Accrington "}]
[{"$f":"IF(Match!B27=\"\",\"\",Match!B27)","v":"2021-08-28"},{"$f":"IF(Match!D27=\"\",\"\",Match!D27)","v":"League 1"},{"$f":"IF(Match!U27=\"\",\"\",Match!U27)","v":"Morecambe  v  Sheff W   3/1  5/2  10/11"},{"$f":"IF(Match!V27=\"\",\"\",Match!V27)","v":"Morecambe 1-0 Sheff W "}]
[{"$f":"IF(Match!B28=\"\",\"\",Match!B28)","v":"2021-08-28"},{"$f":"IF(Match!D28=\"\",\"\",Match!D28)","v":"League 1"},{"$f":"IF(Match!U28=\"\",\"\",Match!U28)","v":"Oxford  v  Lincoln   11/10  12/5  12/5"},{"$f":"IF(Match!V28=\"\",\"\",Match!V28)","v":"Oxford 3-1 Lincoln "}]
[{"$f":"IF(Match!B29=\"\",\"\",Match!B29)","v":"2021-08-28"},{"$f":"IF(Match!D29=\"\",\"\",Match!D29)","v":"League 1"},{"$f":"IF(Match!U29=\"\",\"\",Match!U29)","v":"Plymouth  v  Fleetwood   29/20  9/4  19/10"},{"$f":"IF(Match!V29=\"\",\"\",Match!V29)","v":"Plymouth 1-1 Fleetwood "}]
[{"$f":"IF(Match!B30=\"\",\"\",Match!B30)","v":"2021-08-28"},{"$f":"IF(Match!D30=\"\",\"\",Match!D30)","v":"League 1"},{"$f":"IF(Match!U30=\"\",\"\",Match!U30)","v":"Rotherham  v  Doncaster   13/20  11/4  9/2"},{"$f":"IF(Match!V30=\"\",\"\",Match!V30)","v":"Rotherham 2-0 Doncaster "}]
[{"$f":"IF(Match!B31=\"\",\"\",Match!B31)","v":"2021-08-28"},{"$f":"IF(Match!D31=\"\",\"\",Match!D31)","v":"League 1"},{"$f":"IF(Match!U31=\"\",\"\",Match!U31)","v":"Shrewsbury  v  Gillingham   29/20  9/4  15/8"},{"$f":"IF(Match!V31=\"\",\"\",Match!V31)","v":"Shrewsbury 2-1 Gillingham "}]
[{"$f":"IF(Match!B32=\"\",\"\",Match!B32)","v":"2021-08-28"},{"$f":"IF(Match!D32=\"\",\"\",Match!D32)","v":"League 1"},{"$f":"IF(Match!U32=\"\",\"\",Match!U32)","v":"Sunderland  v  Wycombe   1/1  12/5  14/5"},{"$f":"IF(Match!V32=\"\",\"\",Match!V32)","v":"Sunderland 3-1 Wycombe "}]
[{"$f":"IF(Match!B33=\"\",\"\",Match!B33)","v":"2021-08-28"},{"$f":"IF(Match!D33=\"\",\"\",Match!D33)","v":"League 1"},{"$f":"IF(Match!U33=\"\",\"\",Match!U33)","v":"Wigan  v  Portsmouth   8/5  21/10  15/8"},{"$f":"IF(Match!V33=\"\",\"\",Match!V33)","v":"Wigan 1-0 Portsmouth "}]
[{"$f":"IF(Match!B34=\"\",\"\",Match!B34)","v":"2021-08-28"},{"$f":"IF(Match!D34=\"\",\"\",Match!D34)","v":"League 2"},{"$f":"IF(Match!U34=\"\",\"\",Match!U34)","v":"Barrow  v  Bristol R   29/20  11/5  2/1"},{"$f":"IF(Match!V34=\"\",\"\",Match!V34)","v":"Barrow 1-1 Bristol R "}]
[{"$f":"IF(Match!B35=\"\",\"\",Match!B35)","v":"2021-08-28"},{"$f":"IF(Match!D35=\"\",\"\",Match!D35)","v":"League 2"},{"$f":"IF(Match!U35=\"\",\"\",Match!U35)","v":"Crawley  v  Northampton   15/8  23/10  29/20"},{"$f":"IF(Match!V35=\"\",\"\",Match!V35)","v":"Crawley 0-0 Northampton "}]
[{"$f":"IF(Match!B36=\"\",\"\",Match!B36)","v":"2021-08-28"},{"$f":"IF(Match!D36=\"\",\"\",Match!D36)","v":"League 2"},{"$f":"IF(Match!U36=\"\",\"\",Match!U36)","v":"Forest Green  v  Port Vale   23/20  21/10  27/10"},{"$f":"IF(Match!V36=\"\",\"\",Match!V36)","v":"Forest Green 0-2 Port Vale "}]
[{"$f":"IF(Match!B37=\"\",\"\",Match!B37)","v":"2021-08-28"},{"$f":"IF(Match!D37=\"\",\"\",Match!D37)","v":"League 2"},{"$f":"IF(Match!U37=\"\",\"\",Match!U37)","v":"Harrogate  v  Exeter   8/5  12/5  13/8"},{"$f":"IF(Match!V37=\"\",\"\",Match!V37)","v":"Harrogate 1-1 Exeter "}]
[{"$f":"IF(Match!B38=\"\",\"\",Match!B38)","v":"2021-08-28"},{"$f":"IF(Match!D38=\"\",\"\",Match!D38)","v":"League 2"},{"$f":"IF(Match!U38=\"\",\"\",Match!U38)","v":"Hartlepool  v  Carlisle   15/8  11/5  6/4"},{"$f":"IF(Match!V38=\"\",\"\",Match!V38)","v":"Hartlepool 2-1 Carlisle "}]
[{"$f":"IF(Match!B39=\"\",\"\",Match!B39)","v":"2021-08-28"},{"$f":"IF(Match!D39=\"\",\"\",Match!D39)","v":"League 2"},{"$f":"IF(Match!U39=\"\",\"\",Match!U39)","v":"Orient  v  Bradford   2/1  21/10  21/10"},{"$f":"IF(Match!V39=\"\",\"\",Match!V39)","v":"Orient 2-0 Bradford "}]
[{"$f":"IF(Match!B40=\"\",\"\",Match!B40)","v":"2021-08-28"},{"$f":"IF(Match!D40=\"\",\"\",Match!D40)","v":"League 2"},{"$f":"IF(Match!U40=\"\",\"\",Match!U40)","v":"Salford  v  Newport   7/5  21/10  29/20"},{"$f":"IF(Match!V40=\"\",\"\",Match!V40)","v":"Salford 3-0 Newport "}]
[{"$f":"IF(Match!B41=\"\",\"\",Match!B41)","v":"2021-08-28"},{"$f":"IF(Match!D41=\"\",\"\",Match!D41)","v":"League 2"},{"$f":"IF(Match!U41=\"\",\"\",Match!U41)","v":"Scunthorpe  v  Tranmere   27/10  11/5  11/10"},{"$f":"IF(Match!V41=\"\",\"\",Match!V41)","v":"Scunthorpe 1-0 Tranmere "},1]
[{"$f":"IF(Match!B42=\"\",\"\",Match!B42)","v":"2021-08-28"},{"$f":"IF(Match!D42=\"\",\"\",Match!D42)","v":"League 2"},{"$f":"IF(Match!U42=\"\",\"\",Match!U42)","v":"Sutton  v  Oldham   11/10  9/4  13/5"},{"$f":"IF(Match!V42=\"\",\"\",Match!V42)","v":"Sutton 1-2 Oldham "}]
[{"$f":"IF(Match!B43=\"\",\"\",Match!B43)","v":"2021-08-28"},{"$f":"IF(Match!D43=\"\",\"\",Match!D43)","v":"League 2"},{"$f":"IF(Match!U43=\"\",\"\",Match!U43)","v":"Swindon  v  Mansfield   21/10  23/10  13/10"},{"$f":"IF(Match!V43=\"\",\"\",Match!V43)","v":"Swindon 1-0 Mansfield "}]
[{"$f":"IF(Match!B44=\"\",\"\",Match!B44)","v":"2021-08-28"},{"$f":"IF(Match!D44=\"\",\"\",Match!D44)","v":"League 2"},{"$f":"IF(Match!U44=\"\",\"\",Match!U44)","v":"Walsall  v  Stevenage   15/8  21/10  8/5"},{"$f":"IF(Match!V44=\"\",\"\",Match!V44)","v":"Walsall 1-0 Stevenage "}]
[{"$f":"IF(Match!B45=\"\",\"\",Match!B45)","v":"2021-08-29"},{"$f":"IF(Match!D45=\"\",\"\",Match!D45)","v":"Premier"},{"$f":"IF(Match!U45=\"\",\"\",Match!U45)","v":"Burnley  v  Leeds   21/10  5/2  5/4"},{"$f":"IF(Match!V45=\"\",\"\",Match!V45)","v":"Burnley 1-1 Leeds "}]
[{"$f":"IF(Match!B46=\"\",\"\",Match!B46)","v":"2021-08-29"},{"$f":"IF(Match!D46=\"\",\"\",Match!D46)","v":"Premier"},{"$f":"IF(Match!U46=\"\",\"\",Match!U46)","v":"Spurs  v  Watford   2/5  17/5  15/2"},{"$f":"IF(Match!V46=\"\",\"\",Match!V46)","v":"Spurs 1-0 Watford "}]
[{"$f":"IF(Match!B47=\"\",\"\",Match!B47)","v":"2021-08-29"},{"$f":"IF(Match!D47=\"\",\"\",Match!D47)","v":"Premier"},{"$f":"IF(Match!U47=\"\",\"\",Match!U47)","v":"Wolves  v  Man U   4/1  12/5  4/5"},{"$f":"IF(Match!V47=\"\",\"\",Match!V47)","v":"Wolves 0-1 Man U "}]

{"sheet":"Table","index":3,"n_rows":66,"n_cols":21,"rows_kept":66,"cut":false,"hidden":false,"merged":[[1,0,16,0],[17,0,32,0],[33,0,48,0],[49,0,63,0]]}
[{"$f":"CONCATENATE(CurrentSeason,\"/Week \",CurrentWeek)","v":"PL38/Week 3"},"Place Prize","Promotion/\nRelegation","Pos","Div","Player","↓","New\nDiv","Total\nScore","Total\ncorrect","Week\nScore","Week\nCorrect","Brought\nForward","League\nPlace\nPrize","Weekly\nPrizes","Cup\nPrize","Total\nPrize","Season\nBalance"]
["Division A",{"$f":"CONCATENATE(E2,D2)","v":"A1"},null,1,"A","Phil Miller",null,null,{"$f":"INDEX(Weekly!F:F,MATCH($F2,Weekly!$E:$E,0))","v":43.295454545454547},{"$f":"INDEX(Weekly!G:G,MATCH($F2,Weekly!$E:$E,0))","v":7},{"$f":"INDEX(Weekly!H:H,MATCH($F2,Weekly!$E:$E,0))","v":37.81818181818182},{"$f":"INDEX(Weekly!I:I,MATCH($F2,Weekly!$E:$E,0))","v":3},{"$f":"INDEX(Players!F:F,MATCH($F2,Players!#REF!,0))","v":{"$error":"#REF!"}},{"$f":"INDEX(Prizes!F:F,MATCH($B2,Prizes!A:A,0))","v":108.675},{"$f":"INDEX(Weekly!J:J,MATCH($F2,Weekly!$E:$E,0))","v":10},{"$f":"INDEX(Weekly!K:K,MATCH($F2,Weekly!$E:$E,0))","v":0},{"$f":"INDEX(Weekly!M:M,MATCH($F2,Weekly!$E:$E,0))","v":118.675},{"$f":"Q2+M2","v":{"$error":"#REF!"}}]
[null,"A2",null,2,"A","Barry Birchall",null,null,{"$f":"INDEX(Weekly!F:F,MATCH($F3,Weekly!$E:$E,0))","v":16.744999999999997},{"$f":"INDEX(Weekly!G:G,MATCH($F3,Weekly!$E:$E,0))","v":6},{"$f":"INDEX(Weekly!H:H,MATCH($F3,Weekly!$E:$E,0))","v":-5.35},{"$f":"INDEX(Weekly!I:I,MATCH($F3,Weekly!$E:$E,0))","v":1},{"$f":"INDEX(Players!F:F,MATCH($F3,Players!#REF!,0))","v":{"$error":"#REF!"}},{"$f":"INDEX(Prizes!F:F,MATCH($B3,Prizes!A:A,0))","v":77.625},{"$f":"INDEX(Weekly!J:J,MATCH($F3,Weekly!$E:$E,0))","v":0},{"$f":"INDEX(Weekly!K:K,MATCH($F3,Weekly!$E:$E,0))","v":0},{"$f":"INDEX(Weekly!M:M,MATCH($F3,Weekly!$E:$E,0))","v":77.625},{"$f":"Q3+M3","v":{"$error":"#REF!"}}]
[null,"A3",null,3,"A","Chris Bow",null,null,{"$f":"INDEX(Weekly!F:F,MATCH($F4,Weekly!$E:$E,0))","v":9.6199999999999992},{"$f":"INDEX(Weekly!G:G,MATCH($F4,Weekly!$E:$E,0))","v":5},{"$f":"INDEX(Weekly!H:H,MATCH($F4,Weekly!$E:$E,0))","v":2.8000000000000007},{"$f":"INDEX(Weekly!I:I,MATCH($F4,Weekly!$E:$E,0))","v":2},{"$f":"INDEX(Players!F:F,MATCH($F4,Players!#REF!,0))","v":{"$error":"#REF!"}},{"$f":"INDEX(Prizes!F:F,MATCH($B4,Prizes!A:A,0))","v":55.89},{"$f":"INDEX(Weekly!J:J,MATCH($F4,Weekly!$E:$E,0))","v":0},{"$f":"INDEX(Weekly!K:K,MATCH($F4,Weekly!$E:$E,0))","v":0},{"$f":"INDEX(Weekly!M:M,MATCH($F4,Weekly!$E:$E,0))","v":55.89},{"$error":"#REF!"},null,null,"Promotion and Relegation Key"]
[null,"A4",null,4,"A","Mark Saunders",null,null,{"$f":"INDEX(Weekly!F:F,MATCH($F5,Weekly!$E:$E,0))","v":6.6454545454545437},{"$f":"INDEX(Weekly!G:G,MATCH($F5,Weekly!$E:$E,0))","v":6},{"$f":"INDEX(Weekly!H:H,MATCH($F5,Weekly!$E:$E,0))","v":4.8999999999999986},{"$f":"INDEX(Weekly!I:I,MATCH($F5,Weekly!$E:$E,0))","v":2},{"$f":"INDEX(Players!F:F,MATCH($F5,Players!#REF!,0))","v":{"$error":"#REF!"}},{"$f":"INDEX(Prizes!F:F,MATCH($B5,Prizes!A:A,0))","v":37.26},{"$f":"INDEX(Weekly!J:J,MATCH($F5,Weekly!$E:$E,0))","v":0},{"$f":"INDEX(Weekly!K:K,MATCH($F5,Weekly!$E:$E,0))","v":0},{"$f":"INDEX(Weekly!M:M,MATCH($F5,Weekly!$E:$E,0))","v":37.26},{"$error":"#REF!"},null,null,"No change"]
[null,"A5",null,5,"A","Kevin Carter",null,null,{"$f":"INDEX(Weekly!F:F,MATCH($F6,Weekly!$E:$E,0))","v":5.7293939393939395},{"$f":"INDEX(Weekly!G:G,MATCH($F6,Weekly!$E:$E,0))","v":7},{"$f":"INDEX(Weekly!H:H,MATCH($F6,Weekly!$E:$E,0))","v":-0.22727272727272751},{"$f":"INDEX(Weekly!I:I,MATCH($F6,Weekly!$E:$E,0))","v":2},{"$f":"INDEX(Players!F:F,MATCH($F6,Players!#REF!,0))","v":{"$error":"#REF!"}},{"$f":"INDEX(Prizes!F:F,MATCH($B6,Prizes!A:A,0))","v":21.734999999999999},{"$f":"INDEX(Weekly!J:J,MATCH($F6,Weekly!$E:$E,0))","v":0},{"$f":"INDEX(Weekly!K:K,MATCH($F6,Weekly!$E:$E,0))","v":0},{"$f":"INDEX(Weekly!M:M,MATCH($F6,Weekly!$E:$E,0))","v":21.734999999999999},{"$error":"#REF!"},null,null,"Promoted to Division above"]
[null,"A6",null,6,"A","Mal Stott",null,null,{"$f":"INDEX(Weekly!F:F,MATCH($F7,Weekly!$E:$E,0))","v":0.9081818181818182},{"$f":"INDEX(Weekly!G:G,MATCH($F7,Weekly!$E:$E,0))","v":5},{"$f":"INDEX(Weekly!H:H,MATCH($F7,Weekly!$E:$E,0))","v":-5.15},{"$f":"INDEX(Weekly!I:I,MATCH($F7,Weekly!$E:$E,0))","v":1},{"$f":"INDEX(Players!F:F,MATCH($F7,Players!#REF!,0))","v":{"$error":"#REF!"}},{"$f":"INDEX(Prizes!F:F,MATCH($B7,Prizes!A:A,0))","v":9.3149999999999995},{"$f":"INDEX(Weekly!J:J,MATCH($F7,Weekly!$E:$E,0))","v":0},{"$f":"INDEX(Weekly!K:K,MATCH($F7,Weekly!$E:$E,0))","v":0},{"$f":"INDEX(Weekly!M:M,MATCH($F7,Weekly!$E:$E,0))","v":9.3149999999999995},{"$error":"#REF!"},null,null,"Relegated to Division below"]
[null,"A7",null,7,"A","Lennie Bow",null,null,{"$f":"INDEX(Weekly!F:F,MATCH($F8,Weekly!$E:$E,0))","v":0.27613636363636296},{"$f":"INDEX(Weekly!G:G,MATCH($F8,Weekly!$E:$E,0))","v":5},{"$f":"INDEX(Weekly!H:H,MATCH($F8,Weekly!$E:$E,0))","v":-4.9000000000000004},{"$f":"INDEX(Weekly!I:I,MATCH($F8,Weekly!$E:$E,0))","v":1},{"$f":"INDEX(Players!F:F,MATCH($F8,Players!#REF!,0))","v":{"$error":"#REF!"}},{"$f":"INDEX(Prizes!F:F,MATCH($B8,Prizes!A:A,0))","v":0},{"$f":"INDEX(Weekly!J:J,MATCH($F8,Weekly!$E:$E,0))","v":0},{"$f":"INDEX(Weekly!K:K,MATCH($F8,Weekly!$E:$E,0))","v":0},{"$f":"INDEX(Weekly!M:M,MATCH($F8,Weekly!$E:$E,0))","v":0},{"$error":"#REF!"},null,null,"Best two up to Div A, Worst two down to Div B"]
[null,"A8",null,8,"A","Nigel Heyes",null,null,{"$f":"INDEX(Weekly!F:F,MATCH($F9,Weekly!$E:$E,0))","v":-0.23545454545454447},{"$f":"INDEX(Weekly!G:G,MATCH($F9,Weekly!$E:$E,0))","v":5},{"$f":"INDEX(Weekly!H:H,MATCH($F9,Weekly!$E:$E,0))","v":3.16},{"$f":"INDEX(Weekly!I:I,MATCH($F9,Weekly!$E:$E,0))","v":2},{"$f":"INDEX(Players!F:F,MATCH($F9,Players!#REF!,0))","v":{"$error":"#REF!"}},{"$f":"INDEX(Prizes!F:F,MATCH($B9,Prizes!A:A,0))","v":0},{"$f":"INDEX(Weekly!J:J,MATCH($F9,Weekly!$E:$E,0))","v":0},{"$f":"INDEX(Weekly!K:K,MATCH($F9,Weekly!$E:$E,0))","v":0},{"$f":"INDEX(Weekly!M:M,MATCH($F9,Weekly!$E:$E,0))","v":0},{"$error":"#REF!"},null,null,"Best two up to Div B, Worst two down to Div C"]
[null,"A9","Play-off",9,"A","Steve Baxter",null,null,{"$f":"INDEX(Weekly!F:F,MATCH($F10,Weekly!$E:$E,0))","v":-1.9809090909090914},{"$f":"INDEX(Weekly!G:G,MATCH($F10,Weekly!$E:$E,0))","v":6},{"$f":"INDEX(Weekly!H:H,MATCH($F10,Weekly!$E:$E,0))","v":-5.2},{"$f":"INDEX(Weekly!I:I,MATCH($F10,Weekly!$E:$E,0))","v":1},{"$f":"INDEX(Players!F:F,MATCH($F10,Players!#REF!,0))","v":{"$error":"#REF!"}},{"$f":"INDEX(Prizes!F:F,MATCH($B10,Prizes!A:A,0))","v":0},{"$f":"INDEX(Weekly!J:J,MATCH($F10,Weekly!$E:$E,0))","v":0},{"$f":"INDEX(Weekly!K:K,MATCH($F10,Weekly!$E:$E,0))","v":0},{"$f":"INDEX(Weekly!M:M,MATCH($F10,Weekly!$E:$E,0))","v":0},{"$error":"#REF!"},null,null,"Best two up to Div C, Worst two down to Div D"]
[null,"A10","Play-off",10,"A","Sally Williams",null,null,{"$f":"INDEX(Weekly!F:F,MATCH($F11,Weekly!$E:$E,0))","v":-2.0999999999999996},{"$f":"INDEX(Weekly!G:G,MATCH($F11,Weekly!$E:$E,0))","v":3},{"$f":"INDEX(Weekly!H:H,MATCH($F11,Weekly!$E:$E,0))","v":8.8000000000000007},{"$f":"INDEX(Weekly!I:I,MATCH($F11,Weekly!$E:$E,0))","v":2},{"$f":"INDEX(Players!F:F,MATCH($F11,Players!#REF!,0))","v":{"$error":"#REF!"}},{"$f":"INDEX(Prizes!F:F,MATCH($B11,Prizes!A:A,0))","v":0},{"$f":"INDEX(Weekly!J:J,MATCH($F11,Weekly!$E:$E,0))","v":0},{"$f":"INDEX(Weekly!K:K,MATCH($F11,Weekly!$E:$E,0))","v":0},{"$f":"INDEX(Weekly!M:M,MATCH($F11,Weekly!$E:$E,0))","v":0},{"$error":"#REF!"}]
[null,"A11","↓",11,"A","Gerard Ventom",null,null,{"$f":"INDEX(Weekly!F:F,MATCH($F12,Weekly!$E:$E,0))","v":-2.1499999999999995},{"$f":"INDEX(Weekly!G:G,MATCH($F12,Weekly!$E:$E,0))","v":4},{"$f":"INDEX(Weekly!H:H,MATCH($F12,Weekly!$E:$E,0))","v":-3.8},{"$f":"INDEX(Weekly!I:I,MATCH($F12,Weekly!$E:$E,0))","v":1},{"$f":"INDEX(Players!F:F,MATCH($F12,Players!#REF!,0))","v":{"$error":"#REF!"}},{"$f":"INDEX(Prizes!F:F,MATCH($B12,Prizes!A:A,0))","v":0},{"$f":"INDEX(Weekly!J:J,MATCH($F12,Weekly!$E:$E,0))","v":0},{"$f":"INDEX(Weekly!K:K,MATCH($F12,Weekly!$E:$E,0))","v":0},{"$f":"INDEX(Weekly!M:M,MATCH($F12,Weekly!$E:$E,0))","v":0},{"$error":"#REF!"}]
[null,"A12","↓",12,"A","Alfie Davies",null,null,{"$f":"INDEX(Weekly!F:F,MATCH($F13,Weekly!$E:$E,0))","v":-14.25},{"$f":"INDEX(Weekly!G:G,MATCH($F13,Weekly!$E:$E,0))","v":3},{"$f":"INDEX(Weekly!H:H,MATCH($F13,Weekly!$E:$E,0))","v":-5.15},{"$f":"INDEX(Weekly!I:I,MATCH($F13,Weekly!$E:$E,0))","v":1},{"$f":"INDEX(Players!F:F,MATCH($F13,Players!#REF!,0))","v":{"$error":"#REF!"}},{"$f":"INDEX(Prizes!F:F,MATCH($B13,Prizes!A:A,0))","v":0},{"$f":"INDEX(Weekly!J:J,MATCH($F13,Weekly!$E:$E,0))","v":0},{"$f":"INDEX(Weekly!K:K,MATCH($F13,Weekly!$E:$E,0))","v":0},{"$f":"INDEX(Weekly!M:M,MATCH($F13,Weekly!$E:$E,0))","v":0},{"$error":"#REF!"}]
[null,"A13","↓",13,"A","Steve Carter",null,null,{"$f":"INDEX(Weekly!F:F,MATCH($F14,Weekly!$E:$E,0))","v":-15.399999999999999},{"$f":"INDEX(Weekly!G:G,MATCH($F14,Weekly!$E:$E,0))","v":5},{"$f":"INDEX(Weekly!H:H,MATCH($F14,Weekly!$E:$E,0))","v":-3.7},{"$f":"INDEX(Weekly!I:I,MATCH($F14,Weekly!$E:$E,0))","v":1},{"$f":"INDEX(Players!F:F,MATCH($F14,Players!#REF!,0))","v":{"$error":"#REF!"}},{"$f":"INDEX(Prizes!F:F,MATCH($B14,Prizes!A:A,0))","v":0},{"$f":"INDEX(Weekly!J:J,MATCH($F14,Weekly!$E:$E,0))","v":0},{"$f":"INDEX(Weekly!K:K,MATCH($F14,Weekly!$E:$E,0))","v":0},{"$f":"INDEX(Weekly!M:M,MATCH($F14,Weekly!$E:$E,0))","v":0},{"$error":"#REF!"}]
[null,"A14","↓",14,"A","Mark Bunn",null,null,{"$f":"INDEX(Weekly!F:F,MATCH($F15,Weekly!$E:$E,0))","v":-15.649999999999999},{"$f":"INDEX(Weekly!G:G,MATCH($F15,Weekly!$E:$E,0))","v":2},{"$f":"INDEX(Weekly!H:H,MATCH($F15,Weekly!$E:$E,0))","v":-3.8},{"$f":"INDEX(Weekly!I:I,MATCH($F15,Weekly!$E:$E,0))","v":1},{"$f":"INDEX(Players!F:F,MATCH($F15,Players!#REF!,0))","v":{"$error":"#REF!"}},{"$f":"INDEX(Prizes!F:F,MATCH($B15,Prizes!A:A,0))","v":0},{"$f":"INDEX(Weekly!J:J,MATCH($F15,Weekly!$E:$E,0))","v":0},{"$f":"INDEX(Weekly!K:K,MATCH($F15,Weekly!$E:$E,0))","v":0},{"$f":"INDEX(Weekly!M:M,MATCH($F15,Weekly!$E:$E,0))","v":0},{"$error":"#REF!"}]
[null,"A15","↓",15,"A","Kei Lok Ma",null,null,{"$f":"INDEX(Weekly!F:F,MATCH($F16,Weekly!$E:$E,0))","v":-18.75},{"$f":"INDEX(Weekly!G:G,MATCH($F16,Weekly!$E:$E,0))","v":1},{"$f":"INDEX(Weekly!H:H,MATCH($F16,Weekly!$E:$E,0))","v":-7},{"$f":"INDEX(Weekly!I:I,MATCH($F16,Weekly!$E:$E,0))","v":0},{"$f":"INDEX(Players!F:F,MATCH($F16,Players!#REF!,0))","v":{"$error":"#REF!"}},{"$f":"INDEX(Prizes!F:F,MATCH($B16,Prizes!A:A,0))","v":0},{"$f":"INDEX(Weekly!J:J,MATCH($F16,Weekly!$E:$E,0))","v":0},{"$f":"INDEX(Weekly!K:K,MATCH($F16,Weekly!$E:$E,0))","v":0},{"$f":"INDEX(Weekly!M:M,MATCH($F16,Weekly!$E:$E,0))","v":0},{"$error":"#REF!"}]
[null,"A16","↓",16,"A","Paul Fairhurst",null,null,{"$f":"INDEX(Weekly!F:F,MATCH($F17,Weekly!$E:$E,0))","v":-18.95},{"$f":"INDEX(Weekly!G:G,MATCH($F17,Weekly!$E:$E,0))","v":1},{"$f":"INDEX(Weekly!H:H,MATCH($F17,Weekly!$E:$E,0))","v":-7},{"$f":"INDEX(Weekly!I:I,MATCH($F17,Weekly!$E:$E,0))","v":0},{"$f":"INDEX(Players!F:F,MATCH($F17,Players!#REF!,0))","v":{"$error":"#REF!"}},{"$f":"INDEX(Prizes!F:F,MATCH($B17,Prizes!A:A,0))","v":0},{"$f":"INDEX(Weekly!J:J,MATCH($F17,Weekly!$E:$E,0))","v":0},{"$f":"INDEX(Weekly!K:K,MATCH($F17,Weekly!$E:$E,0))","v":0},{"$f":"INDEX(Weekly!M:M,MATCH($F17,Weekly!$E:$E,0))","v":0},{"$error":"#REF!"}]
["Division B","B1","↑",1,"B","Dave Orrell",null,null,{"$f":"INDEX(Weekly!F:F,MATCH($F18,Weekly!$E:$E,0))","v":30.54},{"$f":"INDEX(Weekly!G:G,MATCH($F18,Weekly!$E:$E,0))","v":6},{"$f":"INDEX(Weekly!H:H,MATCH($F18,Weekly!$E:$E,0))","v":2.7100000000000009},{"$f":"INDEX(Weekly!I:I,MATCH($F18,Weekly!$E:$E,0))","v":2},{"$f":"INDEX(Players!F:F,MATCH($F18,Players!#REF!,0))","v":{"$error":"#REF!"}},{"$f":"INDEX(Prizes!F:F,MATCH($B18,Prizes!A:A,0))","v":72.45},{"$f":"INDEX(Weekly!J:J,MATCH($F18,Weekly!$E:$E,0))","v":5},{"$f":"INDEX(Weekly!K:K,MATCH($F18,Weekly!$E:$E,0))","v":0},{"$f":"INDEX(Weekly!M:M,MATCH($F18,Weekly!$E:$E,0))","v":77.45},{"$error":"#REF!"}]
[null,"B2","↑",2,"B","Stephen Troop",null,null,{"$f":"INDEX(Weekly!F:F,MATCH($F19,Weekly!$E:$E,0))","v":26.381351981351983},{"$f":"INDEX(Weekly!G:G,MATCH($F19,Weekly!$E:$E,0))","v":8},{"$f":"INDEX(Weekly!H:H,MATCH($F19,Weekly!$E:$E,0))","v":12.945454545454545},{"$f":"INDEX(Weekly!I:I,MATCH($F19,Weekly!$E:$E,0))","v":3},{"$f":"INDEX(Players!F:F,MATCH($F19,Players!#REF!,0))","v":{"$error":"#REF!"}},{"$f":"INDEX(Prizes!F:F,MATCH($B19,Prizes!A:A,0))","v":51.75},{"$f":"INDEX(Weekly!J:J,MATCH($F19,Weekly!$E:$E,0))","v":0},{"$f":"INDEX(Weekly!K:K,MATCH($F19,Weekly!$E:$E,0))","v":0},{"$f":"INDEX(Weekly!M:M,MATCH($F19,Weekly!$E:$E,0))","v":51.75},{"$error":"#REF!"}]
[null,"B3","↑",3,"B","John Ronan",null,null,{"$f":"INDEX(Weekly!F:F,MATCH($F20,Weekly!$E:$E,0))","v":24.719499999999996},{"$f":"INDEX(Weekly!G:G,MATCH($F20,Weekly!$E:$E,0))","v":5},{"$f":"INDEX(Weekly!H:H,MATCH($F20,Weekly!$E:$E,0))","v":-4.9000000000000004},{"$f":"INDEX(Weekly!I:I,MATCH($F20,Weekly!$E:$E,0))","v":1},{"$f":"INDEX(Players!F:F,MATCH($F20,Players!#REF!,0))","v":{"$error":"#REF!"}},{"$f":"INDEX(Prizes!F:F,MATCH($B20,Prizes!A:A,0))","v":37.26},{"$f":"INDEX(Weekly!J:J,MATCH($F20,Weekly!$E:$E,0))","v":10},{"$f":"INDEX(Weekly!K:K,MATCH($F20,Weekly!$E:$E,0))","v":0},{"$f":"INDEX(Weekly!M:M,MATCH($F20,Weekly!$E:$E,0))","v":47.26},{"$error":"#REF!"}]
[null,"B4","↑",4,"B","Howard Bradley",null,null,{"$f":"INDEX(Weekly!F:F,MATCH($F21,Weekly!$E:$E,0))","v":22.254000000000005},{"$f":"INDEX(Weekly!G:G,MATCH($F21,Weekly!$E:$E,0))","v":6},{"$f":"INDEX(Weekly!H:H,MATCH($F21,Weekly!$E:$E,0))","v":-3.5},{"$f":"INDEX(Weekly!I:I,MATCH($F21,Weekly!$E:$E,0))","v":1},{"$f":"INDEX(Players!F:F,MATCH($F21,Players!#REF!,0))","v":{"$error":"#REF!"}},{"$f":"INDEX(Prizes!F:F,MATCH($B21,Prizes!A:A,0))","v":24.84},{"$f":"INDEX(Weekly!J:J,MATCH($F21,Weekly!$E:$E,0))","v":0},{"$f":"INDEX(Weekly!K:K,MATCH($F21,Weekly!$E:$E,0))","v":0},{"$f":"INDEX(Weekly!M:M,MATCH($F21,Weekly!$E:$E,0))","v":24.84},{"$error":"#REF!"}]
[null,"B5","↑",5,"B","Charlie Griffiths",null,null,{"$f":"INDEX(Weekly!F:F,MATCH($F22,Weekly!$E:$E,0))","v":13.556875000000005},{"$f":"INDEX(Weekly!G:G,MATCH($F22,Weekly!$E:$E,0))","v":4},{"$f":"INDEX(Weekly!H:H,MATCH($F22,Weekly!$E:$E,0))","v":-7},{"$f":"INDEX(Weekly!I:I,MATCH($F22,Weekly!$E:$E,0))","v":0},{"$f":"INDEX(Players!F:F,MATCH($F22,Players!#REF!,0))","v":{"$error":"#REF!"}},{"$f":"INDEX(Prizes!F:F,MATCH($B22,Prizes!A:A,0))","v":14.49},{"$f":"INDEX(Weekly!J:J,MATCH($F22,Weekly!$E:$E,0))","v":5},{"$f":"INDEX(Weekly!K:K,MATCH($F22,Weekly!$E:$E,0))","v":0},{"$f":"INDEX(Weekly!M:M,MATCH($F22,Weekly!$E:$E,0))","v":19.490000000000002},{"$error":"#REF!"}]
[null,"B6","↑",6,"B","Alick Rocca",null,null,{"$f":"INDEX(Weekly!F:F,MATCH($F23,Weekly!$E:$E,0))","v":8.023076923076923},{"$f":"INDEX(Weekly!G:G,MATCH($F23,Weekly!$E:$E,0))","v":5},{"$f":"INDEX(Weekly!H:H,MATCH($F23,Weekly!$E:$E,0))","v":9.1999999999999993},{"$f":"INDEX(Weekly!I:I,MATCH($F23,Weekly!$E:$E,0))","v":2},{"$f":"INDEX(Players!F:F,MATCH($F23,Players!#REF!,0))","v":{"$error":"#REF!"}},{"$f":"INDEX(Prizes!F:F,MATCH($B23,Prizes!A:A,0))","v":6.21},{"$f":"INDEX(Weekly!J:J,MATCH($F23,Weekly!$E:$E,0))","v":0},{"$f":"INDEX(Weekly!K:K,MATCH($F23,Weekly!$E:$E,0))","v":0},{"$f":"INDEX(Weekly!M:M,MATCH($F23,Weekly!$E:$E,0))","v":6.21},{"$error":"#REF!"}]
[null,"B7","Play-off",7,"B","Stephen Barr",null,null,{"$f":"INDEX(Weekly!F:F,MATCH($F24,Weekly!$E:$E,0))","v":4.1939393939393943},{"$f":"INDEX(Weekly!G:G,MATCH($F24,Weekly!$E:$E,0))","v":6},{"$f":"INDEX(Weekly!H:H,MATCH($F24,Weekly!$E:$E,0))","v":4},{"$f":"INDEX(Weekly!I:I,MATCH($F24,Weekly!$E:$E,0))","v":2},{"$f":"INDEX(Players!F:F,MATCH($F24,Players!#REF!,0))","v":{"$error":"#REF!"}},{"$f":"INDEX(Prizes!F:F,MATCH($B24,Prizes!A:A,0))","v":0},{"$f":"INDEX(Weekly!J:J,MATCH($F24,Weekly!$E:$E,0))","v":0},{"$f":"INDEX(Weekly!K:K,MATCH($F24,Weekly!$E:$E,0))","v":0},{"$f":"INDEX(Weekly!M:M,MATCH($F24,Weekly!$E:$E,0))","v":0},{"$error":"#REF!"}]
[null,"B8","Play-off",8,"B","Pete Baron",null,null,{"$f":"INDEX(Weekly!F:F,MATCH($F25,Weekly!$E:$E,0))","v":-0.60000000000000142},{"$f":"INDEX(Weekly!G:G,MATCH($F25,Weekly!$E:$E,0))","v":3},{"$f":"INDEX(Weekly!H:H,MATCH($F25,Weekly!$E:$E,0))","v":9.1999999999999993},{"$f":"INDEX(Weekly!I:I,MATCH($F25,Weekly!$E:$E,0))","v":2},{"$f":"INDEX(Players!F:F,MATCH($F25,Players!#REF!,0))","v":{"$error":"#REF!"}},{"$f":"INDEX(Prizes!F:F,MATCH($B25,Prizes!A:A,0))","v":0},{"$f":"INDEX(Weekly!J:J,MATCH($F25,Weekly!$E:$E,0))","v":0},{"$f":"INDEX(Weekly!K:K,MATCH($F25,Weekly!$E:$E,0))","v":0},{"$f":"INDEX(Weekly!M:M,MATCH($F25,Weekly!$E:$E,0))","v":0},{"$error":"#REF!"}]
[null,"B9","Play-off",9,"B","Chris Luck",null,null,{"$f":"INDEX(Weekly!F:F,MATCH($F26,Weekly!$E:$E,0))","v":-5.4499999999999993},{"$f":"INDEX(Weekly!G:G,MATCH($F26,Weekly!$E:$E,0))","v":4},{"$f":"INDEX(Weekly!H:H,MATCH($F26,Weekly!$E:$E,0))","v":-3.8},{"$f":"INDEX(Weekly!I:I,MATCH($F26,Weekly!$E:$E,0))","v":1},{"$f":"INDEX(Players!F:F,MATCH($F26,Players!#REF!,0))","v":{"$error":"#REF!"}},{"$f":"INDEX(Prizes!F:F,MATCH($B26,Prizes!A:A,0))","v":0},{"$f":"INDEX(Weekly!J:J,MATCH($F26,Weekly!$E:$E,0))","v":0},{"$f":"INDEX(Weekly!K:K,MATCH($F26,Weekly!$E:$E,0))","v":0},{"$f":"INDEX(Weekly!M:M,MATCH($F26,Weekly!$E:$E,0))","v":0},{"$error":"#REF!"}]
[null,"B10","Play-off",10,"B","Simon Greenhalgh",null,null,{"$f":"INDEX(Weekly!F:F,MATCH($F27,Weekly!$E:$E,0))","v":-7.2650000000000006},{"$f":"INDEX(Weekly!G:G,MATCH($F27,Weekly!$E:$E,0))","v":4},{"$f":"INDEX(Weekly!H:H,MATCH($F27,Weekly!$E:$E,0))","v":-5},{"$f":"INDEX(Weekly!I:I,MATCH($F27,Weekly!$E:$E,0))","v":1},{"$f":"INDEX(Players!F:F,MATCH($F27,Players!#REF!,0))","v":{"$error":"#REF!"}},{"$f":"INDEX(Prizes!F:F,MATCH($B27,Prizes!A:A,0))","v":0},{"$f":"INDEX(Weekly!J:J,MATCH($F27,Weekly!$E:$E,0))","v":0},{"$f":"INDEX(Weekly!K:K,MATCH($F27,Weekly!$E:$E,0))","v":0},{"$f":"INDEX(Weekly!M:M,MATCH($F27,Weekly!$E:$E,0))","v":0},{"$error":"#REF!"}]
[null,"B11","↓",11,"B","Andy White",null,null,{"$f":"INDEX(Weekly!F:F,MATCH($F28,Weekly!$E:$E,0))","v":-9.0181818181818176},{"$f":"INDEX(Weekly!G:G,MATCH($F28,Weekly!$E:$E,0))","v":4},{"$f":"INDEX(Weekly!H:H,MATCH($F28,Weekly!$E:$E,0))","v":-5.2727272727272725},{"$f":"INDEX(Weekly!I:I,MATCH($F28,Weekly!$E:$E,0))","v":1},{"$f":"INDEX(Players!F:F,MATCH($F28,Players!#REF!,0))","v":{"$error":"#REF!"}},{"$f":"INDEX(Prizes!F:F,MATCH($B28,Prizes!A:A,0))","v":0},{"$f":"INDEX(Weekly!J:J,MATCH($F28,Weekly!$E:$E,0))","v":0},{"$f":"INDEX(Weekly!K:K,MATCH($F28,Weekly!$E:$E,0))","v":0},{"$f":"INDEX(Weekly!M:M,MATCH($F28,Weekly!$E:$E,0))","v":0},{"$error":"#REF!"}]
[null,"B12","↓",12,"B","Mo Sudell",null,null,{"$f":"INDEX(Weekly!F:F,MATCH($F29,Weekly!$E:$E,0))","v":-10.160000000000002},{"$f":"INDEX(Weekly!G:G,MATCH($F29,Weekly!$E:$E,0))","v":3},{"$f":"INDEX(Weekly!H:H,MATCH($F29,Weekly!$E:$E,0))","v":-4.4000000000000004},{"$f":"INDEX(Weekly!I:I,MATCH($F29,Weekly!$E:$E,0))","v":1},{"$f":"INDEX(Players!F:F,MATCH($F29,Players!#REF!,0))","v":{"$error":"#REF!"}},{"$f":"INDEX(Prizes!F:F,MATCH($B29,Prizes!A:A,0))","v":0},{"$f":"INDEX(Weekly!J:J,MATCH($F29,Weekly!$E:$E,0))","v":0},{"$f":"INDEX(Weekly!K:K,MATCH($F29,Weekly!$E:$E,0))","v":0},{"$f":"INDEX(Weekly!M:M,MATCH($F29,Weekly!$E:$E,0))","v":0},{"$error":"#REF!"}]
[null,"B13","↓",13,"B","Vinny Topping",null,null,{"$f":"INDEX(Weekly!F:F,MATCH($F30,Weekly!$E:$E,0))","v":-10.609375},{"$f":"INDEX(Weekly!G:G,MATCH($F30,Weekly!$E:$E,0))","v":2},{"$f":"INDEX(Weekly!H:H,MATCH($F30,Weekly!$E:$E,0))","v":-7},{"$f":"INDEX(Weekly!I:I,MATCH($F30,Weekly!$E:$E,0))","v":0},{"$f":"INDEX(Players!F:F,MATCH($F30,Players!#REF!,0))","v":{"$error":"#REF!"}},{"$f":"INDEX(Prizes!F:F,MATCH($B30,Prizes!A:A,0))","v":0},{"$f":"INDEX(Weekly!J:J,MATCH($F30,Weekly!$E:$E,0))","v":0},{"$f":"INDEX(Weekly!K:K,MATCH($F30,Weekly!$E:$E,0))","v":0},{"$f":"INDEX(Weekly!M:M,MATCH($F30,Weekly!$E:$E,0))","v":0},{"$error":"#REF!"}]
[null,"B14","↓",14,"B","Alan Rogers",null,null,{"$f":"INDEX(Weekly!F:F,MATCH($F31,Weekly!$E:$E,0))","v":-14.9},{"$f":"INDEX(Weekly!G:G,MATCH($F31,Weekly!$E:$E,0))","v":2},{"$f":"INDEX(Weekly!H:H,MATCH($F31,Weekly!$E:$E,0))","v":-4.5999999999999996},{"$f":"INDEX(Weekly!I:I,MATCH($F31,Weekly!$E:$E,0))","v":1},{"$f":"INDEX(Players!F:F,MATCH($F31,Players!#REF!,0))","v":{"$error":"#REF!"}},{"$f":"INDEX(Prizes!F:F,MATCH($B31,Prizes!A:A,0))","v":0},{"$f":"INDEX(Weekly!J:J,MATCH($F31,Weekly!$E:$E,0))","v":0},{"$f":"INDEX(Weekly!K:K,MATCH($F31,Weekly!$E:$E,0))","v":0},{"$f":"INDEX(Weekly!M:M,MATCH($F31,Weekly!$E:$E,0))","v":0},{"$error":"#REF!"}]
[null,"B15","↓",15,"B","Mike Penk",null,null,{"$f":"INDEX(Weekly!F:F,MATCH($F32,Weekly!$E:$E,0))","v":-17.100000000000001},{"$f":"INDEX(Weekly!G:G,MATCH($F32,Weekly!$E:$E,0))","v":2},{"$f":"INDEX(Weekly!H:H,MATCH($F32,Weekly!$E:$E,0))","v":-7},{"$f":"INDEX(Weekly!I:I,MATCH($F32,Weekly!$E:$E,0))","v":0},{"$f":"INDEX(Players!F:F,MATCH($F32,Players!#REF!,0))","v":{"$error":"#REF!"}},{"$f":"INDEX(Prizes!F:F,MATCH($B32,Prizes!A:A,0))","v":0},{"$f":"INDEX(Weekly!J:J,MATCH($F32,Weekly!$E:$E,0))","v":0},{"$f":"INDEX(Weekly!K:K,MATCH($F32,Weekly!$E:$E,0))","v":0},{"$f":"INDEX(Weekly!M:M,MATCH($F32,Weekly!$E:$E,0))","v":0},{"$error":"#REF!"}]
[null,"B16","↓",16,"B","James Bell",null,null,{"$f":"INDEX(Weekly!F:F,MATCH($F33,Weekly!$E:$E,0))","v":-18.625},{"$f":"INDEX(Weekly!G:G,MATCH($F33,Weekly!$E:$E,0))","v":1},{"$f":"INDEX(Weekly!H:H,MATCH($F33,Weekly!$E:$E,0))","v":-7},{"$f":"INDEX(Weekly!I:I,MATCH($F33,Weekly!$E:$E,0))","v":0},{"$f":"INDEX(Players!F:F,MATCH($F33,Players!#REF!,0))","v":{"$error":"#REF!"}},{"$f":"INDEX(Prizes!F:F,MATCH($B33,Prizes!A:A,0))","v":0},{"$f":"INDEX(Weekly!J:J,MATCH($F33,Weekly!$E:$E,0))","v":0},{"$f":"INDEX(Weekly!K:K,MATCH($F33,Weekly!$E:$E,0))","v":0},{"$f":"INDEX(Weekly!M:M,MATCH($F33,Weekly!$E:$E,0))","v":0},{"$error":"#REF!"}]
["Division C",{"$f":"CONCATENATE(E34,D34)","v":"C1"},"↑",1,"C","Gareth McGuire",null,null,{"$f":"INDEX(Weekly!F:F,MATCH($F34,Weekly!$E:$E,0))","v":14.025454545454544},{"$f":"INDEX(Weekly!G:G,MATCH($F34,Weekly!$E:$E,0))","v":6},{"$f":"INDEX(Weekly!H:H,MATCH($F34,Weekly!$E:$E,0))","v":-5},{"$f":"INDEX(Weekly!I:I,MATCH($F34,Weekly!$E:$E,0))","v":1},{"$f":"INDEX(Players!F:F,MATCH($F34,Players!#REF!,0))","v":{"$error":"#REF!"}},{"$f":"INDEX(Prizes!F:F,MATCH($B34,Prizes!A:A,0))","v":36.225000000000001},{"$f":"INDEX(Weekly!J:J,MATCH($F34,Weekly!$E:$E,0))","v":5},{"$f":"INDEX(Weekly!K:K,MATCH($F34,Weekly!$E:$E,0))","v":0},{"$f":"INDEX(Weekly!M:M,MATCH($F34,Weekly!$E:$E,0))","v":41.225000000000001},{"$error":"#REF!"}]
[null,"C2","↑",2,"C","Chris Griffin",null,null,{"$f":"INDEX(Weekly!F:F,MATCH($F35,Weekly!$E:$E,0))","v":13.709790209790214},{"$f":"INDEX(Weekly!G:G,MATCH($F35,Weekly!$E:$E,0))","v":7},{"$f":"INDEX(Weekly!H:H,MATCH($F35,Weekly!$E:$E,0))","v":-3.7},{"$f":"INDEX(Weekly!I:I,MATCH($F35,Weekly!$E:$E,0))","v":1},{"$f":"INDEX(Players!F:F,MATCH($F35,Players!#REF!,0))","v":{"$error":"#REF!"}},{"$f":"INDEX(Prizes!F:F,MATCH($B35,Prizes!A:A,0))","v":25.875},{"$f":"INDEX(Weekly!J:J,MATCH($F35,Weekly!$E:$E,0))","v":5},{"$f":"INDEX(Weekly!K:K,MATCH($F35,Weekly!$E:$E,0))","v":0},{"$f":"INDEX(Weekly!M:M,MATCH($F35,Weekly!$E:$E,0))","v":30.875},{"$error":"#REF!"}]
[null,"C3","↑",3,"C","Nick Blocksidge",null,null,{"$f":"INDEX(Weekly!F:F,MATCH($F36,Weekly!$E:$E,0))","v":12.073333333333331},{"$f":"INDEX(Weekly!G:G,MATCH($F36,Weekly!$E:$E,0))","v":5},{"$f":"INDEX(Weekly!H:H,MATCH($F36,Weekly!$E:$E,0))","v":22.24},{"$f":"INDEX(Weekly!I:I,MATCH($F36,Weekly!$E:$E,0))","v":3},{"$f":"INDEX(Players!F:F,MATCH($F36,Players!#REF!,0))","v":{"$error":"#REF!"}},{"$f":"INDEX(Prizes!F:F,MATCH($B36,Prizes!A:A,0))","v":18.63},{"$f":"INDEX(Weekly!J:J,MATCH($F36,Weekly!$E:$E,0))","v":5},{"$f":"INDEX(Weekly!K:K,MATCH($F36,Weekly!$E:$E,0))","v":0},{"$f":"INDEX(Weekly!M:M,MATCH($F36,Weekly!$E:$E,0))","v":23.63},{"$error":"#REF!"}]
[null,"C4","↑",4,"C","Rob England",null,null,{"$f":"INDEX(Weekly!F:F,MATCH($F37,Weekly!$E:$E,0))","v":12.02795454545455},{"$f":"INDEX(Weekly!G:G,MATCH($F37,Weekly!$E:$E,0))","v":6},{"$f":"INDEX(Weekly!H:H,MATCH($F37,Weekly!$E:$E,0))","v":-0.44749999999999979},{"$f":"INDEX(Weekly!I:I,MATCH($F37,Weekly!$E:$E,0))","v":2},{"$f":"INDEX(Players!F:F,MATCH($F37,Players!#REF!,0))","v":{"$error":"#REF!"}},{"$f":"INDEX(Prizes!F:F,MATCH($B37,Prizes!A:A,0))","v":12.42},{"$f":"INDEX(Weekly!J:J,MATCH($F37,Weekly!$E:$E,0))","v":0},{"$f":"INDEX(Weekly!K:K,MATCH($F37,Weekly!$E:$E,0))","v":0},{"$f":"INDEX(Weekly!M:M,MATCH($F37,Weekly!$E:$E,0))","v":12.42},{"$error":"#REF!"}]
[null,"C5","↑",5,"C","Ben Rosser",null,null,{"$f":"INDEX(Weekly!F:F,MATCH($F38,Weekly!$E:$E,0))","v":10.187272727272727},{"$f":"INDEX(Weekly!G:G,MATCH($F38,Weekly!$E:$E,0))","v":4},{"$f":"INDEX(Weekly!H:H,MATCH($F38,Weekly!$E:$E,0))","v":10.059999999999999},{"$f":"INDEX(Weekly!I:I,MATCH($F38,Weekly!$E:$E,0))","v":2},{"$f":"INDEX(Players!F:F,MATCH($F38,Players!#REF!,0))","v":{"$error":"#REF!"}},{"$f":"INDEX(Prizes!F:F,MATCH($B38,Prizes!A:A,0))","v":7.2450000000000001},{"$f":"INDEX(Weekly!J:J,MATCH($F38,Weekly!$E:$E,0))","v":0},{"$f":"INDEX(Weekly!K:K,MATCH($F38,Weekly!$E:$E,0))","v":0},{"$f":"INDEX(Weekly!M:M,MATCH($F38,Weekly!$E:$E,0))","v":7.2450000000000001},{"$error":"#REF!"}]
[null,"C6","↑",6,"C","Chris Townsend",null,null,{"$f":"INDEX(Weekly!F:F,MATCH($F39,Weekly!$E:$E,0))","v":10},{"$f":"INDEX(Weekly!G:G,MATCH($F39,Weekly!$E:$E,0))","v":3},{"$f":"INDEX(Weekly!H:H,MATCH($F39,Weekly!$E:$E,0))","v":-7},{"$f":"INDEX(Weekly!I:I,MATCH($F39,Weekly!$E:$E,0))","v":0},{"$f":"INDEX(Players!F:F,MATCH($F39,Players!#REF!,0))","v":{"$error":"#REF!"}},{"$f":"INDEX(Prizes!F:F,MATCH($B39,Prizes!A:A,0))","v":3.105},{"$f":"INDEX(Weekly!J:J,MATCH($F39,Weekly!$E:$E,0))","v":5},{"$f":"INDEX(Weekly!K:K,MATCH($F39,Weekly!$E:$E,0))","v":0},{"$f":"INDEX(Weekly!M:M,MATCH($F39,Weekly!$E:$E,0))","v":8.1050000000000004},{"$error":"#REF!"}]
[null,"C7","Play-off",7,"C","Paul Allen",null,null,{"$f":"INDEX(Weekly!F:F,MATCH($F40,Weekly!$E:$E,0))","v":4.9700000000000042},{"$f":"INDEX(Weekly!G:G,MATCH($F40,Weekly!$E:$E,0))","v":4},{"$f":"INDEX(Weekly!H:H,MATCH($F40,Weekly!$E:$E,0))","v":-7},{"$f":"INDEX(Weekly!I:I,MATCH($F40,Weekly!$E:$E,0))","v":0},{"$f":"INDEX(Players!F:F,MATCH($F40,Players!#REF!,0))","v":{"$error":"#REF!"}},{"$f":"INDEX(Prizes!F:F,MATCH($B40,Prizes!A:A,0))","v":0},{"$f":"INDEX(Weekly!J:J,MATCH($F40,Weekly!$E:$E,0))","v":0},{"$f":"INDEX(Weekly!K:K,MATCH($F40,Weekly!$E:$E,0))","v":0},{"$f":"INDEX(Weekly!M:M,MATCH($F40,Weekly!$E:$E,0))","v":0},{"$error":"#REF!"}]
[null,"C8","Play-off",8,"C","Alan White",null,null,{"$f":"INDEX(Weekly!F:F,MATCH($F41,Weekly!$E:$E,0))","v":3.9499999999999975},{"$f":"INDEX(Weekly!G:G,MATCH($F41,Weekly!$E:$E,0))","v":4},{"$f":"INDEX(Weekly!H:H,MATCH($F41,Weekly!$E:$E,0))","v":-7},{"$f":"INDEX(Weekly!I:I,MATCH($F41,Weekly!$E:$E,0))","v":0},{"$f":"INDEX(Players!F:F,MATCH($F41,Players!#REF!,0))","v":{"$error":"#REF!"}},{"$f":"INDEX(Prizes!F:F,MATCH($B41,Prizes!A:A,0))","v":0},{"$f":"INDEX(Weekly!J:J,MATCH($F41,Weekly!$E:$E,0))","v":0},{"$f":"INDEX(Weekly!K:K,MATCH($F41,Weekly!$E:$E,0))","v":0},{"$f":"INDEX(Weekly!M:M,MATCH($F41,Weekly!$E:$E,0))","v":0},{"$error":"#REF!"}]
[null,"C9","Play-off",9,"C","Tom Robinson",null,null,{"$f":"INDEX(Weekly!F:F,MATCH($F42,Weekly!$E:$E,0))","v":1.4216666666666633},{"$f":"INDEX(Weekly!G:G,MATCH($F42,Weekly!$E:$E,0))","v":4},{"$f":"INDEX(Weekly!H:H,MATCH($F42,Weekly!$E:$E,0))","v":-7},{"$f":"INDEX(Weekly!I:I,MATCH($F42,Weekly!$E:$E,0))","v":0},{"$f":"INDEX(Players!F:F,MATCH($F42,Players!#REF!,0))","v":{"$error":"#REF!"}},{"$f":"INDEX(Prizes!F:F,MATCH($B42,Prizes!A:A,0))","v":0},{"$f":"INDEX(Weekly!J:J,MATCH($F42,Weekly!$E:$E,0))","v":0},{"$f":"INDEX(Weekly!K:K,MATCH($F42,Weekly!$E:$E,0))","v":0},{"$f":"INDEX(Weekly!M:M,MATCH($F42,Weekly!$E:$E,0))","v":0},{"$error":"#REF!"}]
[null,"C10","Play-off",10,"C","David Dunn",null,null,{"$f":"INDEX(Weekly!F:F,MATCH($F43,Weekly!$E:$E,0))","v":-0.5113636363636358},{"$f":"INDEX(Weekly!G:G,MATCH($F43,Weekly!$E:$E,0))","v":5},{"$f":"INDEX(Weekly!H:H,MATCH($F43,Weekly!$E:$E,0))","v":2.125},{"$f":"INDEX(Weekly!I:I,MATCH($F43,Weekly!$E:$E,0))","v":2},{"$f":"INDEX(Players!F:F,MATCH($F43,Players!#REF!,0))","v":{"$error":"#REF!"}},{"$f":"INDEX(Prizes!F:F,MATCH($B43,Prizes!A:A,0))","v":0},{"$f":"INDEX(Weekly!J:J,MATCH($F43,Weekly!$E:$E,0))","v":0},{"$f":"INDEX(Weekly!K:K,MATCH($F43,Weekly!$E:$E,0))","v":0},{"$f":"INDEX(Weekly!M:M,MATCH($F43,Weekly!$E:$E,0))","v":0},{"$error":"#REF!"}]
[null,"C11","↓",11,"C","Graham Miller",null,null,{"$f":"INDEX(Weekly!F:F,MATCH($F44,Weekly!$E:$E,0))","v":-1.1049999999999986},{"$f":"INDEX(Weekly!G:G,MATCH($F44,Weekly!$E:$E,0))","v":4},{"$f":"INDEX(Weekly!H:H,MATCH($F44,Weekly!$E:$E,0))","v":-4.375},{"$f":"INDEX(Weekly!I:I,MATCH($F44,Weekly!$E:$E,0))","v":1},{"$f":"INDEX(Players!F:F,MATCH($F44,Players!#REF!,0))","v":{"$error":"#REF!"}},{"$f":"INDEX(Prizes!F:F,MATCH($B44,Prizes!A:A,0))","v":0},{"$f":"INDEX(Weekly!J:J,MATCH($F44,Weekly!$E:$E,0))","v":0},{"$f":"INDEX(Weekly!K:K,MATCH($F44,Weekly!$E:$E,0))","v":0},{"$f":"INDEX(Weekly!M:M,MATCH($F44,Weekly!$E:$E,0))","v":0},{"$error":"#REF!"}]
[null,"C12","↓",12,"C","Paul Fiddler",null,null,{"$f":"INDEX(Weekly!F:F,MATCH($F45,Weekly!$E:$E,0))","v":-4.2012820512820515},{"$f":"INDEX(Weekly!G:G,MATCH($F45,Weekly!$E:$E,0))","v":5},{"$f":"INDEX(Weekly!H:H,MATCH($F45,Weekly!$E:$E,0))","v":-5.15},{"$f":"INDEX(Weekly!I:I,MATCH($F45,Weekly!$E:$E,0))","v":1},{"$f":"INDEX(Players!F:F,MATCH($F45,Players!#REF!,0))","v":{"$error":"#REF!"}},{"$f":"INDEX(Prizes!F:F,MATCH($B45,Prizes!A:A,0))","v":0},{"$f":"INDEX(Weekly!J:J,MATCH($F45,Weekly!$E:$E,0))","v":0},{"$f":"INDEX(Weekly!K:K,MATCH($F45,Weekly!$E:$E,0))","v":0},{"$f":"INDEX(Weekly!M:M,MATCH($F45,Weekly!$E:$E,0))","v":0},{"$error":"#REF!"}]
[null,"C13","↓",13,"C","Paul Adderley",null,null,{"$f":"INDEX(Weekly!F:F,MATCH($F46,Weekly!$E:$E,0))","v":-5.3833333333333346},{"$f":"INDEX(Weekly!G:G,MATCH($F46,Weekly!$E:$E,0))","v":4},{"$f":"INDEX(Weekly!H:H,MATCH($F46,Weekly!$E:$E,0))","v":1.4499999999999993},{"$f":"INDEX(Weekly!I:I,MATCH($F46,Weekly!$E:$E,0))","v":2},{"$f":"INDEX(Players!F:F,MATCH($F46,Players!#REF!,0))","v":{"$error":"#REF!"}},{"$f":"INDEX(Prizes!F:F,MATCH($B46,Prizes!A:A,0))","v":0},{"$f":"INDEX(Weekly!J:J,MATCH($F46,Weekly!$E:$E,0))","v":0},{"$f":"INDEX(Weekly!K:K,MATCH($F46,Weekly!$E:$E,0))","v":0},{"$f":"INDEX(Weekly!M:M,MATCH($F46,Weekly!$E:$E,0))","v":0},{"$error":"#REF!"}]
[null,"C14","↓",14,"C","Jack Walsh",null,null,{"$f":"INDEX(Weekly!F:F,MATCH($F47,Weekly!$E:$E,0))","v":-10.654545454545454},{"$f":"INDEX(Weekly!G:G,MATCH($F47,Weekly!$E:$E,0))","v":4},{"$f":"INDEX(Weekly!H:H,MATCH($F47,Weekly!$E:$E,0))","v":-0.36363636363636331},{"$f":"INDEX(Weekly!I:I,MATCH($F47,Weekly!$E:$E,0))","v":2},{"$f":"INDEX(Players!F:F,MATCH($F47,Players!#REF!,0))","v":{"$error":"#REF!"}},{"$f":"INDEX(Prizes!F:F,MATCH($B47,Prizes!A:A,0))","v":0},{"$f":"INDEX(Weekly!J:J,MATCH($F47,Weekly!$E:$E,0))","v":0},{"$f":"INDEX(Weekly!K:K,MATCH($F47,Weekly!$E:$E,0))","v":0},{"$f":"INDEX(Weekly!M:M,MATCH($F47,Weekly!$E:$E,0))","v":0},{"$error":"#REF!"}]
[null,"C15","↓",15,"C","Oscar Jackson",null,null,{"$f":"INDEX(Weekly!F:F,MATCH($F48,Weekly!$E:$E,0))","v":-11.8},{"$f":"INDEX(Weekly!G:G,MATCH($F48,Weekly!$E:$E,0))","v":3},{"$f":"INDEX(Weekly!H:H,MATCH($F48,Weekly!$E:$E,0))","v":-7},{"$f":"INDEX(Weekly!I:I,MATCH($F48,Weekly!$E:$E,0))","v":0},{"$f":"INDEX(Players!F:F,MATCH($F48,Players!#REF!,0))","v":{"$error":"#REF!"}},{"$f":"INDEX(Prizes!F:F,MATCH($B48,Prizes!A:A,0))","v":0},{"$f":"INDEX(Weekly!J:J,MATCH($F48,Weekly!$E:$E,0))","v":0},{"$f":"INDEX(Weekly!K:K,MATCH($F48,Weekly!$E:$E,0))","v":0},{"$f":"INDEX(Weekly!M:M,MATCH($F48,Weekly!$E:$E,0))","v":0},{"$error":"#REF!"}]
[null,"C16","↓",16,"C","Andy Charleston",null,null,{"$f":"INDEX(Weekly!F:F,MATCH($F49,Weekly!$E:$E,0))","v":-18.299999999999997},{"$f":"INDEX(Weekly!G:G,MATCH($F49,Weekly!$E:$E,0))","v":2},{"$f":"INDEX(Weekly!H:H,MATCH($F49,Weekly!$E:$E,0))","v":-5.6},{"$f":"INDEX(Weekly!I:I,MATCH($F49,Weekly!$E:$E,0))","v":1},{"$f":"INDEX(Players!F:F,MATCH($F49,Players!#REF!,0))","v":{"$error":"#REF!"}},{"$f":"INDEX(Prizes!F:F,MATCH($B49,Prizes!A:A,0))","v":0},{"$f":"INDEX(Weekly!J:J,MATCH($F49,Weekly!$E:$E,0))","v":0},{"$f":"INDEX(Weekly!K:K,MATCH($F49,Weekly!$E:$E,0))","v":0},{"$f":"INDEX(Weekly!M:M,MATCH($F49,Weekly!$E:$E,0))","v":0},{"$error":"#REF!"}]
["Division D","D1","↑",1,"D","Martin Molyneux",null,null,{"$f":"INDEX(Weekly!F:F,MATCH($F50,Weekly!$E:$E,0))","v":53.165454545454551},{"$f":"INDEX(Weekly!G:G,MATCH($F50,Weekly!$E:$E,0))","v":6},{"$f":"INDEX(Weekly!H:H,MATCH($F50,Weekly!$E:$E,0))","v":15.219999999999999},{"$f":"INDEX(Weekly!I:I,MATCH($F50,Weekly!$E:$E,0))","v":3},{"$f":"INDEX(Players!F:F,MATCH($F50,Players!#REF!,0))","v":{"$error":"#REF!"}},{"$f":"INDEX(Prizes!F:F,MATCH($B50,Prizes!A:A,0))","v":24.15},{"$f":"INDEX(Weekly!J:J,MATCH($F50,Weekly!$E:$E,0))","v":15},{"$f":"INDEX(Weekly!K:K,MATCH($F50,Weekly!$E:$E,0))","v":0},{"$f":"INDEX(Weekly!M:M,MATCH($F50,Weekly!$E:$E,0))","v":39.15},{"$error":"#REF!"}]
[null,"D2","↑",2,"D","Dan Gibbard",null,null,{"$f":"INDEX(Weekly!F:F,MATCH($F51,Weekly!$E:$E,0))","v":22.083068181818181},{"$f":"INDEX(Weekly!G:G,MATCH($F51,Weekly!$E:$E,0))","v":7},{"$f":"INDEX(Weekly!H:H,MATCH($F51,Weekly!$E:$E,0))","v":22.476249999999997},{"$f":"INDEX(Weekly!I:I,MATCH($F51,Weekly!$E:$E,0))","v":3},{"$f":"INDEX(Players!F:F,MATCH($F51,Players!#REF!,0))","v":{"$error":"#REF!"}},{"$f":"INDEX(Prizes!F:F,MATCH($B51,Prizes!A:A,0))","v":17.25},{"$f":"INDEX(Weekly!J:J,MATCH($F51,Weekly!$E:$E,0))","v":5},{"$f":"INDEX(Weekly!K:K,MATCH($F51,Weekly!$E:$E,0))","v":0},{"$f":"INDEX(Weekly!M:M,MATCH($F51,Weekly!$E:$E,0))","v":22.25},{"$error":"#REF!"}]
[null,"D3","↑",3,"D","Alan Bond",null,null,{"$f":"INDEX(Weekly!F:F,MATCH($F52,Weekly!$E:$E,0))","v":20.803636363636365},{"$f":"INDEX(Weekly!G:G,MATCH($F52,Weekly!$E:$E,0))","v":6},{"$f":"INDEX(Weekly!H:H,MATCH($F52,Weekly!$E:$E,0))","v":-4.4000000000000004},{"$f":"INDEX(Weekly!I:I,MATCH($F52,Weekly!$E:$E,0))","v":1},{"$f":"INDEX(Players!F:F,MATCH($F52,Players!#REF!,0))","v":{"$error":"#REF!"}},{"$f":"INDEX(Prizes!F:F,MATCH($B52,Prizes!A:A,0))","v":12.42},{"$f":"INDEX(Weekly!J:J,MATCH($F52,Weekly!$E:$E,0))","v":5},{"$f":"INDEX(Weekly!K:K,MATCH($F52,Weekly!$E:$E,0))","v":0},{"$f":"INDEX(Weekly!M:M,MATCH($F52,Weekly!$E:$E,0))","v":17.420000000000002},{"$error":"#REF!"}]
[null,"D4","↑",4,"D","Paul Barnes",null,null,{"$f":"INDEX(Weekly!F:F,MATCH($F53,Weekly!$E:$E,0))","v":10.84125874125874},{"$f":"INDEX(Weekly!G:G,MATCH($F53,Weekly!$E:$E,0))","v":6},{"$f":"INDEX(Weekly!H:H,MATCH($F53,Weekly!$E:$E,0))","v":4.8999999999999986},{"$f":"INDEX(Weekly!I:I,MATCH($F53,Weekly!$E:$E,0))","v":2},{"$f":"INDEX(Players!F:F,MATCH($F53,Players!#REF!,0))","v":{"$error":"#REF!"}},{"$f":"INDEX(Prizes!F:F,MATCH($B53,Prizes!A:A,0))","v":8.2799999999999994},{"$f":"INDEX(Weekly!J:J,MATCH($F53,Weekly!$E:$E,0))","v":0},{"$f":"INDEX(Weekly!K:K,MATCH($F53,Weekly!$E:$E,0))","v":0},{"$f":"INDEX(Weekly!M:M,MATCH($F53,Weekly!$E:$E,0))","v":8.2799999999999994},{"$error":"#REF!"}]
[null,"D5","↑",5,"D","Gareth Powell",null,null,{"$f":"INDEX(Weekly!F:F,MATCH($F54,Weekly!$E:$E,0))","v":4.3500000000000014},{"$f":"INDEX(Weekly!G:G,MATCH($F54,Weekly!$E:$E,0))","v":4},{"$f":"INDEX(Weekly!H:H,MATCH($F54,Weekly!$E:$E,0))","v":11.350000000000001},{"$f":"INDEX(Weekly!I:I,MATCH($F54,Weekly!$E:$E,0))","v":2},{"$f":"INDEX(Players!F:F,MATCH($F54,Players!#REF!,0))","v":{"$error":"#REF!"}},{"$f":"INDEX(Prizes!F:F,MATCH($B54,Prizes!A:A,0))","v":4.83},{"$f":"INDEX(Weekly!J:J,MATCH($F54,Weekly!$E:$E,0))","v":0},{"$f":"INDEX(Weekly!K:K,MATCH($F54,Weekly!$E:$E,0))","v":0},{"$f":"INDEX(Weekly!M:M,MATCH($F54,Weekly!$E:$E,0))","v":4.83},{"$error":"#REF!"}]
[null,"D6","↑",6,"D","John Murphy",null,null,{"$f":"INDEX(Weekly!F:F,MATCH($F55,Weekly!$E:$E,0))","v":-1.8500000000000014},{"$f":"INDEX(Weekly!G:G,MATCH($F55,Weekly!$E:$E,0))","v":2},{"$f":"INDEX(Weekly!H:H,MATCH($F55,Weekly!$E:$E,0))","v":-7},{"$f":"INDEX(Weekly!I:I,MATCH($F55,Weekly!$E:$E,0))","v":0},{"$f":"INDEX(Players!F:F,MATCH($F55,Players!#REF!,0))","v":{"$error":"#REF!"}},{"$f":"INDEX(Prizes!F:F,MATCH($B55,Prizes!A:A,0))","v":2.0699999999999998},{"$f":"INDEX(Weekly!J:J,MATCH($F55,Weekly!$E:$E,0))","v":0},{"$f":"INDEX(Weekly!K:K,MATCH($F55,Weekly!$E:$E,0))","v":0},{"$f":"INDEX(Weekly!M:M,MATCH($F55,Weekly!$E:$E,0))","v":2.0699999999999998},{"$error":"#REF!"}]
[null,"D7","Play-off",7,"D","Ian Davies",null,null,{"$f":"INDEX(Weekly!F:F,MATCH($F56,Weekly!$E:$E,0))","v":-3.9600000000000009},{"$f":"INDEX(Weekly!G:G,MATCH($F56,Weekly!$E:$E,0))","v":2},{"$f":"INDEX(Weekly!H:H,MATCH($F56,Weekly!$E:$E,0))","v":-7},{"$f":"INDEX(Weekly!I:I,MATCH($F56,Weekly!$E:$E,0))","v":0},{"$f":"INDEX(Players!F:F,MATCH($F56,Players!#REF!,0))","v":{"$error":"#REF!"}},{"$f":"INDEX(Prizes!F:F,MATCH($B56,Prizes!A:A,0))","v":0},{"$f":"INDEX(Weekly!J:J,MATCH($F56,Weekly!$E:$E,0))","v":0},{"$f":"INDEX(Weekly!K:K,MATCH($F56,Weekly!$E:$E,0))","v":0},{"$f":"INDEX(Weekly!M:M,MATCH($F56,Weekly!$E:$E,0))","v":0},{"$error":"#REF!"}]
[null,"D8","Play-off",8,"D","Frank Allen",null,null,{"$f":"INDEX(Weekly!F:F,MATCH($F57,Weekly!$E:$E,0))","v":-5.5209090909090905},{"$f":"INDEX(Weekly!G:G,MATCH($F57,Weekly!$E:$E,0))","v":5},{"$f":"INDEX(Weekly!H:H,MATCH($F57,Weekly!$E:$E,0))","v":-5.0909090909090908},{"$f":"INDEX(Weekly!I:I,MATCH($F57,Weekly!$E:$E,0))","v":1},{"$f":"INDEX(Players!F:F,MATCH($F57,Players!#REF!,0))","v":{"$error":"#REF!"}},{"$f":"INDEX(Prizes!F:F,MATCH($B57,Prizes!A:A,0))","v":0},{"$f":"INDEX(Weekly!J:J,MATCH($F57,Weekly!$E:$E,0))","v":0},{"$f":"INDEX(Weekly!K:K,MATCH($F57,Weekly!$E:$E,0))","v":0},{"$f":"INDEX(Weekly!M:M,MATCH($F57,Weekly!$E:$E,0))","v":0},{"$error":"#REF!"}]
[null,"D9",null,9,"D","Bob Bailey",null,null,{"$f":"INDEX(Weekly!F:F,MATCH($F58,Weekly!$E:$E,0))","v":-9.7249999999999996},{"$f":"INDEX(Weekly!G:G,MATCH($F58,Weekly!$E:$E,0))","v":3},{"$f":"INDEX(Weekly!H:H,MATCH($F58,Weekly!$E:$E,0))","v":-7},{"$f":"INDEX(Weekly!I:I,MATCH($F58,Weekly!$E:$E,0))","v":0},{"$f":"INDEX(Players!F:F,MATCH($F58,Players!#REF!,0))","v":{"$error":"#REF!"}},{"$f":"INDEX(Prizes!F:F,MATCH($B58,Prizes!A:A,0))","v":0},{"$f":"INDEX(Weekly!J:J,MATCH($F58,Weekly!$E:$E,0))","v":0},{"$f":"INDEX(Weekly!K:K,MATCH($F58,Weekly!$E:$E,0))","v":0},{"$f":"INDEX(Weekly!M:M,MATCH($F58,Weekly!$E:$E,0))","v":0},{"$error":"#REF!"}]
[null,"D10",null,10,"D","Liam Wah",null,null,{"$f":"INDEX(Weekly!F:F,MATCH($F59,Weekly!$E:$E,0))","v":-13.48},{"$f":"INDEX(Weekly!G:G,MATCH($F59,Weekly!$E:$E,0))","v":3},{"$f":"INDEX(Weekly!H:H,MATCH($F59,Weekly!$E:$E,0))","v":-1.2800000000000002},{"$f":"INDEX(Weekly!I:I,MATCH($F59,Weekly!$E:$E,0))","v":2},{"$f":"INDEX(Players!F:F,MATCH($F59,Players!#REF!,0))","v":{"$error":"#REF!"}},{"$f":"INDEX(Prizes!F:F,MATCH($B59,Prizes!A:A,0))","v":0},{"$f":"INDEX(Weekly!J:J,MATCH($F59,Weekly!$E:$E,0))","v":0},{"$f":"INDEX(Weekly!K:K,MATCH($F59,Weekly!$E:$E,0))","v":0},{"$f":"INDEX(Weekly!M:M,MATCH($F59,Weekly!$E:$E,0))","v":0},{"$error":"#REF!"}]
[null,"D11",null,11,"D","Ashley Houghton",null,null,{"$f":"INDEX(Weekly!F:F,MATCH($F60,Weekly!$E:$E,0))","v":-15.280000000000001},{"$f":"INDEX(Weekly!G:G,MATCH($F60,Weekly!$E:$E,0))","v":2},{"$f":"INDEX(Weekly!H:H,MATCH($F60,Weekly!$E:$E,0))","v":-1.2800000000000002},{"$f":"INDEX(Weekly!I:I,MATCH($F60,Weekly!$E:$E,0))","v":2},{"$f":"INDEX(Players!F:F,MATCH($F60,Players!#REF!,0))","v":{"$error":"#REF!"}},{"$f":"INDEX(Prizes!F:F,MATCH($B60,Prizes!A:A,0))","v":0},{"$f":"INDEX(Weekly!J:J,MATCH($F60,Weekly!$E:$E,0))","v":0},{"$f":"INDEX(Weekly!K:K,MATCH($F60,Weekly!$E:$E,0))","v":0},{"$f":"INDEX(Weekly!M:M,MATCH($F60,Weekly!$E:$E,0))","v":0},{"$f":"Q60+M60","v":{"$error":"#REF!"}}]
[null,"D12",null,12,"D","Martin Tarbuck",null,null,{"$f":"INDEX(Weekly!F:F,MATCH($F61,Weekly!$E:$E,0))","v":-16.149999999999999},{"$f":"INDEX(Weekly!G:G,MATCH($F61,Weekly!$E:$E,0))","v":2},{"$f":"INDEX(Weekly!H:H,MATCH($F61,Weekly!$E:$E,0))","v":-7},{"$f":"INDEX(Weekly!I:I,MATCH($F61,Weekly!$E:$E,0))","v":0},{"$f":"INDEX(Players!F:F,MATCH($F61,Players!#REF!,0))","v":{"$error":"#REF!"}},{"$f":"INDEX(Prizes!F:F,MATCH($B61,Prizes!A:A,0))","v":0},{"$f":"INDEX(Weekly!J:J,MATCH($F61,Weekly!$E:$E,0))","v":0},{"$f":"INDEX(Weekly!K:K,MATCH($F61,Weekly!$E:$E,0))","v":0},{"$f":"INDEX(Weekly!M:M,MATCH($F61,Weekly!$E:$E,0))","v":0},{"$error":"#REF!"}]
[null,"D13",null,13,"D","Dave Bell",null,null,{"$f":"INDEX(Weekly!F:F,MATCH($F62,Weekly!$E:$E,0))","v":-21},{"$f":"INDEX(Weekly!G:G,MATCH($F62,Weekly!$E:$E,0))","v":0},{"$f":"INDEX(Weekly!H:H,MATCH($F62,Weekly!$E:$E,0))","v":-7},{"$f":"INDEX(Weekly!I:I,MATCH($F62,Weekly!$E:$E,0))","v":0},{"$f":"INDEX(Players!F:F,MATCH($F62,Players!#REF!,0))","v":{"$error":"#REF!"}},{"$f":"INDEX(Prizes!F:F,MATCH($B62,Prizes!A:A,0))","v":0},{"$f":"INDEX(Weekly!J:J,MATCH($F62,Weekly!$E:$E,0))","v":0},{"$f":"INDEX(Weekly!K:K,MATCH($F62,Weekly!$E:$E,0))","v":0},{"$f":"INDEX(Weekly!M:M,MATCH($F62,Weekly!$E:$E,0))","v":0},{"$error":"#REF!"}]
[null,"D14",null,14,"D","Andy Hargreaves",null,null,{"$f":"INDEX(Weekly!F:F,MATCH($F63,Weekly!$E:$E,0))","v":-21},{"$f":"INDEX(Weekly!G:G,MATCH($F63,Weekly!$E:$E,0))","v":0},{"$f":"INDEX(Weekly!H:H,MATCH($F63,Weekly!$E:$E,0))","v":-7},{"$f":"INDEX(Weekly!I:I,MATCH($F63,Weekly!$E:$E,0))","v":0},{"$f":"INDEX(Players!F:F,MATCH($F63,Players!#REF!,0))","v":{"$error":"#REF!"}},{"$f":"INDEX(Prizes!F:F,MATCH($B63,Prizes!A:A,0))","v":0},{"$f":"INDEX(Weekly!J:J,MATCH($F63,Weekly!$E:$E,0))","v":0},{"$f":"INDEX(Weekly!K:K,MATCH($F63,Weekly!$E:$E,0))","v":0},{"$f":"INDEX(Weekly!M:M,MATCH($F63,Weekly!$E:$E,0))","v":0},{"$error":"#REF!"}]
[]
[]
[null,null,null,null,null,null,null,null,null,null,null,null,null,{"$f":"SUM(N2:N64)","v":690},{"$f":"SUM(O2:O64)","v":75},{"$f":"SUM(P2:P64)","v":0},{"$f":"SUM(Q2:Q64)","v":765}]

{"sheet":"Weekly","index":4,"n_rows":66,"n_cols":76,"rows_kept":66,"cut":false,"hidden":false,"merged":[]}
["Rank Seas","Rank Wk","Pos L/W","Div","Player","Season\nScore","Season\nCorrect","Week\nScore","Week\n? of 3","Weekly\nPrizes","Cup\nPrize","League\nPlace Prize","Total\nPrize","W1","W1Q","W1P","W2","W2Q","W2P","W3","W3Q","W3P","W4","W4Q","W4P","W5","W5Q","W5P","W6","W6Q","W6P","W7","W7Q","W7P","W8","W8Q","W8P","W9","W9Q","W9P","W10","W10Q","W10P","W11","W11Q","W11P","W12","W12Q","W12P","W13","W13Q","W13P","W14","W14Q","W14P","W15","W15Q","W15P","W16","W16Q","W16P","W17","W17Q","W17P","W18","W18Q","W18P","W19","W19Q","W19P","W20","W20Q","W20P","Seas","SeasQ","SeasP"]
[{"$f":"_xlfn.RANK.EQ(F2,totalscores,0)","v":8},{"$f":"_xlfn.RANK.EQ(H2,thisweekscore,0)","v":31},5,{"$f":"INDEX(Table!E:E,MATCH(E2,Table!F:F,0))","v":"D"},"Alan Bond",{"$f":"+N2+Q2+T2+W2+Z2+AC2+AF2+AI2+AL2+AO2+AR2+AU2+AX2+BA2+BD2+BG2+BJ2+BM2+BP2+BS2","v":20.803636363636365},{"$f":"+O2+R2+U2+X2+AA2+AD2+AG2+AJ2+AM2+AP2+AS2+AV2+AY2+BB2+BE2+BH2+BK2+BN2+BQ2+BT2","v":6},-4.4000000000000004,1,{"$f":"P2+S2+V2+Y2+AB2+AE2+AH2+AK2+AN2+AQ2+AT2+AW2+AZ2+BC2+BF2+BI2+BL2+BO2+BR2+BU2","v":5},null,{"$f":"INDEX(Table!N:N,MATCH(E2,Table!F:F,0))","v":12.42},{"$f":"K2+J2+L2","v":17.420000000000002},21.323636363636368,3,5,3.879999999999999,2,null,-4.4000000000000004,1,null,null,null,null,null,null,null,null,null,null,null,null,null,null,null,null,null,null,null,null,null,null,null,null,null,null,null,null,null,null,null,null,null,null,null,null,null,null,null,null,null,null,null,null,null,null,null,null,null,null,null,null,{"$f":"BS2+BP2+BM2+BJ2+BG2+BD2+BA2+AX2+AU2+AR2+AO2+AL2+AI2+AF2+AC2+Z2+W2+T2+Q2+N2","v":20.803636363636365},{"$f":"BT2+BQ2+BN2+BK2+BH2+BE2+BB2+AY2+AV2+AS2+AP2+AM2+AJ2+AG2+AD2+AA2+X2+U2+R2+O2","v":6},{"$f":"BU2+BR2+BO2+BL2+BI2+BF2+BC2+AZ2+AW2+AT2+AQ2+AN2+AK2+AH2+AE2+AB2+Y2+V2+S2+P2","v":5}]
[51,33,51,{"$f":"INDEX(Table!E:E,MATCH(E3,Table!F:F,0))","v":"B"},"Alan Rogers",-14.9,2,-4.5999999999999996,1,{"$f":"P3+S3+V3+Y3+AB3+AE3+AH3+AK3+AN3+AQ3+AT3+AW3+AZ3+BC3+BF3+BI3+BL3+BO3+BR3+BU3","v":0},null,{"$f":"INDEX(Table!N:N,MATCH(E3,Table!F:F,0))","v":0},{"$f":"K3+J3+L3","v":0},-7,0,null,-3.3,1,null,-4.5999999999999996,1,null,null,null,null,null,null,null,null,null,null,null,null,null,null,null,null,null,null,null,null,null,null,null,null,null,null,null,null,null,null,null,null,null,null,null,null,null,null,null,null,null,null,null,null,null,null,null,null,null,null,null,null,-14.899999999999999,2,0]
[25,46,14,{"$f":"INDEX(Table!E:E,MATCH(E4,Table!F:F,0))","v":"C"},"Alan White",3.9499999999999975,4,-7,0,0,null,{"$f":"INDEX(Table!N:N,MATCH(E4,Table!F:F,0))","v":0},0,15.799999999999997,3,null,-4.8499999999999996,1,null,-7,0,null,null,null,null,null,null,null,null,null,null,null,null,null,null,null,null,null,null,null,null,null,null,null,null,null,null,null,null,null,null,null,null,null,null,null,null,null,null,null,null,null,null,null,null,null,null,null,null,null,null,null,null,3.9499999999999975,4,0]
[50,39,45,{"$f":"INDEX(Table!E:E,MATCH(E5,Table!F:F,0))","v":"A"},"Alfie Davies",-14.25,3,-5.15,1,0,null,{"$f":"INDEX(Table!N:N,MATCH(E5,Table!F:F,0))","v":0},0,-5.7,1,null,-3.4,1,null,-5.15,1,null,null,null,null,null,null,null,null,null,null,null,null,null,null,null,null,null,null,null,null,null,null,null,null,null,null,null,null,null,null,null,null,null,null,null,null,null,null,null,null,null,null,null,null,null,null,null,null,null,null,null,null,-14.25,3,0]
[19,8,33,{"$f":"INDEX(Table!E:E,MATCH(E6,Table!F:F,0))","v":"B"},"Alick Rocca",8.023076923076923,5,9.1999999999999993,2,0,null,{"$f":"INDEX(Table!N:N,MATCH(E6,Table!F:F,0))","v":6.21},6.21,2.7230769230769241,2,null,-3.9,1,null,9.1999999999999993,2,null,null,null,null,null,null,null,null,null,null,null,null,null,null,null,null,null,null,null,null,null,null,null,null,null,null,null,null,null,null,null,null,null,null,null,null,null,null,null,null,null,null,null,null,null,null,null,null,null,null,null,null,8.023076923076923,5,0]
[57,45,59,{"$f":"INDEX(Table!E:E,MATCH(E7,Table!F:F,0))","v":"C"},"Andy Charleston",-18.299999999999997,2,-5.6,1,0,null,{"$f":"INDEX(Table!N:N,MATCH(E7,Table!F:F,0))","v":0},0,-5.7,1,null,-7,0,null,-5.6,1,null,null,null,null,null,null,null,null,null,null,null,null,null,null,null,null,null,null,null,null,null,null,null,null,null,null,null,null,null,null,null,null,null,null,null,null,null,null,null,null,null,null,null,null,null,null,null,null,null,null,null,null,-18.3,2,0]
[61,46,60,{"$f":"INDEX(Table!E:E,MATCH(E8,Table!F:F,0))","v":"D"},"Andy Hargreaves",-21,0,-7,0,0,null,{"$f":"INDEX(Table!N:N,MATCH(E8,Table!F:F,0))","v":0},0,-7,0,null,-7,0,null,-7,0,null,null,null,null,null,null,null,null,null,null,null,null,null,null,null,null,null,null,null,null,null,null,null,null,null,null,null,null,null,null,null,null,null,null,null,null,null,null,null,null,null,null,null,null,null,null,null,null,null,null,null,null,-21,0,0]
[43,43,40,{"$f":"INDEX(Table!E:E,MATCH(E9,Table!F:F,0))","v":"B"},"Andy White",-9.0181818181818176,4,-5.2727272727272725,1,0,null,{"$f":"INDEX(Table!N:N,MATCH(E9,Table!F:F,0))","v":0},0,1.454545454545455,2,null,-5.2,1,null,-5.2727272727272725,1,null,null,null,null,null,null,null,null,null,null,null,null,null,null,null,null,null,null,null,null,null,null,null,null,null,null,null,null,null,null,null,null,null,null,null,null,null,null,null,null,null,null,null,null,null,null,null,null,null,null,null,null,-9.0181818181818176,4,0]
[52,22,60,{"$f":"INDEX(Table!E:E,MATCH(E10,Table!F:F,0))","v":"D"},"Ashley Houghton",-15.280000000000001,2,-1.2800000000000002,2,0,null,{"$f":"INDEX(Table!N:N,MATCH(E10,Table!F:F,0))","v":0},0,-7,0,null,-7,0,null,-1.2800000000000002,2,null,null,null,null,null,null,null,null,null,null,null,null,null,null,null,null,null,null,null,null,null,null,null,null,null,null,null,null,null,null,null,null,null,null,null,null,null,null,null,null,null,null,null,null,null,null,null,null,null,null,null,null,-15.280000000000001,2,0]
[9,44,6,{"$f":"INDEX(Table!E:E,MATCH(E11,Table!F:F,0))","v":"A"},"Barry Birchall",16.744999999999997,6,-5.35,1,0,null,{"$f":"INDEX(Table!N:N,MATCH(E11,Table!F:F,0))","v":77.625},77.625,21.295000000000002,3,null,0.79999999999999893,2,null,-5.35,1,null,null,null,null,null,null,null,null,null,null,null,null,null,null,null,null,null,null,null,null,null,null,null,null,null,null,null,null,null,null,null,null,null,null,null,null,null,null,null,null,null,null,null,null,null,null,null,null,null,null,null,null,16.745000000000001,6,0]
[16,7,30,{"$f":"INDEX(Table!E:E,MATCH(E12,Table!F:F,0))","v":"C"},"Ben Rosser",10.187272727272727,4,10.059999999999999,2,0,null,{"$f":"INDEX(Table!N:N,MATCH(E12,Table!F:F,0))","v":7.2450000000000001},7.2450000000000001,7.1272727272727288,2,null,-7,0,null,10.059999999999999,2,null,null,null,null,null,null,null,null,null,null,null,null,null,null,null,null,null,null,null,null,null,null,null,null,null,null,null,null,null,null,null,null,null,null,null,null,null,null,null,null,null,null,null,null,null,null,null,null,null,null,null,null,10.187272727272727,4,0]
[44,46,37,{"$f":"INDEX(Table!E:E,MATCH(E13,Table!F:F,0))","v":"D"},"Bob Bailey",-9.7249999999999996,3,-7,0,0,null,{"$f":"INDEX(Table!N:N,MATCH(E13,Table!F:F,0))","v":0},0,-4.625,1,null,1.9000000000000004,2,null,-7,0,null,null,null,null,null,null,null,null,null,null,null,null,null,null,null,null,null,null,null,null,null,null,null,null,null,null,null,null,null,null,null,null,null,null,null,null,null,null,null,null,null,null,null,null,null,null,null,null,null,null,null,null,-9.7249999999999996,3,0]
[12,46,7,{"$f":"INDEX(Table!E:E,MATCH(E14,Table!F:F,0))","v":"B"},"Charlie Griffiths",13.556875000000005,4,-7,0,5,null,{"$f":"INDEX(Table!N:N,MATCH(E14,Table!F:F,0))","v":14.49},19.490000000000002,24.956875000000004,3,5,-4.4000000000000004,1,null,-7,0,null,null,null,null,null,null,null,null,null,null,null,null,null,null,null,null,null,null,null,null,null,null,null,null,null,null,null,null,null,null,null,null,null,null,null,null,null,null,null,null,null,null,null,null,null,null,null,null,null,null,null,null,13.556875000000003,4,5]
[18,15,16,{"$f":"INDEX(Table!E:E,MATCH(E15,Table!F:F,0))","v":"A"},"Chris Bow",9.6199999999999992,5,2.8000000000000007,2,0,null,{"$f":"INDEX(Table!N:N,MATCH(E15,Table!F:F,0))","v":55.89},55.89,10.719999999999999,2,null,-3.9,1,null,2.8000000000000007,2,null,null,null,null,null,null,null,null,null,null,null,null,null,null,null,null,null,null,null,null,null,null,null,null,null,null,null,null,null,null,null,null,null,null,null,null,null,null,null,null,null,null,null,null,null,null,null,null,null,null,null,null,9.6199999999999992,5,0]
[11,25,9,{"$f":"INDEX(Table!E:E,MATCH(E16,Table!F:F,0))","v":"C"},"Chris Griffin",13.709790209790214,7,-3.7,1,5,null,{"$f":"INDEX(Table!N:N,MATCH(E16,Table!F:F,0))","v":25.875},30.875,9.1188811188811201,3,null,8.2909090909090928,3,5,-3.7,1,null,null,null,null,null,null,null,null,null,null,null,null,null,null,null,null,null,null,null,null,null,null,null,null,null,null,null,null,null,null,null,null,null,null,null,null,null,null,null,null,null,null,null,null,null,null,null,null,null,null,null,null,13.709790209790214,7,5]
[40,27,34,{"$f":"INDEX(Table!E:E,MATCH(E17,Table!F:F,0))","v":"B"},"Chris Luck",-5.4499999999999993,4,-3.8,1,0,null,{"$f":"INDEX(Table!N:N,MATCH(E17,Table!F:F,0))","v":0},0,3.0500000000000007,2,null,-4.7,1,null,-3.8,1,null,null,null,null,null,null,null,null,null,null,null,null,null,null,null,null,null,null,null,null,null,null,null,null,null,null,null,null,null,null,null,null,null,null,null,null,null,null,null,null,null,null,null,null,null,null,null,null,null,null,null,null,-5.4499999999999993,4,0]
[17,46,10,{"$f":"INDEX(Table!E:E,MATCH(E18,Table!F:F,0))","v":"C"},"Chris Townsend",10,3,-7,0,5,null,{"$f":"INDEX(Table!N:N,MATCH(E18,Table!F:F,0))","v":3.105},8.1050000000000004,-3.6,1,null,20.6,2,5,-7,0,null,null,null,null,null,null,null,null,null,null,null,null,null,null,null,null,null,null,null,null,null,null,null,null,null,null,null,null,null,null,null,null,null,null,null,null,null,null,null,null,null,null,null,null,null,null,null,null,null,null,null,null,10.000000000000002,3,5]
[7,2,31,{"$f":"INDEX(Table!E:E,MATCH(E19,Table!F:F,0))","v":"D"},"Dan Gibbard",22.083068181818181,7,22.476249999999997,3,5,null,{"$f":"INDEX(Table!N:N,MATCH(E19,Table!F:F,0))","v":17.25},22.25,3.0250000000000004,2,null,-3.4181818181818175,2,null,22.476249999999997,3,5,null,null,null,null,null,null,null,null,null,null,null,null,null,null,null,null,null,null,null,null,null,null,null,null,null,null,null,null,null,null,null,null,null,null,null,null,null,null,null,null,null,null,null,null,null,null,null,null,null,null,null,22.083068181818177,7,5]
[61,46,60,{"$f":"INDEX(Table!E:E,MATCH(E20,Table!F:F,0))","v":"D"},"Dave Bell",-21,0,-7,0,0,null,{"$f":"INDEX(Table!N:N,MATCH(E20,Table!F:F,0))","v":0},0,-7,0,null,-7,0,null,-7,0,null,null,null,null,null,null,null,null,null,null,null,null,null,null,null,null,null,null,null,null,null,null,null,null,null,null,null,null,null,null,null,null,null,null,null,null,null,null,null,null,null,null,null,null,null,null,null,null,null,null,null,null,-21,0,0]
[3,16,3,{"$f":"INDEX(Table!E:E,MATCH(E21,Table!F:F,0))","v":"B"},"Dave Orrell",30.54,6,2.7100000000000009,2,5,null,{"$f":"INDEX(Table!N:N,MATCH(E21,Table!F:F,0))","v":72.45},77.45,32.454999999999998,3,5,-4.625,1,null,2.7100000000000009,2,null,null,null,null,null,null,null,null,null,null,null,null,null,null,null,null,null,null,null,null,null,null,null,null,null,null,null,null,null,null,null,null,null,null,null,null,null,null,null,null,null,null,null,null,null,null,null,null,null,null,null,null,30.54,6,5]
[30,17,36,{"$f":"INDEX(Table!E:E,MATCH(E22,Table!F:F,0))","v":"C"},"David Dunn",-0.5113636363636358,5,2.125,2,0,null,{"$f":"INDEX(Table!N:N,MATCH(E22,Table!F:F,0))","v":0},0,1.163636363636364,2,null,-3.8,1,null,2.125,2,null,null,null,null,null,null,null,null,null,null,null,null,null,null,null,null,null,null,null,null,null,null,null,null,null,null,null,null,null,null,null,null,null,null,null,null,null,null,null,null,null,null,null,null,null,null,null,null,null,null,null,null,-0.5113636363636358,5,0]
[41,38,32,{"$f":"INDEX(Table!E:E,MATCH(E23,Table!F:F,0))","v":"D"},"Frank Allen",-5.5209090909090905,5,-5.0909090909090908,1,0,null,{"$f":"INDEX(Table!N:N,MATCH(E23,Table!F:F,0))","v":0},0,-1.25,2,null,0.82000000000000028,2,null,-5.0909090909090908,1,null,null,null,null,null,null,null,null,null,null,null,null,null,null,null,null,null,null,null,null,null,null,null,null,null,null,null,null,null,null,null,null,null,null,null,null,null,null,null,null,null,null,null,null,null,null,null,null,null,null,null,null,-5.5209090909090905,5,0]
[10,36,8,{"$f":"INDEX(Table!E:E,MATCH(E24,Table!F:F,0))","v":"C"},"Gareth McGuire",14.025454545454544,6,-5,1,5,null,{"$f":"INDEX(Table!N:N,MATCH(E24,Table!F:F,0))","v":36.225000000000001},41.225000000000001,0.1454545454545455,2,null,18.88,3,5,-5,1,null,null,null,null,null,null,null,null,null,null,null,null,null,null,null,null,null,null,null,null,null,null,null,null,null,null,null,null,null,null,null,null,null,null,null,null,null,null,null,null,null,null,null,null,null,null,null,null,null,null,null,null,14.025454545454544,6,5]
[23,6,44,{"$f":"INDEX(Table!E:E,MATCH(E25,Table!F:F,0))","v":"D"},"Gareth Powell",4.3500000000000014,4,11.350000000000001,2,0,null,{"$f":"INDEX(Table!N:N,MATCH(E25,Table!F:F,0))","v":4.83},4.83,-3.6,1,null,-3.4,1,null,11.350000000000001,2,null,null,null,null,null,null,null,null,null,null,null,null,null,null,null,null,null,null,null,null,null,null,null,null,null,null,null,null,null,null,null,null,null,null,null,null,null,null,null,null,null,null,null,null,null,null,null,null,null,null,null,null,4.3500000000000014,4,0]
[36,27,27,{"$f":"INDEX(Table!E:E,MATCH(E26,Table!F:F,0))","v":"A"},"Gerard Ventom",-2.1499999999999995,4,-3.8,1,0,null,{"$f":"INDEX(Table!N:N,MATCH(E26,Table!F:F,0))","v":0},0,-4.75,1,null,6.4,2,null,-3.8,1,null,null,null,null,null,null,null,null,null,null,null,null,null,null,null,null,null,null,null,null,null,null,null,null,null,null,null,null,null,null,null,null,null,null,null,null,null,null,null,null,null,null,null,null,null,null,null,null,null,null,null,null,-2.1499999999999995,4,0]
[32,30,23,{"$f":"INDEX(Table!E:E,MATCH(E27,Table!F:F,0))","v":"C"},"Graham Miller",-1.1049999999999986,4,-4.375,1,0,null,{"$f":"INDEX(Table!N:N,MATCH(E27,Table!F:F,0))","v":0},0,8.120000000000001,2,null,-4.8499999999999996,1,null,-4.375,1,null,null,null,null,null,null,null,null,null,null,null,null,null,null,null,null,null,null,null,null,null,null,null,null,null,null,null,null,null,null,null,null,null,null,null,null,null,null,null,null,null,null,null,null,null,null,null,null,null,null,null,null,-1.1049999999999986,4,0]
[6,24,4,{"$f":"INDEX(Table!E:E,MATCH(E28,Table!F:F,0))","v":"B"},"Howard Bradley",22.254000000000005,6,-3.5,1,0,null,{"$f":"INDEX(Table!N:N,MATCH(E28,Table!F:F,0))","v":24.84},24.84,20.224000000000004,3,null,5.5300000000000011,2,null,-3.5,1,null,null,null,null,null,null,null,null,null,null,null,null,null,null,null,null,null,null,null,null,null,null,null,null,null,null,null,null,null,null,null,null,null,null,null,null,null,null,null,null,null,null,null,null,null,null,null,null,null,null,null,null,22.254000000000005,6,0]
[37,46,25,{"$f":"INDEX(Table!E:E,MATCH(E29,Table!F:F,0))","v":"D"},"Ian Davies",-3.9600000000000009,2,-7,0,0,null,{"$f":"INDEX(Table!N:N,MATCH(E29,Table!F:F,0))","v":0},0,10.039999999999999,2,null,-7,0,null,-7,0,null,null,null,null,null,null,null,null,null,null,null,null,null,null,null,null,null,null,null,null,null,null,null,null,null,null,null,null,null,null,null,null,null,null,null,null,null,null,null,null,null,null,null,null,null,null,null,null,null,null,null,null,-3.9600000000000009,2,0]
[47,20,50,{"$f":"INDEX(Table!E:E,MATCH(E30,Table!F:F,0))","v":"C"},"Jack Walsh",-10.654545454545454,4,-0.36363636363636331,2,0,null,{"$f":"INDEX(Table!N:N,MATCH(E30,Table!F:F,0))","v":0},0,-5.0909090909090908,1,null,-5.2,1,null,-0.36363636363636331,2,null,null,null,null,null,null,null,null,null,null,null,null,null,null,null,null,null,null,null,null,null,null,null,null,null,null,null,null,null,null,null,null,null,null,null,null,null,null,null,null,null,null,null,null,null,null,null,null,null,null,null,null,-10.654545454545454,4,0]
[58,46,53,{"$f":"INDEX(Table!E:E,MATCH(E31,Table!F:F,0))","v":"B"},"James Bell",-18.625,1,-7,0,0,null,{"$f":"INDEX(Table!N:N,MATCH(E31,Table!F:F,0))","v":0},0,-7,0,null,-4.625,1,null,-7,0,null,null,null,null,null,null,null,null,null,null,null,null,null,null,null,null,null,null,null,null,null,null,null,null,null,null,null,null,null,null,null,null,null,null,null,null,null,null,null,null,null,null,null,null,null,null,null,null,null,null,null,null,-18.625,1,0]
[33,46,22,{"$f":"INDEX(Table!E:E,MATCH(E32,Table!F:F,0))","v":"D"},"John Murphy",-1.8500000000000014,2,-7,0,0,null,{"$f":"INDEX(Table!N:N,MATCH(E32,Table!F:F,0))","v":2.0699999999999998},2.0699999999999998,12.149999999999999,2,null,-7,0,null,-7,0,null,null,null,null,null,null,null,null,null,null,null,null,null,null,null,null,null,null,null,null,null,null,null,null,null,null,null,null,null,null,null,null,null,null,null,null,null,null,null,null,null,null,null,null,null,null,null,null,null,null,null,null,-1.8500000000000014,2,0]
[5,34,2,{"$f":"INDEX(Table!E:E,MATCH(E33,Table!F:F,0))","v":"B"},"John Ronan",24.719499999999996,5,-4.9000000000000004,1,10,null,{"$f":"INDEX(Table!N:N,MATCH(E33,Table!F:F,0))","v":37.26},47.26,-5,1,null,34.619499999999995,3,10,-4.9000000000000004,1,null,null,null,null,null,null,null,null,null,null,null,null,null,null,null,null,null,null,null,null,null,null,null,null,null,null,null,null,null,null,null,null,null,null,null,null,null,null,null,null,null,null,null,null,null,null,null,null,null,null,null,null,24.719499999999996,5,10]
[{"$f":"_xlfn.RANK.EQ(F34,totalscores,0)","v":59},46,55,{"$f":"INDEX(Table!E:E,MATCH(E34,Table!F:F,0))","v":"A"},"Kei Lok Ma",{"$f":"+N34+Q34+T34+W34+Z34+AC34+AF34+AI34+AL34+AO34+AR34+AU34+AX34+BA34+BD34+BG34+BJ34+BM34+BP34+BS34","v":-18.75},{"$f":"+O34+R34+U34+X34+AA34+AD34+AG34+AJ34+AM34+AP34+AS34+AV34+AY34+BB34+BE34+BH34+BK34+BN34+BQ34+BT34","v":1},-7,0,0,null,{"$f":"INDEX(Table!N:N,MATCH(E34,Table!F:F,0))","v":0},0,-4.75,1,null,-7,0,null,-7,0,null,null,null,null,null,null,null,null,null,null,null,null,null,null,null,null,null,null,null,null,null,null,null,null,null,null,null,null,null,null,null,null,null,null,null,null,null,null,null,null,null,null,null,null,null,null,null,null,null,null,null,null,{"$f":"BS34+BP34+BM34+BJ34+BG34+BD34+BA34+AX34+AU34+AR34+AO34+AL34+AI34+AF34+AC34+Z34+W34+T34+Q34+N34","v":-18.75},{"$f":"BT34+BQ34+BN34+BK34+BH34+BE34+BB34+AY34+AV34+AS34+AP34+AM34+AJ34+AG34+AD34+AA34+X34+U34+R34+O34","v":1},{"$f":"BU34+BR34+BO34+BL34+BI34+BF34+BC34+AZ34+AW34+AT34+AQ34+AN34+AK34+AH34+AE34+AB34+Y34+V34+S34+P34","v":0}]
[21,19,18,{"$f":"INDEX(Table!E:E,MATCH(E35,Table!F:F,0))","v":"A"},"Kevin Carter",5.7293939393939395,7,-0.22727272727272751,2,0,null,{"$f":"INDEX(Table!N:N,MATCH(E35,Table!F:F,0))","v":21.734999999999999},21.734999999999999,6.49,3,null,-0.53333333333333321,2,null,-0.22727272727272751,2,null,null,null,null,null,null,null,null,null,null,null,null,null,null,null,null,null,null,null,null,null,null,null,null,null,null,null,null,null,null,null,null,null,null,null,null,null,null,null,null,null,null,null,null,null,null,null,null,null,null,null,null,5.7293939393939395,7,0]
[28,34,21,{"$f":"INDEX(Table!E:E,MATCH(E36,Table!F:F,0))","v":"A"},"Lennie Bow",0.27613636363636296,5,-4.9000000000000004,1,0,null,{"$f":"INDEX(Table!N:N,MATCH(E36,Table!F:F,0))","v":0},0,4.0124999999999993,2,null,1.163636363636364,2,null,-4.9000000000000004,1,null,null,null,null,null,null,null,null,null,null,null,null,null,null,null,null,null,null,null,null,null,null,null,null,null,null,null,null,null,null,null,null,null,null,null,null,null,null,null,null,null,null,null,null,null,null,null,null,null,null,null,null,0.27613636363636296,5,0]
[49,22,58,{"$f":"INDEX(Table!E:E,MATCH(E37,Table!F:F,0))","v":"D"},"Liam Wah",-13.48,3,-1.2800000000000002,2,0,null,{"$f":"INDEX(Table!N:N,MATCH(E37,Table!F:F,0))","v":0},0,-7,0,null,-5.2,1,null,-1.2800000000000002,2,null,null,null,null,null,null,null,null,null,null,null,null,null,null,null,null,null,null,null,null,null,null,null,null,null,null,null,null,null,null,null,null,null,null,null,null,null,null,null,null,null,null,null,null,null,null,null,null,null,null,null,null,-13.48,3,0]
[27,39,17,{"$f":"INDEX(Table!E:E,MATCH(E38,Table!F:F,0))","v":"A"},"Mal Stott",0.9081818181818182,5,-5.15,1,0,null,{"$f":"INDEX(Table!N:N,MATCH(E38,Table!F:F,0))","v":9.3149999999999995},9.3149999999999995,4.24,2,null,1.8181818181818183,2,null,-5.15,1,null,null,null,null,null,null,null,null,null,null,null,null,null,null,null,null,null,null,null,null,null,null,null,null,null,null,null,null,null,null,null,null,null,null,null,null,null,null,null,null,null,null,null,null,null,null,null,null,null,null,null,null,0.9081818181818182,5,0]
[54,27,56,{"$f":"INDEX(Table!E:E,MATCH(E39,Table!F:F,0))","v":"A"},"Mark Bunn",-15.649999999999999,2,-3.8,1,0,null,{"$f":"INDEX(Table!N:N,MATCH(E39,Table!F:F,0))","v":0},0,-7,0,null,-4.8499999999999996,1,null,-3.8,1,null,null,null,null,null,null,null,null,null,null,null,null,null,null,null,null,null,null,null,null,null,null,null,null,null,null,null,null,null,null,null,null,null,null,null,null,null,null,null,null,null,null,null,null,null,null,null,null,null,null,null,null,-15.649999999999999,2,0]
[20,11,26,{"$f":"INDEX(Table!E:E,MATCH(E40,Table!F:F,0))","v":"A"},"Mark Saunders",6.6454545454545437,6,4.8999999999999986,2,0,null,{"$f":"INDEX(Table!N:N,MATCH(E40,Table!F:F,0))","v":37.26},37.26,0.1454545454545455,2,null,1.5999999999999996,2,null,4.8999999999999986,2,null,null,null,null,null,null,null,null,null,null,null,null,null,null,null,null,null,null,null,null,null,null,null,null,null,null,null,null,null,null,null,null,null,null,null,null,null,null,null,null,null,null,null,null,null,null,null,null,null,null,null,null,6.6454545454545437,6,0]
[1,4,1,{"$f":"INDEX(Table!E:E,MATCH(E41,Table!F:F,0))","v":"D"},"Martin Molyneux",53.165454545454551,6,15.219999999999999,3,15,null,{"$f":"INDEX(Table!N:N,MATCH(E41,Table!F:F,0))","v":24.15},39.15,44.945454545454552,3,10,-7,0,null,15.219999999999999,3,5,null,null,null,null,null,null,null,null,null,null,null,null,null,null,null,null,null,null,null,null,null,null,null,null,null,null,null,null,null,null,null,null,null,null,null,null,null,null,null,null,null,null,null,null,null,null,null,null,null,null,null,53.165454545454551,6,15]
[55,46,46,{"$f":"INDEX(Table!E:E,MATCH(E42,Table!F:F,0))","v":"D"},"Martin Tarbuck",-16.149999999999999,2,-7,0,0,null,{"$f":"INDEX(Table!N:N,MATCH(E42,Table!F:F,0))","v":0},0,-4.75,1,null,-4.4000000000000004,1,null,-7,0,null,null,null,null,null,null,null,null,null,null,null,null,null,null,null,null,null,null,null,null,null,null,null,null,null,null,null,null,null,null,null,null,null,null,null,null,null,null,null,null,null,null,null,null,null,null,null,null,null,null,null,null,-16.149999999999999,2,0]
[56,46,48,{"$f":"INDEX(Table!E:E,MATCH(E43,Table!F:F,0))","v":"B"},"Mike Penk",-17.100000000000001,2,-7,0,0,null,{"$f":"INDEX(Table!N:N,MATCH(E43,Table!F:F,0))","v":0},0,-5.7,1,null,-4.4000000000000004,1,null,-7,0,null,null,null,null,null,null,null,null,null,null,null,null,null,null,null,null,null,null,null,null,null,null,null,null,null,null,null,null,null,null,null,null,null,null,null,null,null,null,null,null,null,null,null,null,null,null,null,null,null,null,null,null,-17.100000000000001,2,0]
[45,31,42,{"$f":"INDEX(Table!E:E,MATCH(E44,Table!F:F,0))","v":"B"},"Mo Sudell",-10.160000000000002,3,-4.4000000000000004,1,0,null,{"$f":"INDEX(Table!N:N,MATCH(E44,Table!F:F,0))","v":0},0,-7,0,null,1.2399999999999984,2,null,-4.4000000000000004,1,null,null,null,null,null,null,null,null,null,null,null,null,null,null,null,null,null,null,null,null,null,null,null,null,null,null,null,null,null,null,null,null,null,null,null,null,null,null,null,null,null,null,null,null,null,null,null,null,null,null,null,null,-10.160000000000002,3,0]
[13,3,49,{"$f":"INDEX(Table!E:E,MATCH(E45,Table!F:F,0))","v":"C"},"Nick Blocksidge",12.073333333333331,5,22.24,3,5,null,{"$f":"INDEX(Table!N:N,MATCH(E45,Table!F:F,0))","v":18.63},23.63,-5.4666666666666668,1,null,-4.7,1,null,22.24,3,5,null,null,null,null,null,null,null,null,null,null,null,null,null,null,null,null,null,null,null,null,null,null,null,null,null,null,null,null,null,null,null,null,null,null,null,null,null,null,null,null,null,null,null,null,null,null,null,null,null,null,null,12.073333333333332,5,5]
[29,14,38,{"$f":"INDEX(Table!E:E,MATCH(E46,Table!F:F,0))","v":"A"},"Nigel Heyes",-0.23545454545454447,5,3.16,2,0,null,{"$f":"INDEX(Table!N:N,MATCH(E46,Table!F:F,0))","v":0},0,1.454545454545455,2,null,-4.8499999999999996,1,null,3.16,2,null,null,null,null,null,null,null,null,null,null,null,null,null,null,null,null,null,null,null,null,null,null,null,null,null,null,null,null,null,null,null,null,null,null,null,null,null,null,null,null,null,null,null,null,null,null,null,null,null,null,null,null,-0.23545454545454447,5,0]
[48,46,41,{"$f":"INDEX(Table!E:E,MATCH(E47,Table!F:F,0))","v":"C"},"Oscar Jackson",-11.8,3,-7,0,0,null,{"$f":"INDEX(Table!N:N,MATCH(E47,Table!F:F,0))","v":0},0,-5.2,1,null,0.39999999999999947,2,null,-7,0,null,null,null,null,null,null,null,null,null,null,null,null,null,null,null,null,null,null,null,null,null,null,null,null,null,null,null,null,null,null,null,null,null,null,null,null,null,null,null,null,null,null,null,null,null,null,null,null,null,null,null,null,-11.8,3,0]
[39,18,43,{"$f":"INDEX(Table!E:E,MATCH(E48,Table!F:F,0))","v":"C"},"Paul Adderley",-5.3833333333333346,4,1.4499999999999993,2,0,null,{"$f":"INDEX(Table!N:N,MATCH(E48,Table!F:F,0))","v":0},0,-1.5,1,null,-5.3333333333333339,1,null,1.4499999999999993,2,null,null,null,null,null,null,null,null,null,null,null,null,null,null,null,null,null,null,null,null,null,null,null,null,null,null,null,null,null,null,null,null,null,null,null,null,null,null,null,null,null,null,null,null,null,null,null,null,null,null,null,null,-5.3833333333333346,4,0]
[22,46,13,{"$f":"INDEX(Table!E:E,MATCH(E49,Table!F:F,0))","v":"C"},"Paul Allen",4.9700000000000042,4,-7,0,0,null,{"$f":"INDEX(Table!N:N,MATCH(E49,Table!F:F,0))","v":0},0,15.870000000000005,3,null,-3.9,1,null,-7,0,null,null,null,null,null,null,null,null,null,null,null,null,null,null,null,null,null,null,null,null,null,null,null,null,null,null,null,null,null,null,null,null,null,null,null,null,null,null,null,null,null,null,null,null,null,null,null,null,null,null,null,null,4.9700000000000042,4,0]
[15,11,19,{"$f":"INDEX(Table!E:E,MATCH(E50,Table!F:F,0))","v":"D"},"Paul Barnes",10.84125874125874,6,4.8999999999999986,2,0,null,{"$f":"INDEX(Table!N:N,MATCH(E50,Table!F:F,0))","v":8.2799999999999994},8.2799999999999994,11.274592074592075,3,null,-5.3333333333333339,1,null,4.8999999999999986,2,null,null,null,null,null,null,null,null,null,null,null,null,null,null,null,null,null,null,null,null,null,null,null,null,null,null,null,null,null,null,null,null,null,null,null,null,null,null,null,null,null,null,null,null,null,null,null,null,null,null,null,null,10.84125874125874,6,0]
[60,46,57,{"$f":"INDEX(Table!E:E,MATCH(E51,Table!F:F,0))","v":"A"},"Paul Fairhurst",-18.95,1,-7,0,0,null,{"$f":"INDEX(Table!N:N,MATCH(E51,Table!F:F,0))","v":0},0,-7,0,null,-4.95,1,null,-7,0,null,null,null,null,null,null,null,null,null,null,null,null,null,null,null,null,null,null,null,null,null,null,null,null,null,null,null,null,null,null,null,null,null,null,null,null,null,null,null,null,null,null,null,null,null,null,null,null,null,null,null,null,-18.95,1,0]
[38,39,28,{"$f":"INDEX(Table!E:E,MATCH(E52,Table!F:F,0))","v":"C"},"Paul Fiddler",-4.2012820512820515,5,-5.15,1,0,null,{"$f":"INDEX(Table!N:N,MATCH(E52,Table!F:F,0))","v":0},0,-1.9846153846153847,2,null,2.9333333333333336,2,null,-5.15,1,null,null,null,null,null,null,null,null,null,null,null,null,null,null,null,null,null,null,null,null,null,null,null,null,null,null,null,null,null,null,null,null,null,null,null,null,null,null,null,null,null,null,null,null,null,null,null,null,null,null,null,null,-4.2012820512820515,5,0]
[31,8,47,{"$f":"INDEX(Table!E:E,MATCH(E53,Table!F:F,0))","v":"B"},"Pete Baron",-0.60000000000000142,3,9.1999999999999993,2,0,null,{"$f":"INDEX(Table!N:N,MATCH(E53,Table!F:F,0))","v":0},0,-2.8,1,null,-7,0,null,9.1999999999999993,2,null,null,null,null,null,null,null,null,null,null,null,null,null,null,null,null,null,null,null,null,null,null,null,null,null,null,null,null,null,null,null,null,null,null,null,null,null,null,null,null,null,null,null,null,null,null,null,null,null,null,null,null,-0.60000000000000053,3,0]
[2,1,20,{"$f":"INDEX(Table!E:E,MATCH(E54,Table!F:F,0))","v":"A"},"Phil Miller",43.295454545454547,7,37.81818181818182,3,10,null,{"$f":"INDEX(Table!N:N,MATCH(E54,Table!F:F,0))","v":108.675},118.675,10.327272727272728,3,null,-4.8499999999999996,1,null,37.81818181818182,3,10,null,null,null,null,null,null,null,null,null,null,null,null,null,null,null,null,null,null,null,null,null,null,null,null,null,null,null,null,null,null,null,null,null,null,null,null,null,null,null,null,null,null,null,null,null,null,null,null,null,null,null,43.295454545454547,7,10]
[14,21,12,{"$f":"INDEX(Table!E:E,MATCH(E55,Table!F:F,0))","v":"C"},"Rob England",12.02795454545455,6,-0.44749999999999979,2,0,null,{"$f":"INDEX(Table!N:N,MATCH(E55,Table!F:F,0))","v":12.42},12.42,17.425454545454549,3,null,-4.95,1,null,-0.44749999999999979,2,null,null,null,null,null,null,null,null,null,null,null,null,null,null,null,null,null,null,null,null,null,null,null,null,null,null,null,null,null,null,null,null,null,null,null,null,null,null,null,null,null,null,null,null,null,null,null,null,null,null,null,null,12.027954545454548,6,0]
[35,10,52,{"$f":"INDEX(Table!E:E,MATCH(E56,Table!F:F,0))","v":"A"},"Sally Williams",-2.0999999999999996,3,8.8000000000000007,2,0,null,{"$f":"INDEX(Table!N:N,MATCH(E56,Table!F:F,0))","v":0},0,-3.9,1,null,-7,0,null,8.8000000000000007,2,null,null,null,null,null,null,null,null,null,null,null,null,null,null,null,null,null,null,null,null,null,null,null,null,null,null,null,null,null,null,null,null,null,null,null,null,null,null,null,null,null,null,null,null,null,null,null,null,null,null,null,null,-2.0999999999999992,3,0]
[42,36,35,{"$f":"INDEX(Table!E:E,MATCH(E57,Table!F:F,0))","v":"B"},"Simon Greenhalgh",-7.2650000000000006,4,-5,1,0,null,{"$f":"INDEX(Table!N:N,MATCH(E57,Table!F:F,0))","v":0},0,-4.625,1,null,2.3599999999999994,2,null,-5,1,null,null,null,null,null,null,null,null,null,null,null,null,null,null,null,null,null,null,null,null,null,null,null,null,null,null,null,null,null,null,null,null,null,null,null,null,null,null,null,null,null,null,null,null,null,null,null,null,null,null,null,null,-7.2650000000000006,4,0]
[24,13,29,{"$f":"INDEX(Table!E:E,MATCH(E58,Table!F:F,0))","v":"B"},"Stephen Barr",4.1939393939393943,6,4,2,0,null,{"$f":"INDEX(Table!N:N,MATCH(E58,Table!F:F,0))","v":0},0,0.72727272727272751,2,null,-0.53333333333333321,2,null,4,2,null,null,null,null,null,null,null,null,null,null,null,null,null,null,null,null,null,null,null,null,null,null,null,null,null,null,null,null,null,null,null,null,null,null,null,null,null,null,null,null,null,null,null,null,null,null,null,null,null,null,null,null,4.1939393939393943,6,0]
[4,5,11,{"$f":"INDEX(Table!E:E,MATCH(E59,Table!F:F,0))","v":"B"},"Stephen Troop",26.381351981351983,8,12.945454545454545,3,0,null,{"$f":"INDEX(Table!N:N,MATCH(E59,Table!F:F,0))","v":51.75},51.75,13.969230769230769,3,null,-0.53333333333333321,2,null,12.945454545454545,3,null,null,null,null,null,null,null,null,null,null,null,null,null,null,null,null,null,null,null,null,null,null,null,null,null,null,null,null,null,null,null,null,null,null,null,null,null,null,null,null,null,null,null,null,null,null,null,null,null,null,null,null,26.381351981351983,8,0]
[{"$f":"_xlfn.RANK.EQ(F60,totalscores,0)","v":34},{"$f":"_xlfn.RANK.EQ(H60,thisweekscore,0)","v":42},24,{"$f":"INDEX(Table!E:E,MATCH(E60,Table!F:F,0))","v":"A"},"Steve Baxter",{"$f":"+N60+Q60+T60+W60+Z60+AC60+AF60+AI60+AL60+AO60+AR60+AU60+AX60+BA60+BD60+BG60+BJ60+BM60+BP60+BS60","v":-1.9809090909090914},{"$f":"+O60+R60+U60+X60+AA60+AD60+AG60+AJ60+AM60+AP60+AS60+AV60+AY60+BB60+BE60+BH60+BK60+BN60+BQ60+BT60","v":6},-5.2,1,{"$f":"P60+S60+V60+Y60+AB60+AE60+AH60+AK60+AN60+AQ60+AT60+AW60+AZ60+BC60+BF60+BI60+BL60+BO60+BR60+BU60","v":0},null,{"$f":"INDEX(Table!N:N,MATCH(E60,Table!F:F,0))","v":0},{"$f":"K60+J60+L60","v":0},5.1099999999999994,3,null,-1.8909090909090907,2,null,-5.2,1,null,null,null,null,null,null,null,null,null,null,null,null,null,null,null,null,null,null,null,null,null,null,null,null,null,null,null,null,null,null,null,null,null,null,null,null,null,null,null,null,null,null,null,null,null,null,null,null,null,null,null,null,{"$f":"BS60+BP60+BM60+BJ60+BG60+BD60+BA60+AX60+AU60+AR60+AO60+AL60+AI60+AF60+AC60+Z60+W60+T60+Q60+N60","v":-1.9809090909090914},{"$f":"BT60+BQ60+BN60+BK60+BH60+BE60+BB60+AY60+AV60+AS60+AP60+AM60+AJ60+AG60+AD60+AA60+X60+U60+R60+O60","v":6},{"$f":"BU60+BR60+BO60+BL60+BI60+BF60+BC60+AZ60+AW60+AT60+AQ60+AN60+AK60+AH60+AE60+AB60+Y60+V60+S60+P60","v":0}]
[53,25,54,{"$f":"INDEX(Table!E:E,MATCH(E61,Table!F:F,0))","v":"A"},"Steve Carter",-15.399999999999999,5,-3.7,1,0,null,{"$f":"INDEX(Table!N:N,MATCH(E61,Table!F:F,0))","v":0},0,-7,3,null,-4.7,1,null,-3.7,1,null,null,null,null,null,null,null,null,null,null,null,null,null,null,null,null,null,null,null,null,null,null,null,null,null,null,null,null,null,null,null,null,null,null,null,null,null,null,null,null,null,null,null,null,null,null,null,null,null,null,null,null,-15.4,5,0]
[26,46,15,{"$f":"INDEX(Table!E:E,MATCH(E62,Table!F:F,0))","v":"C"},"Tom Robinson",1.4216666666666633,4,-7,0,0,null,{"$f":"INDEX(Table!N:N,MATCH(E62,Table!F:F,0))","v":0},0,13.121666666666663,3,null,-4.7,1,null,-7,0,null,null,null,null,null,null,null,null,null,null,null,null,null,null,null,null,null,null,null,null,null,null,null,null,null,null,null,null,null,null,null,null,null,null,null,null,null,null,null,null,null,null,null,null,null,null,null,null,null,null,null,null,1.4216666666666633,4,0]
[46,46,39,{"$f":"INDEX(Table!E:E,MATCH(E63,Table!F:F,0))","v":"B"},"Vinny Topping",-10.609375,2,-7,0,0,null,{"$f":"INDEX(Table!N:N,MATCH(E63,Table!F:F,0))","v":0},0,-7,0,null,3.390625,2,null,-7,0,null,null,null,null,null,null,null,null,null,null,null,null,null,null,null,null,null,null,null,null,null,null,null,null,null,null,null,null,null,null,null,null,null,null,null,null,null,null,null,null,null,null,null,null,null,null,null,null,null,null,null,null,-10.609375,2,0]
[]
[]
[null,null,null,null,null,null,null,null,null,{"$f":"SUM(J2:J59)","v":75},{"$f":"SUM(K2:K59)","v":0},null,null,null,null,{"$f":"SUM(P2:P59)","v":25},null,null,{"$f":"SUM(S2:S59)","v":25},null,null,{"$f":"SUM(V2:V59)","v":25},null,null,{"$f":"SUM(Y2:Y59)","v":0},null,null,{"$f":"SUM(AB2:AB59)","v":0},null,null,{"$f":"SUM(AE2:AE59)","v":0},null,null,{"$f":"SUM(AH2:AH59)","v":0},null,null,{"$f":"SUM(AK2:AK59)","v":0},null,null,{"$f":"SUM(AN2:AN59)","v":0},null,null,{"$f":"SUM(AQ2:AQ59)","v":0},null,null,{"$f":"SUM(AT2:AT59)","v":0},null,null,{"$f":"SUM(AW2:AW59)","v":0},null,null,{"$f":"SUM(AZ2:AZ59)","v":0},null,null,{"$f":"SUM(BC2:BC59)","v":0},null,null,{"$f":"SUM(BF2:BF59)","v":0},null,null,{"$f":"SUM(BI2:BI59)","v":0},null,null,{"$f":"SUM(BL2:BL59)","v":0},null,null,{"$f":"SUM(BO2:BO59)","v":0},null,null,{"$f":"SUM(BR2:BR59)","v":0},null,null,{"$f":"SUM(BU2:BU59)","v":0},null,null,{"$f":"SUM(BX2:BX59)","v":75}]

{"sheet":"Cup","index":5,"n_rows":94,"n_cols":38,"rows_kept":94,"cut":false,"hidden":false,"merged":[[9,34,10,34],[89,7,90,7],[8,29,9,29],[73,7,74,7],[77,7,78,7],[81,7,82,7],[85,7,86,7],[7,34,8,34],[71,7,72,7],[75,7,76,7],[79,7,80,7],[83,7,84,7],[87,7,88,7],[2,7,3,7],[87,1,88,1],[91,1,92,1],[69,7,70,7],[91,7,92,7],[89,4,90,4],[91,4,92,4],[77,4,78,4],[79,4,80,4],[81,4,82,4],[83,4,84,4],[85,4,86,4],[87,4,88,4]]}
["Menu!A1"]
[null,"Prelim",{"$f":"IF(CupDraw!J1=\"\",\"\",CupDraw!J1)","v":""},null,null,null,null,{"$f":"CupDraw!O1","v":"R1 (64)"},{"$f":"CupDraw!P1","v":"2021-01-16"},null,null,null,null,{"$f":"CupDraw!U1","v":"R2 (32)"},{"$f":"CupDraw!V1","v":"2021-02-06"},null,null,null,null,{"$f":"CupDraw!AA1","v":"R3 (16)"},{"$f":"CupDraw!AB1","v":"2021-02-20"},null,null,null,{"$f":"CupDraw!AG1","v":"R4 (QF)"},{"$f":"CupDraw!AH1","v":"2021-03-13"},null,null,null,{"$f":"CupDraw!AM1","v":"R5 (SF)"},{"$f":"CupDraw!AN1","v":"2021-04-03"},null,null,null,{"$f":"CupDraw!AS1","v":"Final"},{"$f":"CupDraw!AT1","v":"2021-04-24"}]
[null,{"$f":"CupDraw!I2","v":1},{"$f":"IF(CupDraw!J2=\"\",\"\",CupDraw!J2)","v":""},{"$f":"IF(CupDraw!K2=\"\",\"\",CupDraw!K2)","v":""},{"$f":"IF(CupDraw!L2=\"\",\"\",CupDraw!L2)","v":""},null,null,{"$f":"CupDraw!O2","v":1},{"$f":"IF(CupDraw!P2=\"\",\"\",CupDraw!P2)","v":"Mal Stott"},{"$f":"IF(CupDraw!Q2=\"\",\"\",CupDraw!Q2)","v":2.0649999999999995},{"$f":"IF(CupDraw!R2=\"\",\"\",CupDraw!R2)","v":""},null,null,{"$f":"CupDraw!U2","v":1},{"$f":"CupDraw!V2","v":"Mal Stott"},{"$f":"IF(CupDraw!W2=\"\",\"\",CupDraw!W2)","v":0.72727272727272751},{"$f":"IF(CupDraw!X2=\"\",\"\",CupDraw!X2)","v":""},null,null,{"$f":"CupDraw!AA2","v":1},{"$f":"CupDraw!AB2","v":"Mal Stott"},{"$f":"IF(CupDraw!AC2=\"\",\"\",CupDraw!AC2)","v":-0.84999999999999964},{"$f":"CupDraw!AD2","v":""},null,{"$f":"CupDraw!AG2","v":1},{"$f":"CupDraw!AH2","v":"Vinny Topping"},{"$f":"IF(CupDraw!AI2=\"\",\"\",CupDraw!AI2)","v":-3.3},{"$f":"IF(CupDraw!AJ2=\"\",\"\",CupDraw!AJ2)","v":""},null,{"$f":"CupDraw!AM2","v":1},{"$f":"IF(CupDraw!AN2=\"\",\"\",CupDraw!AN2)","v":"Vinny Topping"},{"$f":"IF(CupDraw!AO2=\"\",\"\",CupDraw!AO2)","v":31.308750000000003},{"$f":"CupDraw!AP2","v":""},null,{"$f":"CupDraw!AS2","v":1},{"$f":"CupDraw!AT2","v":"Vinny Topping"},{"$f":"IF(CupDraw!AU2=\"\",\"\",CupDraw!AU2)","v":-4.8},{"$f":"CupDraw!AV2","v":""}]
[null,null,{"$f":"IF(CupDraw!J3=\"\",\"\",CupDraw!J3)","v":""},{"$f":"IF(CupDraw!K3=\"\",\"\",CupDraw!K3)","v":""},{"$f":"IF(CupDraw!L3=\"\",\"\",CupDraw!L3)","v":""},null,null,{"$f":"CupDraw!O3","v":0},{"$f":"IF(CupDraw!P3=\"\",\"\",CupDraw!P3)","v":"Alfie Davies"},{"$f":"IF(CupDraw!Q3=\"\",\"\",CupDraw!Q3)","v":-4.3},{"$f":"IF(CupDraw!R3=\"\",\"\",CupDraw!R3)","v":""},null,null,null,{"$f":"CupDraw!V3","v":"Stephen Troop"},{"$f":"IF(CupDraw!W3=\"\",\"\",CupDraw!W3)","v":-2.0466666666666669},{"$f":"IF(CupDraw!X3=\"\",\"\",CupDraw!X3)","v":""},null,null,null,{"$f":"CupDraw!AB3","v":"Vinny Topping"},{"$f":"IF(CupDraw!AC3=\"\",\"\",CupDraw!AC3)","v":0.41499999999999915},null,null,null,{"$f":"CupDraw!AH3","v":"John Ronan"},{"$f":"IF(CupDraw!AI3=\"\",\"\",CupDraw!AI3)","v":-7},{"$f":"IF(CupDraw!AJ3=\"\",\"\",CupDraw!AJ3)","v":""},null,null,{"$f":"CupDraw!AN3","v":"Dave Orrell"},{"$f":"IF(CupDraw!AO3=\"\",\"\",CupDraw!AO3)","v":-5.5},null,null,null,{"$f":"CupDraw!AT3","v":"Nick Blocksidge"},{"$f":"IF(CupDraw!AU3=\"\",\"\",CupDraw!AU3)","v":-5.454545454545455}]
[null,{"$f":"CupDraw!I4","v":2},{"$f":"IF(CupDraw!J4=\"\",\"\",CupDraw!J4)","v":""},{"$f":"IF(CupDraw!K4=\"\",\"\",CupDraw!K4)","v":""},{"$f":"IF(CupDraw!L4=\"\",\"\",CupDraw!L4)","v":""},null,null,{"$f":"CupDraw!O4","v":2},{"$f":"IF(CupDraw!P4=\"\",\"\",CupDraw!P4)","v":"Stephen Troop"},{"$f":"IF(CupDraw!Q4=\"\",\"\",CupDraw!Q4)","v":1.0999999999999996},{"$f":"IF(CupDraw!R4=\"\",\"\",CupDraw!R4)","v":""},null,null,{"$f":"CupDraw!U4","v":2},{"$f":"CupDraw!V4","v":"Vinny Topping"},{"$f":"IF(CupDraw!W4=\"\",\"\",CupDraw!W4)","v":9.9399999999999977},{"$f":"IF(CupDraw!X4=\"\",\"\",CupDraw!X4)","v":""},null,null,{"$f":"CupDraw!AA4","v":2},{"$f":"CupDraw!AB4","v":"John Ronan"},{"$f":"IF(CupDraw!AC4=\"\",\"\",CupDraw!AC4)","v":26.560000000000002},{"$f":"CupDraw!AD4","v":""},null,{"$f":"CupDraw!AG4","v":2},{"$f":"CupDraw!AH4","v":"Dave Orrell"},{"$f":"IF(CupDraw!AI4=\"\",\"\",CupDraw!AI4)","v":33.536000000000001},{"$f":"IF(CupDraw!AJ4=\"\",\"\",CupDraw!AJ4)","v":""},null,{"$f":"CupDraw!AM4","v":2},{"$f":"CupDraw!AN4","v":"Alick Rocca"},{"$f":"IF(CupDraw!AO4=\"\",\"\",CupDraw!AO4)","v":-7},{"$f":"CupDraw!AP4","v":""}]
[null,null,{"$f":"IF(CupDraw!J5=\"\",\"\",CupDraw!J5)","v":""},{"$f":"IF(CupDraw!K5=\"\",\"\",CupDraw!K5)","v":""},{"$f":"IF(CupDraw!L5=\"\",\"\",CupDraw!L5)","v":""},null,null,null,{"$f":"IF(CupDraw!P5=\"\",\"\",CupDraw!P5)","v":"Mark Saunders"},{"$f":"IF(CupDraw!Q5=\"\",\"\",CupDraw!Q5)","v":-1.3333333333333339},{"$f":"IF(CupDraw!R5=\"\",\"\",CupDraw!R5)","v":""},null,null,null,{"$f":"CupDraw!V5","v":"Charlie Griffiths"},{"$f":"IF(CupDraw!W5=\"\",\"\",CupDraw!W5)","v":-1},{"$f":"IF(CupDraw!X5=\"\",\"\",CupDraw!X5)","v":""},null,null,null,{"$f":"CupDraw!AB5","v":"Chris Bow"},{"$f":"IF(CupDraw!AC5=\"\",\"\",CupDraw!AC5)","v":-7},null,null,null,{"$f":"CupDraw!AH5","v":"James Bell"},{"$f":"IF(CupDraw!AI5=\"\",\"\",CupDraw!AI5)","v":-7},{"$f":"IF(CupDraw!AJ5=\"\",\"\",CupDraw!AJ5)","v":""},null,null,{"$f":"CupDraw!AN5","v":"Nick Blocksidge"},{"$f":"IF(CupDraw!AO5=\"\",\"\",CupDraw!AO5)","v":-5.4666666666666668}]
[null,{"$f":"CupDraw!I6","v":3},{"$f":"IF(CupDraw!J6=\"\",\"\",CupDraw!J6)","v":""},{"$f":"IF(CupDraw!K6=\"\",\"\",CupDraw!K6)","v":""},{"$f":"IF(CupDraw!L6=\"\",\"\",CupDraw!L6)","v":""},null,null,{"$f":"CupDraw!O6","v":3},{"$f":"IF(CupDraw!P6=\"\",\"\",CupDraw!P6)","v":"Liam Wah"},{"$f":"IF(CupDraw!Q6=\"\",\"\",CupDraw!Q6)","v":-5.0909090909090908},{"$f":"IF(CupDraw!R6=\"\",\"\",CupDraw!R6)","v":""},null,null,{"$f":"CupDraw!U6","v":3},{"$f":"CupDraw!V6","v":"John Ronan"},{"$f":"IF(CupDraw!W6=\"\",\"\",CupDraw!W6)","v":-4.0999999999999996},{"$f":"IF(CupDraw!X6=\"\",\"\",CupDraw!X6)","v":""},null,null,{"$f":"CupDraw!AA6","v":3},{"$f":"CupDraw!AB6","v":"Barry Birchall"},{"$f":"IF(CupDraw!AC6=\"\",\"\",CupDraw!AC6)","v":-5.4},{"$f":"CupDraw!AD6","v":""},null,{"$f":"CupDraw!AG6","v":3},{"$f":"CupDraw!AH6","v":"Rob England"},{"$f":"IF(CupDraw!AI6=\"\",\"\",CupDraw!AI6)","v":-5.25},{"$f":"IF(CupDraw!AJ6=\"\",\"\",CupDraw!AJ6)","v":""},null,null,null,{"$f":"IF(CupDraw!AO6=\"\",\"\",CupDraw!AO6)","v":""},null,null,{"$f":"CupDraw!AS6","v":"Earlier ties"}]
[null,null,{"$f":"IF(CupDraw!J7=\"\",\"\",CupDraw!J7)","v":""},{"$f":"IF(CupDraw!K7=\"\",\"\",CupDraw!K7)","v":""},{"$f":"IF(CupDraw!L7=\"\",\"\",CupDraw!L7)","v":""},null,null,null,{"$f":"IF(CupDraw!P7=\"\",\"\",CupDraw!P7)","v":"Vinny Topping"},{"$f":"IF(CupDraw!Q7=\"\",\"\",CupDraw!Q7)","v":-4.95},{"$f":"IF(CupDraw!R7=\"\",\"\",CupDraw!R7)","v":""},null,null,null,{"$f":"CupDraw!V7","v":"Paul Ridgeway"},{"$f":"IF(CupDraw!W7=\"\",\"\",CupDraw!W7)","v":-5.4666666666666668},{"$f":"IF(CupDraw!X7=\"\",\"\",CupDraw!X7)","v":""},null,null,null,{"$f":"CupDraw!AB7","v":"Dave Orrell"},{"$f":"IF(CupDraw!AC7=\"\",\"\",CupDraw!AC7)","v":0},null,null,null,{"$f":"CupDraw!AH7","v":"Alick Rocca"},{"$f":"IF(CupDraw!AI7=\"\",\"\",CupDraw!AI7)","v":-3.8},{"$f":"IF(CupDraw!AJ7=\"\",\"\",CupDraw!AJ7)","v":""},null,{"$f":"CupDraw!AM7","v":"Earlier ties"},null,{"$f":"IF(CupDraw!AO7=\"\",\"\",CupDraw!AO7)","v":""},null,null,null,{"$f":"IF(CupDraw!AT7=\"\",\"\",CupDraw!AT7)","v":""},{"$f":"IF(CupDraw!AU7=\"\",\"\",CupDraw!AU7)","v":""},{"$f":"IF(CupDraw!AV7=\"\",\"\",CupDraw!AV7)","v":""}]
[null,{"$f":"CupDraw!I8","v":4},{"$f":"IF(CupDraw!J8=\"\",\"\",CupDraw!J8)","v":""},{"$f":"IF(CupDraw!K8=\"\",\"\",CupDraw!K8)","v":""},{"$f":"IF(CupDraw!L8=\"\",\"\",CupDraw!L8)","v":""},null,null,{"$f":"CupDraw!O8","v":4},{"$f":"IF(CupDraw!P8=\"\",\"\",CupDraw!P8)","v":"Paul Allen"},{"$f":"IF(CupDraw!Q8=\"\",\"\",CupDraw!Q8)","v":-4.625},{"$f":"IF(CupDraw!R8=\"\",\"\",CupDraw!R8)","v":""},null,null,{"$f":"CupDraw!U8","v":4},{"$f":"CupDraw!V8","v":"Chris Townsend"},{"$f":"IF(CupDraw!W8=\"\",\"\",CupDraw!W8)","v":-7},{"$f":"IF(CupDraw!X8=\"\",\"\",CupDraw!X8)","v":""},null,null,{"$f":"CupDraw!AA8","v":4},{"$f":"CupDraw!AB8","v":"Gerard Ventom"},{"$f":"IF(CupDraw!AC8=\"\",\"\",CupDraw!AC8)","v":-7},{"$f":"CupDraw!AD8","v":""},null,{"$f":"CupDraw!AG8","v":4},{"$f":"CupDraw!AH8","v":"Gareth McGuire"},{"$f":"IF(CupDraw!AI8=\"\",\"\",CupDraw!AI8)","v":-10},{"$f":"IF(CupDraw!AJ8=\"\",\"\",CupDraw!AJ8)","v":""},null,null,{"$f":"IF(CupDraw!AN8=\"\",\"\",CupDraw!AN8)","v":""},{"$f":"IF(CupDraw!AO8=\"\",\"\",CupDraw!AO8)","v":""},{"$f":"CupDraw!AP8","v":""},null,null,{"$f":"IF(CupDraw!AT8=\"\",\"\",CupDraw!AT8)","v":""},{"$f":"IF(CupDraw!AU8=\"\",\"\",CupDraw!AU8)","v":""},{"$f":"IF(CupDraw!AV8=\"\",\"\",CupDraw!AV8)","v":""}]
[null,null,{"$f":"IF(CupDraw!J9=\"\",\"\",CupDraw!J9)","v":""},{"$f":"IF(CupDraw!K9=\"\",\"\",CupDraw!K9)","v":""},{"$f":"IF(CupDraw!L9=\"\",\"\",CupDraw!L9)","v":""},null,null,null,{"$f":"IF(CupDraw!P9=\"\",\"\",CupDraw!P9)","v":"Charlie Griffiths"},{"$f":"IF(CupDraw!Q9=\"\",\"\",CupDraw!Q9)","v":1.9124999999999996},{"$f":"IF(CupDraw!R9=\"\",\"\",CupDraw!R9)","v":""},null,null,null,{"$f":"CupDraw!V9","v":"Chris Bow"},{"$f":"IF(CupDraw!W9=\"\",\"\",CupDraw!W9)","v":-3.8},{"$f":"IF(CupDraw!X9=\"\",\"\",CupDraw!X9)","v":""},null,null,null,{"$f":"CupDraw!AB9","v":"James Bell"},{"$f":"IF(CupDraw!AC9=\"\",\"\",CupDraw!AC9)","v":10.919999999999998},null,null,null,{"$f":"CupDraw!AH9","v":"Nick Blocksidge"},{"$f":"IF(CupDraw!AI9=\"\",\"\",CupDraw!AI9)","v":15.527777777777779},{"$f":"IF(CupDraw!AJ9=\"\",\"\",CupDraw!AJ9)","v":""},null,null,{"$f":"IF(CupDraw!AN9=\"\",\"\",CupDraw!AN9)","v":""},{"$f":"IF(CupDraw!AO9=\"\",\"\",CupDraw!AO9)","v":""},null,null,null,{"$f":"IF(CupDraw!AT9=\"\",\"\",CupDraw!AT9)","v":""},{"$f":"IF(CupDraw!AU9=\"\",\"\",CupDraw!AU9)","v":""},{"$f":"IF(CupDraw!AV9=\"\",\"\",CupDraw!AV9)","v":""}]
[null,{"$f":"CupDraw!I10","v":5},{"$f":"IF(CupDraw!J10=\"\",\"\",CupDraw!J10)","v":""},{"$f":"IF(CupDraw!K10=\"\",\"\",CupDraw!K10)","v":""},{"$f":"IF(CupDraw!L10=\"\",\"\",CupDraw!L10)","v":""},null,null,{"$f":"CupDraw!O10","v":5},{"$f":"IF(CupDraw!P10=\"\",\"\",CupDraw!P10)","v":"John Ronan"},{"$f":"IF(CupDraw!Q10=\"\",\"\",CupDraw!Q10)","v":0.87272727272727213},{"$f":"IF(CupDraw!R10=\"\",\"\",CupDraw!R10)","v":""},null,null,{"$f":"CupDraw!U10","v":5},{"$f":"CupDraw!V10","v":"Tom Robinson"},{"$f":"IF(CupDraw!W10=\"\",\"\",CupDraw!W10)","v":1.2925000000000004},{"$f":"IF(CupDraw!X10=\"\",\"\",CupDraw!X10)","v":""},null,null,{"$f":"CupDraw!AA10","v":5},{"$f":"CupDraw!AB10","v":"Rob England"},{"$f":"IF(CupDraw!AC10=\"\",\"\",CupDraw!AC10)","v":-1.7142857142857144},{"$f":"CupDraw!AD10","v":""},null,null,null,null,null,null,null,{"$f":"IF(CupDraw!AN10=\"\",\"\",CupDraw!AN10)","v":""},{"$f":"IF(CupDraw!AO10=\"\",\"\",CupDraw!AO10)","v":""},{"$f":"CupDraw!AP10","v":""},null,null,{"$f":"IF(CupDraw!AT10=\"\",\"\",CupDraw!AT10)","v":""},{"$f":"IF(CupDraw!AU10=\"\",\"\",CupDraw!AU10)","v":""},{"$f":"IF(CupDraw!AV10=\"\",\"\",CupDraw!AV10)","v":""}]
[null,null,{"$f":"IF(CupDraw!J11=\"\",\"\",CupDraw!J11)","v":""},{"$f":"IF(CupDraw!K11=\"\",\"\",CupDraw!K11)","v":""},{"$f":"IF(CupDraw!L11=\"\",\"\",CupDraw!L11)","v":""},null,null,null,{"$f":"IF(CupDraw!P11=\"\",\"\",CupDraw!P11)","v":"Kei Lok Ma"},{"$f":"IF(CupDraw!Q11=\"\",\"\",CupDraw!Q11)","v":-5.0909090909090908},{"$f":"IF(CupDraw!R11=\"\",\"\",CupDraw!R11)","v":""},null,null,null,{"$f":"CupDraw!V11","v":"Barry Birchall"},{"$f":"IF(CupDraw!W11=\"\",\"\",CupDraw!W11)","v":1.7349999999999994},{"$f":"IF(CupDraw!X11=\"\",\"\",CupDraw!X11)","v":""},null,null,null,{"$f":"CupDraw!AB11","v":"Howard Bradley"},{"$f":"IF(CupDraw!AC11=\"\",\"\",CupDraw!AC11)","v":-5.5555555555555554},null,null,null,null,null,null,null,null,{"$f":"IF(CupDraw!AN11=\"\",\"\",CupDraw!AN11)","v":""},{"$f":"IF(CupDraw!AO11=\"\",\"\",CupDraw!AO11)","v":""}]
[null,{"$f":"CupDraw!I12","v":6},{"$f":"IF(CupDraw!J12=\"\",\"\",CupDraw!J12)","v":""},{"$f":"IF(CupDraw!K12=\"\",\"\",CupDraw!K12)","v":""},{"$f":"IF(CupDraw!L12=\"\",\"\",CupDraw!L12)","v":""},null,null,{"$f":"CupDraw!O12","v":6},{"$f":"IF(CupDraw!P12=\"\",\"\",CupDraw!P12)","v":"Paul Ridgeway"},{"$f":"IF(CupDraw!Q12=\"\",\"\",CupDraw!Q12)","v":4.5},{"$f":"IF(CupDraw!R12=\"\",\"\",CupDraw!R12)","v":""},null,null,{"$f":"CupDraw!U12","v":6},{"$f":"CupDraw!V12","v":"Dave Orrell"},{"$f":"IF(CupDraw!W12=\"\",\"\",CupDraw!W12)","v":-4.625},{"$f":"IF(CupDraw!X12=\"\",\"\",CupDraw!X12)","v":""},null,null,{"$f":"CupDraw!AA12","v":6},{"$f":"CupDraw!AB12","v":"Chris Luck"},{"$f":"IF(CupDraw!AC12=\"\",\"\",CupDraw!AC12)","v":-4.8},{"$f":"CupDraw!AD12","v":""},null,{"$f":"CupDraw!AG12","v":"Earlier Ties"}]
[null,null,{"$f":"IF(CupDraw!J13=\"\",\"\",CupDraw!J13)","v":""},{"$f":"IF(CupDraw!K13=\"\",\"\",CupDraw!K13)","v":""},{"$f":"IF(CupDraw!L13=\"\",\"\",CupDraw!L13)","v":""},null,null,null,{"$f":"IF(CupDraw!P13=\"\",\"\",CupDraw!P13)","v":"Paul Fairhurst"},{"$f":"IF(CupDraw!Q13=\"\",\"\",CupDraw!Q13)","v":-4.75},{"$f":"IF(CupDraw!R13=\"\",\"\",CupDraw!R13)","v":""},null,null,null,{"$f":"CupDraw!V13","v":"Chris Griffin"},{"$f":"IF(CupDraw!W13=\"\",\"\",CupDraw!W13)","v":-5.384615384615385},{"$f":"IF(CupDraw!X13=\"\",\"\",CupDraw!X13)","v":""},null,null,null,{"$f":"CupDraw!AB13","v":"Alick Rocca"},{"$f":"IF(CupDraw!AC13=\"\",\"\",CupDraw!AC13)","v":-3.9},null,null,null,{"$f":"IF(CupDraw!AH13=\"\",\"\",CupDraw!AH13)","v":""},{"$f":"IF(CupDraw!AI13=\"\",\"\",CupDraw!AI13)","v":""},{"$f":"IF(CupDraw!AJ13=\"\",\"\",CupDraw!AJ13)","v":""}]
[null,{"$f":"CupDraw!I14","v":7},{"$f":"IF(CupDraw!J14=\"\",\"\",CupDraw!J14)","v":""},{"$f":"IF(CupDraw!K14=\"\",\"\",CupDraw!K14)","v":""},{"$f":"IF(CupDraw!L14=\"\",\"\",CupDraw!L14)","v":""},null,null,{"$f":"CupDraw!O14","v":7},{"$f":"IF(CupDraw!P14=\"\",\"\",CupDraw!P14)","v":"Chris Townsend"},{"$f":"IF(CupDraw!Q14=\"\",\"\",CupDraw!Q14)","v":32.5},{"$f":"IF(CupDraw!R14=\"\",\"\",CupDraw!R14)","v":""},null,null,{"$f":"CupDraw!U14","v":7},{"$f":"CupDraw!V14","v":"Ian Davies"},{"$f":"IF(CupDraw!W14=\"\",\"\",CupDraw!W14)","v":-3.7},{"$f":"IF(CupDraw!X14=\"\",\"\",CupDraw!X14)","v":""},null,null,{"$f":"CupDraw!AA14","v":7},{"$f":"CupDraw!AB14","v":"Gareth McGuire"},{"$f":"IF(CupDraw!AC14=\"\",\"\",CupDraw!AC14)","v":-5.2727272727272725},{"$f":"CupDraw!AD14","v":""},null,null,{"$f":"IF(CupDraw!AH14=\"\",\"\",CupDraw!AH14)","v":""},{"$f":"IF(CupDraw!AI14=\"\",\"\",CupDraw!AI14)","v":""},{"$f":"IF(CupDraw!AJ14=\"\",\"\",CupDraw!AJ14)","v":""}]
[null,null,{"$f":"IF(CupDraw!J15=\"\",\"\",CupDraw!J15)","v":""},{"$f":"IF(CupDraw!K15=\"\",\"\",CupDraw!K15)","v":""},{"$f":"IF(CupDraw!L15=\"\",\"\",CupDraw!L15)","v":""},null,null,null,{"$f":"IF(CupDraw!P15=\"\",\"\",CupDraw!P15)","v":"Graham Miller"},{"$f":"IF(CupDraw!Q15=\"\",\"\",CupDraw!Q15)","v":-5.3333333333333339},{"$f":"IF(CupDraw!R15=\"\",\"\",CupDraw!R15)","v":""},null,null,null,{"$f":"CupDraw!V15","v":"Gerard Ventom"},{"$f":"IF(CupDraw!W15=\"\",\"\",CupDraw!W15)","v":6.5124999999999993},{"$f":"IF(CupDraw!X15=\"\",\"\",CupDraw!X15)","v":""},null,null,null,{"$f":"CupDraw!AB15","v":"Paul Adderley"},{"$f":"IF(CupDraw!AC15=\"\",\"\",CupDraw!AC15)","v":-5.45},null,null,null,{"$f":"IF(CupDraw!AH15=\"\",\"\",CupDraw!AH15)","v":""},{"$f":"IF(CupDraw!AI15=\"\",\"\",CupDraw!AI15)","v":""},{"$f":"IF(CupDraw!AJ15=\"\",\"\",CupDraw!AJ15)","v":""}]
[null,{"$f":"CupDraw!I16","v":8},{"$f":"IF(CupDraw!J16=\"\",\"\",CupDraw!J16)","v":""},{"$f":"IF(CupDraw!K16=\"\",\"\",CupDraw!K16)","v":""},{"$f":"IF(CupDraw!L16=\"\",\"\",CupDraw!L16)","v":""},null,null,{"$f":"CupDraw!O16","v":8},{"$f":"IF(CupDraw!P16=\"\",\"\",CupDraw!P16)","v":"Chris Bow"},{"$f":"IF(CupDraw!Q16=\"\",\"\",CupDraw!Q16)","v":-3.7},{"$f":"IF(CupDraw!R16=\"\",\"\",CupDraw!R16)","v":""},null,null,{"$f":"CupDraw!U16","v":8},{"$f":"CupDraw!V16","v":"Simon Greenhalgh"},{"$f":"IF(CupDraw!W16=\"\",\"\",CupDraw!W16)","v":-4.625},{"$f":"IF(CupDraw!X16=\"\",\"\",CupDraw!X16)","v":""},null,null,{"$f":"CupDraw!AA16","v":8},{"$f":"CupDraw!AB16","v":"Sally Williams"},{"$f":"IF(CupDraw!AC16=\"\",\"\",CupDraw!AC16)","v":-4},{"$f":"CupDraw!AD16","v":""},null,null,{"$f":"IF(CupDraw!AH16=\"\",\"\",CupDraw!AH16)","v":""},{"$f":"IF(CupDraw!AI16=\"\",\"\",CupDraw!AI16)","v":""},{"$f":"IF(CupDraw!AJ16=\"\",\"\",CupDraw!AJ16)","v":""}]
[null,null,{"$f":"IF(CupDraw!J17=\"\",\"\",CupDraw!J17)","v":""},{"$f":"IF(CupDraw!K17=\"\",\"\",CupDraw!K17)","v":""},{"$f":"IF(CupDraw!L17=\"\",\"\",CupDraw!L17)","v":""},null,null,null,{"$f":"IF(CupDraw!P17=\"\",\"\",CupDraw!P17)","v":"Jack Walsh"},{"$f":"IF(CupDraw!Q17=\"\",\"\",CupDraw!Q17)","v":-10},{"$f":"IF(CupDraw!R17=\"\",\"\",CupDraw!R17)","v":""},null,null,null,{"$f":"CupDraw!V17","v":"James Bell"},{"$f":"IF(CupDraw!W17=\"\",\"\",CupDraw!W17)","v":-0.60000000000000009},{"$f":"IF(CupDraw!X17=\"\",\"\",CupDraw!X17)","v":""},null,null,null,{"$f":"CupDraw!AB17","v":"Nick Blocksidge"},{"$f":"IF(CupDraw!AC17=\"\",\"\",CupDraw!AC17)","v":-3.9},null,null,null,{"$f":"IF(CupDraw!AH17=\"\",\"\",CupDraw!AH17)","v":""},{"$f":"IF(CupDraw!AI17=\"\",\"\",CupDraw!AI17)","v":""},{"$f":"IF(CupDraw!AJ17=\"\",\"\",CupDraw!AJ17)","v":""}]
[null,{"$f":"CupDraw!I18","v":9},{"$f":"IF(CupDraw!J18=\"\",\"\",CupDraw!J18)","v":""},{"$f":"IF(CupDraw!K18=\"\",\"\",CupDraw!K18)","v":""},{"$f":"IF(CupDraw!L18=\"\",\"\",CupDraw!L18)","v":""},null,null,{"$f":"CupDraw!O18","v":9},{"$f":"IF(CupDraw!P18=\"\",\"\",CupDraw!P18)","v":"Tom Robinson"},{"$f":"IF(CupDraw!Q18=\"\",\"\",CupDraw!Q18)","v":2.1230769230769226},{"$f":"IF(CupDraw!R18=\"\",\"\",CupDraw!R18)","v":""},null,null,{"$f":"CupDraw!U18","v":9},{"$f":"CupDraw!V18","v":"Rob England"},{"$f":"IF(CupDraw!W18=\"\",\"\",CupDraw!W18)","v":-2.0466666666666669},{"$f":"IF(CupDraw!X18=\"\",\"\",CupDraw!X18)","v":""},null,null,null,null,null,null,null,null,{"$f":"IF(CupDraw!AH18=\"\",\"\",CupDraw!AH18)","v":""},{"$f":"IF(CupDraw!AI18=\"\",\"\",CupDraw!AI18)","v":""},{"$f":"IF(CupDraw!AJ18=\"\",\"\",CupDraw!AJ18)","v":""}]
[null,null,{"$f":"IF(CupDraw!J19=\"\",\"\",CupDraw!J19)","v":""},{"$f":"IF(CupDraw!K19=\"\",\"\",CupDraw!K19)","v":""},{"$f":"IF(CupDraw!L19=\"\",\"\",CupDraw!L19)","v":""},null,null,null,{"$f":"IF(CupDraw!P19=\"\",\"\",CupDraw!P19)","v":"Phil Miller"},{"$f":"IF(CupDraw!Q19=\"\",\"\",CupDraw!Q19)","v":-4.75},{"$f":"IF(CupDraw!R19=\"\",\"\",CupDraw!R19)","v":""},null,null,null,{"$f":"CupDraw!V19","v":"Mark Bunn"},{"$f":"IF(CupDraw!W19=\"\",\"\",CupDraw!W19)","v":-4.25},{"$f":"IF(CupDraw!X19=\"\",\"\",CupDraw!X19)","v":""},null,null,null,null,null,null,null,null,{"$f":"IF(CupDraw!AH19=\"\",\"\",CupDraw!AH19)","v":""},{"$f":"IF(CupDraw!AI19=\"\",\"\",CupDraw!AI19)","v":""},{"$f":"IF(CupDraw!AJ19=\"\",\"\",CupDraw!AJ19)","v":""}]
[null,{"$f":"CupDraw!I20","v":10},{"$f":"IF(CupDraw!J20=\"\",\"\",CupDraw!J20)","v":""},{"$f":"IF(CupDraw!K20=\"\",\"\",CupDraw!K20)","v":""},{"$f":"IF(CupDraw!L20=\"\",\"\",CupDraw!L20)","v":""},null,null,{"$f":"CupDraw!O20","v":10},{"$f":"IF(CupDraw!P20=\"\",\"\",CupDraw!P20)","v":"Barry Birchall"},{"$f":"IF(CupDraw!Q20=\"\",\"\",CupDraw!Q20)","v":5.1149999999999984},{"$f":"IF(CupDraw!R20=\"\",\"\",CupDraw!R20)","v":""},null,null,{"$f":"CupDraw!U20","v":10},{"$f":"CupDraw!V20","v":"Howard Bradley"},{"$f":"IF(CupDraw!W20=\"\",\"\",CupDraw!W20)","v":-4.7},{"$f":"IF(CupDraw!X20=\"\",\"\",CupDraw!X20)","v":""},null,null,null,null,null,null,null,null,{"$f":"IF(CupDraw!AH20=\"\",\"\",CupDraw!AH20)","v":""},{"$f":"IF(CupDraw!AI20=\"\",\"\",CupDraw!AI20)","v":""},{"$f":"IF(CupDraw!AJ20=\"\",\"\",CupDraw!AJ20)","v":""}]
[null,null,{"$f":"IF(CupDraw!J21=\"\",\"\",CupDraw!J21)","v":""},{"$f":"IF(CupDraw!K21=\"\",\"\",CupDraw!K21)","v":""},{"$f":"IF(CupDraw!L21=\"\",\"\",CupDraw!L21)","v":""},null,null,null,{"$f":"IF(CupDraw!P21=\"\",\"\",CupDraw!P21)","v":"Andy White"},{"$f":"IF(CupDraw!Q21=\"\",\"\",CupDraw!Q21)","v":0.46280991735537214},{"$f":"IF(CupDraw!R21=\"\",\"\",CupDraw!R21)","v":""},null,null,null,{"$f":"CupDraw!V21","v":"Kevin Carter"},{"$f":"IF(CupDraw!W21=\"\",\"\",CupDraw!W21)","v":-5.4666666666666668},{"$f":"IF(CupDraw!X21=\"\",\"\",CupDraw!X21)","v":""},null,null,{"$f":"CupDraw!AA21","v":"Earlier Ties"}]
[null,{"$f":"CupDraw!I22","v":11},{"$f":"IF(CupDraw!J22=\"\",\"\",CupDraw!J22)","v":""},{"$f":"IF(CupDraw!K22=\"\",\"\",CupDraw!K22)","v":""},{"$f":"IF(CupDraw!L22=\"\",\"\",CupDraw!L22)","v":""},null,null,{"$f":"CupDraw!O22","v":11},{"$f":"IF(CupDraw!P22=\"\",\"\",CupDraw!P22)","v":"Ashley Houghton"},{"$f":"IF(CupDraw!Q22=\"\",\"\",CupDraw!Q22)","v":1.3024999999999984},{"$f":"IF(CupDraw!R22=\"\",\"\",CupDraw!R22)","v":""},null,null,{"$f":"CupDraw!U22","v":11},{"$f":"CupDraw!V22","v":"Chris Luck"},{"$f":"IF(CupDraw!W22=\"\",\"\",CupDraw!W22)","v":-4.7},{"$f":"IF(CupDraw!X22=\"\",\"\",CupDraw!X22)","v":""}]
[null,null,{"$f":"IF(CupDraw!J23=\"\",\"\",CupDraw!J23)","v":""},{"$f":"IF(CupDraw!K23=\"\",\"\",CupDraw!K23)","v":""},{"$f":"IF(CupDraw!L23=\"\",\"\",CupDraw!L23)","v":""},null,null,null,{"$f":"IF(CupDraw!P23=\"\",\"\",CupDraw!P23)","v":"Dave Orrell"},{"$f":"IF(CupDraw!Q23=\"\",\"\",CupDraw!Q23)","v":2.2300000000000004},{"$f":"IF(CupDraw!R23=\"\",\"\",CupDraw!R23)","v":""},null,null,null,{"$f":"CupDraw!V23","v":"Joel Bent"},{"$f":"IF(CupDraw!W23=\"\",\"\",CupDraw!W23)","v":-7},{"$f":"IF(CupDraw!X23=\"\",\"\",CupDraw!X23)","v":""}]
[null,{"$f":"CupDraw!I24","v":12},{"$f":"IF(CupDraw!J24=\"\",\"\",CupDraw!J24)","v":""},{"$f":"IF(CupDraw!K24=\"\",\"\",CupDraw!K24)","v":""},{"$f":"IF(CupDraw!L24=\"\",\"\",CupDraw!L24)","v":""},null,null,{"$f":"CupDraw!O24","v":12},{"$f":"IF(CupDraw!P24=\"\",\"\",CupDraw!P24)","v":"Chris Griffin"},{"$f":"IF(CupDraw!Q24=\"\",\"\",CupDraw!Q24)","v":-4.95},{"$f":"IF(CupDraw!R24=\"\",\"\",CupDraw!R24)","v":""},null,null,{"$f":"CupDraw!U24","v":12},{"$f":"CupDraw!V24","v":"Paul Fiddler"},{"$f":"IF(CupDraw!W24=\"\",\"\",CupDraw!W24)","v":-7},{"$f":"IF(CupDraw!X24=\"\",\"\",CupDraw!X24)","v":""},null,null,null,{"$f":"IF(CupDraw!AB24=\"\",\"\",CupDraw!AB24)","v":"Sally Williams"},{"$f":"IF(CupDraw!AC24=\"\",\"\",CupDraw!AC24)","v":-7}]
[null,null,{"$f":"IF(CupDraw!J25=\"\",\"\",CupDraw!J25)","v":""},{"$f":"IF(CupDraw!K25=\"\",\"\",CupDraw!K25)","v":""},{"$f":"IF(CupDraw!L25=\"\",\"\",CupDraw!L25)","v":""},null,null,null,{"$f":"IF(CupDraw!P25=\"\",\"\",CupDraw!P25)","v":"Ben Rosser"},{"$f":"IF(CupDraw!Q25=\"\",\"\",CupDraw!Q25)","v":-7},{"$f":"IF(CupDraw!R25=\"\",\"\",CupDraw!R25)","v":""},null,null,null,{"$f":"CupDraw!V25","v":"Alick Rocca"},{"$f":"IF(CupDraw!W25=\"\",\"\",CupDraw!W25)","v":-3.75},{"$f":"IF(CupDraw!X25=\"\",\"\",CupDraw!X25)","v":""},null,null,null,{"$f":"IF(CupDraw!AB25=\"\",\"\",CupDraw!AB25)","v":"Nick Blocksidge"},{"$f":"IF(CupDraw!AC25=\"\",\"\",CupDraw!AC25)","v":-7}]
[null,{"$f":"CupDraw!I26","v":13},{"$f":"IF(CupDraw!J26=\"\",\"\",CupDraw!J26)","v":""},{"$f":"IF(CupDraw!K26=\"\",\"\",CupDraw!K26)","v":""},{"$f":"IF(CupDraw!L26=\"\",\"\",CupDraw!L26)","v":""},null,null,{"$f":"CupDraw!O26","v":13},{"$f":"IF(CupDraw!P26=\"\",\"\",CupDraw!P26)","v":"Andy Charleston"},{"$f":"IF(CupDraw!Q26=\"\",\"\",CupDraw!Q26)","v":-7},{"$f":"IF(CupDraw!R26=\"\",\"\",CupDraw!R26)","v":""},null,null,{"$f":"CupDraw!U26","v":13},{"$f":"CupDraw!V26","v":"Gareth McGuire"},{"$f":"IF(CupDraw!W26=\"\",\"\",CupDraw!W26)","v":0.82692307692307665},{"$f":"IF(CupDraw!X26=\"\",\"\",CupDraw!X26)","v":""},null,null,null,{"$f":"IF(CupDraw!AB26=\"\",\"\",CupDraw!AB26)","v":""},{"$f":"IF(CupDraw!AC26=\"\",\"\",CupDraw!AC26)","v":""},{"$f":"CupDraw!AD26","v":""}]
[null,null,{"$f":"IF(CupDraw!J27=\"\",\"\",CupDraw!J27)","v":""},{"$f":"IF(CupDraw!K27=\"\",\"\",CupDraw!K27)","v":""},{"$f":"IF(CupDraw!L27=\"\",\"\",CupDraw!L27)","v":""},null,null,null,{"$f":"IF(CupDraw!P27=\"\",\"\",CupDraw!P27)","v":"Ian Davies"},{"$f":"IF(CupDraw!Q27=\"\",\"\",CupDraw!Q27)","v":-1},{"$f":"IF(CupDraw!R27=\"\",\"\",CupDraw!R27)","v":""},null,null,null,{"$f":"CupDraw!V27","v":"Steve Baxter"},{"$f":"IF(CupDraw!W27=\"\",\"\",CupDraw!W27)","v":-5.4666666666666668},{"$f":"IF(CupDraw!X27=\"\",\"\",CupDraw!X27)","v":""},null,null,null,{"$f":"IF(CupDraw!AB27=\"\",\"\",CupDraw!AB27)","v":""},{"$f":"IF(CupDraw!AC27=\"\",\"\",CupDraw!AC27)","v":""}]
[null,{"$f":"CupDraw!I28","v":14},{"$f":"IF(CupDraw!J28=\"\",\"\",CupDraw!J28)","v":""},{"$f":"IF(CupDraw!K28=\"\",\"\",CupDraw!K28)","v":""},{"$f":"IF(CupDraw!L28=\"\",\"\",CupDraw!L28)","v":""},null,null,{"$f":"CupDraw!O28","v":14},{"$f":"IF(CupDraw!P28=\"\",\"\",CupDraw!P28)","v":"Gerard Ventom"},{"$f":"IF(CupDraw!Q28=\"\",\"\",CupDraw!Q28)","v":-4.625},{"$f":"IF(CupDraw!R28=\"\",\"\",CupDraw!R28)","v":""},null,null,{"$f":"CupDraw!U28","v":14},{"$f":"CupDraw!V28","v":"Paul Adderley"},{"$f":"IF(CupDraw!W28=\"\",\"\",CupDraw!W28)","v":22.599999999999998},{"$f":"IF(CupDraw!X28=\"\",\"\",CupDraw!X28)","v":""},null,null,null,{"$f":"IF(CupDraw!AB28=\"\",\"\",CupDraw!AB28)","v":""},{"$f":"IF(CupDraw!AC28=\"\",\"\",CupDraw!AC28)","v":""},{"$f":"CupDraw!AD28","v":""}]
[null,null,{"$f":"IF(CupDraw!J29=\"\",\"\",CupDraw!J29)","v":""},{"$f":"IF(CupDraw!K29=\"\",\"\",CupDraw!K29)","v":""},{"$f":"IF(CupDraw!L29=\"\",\"\",CupDraw!L29)","v":""},null,null,null,{"$f":"IF(CupDraw!P29=\"\",\"\",CupDraw!P29)","v":"Oscar Jackson"},{"$f":"IF(CupDraw!Q29=\"\",\"\",CupDraw!Q29)","v":-4.95},{"$f":"IF(CupDraw!R29=\"\",\"\",CupDraw!R29)","v":""},null,null,null,{"$f":"CupDraw!V29","v":"Nigel Heyes"},{"$f":"IF(CupDraw!W29=\"\",\"\",CupDraw!W29)","v":-4.625},{"$f":"IF(CupDraw!X29=\"\",\"\",CupDraw!X29)","v":""},null,null,null,{"$f":"IF(CupDraw!AB29=\"\",\"\",CupDraw!AB29)","v":""},{"$f":"IF(CupDraw!AC29=\"\",\"\",CupDraw!AC29)","v":""}]
[null,{"$f":"CupDraw!I30","v":15},{"$f":"IF(CupDraw!J30=\"\",\"\",CupDraw!J30)","v":""},{"$f":"IF(CupDraw!K30=\"\",\"\",CupDraw!K30)","v":""},{"$f":"IF(CupDraw!L30=\"\",\"\",CupDraw!L30)","v":""},null,null,{"$f":"CupDraw!O30","v":15},{"$f":"IF(CupDraw!P30=\"\",\"\",CupDraw!P30)","v":"Alan Rogers"},{"$f":"IF(CupDraw!Q30=\"\",\"\",CupDraw!Q30)","v":-4.9000000000000004},{"$f":"IF(CupDraw!R30=\"\",\"\",CupDraw!R30)","v":""},null,null,{"$f":"CupDraw!U30","v":15},{"$f":"CupDraw!V30","v":"Stephen Barr"},{"$f":"IF(CupDraw!W30=\"\",\"\",CupDraw!W30)","v":-4.625},{"$f":"IF(CupDraw!X30=\"\",\"\",CupDraw!X30)","v":""}]
[null,null,{"$f":"IF(CupDraw!J31=\"\",\"\",CupDraw!J31)","v":""},{"$f":"IF(CupDraw!K31=\"\",\"\",CupDraw!K31)","v":""},{"$f":"IF(CupDraw!L31=\"\",\"\",CupDraw!L31)","v":""},null,null,null,{"$f":"IF(CupDraw!P31=\"\",\"\",CupDraw!P31)","v":"Simon Greenhalgh"},{"$f":"IF(CupDraw!Q31=\"\",\"\",CupDraw!Q31)","v":-4.625},{"$f":"IF(CupDraw!R31=\"\",\"\",CupDraw!R31)","v":""},null,null,null,{"$f":"CupDraw!V31","v":"Sally Williams"},{"$f":"IF(CupDraw!W31=\"\",\"\",CupDraw!W31)","v":-3.4},{"$f":"IF(CupDraw!X31=\"\",\"\",CupDraw!X31)","v":""}]
[null,{"$f":"CupDraw!I32","v":16},{"$f":"IF(CupDraw!J32=\"\",\"\",CupDraw!J32)","v":""},{"$f":"IF(CupDraw!K32=\"\",\"\",CupDraw!K32)","v":""},{"$f":"IF(CupDraw!L32=\"\",\"\",CupDraw!L32)","v":""},null,null,{"$f":"CupDraw!O32","v":16},{"$f":"IF(CupDraw!P32=\"\",\"\",CupDraw!P32)","v":"Dave Bell"},{"$f":"IF(CupDraw!Q32=\"\",\"\",CupDraw!Q32)","v":-7},{"$f":"IF(CupDraw!R32=\"\",\"\",CupDraw!R32)","v":""},null,null,{"$f":"CupDraw!U32","v":16},{"$f":"CupDraw!V32","v":"Mike Penk"},{"$f":"IF(CupDraw!W32=\"\",\"\",CupDraw!W32)","v":-4.7},{"$f":"IF(CupDraw!X32=\"\",\"\",CupDraw!X32)","v":""}]
[null,null,{"$f":"IF(CupDraw!J33=\"\",\"\",CupDraw!J33)","v":""},{"$f":"IF(CupDraw!K33=\"\",\"\",CupDraw!K33)","v":""},{"$f":"IF(CupDraw!L33=\"\",\"\",CupDraw!L33)","v":""},null,null,null,{"$f":"IF(CupDraw!P33=\"\",\"\",CupDraw!P33)","v":"James Bell"},{"$f":"IF(CupDraw!Q33=\"\",\"\",CupDraw!Q33)","v":-4.8499999999999996},{"$f":"IF(CupDraw!R33=\"\",\"\",CupDraw!R33)","v":""},null,null,null,{"$f":"CupDraw!V33","v":"Nick Blocksidge"},{"$f":"IF(CupDraw!W33=\"\",\"\",CupDraw!W33)","v":7.5250000000000004},{"$f":"IF(CupDraw!X33=\"\",\"\",CupDraw!X33)","v":""}]
[null,{"$f":"CupDraw!I34","v":17},{"$f":"IF(CupDraw!J34=\"\",\"\",CupDraw!J34)","v":""},{"$f":"IF(CupDraw!K34=\"\",\"\",CupDraw!K34)","v":""},{"$f":"IF(CupDraw!L34=\"\",\"\",CupDraw!L34)","v":""},null,null,{"$f":"CupDraw!O34","v":17},{"$f":"IF(CupDraw!P34=\"\",\"\",CupDraw!P34)","v":"Paul Barnes"},{"$f":"IF(CupDraw!Q34=\"\",\"\",CupDraw!Q34)","v":-7},{"$f":"IF(CupDraw!R34=\"\",\"\",CupDraw!R34)","v":""},null,null,null,null,null,{"$f":"IF(CupDraw!X34=\"\",\"\",CupDraw!X34)","v":""}]
[null,null,{"$f":"IF(CupDraw!J35=\"\",\"\",CupDraw!J35)","v":""},{"$f":"IF(CupDraw!K35=\"\",\"\",CupDraw!K35)","v":""},{"$f":"IF(CupDraw!L35=\"\",\"\",CupDraw!L35)","v":""},null,null,null,{"$f":"IF(CupDraw!P35=\"\",\"\",CupDraw!P35)","v":"Rob England"},{"$f":"IF(CupDraw!Q35=\"\",\"\",CupDraw!Q35)","v":-5.8461538461538467},{"$f":"IF(CupDraw!R35=\"\",\"\",CupDraw!R35)","v":""},null,null,null,null,null,{"$f":"IF(CupDraw!X35=\"\",\"\",CupDraw!X35)","v":""}]
[null,{"$f":"CupDraw!I36","v":18},{"$f":"IF(CupDraw!J36=\"\",\"\",CupDraw!J36)","v":""},{"$f":"IF(CupDraw!K36=\"\",\"\",CupDraw!K36)","v":""},{"$f":"IF(CupDraw!L36=\"\",\"\",CupDraw!L36)","v":""},null,null,{"$f":"CupDraw!O36","v":18},{"$f":"IF(CupDraw!P36=\"\",\"\",CupDraw!P36)","v":"Martin Tarbuck"},{"$f":"IF(CupDraw!Q36=\"\",\"\",CupDraw!Q36)","v":1.25},{"$f":"IF(CupDraw!R36=\"\",\"\",CupDraw!R36)","v":""},null,null,null,null,null,{"$f":"IF(CupDraw!X36=\"\",\"\",CupDraw!X36)","v":""}]
[null,null,{"$f":"IF(CupDraw!J37=\"\",\"\",CupDraw!J37)","v":""},{"$f":"IF(CupDraw!K37=\"\",\"\",CupDraw!K37)","v":""},{"$f":"IF(CupDraw!L37=\"\",\"\",CupDraw!L37)","v":""},null,null,null,{"$f":"IF(CupDraw!P37=\"\",\"\",CupDraw!P37)","v":"Mark Bunn"},{"$f":"IF(CupDraw!Q37=\"\",\"\",CupDraw!Q37)","v":32.584375000000001},{"$f":"IF(CupDraw!R37=\"\",\"\",CupDraw!R37)","v":""},null,null,{"$f":"CupDraw!U37","v":"Replay"},null,null,{"$f":"IF(CupDraw!X37=\"\",\"\",CupDraw!X37)","v":""}]
[null,{"$f":"CupDraw!I38","v":19},{"$f":"IF(CupDraw!J38=\"\",\"\",CupDraw!J38)","v":""},{"$f":"IF(CupDraw!K38=\"\",\"\",CupDraw!K38)","v":""},{"$f":"IF(CupDraw!L38=\"\",\"\",CupDraw!L38)","v":""},null,null,{"$f":"CupDraw!O38","v":19},{"$f":"IF(CupDraw!P38=\"\",\"\",CupDraw!P38)","v":"Howard Bradley"},{"$f":"IF(CupDraw!Q38=\"\",\"\",CupDraw!Q38)","v":0.53999999999999915},{"$f":"IF(CupDraw!R38=\"\",\"\",CupDraw!R38)","v":""},null,null,null,{"$f":"IF(CupDraw!V38=\"\",\"\",CupDraw!V38)","v":""},{"$f":"IF(CupDraw!W38=\"\",\"\",CupDraw!W38)","v":""},{"$f":"IF(CupDraw!X38=\"\",\"\",CupDraw!X38)","v":""}]
[null,null,{"$f":"IF(CupDraw!J39=\"\",\"\",CupDraw!J39)","v":""},{"$f":"IF(CupDraw!K39=\"\",\"\",CupDraw!K39)","v":""},{"$f":"IF(CupDraw!L39=\"\",\"\",CupDraw!L39)","v":""},null,null,null,{"$f":"IF(CupDraw!P39=\"\",\"\",CupDraw!P39)","v":"Martin Molyneux"},{"$f":"IF(CupDraw!Q39=\"\",\"\",CupDraw!Q39)","v":-3.3},{"$f":"IF(CupDraw!R39=\"\",\"\",CupDraw!R39)","v":""},null,null,null,{"$f":"IF(CupDraw!V39=\"\",\"\",CupDraw!V39)","v":""},{"$f":"IF(CupDraw!W39=\"\",\"\",CupDraw!W39)","v":""},{"$f":"IF(CupDraw!X39=\"\",\"\",CupDraw!X39)","v":""}]
[null,{"$f":"CupDraw!I40","v":20},{"$f":"IF(CupDraw!J40=\"\",\"\",CupDraw!J40)","v":""},{"$f":"IF(CupDraw!K40=\"\",\"\",CupDraw!K40)","v":""},{"$f":"IF(CupDraw!L40=\"\",\"\",CupDraw!L40)","v":""},null,null,{"$f":"CupDraw!O40","v":20},{"$f":"IF(CupDraw!P40=\"\",\"\",CupDraw!P40)","v":"Mo Sudell"},{"$f":"IF(CupDraw!Q40=\"\",\"\",CupDraw!Q40)","v":-5.8461538461538467},{"$f":"IF(CupDraw!R40=\"\",\"\",CupDraw!R40)","v":""},null,null,null,{"$f":"IF(CupDraw!V40=\"\",\"\",CupDraw!V40)","v":""},{"$f":"IF(CupDraw!W40=\"\",\"\",CupDraw!W40)","v":""},{"$f":"IF(CupDraw!X40=\"\",\"\",CupDraw!X40)","v":""}]
[null,null,{"$f":"IF(CupDraw!J41=\"\",\"\",CupDraw!J41)","v":""},{"$f":"IF(CupDraw!K41=\"\",\"\",CupDraw!K41)","v":""},{"$f":"IF(CupDraw!L41=\"\",\"\",CupDraw!L41)","v":""},null,null,null,{"$f":"IF(CupDraw!P41=\"\",\"\",CupDraw!P41)","v":"Kevin Carter"},{"$f":"IF(CupDraw!Q41=\"\",\"\",CupDraw!Q41)","v":2.2937499999999993},{"$f":"IF(CupDraw!R41=\"\",\"\",CupDraw!R41)","v":""},null,null,null,{"$f":"IF(CupDraw!V41=\"\",\"\",CupDraw!V41)","v":""},{"$f":"IF(CupDraw!W41=\"\",\"\",CupDraw!W41)","v":""},{"$f":"IF(CupDraw!X41=\"\",\"\",CupDraw!X41)","v":""}]
[null,{"$f":"CupDraw!I42","v":21},{"$f":"IF(CupDraw!J42=\"\",\"\",CupDraw!J42)","v":""},{"$f":"IF(CupDraw!K42=\"\",\"\",CupDraw!K42)","v":""},{"$f":"IF(CupDraw!L42=\"\",\"\",CupDraw!L42)","v":""},null,null,{"$f":"CupDraw!O42","v":21},{"$f":"IF(CupDraw!P42=\"\",\"\",CupDraw!P42)","v":"David Dunn"},{"$f":"IF(CupDraw!Q42=\"\",\"\",CupDraw!Q42)","v":5.6727272727272737},{"$f":"IF(CupDraw!R42=\"\",\"\",CupDraw!R42)","v":""},null,null,null,{"$f":"IF(CupDraw!V42=\"\",\"\",CupDraw!V42)","v":""},{"$f":"IF(CupDraw!W42=\"\",\"\",CupDraw!W42)","v":""},{"$f":"IF(CupDraw!X42=\"\",\"\",CupDraw!X42)","v":""}]
[null,null,{"$f":"IF(CupDraw!J43=\"\",\"\",CupDraw!J43)","v":""},{"$f":"IF(CupDraw!K43=\"\",\"\",CupDraw!K43)","v":""},{"$f":"IF(CupDraw!L43=\"\",\"\",CupDraw!L43)","v":""},null,null,null,{"$f":"IF(CupDraw!P43=\"\",\"\",CupDraw!P43)","v":"Chris Luck"},{"$f":"IF(CupDraw!Q43=\"\",\"\",CupDraw!Q43)","v":35.706250000000011},{"$f":"IF(CupDraw!R43=\"\",\"\",CupDraw!R43)","v":""},null,null,null,{"$f":"IF(CupDraw!V43=\"\",\"\",CupDraw!V43)","v":""},{"$f":"IF(CupDraw!W43=\"\",\"\",CupDraw!W43)","v":""},{"$f":"IF(CupDraw!X43=\"\",\"\",CupDraw!X43)","v":""}]
[null,{"$f":"CupDraw!I44","v":22},{"$f":"IF(CupDraw!J44=\"\",\"\",CupDraw!J44)","v":""},{"$f":"IF(CupDraw!K44=\"\",\"\",CupDraw!K44)","v":""},{"$f":"IF(CupDraw!L44=\"\",\"\",CupDraw!L44)","v":""},null,null,{"$f":"CupDraw!O44","v":22},{"$f":"IF(CupDraw!P44=\"\",\"\",CupDraw!P44)","v":"Joel Bent"},{"$f":"IF(CupDraw!Q44=\"\",\"\",CupDraw!Q44)","v":-3},{"$f":"IF(CupDraw!R44=\"\",\"\",CupDraw!R44)","v":""},null,null,null,{"$f":"IF(CupDraw!V44=\"\",\"\",CupDraw!V44)","v":""},{"$f":"IF(CupDraw!W44=\"\",\"\",CupDraw!W44)","v":""},{"$f":"IF(CupDraw!X44=\"\",\"\",CupDraw!X44)","v":""}]
[null,null,{"$f":"IF(CupDraw!J45=\"\",\"\",CupDraw!J45)","v":""},{"$f":"IF(CupDraw!K45=\"\",\"\",CupDraw!K45)","v":""},{"$f":"IF(CupDraw!L45=\"\",\"\",CupDraw!L45)","v":""},null,null,null,{"$f":"IF(CupDraw!P45=\"\",\"\",CupDraw!P45)","v":"Pete Baron"},{"$f":"IF(CupDraw!Q45=\"\",\"\",CupDraw!Q45)","v":-7},{"$f":"IF(CupDraw!R45=\"\",\"\",CupDraw!R45)","v":""},null,null,null,{"$f":"IF(CupDraw!V45=\"\",\"\",CupDraw!V45)","v":""},{"$f":"IF(CupDraw!W45=\"\",\"\",CupDraw!W45)","v":""},{"$f":"IF(CupDraw!X45=\"\",\"\",CupDraw!X45)","v":""}]
[null,{"$f":"CupDraw!I46","v":23},{"$f":"IF(CupDraw!J46=\"\",\"\",CupDraw!J46)","v":""},{"$f":"IF(CupDraw!K46=\"\",\"\",CupDraw!K46)","v":""},{"$f":"IF(CupDraw!L46=\"\",\"\",CupDraw!L46)","v":""},null,null,{"$f":"CupDraw!O46","v":23},{"$f":"IF(CupDraw!P46=\"\",\"\",CupDraw!P46)","v":"Paul Fiddler"},{"$f":"IF(CupDraw!Q46=\"\",\"\",CupDraw!Q46)","v":9.2266666666666666},{"$f":"IF(CupDraw!R46=\"\",\"\",CupDraw!R46)","v":""},null,null,null,{"$f":"IF(CupDraw!V46=\"\",\"\",CupDraw!V46)","v":""},{"$f":"IF(CupDraw!W46=\"\",\"\",CupDraw!W46)","v":""},{"$f":"IF(CupDraw!X46=\"\",\"\",CupDraw!X46)","v":""}]
[null,null,{"$f":"IF(CupDraw!J47=\"\",\"\",CupDraw!J47)","v":""},{"$f":"IF(CupDraw!K47=\"\",\"\",CupDraw!K47)","v":""},{"$f":"IF(CupDraw!L47=\"\",\"\",CupDraw!L47)","v":""},null,null,null,{"$f":"IF(CupDraw!P47=\"\",\"\",CupDraw!P47)","v":"Steve Carter"},{"$f":"IF(CupDraw!Q47=\"\",\"\",CupDraw!Q47)","v":3.4800000000000004},{"$f":"IF(CupDraw!R47=\"\",\"\",CupDraw!R47)","v":""},null,null,null,{"$f":"IF(CupDraw!V47=\"\",\"\",CupDraw!V47)","v":""},{"$f":"IF(CupDraw!W47=\"\",\"\",CupDraw!W47)","v":""},{"$f":"IF(CupDraw!X47=\"\",\"\",CupDraw!X47)","v":""}]
[null,{"$f":"CupDraw!I48","v":24},{"$f":"IF(CupDraw!J48=\"\",\"\",CupDraw!J48)","v":""},{"$f":"IF(CupDraw!K48=\"\",\"\",CupDraw!K48)","v":""},{"$f":"IF(CupDraw!L48=\"\",\"\",CupDraw!L48)","v":""},null,null,{"$f":"CupDraw!O48","v":24},{"$f":"IF(CupDraw!P48=\"\",\"\",CupDraw!P48)","v":"Gareth Powell"},{"$f":"IF(CupDraw!Q48=\"\",\"\",CupDraw!Q48)","v":9.39},{"$f":"IF(CupDraw!R48=\"\",\"\",CupDraw!R48)","v":""}]
[null,null,{"$f":"IF(CupDraw!J49=\"\",\"\",CupDraw!J49)","v":""},{"$f":"IF(CupDraw!K49=\"\",\"\",CupDraw!K49)","v":""},{"$f":"IF(CupDraw!L49=\"\",\"\",CupDraw!L49)","v":""},null,null,null,{"$f":"IF(CupDraw!P49=\"\",\"\",CupDraw!P49)","v":"Alick Rocca"},{"$f":"IF(CupDraw!Q49=\"\",\"\",CupDraw!Q49)","v":14.919999999999998},{"$f":"IF(CupDraw!R49=\"\",\"\",CupDraw!R49)","v":""}]
[null,{"$f":"CupDraw!I50","v":25},{"$f":"IF(CupDraw!J50=\"\",\"\",CupDraw!J50)","v":""},{"$f":"IF(CupDraw!K50=\"\",\"\",CupDraw!K50)","v":""},{"$f":"IF(CupDraw!L50=\"\",\"\",CupDraw!L50)","v":""},null,null,{"$f":"CupDraw!O50","v":25},{"$f":"IF(CupDraw!P50=\"\",\"\",CupDraw!P50)","v":"Lennie Bow"},{"$f":"IF(CupDraw!Q50=\"\",\"\",CupDraw!Q50)","v":-5.3333333333333339},{"$f":"IF(CupDraw!R50=\"\",\"\",CupDraw!R50)","v":""}]
[null,null,{"$f":"IF(CupDraw!J51=\"\",\"\",CupDraw!J51)","v":""},{"$f":"IF(CupDraw!K51=\"\",\"\",CupDraw!K51)","v":""},{"$f":"IF(CupDraw!L51=\"\",\"\",CupDraw!L51)","v":""},null,null,null,{"$f":"IF(CupDraw!P51=\"\",\"\",CupDraw!P51)","v":"Gareth McGuire"},{"$f":"IF(CupDraw!Q51=\"\",\"\",CupDraw!Q51)","v":-1.3333333333333335},{"$f":"IF(CupDraw!R51=\"\",\"\",CupDraw!R51)","v":""}]
[null,{"$f":"CupDraw!I52","v":26},{"$f":"IF(CupDraw!J52=\"\",\"\",CupDraw!J52)","v":""},{"$f":"IF(CupDraw!K52=\"\",\"\",CupDraw!K52)","v":""},{"$f":"IF(CupDraw!L52=\"\",\"\",CupDraw!L52)","v":""},null,null,{"$f":"CupDraw!O52","v":26},{"$f":"IF(CupDraw!P52=\"\",\"\",CupDraw!P52)","v":"Alan White"},{"$f":"IF(CupDraw!Q52=\"\",\"\",CupDraw!Q52)","v":-5.0909090909090908},{"$f":"IF(CupDraw!R52=\"\",\"\",CupDraw!R52)","v":""}]
[null,null,{"$f":"IF(CupDraw!J53=\"\",\"\",CupDraw!J53)","v":""},{"$f":"IF(CupDraw!K53=\"\",\"\",CupDraw!K53)","v":""},{"$f":"IF(CupDraw!L53=\"\",\"\",CupDraw!L53)","v":""},null,null,null,{"$f":"IF(CupDraw!P53=\"\",\"\",CupDraw!P53)","v":"Steve Baxter"},{"$f":"IF(CupDraw!Q53=\"\",\"\",CupDraw!Q53)","v":-0.72727272727272663},{"$f":"IF(CupDraw!R53=\"\",\"\",CupDraw!R53)","v":""}]
[null,{"$f":"CupDraw!I54","v":27},{"$f":"IF(CupDraw!J54=\"\",\"\",CupDraw!J54)","v":""},{"$f":"IF(CupDraw!K54=\"\",\"\",CupDraw!K54)","v":""},{"$f":"IF(CupDraw!L54=\"\",\"\",CupDraw!L54)","v":""},null,null,{"$f":"CupDraw!O54","v":27},{"$f":"IF(CupDraw!P54=\"\",\"\",CupDraw!P54)","v":"Paul Adderley"},{"$f":"IF(CupDraw!Q54=\"\",\"\",CupDraw!Q54)","v":-5.0909090909090908},{"$f":"IF(CupDraw!R54=\"\",\"\",CupDraw!R54)","v":""}]
[null,null,{"$f":"IF(CupDraw!J55=\"\",\"\",CupDraw!J55)","v":""},{"$f":"IF(CupDraw!K55=\"\",\"\",CupDraw!K55)","v":""},{"$f":"IF(CupDraw!L55=\"\",\"\",CupDraw!L55)","v":""},null,null,null,{"$f":"IF(CupDraw!P55=\"\",\"\",CupDraw!P55)","v":"Bye"},{"$f":"IF(CupDraw!Q55=\"\",\"\",CupDraw!Q55)","v":-10},{"$f":"IF(CupDraw!R55=\"\",\"\",CupDraw!R55)","v":""}]
[null,{"$f":"CupDraw!I56","v":28},{"$f":"IF(CupDraw!J56=\"\",\"\",CupDraw!J56)","v":""},{"$f":"IF(CupDraw!K56=\"\",\"\",CupDraw!K56)","v":""},{"$f":"IF(CupDraw!L56=\"\",\"\",CupDraw!L56)","v":""},null,null,{"$f":"CupDraw!O56","v":28},{"$f":"IF(CupDraw!P56=\"\",\"\",CupDraw!P56)","v":"Nigel Heyes"},{"$f":"IF(CupDraw!Q56=\"\",\"\",CupDraw!Q56)","v":0.46280991735537214},{"$f":"IF(CupDraw!R56=\"\",\"\",CupDraw!R56)","v":""}]
[null,null,{"$f":"IF(CupDraw!J57=\"\",\"\",CupDraw!J57)","v":""},{"$f":"IF(CupDraw!K57=\"\",\"\",CupDraw!K57)","v":""},{"$f":"IF(CupDraw!L57=\"\",\"\",CupDraw!L57)","v":""},null,null,null,{"$f":"IF(CupDraw!P57=\"\",\"\",CupDraw!P57)","v":"Bye"},{"$f":"IF(CupDraw!Q57=\"\",\"\",CupDraw!Q57)","v":-10},{"$f":"IF(CupDraw!R57=\"\",\"\",CupDraw!R57)","v":""}]
[null,{"$f":"CupDraw!I58","v":29},{"$f":"IF(CupDraw!J58=\"\",\"\",CupDraw!J58)","v":""},{"$f":"IF(CupDraw!K58=\"\",\"\",CupDraw!K58)","v":""},{"$f":"IF(CupDraw!L58=\"\",\"\",CupDraw!L58)","v":""},null,null,{"$f":"CupDraw!O58","v":29},{"$f":"IF(CupDraw!P58=\"\",\"\",CupDraw!P58)","v":"Stephen Barr"},{"$f":"IF(CupDraw!Q58=\"\",\"\",CupDraw!Q58)","v":-5.3333333333333339},{"$f":"IF(CupDraw!R58=\"\",\"\",CupDraw!R58)","v":""}]
[null,null,{"$f":"IF(CupDraw!J59=\"\",\"\",CupDraw!J59)","v":""},{"$f":"IF(CupDraw!K59=\"\",\"\",CupDraw!K59)","v":""},{"$f":"IF(CupDraw!L59=\"\",\"\",CupDraw!L59)","v":""},null,null,null,{"$f":"IF(CupDraw!P59=\"\",\"\",CupDraw!P59)","v":"Bye"},{"$f":"IF(CupDraw!Q59=\"\",\"\",CupDraw!Q59)","v":-10},{"$f":"IF(CupDraw!R59=\"\",\"\",CupDraw!R59)","v":""}]
[null,{"$f":"CupDraw!I60","v":30},{"$f":"IF(CupDraw!J60=\"\",\"\",CupDraw!J60)","v":""},{"$f":"IF(CupDraw!K60=\"\",\"\",CupDraw!K60)","v":""},{"$f":"IF(CupDraw!L60=\"\",\"\",CupDraw!L60)","v":""},null,null,{"$f":"CupDraw!O60","v":30},{"$f":"IF(CupDraw!P60=\"\",\"\",CupDraw!P60)","v":"Sally Williams"},{"$f":"IF(CupDraw!Q60=\"\",\"\",CupDraw!Q60)","v":-7},{"$f":"IF(CupDraw!R60=\"\",\"\",CupDraw!R60)","v":""}]
[null,null,{"$f":"IF(CupDraw!J61=\"\",\"\",CupDraw!J61)","v":""},{"$f":"IF(CupDraw!K61=\"\",\"\",CupDraw!K61)","v":""},{"$f":"IF(CupDraw!L61=\"\",\"\",CupDraw!L61)","v":""},null,null,null,{"$f":"IF(CupDraw!P61=\"\",\"\",CupDraw!P61)","v":"Bye"},{"$f":"IF(CupDraw!Q61=\"\",\"\",CupDraw!Q61)","v":-10},{"$f":"IF(CupDraw!R61=\"\",\"\",CupDraw!R61)","v":""}]
[null,{"$f":"CupDraw!I62","v":31},{"$f":"IF(CupDraw!J62=\"\",\"\",CupDraw!J62)","v":""},{"$f":"IF(CupDraw!K62=\"\",\"\",CupDraw!K62)","v":""},{"$f":"IF(CupDraw!L62=\"\",\"\",CupDraw!L62)","v":""},null,null,{"$f":"CupDraw!O62","v":31},{"$f":"IF(CupDraw!P62=\"\",\"\",CupDraw!P62)","v":"Mike Penk"},{"$f":"IF(CupDraw!Q62=\"\",\"\",CupDraw!Q62)","v":-7},{"$f":"IF(CupDraw!R62=\"\",\"\",CupDraw!R62)","v":""}]
[null,null,{"$f":"IF(CupDraw!J63=\"\",\"\",CupDraw!J63)","v":""},{"$f":"IF(CupDraw!K63=\"\",\"\",CupDraw!K63)","v":""},{"$f":"IF(CupDraw!L63=\"\",\"\",CupDraw!L63)","v":""},null,null,null,{"$f":"IF(CupDraw!P63=\"\",\"\",CupDraw!P63)","v":"Bye"},{"$f":"IF(CupDraw!Q63=\"\",\"\",CupDraw!Q63)","v":-10},{"$f":"IF(CupDraw!R63=\"\",\"\",CupDraw!R63)","v":""}]
[null,{"$f":"CupDraw!I64","v":32},{"$f":"IF(CupDraw!J64=\"\",\"\",CupDraw!J64)","v":""},{"$f":"IF(CupDraw!K64=\"\",\"\",CupDraw!K64)","v":""},{"$f":"IF(CupDraw!L64=\"\",\"\",CupDraw!L64)","v":""},null,null,{"$f":"CupDraw!O64","v":32},{"$f":"IF(CupDraw!P64=\"\",\"\",CupDraw!P64)","v":"Nick Blocksidge"},{"$f":"IF(CupDraw!Q64=\"\",\"\",CupDraw!Q64)","v":-1.0909090909090908},{"$f":"IF(CupDraw!R64=\"\",\"\",CupDraw!R64)","v":""}]
[null,null,{"$f":"IF(CupDraw!J65=\"\",\"\",CupDraw!J65)","v":""},{"$f":"IF(CupDraw!K65=\"\",\"\",CupDraw!K65)","v":""},{"$f":"IF(CupDraw!L65=\"\",\"\",CupDraw!L65)","v":""},null,null,null,{"$f":"IF(CupDraw!P65=\"\",\"\",CupDraw!P65)","v":"Bye"},{"$f":"IF(CupDraw!Q65=\"\",\"\",CupDraw!Q65)","v":-10},{"$f":"IF(CupDraw!R65=\"\",\"\",CupDraw!R65)","v":""}]
[null,{"$f":"CupDraw!I66","v":33},{"$f":"IF(CupDraw!J66=\"\",\"\",CupDraw!J66)","v":""},{"$f":"IF(CupDraw!K66=\"\",\"\",CupDraw!K66)","v":""},{"$f":"IF(CupDraw!L66=\"\",\"\",CupDraw!L66)","v":""}]
[null,null,{"$f":"IF(CupDraw!J67=\"\",\"\",CupDraw!J67)","v":""},{"$f":"IF(CupDraw!K67=\"\",\"\",CupDraw!K67)","v":""},{"$f":"IF(CupDraw!L67=\"\",\"\",CupDraw!L67)","v":""}]
[null,{"$f":"CupDraw!I68","v":34},{"$f":"IF(CupDraw!J68=\"\",\"\",CupDraw!J68)","v":""},{"$f":"IF(CupDraw!K68=\"\",\"\",CupDraw!K68)","v":""},{"$f":"IF(CupDraw!L68=\"\",\"\",CupDraw!L68)","v":""},null,null,{"$f":"CupDraw!O68","v":"Earlier ties"}]
[null,null,{"$f":"IF(CupDraw!J69=\"\",\"\",CupDraw!J69)","v":""},{"$f":"IF(CupDraw!K69=\"\",\"\",CupDraw!K69)","v":""},{"$f":"IF(CupDraw!L69=\"\",\"\",CupDraw!L69)","v":""},null,null,{"$f":"IF(CupDraw!O69=\"\",\"\",CupDraw!O69)","v":16},{"$f":"IF(CupDraw!P69=\"\",\"\",CupDraw!P69)","v":"Dave Bell"},{"$f":"IF(CupDraw!Q69=\"\",\"\",CupDraw!Q69)","v":-7},{"$f":"IF(CupDraw!R69=\"\",\"\",CupDraw!R69)","v":"R"}]
[null,{"$f":"CupDraw!I70","v":35},{"$f":"IF(CupDraw!J70=\"\",\"\",CupDraw!J70)","v":""},{"$f":"IF(CupDraw!K70=\"\",\"\",CupDraw!K70)","v":""},{"$f":"IF(CupDraw!L70=\"\",\"\",CupDraw!L70)","v":""},null,null,{"$f":"CupDraw!O70","v":0},{"$f":"IF(CupDraw!P70=\"\",\"\",CupDraw!P70)","v":"James Bell"},{"$f":"IF(CupDraw!Q70=\"\",\"\",CupDraw!Q70)","v":-7},{"$f":"IF(CupDraw!R70=\"\",\"\",CupDraw!R70)","v":""}]
[null,null,{"$f":"IF(CupDraw!J71=\"\",\"\",CupDraw!J71)","v":""},{"$f":"IF(CupDraw!K71=\"\",\"\",CupDraw!K71)","v":""},{"$f":"IF(CupDraw!L71=\"\",\"\",CupDraw!L71)","v":""},null,null,{"$f":"IF(CupDraw!O71=\"\",\"\",CupDraw!O71)","v":23},{"$f":"IF(CupDraw!P71=\"\",\"\",CupDraw!P71)","v":"Paul Fiddler"},{"$f":"IF(CupDraw!Q71=\"\",\"\",CupDraw!Q71)","v":-5.0909090909090908},{"$f":"IF(CupDraw!R71=\"\",\"\",CupDraw!R71)","v":"R"}]
[null,{"$f":"CupDraw!I72","v":36},{"$f":"IF(CupDraw!J72=\"\",\"\",CupDraw!J72)","v":""},{"$f":"IF(CupDraw!K72=\"\",\"\",CupDraw!K72)","v":""},{"$f":"IF(CupDraw!L72=\"\",\"\",CupDraw!L72)","v":""},null,null,{"$f":"CupDraw!O72","v":0},{"$f":"IF(CupDraw!P72=\"\",\"\",CupDraw!P72)","v":"Steve Carter"},{"$f":"IF(CupDraw!Q72=\"\",\"\",CupDraw!Q72)","v":-5.0909090909090908},{"$f":"IF(CupDraw!R72=\"\",\"\",CupDraw!R72)","v":""}]
[null,null,{"$f":"IF(CupDraw!J73=\"\",\"\",CupDraw!J73)","v":""},{"$f":"IF(CupDraw!K73=\"\",\"\",CupDraw!K73)","v":""},{"$f":"IF(CupDraw!L73=\"\",\"\",CupDraw!L73)","v":""},null,null,{"$f":"IF(CupDraw!O73=\"\",\"\",CupDraw!O73)","v":""},{"$f":"IF(CupDraw!P73=\"\",\"\",CupDraw!P73)","v":""},{"$f":"IF(CupDraw!Q73=\"\",\"\",CupDraw!Q73)","v":""},{"$f":"IF(CupDraw!R73=\"\",\"\",CupDraw!R73)","v":""}]
[null,null,null,null,null,null,null,{"$f":"CupDraw!O74","v":0},{"$f":"IF(CupDraw!P74=\"\",\"\",CupDraw!P74)","v":""},{"$f":"IF(CupDraw!Q74=\"\",\"\",CupDraw!Q74)","v":""},{"$f":"IF(CupDraw!R74=\"\",\"\",CupDraw!R74)","v":""}]
[null,null,null,null,null,null,null,{"$f":"IF(CupDraw!O75=\"\",\"\",CupDraw!O75)","v":""},{"$f":"IF(CupDraw!P75=\"\",\"\",CupDraw!P75)","v":""},{"$f":"IF(CupDraw!Q75=\"\",\"\",CupDraw!Q75)","v":""},{"$f":"IF(CupDraw!R75=\"\",\"\",CupDraw!R75)","v":""}]
[null,"Earlier ties",null,null,null,null,null,{"$f":"CupDraw!O76","v":0},{"$f":"IF(CupDraw!P76=\"\",\"\",CupDraw!P76)","v":""},{"$f":"IF(CupDraw!Q76=\"\",\"\",CupDraw!Q76)","v":""},{"$f":"IF(CupDraw!R76=\"\",\"\",CupDraw!R76)","v":""}]
[null,null,{"$f":"IF(CupDraw!J79=\"\",\"\",CupDraw!J79)","v":""},{"$f":"IF(CupDraw!K79=\"\",\"\",CupDraw!K79)","v":""},{"$f":"IF(CupDraw!L79=\"\",\"\",CupDraw!L79)","v":""},null,null,{"$f":"IF(CupDraw!O77=\"\",\"\",CupDraw!O77)","v":""},{"$f":"IF(CupDraw!P77=\"\",\"\",CupDraw!P77)","v":""},{"$f":"IF(CupDraw!Q77=\"\",\"\",CupDraw!Q77)","v":""},{"$f":"IF(CupDraw!R77=\"\",\"\",CupDraw!R77)","v":""}]
[null,null,{"$f":"IF(CupDraw!J80=\"\",\"\",CupDraw!J80)","v":""},{"$f":"IF(CupDraw!K80=\"\",\"\",CupDraw!K80)","v":""},null,null,null,{"$f":"CupDraw!O78","v":0},{"$f":"IF(CupDraw!P78=\"\",\"\",CupDraw!P78)","v":""},{"$f":"IF(CupDraw!Q78=\"\",\"\",CupDraw!Q78)","v":""},{"$f":"IF(CupDraw!R78=\"\",\"\",CupDraw!R78)","v":""}]
[null,null,{"$f":"IF(CupDraw!J81=\"\",\"\",CupDraw!J81)","v":""},{"$f":"IF(CupDraw!K81=\"\",\"\",CupDraw!K81)","v":""},{"$f":"IF(CupDraw!L81=\"\",\"\",CupDraw!L81)","v":""},null,null,{"$f":"IF(CupDraw!O79=\"\",\"\",CupDraw!O79)","v":""},{"$f":"IF(CupDraw!P79=\"\",\"\",CupDraw!P79)","v":""},{"$f":"IF(CupDraw!Q79=\"\",\"\",CupDraw!Q79)","v":""},{"$f":"IF(CupDraw!R79=\"\",\"\",CupDraw!R79)","v":""}]
[null,null,{"$f":"IF(CupDraw!J82=\"\",\"\",CupDraw!J82)","v":""},{"$f":"IF(CupDraw!K82=\"\",\"\",CupDraw!K82)","v":""},null,null,null,{"$f":"CupDraw!O80","v":0},{"$f":"IF(CupDraw!P80=\"\",\"\",CupDraw!P80)","v":""},{"$f":"IF(CupDraw!Q80=\"\",\"\",CupDraw!Q80)","v":""},{"$f":"IF(CupDraw!R80=\"\",\"\",CupDraw!R80)","v":""}]
[null,null,{"$f":"IF(CupDraw!J83=\"\",\"\",CupDraw!J83)","v":""},{"$f":"IF(CupDraw!K83=\"\",\"\",CupDraw!K83)","v":""},{"$f":"IF(CupDraw!L83=\"\",\"\",CupDraw!L83)","v":""},null,null,{"$f":"IF(CupDraw!O81=\"\",\"\",CupDraw!O81)","v":""},{"$f":"IF(CupDraw!P81=\"\",\"\",CupDraw!P81)","v":""},{"$f":"IF(CupDraw!Q81=\"\",\"\",CupDraw!Q81)","v":""},{"$f":"IF(CupDraw!R81=\"\",\"\",CupDraw!R81)","v":""}]
[null,null,{"$f":"IF(CupDraw!J84=\"\",\"\",CupDraw!J84)","v":""},{"$f":"IF(CupDraw!K84=\"\",\"\",CupDraw!K84)","v":""},{"$f":"IF(CupDraw!L84=\"\",\"\",CupDraw!L84)","v":""},null,null,{"$f":"CupDraw!O82","v":0},{"$f":"IF(CupDraw!P82=\"\",\"\",CupDraw!P82)","v":""},{"$f":"IF(CupDraw!Q82=\"\",\"\",CupDraw!Q82)","v":""},{"$f":"IF(CupDraw!R82=\"\",\"\",CupDraw!R82)","v":""}]
[null,null,{"$f":"IF(CupDraw!J85=\"\",\"\",CupDraw!J85)","v":""},{"$f":"IF(CupDraw!K85=\"\",\"\",CupDraw!K85)","v":""},{"$f":"IF(CupDraw!L85=\"\",\"\",CupDraw!L85)","v":""},null,null,{"$f":"IF(CupDraw!O83=\"\",\"\",CupDraw!O83)","v":""},{"$f":"IF(CupDraw!P83=\"\",\"\",CupDraw!P83)","v":""},{"$f":"IF(CupDraw!Q83=\"\",\"\",CupDraw!Q83)","v":""},{"$f":"IF(CupDraw!R83=\"\",\"\",CupDraw!R83)","v":""}]
[null,null,{"$f":"IF(CupDraw!J86=\"\",\"\",CupDraw!J86)","v":""},{"$f":"IF(CupDraw!K86=\"\",\"\",CupDraw!K86)","v":""},{"$f":"IF(CupDraw!L86=\"\",\"\",CupDraw!L86)","v":""},null,null,{"$f":"CupDraw!O84","v":0},{"$f":"IF(CupDraw!P84=\"\",\"\",CupDraw!P84)","v":""},{"$f":"IF(CupDraw!Q84=\"\",\"\",CupDraw!Q84)","v":""},{"$f":"IF(CupDraw!R84=\"\",\"\",CupDraw!R84)","v":""}]
[null,null,{"$f":"IF(CupDraw!J87=\"\",\"\",CupDraw!J87)","v":""},{"$f":"IF(CupDraw!K87=\"\",\"\",CupDraw!K87)","v":""},{"$f":"IF(CupDraw!L87=\"\",\"\",CupDraw!L87)","v":""},null,null,{"$f":"IF(CupDraw!O85=\"\",\"\",CupDraw!O85)","v":""},{"$f":"IF(CupDraw!P85=\"\",\"\",CupDraw!P85)","v":""},{"$f":"IF(CupDraw!Q85=\"\",\"\",CupDraw!Q85)","v":""},{"$f":"IF(CupDraw!R85=\"\",\"\",CupDraw!R85)","v":""}]
[null,null,{"$f":"IF(CupDraw!J88=\"\",\"\",CupDraw!J88)","v":""},{"$f":"IF(CupDraw!K88=\"\",\"\",CupDraw!K88)","v":""},{"$f":"IF(CupDraw!L88=\"\",\"\",CupDraw!L88)","v":""},null,null,{"$f":"CupDraw!O86","v":0},{"$f":"IF(CupDraw!P86=\"\",\"\",CupDraw!P86)","v":""},{"$f":"IF(CupDraw!Q86=\"\",\"\",CupDraw!Q86)","v":""},{"$f":"IF(CupDraw!R86=\"\",\"\",CupDraw!R86)","v":""}]
[null,null,{"$f":"IF(CupDraw!J89=\"\",\"\",CupDraw!J89)","v":""},{"$f":"IF(CupDraw!K89=\"\",\"\",CupDraw!K89)","v":""},{"$f":"IF(CupDraw!L89=\"\",\"\",CupDraw!L89)","v":""},null,null,{"$f":"IF(CupDraw!O87=\"\",\"\",CupDraw!O87)","v":""},{"$f":"IF(CupDraw!P87=\"\",\"\",CupDraw!P87)","v":""},{"$f":"IF(CupDraw!Q87=\"\",\"\",CupDraw!Q87)","v":""},{"$f":"IF(CupDraw!R87=\"\",\"\",CupDraw!R87)","v":""}]
[null,null,{"$f":"IF(CupDraw!J90=\"\",\"\",CupDraw!J90)","v":""},{"$f":"IF(CupDraw!K90=\"\",\"\",CupDraw!K90)","v":""},{"$f":"IF(CupDraw!L90=\"\",\"\",CupDraw!L90)","v":""},null,null,{"$f":"CupDraw!O88","v":0},{"$f":"IF(CupDraw!P88=\"\",\"\",CupDraw!P88)","v":""},{"$f":"IF(CupDraw!Q88=\"\",\"\",CupDraw!Q88)","v":""},{"$f":"IF(CupDraw!R88=\"\",\"\",CupDraw!R88)","v":""}]
[null,null,{"$f":"IF(CupDraw!J91=\"\",\"\",CupDraw!J91)","v":""},{"$f":"IF(CupDraw!K91=\"\",\"\",CupDraw!K91)","v":""},{"$f":"IF(CupDraw!L91=\"\",\"\",CupDraw!L91)","v":""},null,null,{"$f":"IF(CupDraw!O89=\"\",\"\",CupDraw!O89)","v":""},{"$f":"IF(CupDraw!P89=\"\",\"\",CupDraw!P89)","v":""},{"$f":"IF(CupDraw!Q89=\"\",\"\",CupDraw!Q89)","v":""},{"$f":"IF(CupDraw!R89=\"\",\"\",CupDraw!R89)","v":""}]
[null,null,{"$f":"IF(CupDraw!J92=\"\",\"\",CupDraw!J92)","v":""},{"$f":"IF(CupDraw!K92=\"\",\"\",CupDraw!K92)","v":""},{"$f":"IF(CupDraw!L92=\"\",\"\",CupDraw!L92)","v":""},null,null,{"$f":"CupDraw!O90","v":0},{"$f":"IF(CupDraw!P90=\"\",\"\",CupDraw!P90)","v":""},{"$f":"IF(CupDraw!Q90=\"\",\"\",CupDraw!Q90)","v":""},{"$f":"IF(CupDraw!R90=\"\",\"\",CupDraw!R90)","v":""}]
[null,null,{"$f":"IF(CupDraw!J93=\"\",\"\",CupDraw!J93)","v":""},{"$f":"IF(CupDraw!K93=\"\",\"\",CupDraw!K93)","v":""},{"$f":"IF(CupDraw!L93=\"\",\"\",CupDraw!L93)","v":""},null,null,{"$f":"IF(CupDraw!O91=\"\",\"\",CupDraw!O91)","v":""},{"$f":"IF(CupDraw!P91=\"\",\"\",CupDraw!P91)","v":""},{"$f":"IF(CupDraw!Q91=\"\",\"\",CupDraw!Q91)","v":""},{"$f":"IF(CupDraw!R91=\"\",\"\",CupDraw!R91)","v":""}]
[null,null,{"$f":"IF(CupDraw!J94=\"\",\"\",CupDraw!J94)","v":""},{"$f":"IF(CupDraw!K94=\"\",\"\",CupDraw!K94)","v":""},{"$f":"IF(CupDraw!L94=\"\",\"\",CupDraw!L94)","v":""},null,null,{"$f":"CupDraw!O92","v":0},{"$f":"IF(CupDraw!P92=\"\",\"\",CupDraw!P92)","v":""},{"$f":"IF(CupDraw!Q92=\"\",\"\",CupDraw!Q92)","v":""},{"$f":"IF(CupDraw!R92=\"\",\"\",CupDraw!R92)","v":""}]
[null,null,{"$f":"IF(CupDraw!J95=\"\",\"\",CupDraw!J95)","v":""}]

{"sheet":"Predictions","index":6,"n_rows":175,"n_cols":7,"rows_kept":175,"cut":false,"hidden":false,"merged":[]}
[{"$f":"IF(Picks!A1=\"\",\"\",Picks!A1)","v":"Player"},{"$f":"IF(Picks!B1=\"\",\"\",Picks!B1)","v":"Prediction"},{"$f":"IF(Picks!C1=\"\",\"\",Picks!C1)","v":"Match Day"},{"$f":"IF(Picks!D1=\"\",\"\",Picks!D1)","v":"Decimal"},{"$f":"IF(Picks!E1=\"\",\"\",Picks!E1)","v":"Bet in?"},{"$f":"IF(Picks!F1=\"\",\"\",Picks!F1)","v":"Score"},{"$f":"IF(Picks!G1=\"\",\"\",Picks!G1)","v":"Max"}]
[{"$f":"IF(Picks!A2=\"\",\"\",Picks!A2)","v":"Alan Bond"},{"$f":"IF(Picks!B2=\"\",\"\",Picks!B2)","v":"Wigan"},{"$f":"IF(Picks!C2=\"\",\"\",Picks!C2)","v":"1900-01-07"},{"$f":"IF(Picks!D2=\"\",\"\",Picks!D2)","v":2.6},{"$f":"IF(Picks!E2=\"\",\"\",Picks!E2)","v":"√"},{"$f":"IF(Picks!F2=\"\",\"\",Picks!F2)","v":-4.4000000000000004},{"$f":"IF(Picks!G2=\"\",\"\",Picks!G2)","v":30.50200000000001}]
[null,{"$f":"IF(Picks!B3=\"\",\"\",Picks!B3)","v":"Barrow"},{"$f":"IF(Picks!C3=\"\",\"\",Picks!C3)","v":"1900-01-07"},{"$f":"IF(Picks!D3=\"\",\"\",Picks!D3)","v":2.4500000000000002},{"$f":"IF(Picks!E3=\"\",\"\",Picks!E3)","v":"x"},{"$f":"IF(Picks!F3=\"\",\"\",Picks!F3)","v":""},{"$f":"IF(Picks!G3=\"\",\"\",Picks!G3)","v":""}]
[null,{"$f":"IF(Picks!B4=\"\",\"\",Picks!B4)","v":"Sutton"},{"$f":"IF(Picks!C4=\"\",\"\",Picks!C4)","v":"1900-01-07"},{"$f":"IF(Picks!D4=\"\",\"\",Picks!D4)","v":2.1},{"$f":"IF(Picks!E4=\"\",\"\",Picks!E4)","v":"x"},{"$f":"IF(Picks!F4=\"\",\"\",Picks!F4)","v":""},{"$f":"IF(Picks!G4=\"\",\"\",Picks!G4)","v":""}]
[{"$f":"IF(Picks!A5=\"\",\"\",Picks!A5)","v":"Alan Rogers"},{"$f":"IF(Picks!B5=\"\",\"\",Picks!B5)","v":"Crawley"},{"$f":"IF(Picks!C5=\"\",\"\",Picks!C5)","v":"1900-01-07"},{"$f":"IF(Picks!D5=\"\",\"\",Picks!D5)","v":2.875},{"$f":"IF(Picks!E5=\"\",\"\",Picks!E5)","v":"x"},{"$f":"IF(Picks!F5=\"\",\"\",Picks!F5)","v":-4.5999999999999996},{"$f":"IF(Picks!G5=\"\",\"\",Picks!G5)","v":46.017499999999998}]
[null,{"$f":"IF(Picks!B6=\"\",\"\",Picks!B6)","v":"Orient draw"},{"$f":"IF(Picks!C6=\"\",\"\",Picks!C6)","v":"1900-01-07"},{"$f":"IF(Picks!D6=\"\",\"\",Picks!D6)","v":3.1},{"$f":"IF(Picks!E6=\"\",\"\",Picks!E6)","v":"x"},{"$f":"IF(Picks!F6=\"\",\"\",Picks!F6)","v":""},{"$f":"IF(Picks!G6=\"\",\"\",Picks!G6)","v":""}]
[null,{"$f":"IF(Picks!B7=\"\",\"\",Picks!B7)","v":"Salford"},{"$f":"IF(Picks!C7=\"\",\"\",Picks!C7)","v":"1900-01-07"},{"$f":"IF(Picks!D7=\"\",\"\",Picks!D7)","v":2.4},{"$f":"IF(Picks!E7=\"\",\"\",Picks!E7)","v":"√"},{"$f":"IF(Picks!F7=\"\",\"\",Picks!F7)","v":""},{"$f":"IF(Picks!G7=\"\",\"\",Picks!G7)","v":""}]
[{"$f":"IF(Picks!A8=\"\",\"\",Picks!A8)","v":"Alan White"},{"$f":"IF(Picks!B8=\"\",\"\",Picks!B8)","v":"Luton"},{"$f":"IF(Picks!C8=\"\",\"\",Picks!C8)","v":"1900-01-07"},{"$f":"IF(Picks!D8=\"\",\"\",Picks!D8)","v":3.2},{"$f":"IF(Picks!E8=\"\",\"\",Picks!E8)","v":"x"},{"$f":"IF(Picks!F8=\"\",\"\",Picks!F8)","v":-7},{"$f":"IF(Picks!G8=\"\",\"\",Picks!G8)","v":39.628}]
[null,{"$f":"IF(Picks!B9=\"\",\"\",Picks!B9)","v":"Forest Green"},{"$f":"IF(Picks!C9=\"\",\"\",Picks!C9)","v":"1900-01-07"},{"$f":"IF(Picks!D9=\"\",\"\",Picks!D9)","v":2.15},{"$f":"IF(Picks!E9=\"\",\"\",Picks!E9)","v":"x"},{"$f":"IF(Picks!F9=\"\",\"\",Picks!F9)","v":""},{"$f":"IF(Picks!G9=\"\",\"\",Picks!G9)","v":""}]
[null,{"$f":"IF(Picks!B10=\"\",\"\",Picks!B10)","v":"Harrogate"},{"$f":"IF(Picks!C10=\"\",\"\",Picks!C10)","v":"1900-01-07"},{"$f":"IF(Picks!D10=\"\",\"\",Picks!D10)","v":2.6},{"$f":"IF(Picks!E10=\"\",\"\",Picks!E10)","v":"x"},{"$f":"IF(Picks!F10=\"\",\"\",Picks!F10)","v":""},{"$f":"IF(Picks!G10=\"\",\"\",Picks!G10)","v":""}]
[{"$f":"IF(Picks!A11=\"\",\"\",Picks!A11)","v":"Alfie Davies"},{"$f":"IF(Picks!B11=\"\",\"\",Picks!B11)","v":"Blackpool"},{"$f":"IF(Picks!C11=\"\",\"\",Picks!C11)","v":"1900-01-07"},{"$f":"IF(Picks!D11=\"\",\"\",Picks!D11)","v":4.4000000000000004},{"$f":"IF(Picks!E11=\"\",\"\",Picks!E11)","v":"x"},{"$f":"IF(Picks!F11=\"\",\"\",Picks!F11)","v":-5.15},{"$f":"IF(Picks!G11=\"\",\"\",Picks!G11)","v":50.481999999999999}]
[null,{"$f":"IF(Picks!B12=\"\",\"\",Picks!B12)","v":"Swansea"},{"$f":"IF(Picks!C12=\"\",\"\",Picks!C12)","v":"1900-01-07"},{"$f":"IF(Picks!D12=\"\",\"\",Picks!D12)","v":2.8},{"$f":"IF(Picks!E12=\"\",\"\",Picks!E12)","v":"x"},{"$f":"IF(Picks!F12=\"\",\"\",Picks!F12)","v":""},{"$f":"IF(Picks!G12=\"\",\"\",Picks!G12)","v":""}]
[null,{"$f":"IF(Picks!B13=\"\",\"\",Picks!B13)","v":"West Brom"},{"$f":"IF(Picks!C13=\"\",\"\",Picks!C13)","v":"1900-01-07"},{"$f":"IF(Picks!D13=\"\",\"\",Picks!D13)","v":1.85},{"$f":"IF(Picks!E13=\"\",\"\",Picks!E13)","v":"√"},{"$f":"IF(Picks!F13=\"\",\"\",Picks!F13)","v":""},{"$f":"IF(Picks!G13=\"\",\"\",Picks!G13)","v":""}]
[{"$f":"IF(Picks!A14=\"\",\"\",Picks!A14)","v":"Alick Rocca"},{"$f":"IF(Picks!B14=\"\",\"\",Picks!B14)","v":"Liverpool Draw"},{"$f":"IF(Picks!C14=\"\",\"\",Picks!C14)","v":"1900-01-07"},{"$f":"IF(Picks!D14=\"\",\"\",Picks!D14)","v":3.3},{"$f":"IF(Picks!E14=\"\",\"\",Picks!E14)","v":"√"},{"$f":"IF(Picks!F14=\"\",\"\",Picks!F14)","v":9.1999999999999993},{"$f":"IF(Picks!G14=\"\",\"\",Picks!G14)","v":64.239999999999995}]
[null,{"$f":"IF(Picks!B15=\"\",\"\",Picks!B15)","v":"Derby Draw"},{"$f":"IF(Picks!C15=\"\",\"\",Picks!C15)","v":"1900-01-07"},{"$f":"IF(Picks!D15=\"\",\"\",Picks!D15)","v":3},{"$f":"IF(Picks!E15=\"\",\"\",Picks!E15)","v":"√"},{"$f":"IF(Picks!F15=\"\",\"\",Picks!F15)","v":""},{"$f":"IF(Picks!G15=\"\",\"\",Picks!G15)","v":""}]
[null,{"$f":"IF(Picks!B16=\"\",\"\",Picks!B16)","v":"Brighton Draw"},{"$f":"IF(Picks!C16=\"\",\"\",Picks!C16)","v":"1900-01-07"},{"$f":"IF(Picks!D16=\"\",\"\",Picks!D16)","v":3.2},{"$f":"IF(Picks!E16=\"\",\"\",Picks!E16)","v":"x"},{"$f":"IF(Picks!F16=\"\",\"\",Picks!F16)","v":""},{"$f":"IF(Picks!G16=\"\",\"\",Picks!G16)","v":""}]
[{"$f":"IF(Picks!A17=\"\",\"\",Picks!A17)","v":"Andy Charleston"},{"$f":"IF(Picks!B17=\"\",\"\",Picks!B17)","v":"Leeds"},{"$f":"IF(Picks!C17=\"\",\"\",Picks!C17)","v":"1900-01-01"},{"$f":"IF(Picks!D17=\"\",\"\",Picks!D17)","v":2.25},{"$f":"IF(Picks!E17=\"\",\"\",Picks!E17)","v":"x"},{"$f":"IF(Picks!F17=\"\",\"\",Picks!F17)","v":-5.6},{"$f":"IF(Picks!G17=\"\",\"\",Picks!G17)","v":38.799999999999997}]
[null,{"$f":"IF(Picks!B18=\"\",\"\",Picks!B18)","v":"Spurs"},{"$f":"IF(Picks!C18=\"\",\"\",Picks!C18)","v":"1900-01-01"},{"$f":"IF(Picks!D18=\"\",\"\",Picks!D18)","v":1.4},{"$f":"IF(Picks!E18=\"\",\"\",Picks!E18)","v":"√"},{"$f":"IF(Picks!F18=\"\",\"\",Picks!F18)","v":""},{"$f":"IF(Picks!G18=\"\",\"\",Picks!G18)","v":""}]
[null,{"$f":"IF(Picks!B19=\"\",\"\",Picks!B19)","v":"Wolves"},{"$f":"IF(Picks!C19=\"\",\"\",Picks!C19)","v":"1900-01-01"},{"$f":"IF(Picks!D19=\"\",\"\",Picks!D19)","v":5},{"$f":"IF(Picks!E19=\"\",\"\",Picks!E19)","v":"x"},{"$f":"IF(Picks!F19=\"\",\"\",Picks!F19)","v":""},{"$f":"IF(Picks!G19=\"\",\"\",Picks!G19)","v":""}]
[{"$f":"IF(Picks!A20=\"\",\"\",Picks!A20)","v":"Andy Hargreaves"},{"$f":"IF(Picks!B20=\"\",\"\",Picks!B20)","v":""},{"$f":"IF(Picks!C20=\"\",\"\",Picks!C20)","v":""},{"$f":"IF(Picks!D20=\"\",\"\",Picks!D20)","v":""},{"$f":"IF(Picks!E20=\"\",\"\",Picks!E20)","v":""},{"$f":"IF(Picks!F20=\"\",\"\",Picks!F20)","v":-10},{"$f":"IF(Picks!G20=\"\",\"\",Picks!G20)","v":""}]
[null,{"$f":"IF(Picks!B21=\"\",\"\",Picks!B21)","v":""},{"$f":"IF(Picks!C21=\"\",\"\",Picks!C21)","v":""},{"$f":"IF(Picks!D21=\"\",\"\",Picks!D21)","v":""},{"$f":"IF(Picks!E21=\"\",\"\",Picks!E21)","v":""},{"$f":"IF(Picks!F21=\"\",\"\",Picks!F21)","v":""},{"$f":"IF(Picks!G21=\"\",\"\",Picks!G21)","v":""}]
[null,{"$f":"IF(Picks!B22=\"\",\"\",Picks!B22)","v":""},{"$f":"IF(Picks!C22=\"\",\"\",Picks!C22)","v":""},{"$f":"IF(Picks!D22=\"\",\"\",Picks!D22)","v":""},{"$f":"IF(Picks!E22=\"\",\"\",Picks!E22)","v":""},{"$f":"IF(Picks!F22=\"\",\"\",Picks!F22)","v":""},{"$f":"IF(Picks!G22=\"\",\"\",Picks!G22)","v":""}]
[{"$f":"IF(Picks!A23=\"\",\"\",Picks!A23)","v":"Andy White"},{"$f":"IF(Picks!B23=\"\",\"\",Picks!B23)","v":"Villa"},{"$f":"IF(Picks!C23=\"\",\"\",Picks!C23)","v":"1900-01-07"},{"$f":"IF(Picks!D23=\"\",\"\",Picks!D23)","v":2},{"$f":"IF(Picks!E23=\"\",\"\",Picks!E23)","v":"x"},{"$f":"IF(Picks!F23=\"\",\"\",Picks!F23)","v":-5.2727272727272725},{"$f":"IF(Picks!G23=\"\",\"\",Picks!G23)","v":22.68181818181818}]
[null,{"$f":"IF(Picks!B24=\"\",\"\",Picks!B24)","v":"Leicester"},{"$f":"IF(Picks!C24=\"\",\"\",Picks!C24)","v":"1900-01-07"},{"$f":"IF(Picks!D24=\"\",\"\",Picks!D24)","v":1.7272727272727273},{"$f":"IF(Picks!E24=\"\",\"\",Picks!E24)","v":"√"},{"$f":"IF(Picks!F24=\"\",\"\",Picks!F24)","v":""},{"$f":"IF(Picks!G24=\"\",\"\",Picks!G24)","v":""}]
[null,{"$f":"IF(Picks!B25=\"\",\"\",Picks!B25)","v":"Chelsea"},{"$f":"IF(Picks!C25=\"\",\"\",Picks!C25)","v":"1900-01-07"},{"$f":"IF(Picks!D25=\"\",\"\",Picks!D25)","v":2.75},{"$f":"IF(Picks!E25=\"\",\"\",Picks!E25)","v":"x"},{"$f":"IF(Picks!F25=\"\",\"\",Picks!F25)","v":""},{"$f":"IF(Picks!G25=\"\",\"\",Picks!G25)","v":""}]
[{"$f":"IF(Picks!A26=\"\",\"\",Picks!A26)","v":"Ashley Houghton"},{"$f":"IF(Picks!B26=\"\",\"\",Picks!B26)","v":"Leeds"},{"$f":"IF(Picks!C26=\"\",\"\",Picks!C26)","v":"1900-01-01"},{"$f":"IF(Picks!D26=\"\",\"\",Picks!D26)","v":2.25},{"$f":"IF(Picks!E26=\"\",\"\",Picks!E26)","v":"x"},{"$f":"IF(Picks!F26=\"\",\"\",Picks!F26)","v":-1.2800000000000002},{"$f":"IF(Picks!G26=\"\",\"\",Picks!G26)","v":13.839999999999996}]
[null,{"$f":"IF(Picks!B27=\"\",\"\",Picks!B27)","v":"Spurs"},{"$f":"IF(Picks!C27=\"\",\"\",Picks!C27)","v":"1900-01-01"},{"$f":"IF(Picks!D27=\"\",\"\",Picks!D27)","v":1.4},{"$f":"IF(Picks!E27=\"\",\"\",Picks!E27)","v":"√"},{"$f":"IF(Picks!F27=\"\",\"\",Picks!F27)","v":""},{"$f":"IF(Picks!G27=\"\",\"\",Picks!G27)","v":""}]
[null,{"$f":"IF(Picks!B28=\"\",\"\",Picks!B28)","v":"Man U"},{"$f":"IF(Picks!C28=\"\",\"\",Picks!C28)","v":"1900-01-01"},{"$f":"IF(Picks!D28=\"\",\"\",Picks!D28)","v":1.8},{"$f":"IF(Picks!E28=\"\",\"\",Picks!E28)","v":"√"},{"$f":"IF(Picks!F28=\"\",\"\",Picks!F28)","v":""},{"$f":"IF(Picks!G28=\"\",\"\",Picks!G28)","v":""}]
[{"$f":"IF(Picks!A29=\"\",\"\",Picks!A29)","v":"Barry Birchall"},{"$f":"IF(Picks!B29=\"\",\"\",Picks!B29)","v":"Burton"},{"$f":"IF(Picks!C29=\"\",\"\",Picks!C29)","v":"1900-01-06"},{"$f":"IF(Picks!D29=\"\",\"\",Picks!D29)","v":2},{"$f":"IF(Picks!E29=\"\",\"\",Picks!E29)","v":"x"},{"$f":"IF(Picks!F29=\"\",\"\",Picks!F29)","v":-5.35},{"$f":"IF(Picks!G29=\"\",\"\",Picks!G29)","v":24.595000000000002}]
[null,{"$f":"IF(Picks!B30=\"\",\"\",Picks!B30)","v":"Rotherham"},{"$f":"IF(Picks!C30=\"\",\"\",Picks!C30)","v":"1900-01-07"},{"$f":"IF(Picks!D30=\"\",\"\",Picks!D30)","v":1.65},{"$f":"IF(Picks!E30=\"\",\"\",Picks!E30)","v":"√"},{"$f":"IF(Picks!F30=\"\",\"\",Picks!F30)","v":""},{"$f":"IF(Picks!G30=\"\",\"\",Picks!G30)","v":""}]
[null,{"$f":"IF(Picks!B31=\"\",\"\",Picks!B31)","v":"Bradford"},{"$f":"IF(Picks!C31=\"\",\"\",Picks!C31)","v":"1900-01-07"},{"$f":"IF(Picks!D31=\"\",\"\",Picks!D31)","v":3.1},{"$f":"IF(Picks!E31=\"\",\"\",Picks!E31)","v":"x"},{"$f":"IF(Picks!F31=\"\",\"\",Picks!F31)","v":""},{"$f":"IF(Picks!G31=\"\",\"\",Picks!G31)","v":""}]
[{"$f":"IF(Picks!A32=\"\",\"\",Picks!A32)","v":"Ben Rosser"},{"$f":"IF(Picks!B32=\"\",\"\",Picks!B32)","v":"Everton"},{"$f":"IF(Picks!C32=\"\",\"\",Picks!C32)","v":"1900-01-07"},{"$f":"IF(Picks!D32=\"\",\"\",Picks!D32)","v":3.2},{"$f":"IF(Picks!E32=\"\",\"\",Picks!E32)","v":"√"},{"$f":"IF(Picks!F32=\"\",\"\",Picks!F32)","v":10.059999999999999},{"$f":"IF(Picks!G32=\"\",\"\",Picks!G32)","v":57.467499999999987}]
[null,{"$f":"IF(Picks!B33=\"\",\"\",Picks!B33)","v":"Liverpool draw"},{"$f":"IF(Picks!C33=\"\",\"\",Picks!C33)","v":"1900-01-07"},{"$f":"IF(Picks!D33=\"\",\"\",Picks!D33)","v":3.3},{"$f":"IF(Picks!E33=\"\",\"\",Picks!E33)","v":"√"},{"$f":"IF(Picks!F33=\"\",\"\",Picks!F33)","v":""},{"$f":"IF(Picks!G33=\"\",\"\",Picks!G33)","v":""}]
[null,{"$f":"IF(Picks!B34=\"\",\"\",Picks!B34)","v":"Newcastle"},{"$f":"IF(Picks!C34=\"\",\"\",Picks!C34)","v":"1900-01-07"},{"$f":"IF(Picks!D34=\"\",\"\",Picks!D34)","v":2.625},{"$f":"IF(Picks!E34=\"\",\"\",Picks!E34)","v":"x"},{"$f":"IF(Picks!F34=\"\",\"\",Picks!F34)","v":""},{"$f":"IF(Picks!G34=\"\",\"\",Picks!G34)","v":""}]
[{"$f":"IF(Picks!A35=\"\",\"\",Picks!A35)","v":"Bob Bailey"},{"$f":"IF(Picks!B35=\"\",\"\",Picks!B35)","v":"Norwich"},{"$f":"IF(Picks!C35=\"\",\"\",Picks!C35)","v":"1900-01-07"},{"$f":"IF(Picks!D35=\"\",\"\",Picks!D35)","v":5},{"$f":"IF(Picks!E35=\"\",\"\",Picks!E35)","v":"x"},{"$f":"IF(Picks!F35=\"\",\"\",Picks!F35)","v":-7},{"$f":"IF(Picks!G35=\"\",\"\",Picks!G35)","v":65.237499999999997}]
[null,{"$f":"IF(Picks!B36=\"\",\"\",Picks!B36)","v":"Barnsley"},{"$f":"IF(Picks!C36=\"\",\"\",Picks!C36)","v":"1900-01-07"},{"$f":"IF(Picks!D36=\"\",\"\",Picks!D36)","v":2.15},{"$f":"IF(Picks!E36=\"\",\"\",Picks!E36)","v":"x"},{"$f":"IF(Picks!F36=\"\",\"\",Picks!F36)","v":""},{"$f":"IF(Picks!G36=\"\",\"\",Picks!G36)","v":""}]
[null,{"$f":"IF(Picks!B37=\"\",\"\",Picks!B37)","v":"Portsmouth"},{"$f":"IF(Picks!C37=\"\",\"\",Picks!C37)","v":"1900-01-07"},{"$f":"IF(Picks!D37=\"\",\"\",Picks!D37)","v":2.875},{"$f":"IF(Picks!E37=\"\",\"\",Picks!E37)","v":"x"},{"$f":"IF(Picks!F37=\"\",\"\",Picks!F37)","v":""},{"$f":"IF(Picks!G37=\"\",\"\",Picks!G37)","v":""}]
[{"$f":"IF(Picks!A38=\"\",\"\",Picks!A38)","v":"Charlie Griffiths"},{"$f":"IF(Picks!B38=\"\",\"\",Picks!B38)","v":"Portsmouth"},{"$f":"IF(Picks!C38=\"\",\"\",Picks!C38)","v":"1900-01-07"},{"$f":"IF(Picks!D38=\"\",\"\",Picks!D38)","v":2.875},{"$f":"IF(Picks!E38=\"\",\"\",Picks!E38)","v":"x"},{"$f":"IF(Picks!F38=\"\",\"\",Picks!F38)","v":-7},{"$f":"IF(Picks!G38=\"\",\"\",Picks!G38)","v":48.264999999999993}]
[null,{"$f":"IF(Picks!B39=\"\",\"\",Picks!B39)","v":"Bournemouth"},{"$f":"IF(Picks!C39=\"\",\"\",Picks!C39)","v":"1900-01-07"},{"$f":"IF(Picks!D39=\"\",\"\",Picks!D39)","v":2.2999999999999998},{"$f":"IF(Picks!E39=\"\",\"\",Picks!E39)","v":"x"},{"$f":"IF(Picks!F39=\"\",\"\",Picks!F39)","v":""},{"$f":"IF(Picks!G39=\"\",\"\",Picks!G39)","v":""}]
[null,{"$f":"IF(Picks!B40=\"\",\"\",Picks!B40)","v":"MK Dons draw"},{"$f":"IF(Picks!C40=\"\",\"\",Picks!C40)","v":"1900-01-07"},{"$f":"IF(Picks!D40=\"\",\"\",Picks!D40)","v":3.4},{"$f":"IF(Picks!E40=\"\",\"\",Picks!E40)","v":"x"},{"$f":"IF(Picks!F40=\"\",\"\",Picks!F40)","v":""},{"$f":"IF(Picks!G40=\"\",\"\",Picks!G40)","v":""}]
[{"$f":"IF(Picks!A41=\"\",\"\",Picks!A41)","v":"Chris Bow"},{"$f":"IF(Picks!B41=\"\",\"\",Picks!B41)","v":"Brighton draw"},{"$f":"IF(Picks!C41=\"\",\"\",Picks!C41)","v":"1900-01-07"},{"$f":"IF(Picks!D41=\"\",\"\",Picks!D41)","v":3.2},{"$f":"IF(Picks!E41=\"\",\"\",Picks!E41)","v":"x"},{"$f":"IF(Picks!F41=\"\",\"\",Picks!F41)","v":2.8000000000000007},{"$f":"IF(Picks!G41=\"\",\"\",Picks!G41)","v":37.36}]
[null,{"$f":"IF(Picks!B42=\"\",\"\",Picks!B42)","v":"Fulham"},{"$f":"IF(Picks!C42=\"\",\"\",Picks!C42)","v":"1900-01-07"},{"$f":"IF(Picks!D42=\"\",\"\",Picks!D42)","v":2},{"$f":"IF(Picks!E42=\"\",\"\",Picks!E42)","v":"√"},{"$f":"IF(Picks!F42=\"\",\"\",Picks!F42)","v":""},{"$f":"IF(Picks!G42=\"\",\"\",Picks!G42)","v":""}]
[null,{"$f":"IF(Picks!B43=\"\",\"\",Picks!B43)","v":"Wigan"},{"$f":"IF(Picks!C43=\"\",\"\",Picks!C43)","v":"1900-01-07"},{"$f":"IF(Picks!D43=\"\",\"\",Picks!D43)","v":2.6},{"$f":"IF(Picks!E43=\"\",\"\",Picks!E43)","v":"√"},{"$f":"IF(Picks!F43=\"\",\"\",Picks!F43)","v":""},{"$f":"IF(Picks!G43=\"\",\"\",Picks!G43)","v":""}]
[{"$f":"IF(Picks!A44=\"\",\"\",Picks!A44)","v":"Chris Griffin"},{"$f":"IF(Picks!B44=\"\",\"\",Picks!B44)","v":"Liverpool draw"},{"$f":"IF(Picks!C44=\"\",\"\",Picks!C44)","v":"1900-01-07"},{"$f":"IF(Picks!D44=\"\",\"\",Picks!D44)","v":3.3},{"$f":"IF(Picks!E44=\"\",\"\",Picks!E44)","v":"√"},{"$f":"IF(Picks!F44=\"\",\"\",Picks!F44)","v":-3.7},{"$f":"IF(Picks!G44=\"\",\"\",Picks!G44)","v":59.724999999999994}]
[null,{"$f":"IF(Picks!B45=\"\",\"\",Picks!B45)","v":"Derby"},{"$f":"IF(Picks!C45=\"\",\"\",Picks!C45)","v":"1900-01-07"},{"$f":"IF(Picks!D45=\"\",\"\",Picks!D45)","v":2.75},{"$f":"IF(Picks!E45=\"\",\"\",Picks!E45)","v":"x"},{"$f":"IF(Picks!F45=\"\",\"\",Picks!F45)","v":""},{"$f":"IF(Picks!G45=\"\",\"\",Picks!G45)","v":""}]
[null,{"$f":"IF(Picks!B46=\"\",\"\",Picks!B46)","v":"Fulham draw"},{"$f":"IF(Picks!C46=\"\",\"\",Picks!C46)","v":"1900-01-07"},{"$f":"IF(Picks!D46=\"\",\"\",Picks!D46)","v":3.2},{"$f":"IF(Picks!E46=\"\",\"\",Picks!E46)","v":"x"},{"$f":"IF(Picks!F46=\"\",\"\",Picks!F46)","v":""},{"$f":"IF(Picks!G46=\"\",\"\",Picks!G46)","v":""}]
[{"$f":"IF(Picks!A47=\"\",\"\",Picks!A47)","v":"Chris Luck"},{"$f":"IF(Picks!B47=\"\",\"\",Picks!B47)","v":"Everton"},{"$f":"IF(Picks!C47=\"\",\"\",Picks!C47)","v":"1900-01-07"},{"$f":"IF(Picks!D47=\"\",\"\",Picks!D47)","v":3.2},{"$f":"IF(Picks!E47=\"\",\"\",Picks!E47)","v":"√"},{"$f":"IF(Picks!F47=\"\",\"\",Picks!F47)","v":-3.8},{"$f":"IF(Picks!G47=\"\",\"\",Picks!G47)","v":41.612500000000004}]
[null,{"$f":"IF(Picks!B48=\"\",\"\",Picks!B48)","v":"Chelsea"},{"$f":"IF(Picks!C48=\"\",\"\",Picks!C48)","v":"1900-01-07"},{"$f":"IF(Picks!D48=\"\",\"\",Picks!D48)","v":2.75},{"$f":"IF(Picks!E48=\"\",\"\",Picks!E48)","v":"x"},{"$f":"IF(Picks!F48=\"\",\"\",Picks!F48)","v":""},{"$f":"IF(Picks!G48=\"\",\"\",Picks!G48)","v":""}]
[null,{"$f":"IF(Picks!B49=\"\",\"\",Picks!B49)","v":"Barnsley"},{"$f":"IF(Picks!C49=\"\",\"\",Picks!C49)","v":"1900-01-07"},{"$f":"IF(Picks!D49=\"\",\"\",Picks!D49)","v":2.15},{"$f":"IF(Picks!E49=\"\",\"\",Picks!E49)","v":"x"},{"$f":"IF(Picks!F49=\"\",\"\",Picks!F49)","v":""},{"$f":"IF(Picks!G49=\"\",\"\",Picks!G49)","v":""}]
[{"$f":"IF(Picks!A50=\"\",\"\",Picks!A50)","v":"Chris Townsend"},{"$f":"IF(Picks!B50=\"\",\"\",Picks!B50)","v":"Birmingham"},{"$f":"IF(Picks!C50=\"\",\"\",Picks!C50)","v":"1900-01-07"},{"$f":"IF(Picks!D50=\"\",\"\",Picks!D50)","v":3.7},{"$f":"IF(Picks!E50=\"\",\"\",Picks!E50)","v":"x"},{"$f":"IF(Picks!F50=\"\",\"\",Picks!F50)","v":-7},{"$f":"IF(Picks!G50=\"\",\"\",Picks!G50)","v":151.80000000000001}]
[null,{"$f":"IF(Picks!B51=\"\",\"\",Picks!B51)","v":"Palace"},{"$f":"IF(Picks!C51=\"\",\"\",Picks!C51)","v":"1900-01-07"},{"$f":"IF(Picks!D51=\"\",\"\",Picks!D51)","v":5.8},{"$f":"IF(Picks!E51=\"\",\"\",Picks!E51)","v":"x"},{"$f":"IF(Picks!F51=\"\",\"\",Picks!F51)","v":""},{"$f":"IF(Picks!G51=\"\",\"\",Picks!G51)","v":""}]
[null,{"$f":"IF(Picks!B52=\"\",\"\",Picks!B52)","v":"Stoke"},{"$f":"IF(Picks!C52=\"\",\"\",Picks!C52)","v":"1900-01-07"},{"$f":"IF(Picks!D52=\"\",\"\",Picks!D52)","v":4},{"$f":"IF(Picks!E52=\"\",\"\",Picks!E52)","v":"x"},{"$f":"IF(Picks!F52=\"\",\"\",Picks!F52)","v":""},{"$f":"IF(Picks!G52=\"\",\"\",Picks!G52)","v":""}]
[{"$f":"IF(Picks!A53=\"\",\"\",Picks!A53)","v":"Dan Gibbard"},{"$f":"IF(Picks!B53=\"\",\"\",Picks!B53)","v":"Liverpool Draw"},{"$f":"IF(Picks!C53=\"\",\"\",Picks!C53)","v":"1900-01-07"},{"$f":"IF(Picks!D53=\"\",\"\",Picks!D53)","v":3.3},{"$f":"IF(Picks!E53=\"\",\"\",Picks!E53)","v":"√"},{"$f":"IF(Picks!F53=\"\",\"\",Picks!F53)","v":22.476249999999997},{"$f":"IF(Picks!G53=\"\",\"\",Picks!G53)","v":22.476249999999997}]
[null,{"$f":"IF(Picks!B54=\"\",\"\",Picks!B54)","v":"Man C"},{"$f":"IF(Picks!C54=\"\",\"\",Picks!C54)","v":"1900-01-07"},{"$f":"IF(Picks!D54=\"\",\"\",Picks!D54)","v":1.25},{"$f":"IF(Picks!E54=\"\",\"\",Picks!E54)","v":"√"},{"$f":"IF(Picks!F54=\"\",\"\",Picks!F54)","v":""},{"$f":"IF(Picks!G54=\"\",\"\",Picks!G54)","v":""}]
[null,{"$f":"IF(Picks!B55=\"\",\"\",Picks!B55)","v":"QPR"},{"$f":"IF(Picks!C55=\"\",\"\",Picks!C55)","v":"1900-01-07"},{"$f":"IF(Picks!D55=\"\",\"\",Picks!D55)","v":2.15},{"$f":"IF(Picks!E55=\"\",\"\",Picks!E55)","v":"√"},{"$f":"IF(Picks!F55=\"\",\"\",Picks!F55)","v":""},{"$f":"IF(Picks!G55=\"\",\"\",Picks!G55)","v":""}]
[{"$f":"IF(Picks!A56=\"\",\"\",Picks!A56)","v":"Dave Bell"},{"$f":"IF(Picks!B56=\"\",\"\",Picks!B56)","v":"Arsenal"},{"$f":"IF(Picks!C56=\"\",\"\",Picks!C56)","v":"1900-01-07"},{"$f":"IF(Picks!D56=\"\",\"\",Picks!D56)","v":12},{"$f":"IF(Picks!E56=\"\",\"\",Picks!E56)","v":"x"},{"$f":"IF(Picks!F56=\"\",\"\",Picks!F56)","v":-7},{"$f":"IF(Picks!G56=\"\",\"\",Picks!G56)","v":831.8}]
[null,{"$f":"IF(Picks!B57=\"\",\"\",Picks!B57)","v":"Watford"},{"$f":"IF(Picks!C57=\"\",\"\",Picks!C57)","v":"1900-01-01"},{"$f":"IF(Picks!D57=\"\",\"\",Picks!D57)","v":8.5},{"$f":"IF(Picks!E57=\"\",\"\",Picks!E57)","v":"x"},{"$f":"IF(Picks!F57=\"\",\"\",Picks!F57)","v":""},{"$f":"IF(Picks!G57=\"\",\"\",Picks!G57)","v":""}]
[null,{"$f":"IF(Picks!B58=\"\",\"\",Picks!B58)","v":"Palace"},{"$f":"IF(Picks!C58=\"\",\"\",Picks!C58)","v":"1900-01-07"},{"$f":"IF(Picks!D58=\"\",\"\",Picks!D58)","v":5.8},{"$f":"IF(Picks!E58=\"\",\"\",Picks!E58)","v":"x"},{"$f":"IF(Picks!F58=\"\",\"\",Picks!F58)","v":""},{"$f":"IF(Picks!G58=\"\",\"\",Picks!G58)","v":""}]
[{"$f":"IF(Picks!A59=\"\",\"\",Picks!A59)","v":"Dave Orrell"},{"$f":"IF(Picks!B59=\"\",\"\",Picks!B59)","v":"QPR"},{"$f":"IF(Picks!C59=\"\",\"\",Picks!C59)","v":"1900-01-07"},{"$f":"IF(Picks!D59=\"\",\"\",Picks!D59)","v":2.15},{"$f":"IF(Picks!E59=\"\",\"\",Picks!E59)","v":"√"},{"$f":"IF(Picks!F59=\"\",\"\",Picks!F59)","v":2.7100000000000009},{"$f":"IF(Picks!G59=\"\",\"\",Picks!G59)","v":29.484999999999999}]
[null,{"$f":"IF(Picks!B60=\"\",\"\",Picks!B60)","v":"Carlisle"},{"$f":"IF(Picks!C60=\"\",\"\",Picks!C60)","v":"1900-01-07"},{"$f":"IF(Picks!D60=\"\",\"\",Picks!D60)","v":2.5},{"$f":"IF(Picks!E60=\"\",\"\",Picks!E60)","v":"x"},{"$f":"IF(Picks!F60=\"\",\"\",Picks!F60)","v":""},{"$f":"IF(Picks!G60=\"\",\"\",Picks!G60)","v":""}]
[null,{"$f":"IF(Picks!B61=\"\",\"\",Picks!B61)","v":"Salford"},{"$f":"IF(Picks!C61=\"\",\"\",Picks!C61)","v":"1900-01-07"},{"$f":"IF(Picks!D61=\"\",\"\",Picks!D61)","v":2.4},{"$f":"IF(Picks!E61=\"\",\"\",Picks!E61)","v":"√"},{"$f":"IF(Picks!F61=\"\",\"\",Picks!F61)","v":""},{"$f":"IF(Picks!G61=\"\",\"\",Picks!G61)","v":""}]
[{"$f":"IF(Picks!A62=\"\",\"\",Picks!A62)","v":"David Dunn"},{"$f":"IF(Picks!B62=\"\",\"\",Picks!B62)","v":"Chelsea"},{"$f":"IF(Picks!C62=\"\",\"\",Picks!C62)","v":"1900-01-07"},{"$f":"IF(Picks!D62=\"\",\"\",Picks!D62)","v":2.75},{"$f":"IF(Picks!E62=\"\",\"\",Picks!E62)","v":"x"},{"$f":"IF(Picks!F62=\"\",\"\",Picks!F62)","v":2.125},{"$f":"IF(Picks!G62=\"\",\"\",Picks!G62)","v":29.96875}]
[null,{"$f":"IF(Picks!B63=\"\",\"\",Picks!B63)","v":"Man C"},{"$f":"IF(Picks!C63=\"\",\"\",Picks!C63)","v":"1900-01-07"},{"$f":"IF(Picks!D63=\"\",\"\",Picks!D63)","v":1.25},{"$f":"IF(Picks!E63=\"\",\"\",Picks!E63)","v":"√"},{"$f":"IF(Picks!F63=\"\",\"\",Picks!F63)","v":""},{"$f":"IF(Picks!G63=\"\",\"\",Picks!G63)","v":""}]
[null,{"$f":"IF(Picks!B64=\"\",\"\",Picks!B64)","v":"Newcastle Draw"},{"$f":"IF(Picks!C64=\"\",\"\",Picks!C64)","v":"1900-01-07"},{"$f":"IF(Picks!D64=\"\",\"\",Picks!D64)","v":3.5},{"$f":"IF(Picks!E64=\"\",\"\",Picks!E64)","v":"√"},{"$f":"IF(Picks!F64=\"\",\"\",Picks!F64)","v":""},{"$f":"IF(Picks!G64=\"\",\"\",Picks!G64)","v":""}]
[{"$f":"IF(Picks!A65=\"\",\"\",Picks!A65)","v":"Frank Allen"},{"$f":"IF(Picks!B65=\"\",\"\",Picks!B65)","v":"Villa"},{"$f":"IF(Picks!C65=\"\",\"\",Picks!C65)","v":"1900-01-07"},{"$f":"IF(Picks!D65=\"\",\"\",Picks!D65)","v":2},{"$f":"IF(Picks!E65=\"\",\"\",Picks!E65)","v":"x"},{"$f":"IF(Picks!F65=\"\",\"\",Picks!F65)","v":-5.0909090909090908},{"$f":"IF(Picks!G65=\"\",\"\",Picks!G65)","v":20.799999999999997}]
[null,{"$f":"IF(Picks!B66=\"\",\"\",Picks!B66)","v":"Bournemouth"},{"$f":"IF(Picks!C66=\"\",\"\",Picks!C66)","v":"1900-01-07"},{"$f":"IF(Picks!D66=\"\",\"\",Picks!D66)","v":2.2999999999999998},{"$f":"IF(Picks!E66=\"\",\"\",Picks!E66)","v":"x"},{"$f":"IF(Picks!F66=\"\",\"\",Picks!F66)","v":""},{"$f":"IF(Picks!G66=\"\",\"\",Picks!G66)","v":""}]
[null,{"$f":"IF(Picks!B67=\"\",\"\",Picks!B67)","v":"Millwall"},{"$f":"IF(Picks!C67=\"\",\"\",Picks!C67)","v":"1900-01-07"},{"$f":"IF(Picks!D67=\"\",\"\",Picks!D67)","v":1.9090909090909092},{"$f":"IF(Picks!E67=\"\",\"\",Picks!E67)","v":"√"},{"$f":"IF(Picks!F67=\"\",\"\",Picks!F67)","v":""},{"$f":"IF(Picks!G67=\"\",\"\",Picks!G67)","v":""}]
[{"$f":"IF(Picks!A68=\"\",\"\",Picks!A68)","v":"Gareth McGuire"},{"$f":"IF(Picks!B68=\"\",\"\",Picks!B68)","v":"Fulham"},{"$f":"IF(Picks!C68=\"\",\"\",Picks!C68)","v":"1900-01-07"},{"$f":"IF(Picks!D68=\"\",\"\",Picks!D68)","v":2},{"$f":"IF(Picks!E68=\"\",\"\",Picks!E68)","v":"√"},{"$f":"IF(Picks!F68=\"\",\"\",Picks!F68)","v":-5},{"$f":"IF(Picks!G68=\"\",\"\",Picks!G68)","v":20.799999999999997}]
[null,{"$f":"IF(Picks!B69=\"\",\"\",Picks!B69)","v":"Bournemouth"},{"$f":"IF(Picks!C69=\"\",\"\",Picks!C69)","v":"1900-01-07"},{"$f":"IF(Picks!D69=\"\",\"\",Picks!D69)","v":2.2999999999999998},{"$f":"IF(Picks!E69=\"\",\"\",Picks!E69)","v":"x"},{"$f":"IF(Picks!F69=\"\",\"\",Picks!F69)","v":""},{"$f":"IF(Picks!G69=\"\",\"\",Picks!G69)","v":""}]
[null,{"$f":"IF(Picks!B70=\"\",\"\",Picks!B70)","v":"Sheff W"},{"$f":"IF(Picks!C70=\"\",\"\",Picks!C70)","v":"1900-01-07"},{"$f":"IF(Picks!D70=\"\",\"\",Picks!D70)","v":1.9090909090909092},{"$f":"IF(Picks!E70=\"\",\"\",Picks!E70)","v":"x"},{"$f":"IF(Picks!F70=\"\",\"\",Picks!F70)","v":""},{"$f":"IF(Picks!G70=\"\",\"\",Picks!G70)","v":""}]
[{"$f":"IF(Picks!A71=\"\",\"\",Picks!A71)","v":"Gareth Powell"},{"$f":"IF(Picks!B71=\"\",\"\",Picks!B71)","v":"Liverpool draw"},{"$f":"IF(Picks!C71=\"\",\"\",Picks!C71)","v":"1900-01-07"},{"$f":"IF(Picks!D71=\"\",\"\",Picks!D71)","v":3.3},{"$f":"IF(Picks!E71=\"\",\"\",Picks!E71)","v":"√"},{"$f":"IF(Picks!F71=\"\",\"\",Picks!F71)","v":11.350000000000001},{"$f":"IF(Picks!G71=\"\",\"\",Picks!G71)","v":77.14}]
[null,{"$f":"IF(Picks!B72=\"\",\"\",Picks!B72)","v":"Newcastle draw"},{"$f":"IF(Picks!C72=\"\",\"\",Picks!C72)","v":"1900-01-07"},{"$f":"IF(Picks!D72=\"\",\"\",Picks!D72)","v":3.5},{"$f":"IF(Picks!E72=\"\",\"\",Picks!E72)","v":"√"},{"$f":"IF(Picks!F72=\"\",\"\",Picks!F72)","v":""},{"$f":"IF(Picks!G72=\"\",\"\",Picks!G72)","v":""}]
[null,{"$f":"IF(Picks!B73=\"\",\"\",Picks!B73)","v":"Huddersfield draw"},{"$f":"IF(Picks!C73=\"\",\"\",Picks!C73)","v":"1900-01-07"},{"$f":"IF(Picks!D73=\"\",\"\",Picks!D73)","v":3.4},{"$f":"IF(Picks!E73=\"\",\"\",Picks!E73)","v":"x"},{"$f":"IF(Picks!F73=\"\",\"\",Picks!F73)","v":""},{"$f":"IF(Picks!G73=\"\",\"\",Picks!G73)","v":""}]
[{"$f":"IF(Picks!A74=\"\",\"\",Picks!A74)","v":"Gerard Ventom"},{"$f":"IF(Picks!B74=\"\",\"\",Picks!B74)","v":"Everton"},{"$f":"IF(Picks!C74=\"\",\"\",Picks!C74)","v":"1900-01-07"},{"$f":"IF(Picks!D74=\"\",\"\",Picks!D74)","v":3.2},{"$f":"IF(Picks!E74=\"\",\"\",Picks!E74)","v":"√"},{"$f":"IF(Picks!F74=\"\",\"\",Picks!F74)","v":-3.8},{"$f":"IF(Picks!G74=\"\",\"\",Picks!G74)","v":43.384375000000006}]
[null,{"$f":"IF(Picks!B75=\"\",\"\",Picks!B75)","v":"Southampton"},{"$f":"IF(Picks!C75=\"\",\"\",Picks!C75)","v":"1900-01-07"},{"$f":"IF(Picks!D75=\"\",\"\",Picks!D75)","v":2.625},{"$f":"IF(Picks!E75=\"\",\"\",Picks!E75)","v":"x"},{"$f":"IF(Picks!F75=\"\",\"\",Picks!F75)","v":""},{"$f":"IF(Picks!G75=\"\",\"\",Picks!G75)","v":""}]
[null,{"$f":"IF(Picks!B76=\"\",\"\",Picks!B76)","v":"Sheff U"},{"$f":"IF(Picks!C76=\"\",\"\",Picks!C76)","v":"1900-01-07"},{"$f":"IF(Picks!D76=\"\",\"\",Picks!D76)","v":2.375},{"$f":"IF(Picks!E76=\"\",\"\",Picks!E76)","v":"x"},{"$f":"IF(Picks!F76=\"\",\"\",Picks!F76)","v":""},{"$f":"IF(Picks!G76=\"\",\"\",Picks!G76)","v":""}]
[{"$f":"IF(Picks!A77=\"\",\"\",Picks!A77)","v":"Graham Miller"},{"$f":"IF(Picks!B77=\"\",\"\",Picks!B77)","v":"Huddersfield"},{"$f":"IF(Picks!C77=\"\",\"\",Picks!C77)","v":"1900-01-07"},{"$f":"IF(Picks!D77=\"\",\"\",Picks!D77)","v":2.625},{"$f":"IF(Picks!E77=\"\",\"\",Picks!E77)","v":"√"},{"$f":"IF(Picks!F77=\"\",\"\",Picks!F77)","v":-4.375},{"$f":"IF(Picks!G77=\"\",\"\",Picks!G77)","v":42.2425}]
[null,{"$f":"IF(Picks!B78=\"\",\"\",Picks!B78)","v":"Luton"},{"$f":"IF(Picks!C78=\"\",\"\",Picks!C78)","v":"1900-01-07"},{"$f":"IF(Picks!D78=\"\",\"\",Picks!D78)","v":3.2},{"$f":"IF(Picks!E78=\"\",\"\",Picks!E78)","v":"x"},{"$f":"IF(Picks!F78=\"\",\"\",Picks!F78)","v":""},{"$f":"IF(Picks!G78=\"\",\"\",Picks!G78)","v":""}]
[null,{"$f":"IF(Picks!B79=\"\",\"\",Picks!B79)","v":"Bournemouth"},{"$f":"IF(Picks!C79=\"\",\"\",Picks!C79)","v":"1900-01-07"},{"$f":"IF(Picks!D79=\"\",\"\",Picks!D79)","v":2.2999999999999998},{"$f":"IF(Picks!E79=\"\",\"\",Picks!E79)","v":"x"},{"$f":"IF(Picks!F79=\"\",\"\",Picks!F79)","v":""},{"$f":"IF(Picks!G79=\"\",\"\",Picks!G79)","v":""}]
[{"$f":"IF(Picks!A80=\"\",\"\",Picks!A80)","v":"Howard Bradley"},{"$f":"IF(Picks!B80=\"\",\"\",Picks!B80)","v":"Burnley draw"},{"$f":"IF(Picks!C80=\"\",\"\",Picks!C80)","v":"1900-01-01"},{"$f":"IF(Picks!D80=\"\",\"\",Picks!D80)","v":3.5},{"$f":"IF(Picks!E80=\"\",\"\",Picks!E80)","v":"√"},{"$f":"IF(Picks!F80=\"\",\"\",Picks!F80)","v":-3.5},{"$f":"IF(Picks!G80=\"\",\"\",Picks!G80)","v":98.92}]
[null,{"$f":"IF(Picks!B81=\"\",\"\",Picks!B81)","v":"Spurs draw"},{"$f":"IF(Picks!C81=\"\",\"\",Picks!C81)","v":"1900-01-01"},{"$f":"IF(Picks!D81=\"\",\"\",Picks!D81)","v":4.4000000000000004},{"$f":"IF(Picks!E81=\"\",\"\",Picks!E81)","v":"x"},{"$f":"IF(Picks!F81=\"\",\"\",Picks!F81)","v":""},{"$f":"IF(Picks!G81=\"\",\"\",Picks!G81)","v":""}]
[null,{"$f":"IF(Picks!B82=\"\",\"\",Picks!B82)","v":"Wolves draw"},{"$f":"IF(Picks!C82=\"\",\"\",Picks!C82)","v":"1900-01-01"},{"$f":"IF(Picks!D82=\"\",\"\",Picks!D82)","v":3.4},{"$f":"IF(Picks!E82=\"\",\"\",Picks!E82)","v":"x"},{"$f":"IF(Picks!F82=\"\",\"\",Picks!F82)","v":""},{"$f":"IF(Picks!G82=\"\",\"\",Picks!G82)","v":""}]
[{"$f":"IF(Picks!A83=\"\",\"\",Picks!A83)","v":"Ian Davies"},{"$f":"IF(Picks!B83=\"\",\"\",Picks!B83)","v":"Accrington"},{"$f":"IF(Picks!C83=\"\",\"\",Picks!C83)","v":"1900-01-07"},{"$f":"IF(Picks!D83=\"\",\"\",Picks!D83)","v":3.4},{"$f":"IF(Picks!E83=\"\",\"\",Picks!E83)","v":"x"},{"$f":"IF(Picks!F83=\"\",\"\",Picks!F83)","v":-7},{"$f":"IF(Picks!G83=\"\",\"\",Picks!G83)","v":55.756}]
[null,{"$f":"IF(Picks!B84=\"\",\"\",Picks!B84)","v":"Plymouth"},{"$f":"IF(Picks!C84=\"\",\"\",Picks!C84)","v":"1900-01-07"},{"$f":"IF(Picks!D84=\"\",\"\",Picks!D84)","v":2.4500000000000002},{"$f":"IF(Picks!E84=\"\",\"\",Picks!E84)","v":"x"},{"$f":"IF(Picks!F84=\"\",\"\",Picks!F84)","v":""},{"$f":"IF(Picks!G84=\"\",\"\",Picks!G84)","v":""}]
[null,{"$f":"IF(Picks!B85=\"\",\"\",Picks!B85)","v":"QPR draw"},{"$f":"IF(Picks!C85=\"\",\"\",Picks!C85)","v":"1900-01-07"},{"$f":"IF(Picks!D85=\"\",\"\",Picks!D85)","v":3.2},{"$f":"IF(Picks!E85=\"\",\"\",Picks!E85)","v":"x"},{"$f":"IF(Picks!F85=\"\",\"\",Picks!F85)","v":""},{"$f":"IF(Picks!G85=\"\",\"\",Picks!G85)","v":""}]
[{"$f":"IF(Picks!A86=\"\",\"\",Picks!A86)","v":"Jack Walsh"},{"$f":"IF(Picks!B86=\"\",\"\",Picks!B86)","v":"Newcastle"},{"$f":"IF(Picks!C86=\"\",\"\",Picks!C86)","v":"1900-01-07"},{"$f":"IF(Picks!D86=\"\",\"\",Picks!D86)","v":2.625},{"$f":"IF(Picks!E86=\"\",\"\",Picks!E86)","v":"x"},{"$f":"IF(Picks!F86=\"\",\"\",Picks!F86)","v":-0.36363636363636331},{"$f":"IF(Picks!G86=\"\",\"\",Picks!G86)","v":19.681818181818187}]
[null,{"$f":"IF(Picks!B87=\"\",\"\",Picks!B87)","v":"Leicester"},{"$f":"IF(Picks!C87=\"\",\"\",Picks!C87)","v":"1900-01-07"},{"$f":"IF(Picks!D87=\"\",\"\",Picks!D87)","v":1.7272727272727273},{"$f":"IF(Picks!E87=\"\",\"\",Picks!E87)","v":"√"},{"$f":"IF(Picks!F87=\"\",\"\",Picks!F87)","v":""},{"$f":"IF(Picks!G87=\"\",\"\",Picks!G87)","v":""}]
[null,{"$f":"IF(Picks!B88=\"\",\"\",Picks!B88)","v":"Man U"},{"$f":"IF(Picks!C88=\"\",\"\",Picks!C88)","v":"1900-01-01"},{"$f":"IF(Picks!D88=\"\",\"\",Picks!D88)","v":1.8},{"$f":"IF(Picks!E88=\"\",\"\",Picks!E88)","v":"√"},{"$f":"IF(Picks!F88=\"\",\"\",Picks!F88)","v":""},{"$f":"IF(Picks!G88=\"\",\"\",Picks!G88)","v":""}]
[{"$f":"IF(Picks!A89=\"\",\"\",Picks!A89)","v":"James Bell"},{"$f":"IF(Picks!B89=\"\",\"\",Picks!B89)","v":"Preston draw"},{"$f":"IF(Picks!C89=\"\",\"\",Picks!C89)","v":"1900-01-07"},{"$f":"IF(Picks!D89=\"\",\"\",Picks!D89)","v":3.1},{"$f":"IF(Picks!E89=\"\",\"\",Picks!E89)","v":"x"},{"$f":"IF(Picks!F89=\"\",\"\",Picks!F89)","v":-7},{"$f":"IF(Picks!G89=\"\",\"\",Picks!G89)","v":60.921000000000006}]
[null,{"$f":"IF(Picks!B90=\"\",\"\",Picks!B90)","v":"Orient draw"},{"$f":"IF(Picks!C90=\"\",\"\",Picks!C90)","v":"1900-01-07"},{"$f":"IF(Picks!D90=\"\",\"\",Picks!D90)","v":3.1},{"$f":"IF(Picks!E90=\"\",\"\",Picks!E90)","v":"x"},{"$f":"IF(Picks!F90=\"\",\"\",Picks!F90)","v":""},{"$f":"IF(Picks!G90=\"\",\"\",Picks!G90)","v":""}]
[null,{"$f":"IF(Picks!B91=\"\",\"\",Picks!B91)","v":"Forest Green draw"},{"$f":"IF(Picks!C91=\"\",\"\",Picks!C91)","v":"1900-01-07"},{"$f":"IF(Picks!D91=\"\",\"\",Picks!D91)","v":3.1},{"$f":"IF(Picks!E91=\"\",\"\",Picks!E91)","v":"x"},{"$f":"IF(Picks!F91=\"\",\"\",Picks!F91)","v":""},{"$f":"IF(Picks!G91=\"\",\"\",Picks!G91)","v":""}]
[{"$f":"IF(Picks!A92=\"\",\"\",Picks!A92)","v":"John Murphy"},{"$f":"IF(Picks!B92=\"\",\"\",Picks!B92)","v":"Cardiff"},{"$f":"IF(Picks!C92=\"\",\"\",Picks!C92)","v":"1900-01-07"},{"$f":"IF(Picks!D92=\"\",\"\",Picks!D92)","v":1.95},{"$f":"IF(Picks!E92=\"\",\"\",Picks!E92)","v":"x"},{"$f":"IF(Picks!F92=\"\",\"\",Picks!F92)","v":-7},{"$f":"IF(Picks!G92=\"\",\"\",Picks!G92)","v":28.091406250000006}]
[null,{"$f":"IF(Picks!B93=\"\",\"\",Picks!B93)","v":"Sheff U"},{"$f":"IF(Picks!C93=\"\",\"\",Picks!C93)","v":"1900-01-07"},{"$f":"IF(Picks!D93=\"\",\"\",Picks!D93)","v":2.375},{"$f":"IF(Picks!E93=\"\",\"\",Picks!E93)","v":"x"},{"$f":"IF(Picks!F93=\"\",\"\",Picks!F93)","v":""},{"$f":"IF(Picks!G93=\"\",\"\",Picks!G93)","v":""}]
[null,{"$f":"IF(Picks!B94=\"\",\"\",Picks!B94)","v":"Exeter"},{"$f":"IF(Picks!C94=\"\",\"\",Picks!C94)","v":"1900-01-07"},{"$f":"IF(Picks!D94=\"\",\"\",Picks!D94)","v":2.625},{"$f":"IF(Picks!E94=\"\",\"\",Picks!E94)","v":"x"},{"$f":"IF(Picks!F94=\"\",\"\",Picks!F94)","v":""},{"$f":"IF(Picks!G94=\"\",\"\",Picks!G94)","v":""}]
[{"$f":"IF(Picks!A95=\"\",\"\",Picks!A95)","v":"John Ronan"},{"$f":"IF(Picks!B95=\"\",\"\",Picks!B95)","v":"Liverpool"},{"$f":"IF(Picks!C95=\"\",\"\",Picks!C95)","v":"1900-01-07"},{"$f":"IF(Picks!D95=\"\",\"\",Picks!D95)","v":2.6},{"$f":"IF(Picks!E95=\"\",\"\",Picks!E95)","v":"x"},{"$f":"IF(Picks!F95=\"\",\"\",Picks!F95)","v":-4.9000000000000004},{"$f":"IF(Picks!G95=\"\",\"\",Picks!G95)","v":33.85}]
[null,{"$f":"IF(Picks!B96=\"\",\"\",Picks!B96)","v":"Derby"},{"$f":"IF(Picks!C96=\"\",\"\",Picks!C96)","v":"1900-01-07"},{"$f":"IF(Picks!D96=\"\",\"\",Picks!D96)","v":2.75},{"$f":"IF(Picks!E96=\"\",\"\",Picks!E96)","v":"x"},{"$f":"IF(Picks!F96=\"\",\"\",Picks!F96)","v":""},{"$f":"IF(Picks!G96=\"\",\"\",Picks!G96)","v":""}]
[null,{"$f":"IF(Picks!B97=\"\",\"\",Picks!B97)","v":"MK Dons"},{"$f":"IF(Picks!C97=\"\",\"\",Picks!C97)","v":"1900-01-07"},{"$f":"IF(Picks!D97=\"\",\"\",Picks!D97)","v":2.1},{"$f":"IF(Picks!E97=\"\",\"\",Picks!E97)","v":"√"},{"$f":"IF(Picks!F97=\"\",\"\",Picks!F97)","v":""},{"$f":"IF(Picks!G97=\"\",\"\",Picks!G97)","v":""}]
[{"$f":"IF(Picks!A98=\"\",\"\",Picks!A98)","v":"Kei Lok Ma"},{"$f":"IF(Picks!B98=\"\",\"\",Picks!B98)","v":"Brighton draw"},{"$f":"IF(Picks!C98=\"\",\"\",Picks!C98)","v":"1900-01-07"},{"$f":"IF(Picks!D98=\"\",\"\",Picks!D98)","v":3.2},{"$f":"IF(Picks!E98=\"\",\"\",Picks!E98)","v":"x"},{"$f":"IF(Picks!F98=\"\",\"\",Picks!F98)","v":-7},{"$f":"IF(Picks!G98=\"\",\"\",Picks!G98)","v":41.481250000000003}]
[null,{"$f":"IF(Picks!B99=\"\",\"\",Picks!B99)","v":"Southampton"},{"$f":"IF(Picks!C99=\"\",\"\",Picks!C99)","v":"1900-01-07"},{"$f":"IF(Picks!D99=\"\",\"\",Picks!D99)","v":2.625},{"$f":"IF(Picks!E99=\"\",\"\",Picks!E99)","v":"x"},{"$f":"IF(Picks!F99=\"\",\"\",Picks!F99)","v":""},{"$f":"IF(Picks!G99=\"\",\"\",Picks!G99)","v":""}]
[null,{"$f":"IF(Picks!B100=\"\",\"\",Picks!B100)","v":"Leeds"},{"$f":"IF(Picks!C100=\"\",\"\",Picks!C100)","v":"1900-01-01"},{"$f":"IF(Picks!D100=\"\",\"\",Picks!D100)","v":2.25},{"$f":"IF(Picks!E100=\"\",\"\",Picks!E100)","v":"x"},{"$f":"IF(Picks!F100=\"\",\"\",Picks!F100)","v":""},{"$f":"IF(Picks!G100=\"\",\"\",Picks!G100)","v":""}]
[{"$f":"IF(Picks!A101=\"\",\"\",Picks!A101)","v":"Kevin Carter"},{"$f":"IF(Picks!B101=\"\",\"\",Picks!B101)","v":"West Brom"},{"$f":"IF(Picks!C101=\"\",\"\",Picks!C101)","v":"1900-01-07"},{"$f":"IF(Picks!D101=\"\",\"\",Picks!D101)","v":1.85},{"$f":"IF(Picks!E101=\"\",\"\",Picks!E101)","v":"√"},{"$f":"IF(Picks!F101=\"\",\"\",Picks!F101)","v":-0.22727272727272751},{"$f":"IF(Picks!G101=\"\",\"\",Picks!G101)","v":12.209090909090911}]
[null,{"$f":"IF(Picks!B102=\"\",\"\",Picks!B102)","v":"West Ham"},{"$f":"IF(Picks!C102=\"\",\"\",Picks!C102)","v":"1900-01-07"},{"$f":"IF(Picks!D102=\"\",\"\",Picks!D102)","v":1.6},{"$f":"IF(Picks!E102=\"\",\"\",Picks!E102)","v":"x"},{"$f":"IF(Picks!F102=\"\",\"\",Picks!F102)","v":""},{"$f":"IF(Picks!G102=\"\",\"\",Picks!G102)","v":""}]
[null,{"$f":"IF(Picks!B103=\"\",\"\",Picks!B103)","v":"Leicester"},{"$f":"IF(Picks!C103=\"\",\"\",Picks!C103)","v":"1900-01-07"},{"$f":"IF(Picks!D103=\"\",\"\",Picks!D103)","v":1.7272727272727273},{"$f":"IF(Picks!E103=\"\",\"\",Picks!E103)","v":"√"},{"$f":"IF(Picks!F103=\"\",\"\",Picks!F103)","v":""},{"$f":"IF(Picks!G103=\"\",\"\",Picks!G103)","v":""}]
[{"$f":"IF(Picks!A104=\"\",\"\",Picks!A104)","v":"Lennie Bow"},{"$f":"IF(Picks!B104=\"\",\"\",Picks!B104)","v":"Oxford"},{"$f":"IF(Picks!C104=\"\",\"\",Picks!C104)","v":"1900-01-07"},{"$f":"IF(Picks!D104=\"\",\"\",Picks!D104)","v":2.1},{"$f":"IF(Picks!E104=\"\",\"\",Picks!E104)","v":"√"},{"$f":"IF(Picks!F104=\"\",\"\",Picks!F104)","v":-4.9000000000000004},{"$f":"IF(Picks!G104=\"\",\"\",Picks!G104)","v":27.153999999999996}]
[null,{"$f":"IF(Picks!B105=\"\",\"\",Picks!B105)","v":"Forest Green"},{"$f":"IF(Picks!C105=\"\",\"\",Picks!C105)","v":"1900-01-07"},{"$f":"IF(Picks!D105=\"\",\"\",Picks!D105)","v":2.15},{"$f":"IF(Picks!E105=\"\",\"\",Picks!E105)","v":"x"},{"$f":"IF(Picks!F105=\"\",\"\",Picks!F105)","v":""},{"$f":"IF(Picks!G105=\"\",\"\",Picks!G105)","v":""}]
[null,{"$f":"IF(Picks!B106=\"\",\"\",Picks!B106)","v":"Harrogate"},{"$f":"IF(Picks!C106=\"\",\"\",Picks!C106)","v":"1900-01-07"},{"$f":"IF(Picks!D106=\"\",\"\",Picks!D106)","v":2.6},{"$f":"IF(Picks!E106=\"\",\"\",Picks!E106)","v":"x"},{"$f":"IF(Picks!F106=\"\",\"\",Picks!F106)","v":""},{"$f":"IF(Picks!G106=\"\",\"\",Picks!G106)","v":""}]
[{"$f":"IF(Picks!A107=\"\",\"\",Picks!A107)","v":"Liam Wah"},{"$f":"IF(Picks!B107=\"\",\"\",Picks!B107)","v":"Burnley"},{"$f":"IF(Picks!C107=\"\",\"\",Picks!C107)","v":"1900-01-01"},{"$f":"IF(Picks!D107=\"\",\"\",Picks!D107)","v":3.1},{"$f":"IF(Picks!E107=\"\",\"\",Picks!E107)","v":"x"},{"$f":"IF(Picks!F107=\"\",\"\",Picks!F107)","v":-1.2800000000000002},{"$f":"IF(Picks!G107=\"\",\"\",Picks!G107)","v":19.552}]
[null,{"$f":"IF(Picks!B108=\"\",\"\",Picks!B108)","v":"Spurs"},{"$f":"IF(Picks!C108=\"\",\"\",Picks!C108)","v":"1900-01-01"},{"$f":"IF(Picks!D108=\"\",\"\",Picks!D108)","v":1.4},{"$f":"IF(Picks!E108=\"\",\"\",Picks!E108)","v":"√"},{"$f":"IF(Picks!F108=\"\",\"\",Picks!F108)","v":""},{"$f":"IF(Picks!G108=\"\",\"\",Picks!G108)","v":""}]
[null,{"$f":"IF(Picks!B109=\"\",\"\",Picks!B109)","v":"Man U"},{"$f":"IF(Picks!C109=\"\",\"\",Picks!C109)","v":"1900-01-01"},{"$f":"IF(Picks!D109=\"\",\"\",Picks!D109)","v":1.8},{"$f":"IF(Picks!E109=\"\",\"\",Picks!E109)","v":"√"},{"$f":"IF(Picks!F109=\"\",\"\",Picks!F109)","v":""},{"$f":"IF(Picks!G109=\"\",\"\",Picks!G109)","v":""}]
[{"$f":"IF(Picks!A110=\"\",\"\",Picks!A110)","v":"Mal Stott"},{"$f":"IF(Picks!B110=\"\",\"\",Picks!B110)","v":"Plymouth"},{"$f":"IF(Picks!C110=\"\",\"\",Picks!C110)","v":"1900-01-07"},{"$f":"IF(Picks!D110=\"\",\"\",Picks!D110)","v":2.4500000000000002},{"$f":"IF(Picks!E110=\"\",\"\",Picks!E110)","v":"x"},{"$f":"IF(Picks!F110=\"\",\"\",Picks!F110)","v":-5.15},{"$f":"IF(Picks!G110=\"\",\"\",Picks!G110)","v":22.972375}]
[null,{"$f":"IF(Picks!B111=\"\",\"\",Picks!B111)","v":"Forest Green"},{"$f":"IF(Picks!C111=\"\",\"\",Picks!C111)","v":"1900-01-07"},{"$f":"IF(Picks!D111=\"\",\"\",Picks!D111)","v":2.15},{"$f":"IF(Picks!E111=\"\",\"\",Picks!E111)","v":"x"},{"$f":"IF(Picks!F111=\"\",\"\",Picks!F111)","v":""},{"$f":"IF(Picks!G111=\"\",\"\",Picks!G111)","v":""}]
[null,{"$f":"IF(Picks!B112=\"\",\"\",Picks!B112)","v":"West Brom"},{"$f":"IF(Picks!C112=\"\",\"\",Picks!C112)","v":"1900-01-07"},{"$f":"IF(Picks!D112=\"\",\"\",Picks!D112)","v":1.85},{"$f":"IF(Picks!E112=\"\",\"\",Picks!E112)","v":"√"},{"$f":"IF(Picks!F112=\"\",\"\",Picks!F112)","v":""},{"$f":"IF(Picks!G112=\"\",\"\",Picks!G112)","v":""}]
[{"$f":"IF(Picks!A113=\"\",\"\",Picks!A113)","v":"Mark Bunn"},{"$f":"IF(Picks!B113=\"\",\"\",Picks!B113)","v":"Everton"},{"$f":"IF(Picks!C113=\"\",\"\",Picks!C113)","v":"1900-01-07"},{"$f":"IF(Picks!D113=\"\",\"\",Picks!D113)","v":3.2},{"$f":"IF(Picks!E113=\"\",\"\",Picks!E113)","v":"√"},{"$f":"IF(Picks!F113=\"\",\"\",Picks!F113)","v":-3.8},{"$f":"IF(Picks!G113=\"\",\"\",Picks!G113)","v":39.628}]
[null,{"$f":"IF(Picks!B114=\"\",\"\",Picks!B114)","v":"Forest Green"},{"$f":"IF(Picks!C114=\"\",\"\",Picks!C114)","v":"1900-01-07"},{"$f":"IF(Picks!D114=\"\",\"\",Picks!D114)","v":2.15},{"$f":"IF(Picks!E114=\"\",\"\",Picks!E114)","v":"x"},{"$f":"IF(Picks!F114=\"\",\"\",Picks!F114)","v":""},{"$f":"IF(Picks!G114=\"\",\"\",Picks!G114)","v":""}]
[null,{"$f":"IF(Picks!B115=\"\",\"\",Picks!B115)","v":"Stevenage"},{"$f":"IF(Picks!C115=\"\",\"\",Picks!C115)","v":"1900-01-07"},{"$f":"IF(Picks!D115=\"\",\"\",Picks!D115)","v":2.6},{"$f":"IF(Picks!E115=\"\",\"\",Picks!E115)","v":"x"},{"$f":"IF(Picks!F115=\"\",\"\",Picks!F115)","v":""},{"$f":"IF(Picks!G115=\"\",\"\",Picks!G115)","v":""}]
[{"$f":"IF(Picks!A116=\"\",\"\",Picks!A116)","v":"Mark Saunders"},{"$f":"IF(Picks!B116=\"\",\"\",Picks!B116)","v":"Liverpool draw"},{"$f":"IF(Picks!C116=\"\",\"\",Picks!C116)","v":"1900-01-07"},{"$f":"IF(Picks!D116=\"\",\"\",Picks!D116)","v":3.3},{"$f":"IF(Picks!E116=\"\",\"\",Picks!E116)","v":"√"},{"$f":"IF(Picks!F116=\"\",\"\",Picks!F116)","v":4.8999999999999986},{"$f":"IF(Picks!G116=\"\",\"\",Picks!G116)","v":30.700000000000003}]
[null,{"$f":"IF(Picks!B117=\"\",\"\",Picks!B117)","v":"Villa"},{"$f":"IF(Picks!C117=\"\",\"\",Picks!C117)","v":"1900-01-07"},{"$f":"IF(Picks!D117=\"\",\"\",Picks!D117)","v":2},{"$f":"IF(Picks!E117=\"\",\"\",Picks!E117)","v":"x"},{"$f":"IF(Picks!F117=\"\",\"\",Picks!F117)","v":""},{"$f":"IF(Picks!G117=\"\",\"\",Picks!G117)","v":""}]
[null,{"$f":"IF(Picks!B118=\"\",\"\",Picks!B118)","v":"Fulham"},{"$f":"IF(Picks!C118=\"\",\"\",Picks!C118)","v":"1900-01-07"},{"$f":"IF(Picks!D118=\"\",\"\",Picks!D118)","v":2},{"$f":"IF(Picks!E118=\"\",\"\",Picks!E118)","v":"√"},{"$f":"IF(Picks!F118=\"\",\"\",Picks!F118)","v":""},{"$f":"IF(Picks!G118=\"\",\"\",Picks!G118)","v":""}]
[{"$f":"IF(Picks!A119=\"\",\"\",Picks!A119)","v":"Martin Molyneux"},{"$f":"IF(Picks!B119=\"\",\"\",Picks!B119)","v":"Spurs"},{"$f":"IF(Picks!C119=\"\",\"\",Picks!C119)","v":"1900-01-01"},{"$f":"IF(Picks!D119=\"\",\"\",Picks!D119)","v":1.4},{"$f":"IF(Picks!E119=\"\",\"\",Picks!E119)","v":"√"},{"$f":"IF(Picks!F119=\"\",\"\",Picks!F119)","v":15.219999999999999},{"$f":"IF(Picks!G119=\"\",\"\",Picks!G119)","v":15.219999999999999}]
[null,{"$f":"IF(Picks!B120=\"\",\"\",Picks!B120)","v":"Man C"},{"$f":"IF(Picks!C120=\"\",\"\",Picks!C120)","v":"1900-01-07"},{"$f":"IF(Picks!D120=\"\",\"\",Picks!D120)","v":1.25},{"$f":"IF(Picks!E120=\"\",\"\",Picks!E120)","v":"√"},{"$f":"IF(Picks!F120=\"\",\"\",Picks!F120)","v":""},{"$f":"IF(Picks!G120=\"\",\"\",Picks!G120)","v":""}]
[null,{"$f":"IF(Picks!B121=\"\",\"\",Picks!B121)","v":"Liverpool DRAW"},{"$f":"IF(Picks!C121=\"\",\"\",Picks!C121)","v":"1900-01-07"},{"$f":"IF(Picks!D121=\"\",\"\",Picks!D121)","v":3.3},{"$f":"IF(Picks!E121=\"\",\"\",Picks!E121)","v":"√"},{"$f":"IF(Picks!F121=\"\",\"\",Picks!F121)","v":""},{"$f":"IF(Picks!G121=\"\",\"\",Picks!G121)","v":""}]
[{"$f":"IF(Picks!A122=\"\",\"\",Picks!A122)","v":"Martin Tarbuck"},{"$f":"IF(Picks!B122=\"\",\"\",Picks!B122)","v":"Sheff U"},{"$f":"IF(Picks!C122=\"\",\"\",Picks!C122)","v":"1900-01-07"},{"$f":"IF(Picks!D122=\"\",\"\",Picks!D122)","v":2.375},{"$f":"IF(Picks!E122=\"\",\"\",Picks!E122)","v":"x"},{"$f":"IF(Picks!F122=\"\",\"\",Picks!F122)","v":-7},{"$f":"IF(Picks!G122=\"\",\"\",Picks!G122)","v":25.344999999999999}]
[null,{"$f":"IF(Picks!B123=\"\",\"\",Picks!B123)","v":"West Ham"},{"$f":"IF(Picks!C123=\"\",\"\",Picks!C123)","v":"1900-01-07"},{"$f":"IF(Picks!D123=\"\",\"\",Picks!D123)","v":1.6},{"$f":"IF(Picks!E123=\"\",\"\",Picks!E123)","v":"x"},{"$f":"IF(Picks!F123=\"\",\"\",Picks!F123)","v":""},{"$f":"IF(Picks!G123=\"\",\"\",Picks!G123)","v":""}]
[null,{"$f":"IF(Picks!B124=\"\",\"\",Picks!B124)","v":"Swansea"},{"$f":"IF(Picks!C124=\"\",\"\",Picks!C124)","v":"1900-01-07"},{"$f":"IF(Picks!D124=\"\",\"\",Picks!D124)","v":2.8},{"$f":"IF(Picks!E124=\"\",\"\",Picks!E124)","v":"x"},{"$f":"IF(Picks!F124=\"\",\"\",Picks!F124)","v":""},{"$f":"IF(Picks!G124=\"\",\"\",Picks!G124)","v":""}]
[{"$f":"IF(Picks!A125=\"\",\"\",Picks!A125)","v":"Mike Penk"},{"$f":"IF(Picks!B125=\"\",\"\",Picks!B125)","v":"Leeds"},{"$f":"IF(Picks!C125=\"\",\"\",Picks!C125)","v":"1900-01-01"},{"$f":"IF(Picks!D125=\"\",\"\",Picks!D125)","v":2.25},{"$f":"IF(Picks!E125=\"\",\"\",Picks!E125)","v":"x"},{"$f":"IF(Picks!F125=\"\",\"\",Picks!F125)","v":-7},{"$f":"IF(Picks!G125=\"\",\"\",Picks!G125)","v":42.634999999999998}]
[null,{"$f":"IF(Picks!B126=\"\",\"\",Picks!B126)","v":"Swansea"},{"$f":"IF(Picks!C126=\"\",\"\",Picks!C126)","v":"1900-01-07"},{"$f":"IF(Picks!D126=\"\",\"\",Picks!D126)","v":2.8},{"$f":"IF(Picks!E126=\"\",\"\",Picks!E126)","v":"x"},{"$f":"IF(Picks!F126=\"\",\"\",Picks!F126)","v":""},{"$f":"IF(Picks!G126=\"\",\"\",Picks!G126)","v":""}]
[null,{"$f":"IF(Picks!B127=\"\",\"\",Picks!B127)","v":"Wigan draw"},{"$f":"IF(Picks!C127=\"\",\"\",Picks!C127)","v":"1900-01-07"},{"$f":"IF(Picks!D127=\"\",\"\",Picks!D127)","v":3.1},{"$f":"IF(Picks!E127=\"\",\"\",Picks!E127)","v":"x"},{"$f":"IF(Picks!F127=\"\",\"\",Picks!F127)","v":""},{"$f":"IF(Picks!G127=\"\",\"\",Picks!G127)","v":""}]
[{"$f":"IF(Picks!A128=\"\",\"\",Picks!A128)","v":"Mo Sudell"},{"$f":"IF(Picks!B128=\"\",\"\",Picks!B128)","v":"Forest green"},{"$f":"IF(Picks!C128=\"\",\"\",Picks!C128)","v":"1900-01-07"},{"$f":"IF(Picks!D128=\"\",\"\",Picks!D128)","v":2.15},{"$f":"IF(Picks!E128=\"\",\"\",Picks!E128)","v":"x"},{"$f":"IF(Picks!F128=\"\",\"\",Picks!F128)","v":-4.4000000000000004},{"$f":"IF(Picks!G128=\"\",\"\",Picks!G128)","v":21.484000000000002}]
[null,{"$f":"IF(Picks!B129=\"\",\"\",Picks!B129)","v":"West Ham"},{"$f":"IF(Picks!C129=\"\",\"\",Picks!C129)","v":"1900-01-07"},{"$f":"IF(Picks!D129=\"\",\"\",Picks!D129)","v":1.6},{"$f":"IF(Picks!E129=\"\",\"\",Picks!E129)","v":"x"},{"$f":"IF(Picks!F129=\"\",\"\",Picks!F129)","v":""},{"$f":"IF(Picks!G129=\"\",\"\",Picks!G129)","v":""}]
[null,{"$f":"IF(Picks!B130=\"\",\"\",Picks!B130)","v":"Wigan"},{"$f":"IF(Picks!C130=\"\",\"\",Picks!C130)","v":"1900-01-07"},{"$f":"IF(Picks!D130=\"\",\"\",Picks!D130)","v":2.6},{"$f":"IF(Picks!E130=\"\",\"\",Picks!E130)","v":"√"},{"$f":"IF(Picks!F130=\"\",\"\",Picks!F130)","v":""},{"$f":"IF(Picks!G130=\"\",\"\",Picks!G130)","v":""}]
[{"$f":"IF(Picks!A131=\"\",\"\",Picks!A131)","v":"Nick Blocksidge"},{"$f":"IF(Picks!B131=\"\",\"\",Picks!B131)","v":"Burnley draw"},{"$f":"IF(Picks!C131=\"\",\"\",Picks!C131)","v":"1900-01-01"},{"$f":"IF(Picks!D131=\"\",\"\",Picks!D131)","v":3.5},{"$f":"IF(Picks!E131=\"\",\"\",Picks!E131)","v":"√"},{"$f":"IF(Picks!F131=\"\",\"\",Picks!F131)","v":22.24},{"$f":"IF(Picks!G131=\"\",\"\",Picks!G131)","v":22.24}]
[null,{"$f":"IF(Picks!B132=\"\",\"\",Picks!B132)","v":"Spurs"},{"$f":"IF(Picks!C132=\"\",\"\",Picks!C132)","v":"1900-01-01"},{"$f":"IF(Picks!D132=\"\",\"\",Picks!D132)","v":1.4},{"$f":"IF(Picks!E132=\"\",\"\",Picks!E132)","v":"√"},{"$f":"IF(Picks!F132=\"\",\"\",Picks!F132)","v":""},{"$f":"IF(Picks!G132=\"\",\"\",Picks!G132)","v":""}]
[null,{"$f":"IF(Picks!B133=\"\",\"\",Picks!B133)","v":"Man U"},{"$f":"IF(Picks!C133=\"\",\"\",Picks!C133)","v":"1900-01-01"},{"$f":"IF(Picks!D133=\"\",\"\",Picks!D133)","v":1.8},{"$f":"IF(Picks!E133=\"\",\"\",Picks!E133)","v":"√"},{"$f":"IF(Picks!F133=\"\",\"\",Picks!F133)","v":""},{"$f":"IF(Picks!G133=\"\",\"\",Picks!G133)","v":""}]
[{"$f":"IF(Picks!A134=\"\",\"\",Picks!A134)","v":"Nigel Heyes"},{"$f":"IF(Picks!B134=\"\",\"\",Picks!B134)","v":"Wigan"},{"$f":"IF(Picks!C134=\"\",\"\",Picks!C134)","v":"1900-01-07"},{"$f":"IF(Picks!D134=\"\",\"\",Picks!D134)","v":2.6},{"$f":"IF(Picks!E134=\"\",\"\",Picks!E134)","v":"√"},{"$f":"IF(Picks!F134=\"\",\"\",Picks!F134)","v":3.16},{"$f":"IF(Picks!G134=\"\",\"\",Picks!G134)","v":27.154000000000003}]
[null,{"$f":"IF(Picks!B135=\"\",\"\",Picks!B135)","v":"Oxford"},{"$f":"IF(Picks!C135=\"\",\"\",Picks!C135)","v":"1900-01-07"},{"$f":"IF(Picks!D135=\"\",\"\",Picks!D135)","v":2.1},{"$f":"IF(Picks!E135=\"\",\"\",Picks!E135)","v":"√"},{"$f":"IF(Picks!F135=\"\",\"\",Picks!F135)","v":""},{"$f":"IF(Picks!G135=\"\",\"\",Picks!G135)","v":""}]
[null,{"$f":"IF(Picks!B136=\"\",\"\",Picks!B136)","v":"Forest Green"},{"$f":"IF(Picks!C136=\"\",\"\",Picks!C136)","v":"1900-01-07"},{"$f":"IF(Picks!D136=\"\",\"\",Picks!D136)","v":2.15},{"$f":"IF(Picks!E136=\"\",\"\",Picks!E136)","v":"x"},{"$f":"IF(Picks!F136=\"\",\"\",Picks!F136)","v":""},{"$f":"IF(Picks!G136=\"\",\"\",Picks!G136)","v":""}]
[{"$f":"IF(Picks!A137=\"\",\"\",Picks!A137)","v":"Oscar Jackson"},{"$f":"IF(Picks!B137=\"\",\"\",Picks!B137)","v":"Plymouth"},{"$f":"IF(Picks!C137=\"\",\"\",Picks!C137)","v":"1900-01-07"},{"$f":"IF(Picks!D137=\"\",\"\",Picks!D137)","v":2.4500000000000002},{"$f":"IF(Picks!E137=\"\",\"\",Picks!E137)","v":"x"},{"$f":"IF(Picks!F137=\"\",\"\",Picks!F137)","v":-7},{"$f":"IF(Picks!G137=\"\",\"\",Picks!G137)","v":25.689250000000001}]
[null,{"$f":"IF(Picks!B138=\"\",\"\",Picks!B138)","v":"Forest Green"},{"$f":"IF(Picks!C138=\"\",\"\",Picks!C138)","v":"1900-01-07"},{"$f":"IF(Picks!D138=\"\",\"\",Picks!D138)","v":2.15},{"$f":"IF(Picks!E138=\"\",\"\",Picks!E138)","v":"x"},{"$f":"IF(Picks!F138=\"\",\"\",Picks!F138)","v":""},{"$f":"IF(Picks!G138=\"\",\"\",Picks!G138)","v":""}]
[null,{"$f":"IF(Picks!B139=\"\",\"\",Picks!B139)","v":"Sutton"},{"$f":"IF(Picks!C139=\"\",\"\",Picks!C139)","v":"1900-01-07"},{"$f":"IF(Picks!D139=\"\",\"\",Picks!D139)","v":2.1},{"$f":"IF(Picks!E139=\"\",\"\",Picks!E139)","v":"x"},{"$f":"IF(Picks!F139=\"\",\"\",Picks!F139)","v":""},{"$f":"IF(Picks!G139=\"\",\"\",Picks!G139)","v":""}]
[{"$f":"IF(Picks!A140=\"\",\"\",Picks!A140)","v":"Paul Adderley"},{"$f":"IF(Picks!B140=\"\",\"\",Picks!B140)","v":"Fulham"},{"$f":"IF(Picks!C140=\"\",\"\",Picks!C140)","v":"1900-01-07"},{"$f":"IF(Picks!D140=\"\",\"\",Picks!D140)","v":2},{"$f":"IF(Picks!E140=\"\",\"\",Picks!E140)","v":"√"},{"$f":"IF(Picks!F140=\"\",\"\",Picks!F140)","v":1.4499999999999993},{"$f":"IF(Picks!G140=\"\",\"\",Picks!G140)","v":22.240000000000002}]
[null,{"$f":"IF(Picks!B141=\"\",\"\",Picks!B141)","v":"Middlesbro"},{"$f":"IF(Picks!C141=\"\",\"\",Picks!C141)","v":"1900-01-07"},{"$f":"IF(Picks!D141=\"\",\"\",Picks!D141)","v":2.2000000000000002},{"$f":"IF(Picks!E141=\"\",\"\",Picks!E141)","v":"x"},{"$f":"IF(Picks!F141=\"\",\"\",Picks!F141)","v":""},{"$f":"IF(Picks!G141=\"\",\"\",Picks!G141)","v":""}]
[null,{"$f":"IF(Picks!B142=\"\",\"\",Picks!B142)","v":"QPR"},{"$f":"IF(Picks!C142=\"\",\"\",Picks!C142)","v":"1900-01-07"},{"$f":"IF(Picks!D142=\"\",\"\",Picks!D142)","v":2.15},{"$f":"IF(Picks!E142=\"\",\"\",Picks!E142)","v":"√"},{"$f":"IF(Picks!F142=\"\",\"\",Picks!F142)","v":""},{"$f":"IF(Picks!G142=\"\",\"\",Picks!G142)","v":""}]
[{"$f":"IF(Picks!A143=\"\",\"\",Picks!A143)","v":"Paul Allen"},{"$f":"IF(Picks!B143=\"\",\"\",Picks!B143)","v":"Accrington"},{"$f":"IF(Picks!C143=\"\",\"\",Picks!C143)","v":"1900-01-07"},{"$f":"IF(Picks!D143=\"\",\"\",Picks!D143)","v":3.4},{"$f":"IF(Picks!E143=\"\",\"\",Picks!E143)","v":"x"},{"$f":"IF(Picks!F143=\"\",\"\",Picks!F143)","v":-7},{"$f":"IF(Picks!G143=\"\",\"\",Picks!G143)","v":84.927999999999997}]
[null,{"$f":"IF(Picks!B144=\"\",\"\",Picks!B144)","v":"Lincoln"},{"$f":"IF(Picks!C144=\"\",\"\",Picks!C144)","v":"1900-01-07"},{"$f":"IF(Picks!D144=\"\",\"\",Picks!D144)","v":3.4},{"$f":"IF(Picks!E144=\"\",\"\",Picks!E144)","v":"x"},{"$f":"IF(Picks!F144=\"\",\"\",Picks!F144)","v":""},{"$f":"IF(Picks!G144=\"\",\"\",Picks!G144)","v":""}]
[null,{"$f":"IF(Picks!B145=\"\",\"\",Picks!B145)","v":"Wycombe"},{"$f":"IF(Picks!C145=\"\",\"\",Picks!C145)","v":"1900-01-07"},{"$f":"IF(Picks!D145=\"\",\"\",Picks!D145)","v":3.8},{"$f":"IF(Picks!E145=\"\",\"\",Picks!E145)","v":"x"},{"$f":"IF(Picks!F145=\"\",\"\",Picks!F145)","v":""},{"$f":"IF(Picks!G145=\"\",\"\",Picks!G145)","v":""}]
[{"$f":"IF(Picks!A146=\"\",\"\",Picks!A146)","v":"Paul Barnes"},{"$f":"IF(Picks!B146=\"\",\"\",Picks!B146)","v":"Liverpool draw"},{"$f":"IF(Picks!C146=\"\",\"\",Picks!C146)","v":"1900-01-07"},{"$f":"IF(Picks!D146=\"\",\"\",Picks!D146)","v":3.3},{"$f":"IF(Picks!E146=\"\",\"\",Picks!E146)","v":"√"},{"$f":"IF(Picks!F146=\"\",\"\",Picks!F146)","v":4.8999999999999986},{"$f":"IF(Picks!G146=\"\",\"\",Picks!G146)","v":79.72}]
[null,{"$f":"IF(Picks!B147=\"\",\"\",Picks!B147)","v":"Man C draw"},{"$f":"IF(Picks!C147=\"\",\"\",Picks!C147)","v":"1900-01-07"},{"$f":"IF(Picks!D147=\"\",\"\",Picks!D147)","v":5.8},{"$f":"IF(Picks!E147=\"\",\"\",Picks!E147)","v":"x"},{"$f":"IF(Picks!F147=\"\",\"\",Picks!F147)","v":""},{"$f":"IF(Picks!G147=\"\",\"\",Picks!G147)","v":""}]
[null,{"$f":"IF(Picks!B148=\"\",\"\",Picks!B148)","v":"Fulham"},{"$f":"IF(Picks!C148=\"\",\"\",Picks!C148)","v":"1900-01-07"},{"$f":"IF(Picks!D148=\"\",\"\",Picks!D148)","v":2},{"$f":"IF(Picks!E148=\"\",\"\",Picks!E148)","v":"√"},{"$f":"IF(Picks!F148=\"\",\"\",Picks!F148)","v":""},{"$f":"IF(Picks!G148=\"\",\"\",Picks!G148)","v":""}]
[{"$f":"IF(Picks!A149=\"\",\"\",Picks!A149)","v":"Paul Fairhurst"},{"$f":"IF(Picks!B149=\"\",\"\",Picks!B149)","v":"Rotherham draw"},{"$f":"IF(Picks!C149=\"\",\"\",Picks!C149)","v":"1900-01-07"},{"$f":"IF(Picks!D149=\"\",\"\",Picks!D149)","v":3.75},{"$f":"IF(Picks!E149=\"\",\"\",Picks!E149)","v":"x"},{"$f":"IF(Picks!F149=\"\",\"\",Picks!F149)","v":-7},{"$f":"IF(Picks!G149=\"\",\"\",Picks!G149)","v":181.52500000000001}]
[null,{"$f":"IF(Picks!B150=\"\",\"\",Picks!B150)","v":"Hartlepool draw"},{"$f":"IF(Picks!C150=\"\",\"\",Picks!C150)","v":"1900-01-07"},{"$f":"IF(Picks!D150=\"\",\"\",Picks!D150)","v":3.2},{"$f":"IF(Picks!E150=\"\",\"\",Picks!E150)","v":"x"},{"$f":"IF(Picks!F150=\"\",\"\",Picks!F150)","v":""},{"$f":"IF(Picks!G150=\"\",\"\",Picks!G150)","v":""}]
[null,{"$f":"IF(Picks!B151=\"\",\"\",Picks!B151)","v":"Watford"},{"$f":"IF(Picks!C151=\"\",\"\",Picks!C151)","v":"1900-01-01"},{"$f":"IF(Picks!D151=\"\",\"\",Picks!D151)","v":8.5},{"$f":"IF(Picks!E151=\"\",\"\",Picks!E151)","v":"x"},{"$f":"IF(Picks!F151=\"\",\"\",Picks!F151)","v":""},{"$f":"IF(Picks!G151=\"\",\"\",Picks!G151)","v":""}]
[{"$f":"IF(Picks!A152=\"\",\"\",Picks!A152)","v":"Paul Fiddler"},{"$f":"IF(Picks!B152=\"\",\"\",Picks!B152)","v":"Bolton"},{"$f":"IF(Picks!C152=\"\",\"\",Picks!C152)","v":"1900-01-07"},{"$f":"IF(Picks!D152=\"\",\"\",Picks!D152)","v":2.2999999999999998},{"$f":"IF(Picks!E152=\"\",\"\",Picks!E152)","v":"x"},{"$f":"IF(Picks!F152=\"\",\"\",Picks!F152)","v":-5.15},{"$f":"IF(Picks!G152=\"\",\"\",Picks!G152)","v":19.36}]
[null,{"$f":"IF(Picks!B153=\"\",\"\",Picks!B153)","v":"Charlton"},{"$f":"IF(Picks!C153=\"\",\"\",Picks!C153)","v":"1900-01-07"},{"$f":"IF(Picks!D153=\"\",\"\",Picks!D153)","v":1.85},{"$f":"IF(Picks!E153=\"\",\"\",Picks!E153)","v":"√"},{"$f":"IF(Picks!F153=\"\",\"\",Picks!F153)","v":""},{"$f":"IF(Picks!G153=\"\",\"\",Picks!G153)","v":""}]
[null,{"$f":"IF(Picks!B154=\"\",\"\",Picks!B154)","v":"Sheff W"},{"$f":"IF(Picks!C154=\"\",\"\",Picks!C154)","v":"1900-01-07"},{"$f":"IF(Picks!D154=\"\",\"\",Picks!D154)","v":1.9090909090909092},{"$f":"IF(Picks!E154=\"\",\"\",Picks!E154)","v":"x"},{"$f":"IF(Picks!F154=\"\",\"\",Picks!F154)","v":""},{"$f":"IF(Picks!G154=\"\",\"\",Picks!G154)","v":""}]
[{"$f":"IF(Picks!A155=\"\",\"\",Picks!A155)","v":"Pete Baron"},{"$f":"IF(Picks!B155=\"\",\"\",Picks!B155)","v":"Brighton draw"},{"$f":"IF(Picks!C155=\"\",\"\",Picks!C155)","v":"1900-01-07"},{"$f":"IF(Picks!D155=\"\",\"\",Picks!D155)","v":3.2},{"$f":"IF(Picks!E155=\"\",\"\",Picks!E155)","v":"x"},{"$f":"IF(Picks!F155=\"\",\"\",Picks!F155)","v":9.1999999999999993},{"$f":"IF(Picks!G155=\"\",\"\",Picks!G155)","v":64.239999999999995}]
[null,{"$f":"IF(Picks!B156=\"\",\"\",Picks!B156)","v":"Liverpool draw"},{"$f":"IF(Picks!C156=\"\",\"\",Picks!C156)","v":"1900-01-07"},{"$f":"IF(Picks!D156=\"\",\"\",Picks!D156)","v":3.3},{"$f":"IF(Picks!E156=\"\",\"\",Picks!E156)","v":"√"},{"$f":"IF(Picks!F156=\"\",\"\",Picks!F156)","v":""},{"$f":"IF(Picks!G156=\"\",\"\",Picks!G156)","v":""}]
[null,{"$f":"IF(Picks!B157=\"\",\"\",Picks!B157)","v":"Derby draw"},{"$f":"IF(Picks!C157=\"\",\"\",Picks!C157)","v":"1900-01-07"},{"$f":"IF(Picks!D157=\"\",\"\",Picks!D157)","v":3},{"$f":"IF(Picks!E157=\"\",\"\",Picks!E157)","v":"√"},{"$f":"IF(Picks!F157=\"\",\"\",Picks!F157)","v":""},{"$f":"IF(Picks!G157=\"\",\"\",Picks!G157)","v":""}]
[{"$f":"IF(Picks!A158=\"\",\"\",Picks!A158)","v":"Phil Miller"},{"$f":"IF(Picks!B158=\"\",\"\",Picks!B158)","v":"Everton"},{"$f":"IF(Picks!C158=\"\",\"\",Picks!C158)","v":"1900-01-07"},{"$f":"IF(Picks!D158=\"\",\"\",Picks!D158)","v":3.2},{"$f":"IF(Picks!E158=\"\",\"\",Picks!E158)","v":"√"},{"$f":"IF(Picks!F158=\"\",\"\",Picks!F158)","v":37.81818181818182},{"$f":"IF(Picks!G158=\"\",\"\",Picks!G158)","v":37.81818181818182}]
[null,{"$f":"IF(Picks!B159=\"\",\"\",Picks!B159)","v":"Leicester"},{"$f":"IF(Picks!C159=\"\",\"\",Picks!C159)","v":"1900-01-07"},{"$f":"IF(Picks!D159=\"\",\"\",Picks!D159)","v":1.7272727272727273},{"$f":"IF(Picks!E159=\"\",\"\",Picks!E159)","v":"√"},{"$f":"IF(Picks!F159=\"\",\"\",Picks!F159)","v":""},{"$f":"IF(Picks!G159=\"\",\"\",Picks!G159)","v":""}]
[null,{"$f":"IF(Picks!B160=\"\",\"\",Picks!B160)","v":"Derby draw"},{"$f":"IF(Picks!C160=\"\",\"\",Picks!C160)","v":"1900-01-07"},{"$f":"IF(Picks!D160=\"\",\"\",Picks!D160)","v":3},{"$f":"IF(Picks!E160=\"\",\"\",Picks!E160)","v":"√"},{"$f":"IF(Picks!F160=\"\",\"\",Picks!F160)","v":""},{"$f":"IF(Picks!G160=\"\",\"\",Picks!G160)","v":""}]
[{"$f":"IF(Picks!A161=\"\",\"\",Picks!A161)","v":"Rob England"},{"$f":"IF(Picks!B161=\"\",\"\",Picks!B161)","v":"Rotherham"},{"$f":"IF(Picks!C161=\"\",\"\",Picks!C161)","v":"1900-01-07"},{"$f":"IF(Picks!D161=\"\",\"\",Picks!D161)","v":1.65},{"$f":"IF(Picks!E161=\"\",\"\",Picks!E161)","v":"√"},{"$f":"IF(Picks!F161=\"\",\"\",Picks!F161)","v":-0.44749999999999979},{"$f":"IF(Picks!G161=\"\",\"\",Picks!G161)","v":22.965249999999997}]
[null,{"$f":"IF(Picks!B162=\"\",\"\",Picks!B162)","v":"West Brom"},{"$f":"IF(Picks!C162=\"\",\"\",Picks!C162)","v":"1900-01-07"},{"$f":"IF(Picks!D162=\"\",\"\",Picks!D162)","v":1.85},{"$f":"IF(Picks!E162=\"\",\"\",Picks!E162)","v":"√"},{"$f":"IF(Picks!F162=\"\",\"\",Picks!F162)","v":""},{"$f":"IF(Picks!G162=\"\",\"\",Picks!G162)","v":""}]
[null,{"$f":"IF(Picks!B163=\"\",\"\",Picks!B163)","v":"Bradford"},{"$f":"IF(Picks!C163=\"\",\"\",Picks!C163)","v":"1900-01-07"},{"$f":"IF(Picks!D163=\"\",\"\",Picks!D163)","v":3.1},{"$f":"IF(Picks!E163=\"\",\"\",Picks!E163)","v":"x"},{"$f":"IF(Picks!F163=\"\",\"\",Picks!F163)","v":""},{"$f":"IF(Picks!G163=\"\",\"\",Picks!G163)","v":""}]
[{"$f":"IF(Picks!A164=\"\",\"\",Picks!A164)","v":"Sally Williams"},{"$f":"IF(Picks!B164=\"\",\"\",Picks!B164)","v":"Derby draw"},{"$f":"IF(Picks!C164=\"\",\"\",Picks!C164)","v":"1900-01-07"},{"$f":"IF(Picks!D164=\"\",\"\",Picks!D164)","v":3},{"$f":"IF(Picks!E164=\"\",\"\",Picks!E164)","v":"√"},{"$f":"IF(Picks!F164=\"\",\"\",Picks!F164)","v":8.8000000000000007},{"$f":"IF(Picks!G164=\"\",\"\",Picks!G164)","v":62.56}]
[null,{"$f":"IF(Picks!B165=\"\",\"\",Picks!B165)","v":"Fulham draw"},{"$f":"IF(Picks!C165=\"\",\"\",Picks!C165)","v":"1900-01-07"},{"$f":"IF(Picks!D165=\"\",\"\",Picks!D165)","v":3.2},{"$f":"IF(Picks!E165=\"\",\"\",Picks!E165)","v":"x"},{"$f":"IF(Picks!F165=\"\",\"\",Picks!F165)","v":""},{"$f":"IF(Picks!G165=\"\",\"\",Picks!G165)","v":""}]
[null,{"$f":"IF(Picks!B166=\"\",\"\",Picks!B166)","v":"Middlesbro draw"},{"$f":"IF(Picks!C166=\"\",\"\",Picks!C166)","v":"1900-01-07"},{"$f":"IF(Picks!D166=\"\",\"\",Picks!D166)","v":3.2},{"$f":"IF(Picks!E166=\"\",\"\",Picks!E166)","v":"√"},{"$f":"IF(Picks!F166=\"\",\"\",Picks!F166)","v":""},{"$f":"IF(Picks!G166=\"\",\"\",Picks!G166)","v":""}]
[{"$f":"IF(Picks!A167=\"\",\"\",Picks!A167)","v":"Simon Greenhalgh"},{"$f":"IF(Picks!B167=\"\",\"\",Picks!B167)","v":"Villa"},{"$f":"IF(Picks!C167=\"\",\"\",Picks!C167)","v":"1900-01-07"},{"$f":"IF(Picks!D167=\"\",\"\",Picks!D167)","v":2},{"$f":"IF(Picks!E167=\"\",\"\",Picks!E167)","v":"x"},{"$f":"IF(Picks!F167=\"\",\"\",Picks!F167)","v":-5},{"$f":"IF(Picks!G167=\"\",\"\",Picks!G167)","v":29.799999999999997}]
[null,{"$f":"IF(Picks!B168=\"\",\"\",Picks!B168)","v":"Fulham"},{"$f":"IF(Picks!C168=\"\",\"\",Picks!C168)","v":"1900-01-07"},{"$f":"IF(Picks!D168=\"\",\"\",Picks!D168)","v":2},{"$f":"IF(Picks!E168=\"\",\"\",Picks!E168)","v":"√"},{"$f":"IF(Picks!F168=\"\",\"\",Picks!F168)","v":""},{"$f":"IF(Picks!G168=\"\",\"\",Picks!G168)","v":""}]
[null,{"$f":"IF(Picks!B169=\"\",\"\",Picks!B169)","v":"Luton"},{"$f":"IF(Picks!C169=\"\",\"\",Picks!C169)","v":"1900-01-07"},{"$f":"IF(Picks!D169=\"\",\"\",Picks!D169)","v":3.2},{"$f":"IF(Picks!E169=\"\",\"\",Picks!E169)","v":"x"},{"$f":"IF(Picks!F169=\"\",\"\",Picks!F169)","v":""},{"$f":"IF(Picks!G169=\"\",\"\",Picks!G169)","v":""}]
[{"$f":"IF(Picks!A170=\"\",\"\",Picks!A170)","v":"Stephen Barr"},{"$f":"IF(Picks!B170=\"\",\"\",Picks!B170)","v":"Villa"},{"$f":"IF(Picks!C170=\"\",\"\",Picks!C170)","v":"1900-01-07"},{"$f":"IF(Picks!D170=\"\",\"\",Picks!D170)","v":2},{"$f":"IF(Picks!E170=\"\",\"\",Picks!E170)","v":"x"},{"$f":"IF(Picks!F170=\"\",\"\",Picks!F170)","v":4},{"$f":"IF(Picks!G170=\"\",\"\",Picks!G170)","v":28}]
[null,{"$f":"IF(Picks!B171=\"\",\"\",Picks!B171)","v":"Fulham"},{"$f":"IF(Picks!C171=\"\",\"\",Picks!C171)","v":"1900-01-07"},{"$f":"IF(Picks!D171=\"\",\"\",Picks!D171)","v":2},{"$f":"IF(Picks!E171=\"\",\"\",Picks!E171)","v":"√"},{"$f":"IF(Picks!F171=\"\",\"\",Picks!F171)","v":""},{"$f":"IF(Picks!G171=\"\",\"\",Picks!G171)","v":""}]
[null,{"$f":"IF(Picks!B172=\"\",\"\",Picks!B172)","v":"Derby draw"},{"$f":"IF(Picks!C172=\"\",\"\",Picks!C172)","v":"1900-01-07"},{"$f":"IF(Picks!D172=\"\",\"\",Picks!D172)","v":3},{"$f":"IF(Picks!E172=\"\",\"\",Picks!E172)","v":"√"},{"$f":"IF(Picks!F172=\"\",\"\",Picks!F172)","v":""},{"$f":"IF(Picks!G172=\"\",\"\",Picks!G172)","v":""}]
[{"$f":"IF(Picks!A173=\"\",\"\",Picks!A173)","v":"Stephen Troop"},{"$f":"IF(Picks!B173=\"\",\"\",Picks!B173)","v":"Millwall"},{"$f":"IF(Picks!C173=\"\",\"\",Picks!C173)","v":"1900-01-07"},{"$f":"IF(Picks!D173=\"\",\"\",Picks!D173)","v":1.9090909090909092},{"$f":"IF(Picks!E173=\"\",\"\",Picks!E173)","v":"√"},{"$f":"IF(Picks!F173=\"\",\"\",Picks!F173)","v":12.945454545454545},{"$f":"IF(Picks!G173=\"\",\"\",Picks!G173)","v":12.945454545454545}]
[null,{"$f":"IF(Picks!B174=\"\",\"\",Picks!B174)","v":"Sunderland"},{"$f":"IF(Picks!C174=\"\",\"\",Picks!C174)","v":"1900-01-07"},{"$f":"IF(Picks!D174=\"\",\"\",Picks!D174)","v":2},{"$f":"IF(Picks!E174=\"\",\"\",Picks!E174)","v":"√"},{"$f":"IF(Picks!F174=\"\",\"\",Picks!F174)","v":""},{"$f":"IF(Picks!G174=\"\",\"\",Picks!G174)","v":""}]
[null,{"$f":"IF(Picks!B175=\"\",\"\",Picks!B175)","v":"Spurs"},{"$f":"IF(Picks!C175=\"\",\"\",Picks!C175)","v":"1900-01-01"},{"$f":"IF(Picks!D175=\"\",\"\",Picks!D175)","v":1.4},{"$f":"IF(Picks!E175=\"\",\"\",Picks!E175)","v":"√"},{"$f":"IF(Picks!F175=\"\",\"\",Picks!F175)","v":""},{"$f":"IF(Picks!G175=\"\",\"\",Picks!G175)","v":""}]

{"sheet":"Diary","index":7,"n_rows":24,"n_cols":11,"rows_kept":24,"cut":false,"hidden":false,"merged":[[2,1,2,5]]}
[38,2021,"Autumn"]
[]
[null,{"$f":"CONCATENATE(\"Season PL\",$A$1,\" (\",$C$1,\" \",$B$1,\")\")","v":"Season PL38 (Autumn 2021)"},null,null,null,null,null,null,"Weekly actions"]
[null,"Midweek\\\nWeekend of…","3in! PL\nRound No.","Double/Midweek Fixtures?","Qualifying\nFixtures","PL Cup\nRound",null,null,"Scrape Odds","Issue Odds","Issue Results"]
[null,"2021-08-14",1,null,null,null,null,"FAC\\FL1\\FL2",{"$f":"IF($B5=\"\",\"\",$B5-5)","v":"2021-08-09"},{"$f":"IF($B5=\"\",\"\",$B5-3)","v":"2021-08-11"},{"$f":"IF($B5=\"\",\"\",$B5+2)","v":"2021-08-16"}]
[null,"2021-08-21",2,null,null,"Preliminary",null,"Prm\\Chp\\FL1\\FL2",{"$f":"IF($B6=\"\",\"\",$B6-5)","v":"2021-08-16"},{"$f":"IF($B6=\"\",\"\",$B6-3)","v":"2021-08-18"},{"$f":"IF($B6=\"\",\"\",$B6+2)","v":"2021-08-23"}]
[null,"2021-08-28",3,null,null,"Preliminary Rep",null,"INT\\FL1\\FL2\\NL","2021-08-23","2021-08-25","2021-08-30"]
[null,"2021-09-04",4,null,null,null,null,"Prm\\Chp\\FAC","2021-08-30","2021-09-01","2021-09-06"]
[null,"2021-09-11",5,null,null,"Round 1 ",null,null,"2021-09-06","2021-09-08","2021-09-13"]
[null,"2021-09-18",6,null,null,"Round 1 Rep",null,null,"2021-09-13","2021-09-15","2021-09-20"]
[null,"2021-09-25",7,null,null,null,null,null,"2021-09-20","2021-09-22","2021-09-27"]
[null,"2021-10-02","8",null,null,"Round 2",null,null,"2021-09-27","2021-09-29","2021-10-04"]
[null,"2021-10-09","9",null,null,"Round 2 Rep",null,null,"2021-10-04","2021-10-06","2021-10-11"]
[null,"2021-10-16","10",null,null,null,null,null,"2021-10-11","2021-10-13","2021-10-18"]
[null,"2021-10-23","11",null,null,"Round 3 ",null,null,"2021-10-18","2021-10-20","2021-10-25"]
[null,"2021-10-30","12",null,null,"Round 3 Rep",null,null,"2021-10-25","2021-10-27","2021-11-01"]
[null,"2021-11-06","13",null,null,null,null,null,"2021-11-01","2021-11-03","2021-11-08"]
[null,"2021-11-13","14",null,null,"Quarter-Final ",null,null,"2021-11-08","2021-11-10","2021-11-15"]
[null,"2021-11-20","15",null,null,"Quarter-Final Rep",null,null,"2021-11-15","2021-11-17","2021-11-22"]
[null,"2021-11-27","16",null,null,"Semi-Final",null,null,"2021-11-22","2021-11-24","2021-11-29"]
[null,"2021-12-04","17",null,null,"Semi-Final Rep",null,null,"2021-11-29","2021-12-01","2021-12-06"]
[null,"2021-12-11","18",null,null,"Final",null,null,"2021-12-06","2021-12-08","2021-12-13"]
[null,"2021-12-18","19",null,null,"Final Rep",null,null,"2021-12-13","2021-12-15","2021-12-20"]
[null,"2021-12-25",20,null,null,null,null,null,"2021-12-20","2021-12-22","2021-12-27"]

{"sheet":"Match","index":8,"n_rows":139,"n_cols":29,"rows_kept":139,"cut":false,"hidden":false,"merged":[]}
["Ref","Date","Sequence","Comp","Home","Away","Home\nscore","Away\nscore","H1","H2","D1","D2","A1","A2","On/Off","Off?","Home Trim","Away Trim","HS Trim ","AS Trim","Match Odds","Results","Odds","Home odds","Draw Odds","Away Odds","Home Dec","Draw Dec","Away Dec"]
[1,"2021-08-27",12,"League 1","Burton","Cheltenham",1,1,1,1,5,2,27,10,false,{"$f":"IF(B2=\"\",\"\",IF(O2=FALSE,\"\",\"OFF\"))","v":""},{"$f":"TRIM(E2)","v":"Burton"},{"$f":"TRIM(F2)","v":"Cheltenham"},{"$f":"TRIM(G2)","v":"1"},{"$f":"TRIM(H2)","v":"1"},{"$f":"IF(B2=\"\",\"\",Q2&\"  v  \"&R2&\"   \"&W2)","v":"Burton  v  Cheltenham   1/1  5/2  27/10"},{"$f":"Q2&\" \"&S2&\"-\"&T2&\" \"&R2&\" \"&P2","v":"Burton 1-1 Cheltenham "},{"$f":"X2&\"  \"&Y2&\"  \"&Z2","v":"1/1  5/2  27/10"},{"$f":"CONCATENATE(I2,\"/\",J2)","v":"1/1"},{"$f":"CONCATENATE(K2,\"/\",L2)","v":"5/2"},{"$f":"CONCATENATE(M2,\"/\",N2)","v":"27/10"},{"$f":"IF(B2=\"\",\"\",1+(I2/J2))","v":2},{"$f":"IF(D2=\"\",\"\",1+(K2/L2))","v":3.5},{"$f":"IF(E2=\"\",\"\",1+(M2/N2))","v":3.7}]
[2,"2021-08-27",13,"League 2","Rochdale","Colchester",1,1,11,8,11,5,21,10,false,{"$f":"IF(B3=\"\",\"\",IF(O3=FALSE,\"\",\"OFF\"))","v":""},"Rochdale","Colchester","1","1","Rochdale  v  Colchester   11/8  11/5  21/10",{"$f":"Q3&\" \"&S3&\"-\"&T3&\" \"&R3&\" \"&P3","v":"Rochdale 1-1 Colchester "},{"$f":"X3&\"  \"&Y3&\"  \"&Z3","v":"11/8  11/5  21/10"},"11/8","11/5","21/10",{"$f":"IF(B3=\"\",\"\",1+(I3/J3))","v":2.375},{"$f":"IF(D3=\"\",\"\",1+(K3/L3))","v":3.2},{"$f":"IF(E3=\"\",\"\",1+(M3/N3))","v":3.1}]
[3,"2021-08-28",10,"Premier","Brighton","Everton",0,2,11,8,11,5,11,5,false,"","Brighton","Everton","0","2","Brighton  v  Everton   11/8  11/5  11/5","Brighton 0-2 Everton ","11/8  11/5  11/5","11/8","11/5","11/5",2.375,3.2,3.2]
[4,"2021-08-28",10,"Premier","Liverpool","Chelsea",1,1,8,5,23,10,7,4,false,"","Liverpool","Chelsea","1","1","Liverpool  v  Chelsea   8/5  23/10  7/4","Liverpool 1-1 Chelsea ","8/5  23/10  7/4","8/5","23/10","7/4",2.6,3.3,2.75]
[5,"2021-08-28",10,"Premier","Man C","Arsenal",5,0,1,4,24,5,11,1,false,"","Man C","Arsenal","5","0","Man C  v  Arsenal   1/4  24/5  11/1","Man C 5-0 Arsenal ","1/4  24/5  11/1","1/4","24/5","11/1",1.25,5.8,12]
[6,"2021-08-28",10,"Premier","Newcastle","Southampton",2,2,13,8,5,2,13,8,false,"",{"$f":"TRIM(E7)","v":"Newcastle"},"Southampton","2","2","Newcastle  v  Southampton   13/8  5/2  13/8","Newcastle 2-2 Southampton ","13/8  5/2  13/8","13/8","5/2","13/8",2.625,3.5,2.625]
[7,"2021-08-28",10,"Premier","Norwich","Leicester",1,2,4,1,27,10,8,11,false,"","Norwich","Leicester","1","2","Norwich  v  Leicester   4/1  27/10  8/11","Norwich 1-2 Leicester ","4/1  27/10  8/11","4/1","27/10","8/11",5,3.7,1.7272727272727273]
[8,"2021-08-28",10,"Premier","Villa","Brentford",1,1,1,1,13,5,27,10,false,"","Villa","Brentford","1","1","Villa  v  Brentford   1/1  13/5  27/10","Villa 1-1 Brentford ","1/1  13/5  27/10","1/1","13/5","27/10",2,3.6,3.7]
[9,"2021-08-28",10,"Premier","West Ham","Palace",2,2,6,10,29,10,24,5,false,"","West Ham","Palace","2","2","West Ham  v  Palace   6/10  29/10  24/5","West Ham 2-2 Palace ","6/10  29/10  24/5","6/10","29/10","24/5",1.6,3.9,5.8]
[10,"2021-08-28",11,"Champ","Barnsley","Birmingham",1,1,23,20,21,10,27,10,false,"","Barnsley","Birmingham","1","1","Barnsley  v  Birmingham   23/20  21/10  27/10","Barnsley 1-1 Birmingham ","23/20  21/10  27/10","23/20","21/10","27/10",2.15,3.1,3.7]
[11,"2021-08-28",11,"Champ","Cardiff","Bristol C",1,2,19,20,23,10,16,5,false,"","Cardiff","Bristol C","1","2","Cardiff  v  Bristol C   19/20  23/10  16/5","Cardiff 1-2 Bristol C ","19/20  23/10  16/5","19/20","23/10","16/5",1.95,3.3,4.2]
[12,"2021-08-28",11,"Champ","Derby","Forest",1,1,7,4,2,1,7,4,false,"","Derby","Forest","1","1","Derby  v  Forest   7/4  2/1  7/4","Derby 1-1 Forest ","7/4  2/1  7/4","7/4","2/1","7/4",2.75,3,2.75]
[13,"2021-08-28",11,"Champ","Fulham","Stoke",3,0,1,1,11,5,3,1,false,"","Fulham","Stoke","3","0","Fulham  v  Stoke   1/1  11/5  3/1","Fulham 3-0 Stoke ","1/1  11/5  3/1","1/1","11/5","3/1",2,3.2,4]
[14,"2021-08-28",11,"Champ","Huddersfield","Reading",4,0,13,8,12,5,2,1,false,"","Huddersfield","Reading","4","0","Huddersfield  v  Reading   13/8  12/5  2/1","Huddersfield 4-0 Reading ","13/8  12/5  2/1","13/8","12/5","2/1",2.625,3.4,3]
[15,"2021-08-28",11,"Champ","Hull","Bournemouth",0,0,9,4,11,5,13,10,false,"","Hull","Bournemouth","0","0","Hull  v  Bournemouth   9/4  11/5  13/10","Hull 0-0 Bournemouth ","9/4  11/5  13/10","9/4","11/5","13/10",3.25,3.2,2.2999999999999998]
[16,"2021-08-28",11,"Champ","Luton","Sheff U",0,0,11,5,21,10,11,8,false,"","Luton","Sheff U","0","0","Luton  v  Sheff U   11/5  21/10  11/8","Luton 0-0 Sheff U ","11/5  21/10  11/8","11/5","21/10","11/8",3.2,3.1,2.375]
[17,"2021-08-28",11,"Champ","Middlesbro","Blackburn",1,1,6,5,11,5,17,5,false,"","Middlesbro","Blackburn","1","1","Middlesbro  v  Blackburn   6/5  11/5  17/5","Middlesbro 1-1 Blackburn ","6/5  11/5  17/5","6/5","11/5","17/5",2.2000000000000002,3.2,4.4000000000000004]
[18,"2021-08-28",11,"Champ","Millwall","Blackpool",2,1,10,11,11,5,17,5,false,"","Millwall","Blackpool","2","1","Millwall  v  Blackpool   10/11  11/5  17/5","Millwall 2-1 Blackpool ","10/11  11/5  17/5","10/11","11/5","17/5",1.9090909090909092,3.2,4.4000000000000004]
[19,"2021-08-28",11,"Champ","Peterborough","West Brom",0,1,16,5,5,2,17,20,false,"","Peterborough","West Brom","0","1","Peterborough  v  West Brom   16/5  5/2  17/20","Peterborough 0-1 West Brom ","16/5  5/2  17/20","16/5","5/2","17/20",4.2,3.5,1.85]
[20,"2021-08-28",11,"Champ","Preston","Swansea",3,1,8,5,21,10,9,5,false,"","Preston","Swansea","3","1","Preston  v  Swansea   8/5  21/10  9/5","Preston 3-1 Swansea ","8/5  21/10  9/5","8/5","21/10","9/5",2.6,3.1,2.8]
[21,"2021-08-28",11,"Champ","QPR","Coventry",2,0,23,20,11,5,13,5,false,"","QPR","Coventry","2","0","QPR  v  Coventry   23/20  11/5  13/5","QPR 2-0 Coventry ","23/20  11/5  13/5","23/20","11/5","13/5",2.15,3.2,3.6]
[22,"2021-08-28",12,"League 1","Cambridge","Bolton",1,0,2,1,12,5,13,10,false,"","Cambridge","Bolton","1","0","Cambridge  v  Bolton   2/1  12/5  13/10","Cambridge 1-0 Bolton ","2/1  12/5  13/10","2/1","12/5","13/10",3,3.4,2.2999999999999998]
[23,"2021-08-28",12,"League 1","Charlton","Crewe",2,0,17,20,5,2,16,5,false,"","Charlton","Crewe","2","0","Charlton  v  Crewe   17/20  5/2  16/5","Charlton 2-0 Crewe ","17/20  5/2  16/5","17/20","5/2","16/5",1.85,3.5,4.2]
[24,"2021-08-28",12,"League 1","Ipswich","Wimbledon",2,2,1,1,23,10,29,10,false,"","Ipswich","Wimbledon","2","2","Ipswich  v  Wimbledon   1/1  23/10  29/10","Ipswich 2-2 Wimbledon ","1/1  23/10  29/10","1/1","23/10","29/10",2,3.3,3.9]
[25,"2021-08-28",12,"League 1","MK Dons","Accrington",2,0,11,10,12,5,12,5,false,"","MK Dons","Accrington","2","0","MK Dons  v  Accrington   11/10  12/5  12/5","MK Dons 2-0 Accrington ","11/10  12/5  12/5","11/10","12/5","12/5",2.1,3.4,3.4]
[26,"2021-08-28",12,"League 1","Morecambe","Sheff W",1,0,3,1,5,2,10,11,false,"","Morecambe","Sheff W","1","0","Morecambe  v  Sheff W   3/1  5/2  10/11","Morecambe 1-0 Sheff W ","3/1  5/2  10/11","3/1","5/2","10/11",4,3.5,1.9090909090909092]
[27,"2021-08-28",12,"League 1","Oxford","Lincoln",3,1,11,10,12,5,12,5,false,"","Oxford","Lincoln","3","1","Oxford  v  Lincoln   11/10  12/5  12/5","Oxford 3-1 Lincoln ","11/10  12/5  12/5","11/10","12/5","12/5",2.1,3.4,3.4]
[28,"2021-08-28",12,"League 1","Plymouth","Fleetwood",1,1,29,20,9,4,19,10,false,"","Plymouth","Fleetwood","1","1","Plymouth  v  Fleetwood   29/20  9/4  19/10","Plymouth 1-1 Fleetwood ","29/20  9/4  19/10","29/20","9/4","19/10",2.4500000000000002,3.25,2.9]
[29,"2021-08-28",12,"League 1","Rotherham","Doncaster",2,0,13,20,11,4,9,2,false,"","Rotherham","Doncaster","2","0","Rotherham  v  Doncaster   13/20  11/4  9/2","Rotherham 2-0 Doncaster ","13/20  11/4  9/2","13/20","11/4","9/2",1.65,3.75,5.5]
[30,"2021-08-28",12,"League 1","Shrewsbury","Gillingham",2,1,29,20,9,4,15,8,false,"","Shrewsbury","Gillingham","2","1","Shrewsbury  v  Gillingham   29/20  9/4  15/8","Shrewsbury 2-1 Gillingham ","29/20  9/4  15/8","29/20","9/4","15/8",2.4500000000000002,3.25,2.875]
[31,"2021-08-28",12,"League 1","Sunderland","Wycombe",3,1,1,1,12,5,14,5,false,"","Sunderland","Wycombe","3","1","Sunderland  v  Wycombe   1/1  12/5  14/5","Sunderland 3-1 Wycombe ","1/1  12/5  14/5","1/1","12/5","14/5",2,3.4,3.8]
[32,"2021-08-28",12,"League 1","Wigan","Portsmouth",1,0,8,5,21,10,15,8,false,"",{"$f":"TRIM(E33)","v":"Wigan"},{"$f":"TRIM(F33)","v":"Portsmouth"},{"$f":"TRIM(G33)","v":"1"},{"$f":"TRIM(H33)","v":"0"},"Wigan  v  Portsmouth   8/5  21/10  15/8","Wigan 1-0 Portsmouth ","8/5  21/10  15/8",{"$f":"CONCATENATE(I33,\"/\",J33)","v":"8/5"},{"$f":"CONCATENATE(K33,\"/\",L33)","v":"21/10"},{"$f":"CONCATENATE(M33,\"/\",N33)","v":"15/8"},2.6,3.1,2.875]
[33,"2021-08-28",13,"League 2","Barrow","Bristol R",1,1,29,20,11,5,2,1,false,"","Barrow","Bristol R","1","1","Barrow  v  Bristol R   29/20  11/5  2/1","Barrow 1-1 Bristol R ","29/20  11/5  2/1","29/20","11/5","2/1",2.4500000000000002,3.2,3]
[34,"2021-08-28",13,"League 2","Crawley","Northampton",0,0,15,8,23,10,29,20,false,"","Crawley","Northampton","0","0","Crawley  v  Northampton   15/8  23/10  29/20","Crawley 0-0 Northampton ","15/8  23/10  29/20","15/8","23/10","29/20",2.875,3.3,2.4500000000000002]
[35,"2021-08-28",13,"League 2","Forest Green","Port Vale",0,2,23,20,21,10,27,10,false,"","Forest Green","Port Vale","0","2","Forest Green  v  Port Vale   23/20  21/10  27/10","Forest Green 0-2 Port Vale ","23/20  21/10  27/10","23/20","21/10","27/10",2.15,3.1,3.7]
[36,"2021-08-28",13,"League 2","Harrogate","Exeter",1,1,8,5,12,5,13,8,false,"","Harrogate","Exeter","1","1","Harrogate  v  Exeter   8/5  12/5  13/8","Harrogate 1-1 Exeter ","8/5  12/5  13/8","8/5","12/5","13/8",2.6,3.4,2.625]
[37,"2021-08-28",13,"League 2","Hartlepool","Carlisle",2,1,15,8,11,5,6,4,false,"","Hartlepool","Carlisle","2","1","Hartlepool  v  Carlisle   15/8  11/5  6/4","Hartlepool 2-1 Carlisle ","15/8  11/5  6/4","15/8","11/5","6/4",2.875,3.2,2.5]
[38,"2021-08-28",13,"League 2","Orient","Bradford",2,0,2,1,21,10,21,10,false,"","Orient","Bradford","2","0","Orient  v  Bradford   2/1  21/10  21/10","Orient 2-0 Bradford ","2/1  21/10  21/10","2/1","21/10","21/10",3,3.1,3.1]
[39,"2021-08-28",13,"League 2","Salford","Newport",3,0,7,5,21,10,29,20,false,"","Salford","Newport","3","0","Salford  v  Newport   7/5  21/10  29/20","Salford 3-0 Newport ","7/5  21/10  29/20","7/5","21/10","29/20",2.4,3.1,2.4500000000000002]
[40,"2021-08-28",13,"League 2","Scunthorpe","Tranmere",1,0,27,10,11,5,11,10,false,"","Scunthorpe","Tranmere","1","0","Scunthorpe  v  Tranmere   27/10  11/5  11/10","Scunthorpe 1-0 Tranmere ","27/10  11/5  11/10","27/10","11/5","11/10",3.7,3.2,2.1]
[41,"2021-08-28",13,"League 2","Sutton","Oldham",1,2,11,10,9,4,13,5,false,"","Sutton","Oldham","1","2","Sutton  v  Oldham   11/10  9/4  13/5","Sutton 1-2 Oldham ","11/10  9/4  13/5","11/10","9/4","13/5",2.1,3.25,3.6]
[42,"2021-08-28",13,"League 2","Swindon","Mansfield",1,0,21,10,23,10,13,10,false,"","Swindon","Mansfield","1","0","Swindon  v  Mansfield   21/10  23/10  13/10","Swindon 1-0 Mansfield ","21/10  23/10  13/10","21/10","23/10","13/10",3.1,3.3,2.2999999999999998]
[43,"2021-08-28",13,"League 2","Walsall","Stevenage",1,0,15,8,21,10,8,5,false,"","Walsall","Stevenage","1","0","Walsall  v  Stevenage   15/8  21/10  8/5","Walsall 1-0 Stevenage ","15/8  21/10  8/5","15/8","21/10","8/5",2.875,3.1,2.6]
[44,"2021-08-29",10,"Premier","Burnley","Leeds",1,1,21,10,5,2,5,4,false,"","Burnley","Leeds","1","1","Burnley  v  Leeds   21/10  5/2  5/4","Burnley 1-1 Leeds ",{"$f":"X45&\"  \"&Y45&\"  \"&Z45","v":"21/10  5/2  5/4"},"21/10","5/2","5/4",3.1,3.5,2.25]
[45,"2021-08-29",10,"Premier","Spurs","Watford",1,0,2,5,17,5,15,2,false,"","Spurs","Watford","1","0","Spurs  v  Watford   2/5  17/5  15/2","Spurs 1-0 Watford ",{"$f":"X46&\"  \"&Y46&\"  \"&Z46","v":"2/5  17/5  15/2"},"2/5","17/5","15/2",1.4,4.4000000000000004,8.5]
[46,"2021-08-29",10,"Premier","Wolves","Man U",0,1,4,1,12,5,4,5,false,"","Wolves","Man U","0","1","Wolves  v  Man U   4/1  12/5  4/5","Wolves 0-1 Man U ",{"$f":"X47&\"  \"&Y47&\"  \"&Z47","v":"4/1  12/5  4/5"},"4/1","12/5","4/5",5,3.4,1.8]
[1,null,null,null,null,null,null,null,null,null,null,null,null,null,null,null,null,null,null,null,null,null,null,"/",null,null,""]
[2,null,null,null,null,null,null,null,null,null,null,null,null,null,null,null,null,null,null,null,null,null,null,"/",null,null,""]
[3,null,null,null,null,null,null,null,null,null,null,null,null,null,null,null,null,null,null,null,null,null,null,"/",null,null,""]
[4,null,null,null,null,null,null,null,null,null,null,null,null,null,null,null,null,null,null,null,null,null,null,"/",null,null,""]
[5]
[6]
[7]
[8]
[9]
[10]
[11]
[12]
[13]
[14]
[15]
[16]
[17]
[18]
[19]
[20]
[21]
[22]
[23]
[24]
[25]
[26]
[27]
[28]
[29]
[30]
[31]
[32]
[33]
[34]
[35]
[36]
[37]
[38]
[39]
[40]
[41]
[42]
[43]
[44]
[45]
[46]
[1]
[2]
[3]
[4]
[5]
[6]
[7]
[8]
[9]
[10]
[11]
[12]
[13]
[14]
[15]
[16]
[17]
[18]
[19]
[20]
[21]
[22]
[23]
[24]
[25]
[26]
[27]
[28]
[29]
[30]
[31]
[32]
[33]
[34]
[35]
[36]
[37]
[38]
[39]
[40]
[41]
[42]
[43]
[44]
[45]
[46]

{"sheet":"Odds","index":9,"n_rows":139,"n_cols":19,"rows_kept":139,"cut":false,"hidden":false,"merged":[]}
["Ref","Date",null,"Competition","Odds","Result","Choices","Odds","Dec","Bet Up","Played","Home team","Home win odds","Away team","Draw odds","Away odds","Home dec","Draw dec","Away dec"]
[1,{"$f":"IF(Match!B2=\"\",\"\",Match!B2)","v":"2021-08-27"},{"$f":"IF(B2=\"\",\"\",WEEKDAY(B2))","v":"1900-01-06"},{"$f":"IF(Match!D2=\"\",\"\",Match!D2)","v":"League 1"},{"$f":"IF(Match!U2=\"\",\"\",Match!U2)","v":"Burton  v  Cheltenham   1/1  5/2  27/10"},{"$f":"IF(Match!V2=\"\",\"\",Match!V2)","v":"Burton 1-1 Cheltenham "},{"$f":"IF(E2=\"\",\"\",L2)","v":"Burton"},{"$f":"IF(E2=\"\",\"\",M2)","v":"1/1"},{"$f":"IF(E2=\"\",\"\",Q2)","v":2},{"$f":"INDEX(Picks!T:T,MATCH(G2,Picks!R:R,0))","v":0},{"$f":"IF(INDEX(Match!P:P,MATCH(A2,Match!A:A,0))=\"OFF\",0,1)","v":1},{"$f":"INDEX(Match!Q:Q,MATCH(E2,Match!U:U,0))","v":"Burton"},{"$f":"INDEX(Match!X:X,MATCH(E2,Match!U:U,0))","v":"1/1"},{"$f":"INDEX(Match!R:R,MATCH(E2,Match!U:U,0))","v":"Cheltenham"},{"$f":"INDEX(Match!Y:Y,MATCH(E2,Match!U:U,0))","v":"5/2"},{"$f":"INDEX(Match!Z:Z,MATCH(E2,Match!U:U,0))","v":"27/10"},{"$f":"INDEX(Match!AA:AA,MATCH(E2,Match!U:U,0))","v":2},{"$f":"INDEX(Match!AB:AB,MATCH(E2,Match!U:U,0))","v":3.5},{"$f":"INDEX(Match!AC:AC,MATCH(E2,Match!U:U,0))","v":3.7}]
[2,{"$f":"IF(Match!B3=\"\",\"\",Match!B3)","v":"2021-08-27"},{"$f":"IF(B3=\"\",\"\",WEEKDAY(B3))","v":"1900-01-06"},{"$f":"IF(Match!D3=\"\",\"\",Match!D3)","v":"League 2"},{"$f":"IF(Match!U3=\"\",\"\",Match!U3)","v":"Rochdale  v  Colchester   11/8  11/5  21/10"},{"$f":"IF(Match!V3=\"\",\"\",Match!V3)","v":"Rochdale 1-1 Colchester "},"Rochdale","11/8",{"$f":"IF(E3=\"\",\"\",Q3)","v":2.375},{"$f":"INDEX(Picks!T:T,MATCH(G3,Picks!R:R,0))","v":0},{"$f":"IF(INDEX(Match!P:P,MATCH(A3,Match!A:A,0))=\"OFF\",0,1)","v":1},{"$f":"INDEX(Match!Q:Q,MATCH(E3,Match!U:U,0))","v":"Rochdale"},{"$f":"INDEX(Match!X:X,MATCH(E3,Match!U:U,0))","v":"11/8"},{"$f":"INDEX(Match!R:R,MATCH(E3,Match!U:U,0))","v":"Colchester"},{"$f":"INDEX(Match!Y:Y,MATCH(E3,Match!U:U,0))","v":"11/5"},{"$f":"INDEX(Match!Z:Z,MATCH(E3,Match!U:U,0))","v":"21/10"},{"$f":"INDEX(Match!AA:AA,MATCH(E3,Match!U:U,0))","v":2.375},{"$f":"INDEX(Match!AB:AB,MATCH(E3,Match!U:U,0))","v":3.2},{"$f":"INDEX(Match!AC:AC,MATCH(E3,Match!U:U,0))","v":3.1}]
[3,{"$f":"IF(Match!B4=\"\",\"\",Match!B4)","v":"2021-08-28"},"1900-01-07",{"$f":"IF(Match!D4=\"\",\"\",Match!D4)","v":"Premier"},{"$f":"IF(Match!U4=\"\",\"\",Match!U4)","v":"Brighton  v  Everton   11/8  11/5  11/5"},{"$f":"IF(Match!V4=\"\",\"\",Match!V4)","v":"Brighton 0-2 Everton "},"Brighton","11/8",2.375,{"$f":"INDEX(Picks!T:T,MATCH(G4,Picks!R:R,0))","v":0},{"$f":"IF(INDEX(Match!P:P,MATCH(A4,Match!A:A,0))=\"OFF\",0,1)","v":1},{"$f":"INDEX(Match!Q:Q,MATCH(E4,Match!U:U,0))","v":"Brighton"},{"$f":"INDEX(Match!X:X,MATCH(E4,Match!U:U,0))","v":"11/8"},{"$f":"INDEX(Match!R:R,MATCH(E4,Match!U:U,0))","v":"Everton"},{"$f":"INDEX(Match!Y:Y,MATCH(E4,Match!U:U,0))","v":"11/5"},{"$f":"INDEX(Match!Z:Z,MATCH(E4,Match!U:U,0))","v":"11/5"},{"$f":"INDEX(Match!AA:AA,MATCH(E4,Match!U:U,0))","v":2.375},{"$f":"INDEX(Match!AB:AB,MATCH(E4,Match!U:U,0))","v":3.2},{"$f":"INDEX(Match!AC:AC,MATCH(E4,Match!U:U,0))","v":3.2}]
[4,{"$f":"IF(Match!B5=\"\",\"\",Match!B5)","v":"2021-08-28"},"1900-01-07",{"$f":"IF(Match!D5=\"\",\"\",Match!D5)","v":"Premier"},{"$f":"IF(Match!U5=\"\",\"\",Match!U5)","v":"Liverpool  v  Chelsea   8/5  23/10  7/4"},{"$f":"IF(Match!V5=\"\",\"\",Match!V5)","v":"Liverpool 1-1 Chelsea "},"Liverpool","8/5",2.6,{"$f":"INDEX(Picks!T:T,MATCH(G5,Picks!R:R,0))","v":0},{"$f":"IF(INDEX(Match!P:P,MATCH(A5,Match!A:A,0))=\"OFF\",0,1)","v":1},{"$f":"INDEX(Match!Q:Q,MATCH(E5,Match!U:U,0))","v":"Liverpool"},{"$f":"INDEX(Match!X:X,MATCH(E5,Match!U:U,0))","v":"8/5"},{"$f":"INDEX(Match!R:R,MATCH(E5,Match!U:U,0))","v":"Chelsea"},{"$f":"INDEX(Match!Y:Y,MATCH(E5,Match!U:U,0))","v":"23/10"},{"$f":"INDEX(Match!Z:Z,MATCH(E5,Match!U:U,0))","v":"7/4"},{"$f":"INDEX(Match!AA:AA,MATCH(E5,Match!U:U,0))","v":2.6},{"$f":"INDEX(Match!AB:AB,MATCH(E5,Match!U:U,0))","v":3.3},{"$f":"INDEX(Match!AC:AC,MATCH(E5,Match!U:U,0))","v":2.75}]
[5,{"$f":"IF(Match!B6=\"\",\"\",Match!B6)","v":"2021-08-28"},"1900-01-07",{"$f":"IF(Match!D6=\"\",\"\",Match!D6)","v":"Premier"},{"$f":"IF(Match!U6=\"\",\"\",Match!U6)","v":"Man C  v  Arsenal   1/4  24/5  11/1"},{"$f":"IF(Match!V6=\"\",\"\",Match!V6)","v":"Man C 5-0 Arsenal "},"Man C","1/4",1.25,{"$f":"INDEX(Picks!T:T,MATCH(G6,Picks!R:R,0))","v":1},{"$f":"IF(INDEX(Match!P:P,MATCH(A6,Match!A:A,0))=\"OFF\",0,1)","v":1},{"$f":"INDEX(Match!Q:Q,MATCH(E6,Match!U:U,0))","v":"Man C"},{"$f":"INDEX(Match!X:X,MATCH(E6,Match!U:U,0))","v":"1/4"},{"$f":"INDEX(Match!R:R,MATCH(E6,Match!U:U,0))","v":"Arsenal"},{"$f":"INDEX(Match!Y:Y,MATCH(E6,Match!U:U,0))","v":"24/5"},{"$f":"INDEX(Match!Z:Z,MATCH(E6,Match!U:U,0))","v":"11/1"},{"$f":"INDEX(Match!AA:AA,MATCH(E6,Match!U:U,0))","v":1.25},{"$f":"INDEX(Match!AB:AB,MATCH(E6,Match!U:U,0))","v":5.8},{"$f":"INDEX(Match!AC:AC,MATCH(E6,Match!U:U,0))","v":12}]
[6,{"$f":"IF(Match!B7=\"\",\"\",Match!B7)","v":"2021-08-28"},"1900-01-07",{"$f":"IF(Match!D7=\"\",\"\",Match!D7)","v":"Premier"},{"$f":"IF(Match!U7=\"\",\"\",Match!U7)","v":"Newcastle  v  Southampton   13/8  5/2  13/8"},{"$f":"IF(Match!V7=\"\",\"\",Match!V7)","v":"Newcastle 2-2 Southampton "},"Newcastle","13/8",2.625,{"$f":"INDEX(Picks!T:T,MATCH(G7,Picks!R:R,0))","v":0},{"$f":"IF(INDEX(Match!P:P,MATCH(A7,Match!A:A,0))=\"OFF\",0,1)","v":1},{"$f":"INDEX(Match!Q:Q,MATCH(E7,Match!U:U,0))","v":"Newcastle"},{"$f":"INDEX(Match!X:X,MATCH(E7,Match!U:U,0))","v":"13/8"},{"$f":"INDEX(Match!R:R,MATCH(E7,Match!U:U,0))","v":"Southampton"},{"$f":"INDEX(Match!Y:Y,MATCH(E7,Match!U:U,0))","v":"5/2"},{"$f":"INDEX(Match!Z:Z,MATCH(E7,Match!U:U,0))","v":"13/8"},{"$f":"INDEX(Match!AA:AA,MATCH(E7,Match!U:U,0))","v":2.625},{"$f":"INDEX(Match!AB:AB,MATCH(E7,Match!U:U,0))","v":3.5},{"$f":"INDEX(Match!AC:AC,MATCH(E7,Match!U:U,0))","v":2.625}]
[7,{"$f":"IF(Match!B8=\"\",\"\",Match!B8)","v":"2021-08-28"},"1900-01-07",{"$f":"IF(Match!D8=\"\",\"\",Match!D8)","v":"Premier"},{"$f":"IF(Match!U8=\"\",\"\",Match!U8)","v":"Norwich  v  Leicester   4/1  27/10  8/11"},{"$f":"IF(Match!V8=\"\",\"\",Match!V8)","v":"Norwich 1-2 Leicester "},"Norwich","4/1",5,{"$f":"INDEX(Picks!T:T,MATCH(G8,Picks!R:R,0))","v":0},{"$f":"IF(INDEX(Match!P:P,MATCH(A8,Match!A:A,0))=\"OFF\",0,1)","v":1},{"$f":"INDEX(Match!Q:Q,MATCH(E8,Match!U:U,0))","v":"Norwich"},{"$f":"INDEX(Match!X:X,MATCH(E8,Match!U:U,0))","v":"4/1"},{"$f":"INDEX(Match!R:R,MATCH(E8,Match!U:U,0))","v":"Leicester"},{"$f":"INDEX(Match!Y:Y,MATCH(E8,Match!U:U,0))","v":"27/10"},{"$f":"INDEX(Match!Z:Z,MATCH(E8,Match!U:U,0))","v":"8/11"},{"$f":"INDEX(Match!AA:AA,MATCH(E8,Match!U:U,0))","v":5},{"$f":"INDEX(Match!AB:AB,MATCH(E8,Match!U:U,0))","v":3.7},{"$f":"INDEX(Match!AC:AC,MATCH(E8,Match!U:U,0))","v":1.7272727272727273}]
[8,{"$f":"IF(Match!B9=\"\",\"\",Match!B9)","v":"2021-08-28"},"1900-01-07",{"$f":"IF(Match!D9=\"\",\"\",Match!D9)","v":"Premier"},{"$f":"IF(Match!U9=\"\",\"\",Match!U9)","v":"Villa  v  Brentford   1/1  13/5  27/10"},{"$f":"IF(Match!V9=\"\",\"\",Match!V9)","v":"Villa 1-1 Brentford "},"Villa","1/1",2,{"$f":"INDEX(Picks!T:T,MATCH(G9,Picks!R:R,0))","v":0},{"$f":"IF(INDEX(Match!P:P,MATCH(A9,Match!A:A,0))=\"OFF\",0,1)","v":1},{"$f":"INDEX(Match!Q:Q,MATCH(E9,Match!U:U,0))","v":"Villa"},{"$f":"INDEX(Match!X:X,MATCH(E9,Match!U:U,0))","v":"1/1"},{"$f":"INDEX(Match!R:R,MATCH(E9,Match!U:U,0))","v":"Brentford"},{"$f":"INDEX(Match!Y:Y,MATCH(E9,Match!U:U,0))","v":"13/5"},{"$f":"INDEX(Match!Z:Z,MATCH(E9,Match!U:U,0))","v":"27/10"},{"$f":"INDEX(Match!AA:AA,MATCH(E9,Match!U:U,0))","v":2},{"$f":"INDEX(Match!AB:AB,MATCH(E9,Match!U:U,0))","v":3.6},{"$f":"INDEX(Match!AC:AC,MATCH(E9,Match!U:U,0))","v":3.7}]
[9,{"$f":"IF(Match!B10=\"\",\"\",Match!B10)","v":"2021-08-28"},"1900-01-07",{"$f":"IF(Match!D10=\"\",\"\",Match!D10)","v":"Premier"},{"$f":"IF(Match!U10=\"\",\"\",Match!U10)","v":"West Ham  v  Palace   6/10  29/10  24/5"},{"$f":"IF(Match!V10=\"\",\"\",Match!V10)","v":"West Ham 2-2 Palace "},"West Ham","6/10",1.6,{"$f":"INDEX(Picks!T:T,MATCH(G10,Picks!R:R,0))","v":0},{"$f":"IF(INDEX(Match!P:P,MATCH(A10,Match!A:A,0))=\"OFF\",0,1)","v":1},{"$f":"INDEX(Match!Q:Q,MATCH(E10,Match!U:U,0))","v":"West Ham"},{"$f":"INDEX(Match!X:X,MATCH(E10,Match!U:U,0))","v":"6/10"},{"$f":"INDEX(Match!R:R,MATCH(E10,Match!U:U,0))","v":"Palace"},{"$f":"INDEX(Match!Y:Y,MATCH(E10,Match!U:U,0))","v":"29/10"},{"$f":"INDEX(Match!Z:Z,MATCH(E10,Match!U:U,0))","v":"24/5"},{"$f":"INDEX(Match!AA:AA,MATCH(E10,Match!U:U,0))","v":1.6},{"$f":"INDEX(Match!AB:AB,MATCH(E10,Match!U:U,0))","v":3.9},{"$f":"INDEX(Match!AC:AC,MATCH(E10,Match!U:U,0))","v":5.8}]
[10,{"$f":"IF(Match!B11=\"\",\"\",Match!B11)","v":"2021-08-28"},"1900-01-07",{"$f":"IF(Match!D11=\"\",\"\",Match!D11)","v":"Champ"},{"$f":"IF(Match!U11=\"\",\"\",Match!U11)","v":"Barnsley  v  Birmingham   23/20  21/10  27/10"},{"$f":"IF(Match!V11=\"\",\"\",Match!V11)","v":"Barnsley 1-1 Birmingham "},"Barnsley","23/20",2.15,{"$f":"INDEX(Picks!T:T,MATCH(G11,Picks!R:R,0))","v":0},{"$f":"IF(INDEX(Match!P:P,MATCH(A11,Match!A:A,0))=\"OFF\",0,1)","v":1},{"$f":"INDEX(Match!Q:Q,MATCH(E11,Match!U:U,0))","v":"Barnsley"},{"$f":"INDEX(Match!X:X,MATCH(E11,Match!U:U,0))","v":"23/20"},{"$f":"INDEX(Match!R:R,MATCH(E11,Match!U:U,0))","v":"Birmingham"},{"$f":"INDEX(Match!Y:Y,MATCH(E11,Match!U:U,0))","v":"21/10"},{"$f":"INDEX(Match!Z:Z,MATCH(E11,Match!U:U,0))","v":"27/10"},{"$f":"INDEX(Match!AA:AA,MATCH(E11,Match!U:U,0))","v":2.15},{"$f":"INDEX(Match!AB:AB,MATCH(E11,Match!U:U,0))","v":3.1},{"$f":"INDEX(Match!AC:AC,MATCH(E11,Match!U:U,0))","v":3.7}]
[11,{"$f":"IF(Match!B12=\"\",\"\",Match!B12)","v":"2021-08-28"},"1900-01-07",{"$f":"IF(Match!D12=\"\",\"\",Match!D12)","v":"Champ"},{"$f":"IF(Match!U12=\"\",\"\",Match!U12)","v":"Cardiff  v  Bristol C   19/20  23/10  16/5"},{"$f":"IF(Match!V12=\"\",\"\",Match!V12)","v":"Cardiff 1-2 Bristol C "},"Cardiff","19/20",1.95,{"$f":"INDEX(Picks!T:T,MATCH(G12,Picks!R:R,0))","v":0},{"$f":"IF(INDEX(Match!P:P,MATCH(A12,Match!A:A,0))=\"OFF\",0,1)","v":1},{"$f":"INDEX(Match!Q:Q,MATCH(E12,Match!U:U,0))","v":"Cardiff"},{"$f":"INDEX(Match!X:X,MATCH(E12,Match!U:U,0))","v":"19/20"},{"$f":"INDEX(Match!R:R,MATCH(E12,Match!U:U,0))","v":"Bristol C"},{"$f":"INDEX(Match!Y:Y,MATCH(E12,Match!U:U,0))","v":"23/10"},{"$f":"INDEX(Match!Z:Z,MATCH(E12,Match!U:U,0))","v":"16/5"},{"$f":"INDEX(Match!AA:AA,MATCH(E12,Match!U:U,0))","v":1.95},{"$f":"INDEX(Match!AB:AB,MATCH(E12,Match!U:U,0))","v":3.3},{"$f":"INDEX(Match!AC:AC,MATCH(E12,Match!U:U,0))","v":4.2}]
[12,{"$f":"IF(Match!B13=\"\",\"\",Match!B13)","v":"2021-08-28"},"1900-01-07",{"$f":"IF(Match!D13=\"\",\"\",Match!D13)","v":"Champ"},{"$f":"IF(Match!U13=\"\",\"\",Match!U13)","v":"Derby  v  Forest   7/4  2/1  7/4"},{"$f":"IF(Match!V13=\"\",\"\",Match!V13)","v":"Derby 1-1 Forest "},"Derby","7/4",2.75,{"$f":"INDEX(Picks!T:T,MATCH(G13,Picks!R:R,0))","v":0},{"$f":"IF(INDEX(Match!P:P,MATCH(A13,Match!A:A,0))=\"OFF\",0,1)","v":1},{"$f":"INDEX(Match!Q:Q,MATCH(E13,Match!U:U,0))","v":"Derby"},{"$f":"INDEX(Match!X:X,MATCH(E13,Match!U:U,0))","v":"7/4"},{"$f":"INDEX(Match!R:R,MATCH(E13,Match!U:U,0))","v":"Forest"},{"$f":"INDEX(Match!Y:Y,MATCH(E13,Match!U:U,0))","v":"2/1"},{"$f":"INDEX(Match!Z:Z,MATCH(E13,Match!U:U,0))","v":"7/4"},{"$f":"INDEX(Match!AA:AA,MATCH(E13,Match!U:U,0))","v":2.75},{"$f":"INDEX(Match!AB:AB,MATCH(E13,Match!U:U,0))","v":3},{"$f":"INDEX(Match!AC:AC,MATCH(E13,Match!U:U,0))","v":2.75}]
[13,{"$f":"IF(Match!B14=\"\",\"\",Match!B14)","v":"2021-08-28"},"1900-01-07",{"$f":"IF(Match!D14=\"\",\"\",Match!D14)","v":"Champ"},{"$f":"IF(Match!U14=\"\",\"\",Match!U14)","v":"Fulham  v  Stoke   1/1  11/5  3/1"},{"$f":"IF(Match!V14=\"\",\"\",Match!V14)","v":"Fulham 3-0 Stoke "},"Fulham","1/1",2,{"$f":"INDEX(Picks!T:T,MATCH(G14,Picks!R:R,0))","v":1},{"$f":"IF(INDEX(Match!P:P,MATCH(A14,Match!A:A,0))=\"OFF\",0,1)","v":1},{"$f":"INDEX(Match!Q:Q,MATCH(E14,Match!U:U,0))","v":"Fulham"},{"$f":"INDEX(Match!X:X,MATCH(E14,Match!U:U,0))","v":"1/1"},{"$f":"INDEX(Match!R:R,MATCH(E14,Match!U:U,0))","v":"Stoke"},{"$f":"INDEX(Match!Y:Y,MATCH(E14,Match!U:U,0))","v":"11/5"},{"$f":"INDEX(Match!Z:Z,MATCH(E14,Match!U:U,0))","v":"3/1"},{"$f":"INDEX(Match!AA:AA,MATCH(E14,Match!U:U,0))","v":2},{"$f":"INDEX(Match!AB:AB,MATCH(E14,Match!U:U,0))","v":3.2},{"$f":"INDEX(Match!AC:AC,MATCH(E14,Match!U:U,0))","v":4}]
[14,{"$f":"IF(Match!B15=\"\",\"\",Match!B15)","v":"2021-08-28"},"1900-01-07",{"$f":"IF(Match!D15=\"\",\"\",Match!D15)","v":"Champ"},{"$f":"IF(Match!U15=\"\",\"\",Match!U15)","v":"Huddersfield  v  Reading   13/8  12/5  2/1"},{"$f":"IF(Match!V15=\"\",\"\",Match!V15)","v":"Huddersfield 4-0 Reading "},"Huddersfield","13/8",2.625,{"$f":"INDEX(Picks!T:T,MATCH(G15,Picks!R:R,0))","v":1},{"$f":"IF(INDEX(Match!P:P,MATCH(A15,Match!A:A,0))=\"OFF\",0,1)","v":1},{"$f":"INDEX(Match!Q:Q,MATCH(E15,Match!U:U,0))","v":"Huddersfield"},{"$f":"INDEX(Match!X:X,MATCH(E15,Match!U:U,0))","v":"13/8"},{"$f":"INDEX(Match!R:R,MATCH(E15,Match!U:U,0))","v":"Reading"},{"$f":"INDEX(Match!Y:Y,MATCH(E15,Match!U:U,0))","v":"12/5"},{"$f":"INDEX(Match!Z:Z,MATCH(E15,Match!U:U,0))","v":"2/1"},{"$f":"INDEX(Match!AA:AA,MATCH(E15,Match!U:U,0))","v":2.625},{"$f":"INDEX(Match!AB:AB,MATCH(E15,Match!U:U,0))","v":3.4},{"$f":"INDEX(Match!AC:AC,MATCH(E15,Match!U:U,0))","v":3}]
[15,{"$f":"IF(Match!B16=\"\",\"\",Match!B16)","v":"2021-08-28"},"1900-01-07",{"$f":"IF(Match!D16=\"\",\"\",Match!D16)","v":"Champ"},{"$f":"IF(Match!U16=\"\",\"\",Match!U16)","v":"Hull  v  Bournemouth   9/4  11/5  13/10"},{"$f":"IF(Match!V16=\"\",\"\",Match!V16)","v":"Hull 0-0 Bournemouth "},"Hull","9/4",3.25,{"$f":"INDEX(Picks!T:T,MATCH(G16,Picks!R:R,0))","v":0},{"$f":"IF(INDEX(Match!P:P,MATCH(A16,Match!A:A,0))=\"OFF\",0,1)","v":1},{"$f":"INDEX(Match!Q:Q,MATCH(E16,Match!U:U,0))","v":"Hull"},{"$f":"INDEX(Match!X:X,MATCH(E16,Match!U:U,0))","v":"9/4"},{"$f":"INDEX(Match!R:R,MATCH(E16,Match!U:U,0))","v":"Bournemouth"},{"$f":"INDEX(Match!Y:Y,MATCH(E16,Match!U:U,0))","v":"11/5"},{"$f":"INDEX(Match!Z:Z,MATCH(E16,Match!U:U,0))","v":"13/10"},{"$f":"INDEX(Match!AA:AA,MATCH(E16,Match!U:U,0))","v":3.25},{"$f":"INDEX(Match!AB:AB,MATCH(E16,Match!U:U,0))","v":3.2},{"$f":"INDEX(Match!AC:AC,MATCH(E16,Match!U:U,0))","v":2.2999999999999998}]
[16,{"$f":"IF(Match!B17=\"\",\"\",Match!B17)","v":"2021-08-28"},"1900-01-07",{"$f":"IF(Match!D17=\"\",\"\",Match!D17)","v":"Champ"},{"$f":"IF(Match!U17=\"\",\"\",Match!U17)","v":"Luton  v  Sheff U   11/5  21/10  11/8"},{"$f":"IF(Match!V17=\"\",\"\",Match!V17)","v":"Luton 0-0 Sheff U "},"Luton","11/5",3.2,{"$f":"INDEX(Picks!T:T,MATCH(G17,Picks!R:R,0))","v":0},{"$f":"IF(INDEX(Match!P:P,MATCH(A17,Match!A:A,0))=\"OFF\",0,1)","v":1},{"$f":"INDEX(Match!Q:Q,MATCH(E17,Match!U:U,0))","v":"Luton"},{"$f":"INDEX(Match!X:X,MATCH(E17,Match!U:U,0))","v":"11/5"},{"$f":"INDEX(Match!R:R,MATCH(E17,Match!U:U,0))","v":"Sheff U"},{"$f":"INDEX(Match!Y:Y,MATCH(E17,Match!U:U,0))","v":"21/10"},{"$f":"INDEX(Match!Z:Z,MATCH(E17,Match!U:U,0))","v":"11/8"},{"$f":"INDEX(Match!AA:AA,MATCH(E17,Match!U:U,0))","v":3.2},{"$f":"INDEX(Match!AB:AB,MATCH(E17,Match!U:U,0))","v":3.1},{"$f":"INDEX(Match!AC:AC,MATCH(E17,Match!U:U,0))","v":2.375}]
[17,{"$f":"IF(Match!B18=\"\",\"\",Match!B18)","v":"2021-08-28"},"1900-01-07",{"$f":"IF(Match!D21=\"\",\"\",Match!D21)","v":"Champ"},{"$f":"IF(Match!U18=\"\",\"\",Match!U18)","v":"Middlesbro  v  Blackburn   6/5  11/5  17/5"},{"$f":"IF(Match!V18=\"\",\"\",Match!V18)","v":"Middlesbro 1-1 Blackburn "},"Middlesbro","6/5",2.2000000000000002,{"$f":"INDEX(Picks!T:T,MATCH(G18,Picks!R:R,0))","v":0},{"$f":"IF(INDEX(Match!P:P,MATCH(A18,Match!A:A,0))=\"OFF\",0,1)","v":1},{"$f":"INDEX(Match!Q:Q,MATCH(E18,Match!U:U,0))","v":"Middlesbro"},{"$f":"INDEX(Match!X:X,MATCH(E18,Match!U:U,0))","v":"6/5"},{"$f":"INDEX(Match!R:R,MATCH(E18,Match!U:U,0))","v":"Blackburn"},{"$f":"INDEX(Match!Y:Y,MATCH(E18,Match!U:U,0))","v":"11/5"},{"$f":"INDEX(Match!Z:Z,MATCH(E18,Match!U:U,0))","v":"17/5"},{"$f":"INDEX(Match!AA:AA,MATCH(E18,Match!U:U,0))","v":2.2000000000000002},{"$f":"INDEX(Match!AB:AB,MATCH(E18,Match!U:U,0))","v":3.2},{"$f":"INDEX(Match!AC:AC,MATCH(E18,Match!U:U,0))","v":4.4000000000000004}]
[18,{"$f":"IF(Match!B19=\"\",\"\",Match!B19)","v":"2021-08-28"},"1900-01-07",{"$f":"IF(Match!D19=\"\",\"\",Match!D19)","v":"Champ"},{"$f":"IF(Match!U19=\"\",\"\",Match!U19)","v":"Millwall  v  Blackpool   10/11  11/5  17/5"},{"$f":"IF(Match!V19=\"\",\"\",Match!V19)","v":"Millwall 2-1 Blackpool "},"Millwall","10/11",1.9090909090909092,{"$f":"INDEX(Picks!T:T,MATCH(G19,Picks!R:R,0))","v":1},{"$f":"IF(INDEX(Match!P:P,MATCH(A19,Match!A:A,0))=\"OFF\",0,1)","v":1},{"$f":"INDEX(Match!Q:Q,MATCH(E19,Match!U:U,0))","v":"Millwall"},{"$f":"INDEX(Match!X:X,MATCH(E19,Match!U:U,0))","v":"10/11"},{"$f":"INDEX(Match!R:R,MATCH(E19,Match!U:U,0))","v":"Blackpool"},{"$f":"INDEX(Match!Y:Y,MATCH(E19,Match!U:U,0))","v":"11/5"},{"$f":"INDEX(Match!Z:Z,MATCH(E19,Match!U:U,0))","v":"17/5"},{"$f":"INDEX(Match!AA:AA,MATCH(E19,Match!U:U,0))","v":1.9090909090909092},{"$f":"INDEX(Match!AB:AB,MATCH(E19,Match!U:U,0))","v":3.2},{"$f":"INDEX(Match!AC:AC,MATCH(E19,Match!U:U,0))","v":4.4000000000000004}]
[19,{"$f":"IF(Match!B20=\"\",\"\",Match!B20)","v":"2021-08-28"},"1900-01-07",{"$f":"IF(Match!D20=\"\",\"\",Match!D20)","v":"Champ"},{"$f":"IF(Match!U20=\"\",\"\",Match!U20)","v":"Peterborough  v  West Brom   16/5  5/2  17/20"},{"$f":"IF(Match!V20=\"\",\"\",Match!V20)","v":"Peterborough 0-1 West Brom "},"Peterborough","16/5",4.2,{"$f":"INDEX(Picks!T:T,MATCH(G20,Picks!R:R,0))","v":0},{"$f":"IF(INDEX(Match!P:P,MATCH(A20,Match!A:A,0))=\"OFF\",0,1)","v":1},{"$f":"INDEX(Match!Q:Q,MATCH(E20,Match!U:U,0))","v":"Peterborough"},{"$f":"INDEX(Match!X:X,MATCH(E20,Match!U:U,0))","v":"16/5"},{"$f":"INDEX(Match!R:R,MATCH(E20,Match!U:U,0))","v":"West Brom"},{"$f":"INDEX(Match!Y:Y,MATCH(E20,Match!U:U,0))","v":"5/2"},{"$f":"INDEX(Match!Z:Z,MATCH(E20,Match!U:U,0))","v":"17/20"},{"$f":"INDEX(Match!AA:AA,MATCH(E20,Match!U:U,0))","v":4.2},{"$f":"INDEX(Match!AB:AB,MATCH(E20,Match!U:U,0))","v":3.5},{"$f":"INDEX(Match!AC:AC,MATCH(E20,Match!U:U,0))","v":1.85}]
[20,{"$f":"IF(Match!B21=\"\",\"\",Match!B21)","v":"2021-08-28"},"1900-01-07",{"$f":"IF(Match!D21=\"\",\"\",Match!D21)","v":"Champ"},{"$f":"IF(Match!U21=\"\",\"\",Match!U21)","v":"Preston  v  Swansea   8/5  21/10  9/5"},{"$f":"IF(Match!V21=\"\",\"\",Match!V21)","v":"Preston 3-1 Swansea "},"Preston","8/5",2.6,{"$f":"INDEX(Picks!T:T,MATCH(G21,Picks!R:R,0))","v":1},{"$f":"IF(INDEX(Match!P:P,MATCH(A21,Match!A:A,0))=\"OFF\",0,1)","v":1},{"$f":"INDEX(Match!Q:Q,MATCH(E21,Match!U:U,0))","v":"Preston"},{"$f":"INDEX(Match!X:X,MATCH(E21,Match!U:U,0))","v":"8/5"},{"$f":"INDEX(Match!R:R,MATCH(E21,Match!U:U,0))","v":"Swansea"},{"$f":"INDEX(Match!Y:Y,MATCH(E21,Match!U:U,0))","v":"21/10"},{"$f":"INDEX(Match!Z:Z,MATCH(E21,Match!U:U,0))","v":"9/5"},{"$f":"INDEX(Match!AA:AA,MATCH(E21,Match!U:U,0))","v":2.6},{"$f":"INDEX(Match!AB:AB,MATCH(E21,Match!U:U,0))","v":3.1},{"$f":"INDEX(Match!AC:AC,MATCH(E21,Match!U:U,0))","v":2.8}]
[21,{"$f":"IF(Match!B22=\"\",\"\",Match!B22)","v":"2021-08-28"},"1900-01-07",{"$f":"IF(Match!D22=\"\",\"\",Match!D22)","v":"Champ"},{"$f":"IF(Match!U22=\"\",\"\",Match!U22)","v":"QPR  v  Coventry   23/20  11/5  13/5"},{"$f":"IF(Match!V22=\"\",\"\",Match!V22)","v":"QPR 2-0 Coventry "},"QPR","23/20",2.15,{"$f":"INDEX(Picks!T:T,MATCH(G22,Picks!R:R,0))","v":1},{"$f":"IF(INDEX(Match!P:P,MATCH(A22,Match!A:A,0))=\"OFF\",0,1)","v":1},{"$f":"INDEX(Match!Q:Q,MATCH(E22,Match!U:U,0))","v":"QPR"},{"$f":"INDEX(Match!X:X,MATCH(E22,Match!U:U,0))","v":"23/20"},{"$f":"INDEX(Match!R:R,MATCH(E22,Match!U:U,0))","v":"Coventry"},{"$f":"INDEX(Match!Y:Y,MATCH(E22,Match!U:U,0))","v":"11/5"},{"$f":"INDEX(Match!Z:Z,MATCH(E22,Match!U:U,0))","v":"13/5"},{"$f":"INDEX(Match!AA:AA,MATCH(E22,Match!U:U,0))","v":2.15},{"$f":"INDEX(Match!AB:AB,MATCH(E22,Match!U:U,0))","v":3.2},{"$f":"INDEX(Match!AC:AC,MATCH(E22,Match!U:U,0))","v":3.6}]
[22,{"$f":"IF(Match!B23=\"\",\"\",Match!B23)","v":"2021-08-28"},"1900-01-07",{"$f":"IF(Match!D23=\"\",\"\",Match!D23)","v":"League 1"},{"$f":"IF(Match!U23=\"\",\"\",Match!U23)","v":"Cambridge  v  Bolton   2/1  12/5  13/10"},{"$f":"IF(Match!V23=\"\",\"\",Match!V23)","v":"Cambridge 1-0 Bolton "},"Cambridge","2/1",3,{"$f":"INDEX(Picks!T:T,MATCH(G23,Picks!R:R,0))","v":1},{"$f":"IF(INDEX(Match!P:P,MATCH(A23,Match!A:A,0))=\"OFF\",0,1)","v":1},{"$f":"INDEX(Match!Q:Q,MATCH(E23,Match!U:U,0))","v":"Cambridge"},{"$f":"INDEX(Match!X:X,MATCH(E23,Match!U:U,0))","v":"2/1"},{"$f":"INDEX(Match!R:R,MATCH(E23,Match!U:U,0))","v":"Bolton"},{"$f":"INDEX(Match!Y:Y,MATCH(E23,Match!U:U,0))","v":"12/5"},{"$f":"INDEX(Match!Z:Z,MATCH(E23,Match!U:U,0))","v":"13/10"},{"$f":"INDEX(Match!AA:AA,MATCH(E23,Match!U:U,0))","v":3},{"$f":"INDEX(Match!AB:AB,MATCH(E23,Match!U:U,0))","v":3.4},{"$f":"INDEX(Match!AC:AC,MATCH(E23,Match!U:U,0))","v":2.2999999999999998}]
[23,{"$f":"IF(Match!B24=\"\",\"\",Match!B24)","v":"2021-08-28"},"1900-01-07",{"$f":"IF(Match!D24=\"\",\"\",Match!D24)","v":"League 1"},{"$f":"IF(Match!U24=\"\",\"\",Match!U24)","v":"Charlton  v  Crewe   17/20  5/2  16/5"},{"$f":"IF(Match!V24=\"\",\"\",Match!V24)","v":"Charlton 2-0 Crewe "},"Charlton","17/20",1.85,{"$f":"INDEX(Picks!T:T,MATCH(G24,Picks!R:R,0))","v":1},{"$f":"IF(INDEX(Match!P:P,MATCH(A24,Match!A:A,0))=\"OFF\",0,1)","v":1},{"$f":"INDEX(Match!Q:Q,MATCH(E24,Match!U:U,0))","v":"Charlton"},{"$f":"INDEX(Match!X:X,MATCH(E24,Match!U:U,0))","v":"17/20"},{"$f":"INDEX(Match!R:R,MATCH(E24,Match!U:U,0))","v":"Crewe"},{"$f":"INDEX(Match!Y:Y,MATCH(E24,Match!U:U,0))","v":"5/2"},{"$f":"INDEX(Match!Z:Z,MATCH(E24,Match!U:U,0))","v":"16/5"},{"$f":"INDEX(Match!AA:AA,MATCH(E24,Match!U:U,0))","v":1.85},{"$f":"INDEX(Match!AB:AB,MATCH(E24,Match!U:U,0))","v":3.5},{"$f":"INDEX(Match!AC:AC,MATCH(E24,Match!U:U,0))","v":4.2}]
[24,{"$f":"IF(Match!B25=\"\",\"\",Match!B25)","v":"2021-08-28"},"1900-01-07",{"$f":"IF(Match!D25=\"\",\"\",Match!D25)","v":"League 1"},{"$f":"IF(Match!U25=\"\",\"\",Match!U25)","v":"Ipswich  v  Wimbledon   1/1  23/10  29/10"},{"$f":"IF(Match!V25=\"\",\"\",Match!V25)","v":"Ipswich 2-2 Wimbledon "},"Ipswich","1/1",2,{"$f":"INDEX(Picks!T:T,MATCH(G25,Picks!R:R,0))","v":0},{"$f":"IF(INDEX(Match!P:P,MATCH(A25,Match!A:A,0))=\"OFF\",0,1)","v":1},{"$f":"INDEX(Match!Q:Q,MATCH(E25,Match!U:U,0))","v":"Ipswich"},{"$f":"INDEX(Match!X:X,MATCH(E25,Match!U:U,0))","v":"1/1"},{"$f":"INDEX(Match!R:R,MATCH(E25,Match!U:U,0))","v":"Wimbledon"},{"$f":"INDEX(Match!Y:Y,MATCH(E25,Match!U:U,0))","v":"23/10"},{"$f":"INDEX(Match!Z:Z,MATCH(E25,Match!U:U,0))","v":"29/10"},{"$f":"INDEX(Match!AA:AA,MATCH(E25,Match!U:U,0))","v":2},{"$f":"INDEX(Match!AB:AB,MATCH(E25,Match!U:U,0))","v":3.3},{"$f":"INDEX(Match!AC:AC,MATCH(E25,Match!U:U,0))","v":3.9}]
[25,{"$f":"IF(Match!B26=\"\",\"\",Match!B26)","v":"2021-08-28"},"1900-01-07",{"$f":"IF(Match!D26=\"\",\"\",Match!D26)","v":"League 1"},{"$f":"IF(Match!U26=\"\",\"\",Match!U26)","v":"MK Dons  v  Accrington   11/10  12/5  12/5"},{"$f":"IF(Match!V26=\"\",\"\",Match!V26)","v":"MK Dons 2-0 Accrington "},"MK Dons","11/10",2.1,{"$f":"INDEX(Picks!T:T,MATCH(G26,Picks!R:R,0))","v":1},{"$f":"IF(INDEX(Match!P:P,MATCH(A26,Match!A:A,0))=\"OFF\",0,1)","v":1},{"$f":"INDEX(Match!Q:Q,MATCH(E26,Match!U:U,0))","v":"MK Dons"},{"$f":"INDEX(Match!X:X,MATCH(E26,Match!U:U,0))","v":"11/10"},{"$f":"INDEX(Match!R:R,MATCH(E26,Match!U:U,0))","v":"Accrington"},{"$f":"INDEX(Match!Y:Y,MATCH(E26,Match!U:U,0))","v":"12/5"},{"$f":"INDEX(Match!Z:Z,MATCH(E26,Match!U:U,0))","v":"12/5"},{"$f":"INDEX(Match!AA:AA,MATCH(E26,Match!U:U,0))","v":2.1},{"$f":"INDEX(Match!AB:AB,MATCH(E26,Match!U:U,0))","v":3.4},{"$f":"INDEX(Match!AC:AC,MATCH(E26,Match!U:U,0))","v":3.4}]
[26,{"$f":"IF(Match!B27=\"\",\"\",Match!B27)","v":"2021-08-28"},"1900-01-07",{"$f":"IF(Match!D27=\"\",\"\",Match!D27)","v":"League 1"},{"$f":"IF(Match!U27=\"\",\"\",Match!U27)","v":"Morecambe  v  Sheff W   3/1  5/2  10/11"},{"$f":"IF(Match!V27=\"\",\"\",Match!V27)","v":"Morecambe 1-0 Sheff W "},"Morecambe","3/1",4,{"$f":"INDEX(Picks!T:T,MATCH(G27,Picks!R:R,0))","v":1},{"$f":"IF(INDEX(Match!P:P,MATCH(A27,Match!A:A,0))=\"OFF\",0,1)","v":1},{"$f":"INDEX(Match!Q:Q,MATCH(E27,Match!U:U,0))","v":"Morecambe"},{"$f":"INDEX(Match!X:X,MATCH(E27,Match!U:U,0))","v":"3/1"},{"$f":"INDEX(Match!R:R,MATCH(E27,Match!U:U,0))","v":"Sheff W"},{"$f":"INDEX(Match!Y:Y,MATCH(E27,Match!U:U,0))","v":"5/2"},{"$f":"INDEX(Match!Z:Z,MATCH(E27,Match!U:U,0))","v":"10/11"},{"$f":"INDEX(Match!AA:AA,MATCH(E27,Match!U:U,0))","v":4},{"$f":"INDEX(Match!AB:AB,MATCH(E27,Match!U:U,0))","v":3.5},{"$f":"INDEX(Match!AC:AC,MATCH(E27,Match!U:U,0))","v":1.9090909090909092}]
[27,{"$f":"IF(Match!B28=\"\",\"\",Match!B28)","v":"2021-08-28"},"1900-01-07",{"$f":"IF(Match!D28=\"\",\"\",Match!D28)","v":"League 1"},{"$f":"IF(Match!U28=\"\",\"\",Match!U28)","v":"Oxford  v  Lincoln   11/10  12/5  12/5"},{"$f":"IF(Match!V28=\"\",\"\",Match!V28)","v":"Oxford 3-1 Lincoln "},"Oxford","11/10",2.1,{"$f":"INDEX(Picks!T:T,MATCH(G28,Picks!R:R,0))","v":1},{"$f":"IF(INDEX(Match!P:P,MATCH(A28,Match!A:A,0))=\"OFF\",0,1)","v":1},{"$f":"INDEX(Match!Q:Q,MATCH(E28,Match!U:U,0))","v":"Oxford"},{"$f":"INDEX(Match!X:X,MATCH(E28,Match!U:U,0))","v":"11/10"},{"$f":"INDEX(Match!R:R,MATCH(E28,Match!U:U,0))","v":"Lincoln"},{"$f":"INDEX(Match!Y:Y,MATCH(E28,Match!U:U,0))","v":"12/5"},{"$f":"INDEX(Match!Z:Z,MATCH(E28,Match!U:U,0))","v":"12/5"},{"$f":"INDEX(Match!AA:AA,MATCH(E28,Match!U:U,0))","v":2.1},{"$f":"INDEX(Match!AB:AB,MATCH(E28,Match!U:U,0))","v":3.4},{"$f":"INDEX(Match!AC:AC,MATCH(E28,Match!U:U,0))","v":3.4}]
[28,{"$f":"IF(Match!B29=\"\",\"\",Match!B29)","v":"2021-08-28"},"1900-01-07",{"$f":"IF(Match!D29=\"\",\"\",Match!D29)","v":"League 1"},{"$f":"IF(Match!U29=\"\",\"\",Match!U29)","v":"Plymouth  v  Fleetwood   29/20  9/4  19/10"},{"$f":"IF(Match!V29=\"\",\"\",Match!V29)","v":"Plymouth 1-1 Fleetwood "},"Plymouth","29/20",2.4500000000000002,{"$f":"INDEX(Picks!T:T,MATCH(G29,Picks!R:R,0))","v":0},{"$f":"IF(INDEX(Match!P:P,MATCH(A29,Match!A:A,0))=\"OFF\",0,1)","v":1},{"$f":"INDEX(Match!Q:Q,MATCH(E29,Match!U:U,0))","v":"Plymouth"},{"$f":"INDEX(Match!X:X,MATCH(E29,Match!U:U,0))","v":"29/20"},{"$f":"INDEX(Match!R:R,MATCH(E29,Match!U:U,0))","v":"Fleetwood"},{"$f":"INDEX(Match!Y:Y,MATCH(E29,Match!U:U,0))","v":"9/4"},{"$f":"INDEX(Match!Z:Z,MATCH(E29,Match!U:U,0))","v":"19/10"},{"$f":"INDEX(Match!AA:AA,MATCH(E29,Match!U:U,0))","v":2.4500000000000002},{"$f":"INDEX(Match!AB:AB,MATCH(E29,Match!U:U,0))","v":3.25},{"$f":"INDEX(Match!AC:AC,MATCH(E29,Match!U:U,0))","v":2.9}]
[29,{"$f":"IF(Match!B30=\"\",\"\",Match!B30)","v":"2021-08-28"},"1900-01-07",{"$f":"IF(Match!D30=\"\",\"\",Match!D30)","v":"League 1"},{"$f":"IF(Match!U30=\"\",\"\",Match!U30)","v":"Rotherham  v  Doncaster   13/20  11/4  9/2"},{"$f":"IF(Match!V30=\"\",\"\",Match!V30)","v":"Rotherham 2-0 Doncaster "},"Rotherham","13/20",1.65,{"$f":"INDEX(Picks!T:T,MATCH(G30,Picks!R:R,0))","v":1},{"$f":"IF(INDEX(Match!P:P,MATCH(A30,Match!A:A,0))=\"OFF\",0,1)","v":1},{"$f":"INDEX(Match!Q:Q,MATCH(E30,Match!U:U,0))","v":"Rotherham"},{"$f":"INDEX(Match!X:X,MATCH(E30,Match!U:U,0))","v":"13/20"},{"$f":"INDEX(Match!R:R,MATCH(E30,Match!U:U,0))","v":"Doncaster"},{"$f":"INDEX(Match!Y:Y,MATCH(E30,Match!U:U,0))","v":"11/4"},{"$f":"INDEX(Match!Z:Z,MATCH(E30,Match!U:U,0))","v":"9/2"},{"$f":"INDEX(Match!AA:AA,MATCH(E30,Match!U:U,0))","v":1.65},{"$f":"INDEX(Match!AB:AB,MATCH(E30,Match!U:U,0))","v":3.75},{"$f":"INDEX(Match!AC:AC,MATCH(E30,Match!U:U,0))","v":5.5}]
[30,{"$f":"IF(Match!B31=\"\",\"\",Match!B31)","v":"2021-08-28"},"1900-01-07",{"$f":"IF(Match!D31=\"\",\"\",Match!D31)","v":"League 1"},{"$f":"IF(Match!U31=\"\",\"\",Match!U31)","v":"Shrewsbury  v  Gillingham   29/20  9/4  15/8"},{"$f":"IF(Match!V31=\"\",\"\",Match!V31)","v":"Shrewsbury 2-1 Gillingham "},"Shrewsbury","29/20",2.4500000000000002,{"$f":"INDEX(Picks!T:T,MATCH(G31,Picks!R:R,0))","v":1},{"$f":"IF(INDEX(Match!P:P,MATCH(A31,Match!A:A,0))=\"OFF\",0,1)","v":1},{"$f":"INDEX(Match!Q:Q,MATCH(E31,Match!U:U,0))","v":"Shrewsbury"},{"$f":"INDEX(Match!X:X,MATCH(E31,Match!U:U,0))","v":"29/20"},{"$f":"INDEX(Match!R:R,MATCH(E31,Match!U:U,0))","v":"Gillingham"},{"$f":"INDEX(Match!Y:Y,MATCH(E31,Match!U:U,0))","v":"9/4"},{"$f":"INDEX(Match!Z:Z,MATCH(E31,Match!U:U,0))","v":"15/8"},{"$f":"INDEX(Match!AA:AA,MATCH(E31,Match!U:U,0))","v":2.4500000000000002},{"$f":"INDEX(Match!AB:AB,MATCH(E31,Match!U:U,0))","v":3.25},{"$f":"INDEX(Match!AC:AC,MATCH(E31,Match!U:U,0))","v":2.875}]
[31,{"$f":"IF(Match!B32=\"\",\"\",Match!B32)","v":"2021-08-28"},"1900-01-07",{"$f":"IF(Match!D32=\"\",\"\",Match!D32)","v":"League 1"},{"$f":"IF(Match!U32=\"\",\"\",Match!U32)","v":"Sunderland  v  Wycombe   1/1  12/5  14/5"},{"$f":"IF(Match!V32=\"\",\"\",Match!V32)","v":"Sunderland 3-1 Wycombe "},"Sunderland","1/1",2,{"$f":"INDEX(Picks!T:T,MATCH(G32,Picks!R:R,0))","v":1},{"$f":"IF(INDEX(Match!P:P,MATCH(A32,Match!A:A,0))=\"OFF\",0,1)","v":1},{"$f":"INDEX(Match!Q:Q,MATCH(E32,Match!U:U,0))","v":"Sunderland"},{"$f":"INDEX(Match!X:X,MATCH(E32,Match!U:U,0))","v":"1/1"},{"$f":"INDEX(Match!R:R,MATCH(E32,Match!U:U,0))","v":"Wycombe"},{"$f":"INDEX(Match!Y:Y,MATCH(E32,Match!U:U,0))","v":"12/5"},{"$f":"INDEX(Match!Z:Z,MATCH(E32,Match!U:U,0))","v":"14/5"},{"$f":"INDEX(Match!AA:AA,MATCH(E32,Match!U:U,0))","v":2},{"$f":"INDEX(Match!AB:AB,MATCH(E32,Match!U:U,0))","v":3.4},{"$f":"INDEX(Match!AC:AC,MATCH(E32,Match!U:U,0))","v":3.8}]
[32,{"$f":"IF(Match!B33=\"\",\"\",Match!B33)","v":"2021-08-28"},"1900-01-07",{"$f":"IF(Match!D33=\"\",\"\",Match!D33)","v":"League 1"},{"$f":"IF(Match!U33=\"\",\"\",Match!U33)","v":"Wigan  v  Portsmouth   8/5  21/10  15/8"},{"$f":"IF(Match!V33=\"\",\"\",Match!V33)","v":"Wigan 1-0 Portsmouth "},{"$f":"IF(E33=\"\",\"\",L33)","v":"Wigan"},"8/5",2.6,{"$f":"INDEX(Picks!T:T,MATCH(G33,Picks!R:R,0))","v":1},{"$f":"IF(INDEX(Match!P:P,MATCH(A33,Match!A:A,0))=\"OFF\",0,1)","v":1},{"$f":"INDEX(Match!Q:Q,MATCH(E33,Match!U:U,0))","v":"Wigan"},{"$f":"INDEX(Match!X:X,MATCH(E33,Match!U:U,0))","v":"8/5"},{"$f":"INDEX(Match!R:R,MATCH(E33,Match!U:U,0))","v":"Portsmouth"},{"$f":"INDEX(Match!Y:Y,MATCH(E33,Match!U:U,0))","v":"21/10"},{"$f":"INDEX(Match!Z:Z,MATCH(E33,Match!U:U,0))","v":"15/8"},{"$f":"INDEX(Match!AA:AA,MATCH(E33,Match!U:U,0))","v":2.6},{"$f":"INDEX(Match!AB:AB,MATCH(E33,Match!U:U,0))","v":3.1},{"$f":"INDEX(Match!AC:AC,MATCH(E33,Match!U:U,0))","v":2.875}]
[33,{"$f":"IF(Match!B34=\"\",\"\",Match!B34)","v":"2021-08-28"},"1900-01-07",{"$f":"IF(Match!D34=\"\",\"\",Match!D34)","v":"League 2"},{"$f":"IF(Match!U34=\"\",\"\",Match!U34)","v":"Barrow  v  Bristol R   29/20  11/5  2/1"},{"$f":"IF(Match!V34=\"\",\"\",Match!V34)","v":"Barrow 1-1 Bristol R "},"Barrow","29/20",2.4500000000000002,{"$f":"INDEX(Picks!T:T,MATCH(G34,Picks!R:R,0))","v":0},{"$f":"IF(INDEX(Match!P:P,MATCH(A34,Match!A:A,0))=\"OFF\",0,1)","v":1},{"$f":"INDEX(Match!Q:Q,MATCH(E34,Match!U:U,0))","v":"Barrow"},{"$f":"INDEX(Match!X:X,MATCH(E34,Match!U:U,0))","v":"29/20"},{"$f":"INDEX(Match!R:R,MATCH(E34,Match!U:U,0))","v":"Bristol R"},{"$f":"INDEX(Match!Y:Y,MATCH(E34,Match!U:U,0))","v":"11/5"},{"$f":"INDEX(Match!Z:Z,MATCH(E34,Match!U:U,0))","v":"2/1"},{"$f":"INDEX(Match!AA:AA,MATCH(E34,Match!U:U,0))","v":2.4500000000000002},{"$f":"INDEX(Match!AB:AB,MATCH(E34,Match!U:U,0))","v":3.2},{"$f":"INDEX(Match!AC:AC,MATCH(E34,Match!U:U,0))","v":3}]
[34,{"$f":"IF(Match!B35=\"\",\"\",Match!B35)","v":"2021-08-28"},"1900-01-07",{"$f":"IF(Match!D35=\"\",\"\",Match!D35)","v":"League 2"},{"$f":"IF(Match!U35=\"\",\"\",Match!U35)","v":"Crawley  v  Northampton   15/8  23/10  29/20"},{"$f":"IF(Match!V35=\"\",\"\",Match!V35)","v":"Crawley 0-0 Northampton "},"Crawley","15/8",2.875,{"$f":"INDEX(Picks!T:T,MATCH(G35,Picks!R:R,0))","v":0},{"$f":"IF(INDEX(Match!P:P,MATCH(A35,Match!A:A,0))=\"OFF\",0,1)","v":1},{"$f":"INDEX(Match!Q:Q,MATCH(E35,Match!U:U,0))","v":"Crawley"},{"$f":"INDEX(Match!X:X,MATCH(E35,Match!U:U,0))","v":"15/8"},{"$f":"INDEX(Match!R:R,MATCH(E35,Match!U:U,0))","v":"Northampton"},{"$f":"INDEX(Match!Y:Y,MATCH(E35,Match!U:U,0))","v":"23/10"},{"$f":"INDEX(Match!Z:Z,MATCH(E35,Match!U:U,0))","v":"29/20"},{"$f":"INDEX(Match!AA:AA,MATCH(E35,Match!U:U,0))","v":2.875},{"$f":"INDEX(Match!AB:AB,MATCH(E35,Match!U:U,0))","v":3.3},{"$f":"INDEX(Match!AC:AC,MATCH(E35,Match!U:U,0))","v":2.4500000000000002}]
[35,{"$f":"IF(Match!B36=\"\",\"\",Match!B36)","v":"2021-08-28"},"1900-01-07",{"$f":"IF(Match!D36=\"\",\"\",Match!D36)","v":"League 2"},{"$f":"IF(Match!U36=\"\",\"\",Match!U36)","v":"Forest Green  v  Port Vale   23/20  21/10  27/10"},{"$f":"IF(Match!V36=\"\",\"\",Match!V36)","v":"Forest Green 0-2 Port Vale "},"Forest Green","23/20",2.15,{"$f":"INDEX(Picks!T:T,MATCH(G36,Picks!R:R,0))","v":0},{"$f":"IF(INDEX(Match!P:P,MATCH(A36,Match!A:A,0))=\"OFF\",0,1)","v":1},{"$f":"INDEX(Match!Q:Q,MATCH(E36,Match!U:U,0))","v":"Forest Green"},{"$f":"INDEX(Match!X:X,MATCH(E36,Match!U:U,0))","v":"23/20"},{"$f":"INDEX(Match!R:R,MATCH(E36,Match!U:U,0))","v":"Port Vale"},{"$f":"INDEX(Match!Y:Y,MATCH(E36,Match!U:U,0))","v":"21/10"},{"$f":"INDEX(Match!Z:Z,MATCH(E36,Match!U:U,0))","v":"27/10"},{"$f":"INDEX(Match!AA:AA,MATCH(E36,Match!U:U,0))","v":2.15},{"$f":"INDEX(Match!AB:AB,MATCH(E36,Match!U:U,0))","v":3.1},{"$f":"INDEX(Match!AC:AC,MATCH(E36,Match!U:U,0))","v":3.7}]
[36,{"$f":"IF(Match!B37=\"\",\"\",Match!B37)","v":"2021-08-28"},"1900-01-07",{"$f":"IF(Match!D37=\"\",\"\",Match!D37)","v":"League 2"},{"$f":"IF(Match!U37=\"\",\"\",Match!U37)","v":"Harrogate  v  Exeter   8/5  12/5  13/8"},{"$f":"IF(Match!V37=\"\",\"\",Match!V37)","v":"Harrogate 1-1 Exeter "},"Harrogate","8/5",2.6,{"$f":"INDEX(Picks!T:T,MATCH(G37,Picks!R:R,0))","v":0},{"$f":"IF(INDEX(Match!P:P,MATCH(A37,Match!A:A,0))=\"OFF\",0,1)","v":1},{"$f":"INDEX(Match!Q:Q,MATCH(E37,Match!U:U,0))","v":"Harrogate"},{"$f":"INDEX(Match!X:X,MATCH(E37,Match!U:U,0))","v":"8/5"},{"$f":"INDEX(Match!R:R,MATCH(E37,Match!U:U,0))","v":"Exeter"},{"$f":"INDEX(Match!Y:Y,MATCH(E37,Match!U:U,0))","v":"12/5"},{"$f":"INDEX(Match!Z:Z,MATCH(E37,Match!U:U,0))","v":"13/8"},{"$f":"INDEX(Match!AA:AA,MATCH(E37,Match!U:U,0))","v":2.6},{"$f":"INDEX(Match!AB:AB,MATCH(E37,Match!U:U,0))","v":3.4},{"$f":"INDEX(Match!AC:AC,MATCH(E37,Match!U:U,0))","v":2.625}]
[37,{"$f":"IF(Match!B38=\"\",\"\",Match!B38)","v":"2021-08-28"},"1900-01-07",{"$f":"IF(Match!D38=\"\",\"\",Match!D38)","v":"League 2"},{"$f":"IF(Match!U38=\"\",\"\",Match!U38)","v":"Hartlepool  v  Carlisle   15/8  11/5  6/4"},{"$f":"IF(Match!V38=\"\",\"\",Match!V38)","v":"Hartlepool 2-1 Carlisle "},"Hartlepool","15/8",2.875,{"$f":"INDEX(Picks!T:T,MATCH(G38,Picks!R:R,0))","v":1},{"$f":"IF(INDEX(Match!P:P,MATCH(A38,Match!A:A,0))=\"OFF\",0,1)","v":1},{"$f":"INDEX(Match!Q:Q,MATCH(E38,Match!U:U,0))","v":"Hartlepool"},{"$f":"INDEX(Match!X:X,MATCH(E38,Match!U:U,0))","v":"15/8"},{"$f":"INDEX(Match!R:R,MATCH(E38,Match!U:U,0))","v":"Carlisle"},{"$f":"INDEX(Match!Y:Y,MATCH(E38,Match!U:U,0))","v":"11/5"},{"$f":"INDEX(Match!Z:Z,MATCH(E38,Match!U:U,0))","v":"6/4"},{"$f":"INDEX(Match!AA:AA,MATCH(E38,Match!U:U,0))","v":2.875},{"$f":"INDEX(Match!AB:AB,MATCH(E38,Match!U:U,0))","v":3.2},{"$f":"INDEX(Match!AC:AC,MATCH(E38,Match!U:U,0))","v":2.5}]
[38,{"$f":"IF(Match!B39=\"\",\"\",Match!B39)","v":"2021-08-28"},"1900-01-07",{"$f":"IF(Match!D39=\"\",\"\",Match!D39)","v":"League 2"},{"$f":"IF(Match!U39=\"\",\"\",Match!U39)","v":"Orient  v  Bradford   2/1  21/10  21/10"},{"$f":"IF(Match!V39=\"\",\"\",Match!V39)","v":"Orient 2-0 Bradford "},"Orient","2/1",3,{"$f":"INDEX(Picks!T:T,MATCH(G39,Picks!R:R,0))","v":1},{"$f":"IF(INDEX(Match!P:P,MATCH(A39,Match!A:A,0))=\"OFF\",0,1)","v":1},{"$f":"INDEX(Match!Q:Q,MATCH(E39,Match!U:U,0))","v":"Orient"},{"$f":"INDEX(Match!X:X,MATCH(E39,Match!U:U,0))","v":"2/1"},{"$f":"INDEX(Match!R:R,MATCH(E39,Match!U:U,0))","v":"Bradford"},{"$f":"INDEX(Match!Y:Y,MATCH(E39,Match!U:U,0))","v":"21/10"},{"$f":"INDEX(Match!Z:Z,MATCH(E39,Match!U:U,0))","v":"21/10"},{"$f":"INDEX(Match!AA:AA,MATCH(E39,Match!U:U,0))","v":3},{"$f":"INDEX(Match!AB:AB,MATCH(E39,Match!U:U,0))","v":3.1},{"$f":"INDEX(Match!AC:AC,MATCH(E39,Match!U:U,0))","v":3.1}]
[39,{"$f":"IF(Match!B40=\"\",\"\",Match!B40)","v":"2021-08-28"},"1900-01-07",{"$f":"IF(Match!D40=\"\",\"\",Match!D40)","v":"League 2"},{"$f":"IF(Match!U40=\"\",\"\",Match!U40)","v":"Salford  v  Newport   7/5  21/10  29/20"},{"$f":"IF(Match!V40=\"\",\"\",Match!V40)","v":"Salford 3-0 Newport "},"Salford","7/5",2.4,{"$f":"INDEX(Picks!T:T,MATCH(G40,Picks!R:R,0))","v":1},{"$f":"IF(INDEX(Match!P:P,MATCH(A40,Match!A:A,0))=\"OFF\",0,1)","v":1},{"$f":"INDEX(Match!Q:Q,MATCH(E40,Match!U:U,0))","v":"Salford"},{"$f":"INDEX(Match!X:X,MATCH(E40,Match!U:U,0))","v":"7/5"},{"$f":"INDEX(Match!R:R,MATCH(E40,Match!U:U,0))","v":"Newport"},{"$f":"INDEX(Match!Y:Y,MATCH(E40,Match!U:U,0))","v":"21/10"},{"$f":"INDEX(Match!Z:Z,MATCH(E40,Match!U:U,0))","v":"29/20"},{"$f":"INDEX(Match!AA:AA,MATCH(E40,Match!U:U,0))","v":2.4},{"$f":"INDEX(Match!AB:AB,MATCH(E40,Match!U:U,0))","v":3.1},{"$f":"INDEX(Match!AC:AC,MATCH(E40,Match!U:U,0))","v":2.4500000000000002}]
[40,{"$f":"IF(Match!B41=\"\",\"\",Match!B41)","v":"2021-08-28"},"1900-01-07",{"$f":"IF(Match!D41=\"\",\"\",Match!D41)","v":"League 2"},{"$f":"IF(Match!U41=\"\",\"\",Match!U41)","v":"Scunthorpe  v  Tranmere   27/10  11/5  11/10"},{"$f":"IF(Match!V41=\"\",\"\",Match!V41)","v":"Scunthorpe 1-0 Tranmere "},"Scunthorpe","27/10",3.7,{"$f":"INDEX(Picks!T:T,MATCH(G41,Picks!R:R,0))","v":1},{"$f":"IF(INDEX(Match!P:P,MATCH(A41,Match!A:A,0))=\"OFF\",0,1)","v":1},{"$f":"INDEX(Match!Q:Q,MATCH(E41,Match!U:U,0))","v":"Scunthorpe"},{"$f":"INDEX(Match!X:X,MATCH(E41,Match!U:U,0))","v":"27/10"},{"$f":"INDEX(Match!R:R,MATCH(E41,Match!U:U,0))","v":"Tranmere"},{"$f":"INDEX(Match!Y:Y,MATCH(E41,Match!U:U,0))","v":"11/5"},{"$f":"INDEX(Match!Z:Z,MATCH(E41,Match!U:U,0))","v":"11/10"},{"$f":"INDEX(Match!AA:AA,MATCH(E41,Match!U:U,0))","v":3.7},{"$f":"INDEX(Match!AB:AB,MATCH(E41,Match!U:U,0))","v":3.2},{"$f":"INDEX(Match!AC:AC,MATCH(E41,Match!U:U,0))","v":2.1}]
[41,{"$f":"IF(Match!B42=\"\",\"\",Match!B42)","v":"2021-08-28"},"1900-01-07",{"$f":"IF(Match!D42=\"\",\"\",Match!D42)","v":"League 2"},{"$f":"IF(Match!U42=\"\",\"\",Match!U42)","v":"Sutton  v  Oldham   11/10  9/4  13/5"},{"$f":"IF(Match!V42=\"\",\"\",Match!V42)","v":"Sutton 1-2 Oldham "},"Sutton","11/10",2.1,{"$f":"INDEX(Picks!T:T,MATCH(G42,Picks!R:R,0))","v":0},{"$f":"IF(INDEX(Match!P:P,MATCH(A42,Match!A:A,0))=\"OFF\",0,1)","v":1},{"$f":"INDEX(Match!Q:Q,MATCH(E42,Match!U:U,0))","v":"Sutton"},{"$f":"INDEX(Match!X:X,MATCH(E42,Match!U:U,0))","v":"11/10"},{"$f":"INDEX(Match!R:R,MATCH(E42,Match!U:U,0))","v":"Oldham"},{"$f":"INDEX(Match!Y:Y,MATCH(E42,Match!U:U,0))","v":"9/4"},{"$f":"INDEX(Match!Z:Z,MATCH(E42,Match!U:U,0))","v":"13/5"},{"$f":"INDEX(Match!AA:AA,MATCH(E42,Match!U:U,0))","v":2.1},{"$f":"INDEX(Match!AB:AB,MATCH(E42,Match!U:U,0))","v":3.25},{"$f":"INDEX(Match!AC:AC,MATCH(E42,Match!U:U,0))","v":3.6}]
[42,{"$f":"IF(Match!B43=\"\",\"\",Match!B43)","v":"2021-08-28"},"1900-01-07",{"$f":"IF(Match!D43=\"\",\"\",Match!D43)","v":"League 2"},{"$f":"IF(Match!U43=\"\",\"\",Match!U43)","v":"Swindon  v  Mansfield   21/10  23/10  13/10"},{"$f":"IF(Match!V43=\"\",\"\",Match!V43)","v":"Swindon 1-0 Mansfield "},"Swindon","21/10",3.1,{"$f":"INDEX(Picks!T:T,MATCH(G43,Picks!R:R,0))","v":1},{"$f":"IF(INDEX(Match!P:P,MATCH(A43,Match!A:A,0))=\"OFF\",0,1)","v":1},{"$f":"INDEX(Match!Q:Q,MATCH(E43,Match!U:U,0))","v":"Swindon"},{"$f":"INDEX(Match!X:X,MATCH(E43,Match!U:U,0))","v":"21/10"},{"$f":"INDEX(Match!R:R,MATCH(E43,Match!U:U,0))","v":"Mansfield"},{"$f":"INDEX(Match!Y:Y,MATCH(E43,Match!U:U,0))","v":"23/10"},{"$f":"INDEX(Match!Z:Z,MATCH(E43,Match!U:U,0))","v":"13/10"},{"$f":"INDEX(Match!AA:AA,MATCH(E43,Match!U:U,0))","v":3.1},{"$f":"INDEX(Match!AB:AB,MATCH(E43,Match!U:U,0))","v":3.3},{"$f":"INDEX(Match!AC:AC,MATCH(E43,Match!U:U,0))","v":2.2999999999999998}]
[43,{"$f":"IF(Match!B44=\"\",\"\",Match!B44)","v":"2021-08-28"},"1900-01-07",{"$f":"IF(Match!D44=\"\",\"\",Match!D44)","v":"League 2"},{"$f":"IF(Match!U44=\"\",\"\",Match!U44)","v":"Walsall  v  Stevenage   15/8  21/10  8/5"},{"$f":"IF(Match!V44=\"\",\"\",Match!V44)","v":"Walsall 1-0 Stevenage "},"Walsall","15/8",2.875,{"$f":"INDEX(Picks!T:T,MATCH(G44,Picks!R:R,0))","v":1},{"$f":"IF(INDEX(Match!P:P,MATCH(A44,Match!A:A,0))=\"OFF\",0,1)","v":1},{"$f":"INDEX(Match!Q:Q,MATCH(E44,Match!U:U,0))","v":"Walsall"},{"$f":"INDEX(Match!X:X,MATCH(E44,Match!U:U,0))","v":"15/8"},{"$f":"INDEX(Match!R:R,MATCH(E44,Match!U:U,0))","v":"Stevenage"},{"$f":"INDEX(Match!Y:Y,MATCH(E44,Match!U:U,0))","v":"21/10"},{"$f":"INDEX(Match!Z:Z,MATCH(E44,Match!U:U,0))","v":"8/5"},{"$f":"INDEX(Match!AA:AA,MATCH(E44,Match!U:U,0))","v":2.875},{"$f":"INDEX(Match!AB:AB,MATCH(E44,Match!U:U,0))","v":3.1},{"$f":"INDEX(Match!AC:AC,MATCH(E44,Match!U:U,0))","v":2.6}]
[44,{"$f":"IF(Match!B45=\"\",\"\",Match!B45)","v":"2021-08-29"},"1900-01-01",{"$f":"IF(Match!D45=\"\",\"\",Match!D45)","v":"Premier"},{"$f":"IF(Match!U45=\"\",\"\",Match!U45)","v":"Burnley  v  Leeds   21/10  5/2  5/4"},{"$f":"IF(Match!V45=\"\",\"\",Match!V45)","v":"Burnley 1-1 Leeds "},"Burnley","21/10",3.1,{"$f":"INDEX(Picks!T:T,MATCH(G45,Picks!R:R,0))","v":0},{"$f":"IF(INDEX(Match!P:P,MATCH(A45,Match!A:A,0))=\"OFF\",0,1)","v":1},{"$f":"INDEX(Match!Q:Q,MATCH(E45,Match!U:U,0))","v":"Burnley"},{"$f":"INDEX(Match!X:X,MATCH(E45,Match!U:U,0))","v":"21/10"},{"$f":"INDEX(Match!R:R,MATCH(E45,Match!U:U,0))","v":"Leeds"},{"$f":"INDEX(Match!Y:Y,MATCH(E45,Match!U:U,0))","v":"5/2"},{"$f":"INDEX(Match!Z:Z,MATCH(E45,Match!U:U,0))","v":"5/4"},{"$f":"INDEX(Match!AA:AA,MATCH(E45,Match!U:U,0))","v":3.1},{"$f":"INDEX(Match!AB:AB,MATCH(E45,Match!U:U,0))","v":3.5},{"$f":"INDEX(Match!AC:AC,MATCH(E45,Match!U:U,0))","v":2.25}]
[45,{"$f":"IF(Match!B46=\"\",\"\",Match!B46)","v":"2021-08-29"},"1900-01-01",{"$f":"IF(Match!D46=\"\",\"\",Match!D46)","v":"Premier"},{"$f":"IF(Match!U46=\"\",\"\",Match!U46)","v":"Spurs  v  Watford   2/5  17/5  15/2"},{"$f":"IF(Match!V46=\"\",\"\",Match!V46)","v":"Spurs 1-0 Watford "},"Spurs",{"$f":"IF(E46=\"\",\"\",M46)","v":"2/5"},1.4,{"$f":"INDEX(Picks!T:T,MATCH(G46,Picks!R:R,0))","v":1},{"$f":"IF(INDEX(Match!P:P,MATCH(A46,Match!A:A,0))=\"OFF\",0,1)","v":1},{"$f":"INDEX(Match!Q:Q,MATCH(E46,Match!U:U,0))","v":"Spurs"},{"$f":"INDEX(Match!X:X,MATCH(E46,Match!U:U,0))","v":"2/5"},{"$f":"INDEX(Match!R:R,MATCH(E46,Match!U:U,0))","v":"Watford"},{"$f":"INDEX(Match!Y:Y,MATCH(E46,Match!U:U,0))","v":"17/5"},{"$f":"INDEX(Match!Z:Z,MATCH(E46,Match!U:U,0))","v":"15/2"},{"$f":"INDEX(Match!AA:AA,MATCH(E46,Match!U:U,0))","v":1.4},{"$f":"INDEX(Match!AB:AB,MATCH(E46,Match!U:U,0))","v":4.4000000000000004},{"$f":"INDEX(Match!AC:AC,MATCH(E46,Match!U:U,0))","v":8.5}]
[46,{"$f":"IF(Match!B47=\"\",\"\",Match!B47)","v":"2021-08-29"},"1900-01-01",{"$f":"IF(Match!D47=\"\",\"\",Match!D47)","v":"Premier"},{"$f":"IF(Match!U47=\"\",\"\",Match!U47)","v":"Wolves  v  Man U   4/1  12/5  4/5"},{"$f":"IF(Match!V47=\"\",\"\",Match!V47)","v":"Wolves 0-1 Man U "},{"$f":"IF(E47=\"\",\"\",L47)","v":"Wolves"},{"$f":"IF(E47=\"\",\"\",M47)","v":"4/1"},5,{"$f":"INDEX(Picks!T:T,MATCH(G47,Picks!R:R,0))","v":0},{"$f":"IF(INDEX(Match!P:P,MATCH(A47,Match!A:A,0))=\"OFF\",0,1)","v":1},{"$f":"INDEX(Match!Q:Q,MATCH(E47,Match!U:U,0))","v":"Wolves"},{"$f":"INDEX(Match!X:X,MATCH(E47,Match!U:U,0))","v":"4/1"},{"$f":"INDEX(Match!R:R,MATCH(E47,Match!U:U,0))","v":"Man U"},{"$f":"INDEX(Match!Y:Y,MATCH(E47,Match!U:U,0))","v":"12/5"},{"$f":"INDEX(Match!Z:Z,MATCH(E47,Match!U:U,0))","v":"4/5"},{"$f":"INDEX(Match!AA:AA,MATCH(E47,Match!U:U,0))","v":5},{"$f":"INDEX(Match!AB:AB,MATCH(E47,Match!U:U,0))","v":3.4},{"$f":"INDEX(Match!AC:AC,MATCH(E47,Match!U:U,0))","v":1.8}]
[1,{"$f":"IF(Match!B2=\"\",\"\",Match!B2)","v":"2021-08-27"},"1900-01-06",null,null,null,{"$f":"IF(E2=\"\",\"\",L2&\" draw\")","v":"Burton draw"},{"$f":"IF(E2=\"\",\"\",O2)","v":"5/2"},{"$f":"IF(E2=\"\",\"\",R2)","v":3.5},{"$f":"INDEX(Picks!T:T,MATCH(G48,Picks!R:R,0))","v":1},{"$f":"IF(INDEX(Match!P:P,MATCH(A48,Match!A:A,0))=\"OFF\",0,1)","v":1}]
[2,{"$f":"IF(Match!B3=\"\",\"\",Match!B3)","v":"2021-08-27"},"1900-01-06",null,null,null,"Rochdale draw","11/5",{"$f":"IF(E3=\"\",\"\",R3)","v":3.2},{"$f":"INDEX(Picks!T:T,MATCH(G49,Picks!R:R,0))","v":1},{"$f":"IF(INDEX(Match!P:P,MATCH(A49,Match!A:A,0))=\"OFF\",0,1)","v":1}]
[3,{"$f":"IF(Match!B4=\"\",\"\",Match!B4)","v":"2021-08-28"},"1900-01-07",null,null,null,"Brighton draw","11/5",3.2,{"$f":"INDEX(Picks!T:T,MATCH(G50,Picks!R:R,0))","v":0},{"$f":"IF(INDEX(Match!P:P,MATCH(A50,Match!A:A,0))=\"OFF\",0,1)","v":1}]
[4,{"$f":"IF(Match!B5=\"\",\"\",Match!B5)","v":"2021-08-28"},"1900-01-07",null,null,null,"Liverpool draw","23/10",3.3,{"$f":"INDEX(Picks!T:T,MATCH(G51,Picks!R:R,0))","v":1},{"$f":"IF(INDEX(Match!P:P,MATCH(A51,Match!A:A,0))=\"OFF\",0,1)","v":1}]
[5,{"$f":"IF(Match!B6=\"\",\"\",Match!B6)","v":"2021-08-28"},"1900-01-07",null,null,null,"Man C draw","24/5",5.8,{"$f":"INDEX(Picks!T:T,MATCH(G52,Picks!R:R,0))","v":0},{"$f":"IF(INDEX(Match!P:P,MATCH(A52,Match!A:A,0))=\"OFF\",0,1)","v":1}]
[6,{"$f":"IF(Match!B7=\"\",\"\",Match!B7)","v":"2021-08-28"},"1900-01-07",null,null,null,"Newcastle draw","5/2",3.5,{"$f":"INDEX(Picks!T:T,MATCH(G53,Picks!R:R,0))","v":1},{"$f":"IF(INDEX(Match!P:P,MATCH(A53,Match!A:A,0))=\"OFF\",0,1)","v":1}]
[7,{"$f":"IF(Match!B8=\"\",\"\",Match!B8)","v":"2021-08-28"},"1900-01-07",null,null,null,"Norwich draw","27/10",3.7,{"$f":"INDEX(Picks!T:T,MATCH(G54,Picks!R:R,0))","v":0},{"$f":"IF(INDEX(Match!P:P,MATCH(A54,Match!A:A,0))=\"OFF\",0,1)","v":1}]
[8,{"$f":"IF(Match!B9=\"\",\"\",Match!B9)","v":"2021-08-28"},"1900-01-07",null,null,null,"Villa draw","13/5",3.6,{"$f":"INDEX(Picks!T:T,MATCH(G55,Picks!R:R,0))","v":1},{"$f":"IF(INDEX(Match!P:P,MATCH(A55,Match!A:A,0))=\"OFF\",0,1)","v":1}]
[9,{"$f":"IF(Match!B10=\"\",\"\",Match!B10)","v":"2021-08-28"},"1900-01-07",null,null,null,"West Ham draw","29/10",3.9,{"$f":"INDEX(Picks!T:T,MATCH(G56,Picks!R:R,0))","v":1},{"$f":"IF(INDEX(Match!P:P,MATCH(A56,Match!A:A,0))=\"OFF\",0,1)","v":1}]
[10,{"$f":"IF(Match!B11=\"\",\"\",Match!B11)","v":"2021-08-28"},"1900-01-07",null,null,null,"Barnsley draw","21/10",3.1,{"$f":"INDEX(Picks!T:T,MATCH(G57,Picks!R:R,0))","v":1},{"$f":"IF(INDEX(Match!P:P,MATCH(A57,Match!A:A,0))=\"OFF\",0,1)","v":1}]
[11,{"$f":"IF(Match!B12=\"\",\"\",Match!B12)","v":"2021-08-28"},"1900-01-07",null,null,null,"Cardiff draw","23/10",3.3,{"$f":"INDEX(Picks!T:T,MATCH(G58,Picks!R:R,0))","v":0},{"$f":"IF(INDEX(Match!P:P,MATCH(A58,Match!A:A,0))=\"OFF\",0,1)","v":1}]
[12,{"$f":"IF(Match!B13=\"\",\"\",Match!B13)","v":"2021-08-28"},"1900-01-07",null,null,null,"Derby draw","2/1",3,{"$f":"INDEX(Picks!T:T,MATCH(G59,Picks!R:R,0))","v":1},{"$f":"IF(INDEX(Match!P:P,MATCH(A59,Match!A:A,0))=\"OFF\",0,1)","v":1}]
[13,{"$f":"IF(Match!B14=\"\",\"\",Match!B14)","v":"2021-08-28"},"1900-01-07",null,null,null,"Fulham draw","11/5",3.2,{"$f":"INDEX(Picks!T:T,MATCH(G60,Picks!R:R,0))","v":0},{"$f":"IF(INDEX(Match!P:P,MATCH(A60,Match!A:A,0))=\"OFF\",0,1)","v":1}]
[14,{"$f":"IF(Match!B15=\"\",\"\",Match!B15)","v":"2021-08-28"},"1900-01-07",null,null,null,"Huddersfield draw","12/5",3.4,{"$f":"INDEX(Picks!T:T,MATCH(G61,Picks!R:R,0))","v":0},{"$f":"IF(INDEX(Match!P:P,MATCH(A61,Match!A:A,0))=\"OFF\",0,1)","v":1}]
[15,{"$f":"IF(Match!B16=\"\",\"\",Match!B16)","v":"2021-08-28"},"1900-01-07",null,null,null,"Hull draw","11/5",3.2,{"$f":"INDEX(Picks!T:T,MATCH(G62,Picks!R:R,0))","v":1},{"$f":"IF(INDEX(Match!P:P,MATCH(A62,Match!A:A,0))=\"OFF\",0,1)","v":1}]
[16,{"$f":"IF(Match!B17=\"\",\"\",Match!B17)","v":"2021-08-28"},"1900-01-07",null,null,null,"Luton draw","21/10",3.1,{"$f":"INDEX(Picks!T:T,MATCH(G63,Picks!R:R,0))","v":1},{"$f":"IF(INDEX(Match!P:P,MATCH(A63,Match!A:A,0))=\"OFF\",0,1)","v":1}]
[17,{"$f":"IF(Match!B18=\"\",\"\",Match!B18)","v":"2021-08-28"},"1900-01-07",null,null,null,"Middlesbro draw","11/5",3.2,{"$f":"INDEX(Picks!T:T,MATCH(G64,Picks!R:R,0))","v":1},{"$f":"IF(INDEX(Match!P:P,MATCH(A64,Match!A:A,0))=\"OFF\",0,1)","v":1}]
[18,{"$f":"IF(Match!B19=\"\",\"\",Match!B19)","v":"2021-08-28"},"1900-01-07",null,null,null,"Millwall draw","11/5",3.2,{"$f":"INDEX(Picks!T:T,MATCH(G65,Picks!R:R,0))","v":0},{"$f":"IF(INDEX(Match!P:P,MATCH(A65,Match!A:A,0))=\"OFF\",0,1)","v":1}]
[19,{"$f":"IF(Match!B20=\"\",\"\",Match!B20)","v":"2021-08-28"},"1900-01-07",null,null,null,"Peterborough draw","5/2",3.5,{"$f":"INDEX(Picks!T:T,MATCH(G66,Picks!R:R,0))","v":0},{"$f":"IF(INDEX(Match!P:P,MATCH(A66,Match!A:A,0))=\"OFF\",0,1)","v":1}]
[20,{"$f":"IF(Match!B21=\"\",\"\",Match!B21)","v":"2021-08-28"},{"$f":"IF(B67=\"\",\"\",WEEKDAY(B67))","v":"1900-01-07"},null,null,null,"Preston draw","21/10",3.1,{"$f":"INDEX(Picks!T:T,MATCH(G67,Picks!R:R,0))","v":0},{"$f":"IF(INDEX(Match!P:P,MATCH(A67,Match!A:A,0))=\"OFF\",0,1)","v":1}]
[21,{"$f":"IF(Match!B22=\"\",\"\",Match!B22)","v":"2021-08-28"},"1900-01-07",null,null,null,"QPR draw","11/5",3.2,{"$f":"INDEX(Picks!T:T,MATCH(G68,Picks!R:R,0))","v":0},{"$f":"IF(INDEX(Match!P:P,MATCH(A68,Match!A:A,0))=\"OFF\",0,1)","v":1}]
[22,{"$f":"IF(Match!B23=\"\",\"\",Match!B23)","v":"2021-08-28"},"1900-01-07",null,null,null,"Cambridge draw","12/5",3.4,{"$f":"INDEX(Picks!T:T,MATCH(G69,Picks!R:R,0))","v":0},{"$f":"IF(INDEX(Match!P:P,MATCH(A69,Match!A:A,0))=\"OFF\",0,1)","v":1}]
[23,{"$f":"IF(Match!B24=\"\",\"\",Match!B24)","v":"2021-08-28"},"1900-01-07",null,null,null,"Charlton draw","5/2",3.5,{"$f":"INDEX(Picks!T:T,MATCH(G70,Picks!R:R,0))","v":0},{"$f":"IF(INDEX(Match!P:P,MATCH(A70,Match!A:A,0))=\"OFF\",0,1)","v":1}]
[24,{"$f":"IF(Match!B25=\"\",\"\",Match!B25)","v":"2021-08-28"},"1900-01-07",null,null,null,"Ipswich draw","23/10",3.3,{"$f":"INDEX(Picks!T:T,MATCH(G71,Picks!R:R,0))","v":1},{"$f":"IF(INDEX(Match!P:P,MATCH(A71,Match!A:A,0))=\"OFF\",0,1)","v":1}]
[25,{"$f":"IF(Match!B26=\"\",\"\",Match!B26)","v":"2021-08-28"},"1900-01-07",null,null,null,"MK Dons draw","12/5",3.4,{"$f":"INDEX(Picks!T:T,MATCH(G72,Picks!R:R,0))","v":0},{"$f":"IF(INDEX(Match!P:P,MATCH(A72,Match!A:A,0))=\"OFF\",0,1)","v":1}]
[26,{"$f":"IF(Match!B27=\"\",\"\",Match!B27)","v":"2021-08-28"},"1900-01-07",null,null,null,"Morecambe draw","5/2",3.5,{"$f":"INDEX(Picks!T:T,MATCH(G73,Picks!R:R,0))","v":0},{"$f":"IF(INDEX(Match!P:P,MATCH(A73,Match!A:A,0))=\"OFF\",0,1)","v":1}]
[27,{"$f":"IF(Match!B28=\"\",\"\",Match!B28)","v":"2021-08-28"},"1900-01-07",null,null,null,"Oxford draw","12/5",3.4,{"$f":"INDEX(Picks!T:T,MATCH(G74,Picks!R:R,0))","v":0},{"$f":"IF(INDEX(Match!P:P,MATCH(A74,Match!A:A,0))=\"OFF\",0,1)","v":1}]
[28,{"$f":"IF(Match!B29=\"\",\"\",Match!B29)","v":"2021-08-28"},"1900-01-07",null,null,null,"Plymouth draw","9/4",3.25,{"$f":"INDEX(Picks!T:T,MATCH(G75,Picks!R:R,0))","v":1},{"$f":"IF(INDEX(Match!P:P,MATCH(A75,Match!A:A,0))=\"OFF\",0,1)","v":1}]
[29,{"$f":"IF(Match!B30=\"\",\"\",Match!B30)","v":"2021-08-28"},"1900-01-07",null,null,null,"Rotherham draw","11/4",3.75,{"$f":"INDEX(Picks!T:T,MATCH(G76,Picks!R:R,0))","v":0},{"$f":"IF(INDEX(Match!P:P,MATCH(A76,Match!A:A,0))=\"OFF\",0,1)","v":1}]
[30,{"$f":"IF(Match!B31=\"\",\"\",Match!B31)","v":"2021-08-28"},"1900-01-07",null,null,null,"Shrewsbury draw","9/4",3.25,{"$f":"INDEX(Picks!T:T,MATCH(G77,Picks!R:R,0))","v":0},{"$f":"IF(INDEX(Match!P:P,MATCH(A77,Match!A:A,0))=\"OFF\",0,1)","v":1}]
[31,{"$f":"IF(Match!B32=\"\",\"\",Match!B32)","v":"2021-08-28"},"1900-01-07",null,null,null,"Sunderland draw","12/5",3.4,{"$f":"INDEX(Picks!T:T,MATCH(G78,Picks!R:R,0))","v":0},{"$f":"IF(INDEX(Match!P:P,MATCH(A78,Match!A:A,0))=\"OFF\",0,1)","v":1}]
[32,{"$f":"IF(Match!B33=\"\",\"\",Match!B33)","v":"2021-08-28"},"1900-01-07",null,null,null,"Wigan draw","21/10",3.1,{"$f":"INDEX(Picks!T:T,MATCH(G79,Picks!R:R,0))","v":0},{"$f":"IF(INDEX(Match!P:P,MATCH(A79,Match!A:A,0))=\"OFF\",0,1)","v":1}]
[33,{"$f":"IF(Match!B34=\"\",\"\",Match!B34)","v":"2021-08-28"},"1900-01-07",null,null,null,"Barrow draw","11/5",3.2,{"$f":"INDEX(Picks!T:T,MATCH(G80,Picks!R:R,0))","v":1},{"$f":"IF(INDEX(Match!P:P,MATCH(A80,Match!A:A,0))=\"OFF\",0,1)","v":1}]
[34,{"$f":"IF(Match!B35=\"\",\"\",Match!B35)","v":"2021-08-28"},"1900-01-07",null,null,null,"Crawley draw","23/10",3.3,{"$f":"INDEX(Picks!T:T,MATCH(G81,Picks!R:R,0))","v":1},{"$f":"IF(INDEX(Match!P:P,MATCH(A81,Match!A:A,0))=\"OFF\",0,1)","v":1}]
[35,{"$f":"IF(Match!B36=\"\",\"\",Match!B36)","v":"2021-08-28"},"1900-01-07",null,null,null,"Forest Green draw","21/10",3.1,{"$f":"INDEX(Picks!T:T,MATCH(G82,Picks!R:R,0))","v":0},{"$f":"IF(INDEX(Match!P:P,MATCH(A82,Match!A:A,0))=\"OFF\",0,1)","v":1}]
[36,{"$f":"IF(Match!B37=\"\",\"\",Match!B37)","v":"2021-08-28"},"1900-01-07",null,null,null,"Harrogate draw","12/5",3.4,{"$f":"INDEX(Picks!T:T,MATCH(G83,Picks!R:R,0))","v":1},{"$f":"IF(INDEX(Match!P:P,MATCH(A83,Match!A:A,0))=\"OFF\",0,1)","v":1}]
[37,{"$f":"IF(Match!B38=\"\",\"\",Match!B38)","v":"2021-08-28"},"1900-01-07",null,null,null,"Hartlepool draw","11/5",3.2,{"$f":"INDEX(Picks!T:T,MATCH(G84,Picks!R:R,0))","v":0},{"$f":"IF(INDEX(Match!P:P,MATCH(A84,Match!A:A,0))=\"OFF\",0,1)","v":1}]
[38,{"$f":"IF(Match!B39=\"\",\"\",Match!B39)","v":"2021-08-28"},"1900-01-07",null,null,null,"Orient draw","21/10",3.1,{"$f":"INDEX(Picks!T:T,MATCH(G85,Picks!R:R,0))","v":0},{"$f":"IF(INDEX(Match!P:P,MATCH(A85,Match!A:A,0))=\"OFF\",0,1)","v":1}]
[39,{"$f":"IF(Match!B40=\"\",\"\",Match!B40)","v":"2021-08-28"},"1900-01-07",null,null,null,"Salford draw","21/10",3.1,{"$f":"INDEX(Picks!T:T,MATCH(G86,Picks!R:R,0))","v":0},{"$f":"IF(INDEX(Match!P:P,MATCH(A86,Match!A:A,0))=\"OFF\",0,1)","v":1}]
[40,{"$f":"IF(Match!B41=\"\",\"\",Match!B41)","v":"2021-08-28"},"1900-01-07",null,null,null,"Scunthorpe draw","11/5",3.2,{"$f":"INDEX(Picks!T:T,MATCH(G87,Picks!R:R,0))","v":0},{"$f":"IF(INDEX(Match!P:P,MATCH(A87,Match!A:A,0))=\"OFF\",0,1)","v":1}]
[41,{"$f":"IF(Match!B42=\"\",\"\",Match!B42)","v":"2021-08-28"},"1900-01-07",null,null,null,"Sutton draw","9/4",3.25,{"$f":"INDEX(Picks!T:T,MATCH(G88,Picks!R:R,0))","v":0},{"$f":"IF(INDEX(Match!P:P,MATCH(A88,Match!A:A,0))=\"OFF\",0,1)","v":1}]
[42,{"$f":"IF(Match!B43=\"\",\"\",Match!B43)","v":"2021-08-28"},"1900-01-07",null,null,null,"Swindon draw","23/10",3.3,{"$f":"INDEX(Picks!T:T,MATCH(G89,Picks!R:R,0))","v":0},{"$f":"IF(INDEX(Match!P:P,MATCH(A89,Match!A:A,0))=\"OFF\",0,1)","v":1}]
[43,{"$f":"IF(Match!B44=\"\",\"\",Match!B44)","v":"2021-08-28"},"1900-01-07",null,null,null,"Walsall draw","21/10",3.1,{"$f":"INDEX(Picks!T:T,MATCH(G90,Picks!R:R,0))","v":0},{"$f":"IF(INDEX(Match!P:P,MATCH(A90,Match!A:A,0))=\"OFF\",0,1)","v":1}]
[44,{"$f":"IF(Match!B45=\"\",\"\",Match!B45)","v":"2021-08-29"},"1900-01-01",null,null,null,"Burnley draw","5/2",3.5,{"$f":"INDEX(Picks!T:T,MATCH(G91,Picks!R:R,0))","v":1},{"$f":"IF(INDEX(Match!P:P,MATCH(A91,Match!A:A,0))=\"OFF\",0,1)","v":1}]
[45,{"$f":"IF(Match!B46=\"\",\"\",Match!B46)","v":"2021-08-29"},"1900-01-01",null,null,null,"Spurs draw","17/5",4.4000000000000004,{"$f":"INDEX(Picks!T:T,MATCH(G92,Picks!R:R,0))","v":0},{"$f":"IF(INDEX(Match!P:P,MATCH(A92,Match!A:A,0))=\"OFF\",0,1)","v":1}]
[46,{"$f":"IF(Match!B47=\"\",\"\",Match!B47)","v":"2021-08-29"},"1900-01-01",null,null,null,"Wolves draw","12/5",3.4,{"$f":"INDEX(Picks!T:T,MATCH(G93,Picks!R:R,0))","v":0},{"$f":"IF(INDEX(Match!P:P,MATCH(A93,Match!A:A,0))=\"OFF\",0,1)","v":1}]
[1,{"$f":"IF(Match!B2=\"\",\"\",Match!B2)","v":"2021-08-27"},"1900-01-06",null,null,null,{"$f":"IF(E2=\"\",\"\",N2)","v":"Cheltenham"},{"$f":"IF(E2=\"\",\"\",P2)","v":"27/10"},{"$f":"IF(E2=\"\",\"\",S2)","v":3.7},{"$f":"INDEX(Picks!T:T,MATCH(G94,Picks!R:R,0))","v":0},{"$f":"IF(INDEX(Match!P:P,MATCH(A94,Match!A:A,0))=\"OFF\",0,1)","v":1}]
[2,{"$f":"IF(Match!B3=\"\",\"\",Match!B3)","v":"2021-08-27"},"1900-01-06",null,null,null,"Colchester","21/10",{"$f":"IF(E3=\"\",\"\",S3)","v":3.1},{"$f":"INDEX(Picks!T:T,MATCH(G95,Picks!R:R,0))","v":0},{"$f":"IF(INDEX(Match!P:P,MATCH(A95,Match!A:A,0))=\"OFF\",0,1)","v":1}]
[3,{"$f":"IF(Match!B4=\"\",\"\",Match!B4)","v":"2021-08-28"},"1900-01-07",null,null,null,"Everton","11/5",3.2,{"$f":"INDEX(Picks!T:T,MATCH(G96,Picks!R:R,0))","v":1},{"$f":"IF(INDEX(Match!P:P,MATCH(A96,Match!A:A,0))=\"OFF\",0,1)","v":1}]
[4,{"$f":"IF(Match!B5=\"\",\"\",Match!B5)","v":"2021-08-28"},"1900-01-07",null,null,null,"Chelsea","7/4",2.75,{"$f":"INDEX(Picks!T:T,MATCH(G97,Picks!R:R,0))","v":0},{"$f":"IF(INDEX(Match!P:P,MATCH(A97,Match!A:A,0))=\"OFF\",0,1)","v":1}]
[5,{"$f":"IF(Match!B6=\"\",\"\",Match!B6)","v":"2021-08-28"},"1900-01-07",null,null,null,"Arsenal","11/1",12,{"$f":"INDEX(Picks!T:T,MATCH(G98,Picks!R:R,0))","v":0},{"$f":"IF(INDEX(Match!P:P,MATCH(A98,Match!A:A,0))=\"OFF\",0,1)","v":1}]
[6,{"$f":"IF(Match!B7=\"\",\"\",Match!B7)","v":"2021-08-28"},"1900-01-07",null,null,null,"Southampton","13/8",2.625,{"$f":"INDEX(Picks!T:T,MATCH(G99,Picks!R:R,0))","v":0},{"$f":"IF(INDEX(Match!P:P,MATCH(A99,Match!A:A,0))=\"OFF\",0,1)","v":1}]
[7,{"$f":"IF(Match!B8=\"\",\"\",Match!B8)","v":"2021-08-28"},"1900-01-07",null,null,null,"Leicester","8/11",1.7272727272727273,{"$f":"INDEX(Picks!T:T,MATCH(G100,Picks!R:R,0))","v":1},{"$f":"IF(INDEX(Match!P:P,MATCH(A100,Match!A:A,0))=\"OFF\",0,1)","v":1}]
[8,{"$f":"IF(Match!B9=\"\",\"\",Match!B9)","v":"2021-08-28"},"1900-01-07",null,null,null,"Brentford","27/10",3.7,{"$f":"INDEX(Picks!T:T,MATCH(G101,Picks!R:R,0))","v":0},{"$f":"IF(INDEX(Match!P:P,MATCH(A101,Match!A:A,0))=\"OFF\",0,1)","v":1}]
[9,{"$f":"IF(Match!B10=\"\",\"\",Match!B10)","v":"2021-08-28"},"1900-01-07",null,null,null,"Palace","24/5",5.8,{"$f":"INDEX(Picks!T:T,MATCH(G102,Picks!R:R,0))","v":0},{"$f":"IF(INDEX(Match!P:P,MATCH(A102,Match!A:A,0))=\"OFF\",0,1)","v":1}]
[10,{"$f":"IF(Match!B11=\"\",\"\",Match!B11)","v":"2021-08-28"},"1900-01-07",null,null,null,"Birmingham","27/10",3.7,{"$f":"INDEX(Picks!T:T,MATCH(G103,Picks!R:R,0))","v":0},{"$f":"IF(INDEX(Match!P:P,MATCH(A103,Match!A:A,0))=\"OFF\",0,1)","v":1}]
[11,{"$f":"IF(Match!B12=\"\",\"\",Match!B12)","v":"2021-08-28"},"1900-01-07",null,null,null,"Bristol C","16/5",4.2,{"$f":"INDEX(Picks!T:T,MATCH(G104,Picks!R:R,0))","v":1},{"$f":"IF(INDEX(Match!P:P,MATCH(A104,Match!A:A,0))=\"OFF\",0,1)","v":1}]
[12,{"$f":"IF(Match!B13=\"\",\"\",Match!B13)","v":"2021-08-28"},"1900-01-07",null,null,null,"Forest","7/4",2.75,{"$f":"INDEX(Picks!T:T,MATCH(G105,Picks!R:R,0))","v":0},{"$f":"IF(INDEX(Match!P:P,MATCH(A105,Match!A:A,0))=\"OFF\",0,1)","v":1}]
[13,{"$f":"IF(Match!B14=\"\",\"\",Match!B14)","v":"2021-08-28"},"1900-01-07",null,null,null,"Stoke","3/1",4,{"$f":"INDEX(Picks!T:T,MATCH(G106,Picks!R:R,0))","v":0},{"$f":"IF(INDEX(Match!P:P,MATCH(A106,Match!A:A,0))=\"OFF\",0,1)","v":1}]
[14,{"$f":"IF(Match!B15=\"\",\"\",Match!B15)","v":"2021-08-28"},"1900-01-07",null,null,null,"Reading","2/1",3,{"$f":"INDEX(Picks!T:T,MATCH(G107,Picks!R:R,0))","v":0},{"$f":"IF(INDEX(Match!P:P,MATCH(A107,Match!A:A,0))=\"OFF\",0,1)","v":1}]
[15,{"$f":"IF(Match!B16=\"\",\"\",Match!B16)","v":"2021-08-28"},"1900-01-07",null,null,null,"Bournemouth","13/10",2.2999999999999998,{"$f":"INDEX(Picks!T:T,MATCH(G108,Picks!R:R,0))","v":0},{"$f":"IF(INDEX(Match!P:P,MATCH(A108,Match!A:A,0))=\"OFF\",0,1)","v":1}]
[16,{"$f":"IF(Match!B17=\"\",\"\",Match!B17)","v":"2021-08-28"},"1900-01-07",null,null,null,"Sheff U","11/8",2.375,{"$f":"INDEX(Picks!T:T,MATCH(G109,Picks!R:R,0))","v":0},{"$f":"IF(INDEX(Match!P:P,MATCH(A109,Match!A:A,0))=\"OFF\",0,1)","v":1}]
[17,{"$f":"IF(Match!B18=\"\",\"\",Match!B18)","v":"2021-08-28"},"1900-01-07",null,null,null,"Blackburn","17/5",4.4000000000000004,{"$f":"INDEX(Picks!T:T,MATCH(G110,Picks!R:R,0))","v":0},{"$f":"IF(INDEX(Match!P:P,MATCH(A110,Match!A:A,0))=\"OFF\",0,1)","v":1}]
[18,{"$f":"IF(Match!B19=\"\",\"\",Match!B19)","v":"2021-08-28"},"1900-01-07",null,null,null,"Blackpool","17/5",4.4000000000000004,{"$f":"INDEX(Picks!T:T,MATCH(G111,Picks!R:R,0))","v":0},{"$f":"IF(INDEX(Match!P:P,MATCH(A111,Match!A:A,0))=\"OFF\",0,1)","v":1}]
[19,{"$f":"IF(Match!B20=\"\",\"\",Match!B20)","v":"2021-08-28"},"1900-01-07",null,null,null,"West Brom","17/20",1.85,{"$f":"INDEX(Picks!T:T,MATCH(G112,Picks!R:R,0))","v":1},{"$f":"IF(INDEX(Match!P:P,MATCH(A112,Match!A:A,0))=\"OFF\",0,1)","v":1}]
[20,{"$f":"IF(Match!B21=\"\",\"\",Match!B21)","v":"2021-08-28"},"1900-01-07",null,null,null,"Swansea","9/5",2.8,{"$f":"INDEX(Picks!T:T,MATCH(G113,Picks!R:R,0))","v":0},{"$f":"IF(INDEX(Match!P:P,MATCH(A113,Match!A:A,0))=\"OFF\",0,1)","v":1}]
[21,{"$f":"IF(Match!B22=\"\",\"\",Match!B22)","v":"2021-08-28"},"1900-01-07",null,null,null,"Coventry","13/5",3.6,{"$f":"INDEX(Picks!T:T,MATCH(G114,Picks!R:R,0))","v":0},{"$f":"IF(INDEX(Match!P:P,MATCH(A114,Match!A:A,0))=\"OFF\",0,1)","v":1}]
[22,{"$f":"IF(Match!B23=\"\",\"\",Match!B23)","v":"2021-08-28"},"1900-01-07",null,null,null,"Bolton","13/10",2.2999999999999998,{"$f":"INDEX(Picks!T:T,MATCH(G115,Picks!R:R,0))","v":0},{"$f":"IF(INDEX(Match!P:P,MATCH(A115,Match!A:A,0))=\"OFF\",0,1)","v":1}]
[23,{"$f":"IF(Match!B24=\"\",\"\",Match!B24)","v":"2021-08-28"},"1900-01-07",null,null,null,"Crewe","16/5",4.2,{"$f":"INDEX(Picks!T:T,MATCH(G116,Picks!R:R,0))","v":0},{"$f":"IF(INDEX(Match!P:P,MATCH(A116,Match!A:A,0))=\"OFF\",0,1)","v":1}]
[24,{"$f":"IF(Match!B25=\"\",\"\",Match!B25)","v":"2021-08-28"},"1900-01-07",null,null,null,"Wimbledon","29/10",3.9,{"$f":"INDEX(Picks!T:T,MATCH(G117,Picks!R:R,0))","v":0},{"$f":"IF(INDEX(Match!P:P,MATCH(A117,Match!A:A,0))=\"OFF\",0,1)","v":1}]
[25,{"$f":"IF(Match!B26=\"\",\"\",Match!B26)","v":"2021-08-28"},"1900-01-07",null,null,null,"Accrington","12/5",3.4,{"$f":"INDEX(Picks!T:T,MATCH(G118,Picks!R:R,0))","v":0},{"$f":"IF(INDEX(Match!P:P,MATCH(A118,Match!A:A,0))=\"OFF\",0,1)","v":1}]
[26,{"$f":"IF(Match!B27=\"\",\"\",Match!B27)","v":"2021-08-28"},"1900-01-07",null,null,null,"Sheff W","10/11",1.9090909090909092,{"$f":"INDEX(Picks!T:T,MATCH(G119,Picks!R:R,0))","v":0},{"$f":"IF(INDEX(Match!P:P,MATCH(A119,Match!A:A,0))=\"OFF\",0,1)","v":1}]
[27,{"$f":"IF(Match!B28=\"\",\"\",Match!B28)","v":"2021-08-28"},"1900-01-07",null,null,null,"Lincoln","12/5",3.4,{"$f":"INDEX(Picks!T:T,MATCH(G120,Picks!R:R,0))","v":0},{"$f":"IF(INDEX(Match!P:P,MATCH(A120,Match!A:A,0))=\"OFF\",0,1)","v":1}]
[28,{"$f":"IF(Match!B29=\"\",\"\",Match!B29)","v":"2021-08-28"},"1900-01-07",null,null,null,"Fleetwood","19/10",2.9,{"$f":"INDEX(Picks!T:T,MATCH(G121,Picks!R:R,0))","v":0},{"$f":"IF(INDEX(Match!P:P,MATCH(A121,Match!A:A,0))=\"OFF\",0,1)","v":1}]
[29,{"$f":"IF(Match!B30=\"\",\"\",Match!B30)","v":"2021-08-28"},"1900-01-07",null,null,null,"Doncaster","9/2",5.5,{"$f":"INDEX(Picks!T:T,MATCH(G122,Picks!R:R,0))","v":0},{"$f":"IF(INDEX(Match!P:P,MATCH(A122,Match!A:A,0))=\"OFF\",0,1)","v":1}]
[30,{"$f":"IF(Match!B31=\"\",\"\",Match!B31)","v":"2021-08-28"},"1900-01-07",null,null,null,"Gillingham","15/8",2.875,{"$f":"INDEX(Picks!T:T,MATCH(G123,Picks!R:R,0))","v":0},{"$f":"IF(INDEX(Match!P:P,MATCH(A123,Match!A:A,0))=\"OFF\",0,1)","v":1}]
[31,{"$f":"IF(Match!B32=\"\",\"\",Match!B32)","v":"2021-08-28"},"1900-01-07",null,null,null,"Wycombe","14/5",3.8,{"$f":"INDEX(Picks!T:T,MATCH(G124,Picks!R:R,0))","v":0},{"$f":"IF(INDEX(Match!P:P,MATCH(A124,Match!A:A,0))=\"OFF\",0,1)","v":1}]
[32,{"$f":"IF(Match!B33=\"\",\"\",Match!B33)","v":"2021-08-28"},"1900-01-07",null,null,null,"Portsmouth","15/8",2.875,{"$f":"INDEX(Picks!T:T,MATCH(G125,Picks!R:R,0))","v":0},{"$f":"IF(INDEX(Match!P:P,MATCH(A125,Match!A:A,0))=\"OFF\",0,1)","v":1}]
[33,{"$f":"IF(Match!B34=\"\",\"\",Match!B34)","v":"2021-08-28"},"1900-01-07",null,null,null,"Bristol R","2/1",3,{"$f":"INDEX(Picks!T:T,MATCH(G126,Picks!R:R,0))","v":0},{"$f":"IF(INDEX(Match!P:P,MATCH(A126,Match!A:A,0))=\"OFF\",0,1)","v":1}]
[34,{"$f":"IF(Match!B35=\"\",\"\",Match!B35)","v":"2021-08-28"},"1900-01-07",null,null,null,"Northampton","29/20",2.4500000000000002,{"$f":"INDEX(Picks!T:T,MATCH(G127,Picks!R:R,0))","v":0},{"$f":"IF(INDEX(Match!P:P,MATCH(A127,Match!A:A,0))=\"OFF\",0,1)","v":1}]
[35,{"$f":"IF(Match!B36=\"\",\"\",Match!B36)","v":"2021-08-28"},"1900-01-07",null,null,null,"Port Vale","27/10",3.7,{"$f":"INDEX(Picks!T:T,MATCH(G128,Picks!R:R,0))","v":1},{"$f":"IF(INDEX(Match!P:P,MATCH(A128,Match!A:A,0))=\"OFF\",0,1)","v":1}]
[36,{"$f":"IF(Match!B37=\"\",\"\",Match!B37)","v":"2021-08-28"},"1900-01-07",null,null,null,"Exeter","13/8",2.625,{"$f":"INDEX(Picks!T:T,MATCH(G129,Picks!R:R,0))","v":0},{"$f":"IF(INDEX(Match!P:P,MATCH(A129,Match!A:A,0))=\"OFF\",0,1)","v":1}]
[37,{"$f":"IF(Match!B38=\"\",\"\",Match!B38)","v":"2021-08-28"},"1900-01-07",null,null,null,"Carlisle","6/4",2.5,{"$f":"INDEX(Picks!T:T,MATCH(G130,Picks!R:R,0))","v":0},{"$f":"IF(INDEX(Match!P:P,MATCH(A130,Match!A:A,0))=\"OFF\",0,1)","v":1}]
[38,{"$f":"IF(Match!B39=\"\",\"\",Match!B39)","v":"2021-08-28"},{"$f":"IF(B131=\"\",\"\",WEEKDAY(B131))","v":"1900-01-07"},null,null,null,"Bradford","21/10",3.1,{"$f":"INDEX(Picks!T:T,MATCH(G131,Picks!R:R,0))","v":0},{"$f":"IF(INDEX(Match!P:P,MATCH(A131,Match!A:A,0))=\"OFF\",0,1)","v":1}]
[39,{"$f":"IF(Match!B40=\"\",\"\",Match!B40)","v":"2021-08-28"},"1900-01-07",null,null,null,"Newport","29/20",2.4500000000000002,{"$f":"INDEX(Picks!T:T,MATCH(G132,Picks!R:R,0))","v":0},{"$f":"IF(INDEX(Match!P:P,MATCH(A132,Match!A:A,0))=\"OFF\",0,1)","v":1}]
[40,{"$f":"IF(Match!B41=\"\",\"\",Match!B41)","v":"2021-08-28"},"1900-01-07",null,null,null,"Tranmere","11/10",2.1,{"$f":"INDEX(Picks!T:T,MATCH(G133,Picks!R:R,0))","v":0},{"$f":"IF(INDEX(Match!P:P,MATCH(A133,Match!A:A,0))=\"OFF\",0,1)","v":1}]
[41,{"$f":"IF(Match!B42=\"\",\"\",Match!B42)","v":"2021-08-28"},"1900-01-07",null,null,null,"Oldham","13/5",3.6,{"$f":"INDEX(Picks!T:T,MATCH(G134,Picks!R:R,0))","v":1},{"$f":"IF(INDEX(Match!P:P,MATCH(A134,Match!A:A,0))=\"OFF\",0,1)","v":1}]
[42,{"$f":"IF(Match!B43=\"\",\"\",Match!B43)","v":"2021-08-28"},"1900-01-07",null,null,null,"Mansfield","13/10",2.2999999999999998,{"$f":"INDEX(Picks!T:T,MATCH(G135,Picks!R:R,0))","v":0},{"$f":"IF(INDEX(Match!P:P,MATCH(A135,Match!A:A,0))=\"OFF\",0,1)","v":1}]
[43,{"$f":"IF(Match!B44=\"\",\"\",Match!B44)","v":"2021-08-28"},"1900-01-07",null,null,null,"Stevenage","8/5",2.6,{"$f":"INDEX(Picks!T:T,MATCH(G136,Picks!R:R,0))","v":0},{"$f":"IF(INDEX(Match!P:P,MATCH(A136,Match!A:A,0))=\"OFF\",0,1)","v":1}]
[44,{"$f":"IF(Match!B45=\"\",\"\",Match!B45)","v":"2021-08-29"},"1900-01-01",null,null,null,"Leeds","5/4",2.25,{"$f":"INDEX(Picks!T:T,MATCH(G137,Picks!R:R,0))","v":0},{"$f":"IF(INDEX(Match!P:P,MATCH(A137,Match!A:A,0))=\"OFF\",0,1)","v":1}]
[45,{"$f":"IF(Match!B46=\"\",\"\",Match!B46)","v":"2021-08-29"},"1900-01-01",null,null,null,"Watford","15/2",8.5,{"$f":"INDEX(Picks!T:T,MATCH(G138,Picks!R:R,0))","v":0},{"$f":"IF(INDEX(Match!P:P,MATCH(A138,Match!A:A,0))=\"OFF\",0,1)","v":1}]
[46,{"$f":"IF(Match!B47=\"\",\"\",Match!B47)","v":"2021-08-29"},"1900-01-01",null,null,null,"Man U","4/5",1.8,{"$f":"INDEX(Picks!T:T,MATCH(G139,Picks!R:R,0))","v":1},{"$f":"IF(INDEX(Match!P:P,MATCH(A139,Match!A:A,0))=\"OFF\",0,1)","v":1}]

{"sheet":"Picks","index":10,"n_rows":289,"n_cols":40,"rows_kept":289,"cut":false,"hidden":false,"merged":[]}
["Player","Prediction","Match Day","Decimal","Bet in?","Score","Max",{"$f":"entrants-SUM(H2:H187)","v":1},"Week\nRank","Wk1","Frac","Dec","Bet up ","Points","Wk2","Results",null,"Choices","Odds","Up","Home team","H Score","Away team","A Score",null,null,null,null,"Week 1\nOff/On?","`","This Week\nActual Score","This Week\nCorrect","Rank",null,"Player","This Week\nMax Score","This Week\nCorrect","Rank",null,{"$f":"COUNTIF(F2:F175,-10)","v":1}]
[{"$f":"Results!B2","v":"Alan Bond"},{"$f":"IF(J2=\"\",\"\",TRIM(CLEAN(J2)))","v":"Wigan"},{"$f":"IF(J2=\"\",\"\",INDEX(Odds!C:C,MATCH(J2,Odds!G:G,0)))","v":"1900-01-07"},{"$f":"IF(J2=\"\",\"\",L2)","v":2.6},{"$f":"IF(J2=\"\",\"\",IF(M2=1,\"√\",\"x\"))","v":"√"},{"$f":"IF(J2=\"\",-10,INDEX(Results!T:T,MATCH(A2,Results!V:V,0)))","v":-4.4000000000000004},{"$f":"IF(J2=\"\",\"\",INDEX(Results!AI:AI,MATCH(A2,Results!V:V,0)))","v":30.50200000000001},{"$f":"IF(G2=\"\",0,1)","v":1},{"$f":"INDEX(Picks!AG:AG,MATCH(A2,Picks!AD:AD,0))","v":31},"Wigan",{"$f":"INDEX(Odds!H:H,MATCH(J2,Odds!G:G,0))","v":"8/5"},{"$f":"INDEX(Odds!I:I,MATCH(J2,Odds!G:G,0))","v":2.6},{"$f":"INDEX(Odds!J:J,MATCH(J2,Odds!G:G,0))","v":1},{"$f":"L2*M2","v":2.6},null,{"$f":"IF(Match!B2=\"\",\"\",Match!V2)","v":"Burton 1-1 Cheltenham "},null,{"$f":"IF(Odds!G2=\"\",\"\",Odds!G2)","v":"Burton"},{"$f":"INDEX(Odds!H:H,MATCH(R2,Odds!G:G,0))","v":"1/1"},{"$f":"IF(V2>X2,1,0)","v":0},{"$f":"INDEX(Match!Q:Q,MATCH(P2,Match!V:V,0))","v":"Burton"},{"$f":"INDEX(Match!G:G,MATCH(P2,Match!V:V,0))","v":1},{"$f":"INDEX(Match!R:R,MATCH(P2,Match!V:V,0))","v":"Cheltenham"},{"$f":"INDEX(Match!H:H,MATCH(P2,Match!V:V,0))","v":1},null,null,null,{"$f":"IF(O2=\"\",\"\",INDEX(Odds!H:H,MATCH(O2,Odds!G:G,0)))","v":""},{"$f":"IF(J2=\"\",\"\",INDEX(Odds!K:K,MATCH(J2,Odds!G:G,0)))","v":1},"Phil Miller",{"$f":"INDEX(Picks!F:F,MATCH(AD2,Picks!A:A,0))","v":37.81818181818182},{"$f":"INDEX(Weekly!I:I,MATCH(AD2,Weekly!E:E,0))","v":3},{"$f":"IF(AE2=\"\",\"\",_xlfn.RANK.EQ(AE2,TopScores,0))","v":1},null,"Andy Hargreaves",{"$f":"INDEX(Picks!G:G,MATCH(AI2,Picks!A:A,0))","v":""},{"$f":"INDEX(Weekly!I:I,MATCH(AI2,Weekly!E:E,0))","v":0},{"$f":"IF(AJ2=\"\",\"\",_xlfn.RANK.EQ(AJ2,TopMaxScores,0))","v":""}]
[{"$f":"A2","v":"Alan Bond"},{"$f":"IF(J3=\"\",\"\",J3)","v":"Barrow"},{"$f":"IF(J3=\"\",\"\",INDEX(Odds!C:C,MATCH(J3,Odds!G:G,0)))","v":"1900-01-07"},{"$f":"IF(J3=\"\",\"\",L3)","v":2.4500000000000002},{"$f":"IF(J3=\"\",\"\",IF(M3=1,\"√\",\"x\"))","v":"x"},null,null,null,null,"Barrow",{"$f":"INDEX(Odds!H:H,MATCH(J3,Odds!G:G,0))","v":"29/20"},{"$f":"INDEX(Odds!I:I,MATCH(J3,Odds!G:G,0))","v":2.4500000000000002},{"$f":"INDEX(Odds!J:J,MATCH(J3,Odds!G:G,0))","v":0},{"$f":"L3*M3","v":0},null,{"$f":"IF(Match!B3=\"\",\"\",Match!V3)","v":"Rochdale 1-1 Colchester "},null,{"$f":"IF(Odds!G3=\"\",\"\",Odds!G3)","v":"Rochdale"},{"$f":"INDEX(Odds!H:H,MATCH(R3,Odds!G:G,0))","v":"11/8"},0,{"$f":"INDEX(Match!Q:Q,MATCH(P3,Match!V:V,0))","v":"Rochdale"},{"$f":"INDEX(Match!G:G,MATCH(P3,Match!V:V,0))","v":1},{"$f":"INDEX(Match!R:R,MATCH(P3,Match!V:V,0))","v":"Colchester"},{"$f":"INDEX(Match!H:H,MATCH(P3,Match!V:V,0))","v":1},null,null,null,{"$f":"IF(O3=\"\",\"\",INDEX(Odds!H:H,MATCH(O3,Odds!G:G,0)))","v":""},{"$f":"IF(J3=\"\",\"\",INDEX(Odds!K:K,MATCH(J3,Odds!G:G,0)))","v":1},"Dan Gibbard",{"$f":"INDEX(Picks!F:F,MATCH(AD3,Picks!A:A,0))","v":22.476249999999997},{"$f":"INDEX(Weekly!I:I,MATCH(AD3,Weekly!E:E,0))","v":3},{"$f":"IF(AE3=\"\",\"\",_xlfn.RANK.EQ(AE3,TopScores,0))","v":2},null,"Dave Bell",{"$f":"INDEX(Picks!G:G,MATCH(AI3,Picks!A:A,0))","v":831.8},{"$f":"INDEX(Weekly!I:I,MATCH(AI3,Weekly!E:E,0))","v":0},{"$f":"IF(AJ3=\"\",\"\",_xlfn.RANK.EQ(AJ3,TopMaxScores,0))","v":1}]
[{"$f":"A2","v":"Alan Bond"},"Sutton",{"$f":"IF(J4=\"\",\"\",INDEX(Odds!C:C,MATCH(J4,Odds!G:G,0)))","v":"1900-01-07"},2.1,"x",null,null,null,null,"Sutton",{"$f":"INDEX(Odds!H:H,MATCH(J4,Odds!G:G,0))","v":"11/10"},{"$f":"INDEX(Odds!I:I,MATCH(J4,Odds!G:G,0))","v":2.1},{"$f":"INDEX(Odds!J:J,MATCH(J4,Odds!G:G,0))","v":0},{"$f":"L4*M4","v":0},null,{"$f":"IF(Match!B4=\"\",\"\",Match!V4)","v":"Brighton 0-2 Everton "},null,{"$f":"IF(Odds!G4=\"\",\"\",Odds!G4)","v":"Brighton"},{"$f":"INDEX(Odds!H:H,MATCH(R4,Odds!G:G,0))","v":"11/8"},0,{"$f":"INDEX(Match!Q:Q,MATCH(P4,Match!V:V,0))","v":"Brighton"},{"$f":"INDEX(Match!G:G,MATCH(P4,Match!V:V,0))","v":0},{"$f":"INDEX(Match!R:R,MATCH(P4,Match!V:V,0))","v":"Everton"},{"$f":"INDEX(Match!H:H,MATCH(P4,Match!V:V,0))","v":2},null,null,null,{"$f":"IF(O4=\"\",\"\",INDEX(Odds!H:H,MATCH(O4,Odds!G:G,0)))","v":""},{"$f":"IF(J4=\"\",\"\",INDEX(Odds!K:K,MATCH(J4,Odds!G:G,0)))","v":1},"Nick Blocksidge",{"$f":"INDEX(Picks!F:F,MATCH(AD4,Picks!A:A,0))","v":22.24},{"$f":"INDEX(Weekly!I:I,MATCH(AD4,Weekly!E:E,0))","v":3},{"$f":"IF(AE4=\"\",\"\",_xlfn.RANK.EQ(AE4,TopScores,0))","v":3},null,"Paul Fairhurst",{"$f":"INDEX(Picks!G:G,MATCH(AI4,Picks!A:A,0))","v":181.52500000000001},{"$f":"INDEX(Weekly!I:I,MATCH(AI4,Weekly!E:E,0))","v":0},{"$f":"IF(AJ4=\"\",\"\",_xlfn.RANK.EQ(AJ4,TopMaxScores,0))","v":2}]
[{"$f":"Results!B5","v":"Alan Rogers"},{"$f":"IF(J5=\"\",\"\",J5)","v":"Crawley"},{"$f":"IF(J5=\"\",\"\",INDEX(Odds!C:C,MATCH(J5,Odds!G:G,0)))","v":"1900-01-07"},2.875,"x",{"$f":"IF(J5=\"\",-10,INDEX(Results!T:T,MATCH(A5,Results!V:V,0)))","v":-4.5999999999999996},{"$f":"IF(J5=\"\",\"\",INDEX(Results!AI:AI,MATCH(A5,Results!V:V,0)))","v":46.017499999999998},{"$f":"IF(G5=\"\",0,1)","v":1},{"$f":"INDEX(Picks!AG:AG,MATCH(A5,Picks!AD:AD,0))","v":33},"Crawley",{"$f":"INDEX(Odds!H:H,MATCH(J5,Odds!G:G,0))","v":"15/8"},{"$f":"INDEX(Odds!I:I,MATCH(J5,Odds!G:G,0))","v":2.875},{"$f":"INDEX(Odds!J:J,MATCH(J5,Odds!G:G,0))","v":0},{"$f":"L5*M5","v":0},null,{"$f":"IF(Match!B5=\"\",\"\",Match!V5)","v":"Liverpool 1-1 Chelsea "},null,{"$f":"IF(Odds!G5=\"\",\"\",Odds!G5)","v":"Liverpool"},{"$f":"INDEX(Odds!H:H,MATCH(R5,Odds!G:G,0))","v":"8/5"},0,{"$f":"INDEX(Match!Q:Q,MATCH(P5,Match!V:V,0))","v":"Liverpool"},{"$f":"INDEX(Match!G:G,MATCH(P5,Match!V:V,0))","v":1},{"$f":"INDEX(Match!R:R,MATCH(P5,Match!V:V,0))","v":"Chelsea"},{"$f":"INDEX(Match!H:H,MATCH(P5,Match!V:V,0))","v":1},null,null,null,{"$f":"IF(O5=\"\",\"\",INDEX(Odds!H:H,MATCH(O5,Odds!G:G,0)))","v":""},{"$f":"IF(J5=\"\",\"\",INDEX(Odds!K:K,MATCH(J5,Odds!G:G,0)))","v":1},"Martin Molyneux",{"$f":"INDEX(Picks!F:F,MATCH(AD5,Picks!A:A,0))","v":15.219999999999999},{"$f":"INDEX(Weekly!I:I,MATCH(AD5,Weekly!E:E,0))","v":3},{"$f":"IF(AE5=\"\",\"\",_xlfn.RANK.EQ(AE5,TopScores,0))","v":4},null,"Chris Townsend",{"$f":"INDEX(Picks!G:G,MATCH(AI5,Picks!A:A,0))","v":151.80000000000001},{"$f":"INDEX(Weekly!I:I,MATCH(AI5,Weekly!E:E,0))","v":0},{"$f":"IF(AJ5=\"\",\"\",_xlfn.RANK.EQ(AJ5,TopMaxScores,0))","v":3}]
[{"$f":"A5","v":"Alan Rogers"},"Orient draw",{"$f":"IF(J6=\"\",\"\",INDEX(Odds!C:C,MATCH(J6,Odds!G:G,0)))","v":"1900-01-07"},3.1,"x",null,null,null,null,"Orient draw",{"$f":"INDEX(Odds!H:H,MATCH(J6,Odds!G:G,0))","v":"21/10"},{"$f":"INDEX(Odds!I:I,MATCH(J6,Odds!G:G,0))","v":3.1},{"$f":"INDEX(Odds!J:J,MATCH(J6,Odds!G:G,0))","v":0},0,null,{"$f":"IF(Match!B6=\"\",\"\",Match!V6)","v":"Man C 5-0 Arsenal "},null,{"$f":"IF(Odds!G6=\"\",\"\",Odds!G6)","v":"Man C"},{"$f":"INDEX(Odds!H:H,MATCH(R6,Odds!G:G,0))","v":"1/4"},1,{"$f":"INDEX(Match!Q:Q,MATCH(P6,Match!V:V,0))","v":"Man C"},{"$f":"INDEX(Match!G:G,MATCH(P6,Match!V:V,0))","v":5},{"$f":"INDEX(Match!R:R,MATCH(P6,Match!V:V,0))","v":"Arsenal"},{"$f":"INDEX(Match!H:H,MATCH(P6,Match!V:V,0))","v":0},null,null,null,{"$f":"IF(O6=\"\",\"\",INDEX(Odds!H:H,MATCH(O6,Odds!G:G,0)))","v":""},{"$f":"IF(J6=\"\",\"\",INDEX(Odds!K:K,MATCH(J6,Odds!G:G,0)))","v":1},"Stephen Troop",{"$f":"INDEX(Picks!F:F,MATCH(AD6,Picks!A:A,0))","v":12.945454545454545},{"$f":"INDEX(Weekly!I:I,MATCH(AD6,Weekly!E:E,0))","v":3},{"$f":"IF(AE6=\"\",\"\",_xlfn.RANK.EQ(AE6,TopScores,0))","v":5},null,"Howard Bradley",{"$f":"INDEX(Picks!G:G,MATCH(AI6,Picks!A:A,0))","v":98.92},{"$f":"INDEX(Weekly!I:I,MATCH(AI6,Weekly!E:E,0))","v":1},{"$f":"IF(AJ6=\"\",\"\",_xlfn.RANK.EQ(AJ6,TopMaxScores,0))","v":4}]
[{"$f":"A5","v":"Alan Rogers"},"Salford",{"$f":"IF(J7=\"\",\"\",INDEX(Odds!C:C,MATCH(J7,Odds!G:G,0)))","v":"1900-01-07"},2.4,"√",null,null,null,null,"Salford",{"$f":"INDEX(Odds!H:H,MATCH(J7,Odds!G:G,0))","v":"7/5"},{"$f":"INDEX(Odds!I:I,MATCH(J7,Odds!G:G,0))","v":2.4},{"$f":"INDEX(Odds!J:J,MATCH(J7,Odds!G:G,0))","v":1},2.4,null,{"$f":"IF(Match!B7=\"\",\"\",Match!V7)","v":"Newcastle 2-2 Southampton "},null,{"$f":"IF(Odds!G7=\"\",\"\",Odds!G7)","v":"Newcastle"},{"$f":"INDEX(Odds!H:H,MATCH(R7,Odds!G:G,0))","v":"13/8"},0,{"$f":"INDEX(Match!Q:Q,MATCH(P7,Match!V:V,0))","v":"Newcastle"},{"$f":"INDEX(Match!G:G,MATCH(P7,Match!V:V,0))","v":2},{"$f":"INDEX(Match!R:R,MATCH(P7,Match!V:V,0))","v":"Southampton"},{"$f":"INDEX(Match!H:H,MATCH(P7,Match!V:V,0))","v":2},null,null,null,{"$f":"IF(O7=\"\",\"\",INDEX(Odds!H:H,MATCH(O7,Odds!G:G,0)))","v":""},{"$f":"IF(J7=\"\",\"\",INDEX(Odds!K:K,MATCH(J7,Odds!G:G,0)))","v":1},"Gareth Powell",{"$f":"INDEX(Picks!F:F,MATCH(AD7,Picks!A:A,0))","v":11.350000000000001},{"$f":"INDEX(Weekly!I:I,MATCH(AD7,Weekly!E:E,0))","v":2},{"$f":"IF(AE7=\"\",\"\",_xlfn.RANK.EQ(AE7,TopScores,0))","v":6},null,"Paul Allen",{"$f":"INDEX(Picks!G:G,MATCH(AI7,Picks!A:A,0))","v":84.927999999999997},{"$f":"INDEX(Weekly!I:I,MATCH(AI7,Weekly!E:E,0))","v":0},{"$f":"IF(AJ7=\"\",\"\",_xlfn.RANK.EQ(AJ7,TopMaxScores,0))","v":5}]
[{"$f":"Results!B8","v":"Alan White"},"Luton",{"$f":"IF(J8=\"\",\"\",INDEX(Odds!C:C,MATCH(J8,Odds!G:G,0)))","v":"1900-01-07"},3.2,"x",{"$f":"IF(J8=\"\",-10,INDEX(Results!T:T,MATCH(A8,Results!V:V,0)))","v":-7},{"$f":"IF(J8=\"\",\"\",INDEX(Results!AI:AI,MATCH(A8,Results!V:V,0)))","v":39.628},{"$f":"IF(G8=\"\",0,1)","v":1},{"$f":"INDEX(Picks!AG:AG,MATCH(A8,Picks!AD:AD,0))","v":46},"Luton",{"$f":"INDEX(Odds!H:H,MATCH(J8,Odds!G:G,0))","v":"11/5"},{"$f":"INDEX(Odds!I:I,MATCH(J8,Odds!G:G,0))","v":3.2},{"$f":"INDEX(Odds!J:J,MATCH(J8,Odds!G:G,0))","v":0},0,null,{"$f":"IF(Match!B8=\"\",\"\",Match!V8)","v":"Norwich 1-2 Leicester "},null,{"$f":"IF(Odds!G8=\"\",\"\",Odds!G8)","v":"Norwich"},{"$f":"INDEX(Odds!H:H,MATCH(R8,Odds!G:G,0))","v":"4/1"},0,{"$f":"INDEX(Match!Q:Q,MATCH(P8,Match!V:V,0))","v":"Norwich"},{"$f":"INDEX(Match!G:G,MATCH(P8,Match!V:V,0))","v":1},{"$f":"INDEX(Match!R:R,MATCH(P8,Match!V:V,0))","v":"Leicester"},{"$f":"INDEX(Match!H:H,MATCH(P8,Match!V:V,0))","v":2},null,null,null,{"$f":"IF(O8=\"\",\"\",INDEX(Odds!H:H,MATCH(O8,Odds!G:G,0)))","v":""},{"$f":"IF(J8=\"\",\"\",INDEX(Odds!K:K,MATCH(J8,Odds!G:G,0)))","v":1},"Ben Rosser",{"$f":"INDEX(Picks!F:F,MATCH(AD8,Picks!A:A,0))","v":10.059999999999999},{"$f":"INDEX(Weekly!I:I,MATCH(AD8,Weekly!E:E,0))","v":2},{"$f":"IF(AE8=\"\",\"\",_xlfn.RANK.EQ(AE8,TopScores,0))","v":7},null,"Paul Barnes",{"$f":"INDEX(Picks!G:G,MATCH(AI8,Picks!A:A,0))","v":79.72},{"$f":"INDEX(Weekly!I:I,MATCH(AI8,Weekly!E:E,0))","v":2},{"$f":"IF(AJ8=\"\",\"\",_xlfn.RANK.EQ(AJ8,TopMaxScores,0))","v":6}]
[{"$f":"A8","v":"Alan White"},"Forest Green",{"$f":"IF(J9=\"\",\"\",INDEX(Odds!C:C,MATCH(J9,Odds!G:G,0)))","v":"1900-01-07"},2.15,"x",null,null,null,null,"Forest Green",{"$f":"INDEX(Odds!H:H,MATCH(J9,Odds!G:G,0))","v":"23/20"},{"$f":"INDEX(Odds!I:I,MATCH(J9,Odds!G:G,0))","v":2.15},{"$f":"INDEX(Odds!J:J,MATCH(J9,Odds!G:G,0))","v":0},0,null,{"$f":"IF(Match!B9=\"\",\"\",Match!V9)","v":"Villa 1-1 Brentford "},null,{"$f":"IF(Odds!G9=\"\",\"\",Odds!G9)","v":"Villa"},{"$f":"INDEX(Odds!H:H,MATCH(R9,Odds!G:G,0))","v":"1/1"},0,{"$f":"INDEX(Match!Q:Q,MATCH(P9,Match!V:V,0))","v":"Villa"},{"$f":"INDEX(Match!G:G,MATCH(P9,Match!V:V,0))","v":1},{"$f":"INDEX(Match!R:R,MATCH(P9,Match!V:V,0))","v":"Brentford"},{"$f":"INDEX(Match!H:H,MATCH(P9,Match!V:V,0))","v":1},null,null,null,{"$f":"IF(O9=\"\",\"\",INDEX(Odds!H:H,MATCH(O9,Odds!G:G,0)))","v":""},{"$f":"IF(J9=\"\",\"\",INDEX(Odds!K:K,MATCH(J9,Odds!G:G,0)))","v":1},"Alick Rocca",{"$f":"INDEX(Picks!F:F,MATCH(AD9,Picks!A:A,0))","v":9.1999999999999993},{"$f":"INDEX(Weekly!I:I,MATCH(AD9,Weekly!E:E,0))","v":2},{"$f":"IF(AE9=\"\",\"\",_xlfn.RANK.EQ(AE9,TopScores,0))","v":8},null,"Gareth Powell",{"$f":"INDEX(Picks!G:G,MATCH(AI9,Picks!A:A,0))","v":77.14},{"$f":"INDEX(Weekly!I:I,MATCH(AI9,Weekly!E:E,0))","v":2},{"$f":"IF(AJ9=\"\",\"\",_xlfn.RANK.EQ(AJ9,TopMaxScores,0))","v":7}]
[{"$f":"A8","v":"Alan White"},"Harrogate",{"$f":"IF(J10=\"\",\"\",INDEX(Odds!C:C,MATCH(J10,Odds!G:G,0)))","v":"1900-01-07"},2.6,"x",null,null,null,null,"Harrogate",{"$f":"INDEX(Odds!H:H,MATCH(J10,Odds!G:G,0))","v":"8/5"},{"$f":"INDEX(Odds!I:I,MATCH(J10,Odds!G:G,0))","v":2.6},{"$f":"INDEX(Odds!J:J,MATCH(J10,Odds!G:G,0))","v":0},0,null,{"$f":"IF(Match!B10=\"\",\"\",Match!V10)","v":"West Ham 2-2 Palace "},null,{"$f":"IF(Odds!G10=\"\",\"\",Odds!G10)","v":"West Ham"},{"$f":"INDEX(Odds!H:H,MATCH(R10,Odds!G:G,0))","v":"6/10"},0,{"$f":"INDEX(Match!Q:Q,MATCH(P10,Match!V:V,0))","v":"West Ham"},{"$f":"INDEX(Match!G:G,MATCH(P10,Match!V:V,0))","v":2},{"$f":"INDEX(Match!R:R,MATCH(P10,Match!V:V,0))","v":"Palace"},{"$f":"INDEX(Match!H:H,MATCH(P10,Match!V:V,0))","v":2},null,null,null,{"$f":"IF(O10=\"\",\"\",INDEX(Odds!H:H,MATCH(O10,Odds!G:G,0)))","v":""},{"$f":"IF(J10=\"\",\"\",INDEX(Odds!K:K,MATCH(J10,Odds!G:G,0)))","v":1},"Pete Baron",{"$f":"INDEX(Picks!F:F,MATCH(AD10,Picks!A:A,0))","v":9.1999999999999993},{"$f":"INDEX(Weekly!I:I,MATCH(AD10,Weekly!E:E,0))","v":2},{"$f":"IF(AE10=\"\",\"\",_xlfn.RANK.EQ(AE10,TopScores,0))","v":8},null,"Bob Bailey",{"$f":"INDEX(Picks!G:G,MATCH(AI10,Picks!A:A,0))","v":65.237499999999997},{"$f":"INDEX(Weekly!I:I,MATCH(AI10,Weekly!E:E,0))","v":0},{"$f":"IF(AJ10=\"\",\"\",_xlfn.RANK.EQ(AJ10,TopMaxScores,0))","v":8}]
[{"$f":"Results!B11","v":"Alfie Davies"},"Blackpool",{"$f":"IF(J11=\"\",\"\",INDEX(Odds!C:C,MATCH(J11,Odds!G:G,0)))","v":"1900-01-07"},4.4000000000000004,"x",{"$f":"IF(J11=\"\",-10,INDEX(Results!T:T,MATCH(A11,Results!V:V,0)))","v":-5.15},{"$f":"IF(J11=\"\",\"\",INDEX(Results!AI:AI,MATCH(A11,Results!V:V,0)))","v":50.481999999999999},{"$f":"IF(G11=\"\",0,1)","v":1},{"$f":"INDEX(Picks!AG:AG,MATCH(A11,Picks!AD:AD,0))","v":39},"Blackpool",{"$f":"INDEX(Odds!H:H,MATCH(J11,Odds!G:G,0))","v":"17/5"},{"$f":"INDEX(Odds!I:I,MATCH(J11,Odds!G:G,0))","v":4.4000000000000004},{"$f":"INDEX(Odds!J:J,MATCH(J11,Odds!G:G,0))","v":0},0,null,{"$f":"IF(Match!B11=\"\",\"\",Match!V11)","v":"Barnsley 1-1 Birmingham "},null,{"$f":"IF(Odds!G11=\"\",\"\",Odds!G11)","v":"Barnsley"},{"$f":"INDEX(Odds!H:H,MATCH(R11,Odds!G:G,0))","v":"23/20"},0,{"$f":"INDEX(Match!Q:Q,MATCH(P11,Match!V:V,0))","v":"Barnsley"},{"$f":"INDEX(Match!G:G,MATCH(P11,Match!V:V,0))","v":1},{"$f":"INDEX(Match!R:R,MATCH(P11,Match!V:V,0))","v":"Birmingham"},{"$f":"INDEX(Match!H:H,MATCH(P11,Match!V:V,0))","v":1},null,null,null,{"$f":"IF(O11=\"\",\"\",INDEX(Odds!H:H,MATCH(O11,Odds!G:G,0)))","v":""},{"$f":"IF(J11=\"\",\"\",INDEX(Odds!K:K,MATCH(J11,Odds!G:G,0)))","v":1},"Sally Williams",{"$f":"INDEX(Picks!F:F,MATCH(AD11,Picks!A:A,0))","v":8.8000000000000007},{"$f":"INDEX(Weekly!I:I,MATCH(AD11,Weekly!E:E,0))","v":2},{"$f":"IF(AE11=\"\",\"\",_xlfn.RANK.EQ(AE11,TopScores,0))","v":10},null,"Alick Rocca",{"$f":"INDEX(Picks!G:G,MATCH(AI11,Picks!A:A,0))","v":64.239999999999995},{"$f":"INDEX(Weekly!I:I,MATCH(AI11,Weekly!E:E,0))","v":2},{"$f":"IF(AJ11=\"\",\"\",_xlfn.RANK.EQ(AJ11,TopMaxScores,0))","v":9}]
[{"$f":"A11","v":"Alfie Davies"},"Swansea",{"$f":"IF(J12=\"\",\"\",INDEX(Odds!C:C,MATCH(J12,Odds!G:G,0)))","v":"1900-01-07"},2.8,"x",null,null,null,null,"Swansea",{"$f":"INDEX(Odds!H:H,MATCH(J12,Odds!G:G,0))","v":"9/5"},{"$f":"INDEX(Odds!I:I,MATCH(J12,Odds!G:G,0))","v":2.8},{"$f":"INDEX(Odds!J:J,MATCH(J12,Odds!G:G,0))","v":0},0,null,{"$f":"IF(Match!B12=\"\",\"\",Match!V12)","v":"Cardiff 1-2 Bristol C "},null,{"$f":"IF(Odds!G12=\"\",\"\",Odds!G12)","v":"Cardiff"},{"$f":"INDEX(Odds!H:H,MATCH(R12,Odds!G:G,0))","v":"19/20"},0,{"$f":"INDEX(Match!Q:Q,MATCH(P12,Match!V:V,0))","v":"Cardiff"},{"$f":"INDEX(Match!G:G,MATCH(P12,Match!V:V,0))","v":1},{"$f":"INDEX(Match!R:R,MATCH(P12,Match!V:V,0))","v":"Bristol C"},{"$f":"INDEX(Match!H:H,MATCH(P12,Match!V:V,0))","v":2},null,null,null,{"$f":"IF(O12=\"\",\"\",INDEX(Odds!H:H,MATCH(O12,Odds!G:G,0)))","v":""},{"$f":"IF(J12=\"\",\"\",INDEX(Odds!K:K,MATCH(J12,Odds!G:G,0)))","v":1},"Mark Saunders",{"$f":"INDEX(Picks!F:F,MATCH(AD12,Picks!A:A,0))","v":4.8999999999999986},{"$f":"INDEX(Weekly!I:I,MATCH(AD12,Weekly!E:E,0))","v":2},{"$f":"IF(AE12=\"\",\"\",_xlfn.RANK.EQ(AE12,TopScores,0))","v":11},null,"Pete Baron",{"$f":"INDEX(Picks!G:G,MATCH(AI12,Picks!A:A,0))","v":64.239999999999995},{"$f":"INDEX(Weekly!I:I,MATCH(AI12,Weekly!E:E,0))","v":2},{"$f":"IF(AJ12=\"\",\"\",_xlfn.RANK.EQ(AJ12,TopMaxScores,0))","v":9}]
[{"$f":"A11","v":"Alfie Davies"},{"$f":"IF(J13=\"\",\"\",J13)","v":"West Brom"},{"$f":"IF(J13=\"\",\"\",INDEX(Odds!C:C,MATCH(J13,Odds!G:G,0)))","v":"1900-01-07"},1.85,"√",null,null,null,null,"West Brom",{"$f":"INDEX(Odds!H:H,MATCH(J13,Odds!G:G,0))","v":"17/20"},{"$f":"INDEX(Odds!I:I,MATCH(J13,Odds!G:G,0))","v":1.85},{"$f":"INDEX(Odds!J:J,MATCH(J13,Odds!G:G,0))","v":1},1.85,null,{"$f":"IF(Match!B13=\"\",\"\",Match!V13)","v":"Derby 1-1 Forest "},null,{"$f":"IF(Odds!G13=\"\",\"\",Odds!G13)","v":"Derby"},{"$f":"INDEX(Odds!H:H,MATCH(R13,Odds!G:G,0))","v":"7/4"},0,{"$f":"INDEX(Match!Q:Q,MATCH(P13,Match!V:V,0))","v":"Derby"},{"$f":"INDEX(Match!G:G,MATCH(P13,Match!V:V,0))","v":1},{"$f":"INDEX(Match!R:R,MATCH(P13,Match!V:V,0))","v":"Forest"},{"$f":"INDEX(Match!H:H,MATCH(P13,Match!V:V,0))","v":1},null,null,null,{"$f":"IF(O13=\"\",\"\",INDEX(Odds!H:H,MATCH(O13,Odds!G:G,0)))","v":""},{"$f":"IF(J13=\"\",\"\",INDEX(Odds!K:K,MATCH(J13,Odds!G:G,0)))","v":1},"Paul Barnes",{"$f":"INDEX(Picks!F:F,MATCH(AD13,Picks!A:A,0))","v":4.8999999999999986},{"$f":"INDEX(Weekly!I:I,MATCH(AD13,Weekly!E:E,0))","v":2},{"$f":"IF(AE13=\"\",\"\",_xlfn.RANK.EQ(AE13,TopScores,0))","v":11},null,"Sally Williams",{"$f":"INDEX(Picks!G:G,MATCH(AI13,Picks!A:A,0))","v":62.56},{"$f":"INDEX(Weekly!I:I,MATCH(AI13,Weekly!E:E,0))","v":2},{"$f":"IF(AJ13=\"\",\"\",_xlfn.RANK.EQ(AJ13,TopMaxScores,0))","v":11}]
[{"$f":"Results!B14","v":"Alick Rocca"},"Liverpool Draw",{"$f":"IF(J14=\"\",\"\",INDEX(Odds!C:C,MATCH(J14,Odds!G:G,0)))","v":"1900-01-07"},3.3,"√",{"$f":"IF(J14=\"\",-10,INDEX(Results!T:T,MATCH(A14,Results!V:V,0)))","v":9.1999999999999993},{"$f":"IF(J14=\"\",\"\",INDEX(Results!AI:AI,MATCH(A14,Results!V:V,0)))","v":64.239999999999995},{"$f":"IF(G14=\"\",0,1)","v":1},{"$f":"INDEX(Picks!AG:AG,MATCH(A14,Picks!AD:AD,0))","v":8},"Liverpool Draw",{"$f":"INDEX(Odds!H:H,MATCH(J14,Odds!G:G,0))","v":"23/10"},{"$f":"INDEX(Odds!I:I,MATCH(J14,Odds!G:G,0))","v":3.3},{"$f":"INDEX(Odds!J:J,MATCH(J14,Odds!G:G,0))","v":1},3.3,null,{"$f":"IF(Match!B14=\"\",\"\",Match!V14)","v":"Fulham 3-0 Stoke "},null,{"$f":"IF(Odds!G14=\"\",\"\",Odds!G14)","v":"Fulham"},{"$f":"INDEX(Odds!H:H,MATCH(R14,Odds!G:G,0))","v":"1/1"},1,{"$f":"INDEX(Match!Q:Q,MATCH(P14,Match!V:V,0))","v":"Fulham"},{"$f":"INDEX(Match!G:G,MATCH(P14,Match!V:V,0))","v":3},{"$f":"INDEX(Match!R:R,MATCH(P14,Match!V:V,0))","v":"Stoke"},{"$f":"INDEX(Match!H:H,MATCH(P14,Match!V:V,0))","v":0},null,null,null,{"$f":"IF(O14=\"\",\"\",INDEX(Odds!H:H,MATCH(O14,Odds!G:G,0)))","v":""},{"$f":"IF(J14=\"\",\"\",INDEX(Odds!K:K,MATCH(J14,Odds!G:G,0)))","v":1},"Stephen Barr",{"$f":"INDEX(Picks!F:F,MATCH(AD14,Picks!A:A,0))","v":4},{"$f":"INDEX(Weekly!I:I,MATCH(AD14,Weekly!E:E,0))","v":2},{"$f":"IF(AE14=\"\",\"\",_xlfn.RANK.EQ(AE14,TopScores,0))","v":13},null,"James Bell",{"$f":"INDEX(Picks!G:G,MATCH(AI14,Picks!A:A,0))","v":60.921000000000006},{"$f":"INDEX(Weekly!I:I,MATCH(AI14,Weekly!E:E,0))","v":0},{"$f":"IF(AJ14=\"\",\"\",_xlfn.RANK.EQ(AJ14,TopMaxScores,0))","v":12}]
[{"$f":"A14","v":"Alick Rocca"},"Derby Draw",{"$f":"IF(J15=\"\",\"\",INDEX(Odds!C:C,MATCH(J15,Odds!G:G,0)))","v":"1900-01-07"},3,"√",null,null,null,null,"Derby Draw",{"$f":"INDEX(Odds!H:H,MATCH(J15,Odds!G:G,0))","v":"2/1"},{"$f":"INDEX(Odds!I:I,MATCH(J15,Odds!G:G,0))","v":3},{"$f":"INDEX(Odds!J:J,MATCH(J15,Odds!G:G,0))","v":1},3,null,{"$f":"IF(Match!B15=\"\",\"\",Match!V15)","v":"Huddersfield 4-0 Reading "},null,{"$f":"IF(Odds!G15=\"\",\"\",Odds!G15)","v":"Huddersfield"},{"$f":"INDEX(Odds!H:H,MATCH(R15,Odds!G:G,0))","v":"13/8"},1,{"$f":"INDEX(Match!Q:Q,MATCH(P15,Match!V:V,0))","v":"Huddersfield"},{"$f":"INDEX(Match!G:G,MATCH(P15,Match!V:V,0))","v":4},{"$f":"INDEX(Match!R:R,MATCH(P15,Match!V:V,0))","v":"Reading"},{"$f":"INDEX(Match!H:H,MATCH(P15,Match!V:V,0))","v":0},null,null,null,{"$f":"IF(O15=\"\",\"\",INDEX(Odds!H:H,MATCH(O15,Odds!G:G,0)))","v":""},{"$f":"IF(J15=\"\",\"\",INDEX(Odds!K:K,MATCH(J15,Odds!G:G,0)))","v":1},"Nigel Heyes",{"$f":"INDEX(Picks!F:F,MATCH(AD15,Picks!A:A,0))","v":3.16},{"$f":"INDEX(Weekly!I:I,MATCH(AD15,Weekly!E:E,0))","v":2},{"$f":"IF(AE15=\"\",\"\",_xlfn.RANK.EQ(AE15,TopScores,0))","v":14},null,"Chris Griffin",{"$f":"INDEX(Picks!G:G,MATCH(AI15,Picks!A:A,0))","v":59.724999999999994},{"$f":"INDEX(Weekly!I:I,MATCH(AI15,Weekly!E:E,0))","v":1},{"$f":"IF(AJ15=\"\",\"\",_xlfn.RANK.EQ(AJ15,TopMaxScores,0))","v":13}]
[{"$f":"A14","v":"Alick Rocca"},"Brighton Draw",{"$f":"IF(J16=\"\",\"\",INDEX(Odds!C:C,MATCH(J16,Odds!G:G,0)))","v":"1900-01-07"},3.2,"x",null,null,null,null,"Brighton Draw",{"$f":"INDEX(Odds!H:H,MATCH(J16,Odds!G:G,0))","v":"11/5"},{"$f":"INDEX(Odds!I:I,MATCH(J16,Odds!G:G,0))","v":3.2},{"$f":"INDEX(Odds!J:J,MATCH(J16,Odds!G:G,0))","v":0},0,null,{"$f":"IF(Match!B16=\"\",\"\",Match!V16)","v":"Hull 0-0 Bournemouth "},null,{"$f":"IF(Odds!G16=\"\",\"\",Odds!G16)","v":"Hull"},{"$f":"INDEX(Odds!H:H,MATCH(R16,Odds!G:G,0))","v":"9/4"},0,{"$f":"INDEX(Match!Q:Q,MATCH(P16,Match!V:V,0))","v":"Hull"},{"$f":"INDEX(Match!G:G,MATCH(P16,Match!V:V,0))","v":0},{"$f":"INDEX(Match!R:R,MATCH(P16,Match!V:V,0))","v":"Bournemouth"},{"$f":"INDEX(Match!H:H,MATCH(P16,Match!V:V,0))","v":0},null,null,null,{"$f":"IF(O16=\"\",\"\",INDEX(Odds!H:H,MATCH(O16,Odds!G:G,0)))","v":""},{"$f":"IF(J16=\"\",\"\",INDEX(Odds!K:K,MATCH(J16,Odds!G:G,0)))","v":1},"Chris Bow",{"$f":"INDEX(Picks!F:F,MATCH(AD16,Picks!A:A,0))","v":2.8000000000000007},{"$f":"INDEX(Weekly!I:I,MATCH(AD16,Weekly!E:E,0))","v":2},{"$f":"IF(AE16=\"\",\"\",_xlfn.RANK.EQ(AE16,TopScores,0))","v":15},null,"Ben Rosser",{"$f":"INDEX(Picks!G:G,MATCH(AI16,Picks!A:A,0))","v":57.467499999999987},{"$f":"INDEX(Weekly!I:I,MATCH(AI16,Weekly!E:E,0))","v":2},{"$f":"IF(AJ16=\"\",\"\",_xlfn.RANK.EQ(AJ16,TopMaxScores,0))","v":14}]
[{"$f":"Results!B17","v":"Andy Charleston"},"Leeds",{"$f":"IF(J17=\"\",\"\",INDEX(Odds!C:C,MATCH(J17,Odds!G:G,0)))","v":"1900-01-01"},2.25,"x",{"$f":"IF(J17=\"\",-10,INDEX(Results!T:T,MATCH(A17,Results!V:V,0)))","v":-5.6},{"$f":"IF(J17=\"\",\"\",INDEX(Results!AI:AI,MATCH(A17,Results!V:V,0)))","v":38.799999999999997},{"$f":"IF(G17=\"\",0,1)","v":1},{"$f":"INDEX(Picks!AG:AG,MATCH(A17,Picks!AD:AD,0))","v":45},"Leeds",{"$f":"INDEX(Odds!H:H,MATCH(J17,Odds!G:G,0))","v":"5/4"},{"$f":"INDEX(Odds!I:I,MATCH(J17,Odds!G:G,0))","v":2.25},{"$f":"INDEX(Odds!J:J,MATCH(J17,Odds!G:G,0))","v":0},0,null,{"$f":"IF(Match!B17=\"\",\"\",Match!V17)","v":"Luton 0-0 Sheff U "},null,{"$f":"IF(Odds!G17=\"\",\"\",Odds!G17)","v":"Luton"},{"$f":"INDEX(Odds!H:H,MATCH(R17,Odds!G:G,0))","v":"11/5"},0,{"$f":"INDEX(Match!Q:Q,MATCH(P17,Match!V:V,0))","v":"Luton"},{"$f":"INDEX(Match!G:G,MATCH(P17,Match!V:V,0))","v":0},{"$f":"INDEX(Match!R:R,MATCH(P17,Match!V:V,0))","v":"Sheff U"},{"$f":"INDEX(Match!H:H,MATCH(P17,Match!V:V,0))","v":0},null,null,null,{"$f":"IF(O17=\"\",\"\",INDEX(Odds!H:H,MATCH(O17,Odds!G:G,0)))","v":""},{"$f":"IF(J17=\"\",\"\",INDEX(Odds!K:K,MATCH(J17,Odds!G:G,0)))","v":1},"Dave Orrell",{"$f":"INDEX(Picks!F:F,MATCH(AD17,Picks!A:A,0))","v":2.7100000000000009},{"$f":"INDEX(Weekly!I:I,MATCH(AD17,Weekly!E:E,0))","v":2},{"$f":"IF(AE17=\"\",\"\",_xlfn.RANK.EQ(AE17,TopScores,0))","v":16},null,"Ian Davies",{"$f":"INDEX(Picks!G:G,MATCH(AI17,Picks!A:A,0))","v":55.756},{"$f":"INDEX(Weekly!I:I,MATCH(AI17,Weekly!E:E,0))","v":0},{"$f":"IF(AJ17=\"\",\"\",_xlfn.RANK.EQ(AJ17,TopMaxScores,0))","v":15}]
[{"$f":"A17","v":"Andy Charleston"},{"$f":"IF(J18=\"\",\"\",J18)","v":"Spurs"},{"$f":"IF(J18=\"\",\"\",INDEX(Odds!C:C,MATCH(J18,Odds!G:G,0)))","v":"1900-01-01"},1.4,"√",null,null,null,null,"Spurs",{"$f":"INDEX(Odds!H:H,MATCH(J18,Odds!G:G,0))","v":"2/5"},{"$f":"INDEX(Odds!I:I,MATCH(J18,Odds!G:G,0))","v":1.4},{"$f":"INDEX(Odds!J:J,MATCH(J18,Odds!G:G,0))","v":1},1.4,null,{"$f":"IF(Match!B18=\"\",\"\",Match!V18)","v":"Middlesbro 1-1 Blackburn "},null,{"$f":"IF(Odds!G18=\"\",\"\",Odds!G18)","v":"Middlesbro"},{"$f":"INDEX(Odds!H:H,MATCH(R18,Odds!G:G,0))","v":"6/5"},0,{"$f":"INDEX(Match!Q:Q,MATCH(P18,Match!V:V,0))","v":"Middlesbro"},{"$f":"INDEX(Match!G:G,MATCH(P18,Match!V:V,0))","v":1},{"$f":"INDEX(Match!R:R,MATCH(P18,Match!V:V,0))","v":"Blackburn"},{"$f":"INDEX(Match!H:H,MATCH(P18,Match!V:V,0))","v":1},null,null,null,{"$f":"IF(O18=\"\",\"\",INDEX(Odds!H:H,MATCH(O18,Odds!G:G,0)))","v":""},{"$f":"IF(J18=\"\",\"\",INDEX(Odds!K:K,MATCH(J18,Odds!G:G,0)))","v":1},"David Dunn",{"$f":"INDEX(Picks!F:F,MATCH(AD18,Picks!A:A,0))","v":2.125},{"$f":"INDEX(Weekly!I:I,MATCH(AD18,Weekly!E:E,0))","v":2},{"$f":"IF(AE18=\"\",\"\",_xlfn.RANK.EQ(AE18,TopScores,0))","v":17},null,"Alfie Davies",{"$f":"INDEX(Picks!G:G,MATCH(AI18,Picks!A:A,0))","v":50.481999999999999},{"$f":"INDEX(Weekly!I:I,MATCH(AI18,Weekly!E:E,0))","v":1},{"$f":"IF(AJ18=\"\",\"\",_xlfn.RANK.EQ(AJ18,TopMaxScores,0))","v":16}]
[{"$f":"A17","v":"Andy Charleston"},"Wolves",{"$f":"IF(J19=\"\",\"\",INDEX(Odds!C:C,MATCH(J19,Odds!G:G,0)))","v":"1900-01-01"},5,"x",null,null,null,null,"Wolves",{"$f":"INDEX(Odds!H:H,MATCH(J19,Odds!G:G,0))","v":"4/1"},{"$f":"INDEX(Odds!I:I,MATCH(J19,Odds!G:G,0))","v":5},{"$f":"INDEX(Odds!J:J,MATCH(J19,Odds!G:G,0))","v":0},0,null,{"$f":"IF(Match!B19=\"\",\"\",Match!V19)","v":"Millwall 2-1 Blackpool "},null,{"$f":"IF(Odds!G19=\"\",\"\",Odds!G19)","v":"Millwall"},{"$f":"INDEX(Odds!H:H,MATCH(R19,Odds!G:G,0))","v":"10/11"},1,{"$f":"INDEX(Match!Q:Q,MATCH(P19,Match!V:V,0))","v":"Millwall"},{"$f":"INDEX(Match!G:G,MATCH(P19,Match!V:V,0))","v":2},{"$f":"INDEX(Match!R:R,MATCH(P19,Match!V:V,0))","v":"Blackpool"},{"$f":"INDEX(Match!H:H,MATCH(P19,Match!V:V,0))","v":1},null,null,null,{"$f":"IF(O19=\"\",\"\",INDEX(Odds!H:H,MATCH(O19,Odds!G:G,0)))","v":""},{"$f":"IF(J19=\"\",\"\",INDEX(Odds!K:K,MATCH(J19,Odds!G:G,0)))","v":1},"Paul Adderley",{"$f":"INDEX(Picks!F:F,MATCH(AD19,Picks!A:A,0))","v":1.4499999999999993},{"$f":"INDEX(Weekly!I:I,MATCH(AD19,Weekly!E:E,0))","v":2},{"$f":"IF(AE19=\"\",\"\",_xlfn.RANK.EQ(AE19,TopScores,0))","v":18},null,"Charlie Griffiths",{"$f":"INDEX(Picks!G:G,MATCH(AI19,Picks!A:A,0))","v":48.264999999999993},{"$f":"INDEX(Weekly!I:I,MATCH(AI19,Weekly!E:E,0))","v":0},{"$f":"IF(AJ19=\"\",\"\",_xlfn.RANK.EQ(AJ19,TopMaxScores,0))","v":17}]
[{"$f":"Results!B20","v":"Andy Hargreaves"},"",{"$f":"IF(J20=\"\",\"\",INDEX(Odds!C:C,MATCH(J20,Odds!G:G,0)))","v":""},"","",{"$f":"IF(J20=\"\",-10,INDEX(Results!T:T,MATCH(A20,Results!V:V,0)))","v":-10},{"$f":"IF(J20=\"\",\"\",INDEX(Results!AI:AI,MATCH(A20,Results!V:V,0)))","v":""},{"$f":"IF(G20=\"\",0,1)","v":0},{"$f":"INDEX(Picks!AG:AG,MATCH(A20,Picks!AD:AD,0))","v":{"$error":"#N/A"}},null,{"$f":"INDEX(Odds!H:H,MATCH(J20,Odds!G:G,0))","v":{"$error":"#N/A"}},{"$f":"INDEX(Odds!I:I,MATCH(J20,Odds!G:G,0))","v":{"$error":"#N/A"}},{"$f":"INDEX(Odds!J:J,MATCH(J20,Odds!G:G,0))","v":{"$error":"#N/A"}},{"$error":"#N/A"},null,{"$f":"IF(Match!B20=\"\",\"\",Match!V20)","v":"Peterborough 0-1 West Brom "},null,{"$f":"IF(Odds!G20=\"\",\"\",Odds!G20)","v":"Peterborough"},{"$f":"INDEX(Odds!H:H,MATCH(R20,Odds!G:G,0))","v":"16/5"},0,{"$f":"INDEX(Match!Q:Q,MATCH(P20,Match!V:V,0))","v":"Peterborough"},{"$f":"INDEX(Match!G:G,MATCH(P20,Match!V:V,0))","v":0},{"$f":"INDEX(Match!R:R,MATCH(P20,Match!V:V,0))","v":"West Brom"},{"$f":"INDEX(Match!H:H,MATCH(P20,Match!V:V,0))","v":1},null,null,null,{"$f":"IF(O20=\"\",\"\",INDEX(Odds!H:H,MATCH(O20,Odds!G:G,0)))","v":""},{"$f":"IF(J20=\"\",\"\",INDEX(Odds!K:K,MATCH(J20,Odds!G:G,0)))","v":""},"Kevin Carter",{"$f":"INDEX(Picks!F:F,MATCH(AD20,Picks!A:A,0))","v":-0.22727272727272751},{"$f":"INDEX(Weekly!I:I,MATCH(AD20,Weekly!E:E,0))","v":2},{"$f":"IF(AE20=\"\",\"\",_xlfn.RANK.EQ(AE20,TopScores,0))","v":19},null,"Steve Carter",{"$f":"INDEX(Picks!G:G,MATCH(AI20,Picks!A:A,0))","v":46.179999999999993},{"$f":"INDEX(Weekly!I:I,MATCH(AI20,Weekly!E:E,0))","v":1},{"$f":"IF(AJ20=\"\",\"\",_xlfn.RANK.EQ(AJ20,TopMaxScores,0))","v":18}]
[{"$f":"A20","v":"Andy Hargreaves"},"",{"$f":"IF(J21=\"\",\"\",INDEX(Odds!C:C,MATCH(J21,Odds!G:G,0)))","v":""},"","",null,null,null,null,null,{"$f":"INDEX(Odds!H:H,MATCH(J21,Odds!G:G,0))","v":{"$error":"#N/A"}},{"$f":"INDEX(Odds!I:I,MATCH(J21,Odds!G:G,0))","v":{"$error":"#N/A"}},{"$f":"INDEX(Odds!J:J,MATCH(J21,Odds!G:G,0))","v":{"$error":"#N/A"}},{"$error":"#N/A"},null,{"$f":"IF(Match!B21=\"\",\"\",Match!V21)","v":"Preston 3-1 Swansea "},null,{"$f":"IF(Odds!G21=\"\",\"\",Odds!G21)","v":"Preston"},{"$f":"INDEX(Odds!H:H,MATCH(R21,Odds!G:G,0))","v":"8/5"},1,{"$f":"INDEX(Match!Q:Q,MATCH(P21,Match!V:V,0))","v":"Preston"},{"$f":"INDEX(Match!G:G,MATCH(P21,Match!V:V,0))","v":3},{"$f":"INDEX(Match!R:R,MATCH(P21,Match!V:V,0))","v":"Swansea"},{"$f":"INDEX(Match!H:H,MATCH(P21,Match!V:V,0))","v":1},null,null,null,{"$f":"IF(O21=\"\",\"\",INDEX(Odds!H:H,MATCH(O21,Odds!G:G,0)))","v":""},{"$f":"IF(J21=\"\",\"\",INDEX(Odds!K:K,MATCH(J21,Odds!G:G,0)))","v":""},"Jack Walsh",{"$f":"INDEX(Picks!F:F,MATCH(AD21,Picks!A:A,0))","v":-0.36363636363636331},{"$f":"INDEX(Weekly!I:I,MATCH(AD21,Weekly!E:E,0))","v":2},{"$f":"IF(AE21=\"\",\"\",_xlfn.RANK.EQ(AE21,TopScores,0))","v":20},null,"Alan Rogers",{"$f":"INDEX(Picks!G:G,MATCH(AI21,Picks!A:A,0))","v":46.017499999999998},{"$f":"INDEX(Weekly!I:I,MATCH(AI21,Weekly!E:E,0))","v":1},{"$f":"IF(AJ21=\"\",\"\",_xlfn.RANK.EQ(AJ21,TopMaxScores,0))","v":19}]
[{"$f":"A20","v":"Andy Hargreaves"},"",{"$f":"IF(J22=\"\",\"\",INDEX(Odds!C:C,MATCH(J22,Odds!G:G,0)))","v":""},"","",null,null,null,null,null,{"$f":"INDEX(Odds!H:H,MATCH(J22,Odds!G:G,0))","v":{"$error":"#N/A"}},{"$f":"INDEX(Odds!I:I,MATCH(J22,Odds!G:G,0))","v":{"$error":"#N/A"}},{"$f":"INDEX(Odds!J:J,MATCH(J22,Odds!G:G,0))","v":{"$error":"#N/A"}},{"$error":"#N/A"},null,{"$f":"IF(Match!B22=\"\",\"\",Match!V22)","v":"QPR 2-0 Coventry "},null,{"$f":"IF(Odds!G22=\"\",\"\",Odds!G22)","v":"QPR"},{"$f":"INDEX(Odds!H:H,MATCH(R22,Odds!G:G,0))","v":"23/20"},1,{"$f":"INDEX(Match!Q:Q,MATCH(P22,Match!V:V,0))","v":"QPR"},{"$f":"INDEX(Match!G:G,MATCH(P22,Match!V:V,0))","v":2},{"$f":"INDEX(Match!R:R,MATCH(P22,Match!V:V,0))","v":"Coventry"},{"$f":"INDEX(Match!H:H,MATCH(P22,Match!V:V,0))","v":0},null,null,null,{"$f":"IF(O22=\"\",\"\",INDEX(Odds!H:H,MATCH(O22,Odds!G:G,0)))","v":""},{"$f":"IF(J22=\"\",\"\",INDEX(Odds!K:K,MATCH(J22,Odds!G:G,0)))","v":""},"Rob England",{"$f":"INDEX(Picks!F:F,MATCH(AD22,Picks!A:A,0))","v":-0.44749999999999979},{"$f":"INDEX(Weekly!I:I,MATCH(AD22,Weekly!E:E,0))","v":2},{"$f":"IF(AE22=\"\",\"\",_xlfn.RANK.EQ(AE22,TopScores,0))","v":21},null,"Vinny Topping",{"$f":"INDEX(Picks!G:G,MATCH(AI22,Picks!A:A,0))","v":44.65},{"$f":"INDEX(Weekly!I:I,MATCH(AI22,Weekly!E:E,0))","v":0},{"$f":"IF(AJ22=\"\",\"\",_xlfn.RANK.EQ(AJ22,TopMaxScores,0))","v":20}]
[{"$f":"Results!B23","v":"Andy White"},"Villa",{"$f":"IF(J23=\"\",\"\",INDEX(Odds!C:C,MATCH(J23,Odds!G:G,0)))","v":"1900-01-07"},2,"x",{"$f":"IF(J23=\"\",-10,INDEX(Results!T:T,MATCH(A23,Results!V:V,0)))","v":-5.2727272727272725},{"$f":"IF(J23=\"\",\"\",INDEX(Results!AI:AI,MATCH(A23,Results!V:V,0)))","v":22.68181818181818},{"$f":"IF(G23=\"\",0,1)","v":1},{"$f":"INDEX(Picks!AG:AG,MATCH(A23,Picks!AD:AD,0))","v":43},"Villa",{"$f":"INDEX(Odds!H:H,MATCH(J23,Odds!G:G,0))","v":"1/1"},{"$f":"INDEX(Odds!I:I,MATCH(J23,Odds!G:G,0))","v":2},{"$f":"INDEX(Odds!J:J,MATCH(J23,Odds!G:G,0))","v":0},0,null,{"$f":"IF(Match!B23=\"\",\"\",Match!V23)","v":"Cambridge 1-0 Bolton "},null,{"$f":"IF(Odds!G23=\"\",\"\",Odds!G23)","v":"Cambridge"},{"$f":"INDEX(Odds!H:H,MATCH(R23,Odds!G:G,0))","v":"2/1"},1,{"$f":"INDEX(Match!Q:Q,MATCH(P23,Match!V:V,0))","v":"Cambridge"},{"$f":"INDEX(Match!G:G,MATCH(P23,Match!V:V,0))","v":1},{"$f":"INDEX(Match!R:R,MATCH(P23,Match!V:V,0))","v":"Bolton"},{"$f":"INDEX(Match!H:H,MATCH(P23,Match!V:V,0))","v":0},null,null,null,{"$f":"IF(O23=\"\",\"\",INDEX(Odds!H:H,MATCH(O23,Odds!G:G,0)))","v":""},{"$f":"IF(J23=\"\",\"\",INDEX(Odds!K:K,MATCH(J23,Odds!G:G,0)))","v":1},"Liam Wah",{"$f":"INDEX(Picks!F:F,MATCH(AD23,Picks!A:A,0))","v":-1.2800000000000002},{"$f":"INDEX(Weekly!I:I,MATCH(AD23,Weekly!E:E,0))","v":2},{"$f":"IF(AE23=\"\",\"\",_xlfn.RANK.EQ(AE23,TopScores,0))","v":22},null,"Gerard Ventom",{"$f":"INDEX(Picks!G:G,MATCH(AI23,Picks!A:A,0))","v":43.384375000000006},{"$f":"INDEX(Weekly!I:I,MATCH(AI23,Weekly!E:E,0))","v":1},{"$f":"IF(AJ23=\"\",\"\",_xlfn.RANK.EQ(AJ23,TopMaxScores,0))","v":21}]
[{"$f":"A23","v":"Andy White"},"Leicester",{"$f":"IF(J24=\"\",\"\",INDEX(Odds!C:C,MATCH(J24,Odds!G:G,0)))","v":"1900-01-07"},1.7272727272727273,"√",null,null,null,null,"Leicester",{"$f":"INDEX(Odds!H:H,MATCH(J24,Odds!G:G,0))","v":"8/11"},{"$f":"INDEX(Odds!I:I,MATCH(J24,Odds!G:G,0))","v":1.7272727272727273},{"$f":"INDEX(Odds!J:J,MATCH(J24,Odds!G:G,0))","v":1},1.7272727272727273,null,{"$f":"IF(Match!B24=\"\",\"\",Match!V24)","v":"Charlton 2-0 Crewe "},null,{"$f":"IF(Odds!G24=\"\",\"\",Odds!G24)","v":"Charlton"},{"$f":"INDEX(Odds!H:H,MATCH(R24,Odds!G:G,0))","v":"17/20"},1,{"$f":"INDEX(Match!Q:Q,MATCH(P24,Match!V:V,0))","v":"Charlton"},{"$f":"INDEX(Match!G:G,MATCH(P24,Match!V:V,0))","v":2},{"$f":"INDEX(Match!R:R,MATCH(P24,Match!V:V,0))","v":"Crewe"},{"$f":"INDEX(Match!H:H,MATCH(P24,Match!V:V,0))","v":0},null,null,null,{"$f":"IF(O24=\"\",\"\",INDEX(Odds!H:H,MATCH(O24,Odds!G:G,0)))","v":""},{"$f":"IF(J24=\"\",\"\",INDEX(Odds!K:K,MATCH(J24,Odds!G:G,0)))","v":1},"Ashley Houghton",{"$f":"INDEX(Picks!F:F,MATCH(AD24,Picks!A:A,0))","v":-1.2800000000000002},{"$f":"INDEX(Weekly!I:I,MATCH(AD24,Weekly!E:E,0))","v":2},{"$f":"IF(AE24=\"\",\"\",_xlfn.RANK.EQ(AE24,TopScores,0))","v":22},null,"Mike Penk",{"$f":"INDEX(Picks!G:G,MATCH(AI24,Picks!A:A,0))","v":42.634999999999998},{"$f":"INDEX(Weekly!I:I,MATCH(AI24,Weekly!E:E,0))","v":0},{"$f":"IF(AJ24=\"\",\"\",_xlfn.RANK.EQ(AJ24,TopMaxScores,0))","v":22}]
[{"$f":"A23","v":"Andy White"},"Chelsea",{"$f":"IF(J25=\"\",\"\",INDEX(Odds!C:C,MATCH(J25,Odds!G:G,0)))","v":"1900-01-07"},2.75,"x",null,null,null,null,"Chelsea",{"$f":"INDEX(Odds!H:H,MATCH(J25,Odds!G:G,0))","v":"7/4"},{"$f":"INDEX(Odds!I:I,MATCH(J25,Odds!G:G,0))","v":2.75},{"$f":"INDEX(Odds!J:J,MATCH(J25,Odds!G:G,0))","v":0},0,null,{"$f":"IF(Match!B25=\"\",\"\",Match!V25)","v":"Ipswich 2-2 Wimbledon "},null,{"$f":"IF(Odds!G25=\"\",\"\",Odds!G25)","v":"Ipswich"},{"$f":"INDEX(Odds!H:H,MATCH(R25,Odds!G:G,0))","v":"1/1"},0,{"$f":"INDEX(Match!Q:Q,MATCH(P25,Match!V:V,0))","v":"Ipswich"},{"$f":"INDEX(Match!G:G,MATCH(P25,Match!V:V,0))","v":2},{"$f":"INDEX(Match!R:R,MATCH(P25,Match!V:V,0))","v":"Wimbledon"},{"$f":"INDEX(Match!H:H,MATCH(P25,Match!V:V,0))","v":2},null,null,null,{"$f":"IF(O25=\"\",\"\",INDEX(Odds!H:H,MATCH(O25,Odds!G:G,0)))","v":""},{"$f":"IF(J25=\"\",\"\",INDEX(Odds!K:K,MATCH(J25,Odds!G:G,0)))","v":1},"Howard Bradley",{"$f":"INDEX(Picks!F:F,MATCH(AD25,Picks!A:A,0))","v":-3.5},{"$f":"INDEX(Weekly!I:I,MATCH(AD25,Weekly!E:E,0))","v":1},{"$f":"IF(AE25=\"\",\"\",_xlfn.RANK.EQ(AE25,TopScores,0))","v":24},null,"Graham Miller",{"$f":"INDEX(Picks!G:G,MATCH(AI25,Picks!A:A,0))","v":42.2425},{"$f":"INDEX(Weekly!I:I,MATCH(AI25,Weekly!E:E,0))","v":1},{"$f":"IF(AJ25=\"\",\"\",_xlfn.RANK.EQ(AJ25,TopMaxScores,0))","v":23}]
[{"$f":"Results!B26","v":"Ashley Houghton"},"Leeds",{"$f":"IF(J26=\"\",\"\",INDEX(Odds!C:C,MATCH(J26,Odds!G:G,0)))","v":"1900-01-01"},2.25,"x",{"$f":"IF(J26=\"\",-10,INDEX(Results!T:T,MATCH(A26,Results!V:V,0)))","v":-1.2800000000000002},{"$f":"IF(J26=\"\",\"\",INDEX(Results!AI:AI,MATCH(A26,Results!V:V,0)))","v":13.839999999999996},{"$f":"IF(G26=\"\",0,1)","v":1},{"$f":"INDEX(Picks!AG:AG,MATCH(A26,Picks!AD:AD,0))","v":22},"Leeds",{"$f":"INDEX(Odds!H:H,MATCH(J26,Odds!G:G,0))","v":"5/4"},{"$f":"INDEX(Odds!I:I,MATCH(J26,Odds!G:G,0))","v":2.25},{"$f":"INDEX(Odds!J:J,MATCH(J26,Odds!G:G,0))","v":0},0,null,{"$f":"IF(Match!B26=\"\",\"\",Match!V26)","v":"MK Dons 2-0 Accrington "},null,{"$f":"IF(Odds!G26=\"\",\"\",Odds!G26)","v":"MK Dons"},{"$f":"INDEX(Odds!H:H,MATCH(R26,Odds!G:G,0))","v":"11/10"},1,{"$f":"INDEX(Match!Q:Q,MATCH(P26,Match!V:V,0))","v":"MK Dons"},{"$f":"INDEX(Match!G:G,MATCH(P26,Match!V:V,0))","v":2},{"$f":"INDEX(Match!R:R,MATCH(P26,Match!V:V,0))","v":"Accrington"},{"$f":"INDEX(Match!H:H,MATCH(P26,Match!V:V,0))","v":0},null,null,null,{"$f":"IF(O26=\"\",\"\",INDEX(Odds!H:H,MATCH(O26,Odds!G:G,0)))","v":""},{"$f":"IF(J26=\"\",\"\",INDEX(Odds!K:K,MATCH(J26,Odds!G:G,0)))","v":1},"Chris Griffin",{"$f":"INDEX(Picks!F:F,MATCH(AD26,Picks!A:A,0))","v":-3.7},{"$f":"INDEX(Weekly!I:I,MATCH(AD26,Weekly!E:E,0))","v":1},{"$f":"IF(AE26=\"\",\"\",_xlfn.RANK.EQ(AE26,TopScores,0))","v":25},null,"Chris Luck",{"$f":"INDEX(Picks!G:G,MATCH(AI26,Picks!A:A,0))","v":41.612500000000004},{"$f":"INDEX(Weekly!I:I,MATCH(AI26,Weekly!E:E,0))","v":1},{"$f":"IF(AJ26=\"\",\"\",_xlfn.RANK.EQ(AJ26,TopMaxScores,0))","v":24}]
[{"$f":"A26","v":"Ashley Houghton"},"Spurs",{"$f":"IF(J27=\"\",\"\",INDEX(Odds!C:C,MATCH(J27,Odds!G:G,0)))","v":"1900-01-01"},1.4,"√",null,null,null,null,"Spurs",{"$f":"INDEX(Odds!H:H,MATCH(J27,Odds!G:G,0))","v":"2/5"},{"$f":"INDEX(Odds!I:I,MATCH(J27,Odds!G:G,0))","v":1.4},{"$f":"INDEX(Odds!J:J,MATCH(J27,Odds!G:G,0))","v":1},1.4,null,{"$f":"IF(Match!B27=\"\",\"\",Match!V27)","v":"Morecambe 1-0 Sheff W "},null,{"$f":"IF(Odds!G27=\"\",\"\",Odds!G27)","v":"Morecambe"},{"$f":"INDEX(Odds!H:H,MATCH(R27,Odds!G:G,0))","v":"3/1"},1,{"$f":"INDEX(Match!Q:Q,MATCH(P27,Match!V:V,0))","v":"Morecambe"},{"$f":"INDEX(Match!G:G,MATCH(P27,Match!V:V,0))","v":1},{"$f":"INDEX(Match!R:R,MATCH(P27,Match!V:V,0))","v":"Sheff W"},{"$f":"INDEX(Match!H:H,MATCH(P27,Match!V:V,0))","v":0},null,null,null,{"$f":"IF(O27=\"\",\"\",INDEX(Odds!H:H,MATCH(O27,Odds!G:G,0)))","v":""},{"$f":"IF(J27=\"\",\"\",INDEX(Odds!K:K,MATCH(J27,Odds!G:G,0)))","v":1},"Steve Carter",{"$f":"INDEX(Picks!F:F,MATCH(AD27,Picks!A:A,0))","v":-3.7},{"$f":"INDEX(Weekly!I:I,MATCH(AD27,Weekly!E:E,0))","v":1},{"$f":"IF(AE27=\"\",\"\",_xlfn.RANK.EQ(AE27,TopScores,0))","v":25},null,"Kei Lok Ma",{"$f":"INDEX(Picks!G:G,MATCH(AI27,Picks!A:A,0))","v":41.481250000000003},{"$f":"INDEX(Weekly!I:I,MATCH(AI27,Weekly!E:E,0))","v":0},{"$f":"IF(AJ27=\"\",\"\",_xlfn.RANK.EQ(AJ27,TopMaxScores,0))","v":25}]
[{"$f":"A26","v":"Ashley Houghton"},"Man U",{"$f":"IF(J28=\"\",\"\",INDEX(Odds!C:C,MATCH(J28,Odds!G:G,0)))","v":"1900-01-01"},1.8,"√",null,null,null,null,"Man U",{"$f":"INDEX(Odds!H:H,MATCH(J28,Odds!G:G,0))","v":"4/5"},{"$f":"INDEX(Odds!I:I,MATCH(J28,Odds!G:G,0))","v":1.8},{"$f":"INDEX(Odds!J:J,MATCH(J28,Odds!G:G,0))","v":1},1.8,null,{"$f":"IF(Match!B28=\"\",\"\",Match!V28)","v":"Oxford 3-1 Lincoln "},null,{"$f":"IF(Odds!G28=\"\",\"\",Odds!G28)","v":"Oxford"},{"$f":"INDEX(Odds!H:H,MATCH(R28,Odds!G:G,0))","v":"11/10"},1,{"$f":"INDEX(Match!Q:Q,MATCH(P28,Match!V:V,0))","v":"Oxford"},{"$f":"INDEX(Match!G:G,MATCH(P28,Match!V:V,0))","v":3},{"$f":"INDEX(Match!R:R,MATCH(P28,Match!V:V,0))","v":"Lincoln"},{"$f":"INDEX(Match!H:H,MATCH(P28,Match!V:V,0))","v":1},null,null,null,{"$f":"IF(O28=\"\",\"\",INDEX(Odds!H:H,MATCH(O28,Odds!G:G,0)))","v":""},{"$f":"IF(J28=\"\",\"\",INDEX(Odds!K:K,MATCH(J28,Odds!G:G,0)))","v":1},"Gerard Ventom",{"$f":"INDEX(Picks!F:F,MATCH(AD28,Picks!A:A,0))","v":-3.8},{"$f":"INDEX(Weekly!I:I,MATCH(AD28,Weekly!E:E,0))","v":1},{"$f":"IF(AE28=\"\",\"\",_xlfn.RANK.EQ(AE28,TopScores,0))","v":27},null,"Mark Bunn",{"$f":"INDEX(Picks!G:G,MATCH(AI28,Picks!A:A,0))","v":39.628},{"$f":"INDEX(Weekly!I:I,MATCH(AI28,Weekly!E:E,0))","v":1},{"$f":"IF(AJ28=\"\",\"\",_xlfn.RANK.EQ(AJ28,TopMaxScores,0))","v":26}]
[{"$f":"Results!B29","v":"Barry Birchall"},"Burton",{"$f":"IF(J29=\"\",\"\",INDEX(Odds!C:C,MATCH(J29,Odds!G:G,0)))","v":"1900-01-06"},2,"x",{"$f":"IF(J29=\"\",-10,INDEX(Results!T:T,MATCH(A29,Results!V:V,0)))","v":-5.35},{"$f":"IF(J29=\"\",\"\",INDEX(Results!AI:AI,MATCH(A29,Results!V:V,0)))","v":24.595000000000002},{"$f":"IF(G29=\"\",0,1)","v":1},{"$f":"INDEX(Picks!AG:AG,MATCH(A29,Picks!AD:AD,0))","v":44},"Burton",{"$f":"INDEX(Odds!H:H,MATCH(J29,Odds!G:G,0))","v":"1/1"},{"$f":"INDEX(Odds!I:I,MATCH(J29,Odds!G:G,0))","v":2},{"$f":"INDEX(Odds!J:J,MATCH(J29,Odds!G:G,0))","v":0},0,null,{"$f":"IF(Match!B29=\"\",\"\",Match!V29)","v":"Plymouth 1-1 Fleetwood "},null,{"$f":"IF(Odds!G29=\"\",\"\",Odds!G29)","v":"Plymouth"},{"$f":"INDEX(Odds!H:H,MATCH(R29,Odds!G:G,0))","v":"29/20"},0,{"$f":"INDEX(Match!Q:Q,MATCH(P29,Match!V:V,0))","v":"Plymouth"},{"$f":"INDEX(Match!G:G,MATCH(P29,Match!V:V,0))","v":1},{"$f":"INDEX(Match!R:R,MATCH(P29,Match!V:V,0))","v":"Fleetwood"},{"$f":"INDEX(Match!H:H,MATCH(P29,Match!V:V,0))","v":1},null,null,null,{"$f":"IF(O29=\"\",\"\",INDEX(Odds!H:H,MATCH(O29,Odds!G:G,0)))","v":""},{"$f":"IF(J29=\"\",\"\",INDEX(Odds!K:K,MATCH(J29,Odds!G:G,0)))","v":1},"Chris Luck",{"$f":"INDEX(Picks!F:F,MATCH(AD29,Picks!A:A,0))","v":-3.8},{"$f":"INDEX(Weekly!I:I,MATCH(AD29,Weekly!E:E,0))","v":1},{"$f":"IF(AE29=\"\",\"\",_xlfn.RANK.EQ(AE29,TopScores,0))","v":27},null,"Alan White",{"$f":"INDEX(Picks!G:G,MATCH(AI29,Picks!A:A,0))","v":39.628},{"$f":"INDEX(Weekly!I:I,MATCH(AI29,Weekly!E:E,0))","v":0},{"$f":"IF(AJ29=\"\",\"\",_xlfn.RANK.EQ(AJ29,TopMaxScores,0))","v":26}]
[{"$f":"A29","v":"Barry Birchall"},"Rotherham",{"$f":"IF(J30=\"\",\"\",INDEX(Odds!C:C,MATCH(J30,Odds!G:G,0)))","v":"1900-01-07"},1.65,"√",null,null,null,null,"Rotherham",{"$f":"INDEX(Odds!H:H,MATCH(J30,Odds!G:G,0))","v":"13/20"},{"$f":"INDEX(Odds!I:I,MATCH(J30,Odds!G:G,0))","v":1.65},{"$f":"INDEX(Odds!J:J,MATCH(J30,Odds!G:G,0))","v":1},1.65,null,{"$f":"IF(Match!B30=\"\",\"\",Match!V30)","v":"Rotherham 2-0 Doncaster "},null,{"$f":"IF(Odds!G30=\"\",\"\",Odds!G30)","v":"Rotherham"},{"$f":"INDEX(Odds!H:H,MATCH(R30,Odds!G:G,0))","v":"13/20"},1,{"$f":"INDEX(Match!Q:Q,MATCH(P30,Match!V:V,0))","v":"Rotherham"},{"$f":"INDEX(Match!G:G,MATCH(P30,Match!V:V,0))","v":2},{"$f":"INDEX(Match!R:R,MATCH(P30,Match!V:V,0))","v":"Doncaster"},{"$f":"INDEX(Match!H:H,MATCH(P30,Match!V:V,0))","v":0},null,null,null,{"$f":"IF(O30=\"\",\"\",INDEX(Odds!H:H,MATCH(O30,Odds!G:G,0)))","v":""},{"$f":"IF(J30=\"\",\"\",INDEX(Odds!K:K,MATCH(J30,Odds!G:G,0)))","v":1},"Mark Bunn",{"$f":"INDEX(Picks!F:F,MATCH(AD30,Picks!A:A,0))","v":-3.8},{"$f":"INDEX(Weekly!I:I,MATCH(AD30,Weekly!E:E,0))","v":1},{"$f":"IF(AE30=\"\",\"\",_xlfn.RANK.EQ(AE30,TopScores,0))","v":27},null,"Andy Charleston",{"$f":"INDEX(Picks!G:G,MATCH(AI30,Picks!A:A,0))","v":38.799999999999997},{"$f":"INDEX(Weekly!I:I,MATCH(AI30,Weekly!E:E,0))","v":1},{"$f":"IF(AJ30=\"\",\"\",_xlfn.RANK.EQ(AJ30,TopMaxScores,0))","v":28}]
[{"$f":"A29","v":"Barry Birchall"},"Bradford",{"$f":"IF(J31=\"\",\"\",INDEX(Odds!C:C,MATCH(J31,Odds!G:G,0)))","v":"1900-01-07"},3.1,"x",null,null,null,null,"Bradford",{"$f":"INDEX(Odds!H:H,MATCH(J31,Odds!G:G,0))","v":"21/10"},{"$f":"INDEX(Odds!I:I,MATCH(J31,Odds!G:G,0))","v":3.1},{"$f":"INDEX(Odds!J:J,MATCH(J31,Odds!G:G,0))","v":0},0,null,{"$f":"IF(Match!B31=\"\",\"\",Match!V31)","v":"Shrewsbury 2-1 Gillingham "},null,{"$f":"IF(Odds!G31=\"\",\"\",Odds!G31)","v":"Shrewsbury"},{"$f":"INDEX(Odds!H:H,MATCH(R31,Odds!G:G,0))","v":"29/20"},1,{"$f":"INDEX(Match!Q:Q,MATCH(P31,Match!V:V,0))","v":"Shrewsbury"},{"$f":"INDEX(Match!G:G,MATCH(P31,Match!V:V,0))","v":2},{"$f":"INDEX(Match!R:R,MATCH(P31,Match!V:V,0))","v":"Gillingham"},{"$f":"INDEX(Match!H:H,MATCH(P31,Match!V:V,0))","v":1},null,null,null,{"$f":"IF(O31=\"\",\"\",INDEX(Odds!H:H,MATCH(O31,Odds!G:G,0)))","v":""},{"$f":"IF(J31=\"\",\"\",INDEX(Odds!K:K,MATCH(J31,Odds!G:G,0)))","v":1},"Graham Miller",{"$f":"INDEX(Picks!F:F,MATCH(AD31,Picks!A:A,0))","v":-4.375},{"$f":"INDEX(Weekly!I:I,MATCH(AD31,Weekly!E:E,0))","v":1},{"$f":"IF(AE31=\"\",\"\",_xlfn.RANK.EQ(AE31,TopScores,0))","v":30},null,"Phil Miller",{"$f":"INDEX(Picks!G:G,MATCH(AI31,Picks!A:A,0))","v":37.81818181818182},{"$f":"INDEX(Weekly!I:I,MATCH(AI31,Weekly!E:E,0))","v":3},{"$f":"IF(AJ31=\"\",\"\",_xlfn.RANK.EQ(AJ31,TopMaxScores,0))","v":29}]
[{"$f":"Results!B32","v":"Ben Rosser"},"Everton",{"$f":"IF(J32=\"\",\"\",INDEX(Odds!C:C,MATCH(J32,Odds!G:G,0)))","v":"1900-01-07"},3.2,"√",{"$f":"IF(J32=\"\",-10,INDEX(Results!T:T,MATCH(A32,Results!V:V,0)))","v":10.059999999999999},{"$f":"IF(J32=\"\",\"\",INDEX(Results!AI:AI,MATCH(A32,Results!V:V,0)))","v":57.467499999999987},{"$f":"IF(G32=\"\",0,1)","v":1},{"$f":"INDEX(Picks!AG:AG,MATCH(A32,Picks!AD:AD,0))","v":7},"Everton",{"$f":"INDEX(Odds!H:H,MATCH(J32,Odds!G:G,0))","v":"11/5"},{"$f":"INDEX(Odds!I:I,MATCH(J32,Odds!G:G,0))","v":3.2},{"$f":"INDEX(Odds!J:J,MATCH(J32,Odds!G:G,0))","v":1},3.2,null,{"$f":"IF(Match!B32=\"\",\"\",Match!V32)","v":"Sunderland 3-1 Wycombe "},null,{"$f":"IF(Odds!G32=\"\",\"\",Odds!G32)","v":"Sunderland"},{"$f":"INDEX(Odds!H:H,MATCH(R32,Odds!G:G,0))","v":"1/1"},1,{"$f":"INDEX(Match!Q:Q,MATCH(P32,Match!V:V,0))","v":"Sunderland"},{"$f":"INDEX(Match!G:G,MATCH(P32,Match!V:V,0))","v":3},{"$f":"INDEX(Match!R:R,MATCH(P32,Match!V:V,0))","v":"Wycombe"},{"$f":"INDEX(Match!H:H,MATCH(P32,Match!V:V,0))","v":1},null,null,null,{"$f":"IF(O32=\"\",\"\",INDEX(Odds!H:H,MATCH(O32,Odds!G:G,0)))","v":""},{"$f":"IF(J32=\"\",\"\",INDEX(Odds!K:K,MATCH(J32,Odds!G:G,0)))","v":1},"Alan Bond",{"$f":"INDEX(Picks!F:F,MATCH(AD32,Picks!A:A,0))","v":-4.4000000000000004},{"$f":"INDEX(Weekly!I:I,MATCH(AD32,Weekly!E:E,0))","v":1},{"$f":"IF(AE32=\"\",\"\",_xlfn.RANK.EQ(AE32,TopScores,0))","v":31},null,"Chris Bow",{"$f":"INDEX(Picks!G:G,MATCH(AI32,Picks!A:A,0))","v":37.36},{"$f":"INDEX(Weekly!I:I,MATCH(AI32,Weekly!E:E,0))","v":2},{"$f":"IF(AJ32=\"\",\"\",_xlfn.RANK.EQ(AJ32,TopMaxScores,0))","v":30}]
[{"$f":"A32","v":"Ben Rosser"},"Liverpool draw",{"$f":"IF(J33=\"\",\"\",INDEX(Odds!C:C,MATCH(J33,Odds!G:G,0)))","v":"1900-01-07"},3.3,"√",null,null,null,null,"Liverpool draw",{"$f":"INDEX(Odds!H:H,MATCH(J33,Odds!G:G,0))","v":"23/10"},{"$f":"INDEX(Odds!I:I,MATCH(J33,Odds!G:G,0))","v":3.3},{"$f":"INDEX(Odds!J:J,MATCH(J33,Odds!G:G,0))","v":1},3.3,null,{"$f":"IF(Match!B33=\"\",\"\",Match!V33)","v":"Wigan 1-0 Portsmouth "},null,{"$f":"IF(Odds!G33=\"\",\"\",Odds!G33)","v":"Wigan"},{"$f":"INDEX(Odds!H:H,MATCH(R33,Odds!G:G,0))","v":"8/5"},1,{"$f":"INDEX(Match!Q:Q,MATCH(P33,Match!V:V,0))","v":"Wigan"},{"$f":"INDEX(Match!G:G,MATCH(P33,Match!V:V,0))","v":1},{"$f":"INDEX(Match!R:R,MATCH(P33,Match!V:V,0))","v":"Portsmouth"},{"$f":"INDEX(Match!H:H,MATCH(P33,Match!V:V,0))","v":0},null,null,null,{"$f":"IF(O33=\"\",\"\",INDEX(Odds!H:H,MATCH(O33,Odds!G:G,0)))","v":""},{"$f":"IF(J33=\"\",\"\",INDEX(Odds!K:K,MATCH(J33,Odds!G:G,0)))","v":1},"Mo Sudell",{"$f":"INDEX(Picks!F:F,MATCH(AD33,Picks!A:A,0))","v":-4.4000000000000004},{"$f":"INDEX(Weekly!I:I,MATCH(AD33,Weekly!E:E,0))","v":1},{"$f":"IF(AE33=\"\",\"\",_xlfn.RANK.EQ(AE33,TopScores,0))","v":31},null,"John Ronan",{"$f":"INDEX(Picks!G:G,MATCH(AI33,Picks!A:A,0))","v":33.85},{"$f":"INDEX(Weekly!I:I,MATCH(AI33,Weekly!E:E,0))","v":1},{"$f":"IF(AJ33=\"\",\"\",_xlfn.RANK.EQ(AJ33,TopMaxScores,0))","v":31}]
[{"$f":"A32","v":"Ben Rosser"},"Newcastle",{"$f":"IF(J34=\"\",\"\",INDEX(Odds!C:C,MATCH(J34,Odds!G:G,0)))","v":"1900-01-07"},2.625,"x",null,null,null,null,"Newcastle",{"$f":"INDEX(Odds!H:H,MATCH(J34,Odds!G:G,0))","v":"13/8"},{"$f":"INDEX(Odds!I:I,MATCH(J34,Odds!G:G,0))","v":2.625},{"$f":"INDEX(Odds!J:J,MATCH(J34,Odds!G:G,0))","v":0},0,null,{"$f":"IF(Match!B34=\"\",\"\",Match!V34)","v":"Barrow 1-1 Bristol R "},null,{"$f":"IF(Odds!G34=\"\",\"\",Odds!G34)","v":"Barrow"},{"$f":"INDEX(Odds!H:H,MATCH(R34,Odds!G:G,0))","v":"29/20"},0,{"$f":"INDEX(Match!Q:Q,MATCH(P34,Match!V:V,0))","v":"Barrow"},{"$f":"INDEX(Match!G:G,MATCH(P34,Match!V:V,0))","v":1},{"$f":"INDEX(Match!R:R,MATCH(P34,Match!V:V,0))","v":"Bristol R"},{"$f":"INDEX(Match!H:H,MATCH(P34,Match!V:V,0))","v":1},null,null,null,{"$f":"IF(O34=\"\",\"\",INDEX(Odds!H:H,MATCH(O34,Odds!G:G,0)))","v":""},{"$f":"IF(J34=\"\",\"\",INDEX(Odds!K:K,MATCH(J34,Odds!G:G,0)))","v":1},"Alan Rogers",{"$f":"INDEX(Picks!F:F,MATCH(AD34,Picks!A:A,0))","v":-4.5999999999999996},{"$f":"INDEX(Weekly!I:I,MATCH(AD34,Weekly!E:E,0))","v":1},{"$f":"IF(AE34=\"\",\"\",_xlfn.RANK.EQ(AE34,TopScores,0))","v":33},null,"Mark Saunders",{"$f":"INDEX(Picks!G:G,MATCH(AI34,Picks!A:A,0))","v":30.700000000000003},{"$f":"INDEX(Weekly!I:I,MATCH(AI34,Weekly!E:E,0))","v":2},{"$f":"IF(AJ34=\"\",\"\",_xlfn.RANK.EQ(AJ34,TopMaxScores,0))","v":32}]
[{"$f":"Results!B35","v":"Bob Bailey"},"Norwich",{"$f":"IF(J35=\"\",\"\",INDEX(Odds!C:C,MATCH(J35,Odds!G:G,0)))","v":"1900-01-07"},5,"x",{"$f":"IF(J35=\"\",-10,INDEX(Results!T:T,MATCH(A35,Results!V:V,0)))","v":-7},{"$f":"IF(J35=\"\",\"\",INDEX(Results!AI:AI,MATCH(A35,Results!V:V,0)))","v":65.237499999999997},{"$f":"IF(G35=\"\",0,1)","v":1},{"$f":"INDEX(Picks!AG:AG,MATCH(A35,Picks!AD:AD,0))","v":46},"Norwich",{"$f":"INDEX(Odds!H:H,MATCH(J35,Odds!G:G,0))","v":"4/1"},{"$f":"INDEX(Odds!I:I,MATCH(J35,Odds!G:G,0))","v":5},{"$f":"INDEX(Odds!J:J,MATCH(J35,Odds!G:G,0))","v":0},0,null,{"$f":"IF(Match!B35=\"\",\"\",Match!V35)","v":"Crawley 0-0 Northampton "},null,{"$f":"IF(Odds!G35=\"\",\"\",Odds!G35)","v":"Crawley"},{"$f":"INDEX(Odds!H:H,MATCH(R35,Odds!G:G,0))","v":"15/8"},0,{"$f":"INDEX(Match!Q:Q,MATCH(P35,Match!V:V,0))","v":"Crawley"},{"$f":"INDEX(Match!G:G,MATCH(P35,Match!V:V,0))","v":0},{"$f":"INDEX(Match!R:R,MATCH(P35,Match!V:V,0))","v":"Northampton"},{"$f":"INDEX(Match!H:H,MATCH(P35,Match!V:V,0))","v":0},null,null,null,{"$f":"IF(O35=\"\",\"\",INDEX(Odds!H:H,MATCH(O35,Odds!G:G,0)))","v":""},{"$f":"IF(J35=\"\",\"\",INDEX(Odds!K:K,MATCH(J35,Odds!G:G,0)))","v":1},"John Ronan",{"$f":"INDEX(Picks!F:F,MATCH(AD35,Picks!A:A,0))","v":-4.9000000000000004},{"$f":"INDEX(Weekly!I:I,MATCH(AD35,Weekly!E:E,0))","v":1},{"$f":"IF(AE35=\"\",\"\",_xlfn.RANK.EQ(AE35,TopScores,0))","v":34},null,"Alan Bond",{"$f":"INDEX(Picks!G:G,MATCH(AI35,Picks!A:A,0))","v":30.50200000000001},{"$f":"INDEX(Weekly!I:I,MATCH(AI35,Weekly!E:E,0))","v":1},{"$f":"IF(AJ35=\"\",\"\",_xlfn.RANK.EQ(AJ35,TopMaxScores,0))","v":33}]
[{"$f":"A35","v":"Bob Bailey"},"Barnsley",{"$f":"IF(J36=\"\",\"\",INDEX(Odds!C:C,MATCH(J36,Odds!G:G,0)))","v":"1900-01-07"},2.15,"x",null,null,null,null,"Barnsley",{"$f":"INDEX(Odds!H:H,MATCH(J36,Odds!G:G,0))","v":"23/20"},{"$f":"INDEX(Odds!I:I,MATCH(J36,Odds!G:G,0))","v":2.15},{"$f":"INDEX(Odds!J:J,MATCH(J36,Odds!G:G,0))","v":0},0,null,{"$f":"IF(Match!B36=\"\",\"\",Match!V36)","v":"Forest Green 0-2 Port Vale "},null,{"$f":"IF(Odds!G36=\"\",\"\",Odds!G36)","v":"Forest Green"},{"$f":"INDEX(Odds!H:H,MATCH(R36,Odds!G:G,0))","v":"23/20"},0,{"$f":"INDEX(Match!Q:Q,MATCH(P36,Match!V:V,0))","v":"Forest Green"},{"$f":"INDEX(Match!G:G,MATCH(P36,Match!V:V,0))","v":0},{"$f":"INDEX(Match!R:R,MATCH(P36,Match!V:V,0))","v":"Port Vale"},{"$f":"INDEX(Match!H:H,MATCH(P36,Match!V:V,0))","v":2},null,null,null,{"$f":"IF(O36=\"\",\"\",INDEX(Odds!H:H,MATCH(O36,Odds!G:G,0)))","v":""},{"$f":"IF(J36=\"\",\"\",INDEX(Odds!K:K,MATCH(J36,Odds!G:G,0)))","v":1},"Lennie Bow",{"$f":"INDEX(Picks!F:F,MATCH(AD36,Picks!A:A,0))","v":-4.9000000000000004},{"$f":"INDEX(Weekly!I:I,MATCH(AD36,Weekly!E:E,0))","v":1},{"$f":"IF(AE36=\"\",\"\",_xlfn.RANK.EQ(AE36,TopScores,0))","v":34},null,"David Dunn",{"$f":"INDEX(Picks!G:G,MATCH(AI36,Picks!A:A,0))","v":29.96875},{"$f":"INDEX(Weekly!I:I,MATCH(AI36,Weekly!E:E,0))","v":2},{"$f":"IF(AJ36=\"\",\"\",_xlfn.RANK.EQ(AJ36,TopMaxScores,0))","v":34}]
[{"$f":"A35","v":"Bob Bailey"},"Portsmouth",{"$f":"IF(J37=\"\",\"\",INDEX(Odds!C:C,MATCH(J37,Odds!G:G,0)))","v":"1900-01-07"},2.875,"x",null,null,null,null,"Portsmouth",{"$f":"INDEX(Odds!H:H,MATCH(J37,Odds!G:G,0))","v":"15/8"},{"$f":"INDEX(Odds!I:I,MATCH(J37,Odds!G:G,0))","v":2.875},{"$f":"INDEX(Odds!J:J,MATCH(J37,Odds!G:G,0))","v":0},0,null,{"$f":"IF(Match!B37=\"\",\"\",Match!V37)","v":"Harrogate 1-1 Exeter "},null,{"$f":"IF(Odds!G37=\"\",\"\",Odds!G37)","v":"Harrogate"},{"$f":"INDEX(Odds!H:H,MATCH(R37,Odds!G:G,0))","v":"8/5"},0,{"$f":"INDEX(Match!Q:Q,MATCH(P37,Match!V:V,0))","v":"Harrogate"},{"$f":"INDEX(Match!G:G,MATCH(P37,Match!V:V,0))","v":1},{"$f":"INDEX(Match!R:R,MATCH(P37,Match!V:V,0))","v":"Exeter"},{"$f":"INDEX(Match!H:H,MATCH(P37,Match!V:V,0))","v":1},null,null,null,{"$f":"IF(O37=\"\",\"\",INDEX(Odds!H:H,MATCH(O37,Odds!G:G,0)))","v":""},{"$f":"IF(J37=\"\",\"\",INDEX(Odds!K:K,MATCH(J37,Odds!G:G,0)))","v":1},"Gareth McGuire",{"$f":"INDEX(Picks!F:F,MATCH(AD37,Picks!A:A,0))","v":-5},{"$f":"INDEX(Weekly!I:I,MATCH(AD37,Weekly!E:E,0))","v":1},{"$f":"IF(AE37=\"\",\"\",_xlfn.RANK.EQ(AE37,TopScores,0))","v":36},null,"Simon Greenhalgh",{"$f":"INDEX(Picks!G:G,MATCH(AI37,Picks!A:A,0))","v":29.799999999999997},{"$f":"INDEX(Weekly!I:I,MATCH(AI37,Weekly!E:E,0))","v":1},{"$f":"IF(AJ37=\"\",\"\",_xlfn.RANK.EQ(AJ37,TopMaxScores,0))","v":35}]
[{"$f":"Results!B38","v":"Charlie Griffiths"},"Portsmouth",{"$f":"IF(J38=\"\",\"\",INDEX(Odds!C:C,MATCH(J38,Odds!G:G,0)))","v":"1900-01-07"},2.875,"x",{"$f":"IF(J38=\"\",-10,INDEX(Results!T:T,MATCH(A38,Results!V:V,0)))","v":-7},{"$f":"IF(J38=\"\",\"\",INDEX(Results!AI:AI,MATCH(A38,Results!V:V,0)))","v":48.264999999999993},{"$f":"IF(G38=\"\",0,1)","v":1},{"$f":"INDEX(Picks!AG:AG,MATCH(A38,Picks!AD:AD,0))","v":46},"Portsmouth",{"$f":"INDEX(Odds!H:H,MATCH(J38,Odds!G:G,0))","v":"15/8"},{"$f":"INDEX(Odds!I:I,MATCH(J38,Odds!G:G,0))","v":2.875},{"$f":"INDEX(Odds!J:J,MATCH(J38,Odds!G:G,0))","v":0},0,null,{"$f":"IF(Match!B38=\"\",\"\",Match!V38)","v":"Hartlepool 2-1 Carlisle "},null,{"$f":"IF(Odds!G38=\"\",\"\",Odds!G38)","v":"Hartlepool"},{"$f":"INDEX(Odds!H:H,MATCH(R38,Odds!G:G,0))","v":"15/8"},1,{"$f":"INDEX(Match!Q:Q,MATCH(P38,Match!V:V,0))","v":"Hartlepool"},{"$f":"INDEX(Match!G:G,MATCH(P38,Match!V:V,0))","v":2},{"$f":"INDEX(Match!R:R,MATCH(P38,Match!V:V,0))","v":"Carlisle"},{"$f":"INDEX(Match!H:H,MATCH(P38,Match!V:V,0))","v":1},null,null,null,{"$f":"IF(O38=\"\",\"\",INDEX(Odds!H:H,MATCH(O38,Odds!G:G,0)))","v":""},{"$f":"IF(J38=\"\",\"\",INDEX(Odds!K:K,MATCH(J38,Odds!G:G,0)))","v":1},"Simon Greenhalgh",{"$f":"INDEX(Picks!F:F,MATCH(AD38,Picks!A:A,0))","v":-5},{"$f":"INDEX(Weekly!I:I,MATCH(AD38,Weekly!E:E,0))","v":1},{"$f":"IF(AE38=\"\",\"\",_xlfn.RANK.EQ(AE38,TopScores,0))","v":36},null,"Dave Orrell",{"$f":"INDEX(Picks!G:G,MATCH(AI38,Picks!A:A,0))","v":29.484999999999999},{"$f":"INDEX(Weekly!I:I,MATCH(AI38,Weekly!E:E,0))","v":2},{"$f":"IF(AJ38=\"\",\"\",_xlfn.RANK.EQ(AJ38,TopMaxScores,0))","v":36}]
[{"$f":"A38","v":"Charlie Griffiths"},"Bournemouth",{"$f":"IF(J39=\"\",\"\",INDEX(Odds!C:C,MATCH(J39,Odds!G:G,0)))","v":"1900-01-07"},2.2999999999999998,"x",null,null,null,null,"Bournemouth",{"$f":"INDEX(Odds!H:H,MATCH(J39,Odds!G:G,0))","v":"13/10"},{"$f":"INDEX(Odds!I:I,MATCH(J39,Odds!G:G,0))","v":2.2999999999999998},{"$f":"INDEX(Odds!J:J,MATCH(J39,Odds!G:G,0))","v":0},0,null,{"$f":"IF(Match!B39=\"\",\"\",Match!V39)","v":"Orient 2-0 Bradford "},null,{"$f":"IF(Odds!G39=\"\",\"\",Odds!G39)","v":"Orient"},{"$f":"INDEX(Odds!H:H,MATCH(R39,Odds!G:G,0))","v":"2/1"},1,{"$f":"INDEX(Match!Q:Q,MATCH(P39,Match!V:V,0))","v":"Orient"},{"$f":"INDEX(Match!G:G,MATCH(P39,Match!V:V,0))","v":2},{"$f":"INDEX(Match!R:R,MATCH(P39,Match!V:V,0))","v":"Bradford"},{"$f":"INDEX(Match!H:H,MATCH(P39,Match!V:V,0))","v":0},null,null,null,{"$f":"IF(O39=\"\",\"\",INDEX(Odds!H:H,MATCH(O39,Odds!G:G,0)))","v":""},{"$f":"IF(J39=\"\",\"\",INDEX(Odds!K:K,MATCH(J39,Odds!G:G,0)))","v":1},"Frank Allen",{"$f":"INDEX(Picks!F:F,MATCH(AD39,Picks!A:A,0))","v":-5.0909090909090908},{"$f":"INDEX(Weekly!I:I,MATCH(AD39,Weekly!E:E,0))","v":1},{"$f":"IF(AE39=\"\",\"\",_xlfn.RANK.EQ(AE39,TopScores,0))","v":38},null,"John Murphy",{"$f":"INDEX(Picks!G:G,MATCH(AI39,Picks!A:A,0))","v":28.091406250000006},{"$f":"INDEX(Weekly!I:I,MATCH(AI39,Weekly!E:E,0))","v":0},{"$f":"IF(AJ39=\"\",\"\",_xlfn.RANK.EQ(AJ39,TopMaxScores,0))","v":37}]
[{"$f":"A38","v":"Charlie Griffiths"},"MK Dons draw",{"$f":"IF(J40=\"\",\"\",INDEX(Odds!C:C,MATCH(J40,Odds!G:G,0)))","v":"1900-01-07"},3.4,"x",null,null,null,null,"MK Dons draw",{"$f":"INDEX(Odds!H:H,MATCH(J40,Odds!G:G,0))","v":"12/5"},{"$f":"INDEX(Odds!I:I,MATCH(J40,Odds!G:G,0))","v":3.4},{"$f":"INDEX(Odds!J:J,MATCH(J40,Odds!G:G,0))","v":0},0,null,{"$f":"IF(Match!B40=\"\",\"\",Match!V40)","v":"Salford 3-0 Newport "},null,{"$f":"IF(Odds!G40=\"\",\"\",Odds!G40)","v":"Salford"},{"$f":"INDEX(Odds!H:H,MATCH(R40,Odds!G:G,0))","v":"7/5"},1,{"$f":"INDEX(Match!Q:Q,MATCH(P40,Match!V:V,0))","v":"Salford"},{"$f":"INDEX(Match!G:G,MATCH(P40,Match!V:V,0))","v":3},{"$f":"INDEX(Match!R:R,MATCH(P40,Match!V:V,0))","v":"Newport"},{"$f":"INDEX(Match!H:H,MATCH(P40,Match!V:V,0))","v":0},null,null,null,{"$f":"IF(O40=\"\",\"\",INDEX(Odds!H:H,MATCH(O40,Odds!G:G,0)))","v":""},{"$f":"IF(J40=\"\",\"\",INDEX(Odds!K:K,MATCH(J40,Odds!G:G,0)))","v":1},"Paul Fiddler",{"$f":"INDEX(Picks!F:F,MATCH(AD40,Picks!A:A,0))","v":-5.15},{"$f":"INDEX(Weekly!I:I,MATCH(AD40,Weekly!E:E,0))","v":1},{"$f":"IF(AE40=\"\",\"\",_xlfn.RANK.EQ(AE40,TopScores,0))","v":39},null,"Stephen Barr",{"$f":"INDEX(Picks!G:G,MATCH(AI40,Picks!A:A,0))","v":28},{"$f":"INDEX(Weekly!I:I,MATCH(AI40,Weekly!E:E,0))","v":2},{"$f":"IF(AJ40=\"\",\"\",_xlfn.RANK.EQ(AJ40,TopMaxScores,0))","v":38}]
[{"$f":"Results!B41","v":"Chris Bow"},"Brighton draw",{"$f":"IF(J41=\"\",\"\",INDEX(Odds!C:C,MATCH(J41,Odds!G:G,0)))","v":"1900-01-07"},3.2,"x",{"$f":"IF(J41=\"\",-10,INDEX(Results!T:T,MATCH(A41,Results!V:V,0)))","v":2.8000000000000007},{"$f":"IF(J41=\"\",\"\",INDEX(Results!AI:AI,MATCH(A41,Results!V:V,0)))","v":37.36},{"$f":"IF(G41=\"\",0,1)","v":1},{"$f":"INDEX(Picks!AG:AG,MATCH(A41,Picks!AD:AD,0))","v":15},"Brighton draw",{"$f":"INDEX(Odds!H:H,MATCH(J41,Odds!G:G,0))","v":"11/5"},{"$f":"INDEX(Odds!I:I,MATCH(J41,Odds!G:G,0))","v":3.2},{"$f":"INDEX(Odds!J:J,MATCH(J41,Odds!G:G,0))","v":0},0,null,{"$f":"IF(Match!B41=\"\",\"\",Match!V41)","v":"Scunthorpe 1-0 Tranmere "},null,{"$f":"IF(Odds!G41=\"\",\"\",Odds!G41)","v":"Scunthorpe"},{"$f":"INDEX(Odds!H:H,MATCH(R41,Odds!G:G,0))","v":"27/10"},1,{"$f":"INDEX(Match!Q:Q,MATCH(P41,Match!V:V,0))","v":"Scunthorpe"},{"$f":"INDEX(Match!G:G,MATCH(P41,Match!V:V,0))","v":1},{"$f":"INDEX(Match!R:R,MATCH(P41,Match!V:V,0))","v":"Tranmere"},{"$f":"INDEX(Match!H:H,MATCH(P41,Match!V:V,0))","v":0},null,null,null,{"$f":"IF(O41=\"\",\"\",INDEX(Odds!H:H,MATCH(O41,Odds!G:G,0)))","v":""},{"$f":"IF(J41=\"\",\"\",INDEX(Odds!K:K,MATCH(J41,Odds!G:G,0)))","v":1},"Mal Stott",{"$f":"INDEX(Picks!F:F,MATCH(AD41,Picks!A:A,0))","v":-5.15},{"$f":"INDEX(Weekly!I:I,MATCH(AD41,Weekly!E:E,0))","v":1},{"$f":"IF(AE41=\"\",\"\",_xlfn.RANK.EQ(AE41,TopScores,0))","v":39},null,"Nigel Heyes",{"$f":"INDEX(Picks!G:G,MATCH(AI41,Picks!A:A,0))","v":27.154000000000003},{"$f":"INDEX(Weekly!I:I,MATCH(AI41,Weekly!E:E,0))","v":2},{"$f":"IF(AJ41=\"\",\"\",_xlfn.RANK.EQ(AJ41,TopMaxScores,0))","v":39}]
[{"$f":"A41","v":"Chris Bow"},"Fulham",{"$f":"IF(J42=\"\",\"\",INDEX(Odds!C:C,MATCH(J42,Odds!G:G,0)))","v":"1900-01-07"},2,"√",null,null,null,null,"Fulham",{"$f":"INDEX(Odds!H:H,MATCH(J42,Odds!G:G,0))","v":"1/1"},{"$f":"INDEX(Odds!I:I,MATCH(J42,Odds!G:G,0))","v":2},{"$f":"INDEX(Odds!J:J,MATCH(J42,Odds!G:G,0))","v":1},2,null,{"$f":"IF(Match!B42=\"\",\"\",Match!V42)","v":"Sutton 1-2 Oldham "},null,{"$f":"IF(Odds!G42=\"\",\"\",Odds!G42)","v":"Sutton"},{"$f":"INDEX(Odds!H:H,MATCH(R42,Odds!G:G,0))","v":"11/10"},0,{"$f":"INDEX(Match!Q:Q,MATCH(P42,Match!V:V,0))","v":"Sutton"},{"$f":"INDEX(Match!G:G,MATCH(P42,Match!V:V,0))","v":1},{"$f":"INDEX(Match!R:R,MATCH(P42,Match!V:V,0))","v":"Oldham"},{"$f":"INDEX(Match!H:H,MATCH(P42,Match!V:V,0))","v":2},null,null,null,{"$f":"IF(O42=\"\",\"\",INDEX(Odds!H:H,MATCH(O42,Odds!G:G,0)))","v":""},{"$f":"IF(J42=\"\",\"\",INDEX(Odds!K:K,MATCH(J42,Odds!G:G,0)))","v":1},"Alfie Davies",{"$f":"INDEX(Picks!F:F,MATCH(AD42,Picks!A:A,0))","v":-5.15},{"$f":"INDEX(Weekly!I:I,MATCH(AD42,Weekly!E:E,0))","v":1},{"$f":"IF(AE42=\"\",\"\",_xlfn.RANK.EQ(AE42,TopScores,0))","v":39},null,"Lennie Bow",{"$f":"INDEX(Picks!G:G,MATCH(AI42,Picks!A:A,0))","v":27.153999999999996},{"$f":"INDEX(Weekly!I:I,MATCH(AI42,Weekly!E:E,0))","v":1},{"$f":"IF(AJ42=\"\",\"\",_xlfn.RANK.EQ(AJ42,TopMaxScores,0))","v":40}]
[{"$f":"A41","v":"Chris Bow"},"Wigan",{"$f":"IF(J43=\"\",\"\",INDEX(Odds!C:C,MATCH(J43,Odds!G:G,0)))","v":"1900-01-07"},2.6,"√",null,null,null,null,"Wigan",{"$f":"INDEX(Odds!H:H,MATCH(J43,Odds!G:G,0))","v":"8/5"},{"$f":"INDEX(Odds!I:I,MATCH(J43,Odds!G:G,0))","v":2.6},{"$f":"INDEX(Odds!J:J,MATCH(J43,Odds!G:G,0))","v":1},2.6,null,{"$f":"IF(Match!B43=\"\",\"\",Match!V43)","v":"Swindon 1-0 Mansfield "},null,{"$f":"IF(Odds!G43=\"\",\"\",Odds!G43)","v":"Swindon"},{"$f":"INDEX(Odds!H:H,MATCH(R43,Odds!G:G,0))","v":"21/10"},1,{"$f":"INDEX(Match!Q:Q,MATCH(P43,Match!V:V,0))","v":"Swindon"},{"$f":"INDEX(Match!G:G,MATCH(P43,Match!V:V,0))","v":1},{"$f":"INDEX(Match!R:R,MATCH(P43,Match!V:V,0))","v":"Mansfield"},{"$f":"INDEX(Match!H:H,MATCH(P43,Match!V:V,0))","v":0},null,null,null,{"$f":"IF(O43=\"\",\"\",INDEX(Odds!H:H,MATCH(O43,Odds!G:G,0)))","v":""},{"$f":"IF(J43=\"\",\"\",INDEX(Odds!K:K,MATCH(J43,Odds!G:G,0)))","v":1},"Steve Baxter",{"$f":"INDEX(Picks!F:F,MATCH(AD43,Picks!A:A,0))","v":-5.2},{"$f":"INDEX(Weekly!I:I,MATCH(AD43,Weekly!E:E,0))","v":1},{"$f":"IF(AE43=\"\",\"\",_xlfn.RANK.EQ(AE43,TopScores,0))","v":42},null,"Oscar Jackson",{"$f":"INDEX(Picks!G:G,MATCH(AI43,Picks!A:A,0))","v":25.689250000000001},{"$f":"INDEX(Weekly!I:I,MATCH(AI43,Weekly!E:E,0))","v":0},{"$f":"IF(AJ43=\"\",\"\",_xlfn.RANK.EQ(AJ43,TopMaxScores,0))","v":41}]
[{"$f":"Results!B44","v":"Chris Griffin"},"Liverpool draw",{"$f":"IF(J44=\"\",\"\",INDEX(Odds!C:C,MATCH(J44,Odds!G:G,0)))","v":"1900-01-07"},3.3,"√",{"$f":"IF(J44=\"\",-10,INDEX(Results!T:T,MATCH(A44,Results!V:V,0)))","v":-3.7},{"$f":"IF(J44=\"\",\"\",INDEX(Results!AI:AI,MATCH(A44,Results!V:V,0)))","v":59.724999999999994},{"$f":"IF(G44=\"\",0,1)","v":1},{"$f":"INDEX(Picks!AG:AG,MATCH(A44,Picks!AD:AD,0))","v":25},"Liverpool draw",{"$f":"INDEX(Odds!H:H,MATCH(J44,Odds!G:G,0))","v":"23/10"},{"$f":"INDEX(Odds!I:I,MATCH(J44,Odds!G:G,0))","v":3.3},{"$f":"INDEX(Odds!J:J,MATCH(J44,Odds!G:G,0))","v":1},3.3,null,{"$f":"IF(Match!B44=\"\",\"\",Match!V44)","v":"Walsall 1-0 Stevenage "},null,{"$f":"IF(Odds!G44=\"\",\"\",Odds!G44)","v":"Walsall"},{"$f":"INDEX(Odds!H:H,MATCH(R44,Odds!G:G,0))","v":"15/8"},1,{"$f":"INDEX(Match!Q:Q,MATCH(P44,Match!V:V,0))","v":"Walsall"},{"$f":"INDEX(Match!G:G,MATCH(P44,Match!V:V,0))","v":1},{"$f":"INDEX(Match!R:R,MATCH(P44,Match!V:V,0))","v":"Stevenage"},{"$f":"INDEX(Match!H:H,MATCH(P44,Match!V:V,0))","v":0},null,null,null,{"$f":"IF(O44=\"\",\"\",INDEX(Odds!H:H,MATCH(O44,Odds!G:G,0)))","v":""},{"$f":"IF(J44=\"\",\"\",INDEX(Odds!K:K,MATCH(J44,Odds!G:G,0)))","v":1},"Andy White",{"$f":"INDEX(Picks!F:F,MATCH(AD44,Picks!A:A,0))","v":-5.2727272727272725},{"$f":"INDEX(Weekly!I:I,MATCH(AD44,Weekly!E:E,0))","v":1},{"$f":"IF(AE44=\"\",\"\",_xlfn.RANK.EQ(AE44,TopScores,0))","v":43},null,"Martin Tarbuck",{"$f":"INDEX(Picks!G:G,MATCH(AI44,Picks!A:A,0))","v":25.344999999999999},{"$f":"INDEX(Weekly!I:I,MATCH(AI44,Weekly!E:E,0))","v":0},{"$f":"IF(AJ44=\"\",\"\",_xlfn.RANK.EQ(AJ44,TopMaxScores,0))","v":42}]
[{"$f":"A44","v":"Chris Griffin"},"Derby",{"$f":"IF(J45=\"\",\"\",INDEX(Odds!C:C,MATCH(J45,Odds!G:G,0)))","v":"1900-01-07"},2.75,"x",null,null,null,null,"Derby",{"$f":"INDEX(Odds!H:H,MATCH(J45,Odds!G:G,0))","v":"7/4"},{"$f":"INDEX(Odds!I:I,MATCH(J45,Odds!G:G,0))","v":2.75},{"$f":"INDEX(Odds!J:J,MATCH(J45,Odds!G:G,0))","v":0},0,null,{"$f":"IF(Match!B45=\"\",\"\",Match!V45)","v":"Burnley 1-1 Leeds "},null,{"$f":"IF(Odds!G45=\"\",\"\",Odds!G45)","v":"Burnley"},{"$f":"INDEX(Odds!H:H,MATCH(R45,Odds!G:G,0))","v":"21/10"},0,{"$f":"INDEX(Match!Q:Q,MATCH(P45,Match!V:V,0))","v":"Burnley"},{"$f":"INDEX(Match!G:G,MATCH(P45,Match!V:V,0))","v":1},{"$f":"INDEX(Match!R:R,MATCH(P45,Match!V:V,0))","v":"Leeds"},{"$f":"INDEX(Match!H:H,MATCH(P45,Match!V:V,0))","v":1},null,null,null,{"$f":"IF(O45=\"\",\"\",INDEX(Odds!H:H,MATCH(O45,Odds!G:G,0)))","v":""},{"$f":"IF(J45=\"\",\"\",INDEX(Odds!K:K,MATCH(J45,Odds!G:G,0)))","v":1},"Barry Birchall",{"$f":"INDEX(Picks!F:F,MATCH(AD45,Picks!A:A,0))","v":-5.35},{"$f":"INDEX(Weekly!I:I,MATCH(AD45,Weekly!E:E,0))","v":1},{"$f":"IF(AE45=\"\",\"\",_xlfn.RANK.EQ(AE45,TopScores,0))","v":44},null,"Barry Birchall",{"$f":"INDEX(Picks!G:G,MATCH(AI45,Picks!A:A,0))","v":24.595000000000002},{"$f":"INDEX(Weekly!I:I,MATCH(AI45,Weekly!E:E,0))","v":1},{"$f":"IF(AJ45=\"\",\"\",_xlfn.RANK.EQ(AJ45,TopMaxScores,0))","v":43}]
[{"$f":"A44","v":"Chris Griffin"},"Fulham draw",{"$f":"IF(J46=\"\",\"\",INDEX(Odds!C:C,MATCH(J46,Odds!G:G,0)))","v":"1900-01-07"},3.2,"x",null,null,null,null,"Fulham draw",{"$f":"INDEX(Odds!H:H,MATCH(J46,Odds!G:G,0))","v":"11/5"},{"$f":"INDEX(Odds!I:I,MATCH(J46,Odds!G:G,0))","v":3.2},{"$f":"INDEX(Odds!J:J,MATCH(J46,Odds!G:G,0))","v":0},0,null,{"$f":"IF(Match!B46=\"\",\"\",Match!V46)","v":"Spurs 1-0 Watford "},null,{"$f":"IF(Odds!G46=\"\",\"\",Odds!G46)","v":"Spurs"},{"$f":"INDEX(Odds!H:H,MATCH(R46,Odds!G:G,0))","v":"2/5"},1,{"$f":"INDEX(Match!Q:Q,MATCH(P46,Match!V:V,0))","v":"Spurs"},{"$f":"INDEX(Match!G:G,MATCH(P46,Match!V:V,0))","v":1},{"$f":"INDEX(Match!R:R,MATCH(P46,Match!V:V,0))","v":"Watford"},{"$f":"INDEX(Match!H:H,MATCH(P46,Match!V:V,0))","v":0},null,null,null,{"$f":"IF(O46=\"\",\"\",INDEX(Odds!H:H,MATCH(O46,Odds!G:G,0)))","v":""},{"$f":"IF(J46=\"\",\"\",INDEX(Odds!K:K,MATCH(J46,Odds!G:G,0)))","v":1},"Andy Charleston",{"$f":"INDEX(Picks!F:F,MATCH(AD46,Picks!A:A,0))","v":-5.6},{"$f":"INDEX(Weekly!I:I,MATCH(AD46,Weekly!E:E,0))","v":1},{"$f":"IF(AE46=\"\",\"\",_xlfn.RANK.EQ(AE46,TopScores,0))","v":45},null,"Mal Stott",{"$f":"INDEX(Picks!G:G,MATCH(AI46,Picks!A:A,0))","v":22.972375},{"$f":"INDEX(Weekly!I:I,MATCH(AI46,Weekly!E:E,0))","v":1},{"$f":"IF(AJ46=\"\",\"\",_xlfn.RANK.EQ(AJ46,TopMaxScores,0))","v":44}]
[{"$f":"Results!B47","v":"Chris Luck"},"Everton",{"$f":"IF(J47=\"\",\"\",INDEX(Odds!C:C,MATCH(J47,Odds!G:G,0)))","v":"1900-01-07"},3.2,"√",{"$f":"IF(J47=\"\",-10,INDEX(Results!T:T,MATCH(A47,Results!V:V,0)))","v":-3.8},{"$f":"IF(J47=\"\",\"\",INDEX(Results!AI:AI,MATCH(A47,Results!V:V,0)))","v":41.612500000000004},{"$f":"IF(G47=\"\",0,1)","v":1},{"$f":"INDEX(Picks!AG:AG,MATCH(A47,Picks!AD:AD,0))","v":27},"Everton",{"$f":"INDEX(Odds!H:H,MATCH(J47,Odds!G:G,0))","v":"11/5"},{"$f":"INDEX(Odds!I:I,MATCH(J47,Odds!G:G,0))","v":3.2},{"$f":"INDEX(Odds!J:J,MATCH(J47,Odds!G:G,0))","v":1},3.2,null,{"$f":"IF(Match!B47=\"\",\"\",Match!V47)","v":"Wolves 0-1 Man U "},null,{"$f":"IF(Odds!G47=\"\",\"\",Odds!G47)","v":"Wolves"},{"$f":"INDEX(Odds!H:H,MATCH(R47,Odds!G:G,0))","v":"4/1"},{"$f":"IF(V47>X47,1,0)","v":0},{"$f":"INDEX(Match!Q:Q,MATCH(P47,Match!V:V,0))","v":"Wolves"},{"$f":"INDEX(Match!G:G,MATCH(P47,Match!V:V,0))","v":0},{"$f":"INDEX(Match!R:R,MATCH(P47,Match!V:V,0))","v":"Man U"},{"$f":"INDEX(Match!H:H,MATCH(P47,Match!V:V,0))","v":1},null,null,null,{"$f":"IF(O47=\"\",\"\",INDEX(Odds!H:H,MATCH(O47,Odds!G:G,0)))","v":""},{"$f":"IF(J47=\"\",\"\",INDEX(Odds!K:K,MATCH(J47,Odds!G:G,0)))","v":1},"Chris Townsend",{"$f":"INDEX(Picks!F:F,MATCH(AD47,Picks!A:A,0))","v":-7},{"$f":"INDEX(Weekly!I:I,MATCH(AD47,Weekly!E:E,0))","v":0},{"$f":"IF(AE47=\"\",\"\",_xlfn.RANK.EQ(AE47,TopScores,0))","v":46},null,"Rob England",{"$f":"INDEX(Picks!G:G,MATCH(AI47,Picks!A:A,0))","v":22.965249999999997},{"$f":"INDEX(Weekly!I:I,MATCH(AI47,Weekly!E:E,0))","v":2},{"$f":"IF(AJ47=\"\",\"\",_xlfn.RANK.EQ(AJ47,TopMaxScores,0))","v":45}]
[{"$f":"A47","v":"Chris Luck"},"Chelsea",{"$f":"IF(J48=\"\",\"\",INDEX(Odds!C:C,MATCH(J48,Odds!G:G,0)))","v":"1900-01-07"},2.75,"x",null,null,null,null,"Chelsea",{"$f":"INDEX(Odds!H:H,MATCH(J48,Odds!G:G,0))","v":"7/4"},{"$f":"INDEX(Odds!I:I,MATCH(J48,Odds!G:G,0))","v":2.75},{"$f":"INDEX(Odds!J:J,MATCH(J48,Odds!G:G,0))","v":0},0,null,null,null,{"$f":"IF(Odds!G48=\"\",\"\",Odds!G48)","v":"Burton draw"},{"$f":"INDEX(Odds!H:H,MATCH(R48,Odds!G:G,0))","v":"5/2"},{"$f":"IF(V2=X2,1,0)","v":1},null,null,null,null,null,null,null,{"$f":"IF(O48=\"\",\"\",INDEX(Odds!H:H,MATCH(O48,Odds!G:G,0)))","v":""},{"$f":"IF(J48=\"\",\"\",INDEX(Odds!K:K,MATCH(J48,Odds!G:G,0)))","v":1},"Vinny Topping",{"$f":"INDEX(Picks!F:F,MATCH(AD48,Picks!A:A,0))","v":-7},{"$f":"INDEX(Weekly!I:I,MATCH(AD48,Weekly!E:E,0))","v":0},{"$f":"IF(AE48=\"\",\"\",_xlfn.RANK.EQ(AE48,TopScores,0))","v":46},null,"Andy White",{"$f":"INDEX(Picks!G:G,MATCH(AI48,Picks!A:A,0))","v":22.68181818181818},{"$f":"INDEX(Weekly!I:I,MATCH(AI48,Weekly!E:E,0))","v":1},{"$f":"IF(AJ48=\"\",\"\",_xlfn.RANK.EQ(AJ48,TopMaxScores,0))","v":46}]
[{"$f":"A47","v":"Chris Luck"},"Barnsley",{"$f":"IF(J49=\"\",\"\",INDEX(Odds!C:C,MATCH(J49,Odds!G:G,0)))","v":"1900-01-07"},2.15,"x",null,null,null,null,"Barnsley",{"$f":"INDEX(Odds!H:H,MATCH(J49,Odds!G:G,0))","v":"23/20"},{"$f":"INDEX(Odds!I:I,MATCH(J49,Odds!G:G,0))","v":2.15},{"$f":"INDEX(Odds!J:J,MATCH(J49,Odds!G:G,0))","v":0},0,null,null,null,{"$f":"IF(Odds!G49=\"\",\"\",Odds!G49)","v":"Rochdale draw"},{"$f":"INDEX(Odds!H:H,MATCH(R49,Odds!G:G,0))","v":"11/5"},1,null,null,null,null,null,null,null,{"$f":"IF(O49=\"\",\"\",INDEX(Odds!H:H,MATCH(O49,Odds!G:G,0)))","v":""},{"$f":"IF(J49=\"\",\"\",INDEX(Odds!K:K,MATCH(J49,Odds!G:G,0)))","v":1},"Bob Bailey",{"$f":"INDEX(Picks!F:F,MATCH(AD49,Picks!A:A,0))","v":-7},{"$f":"INDEX(Weekly!I:I,MATCH(AD49,Weekly!E:E,0))","v":0},{"$f":"IF(AE49=\"\",\"\",_xlfn.RANK.EQ(AE49,TopScores,0))","v":46},null,"Dan Gibbard",{"$f":"INDEX(Picks!G:G,MATCH(AI49,Picks!A:A,0))","v":22.476249999999997},{"$f":"INDEX(Weekly!I:I,MATCH(AI49,Weekly!E:E,0))","v":3},{"$f":"IF(AJ49=\"\",\"\",_xlfn.RANK.EQ(AJ49,TopMaxScores,0))","v":47}]
[{"$f":"Results!B50","v":"Chris Townsend"},"Birmingham",{"$f":"IF(J50=\"\",\"\",INDEX(Odds!C:C,MATCH(J50,Odds!G:G,0)))","v":"1900-01-07"},3.7,"x",{"$f":"IF(J50=\"\",-10,INDEX(Results!T:T,MATCH(A50,Results!V:V,0)))","v":-7},{"$f":"IF(J50=\"\",\"\",INDEX(Results!AI:AI,MATCH(A50,Results!V:V,0)))","v":151.80000000000001},{"$f":"IF(G50=\"\",0,1)","v":1},{"$f":"INDEX(Picks!AG:AG,MATCH(A50,Picks!AD:AD,0))","v":46},"Birmingham",{"$f":"INDEX(Odds!H:H,MATCH(J50,Odds!G:G,0))","v":"27/10"},{"$f":"INDEX(Odds!I:I,MATCH(J50,Odds!G:G,0))","v":3.7},{"$f":"INDEX(Odds!J:J,MATCH(J50,Odds!G:G,0))","v":0},0,null,null,"`",{"$f":"IF(Odds!G50=\"\",\"\",Odds!G50)","v":"Brighton draw"},{"$f":"INDEX(Odds!H:H,MATCH(R50,Odds!G:G,0))","v":"11/5"},0,null,null,null,null,null,null,null,{"$f":"IF(O50=\"\",\"\",INDEX(Odds!H:H,MATCH(O50,Odds!G:G,0)))","v":""},{"$f":"IF(J50=\"\",\"\",INDEX(Odds!K:K,MATCH(J50,Odds!G:G,0)))","v":1},"Oscar Jackson",{"$f":"INDEX(Picks!F:F,MATCH(AD50,Picks!A:A,0))","v":-7},{"$f":"INDEX(Weekly!I:I,MATCH(AD50,Weekly!E:E,0))","v":0},{"$f":"IF(AE50=\"\",\"\",_xlfn.RANK.EQ(AE50,TopScores,0))","v":46},null,"Paul Adderley",{"$f":"INDEX(Picks!G:G,MATCH(AI50,Picks!A:A,0))","v":22.240000000000002},{"$f":"INDEX(Weekly!I:I,MATCH(AI50,Weekly!E:E,0))","v":2},{"$f":"IF(AJ50=\"\",\"\",_xlfn.RANK.EQ(AJ50,TopMaxScores,0))","v":48}]
[{"$f":"A50","v":"Chris Townsend"},"Palace",{"$f":"IF(J51=\"\",\"\",INDEX(Odds!C:C,MATCH(J51,Odds!G:G,0)))","v":"1900-01-07"},5.8,"x",null,null,null,null,"Palace",{"$f":"INDEX(Odds!H:H,MATCH(J51,Odds!G:G,0))","v":"24/5"},{"$f":"INDEX(Odds!I:I,MATCH(J51,Odds!G:G,0))","v":5.8},{"$f":"INDEX(Odds!J:J,MATCH(J51,Odds!G:G,0))","v":0},0,null,null,null,{"$f":"IF(Odds!G51=\"\",\"\",Odds!G51)","v":"Liverpool draw"},{"$f":"INDEX(Odds!H:H,MATCH(R51,Odds!G:G,0))","v":"23/10"},1,null,null,null,null,null,null,null,{"$f":"IF(O51=\"\",\"\",INDEX(Odds!H:H,MATCH(O51,Odds!G:G,0)))","v":""},{"$f":"IF(J51=\"\",\"\",INDEX(Odds!K:K,MATCH(J51,Odds!G:G,0)))","v":1},"Paul Allen",{"$f":"INDEX(Picks!F:F,MATCH(AD51,Picks!A:A,0))","v":-7},{"$f":"INDEX(Weekly!I:I,MATCH(AD51,Weekly!E:E,0))","v":0},{"$f":"IF(AE51=\"\",\"\",_xlfn.RANK.EQ(AE51,TopScores,0))","v":46},null,"Nick Blocksidge",{"$f":"INDEX(Picks!G:G,MATCH(AI51,Picks!A:A,0))","v":22.24},{"$f":"INDEX(Weekly!I:I,MATCH(AI51,Weekly!E:E,0))","v":3},{"$f":"IF(AJ51=\"\",\"\",_xlfn.RANK.EQ(AJ51,TopMaxScores,0))","v":49}]
[{"$f":"A50","v":"Chris Townsend"},"Stoke",{"$f":"IF(J52=\"\",\"\",INDEX(Odds!C:C,MATCH(J52,Odds!G:G,0)))","v":"1900-01-07"},4,"x",null,null,null,null,"Stoke",{"$f":"INDEX(Odds!H:H,MATCH(J52,Odds!G:G,0))","v":"3/1"},{"$f":"INDEX(Odds!I:I,MATCH(J52,Odds!G:G,0))","v":4},{"$f":"INDEX(Odds!J:J,MATCH(J52,Odds!G:G,0))","v":0},0,null,null,null,{"$f":"IF(Odds!G52=\"\",\"\",Odds!G52)","v":"Man C draw"},{"$f":"INDEX(Odds!H:H,MATCH(R52,Odds!G:G,0))","v":"24/5"},0,null,null,null,null,null,null,null,{"$f":"IF(O52=\"\",\"\",INDEX(Odds!H:H,MATCH(O52,Odds!G:G,0)))","v":""},{"$f":"IF(J52=\"\",\"\",INDEX(Odds!K:K,MATCH(J52,Odds!G:G,0)))","v":1},"Charlie Griffiths",{"$f":"INDEX(Picks!F:F,MATCH(AD52,Picks!A:A,0))","v":-7},{"$f":"INDEX(Weekly!I:I,MATCH(AD52,Weekly!E:E,0))","v":0},{"$f":"IF(AE52=\"\",\"\",_xlfn.RANK.EQ(AE52,TopScores,0))","v":46},null,"Mo Sudell",{"$f":"INDEX(Picks!G:G,MATCH(AI52,Picks!A:A,0))","v":21.484000000000002},{"$f":"INDEX(Weekly!I:I,MATCH(AI52,Weekly!E:E,0))","v":1},{"$f":"IF(AJ52=\"\",\"\",_xlfn.RANK.EQ(AJ52,TopMaxScores,0))","v":50}]
[{"$f":"Results!B53","v":"Dan Gibbard"},"Liverpool Draw",{"$f":"IF(J53=\"\",\"\",INDEX(Odds!C:C,MATCH(J53,Odds!G:G,0)))","v":"1900-01-07"},3.3,"√",{"$f":"IF(J53=\"\",-10,INDEX(Results!T:T,MATCH(A53,Results!V:V,0)))","v":22.476249999999997},{"$f":"IF(J53=\"\",\"\",INDEX(Results!AI:AI,MATCH(A53,Results!V:V,0)))","v":22.476249999999997},{"$f":"IF(G53=\"\",0,1)","v":1},{"$f":"INDEX(Picks!AG:AG,MATCH(A53,Picks!AD:AD,0))","v":2},"Liverpool Draw",{"$f":"INDEX(Odds!H:H,MATCH(J53,Odds!G:G,0))","v":"23/10"},{"$f":"INDEX(Odds!I:I,MATCH(J53,Odds!G:G,0))","v":3.3},{"$f":"INDEX(Odds!J:J,MATCH(J53,Odds!G:G,0))","v":1},3.3,null,null,null,{"$f":"IF(Odds!G53=\"\",\"\",Odds!G53)","v":"Newcastle draw"},{"$f":"INDEX(Odds!H:H,MATCH(R53,Odds!G:G,0))","v":"5/2"},1,null,null,null,null,null,null,null,{"$f":"IF(O53=\"\",\"\",INDEX(Odds!H:H,MATCH(O53,Odds!G:G,0)))","v":""},{"$f":"IF(J53=\"\",\"\",INDEX(Odds!K:K,MATCH(J53,Odds!G:G,0)))","v":1},"Martin Tarbuck",{"$f":"INDEX(Picks!F:F,MATCH(AD53,Picks!A:A,0))","v":-7},{"$f":"INDEX(Weekly!I:I,MATCH(AD53,Weekly!E:E,0))","v":0},{"$f":"IF(AE53=\"\",\"\",_xlfn.RANK.EQ(AE53,TopScores,0))","v":46},null,"Frank Allen",{"$f":"INDEX(Picks!G:G,MATCH(AI53,Picks!A:A,0))","v":20.799999999999997},{"$f":"INDEX(Weekly!I:I,MATCH(AI53,Weekly!E:E,0))","v":1},{"$f":"IF(AJ53=\"\",\"\",_xlfn.RANK.EQ(AJ53,TopMaxScores,0))","v":51}]
[{"$f":"A53","v":"Dan Gibbard"},"Man C",{"$f":"IF(J54=\"\",\"\",INDEX(Odds!C:C,MATCH(J54,Odds!G:G,0)))","v":"1900-01-07"},1.25,"√",null,null,null,null,"Man C",{"$f":"INDEX(Odds!H:H,MATCH(J54,Odds!G:G,0))","v":"1/4"},{"$f":"INDEX(Odds!I:I,MATCH(J54,Odds!G:G,0))","v":1.25},{"$f":"INDEX(Odds!J:J,MATCH(J54,Odds!G:G,0))","v":1},1.25,null,null,null,{"$f":"IF(Odds!G54=\"\",\"\",Odds!G54)","v":"Norwich draw"},{"$f":"INDEX(Odds!H:H,MATCH(R54,Odds!G:G,0))","v":"27/10"},0,null,null,null,null,null,null,null,{"$f":"IF(O54=\"\",\"\",INDEX(Odds!H:H,MATCH(O54,Odds!G:G,0)))","v":""},{"$f":"IF(J54=\"\",\"\",INDEX(Odds!K:K,MATCH(J54,Odds!G:G,0)))","v":1},"Mike Penk",{"$f":"INDEX(Picks!F:F,MATCH(AD54,Picks!A:A,0))","v":-7},{"$f":"INDEX(Weekly!I:I,MATCH(AD54,Weekly!E:E,0))","v":0},{"$f":"IF(AE54=\"\",\"\",_xlfn.RANK.EQ(AE54,TopScores,0))","v":46},null,"Gareth McGuire",{"$f":"INDEX(Picks!G:G,MATCH(AI54,Picks!A:A,0))","v":20.799999999999997},{"$f":"INDEX(Weekly!I:I,MATCH(AI54,Weekly!E:E,0))","v":1},{"$f":"IF(AJ54=\"\",\"\",_xlfn.RANK.EQ(AJ54,TopMaxScores,0))","v":51}]
[{"$f":"A53","v":"Dan Gibbard"},"QPR",{"$f":"IF(J55=\"\",\"\",INDEX(Odds!C:C,MATCH(J55,Odds!G:G,0)))","v":"1900-01-07"},2.15,"√",null,null,null,null,"QPR",{"$f":"INDEX(Odds!H:H,MATCH(J55,Odds!G:G,0))","v":"23/20"},{"$f":"INDEX(Odds!I:I,MATCH(J55,Odds!G:G,0))","v":2.15},{"$f":"INDEX(Odds!J:J,MATCH(J55,Odds!G:G,0))","v":1},2.15,null,null,null,{"$f":"IF(Odds!G55=\"\",\"\",Odds!G55)","v":"Villa draw"},{"$f":"INDEX(Odds!H:H,MATCH(R55,Odds!G:G,0))","v":"13/5"},1,null,null,null,null,null,null,null,{"$f":"IF(O55=\"\",\"\",INDEX(Odds!H:H,MATCH(O55,Odds!G:G,0)))","v":""},{"$f":"IF(J55=\"\",\"\",INDEX(Odds!K:K,MATCH(J55,Odds!G:G,0)))","v":1},"James Bell",{"$f":"INDEX(Picks!F:F,MATCH(AD55,Picks!A:A,0))","v":-7},{"$f":"INDEX(Weekly!I:I,MATCH(AD55,Weekly!E:E,0))","v":0},{"$f":"IF(AE55=\"\",\"\",_xlfn.RANK.EQ(AE55,TopScores,0))","v":46},null,"Tom Robinson",{"$f":"INDEX(Picks!G:G,MATCH(AI55,Picks!A:A,0))","v":19.899999999999999},{"$f":"INDEX(Weekly!I:I,MATCH(AI55,Weekly!E:E,0))","v":0},{"$f":"IF(AJ55=\"\",\"\",_xlfn.RANK.EQ(AJ55,TopMaxScores,0))","v":53}]
[{"$f":"Results!B56","v":"Dave Bell"},"Arsenal",{"$f":"IF(J56=\"\",\"\",INDEX(Odds!C:C,MATCH(J56,Odds!G:G,0)))","v":"1900-01-07"},12,"x",{"$f":"IF(J56=\"\",-10,INDEX(Results!T:T,MATCH(A56,Results!V:V,0)))","v":-7},{"$f":"IF(J56=\"\",\"\",INDEX(Results!AI:AI,MATCH(A56,Results!V:V,0)))","v":831.8},{"$f":"IF(G56=\"\",0,1)","v":1},{"$f":"INDEX(Picks!AG:AG,MATCH(A56,Picks!AD:AD,0))","v":46},"Arsenal",{"$f":"INDEX(Odds!H:H,MATCH(J56,Odds!G:G,0))","v":"11/1"},{"$f":"INDEX(Odds!I:I,MATCH(J56,Odds!G:G,0))","v":12},{"$f":"INDEX(Odds!J:J,MATCH(J56,Odds!G:G,0))","v":0},0,null,null,null,{"$f":"IF(Odds!G56=\"\",\"\",Odds!G56)","v":"West Ham draw"},{"$f":"INDEX(Odds!H:H,MATCH(R56,Odds!G:G,0))","v":"29/10"},1,null,null,null,null,null,null,null,{"$f":"IF(O56=\"\",\"\",INDEX(Odds!H:H,MATCH(O56,Odds!G:G,0)))","v":""},{"$f":"IF(J56=\"\",\"\",INDEX(Odds!K:K,MATCH(J56,Odds!G:G,0)))","v":1},"Tom Robinson",{"$f":"INDEX(Picks!F:F,MATCH(AD56,Picks!A:A,0))","v":-7},{"$f":"INDEX(Weekly!I:I,MATCH(AD56,Weekly!E:E,0))","v":0},{"$f":"IF(AE56=\"\",\"\",_xlfn.RANK.EQ(AE56,TopScores,0))","v":46},null,"Jack Walsh",{"$f":"INDEX(Picks!G:G,MATCH(AI56,Picks!A:A,0))","v":19.681818181818187},{"$f":"INDEX(Weekly!I:I,MATCH(AI56,Weekly!E:E,0))","v":2},{"$f":"IF(AJ56=\"\",\"\",_xlfn.RANK.EQ(AJ56,TopMaxScores,0))","v":54}]
[{"$f":"A56","v":"Dave Bell"},"Watford",{"$f":"IF(J57=\"\",\"\",INDEX(Odds!C:C,MATCH(J57,Odds!G:G,0)))","v":"1900-01-01"},8.5,"x",null,null,null,null,"Watford",{"$f":"INDEX(Odds!H:H,MATCH(J57,Odds!G:G,0))","v":"15/2"},{"$f":"INDEX(Odds!I:I,MATCH(J57,Odds!G:G,0))","v":8.5},{"$f":"INDEX(Odds!J:J,MATCH(J57,Odds!G:G,0))","v":0},0,null,null,null,{"$f":"IF(Odds!G57=\"\",\"\",Odds!G57)","v":"Barnsley draw"},{"$f":"INDEX(Odds!H:H,MATCH(R57,Odds!G:G,0))","v":"21/10"},1,null,null,null,null,null,null,null,{"$f":"IF(O57=\"\",\"\",INDEX(Odds!H:H,MATCH(O57,Odds!G:G,0)))","v":""},{"$f":"IF(J57=\"\",\"\",INDEX(Odds!K:K,MATCH(J57,Odds!G:G,0)))","v":1},"Alan White",{"$f":"INDEX(Picks!F:F,MATCH(AD57,Picks!A:A,0))","v":-7},{"$f":"INDEX(Weekly!I:I,MATCH(AD57,Weekly!E:E,0))","v":0},{"$f":"IF(AE57=\"\",\"\",_xlfn.RANK.EQ(AE57,TopScores,0))","v":46},null,"Liam Wah",{"$f":"INDEX(Picks!G:G,MATCH(AI57,Picks!A:A,0))","v":19.552},{"$f":"INDEX(Weekly!I:I,MATCH(AI57,Weekly!E:E,0))","v":2},{"$f":"IF(AJ57=\"\",\"\",_xlfn.RANK.EQ(AJ57,TopMaxScores,0))","v":55}]
[{"$f":"A56","v":"Dave Bell"},"Palace",{"$f":"IF(J58=\"\",\"\",INDEX(Odds!C:C,MATCH(J58,Odds!G:G,0)))","v":"1900-01-07"},5.8,"x",null,null,null,null,"Palace",{"$f":"INDEX(Odds!H:H,MATCH(J58,Odds!G:G,0))","v":"24/5"},{"$f":"INDEX(Odds!I:I,MATCH(J58,Odds!G:G,0))","v":5.8},{"$f":"INDEX(Odds!J:J,MATCH(J58,Odds!G:G,0))","v":0},0,null,null,null,{"$f":"IF(Odds!G58=\"\",\"\",Odds!G58)","v":"Cardiff draw"},{"$f":"INDEX(Odds!H:H,MATCH(R58,Odds!G:G,0))","v":"23/10"},0,null,null,null,null,null,null,null,{"$f":"IF(O58=\"\",\"\",INDEX(Odds!H:H,MATCH(O58,Odds!G:G,0)))","v":""},{"$f":"IF(J58=\"\",\"\",INDEX(Odds!K:K,MATCH(J58,Odds!G:G,0)))","v":1},"Paul Fairhurst",{"$f":"INDEX(Picks!F:F,MATCH(AD58,Picks!A:A,0))","v":-7},{"$f":"INDEX(Weekly!I:I,MATCH(AD58,Weekly!E:E,0))","v":0},{"$f":"IF(AE58=\"\",\"\",_xlfn.RANK.EQ(AE58,TopScores,0))","v":46},null,"Paul Fiddler",{"$f":"INDEX(Picks!G:G,MATCH(AI58,Picks!A:A,0))","v":19.36},{"$f":"INDEX(Weekly!I:I,MATCH(AI58,Weekly!E:E,0))","v":1},{"$f":"IF(AJ58=\"\",\"\",_xlfn.RANK.EQ(AJ58,TopMaxScores,0))","v":56}]
[{"$f":"Results!B59","v":"Dave Orrell"},"QPR",{"$f":"IF(J59=\"\",\"\",INDEX(Odds!C:C,MATCH(J59,Odds!G:G,0)))","v":"1900-01-07"},2.15,"√",{"$f":"IF(J59=\"\",-10,INDEX(Results!T:T,MATCH(A59,Results!V:V,0)))","v":2.7100000000000009},{"$f":"IF(J59=\"\",\"\",INDEX(Results!AI:AI,MATCH(A59,Results!V:V,0)))","v":29.484999999999999},{"$f":"IF(G59=\"\",0,1)","v":1},{"$f":"INDEX(Picks!AG:AG,MATCH(A59,Picks!AD:AD,0))","v":16},"QPR",{"$f":"INDEX(Odds!H:H,MATCH(J59,Odds!G:G,0))","v":"23/20"},{"$f":"INDEX(Odds!I:I,MATCH(J59,Odds!G:G,0))","v":2.15},{"$f":"INDEX(Odds!J:J,MATCH(J59,Odds!G:G,0))","v":1},2.15,null,null,null,{"$f":"IF(Odds!G59=\"\",\"\",Odds!G59)","v":"Derby draw"},{"$f":"INDEX(Odds!H:H,MATCH(R59,Odds!G:G,0))","v":"2/1"},1,null,null,null,null,null,null,null,{"$f":"IF(O59=\"\",\"\",INDEX(Odds!H:H,MATCH(O59,Odds!G:G,0)))","v":""},{"$f":"IF(J59=\"\",\"\",INDEX(Odds!K:K,MATCH(J59,Odds!G:G,0)))","v":1},"John Murphy",{"$f":"INDEX(Picks!F:F,MATCH(AD59,Picks!A:A,0))","v":-7},{"$f":"INDEX(Weekly!I:I,MATCH(AD59,Weekly!E:E,0))","v":0},{"$f":"IF(AE59=\"\",\"\",_xlfn.RANK.EQ(AE59,TopScores,0))","v":46},null,"Steve Baxter",{"$f":"INDEX(Picks!G:G,MATCH(AI59,Picks!A:A,0))","v":18.207999999999998},{"$f":"INDEX(Weekly!I:I,MATCH(AI59,Weekly!E:E,0))","v":1},{"$f":"IF(AJ59=\"\",\"\",_xlfn.RANK.EQ(AJ59,TopMaxScores,0))","v":57}]
[{"$f":"A59","v":"Dave Orrell"},{"$f":"IF(J60=\"\",\"\",J60)","v":"Carlisle"},{"$f":"IF(J60=\"\",\"\",INDEX(Odds!C:C,MATCH(J60,Odds!G:G,0)))","v":"1900-01-07"},2.5,"x",null,null,null,null,"Carlisle",{"$f":"INDEX(Odds!H:H,MATCH(J60,Odds!G:G,0))","v":"6/4"},{"$f":"INDEX(Odds!I:I,MATCH(J60,Odds!G:G,0))","v":2.5},{"$f":"INDEX(Odds!J:J,MATCH(J60,Odds!G:G,0))","v":0},0,null,null,null,{"$f":"IF(Odds!G60=\"\",\"\",Odds!G60)","v":"Fulham draw"},{"$f":"INDEX(Odds!H:H,MATCH(R60,Odds!G:G,0))","v":"11/5"},0,null,null,null,null,null,null,null,{"$f":"IF(O60=\"\",\"\",INDEX(Odds!H:H,MATCH(O60,Odds!G:G,0)))","v":""},{"$f":"IF(J60=\"\",\"\",INDEX(Odds!K:K,MATCH(J60,Odds!G:G,0)))","v":1},"Ian Davies",{"$f":"INDEX(Picks!F:F,MATCH(AD60,Picks!A:A,0))","v":-7},{"$f":"INDEX(Weekly!I:I,MATCH(AD60,Weekly!E:E,0))","v":0},{"$f":"IF(AE60=\"\",\"\",_xlfn.RANK.EQ(AE60,TopScores,0))","v":46},null,"Martin Molyneux",{"$f":"INDEX(Picks!G:G,MATCH(AI60,Picks!A:A,0))","v":15.219999999999999},{"$f":"INDEX(Weekly!I:I,MATCH(AI60,Weekly!E:E,0))","v":3},{"$f":"IF(AJ60=\"\",\"\",_xlfn.RANK.EQ(AJ60,TopMaxScores,0))","v":58}]
[{"$f":"A59","v":"Dave Orrell"},{"$f":"IF(J61=\"\",\"\",J61)","v":"Salford"},{"$f":"IF(J61=\"\",\"\",INDEX(Odds!C:C,MATCH(J61,Odds!G:G,0)))","v":"1900-01-07"},{"$f":"IF(J61=\"\",\"\",L61)","v":2.4},"√",null,null,null,null,"Salford",{"$f":"INDEX(Odds!H:H,MATCH(J61,Odds!G:G,0))","v":"7/5"},{"$f":"INDEX(Odds!I:I,MATCH(J61,Odds!G:G,0))","v":2.4},{"$f":"INDEX(Odds!J:J,MATCH(J61,Odds!G:G,0))","v":1},2.4,null,null,null,{"$f":"IF(Odds!G61=\"\",\"\",Odds!G61)","v":"Huddersfield draw"},{"$f":"INDEX(Odds!H:H,MATCH(R61,Odds!G:G,0))","v":"12/5"},0,null,null,null,null,null,null,null,{"$f":"IF(O61=\"\",\"\",INDEX(Odds!H:H,MATCH(O61,Odds!G:G,0)))","v":""},{"$f":"IF(J61=\"\",\"\",INDEX(Odds!K:K,MATCH(J61,Odds!G:G,0)))","v":1},"Kei Lok Ma",{"$f":"INDEX(Picks!F:F,MATCH(AD61,Picks!A:A,0))","v":-7},{"$f":"INDEX(Weekly!I:I,MATCH(AD61,Weekly!E:E,0))","v":0},{"$f":"IF(AE61=\"\",\"\",_xlfn.RANK.EQ(AE61,TopScores,0))","v":46},null,"Ashley Houghton",{"$f":"INDEX(Picks!G:G,MATCH(AI61,Picks!A:A,0))","v":13.839999999999996},{"$f":"INDEX(Weekly!I:I,MATCH(AI61,Weekly!E:E,0))","v":2},{"$f":"IF(AJ61=\"\",\"\",_xlfn.RANK.EQ(AJ61,TopMaxScores,0))","v":59}]
[{"$f":"Results!B62","v":"David Dunn"},"Chelsea",{"$f":"IF(J62=\"\",\"\",INDEX(Odds!C:C,MATCH(J62,Odds!G:G,0)))","v":"1900-01-07"},2.75,"x",{"$f":"IF(J62=\"\",-10,INDEX(Results!T:T,MATCH(A62,Results!V:V,0)))","v":2.125},{"$f":"IF(J62=\"\",\"\",INDEX(Results!AI:AI,MATCH(A62,Results!V:V,0)))","v":29.96875},{"$f":"IF(G62=\"\",0,1)","v":1},{"$f":"INDEX(Picks!AG:AG,MATCH(A62,Picks!AD:AD,0))","v":17},"Chelsea",{"$f":"INDEX(Odds!H:H,MATCH(J62,Odds!G:G,0))","v":"7/4"},{"$f":"INDEX(Odds!I:I,MATCH(J62,Odds!G:G,0))","v":2.75},{"$f":"INDEX(Odds!J:J,MATCH(J62,Odds!G:G,0))","v":0},{"$f":"L62*M62","v":0},null,null,null,{"$f":"IF(Odds!G62=\"\",\"\",Odds!G62)","v":"Hull draw"},{"$f":"INDEX(Odds!H:H,MATCH(R62,Odds!G:G,0))","v":"11/5"},1,null,null,null,null,null,null,null,{"$f":"IF(O62=\"\",\"\",INDEX(Odds!H:H,MATCH(O62,Odds!G:G,0)))","v":""},{"$f":"IF(J62=\"\",\"\",INDEX(Odds!K:K,MATCH(J62,Odds!G:G,0)))","v":1},"Dave Bell",{"$f":"INDEX(Picks!F:F,MATCH(AD62,Picks!A:A,0))","v":-7},{"$f":"INDEX(Weekly!I:I,MATCH(AD62,Weekly!E:E,0))","v":0},{"$f":"IF(AE62=\"\",\"\",_xlfn.RANK.EQ(AE62,TopScores,0))","v":46},null,"Stephen Troop",{"$f":"INDEX(Picks!G:G,MATCH(AI62,Picks!A:A,0))","v":12.945454545454545},{"$f":"INDEX(Weekly!I:I,MATCH(AI62,Weekly!E:E,0))","v":3},{"$f":"IF(AJ62=\"\",\"\",_xlfn.RANK.EQ(AJ62,TopMaxScores,0))","v":60}]
[{"$f":"A62","v":"David Dunn"},{"$f":"IF(J63=\"\",\"\",J63)","v":"Man C"},{"$f":"IF(J63=\"\",\"\",INDEX(Odds!C:C,MATCH(J63,Odds!G:G,0)))","v":"1900-01-07"},{"$f":"IF(J63=\"\",\"\",L63)","v":1.25},{"$f":"IF(J63=\"\",\"\",IF(M63=1,\"√\",\"x\"))","v":"√"},null,null,null,null,"Man C",{"$f":"INDEX(Odds!H:H,MATCH(J63,Odds!G:G,0))","v":"1/4"},{"$f":"INDEX(Odds!I:I,MATCH(J63,Odds!G:G,0))","v":1.25},{"$f":"INDEX(Odds!J:J,MATCH(J63,Odds!G:G,0))","v":1},1.25,null,null,null,{"$f":"IF(Odds!G63=\"\",\"\",Odds!G63)","v":"Luton draw"},{"$f":"INDEX(Odds!H:H,MATCH(R63,Odds!G:G,0))","v":"21/10"},1,null,null,null,null,null,null,null,{"$f":"IF(O63=\"\",\"\",INDEX(Odds!H:H,MATCH(O63,Odds!G:G,0)))","v":""},{"$f":"IF(J63=\"\",\"\",INDEX(Odds!K:K,MATCH(J63,Odds!G:G,0)))","v":1},"Andy Hargreaves",{"$f":"INDEX(Picks!F:F,MATCH(AD63,Picks!A:A,0))","v":-10},{"$f":"INDEX(Weekly!I:I,MATCH(AD63,Weekly!E:E,0))","v":0},{"$f":"IF(AE63=\"\",\"\",_xlfn.RANK.EQ(AE63,TopScores,0))","v":{"$error":"#N/A"}},null,"Kevin Carter",{"$f":"INDEX(Picks!G:G,MATCH(AI63,Picks!A:A,0))","v":12.209090909090911},{"$f":"INDEX(Weekly!I:I,MATCH(AI63,Weekly!E:E,0))","v":2},{"$f":"IF(AJ63=\"\",\"\",_xlfn.RANK.EQ(AJ63,TopMaxScores,0))","v":61}]
[{"$f":"A62","v":"David Dunn"},"Newcastle Draw",{"$f":"IF(J64=\"\",\"\",INDEX(Odds!C:C,MATCH(J64,Odds!G:G,0)))","v":"1900-01-07"},3.5,"√",null,null,null,null,"Newcastle Draw",{"$f":"INDEX(Odds!H:H,MATCH(J64,Odds!G:G,0))","v":"5/2"},{"$f":"INDEX(Odds!I:I,MATCH(J64,Odds!G:G,0))","v":3.5},{"$f":"INDEX(Odds!J:J,MATCH(J64,Odds!G:G,0))","v":1},3.5,null,null,null,{"$f":"IF(Odds!G64=\"\",\"\",Odds!G64)","v":"Middlesbro draw"},{"$f":"INDEX(Odds!H:H,MATCH(R64,Odds!G:G,0))","v":"11/5"},1,null,null,null,null,null,null,null,{"$f":"IF(O64=\"\",\"\",INDEX(Odds!H:H,MATCH(O64,Odds!G:G,0)))","v":""},{"$f":"IF(J64=\"\",\"\",INDEX(Odds!K:K,MATCH(J64,Odds!G:G,0)))","v":1}]
[{"$f":"Results!B65","v":"Frank Allen"},"Villa",{"$f":"IF(J65=\"\",\"\",INDEX(Odds!C:C,MATCH(J65,Odds!G:G,0)))","v":"1900-01-07"},2,"x",{"$f":"IF(J65=\"\",-10,INDEX(Results!T:T,MATCH(A65,Results!V:V,0)))","v":-5.0909090909090908},{"$f":"IF(J65=\"\",\"\",INDEX(Results!AI:AI,MATCH(A65,Results!V:V,0)))","v":20.799999999999997},{"$f":"IF(G65=\"\",0,1)","v":1},{"$f":"INDEX(Picks!AG:AG,MATCH(A65,Picks!AD:AD,0))","v":38},"Villa",{"$f":"INDEX(Odds!H:H,MATCH(J65,Odds!G:G,0))","v":"1/1"},{"$f":"INDEX(Odds!I:I,MATCH(J65,Odds!G:G,0))","v":2},{"$f":"INDEX(Odds!J:J,MATCH(J65,Odds!G:G,0))","v":0},0,null,null,null,{"$f":"IF(Odds!G65=\"\",\"\",Odds!G65)","v":"Millwall draw"},{"$f":"INDEX(Odds!H:H,MATCH(R65,Odds!G:G,0))","v":"11/5"},0,null,null,null,null,null,null,null,{"$f":"IF(O65=\"\",\"\",INDEX(Odds!H:H,MATCH(O65,Odds!G:G,0)))","v":""},{"$f":"IF(J65=\"\",\"\",INDEX(Odds!K:K,MATCH(J65,Odds!G:G,0)))","v":1}]
[{"$f":"A65","v":"Frank Allen"},"Bournemouth",{"$f":"IF(J66=\"\",\"\",INDEX(Odds!C:C,MATCH(J66,Odds!G:G,0)))","v":"1900-01-07"},2.2999999999999998,"x",null,null,null,null,"Bournemouth",{"$f":"INDEX(Odds!H:H,MATCH(J66,Odds!G:G,0))","v":"13/10"},{"$f":"INDEX(Odds!I:I,MATCH(J66,Odds!G:G,0))","v":2.2999999999999998},{"$f":"INDEX(Odds!J:J,MATCH(J66,Odds!G:G,0))","v":0},0,null,null,null,{"$f":"IF(Odds!G66=\"\",\"\",Odds!G66)","v":"Peterborough draw"},{"$f":"INDEX(Odds!H:H,MATCH(R66,Odds!G:G,0))","v":"5/2"},0,null,null,null,null,null,null,null,{"$f":"IF(O66=\"\",\"\",INDEX(Odds!H:H,MATCH(O66,Odds!G:G,0)))","v":""},{"$f":"IF(J66=\"\",\"\",INDEX(Odds!K:K,MATCH(J66,Odds!G:G,0)))","v":1}]
[{"$f":"A65","v":"Frank Allen"},"Millwall",{"$f":"IF(J67=\"\",\"\",INDEX(Odds!C:C,MATCH(J67,Odds!G:G,0)))","v":"1900-01-07"},1.9090909090909092,{"$f":"IF(J67=\"\",\"\",IF(M67=1,\"√\",\"x\"))","v":"√"},null,null,null,null,"Millwall",{"$f":"INDEX(Odds!H:H,MATCH(J67,Odds!G:G,0))","v":"10/11"},{"$f":"INDEX(Odds!I:I,MATCH(J67,Odds!G:G,0))","v":1.9090909090909092},{"$f":"INDEX(Odds!J:J,MATCH(J67,Odds!G:G,0))","v":1},1.9090909090909092,null,null,null,{"$f":"IF(Odds!G67=\"\",\"\",Odds!G67)","v":"Preston draw"},{"$f":"INDEX(Odds!H:H,MATCH(R67,Odds!G:G,0))","v":"21/10"},0,null,null,null,null,null,null,null,{"$f":"IF(O67=\"\",\"\",INDEX(Odds!H:H,MATCH(O67,Odds!G:G,0)))","v":""},{"$f":"IF(J67=\"\",\"\",INDEX(Odds!K:K,MATCH(J67,Odds!G:G,0)))","v":1}]
[{"$f":"Results!B68","v":"Gareth McGuire"},"Fulham",{"$f":"IF(J68=\"\",\"\",INDEX(Odds!C:C,MATCH(J68,Odds!G:G,0)))","v":"1900-01-07"},2,"√",{"$f":"IF(J68=\"\",-10,INDEX(Results!T:T,MATCH(A68,Results!V:V,0)))","v":-5},{"$f":"IF(J68=\"\",\"\",INDEX(Results!AI:AI,MATCH(A68,Results!V:V,0)))","v":20.799999999999997},{"$f":"IF(G68=\"\",0,1)","v":1},{"$f":"INDEX(Picks!AG:AG,MATCH(A68,Picks!AD:AD,0))","v":36},"Fulham",{"$f":"INDEX(Odds!H:H,MATCH(J68,Odds!G:G,0))","v":"1/1"},{"$f":"INDEX(Odds!I:I,MATCH(J68,Odds!G:G,0))","v":2},{"$f":"INDEX(Odds!J:J,MATCH(J68,Odds!G:G,0))","v":1},2,null,null,null,{"$f":"IF(Odds!G68=\"\",\"\",Odds!G68)","v":"QPR draw"},{"$f":"INDEX(Odds!H:H,MATCH(R68,Odds!G:G,0))","v":"11/5"},0,null,null,null,null,null,null,null,{"$f":"IF(O68=\"\",\"\",INDEX(Odds!H:H,MATCH(O68,Odds!G:G,0)))","v":""},{"$f":"IF(J68=\"\",\"\",INDEX(Odds!K:K,MATCH(J68,Odds!G:G,0)))","v":1}]
[{"$f":"A68","v":"Gareth McGuire"},"Bournemouth",{"$f":"IF(J69=\"\",\"\",INDEX(Odds!C:C,MATCH(J69,Odds!G:G,0)))","v":"1900-01-07"},2.2999999999999998,"x",null,null,null,null,"Bournemouth",{"$f":"INDEX(Odds!H:H,MATCH(J69,Odds!G:G,0))","v":"13/10"},{"$f":"INDEX(Odds!I:I,MATCH(J69,Odds!G:G,0))","v":2.2999999999999998},{"$f":"INDEX(Odds!J:J,MATCH(J69,Odds!G:G,0))","v":0},0,null,null,null,{"$f":"IF(Odds!G69=\"\",\"\",Odds!G69)","v":"Cambridge draw"},{"$f":"INDEX(Odds!H:H,MATCH(R69,Odds!G:G,0))","v":"12/5"},0,null,null,null,null,null,null,null,{"$f":"IF(O69=\"\",\"\",INDEX(Odds!H:H,MATCH(O69,Odds!G:G,0)))","v":""},{"$f":"IF(J69=\"\",\"\",INDEX(Odds!K:K,MATCH(J69,Odds!G:G,0)))","v":1}]
[{"$f":"A68","v":"Gareth McGuire"},"Sheff W",{"$f":"IF(J70=\"\",\"\",INDEX(Odds!C:C,MATCH(J70,Odds!G:G,0)))","v":"1900-01-07"},1.9090909090909092,"x",null,null,null,null,"Sheff W",{"$f":"INDEX(Odds!H:H,MATCH(J70,Odds!G:G,0))","v":"10/11"},{"$f":"INDEX(Odds!I:I,MATCH(J70,Odds!G:G,0))","v":1.9090909090909092},{"$f":"INDEX(Odds!J:J,MATCH(J70,Odds!G:G,0))","v":0},0,null,null,null,{"$f":"IF(Odds!G70=\"\",\"\",Odds!G70)","v":"Charlton draw"},{"$f":"INDEX(Odds!H:H,MATCH(R70,Odds!G:G,0))","v":"5/2"},0,null,null,null,null,null,null,null,{"$f":"IF(O70=\"\",\"\",INDEX(Odds!H:H,MATCH(O70,Odds!G:G,0)))","v":""},{"$f":"IF(J70=\"\",\"\",INDEX(Odds!K:K,MATCH(J70,Odds!G:G,0)))","v":1}]
[{"$f":"Results!B71","v":"Gareth Powell"},{"$f":"IF(J71=\"\",\"\",J71)","v":"Liverpool draw"},{"$f":"IF(J71=\"\",\"\",INDEX(Odds!C:C,MATCH(J71,Odds!G:G,0)))","v":"1900-01-07"},{"$f":"IF(J71=\"\",\"\",L71)","v":3.3},{"$f":"IF(J71=\"\",\"\",IF(M71=1,\"√\",\"x\"))","v":"√"},{"$f":"IF(J71=\"\",-10,INDEX(Results!T:T,MATCH(A71,Results!V:V,0)))","v":11.350000000000001},{"$f":"IF(J71=\"\",\"\",INDEX(Results!AI:AI,MATCH(A71,Results!V:V,0)))","v":77.14},{"$f":"IF(G71=\"\",0,1)","v":1},{"$f":"INDEX(Picks!AG:AG,MATCH(A71,Picks!AD:AD,0))","v":6},"Liverpool draw",{"$f":"INDEX(Odds!H:H,MATCH(J71,Odds!G:G,0))","v":"23/10"},{"$f":"INDEX(Odds!I:I,MATCH(J71,Odds!G:G,0))","v":3.3},{"$f":"INDEX(Odds!J:J,MATCH(J71,Odds!G:G,0))","v":1},3.3,null,null,null,{"$f":"IF(Odds!G71=\"\",\"\",Odds!G71)","v":"Ipswich draw"},{"$f":"INDEX(Odds!H:H,MATCH(R71,Odds!G:G,0))","v":"23/10"},1,null,null,null,null,null,null,null,{"$f":"IF(O71=\"\",\"\",INDEX(Odds!H:H,MATCH(O71,Odds!G:G,0)))","v":""},{"$f":"IF(J71=\"\",\"\",INDEX(Odds!K:K,MATCH(J71,Odds!G:G,0)))","v":1}]
[{"$f":"A71","v":"Gareth Powell"},"Newcastle draw",{"$f":"IF(J72=\"\",\"\",INDEX(Odds!C:C,MATCH(J72,Odds!G:G,0)))","v":"1900-01-07"},3.5,"√",null,null,null,null,"Newcastle draw",{"$f":"INDEX(Odds!H:H,MATCH(J72,Odds!G:G,0))","v":"5/2"},{"$f":"INDEX(Odds!I:I,MATCH(J72,Odds!G:G,0))","v":3.5},{"$f":"INDEX(Odds!J:J,MATCH(J72,Odds!G:G,0))","v":1},3.5,null,null,null,{"$f":"IF(Odds!G72=\"\",\"\",Odds!G72)","v":"MK Dons draw"},{"$f":"INDEX(Odds!H:H,MATCH(R72,Odds!G:G,0))","v":"12/5"},0,null,null,null,null,null,null,null,{"$f":"IF(O72=\"\",\"\",INDEX(Odds!H:H,MATCH(O72,Odds!G:G,0)))","v":""},{"$f":"IF(J72=\"\",\"\",INDEX(Odds!K:K,MATCH(J72,Odds!G:G,0)))","v":1}]
[{"$f":"A71","v":"Gareth Powell"},"Huddersfield draw",{"$f":"IF(J73=\"\",\"\",INDEX(Odds!C:C,MATCH(J73,Odds!G:G,0)))","v":"1900-01-07"},3.4,"x",null,null,null,null,"Huddersfield draw",{"$f":"INDEX(Odds!H:H,MATCH(J73,Odds!G:G,0))","v":"12/5"},{"$f":"INDEX(Odds!I:I,MATCH(J73,Odds!G:G,0))","v":3.4},{"$f":"INDEX(Odds!J:J,MATCH(J73,Odds!G:G,0))","v":0},0,null,null,null,{"$f":"IF(Odds!G73=\"\",\"\",Odds!G73)","v":"Morecambe draw"},{"$f":"INDEX(Odds!H:H,MATCH(R73,Odds!G:G,0))","v":"5/2"},0,null,null,null,null,null,null,null,{"$f":"IF(O73=\"\",\"\",INDEX(Odds!H:H,MATCH(O73,Odds!G:G,0)))","v":""},{"$f":"IF(J73=\"\",\"\",INDEX(Odds!K:K,MATCH(J73,Odds!G:G,0)))","v":1}]
[{"$f":"Results!B74","v":"Gerard Ventom"},"Everton",{"$f":"IF(J74=\"\",\"\",INDEX(Odds!C:C,MATCH(J74,Odds!G:G,0)))","v":"1900-01-07"},3.2,"√",{"$f":"IF(J74=\"\",-10,INDEX(Results!T:T,MATCH(A74,Results!V:V,0)))","v":-3.8},{"$f":"IF(J74=\"\",\"\",INDEX(Results!AI:AI,MATCH(A74,Results!V:V,0)))","v":43.384375000000006},{"$f":"IF(G74=\"\",0,1)","v":1},{"$f":"INDEX(Picks!AG:AG,MATCH(A74,Picks!AD:AD,0))","v":27},"Everton",{"$f":"INDEX(Odds!H:H,MATCH(J74,Odds!G:G,0))","v":"11/5"},{"$f":"INDEX(Odds!I:I,MATCH(J74,Odds!G:G,0))","v":3.2},{"$f":"INDEX(Odds!J:J,MATCH(J74,Odds!G:G,0))","v":1},3.2,null,null,null,{"$f":"IF(Odds!G74=\"\",\"\",Odds!G74)","v":"Oxford draw"},{"$f":"INDEX(Odds!H:H,MATCH(R74,Odds!G:G,0))","v":"12/5"},0,null,null,null,null,null,null,null,{"$f":"IF(O74=\"\",\"\",INDEX(Odds!H:H,MATCH(O74,Odds!G:G,0)))","v":""},{"$f":"IF(J74=\"\",\"\",INDEX(Odds!K:K,MATCH(J74,Odds!G:G,0)))","v":1}]
[{"$f":"A74","v":"Gerard Ventom"},"Southampton",{"$f":"IF(J75=\"\",\"\",INDEX(Odds!C:C,MATCH(J75,Odds!G:G,0)))","v":"1900-01-07"},2.625,"x",null,null,null,null,"Southampton",{"$f":"INDEX(Odds!H:H,MATCH(J75,Odds!G:G,0))","v":"13/8"},{"$f":"INDEX(Odds!I:I,MATCH(J75,Odds!G:G,0))","v":2.625},{"$f":"INDEX(Odds!J:J,MATCH(J75,Odds!G:G,0))","v":0},0,null,null,null,{"$f":"IF(Odds!G75=\"\",\"\",Odds!G75)","v":"Plymouth draw"},{"$f":"INDEX(Odds!H:H,MATCH(R75,Odds!G:G,0))","v":"9/4"},1,null,null,null,null,null,null,null,{"$f":"IF(O75=\"\",\"\",INDEX(Odds!H:H,MATCH(O75,Odds!G:G,0)))","v":""},{"$f":"IF(J75=\"\",\"\",INDEX(Odds!K:K,MATCH(J75,Odds!G:G,0)))","v":1}]
[{"$f":"A74","v":"Gerard Ventom"},"Sheff U",{"$f":"IF(J76=\"\",\"\",INDEX(Odds!C:C,MATCH(J76,Odds!G:G,0)))","v":"1900-01-07"},2.375,"x",null,null,null,null,"Sheff U",{"$f":"INDEX(Odds!H:H,MATCH(J76,Odds!G:G,0))","v":"11/8"},{"$f":"INDEX(Odds!I:I,MATCH(J76,Odds!G:G,0))","v":2.375},{"$f":"INDEX(Odds!J:J,MATCH(J76,Odds!G:G,0))","v":0},0,null,null,null,{"$f":"IF(Odds!G76=\"\",\"\",Odds!G76)","v":"Rotherham draw"},{"$f":"INDEX(Odds!H:H,MATCH(R76,Odds!G:G,0))","v":"11/4"},0,null,null,null,null,null,null,null,{"$f":"IF(O76=\"\",\"\",INDEX(Odds!H:H,MATCH(O76,Odds!G:G,0)))","v":""},{"$f":"IF(J76=\"\",\"\",INDEX(Odds!K:K,MATCH(J76,Odds!G:G,0)))","v":1}]
[{"$f":"Results!B77","v":"Graham Miller"},"Huddersfield",{"$f":"IF(J77=\"\",\"\",INDEX(Odds!C:C,MATCH(J77,Odds!G:G,0)))","v":"1900-01-07"},2.625,"√",{"$f":"IF(J77=\"\",-10,INDEX(Results!T:T,MATCH(A77,Results!V:V,0)))","v":-4.375},{"$f":"IF(J77=\"\",\"\",INDEX(Results!AI:AI,MATCH(A77,Results!V:V,0)))","v":42.2425},{"$f":"IF(G77=\"\",0,1)","v":1},{"$f":"INDEX(Picks!AG:AG,MATCH(A77,Picks!AD:AD,0))","v":30},"Huddersfield",{"$f":"INDEX(Odds!H:H,MATCH(J77,Odds!G:G,0))","v":"13/8"},{"$f":"INDEX(Odds!I:I,MATCH(J77,Odds!G:G,0))","v":2.625},{"$f":"INDEX(Odds!J:J,MATCH(J77,Odds!G:G,0))","v":1},2.625,null,null,null,{"$f":"IF(Odds!G77=\"\",\"\",Odds!G77)","v":"Shrewsbury draw"},{"$f":"INDEX(Odds!H:H,MATCH(R77,Odds!G:G,0))","v":"9/4"},0,null,null,null,null,null,null,null,{"$f":"IF(O77=\"\",\"\",INDEX(Odds!H:H,MATCH(O77,Odds!G:G,0)))","v":""},{"$f":"IF(J77=\"\",\"\",INDEX(Odds!K:K,MATCH(J77,Odds!G:G,0)))","v":1}]
[{"$f":"A77","v":"Graham Miller"},"Luton",{"$f":"IF(J78=\"\",\"\",INDEX(Odds!C:C,MATCH(J78,Odds!G:G,0)))","v":"1900-01-07"},3.2,"x",null,null,null,null,"Luton",{"$f":"INDEX(Odds!H:H,MATCH(J78,Odds!G:G,0))","v":"11/5"},{"$f":"INDEX(Odds!I:I,MATCH(J78,Odds!G:G,0))","v":3.2},{"$f":"INDEX(Odds!J:J,MATCH(J78,Odds!G:G,0))","v":0},0,null,null,null,{"$f":"IF(Odds!G78=\"\",\"\",Odds!G78)","v":"Sunderland draw"},{"$f":"INDEX(Odds!H:H,MATCH(R78,Odds!G:G,0))","v":"12/5"},0,null,null,null,null,null,null,null,{"$f":"IF(O78=\"\",\"\",INDEX(Odds!H:H,MATCH(O78,Odds!G:G,0)))","v":""},{"$f":"IF(J78=\"\",\"\",INDEX(Odds!K:K,MATCH(J78,Odds!G:G,0)))","v":1}]
[{"$f":"A77","v":"Graham Miller"},"Bournemouth",{"$f":"IF(J79=\"\",\"\",INDEX(Odds!C:C,MATCH(J79,Odds!G:G,0)))","v":"1900-01-07"},2.2999999999999998,"x",null,null,null,null,"Bournemouth",{"$f":"INDEX(Odds!H:H,MATCH(J79,Odds!G:G,0))","v":"13/10"},{"$f":"INDEX(Odds!I:I,MATCH(J79,Odds!G:G,0))","v":2.2999999999999998},{"$f":"INDEX(Odds!J:J,MATCH(J79,Odds!G:G,0))","v":0},0,null,null,null,{"$f":"IF(Odds!G79=\"\",\"\",Odds!G79)","v":"Wigan draw"},{"$f":"INDEX(Odds!H:H,MATCH(R79,Odds!G:G,0))","v":"21/10"},0,null,null,null,null,null,null,null,{"$f":"IF(O79=\"\",\"\",INDEX(Odds!H:H,MATCH(O79,Odds!G:G,0)))","v":""},{"$f":"IF(J79=\"\",\"\",INDEX(Odds!K:K,MATCH(J79,Odds!G:G,0)))","v":1}]
[{"$f":"Results!B80","v":"Howard Bradley"},"Burnley draw",{"$f":"IF(J80=\"\",\"\",INDEX(Odds!C:C,MATCH(J80,Odds!G:G,0)))","v":"1900-01-01"},3.5,"√",{"$f":"IF(J80=\"\",-10,INDEX(Results!T:T,MATCH(A80,Results!V:V,0)))","v":-3.5},{"$f":"IF(J80=\"\",\"\",INDEX(Results!AI:AI,MATCH(A80,Results!V:V,0)))","v":98.92},{"$f":"IF(G80=\"\",0,1)","v":1},{"$f":"INDEX(Picks!AG:AG,MATCH(A80,Picks!AD:AD,0))","v":24},"Burnley draw",{"$f":"INDEX(Odds!H:H,MATCH(J80,Odds!G:G,0))","v":"5/2"},{"$f":"INDEX(Odds!I:I,MATCH(J80,Odds!G:G,0))","v":3.5},{"$f":"INDEX(Odds!J:J,MATCH(J80,Odds!G:G,0))","v":1},3.5,null,null,null,{"$f":"IF(Odds!G80=\"\",\"\",Odds!G80)","v":"Barrow draw"},{"$f":"INDEX(Odds!H:H,MATCH(R80,Odds!G:G,0))","v":"11/5"},1,null,null,null,null,null,null,null,{"$f":"IF(O80=\"\",\"\",INDEX(Odds!H:H,MATCH(O80,Odds!G:G,0)))","v":""},{"$f":"IF(J80=\"\",\"\",INDEX(Odds!K:K,MATCH(J80,Odds!G:G,0)))","v":1}]
[{"$f":"A80","v":"Howard Bradley"},"Spurs draw",{"$f":"IF(J81=\"\",\"\",INDEX(Odds!C:C,MATCH(J81,Odds!G:G,0)))","v":"1900-01-01"},4.4000000000000004,"x",null,null,null,null,"Spurs draw",{"$f":"INDEX(Odds!H:H,MATCH(J81,Odds!G:G,0))","v":"17/5"},{"$f":"INDEX(Odds!I:I,MATCH(J81,Odds!G:G,0))","v":4.4000000000000004},{"$f":"INDEX(Odds!J:J,MATCH(J81,Odds!G:G,0))","v":0},0,null,null,null,{"$f":"IF(Odds!G81=\"\",\"\",Odds!G81)","v":"Crawley draw"},{"$f":"INDEX(Odds!H:H,MATCH(R81,Odds!G:G,0))","v":"23/10"},1,null,null,null,null,null,null,null,{"$f":"IF(O81=\"\",\"\",INDEX(Odds!H:H,MATCH(O81,Odds!G:G,0)))","v":""},{"$f":"IF(J81=\"\",\"\",INDEX(Odds!K:K,MATCH(J81,Odds!G:G,0)))","v":1}]
[{"$f":"A80","v":"Howard Bradley"},"Wolves draw",{"$f":"IF(J82=\"\",\"\",INDEX(Odds!C:C,MATCH(J82,Odds!G:G,0)))","v":"1900-01-01"},3.4,"x",null,null,null,null,"Wolves draw",{"$f":"INDEX(Odds!H:H,MATCH(J82,Odds!G:G,0))","v":"12/5"},{"$f":"INDEX(Odds!I:I,MATCH(J82,Odds!G:G,0))","v":3.4},{"$f":"INDEX(Odds!J:J,MATCH(J82,Odds!G:G,0))","v":0},0,null,null,null,{"$f":"IF(Odds!G82=\"\",\"\",Odds!G82)","v":"Forest Green draw"},{"$f":"INDEX(Odds!H:H,MATCH(R82,Odds!G:G,0))","v":"21/10"},0,null,null,null,null,null,null,null,{"$f":"IF(O82=\"\",\"\",INDEX(Odds!H:H,MATCH(O82,Odds!G:G,0)))","v":""},{"$f":"IF(J82=\"\",\"\",INDEX(Odds!K:K,MATCH(J82,Odds!G:G,0)))","v":1}]
[{"$f":"Results!B83","v":"Ian Davies"},"Accrington",{"$f":"IF(J83=\"\",\"\",INDEX(Odds!C:C,MATCH(J83,Odds!G:G,0)))","v":"1900-01-07"},3.4,"x",{"$f":"IF(J83=\"\",-10,INDEX(Results!T:T,MATCH(A83,Results!V:V,0)))","v":-7},{"$f":"IF(J83=\"\",\"\",INDEX(Results!AI:AI,MATCH(A83,Results!V:V,0)))","v":55.756},{"$f":"IF(G83=\"\",0,1)","v":1},{"$f":"INDEX(Picks!AG:AG,MATCH(A83,Picks!AD:AD,0))","v":46},"Accrington",{"$f":"INDEX(Odds!H:H,MATCH(J83,Odds!G:G,0))","v":"12/5"},{"$f":"INDEX(Odds!I:I,MATCH(J83,Odds!G:G,0))","v":3.4},{"$f":"INDEX(Odds!J:J,MATCH(J83,Odds!G:G,0))","v":0},0,null,null,null,{"$f":"IF(Odds!G83=\"\",\"\",Odds!G83)","v":"Harrogate draw"},{"$f":"INDEX(Odds!H:H,MATCH(R83,Odds!G:G,0))","v":"12/5"},1,null,null,null,null,null,null,null,{"$f":"IF(O83=\"\",\"\",INDEX(Odds!H:H,MATCH(O83,Odds!G:G,0)))","v":""},{"$f":"IF(J83=\"\",\"\",INDEX(Odds!K:K,MATCH(J83,Odds!G:G,0)))","v":1}]
[{"$f":"A83","v":"Ian Davies"},"Plymouth",{"$f":"IF(J84=\"\",\"\",INDEX(Odds!C:C,MATCH(J84,Odds!G:G,0)))","v":"1900-01-07"},2.4500000000000002,"x",null,null,null,null,"Plymouth",{"$f":"INDEX(Odds!H:H,MATCH(J84,Odds!G:G,0))","v":"29/20"},{"$f":"INDEX(Odds!I:I,MATCH(J84,Odds!G:G,0))","v":2.4500000000000002},{"$f":"INDEX(Odds!J:J,MATCH(J84,Odds!G:G,0))","v":0},0,null,null,null,{"$f":"IF(Odds!G84=\"\",\"\",Odds!G84)","v":"Hartlepool draw"},{"$f":"INDEX(Odds!H:H,MATCH(R84,Odds!G:G,0))","v":"11/5"},0,null,null,null,null,null,null,null,{"$f":"IF(O84=\"\",\"\",INDEX(Odds!H:H,MATCH(O84,Odds!G:G,0)))","v":""},{"$f":"IF(J84=\"\",\"\",INDEX(Odds!K:K,MATCH(J84,Odds!G:G,0)))","v":1}]
[{"$f":"A83","v":"Ian Davies"},"QPR draw",{"$f":"IF(J85=\"\",\"\",INDEX(Odds!C:C,MATCH(J85,Odds!G:G,0)))","v":"1900-01-07"},3.2,"x",null,null,null,null,"QPR draw",{"$f":"INDEX(Odds!H:H,MATCH(J85,Odds!G:G,0))","v":"11/5"},{"$f":"INDEX(Odds!I:I,MATCH(J85,Odds!G:G,0))","v":3.2},{"$f":"INDEX(Odds!J:J,MATCH(J85,Odds!G:G,0))","v":0},0,null,null,null,{"$f":"IF(Odds!G85=\"\",\"\",Odds!G85)","v":"Orient draw"},{"$f":"INDEX(Odds!H:H,MATCH(R85,Odds!G:G,0))","v":"21/10"},0,null,null,null,null,null,null,null,{"$f":"IF(O85=\"\",\"\",INDEX(Odds!H:H,MATCH(O85,Odds!G:G,0)))","v":""},{"$f":"IF(J85=\"\",\"\",INDEX(Odds!K:K,MATCH(J85,Odds!G:G,0)))","v":1}]
[{"$f":"Results!B86","v":"Jack Walsh"},"Newcastle",{"$f":"IF(J86=\"\",\"\",INDEX(Odds!C:C,MATCH(J86,Odds!G:G,0)))","v":"1900-01-07"},2.625,"x",{"$f":"IF(J86=\"\",-10,INDEX(Results!T:T,MATCH(A86,Results!V:V,0)))","v":-0.36363636363636331},{"$f":"IF(J86=\"\",\"\",INDEX(Results!AI:AI,MATCH(A86,Results!V:V,0)))","v":19.681818181818187},{"$f":"IF(G86=\"\",0,1)","v":1},{"$f":"INDEX(Picks!AG:AG,MATCH(A86,Picks!AD:AD,0))","v":20},"Newcastle",{"$f":"INDEX(Odds!H:H,MATCH(J86,Odds!G:G,0))","v":"13/8"},{"$f":"INDEX(Odds!I:I,MATCH(J86,Odds!G:G,0))","v":2.625},{"$f":"INDEX(Odds!J:J,MATCH(J86,Odds!G:G,0))","v":0},0,null,null,null,{"$f":"IF(Odds!G86=\"\",\"\",Odds!G86)","v":"Salford draw"},{"$f":"INDEX(Odds!H:H,MATCH(R86,Odds!G:G,0))","v":"21/10"},0,null,null,null,null,null,null,null,{"$f":"IF(O86=\"\",\"\",INDEX(Odds!H:H,MATCH(O86,Odds!G:G,0)))","v":""},{"$f":"IF(J86=\"\",\"\",INDEX(Odds!K:K,MATCH(J86,Odds!G:G,0)))","v":1}]
[{"$f":"A86","v":"Jack Walsh"},"Leicester",{"$f":"IF(J87=\"\",\"\",INDEX(Odds!C:C,MATCH(J87,Odds!G:G,0)))","v":"1900-01-07"},1.7272727272727273,"√",null,null,null,null,"Leicester",{"$f":"INDEX(Odds!H:H,MATCH(J87,Odds!G:G,0))","v":"8/11"},{"$f":"INDEX(Odds!I:I,MATCH(J87,Odds!G:G,0))","v":1.7272727272727273},{"$f":"INDEX(Odds!J:J,MATCH(J87,Odds!G:G,0))","v":1},1.7272727272727273,null,null,null,{"$f":"IF(Odds!G87=\"\",\"\",Odds!G87)","v":"Scunthorpe draw"},{"$f":"INDEX(Odds!H:H,MATCH(R87,Odds!G:G,0))","v":"11/5"},0,null,null,null,null,null,null,null,{"$f":"IF(O87=\"\",\"\",INDEX(Odds!H:H,MATCH(O87,Odds!G:G,0)))","v":""},{"$f":"IF(J87=\"\",\"\",INDEX(Odds!K:K,MATCH(J87,Odds!G:G,0)))","v":1}]
[{"$f":"A86","v":"Jack Walsh"},"Man U",{"$f":"IF(J88=\"\",\"\",INDEX(Odds!C:C,MATCH(J88,Odds!G:G,0)))","v":"1900-01-01"},1.8,"√",null,null,null,null,"Man U",{"$f":"INDEX(Odds!H:H,MATCH(J88,Odds!G:G,0))","v":"4/5"},{"$f":"INDEX(Odds!I:I,MATCH(J88,Odds!G:G,0))","v":1.8},{"$f":"INDEX(Odds!J:J,MATCH(J88,Odds!G:G,0))","v":1},1.8,null,null,null,{"$f":"IF(Odds!G88=\"\",\"\",Odds!G88)","v":"Sutton draw"},{"$f":"INDEX(Odds!H:H,MATCH(R88,Odds!G:G,0))","v":"9/4"},0,null,null,null,null,null,null,null,{"$f":"IF(O88=\"\",\"\",INDEX(Odds!H:H,MATCH(O88,Odds!G:G,0)))","v":""},{"$f":"IF(J88=\"\",\"\",INDEX(Odds!K:K,MATCH(J88,Odds!G:G,0)))","v":1}]
[{"$f":"Results!B89","v":"James Bell"},"Preston draw",{"$f":"IF(J89=\"\",\"\",INDEX(Odds!C:C,MATCH(J89,Odds!G:G,0)))","v":"1900-01-07"},3.1,"x",{"$f":"IF(J89=\"\",-10,INDEX(Results!T:T,MATCH(A89,Results!V:V,0)))","v":-7},{"$f":"IF(J89=\"\",\"\",INDEX(Results!AI:AI,MATCH(A89,Results!V:V,0)))","v":60.921000000000006},{"$f":"IF(G89=\"\",0,1)","v":1},{"$f":"INDEX(Picks!AG:AG,MATCH(A89,Picks!AD:AD,0))","v":46},"Preston draw",{"$f":"INDEX(Odds!H:H,MATCH(J89,Odds!G:G,0))","v":"21/10"},{"$f":"INDEX(Odds!I:I,MATCH(J89,Odds!G:G,0))","v":3.1},{"$f":"INDEX(Odds!J:J,MATCH(J89,Odds!G:G,0))","v":0},0,null,null,null,{"$f":"IF(Odds!G89=\"\",\"\",Odds!G89)","v":"Swindon draw"},{"$f":"INDEX(Odds!H:H,MATCH(R89,Odds!G:G,0))","v":"23/10"},0,null,null,null,null,null,null,null,{"$f":"IF(O89=\"\",\"\",INDEX(Odds!H:H,MATCH(O89,Odds!G:G,0)))","v":""},{"$f":"IF(J89=\"\",\"\",INDEX(Odds!K:K,MATCH(J89,Odds!G:G,0)))","v":1}]
[{"$f":"A89","v":"James Bell"},"Orient draw",{"$f":"IF(J90=\"\",\"\",INDEX(Odds!C:C,MATCH(J90,Odds!G:G,0)))","v":"1900-01-07"},3.1,"x",null,null,null,null,"Orient draw",{"$f":"INDEX(Odds!H:H,MATCH(J90,Odds!G:G,0))","v":"21/10"},{"$f":"INDEX(Odds!I:I,MATCH(J90,Odds!G:G,0))","v":3.1},{"$f":"INDEX(Odds!J:J,MATCH(J90,Odds!G:G,0))","v":0},0,null,null,null,{"$f":"IF(Odds!G90=\"\",\"\",Odds!G90)","v":"Walsall draw"},{"$f":"INDEX(Odds!H:H,MATCH(R90,Odds!G:G,0))","v":"21/10"},0,null,null,null,null,null,null,null,{"$f":"IF(O90=\"\",\"\",INDEX(Odds!H:H,MATCH(O90,Odds!G:G,0)))","v":""},{"$f":"IF(J90=\"\",\"\",INDEX(Odds!K:K,MATCH(J90,Odds!G:G,0)))","v":1}]
[{"$f":"A89","v":"James Bell"},"Forest Green draw",{"$f":"IF(J91=\"\",\"\",INDEX(Odds!C:C,MATCH(J91,Odds!G:G,0)))","v":"1900-01-07"},3.1,"x",null,null,null,null,"Forest Green draw",{"$f":"INDEX(Odds!H:H,MATCH(J91,Odds!G:G,0))","v":"21/10"},{"$f":"INDEX(Odds!I:I,MATCH(J91,Odds!G:G,0))","v":3.1},{"$f":"INDEX(Odds!J:J,MATCH(J91,Odds!G:G,0))","v":0},0,null,null,null,{"$f":"IF(Odds!G91=\"\",\"\",Odds!G91)","v":"Burnley draw"},{"$f":"INDEX(Odds!H:H,MATCH(R91,Odds!G:G,0))","v":"5/2"},1,null,null,null,null,null,null,null,{"$f":"IF(O91=\"\",\"\",INDEX(Odds!H:H,MATCH(O91,Odds!G:G,0)))","v":""},{"$f":"IF(J91=\"\",\"\",INDEX(Odds!K:K,MATCH(J91,Odds!G:G,0)))","v":1}]
[{"$f":"Results!B92","v":"John Murphy"},"Cardiff",{"$f":"IF(J92=\"\",\"\",INDEX(Odds!C:C,MATCH(J92,Odds!G:G,0)))","v":"1900-01-07"},1.95,"x",{"$f":"IF(J92=\"\",-10,INDEX(Results!T:T,MATCH(A92,Results!V:V,0)))","v":-7},{"$f":"IF(J92=\"\",\"\",INDEX(Results!AI:AI,MATCH(A92,Results!V:V,0)))","v":28.091406250000006},{"$f":"IF(G92=\"\",0,1)","v":1},{"$f":"INDEX(Picks!AG:AG,MATCH(A92,Picks!AD:AD,0))","v":46},"Cardiff",{"$f":"INDEX(Odds!H:H,MATCH(J92,Odds!G:G,0))","v":"19/20"},{"$f":"INDEX(Odds!I:I,MATCH(J92,Odds!G:G,0))","v":1.95},{"$f":"INDEX(Odds!J:J,MATCH(J92,Odds!G:G,0))","v":0},0,null,null,null,{"$f":"IF(Odds!G92=\"\",\"\",Odds!G92)","v":"Spurs draw"},{"$f":"INDEX(Odds!H:H,MATCH(R92,Odds!G:G,0))","v":"17/5"},0,null,null,null,null,null,null,null,{"$f":"IF(O92=\"\",\"\",INDEX(Odds!H:H,MATCH(O92,Odds!G:G,0)))","v":""},{"$f":"IF(J92=\"\",\"\",INDEX(Odds!K:K,MATCH(J92,Odds!G:G,0)))","v":1}]
[{"$f":"A92","v":"John Murphy"},"Sheff U",{"$f":"IF(J93=\"\",\"\",INDEX(Odds!C:C,MATCH(J93,Odds!G:G,0)))","v":"1900-01-07"},2.375,"x",null,null,null,null,"Sheff U",{"$f":"INDEX(Odds!H:H,MATCH(J93,Odds!G:G,0))","v":"11/8"},{"$f":"INDEX(Odds!I:I,MATCH(J93,Odds!G:G,0))","v":2.375},{"$f":"INDEX(Odds!J:J,MATCH(J93,Odds!G:G,0))","v":0},0,null,null,null,{"$f":"IF(Odds!G93=\"\",\"\",Odds!G93)","v":"Wolves draw"},{"$f":"INDEX(Odds!H:H,MATCH(R93,Odds!G:G,0))","v":"12/5"},0,null,null,null,null,null,null,null,{"$f":"IF(O93=\"\",\"\",INDEX(Odds!H:H,MATCH(O93,Odds!G:G,0)))","v":""},{"$f":"IF(J93=\"\",\"\",INDEX(Odds!K:K,MATCH(J93,Odds!G:G,0)))","v":1}]
[{"$f":"A92","v":"John Murphy"},"Exeter",{"$f":"IF(J94=\"\",\"\",INDEX(Odds!C:C,MATCH(J94,Odds!G:G,0)))","v":"1900-01-07"},2.625,"x",null,null,null,null,"Exeter",{"$f":"INDEX(Odds!H:H,MATCH(J94,Odds!G:G,0))","v":"13/8"},{"$f":"INDEX(Odds!I:I,MATCH(J94,Odds!G:G,0))","v":2.625},{"$f":"INDEX(Odds!J:J,MATCH(J94,Odds!G:G,0))","v":0},0,null,null,null,{"$f":"IF(Odds!G94=\"\",\"\",Odds!G94)","v":"Cheltenham"},{"$f":"INDEX(Odds!H:H,MATCH(R94,Odds!G:G,0))","v":"27/10"},{"$f":"IF(V2<X2,1,0)","v":0},null,null,null,null,null,null,null,{"$f":"IF(O94=\"\",\"\",INDEX(Odds!H:H,MATCH(O94,Odds!G:G,0)))","v":""},{"$f":"IF(J94=\"\",\"\",INDEX(Odds!K:K,MATCH(J94,Odds!G:G,0)))","v":1}]
[{"$f":"Results!B95","v":"John Ronan"},"Liverpool",{"$f":"IF(J95=\"\",\"\",INDEX(Odds!C:C,MATCH(J95,Odds!G:G,0)))","v":"1900-01-07"},2.6,"x",{"$f":"IF(J95=\"\",-10,INDEX(Results!T:T,MATCH(A95,Results!V:V,0)))","v":-4.9000000000000004},{"$f":"IF(J95=\"\",\"\",INDEX(Results!AI:AI,MATCH(A95,Results!V:V,0)))","v":33.85},{"$f":"IF(G95=\"\",0,1)","v":1},{"$f":"INDEX(Picks!AG:AG,MATCH(A95,Picks!AD:AD,0))","v":34},"Liverpool",{"$f":"INDEX(Odds!H:H,MATCH(J95,Odds!G:G,0))","v":"8/5"},{"$f":"INDEX(Odds!I:I,MATCH(J95,Odds!G:G,0))","v":2.6},{"$f":"INDEX(Odds!J:J,MATCH(J95,Odds!G:G,0))","v":0},0,null,null,null,{"$f":"IF(Odds!G95=\"\",\"\",Odds!G95)","v":"Colchester"},{"$f":"INDEX(Odds!H:H,MATCH(R95,Odds!G:G,0))","v":"21/10"},0,null,null,null,null,null,null,null,{"$f":"IF(O95=\"\",\"\",INDEX(Odds!H:H,MATCH(O95,Odds!G:G,0)))","v":""},{"$f":"IF(J95=\"\",\"\",INDEX(Odds!K:K,MATCH(J95,Odds!G:G,0)))","v":1}]
[{"$f":"A95","v":"John Ronan"},"Derby",{"$f":"IF(J96=\"\",\"\",INDEX(Odds!C:C,MATCH(J96,Odds!G:G,0)))","v":"1900-01-07"},2.75,"x",null,null,null,null,"Derby",{"$f":"INDEX(Odds!H:H,MATCH(J96,Odds!G:G,0))","v":"7/4"},{"$f":"INDEX(Odds!I:I,MATCH(J96,Odds!G:G,0))","v":2.75},{"$f":"INDEX(Odds!J:J,MATCH(J96,Odds!G:G,0))","v":0},0,null,null,null,{"$f":"IF(Odds!G96=\"\",\"\",Odds!G96)","v":"Everton"},{"$f":"INDEX(Odds!H:H,MATCH(R96,Odds!G:G,0))","v":"11/5"},1,null,null,null,null,null,null,null,{"$f":"IF(O96=\"\",\"\",INDEX(Odds!H:H,MATCH(O96,Odds!G:G,0)))","v":""},{"$f":"IF(J96=\"\",\"\",INDEX(Odds!K:K,MATCH(J96,Odds!G:G,0)))","v":1}]
[{"$f":"A95","v":"John Ronan"},"MK Dons",{"$f":"IF(J97=\"\",\"\",INDEX(Odds!C:C,MATCH(J97,Odds!G:G,0)))","v":"1900-01-07"},2.1,"√",null,null,null,null,"MK Dons",{"$f":"INDEX(Odds!H:H,MATCH(J97,Odds!G:G,0))","v":"11/10"},{"$f":"INDEX(Odds!I:I,MATCH(J97,Odds!G:G,0))","v":2.1},{"$f":"INDEX(Odds!J:J,MATCH(J97,Odds!G:G,0))","v":1},2.1,null,null,null,{"$f":"IF(Odds!G97=\"\",\"\",Odds!G97)","v":"Chelsea"},{"$f":"INDEX(Odds!H:H,MATCH(R97,Odds!G:G,0))","v":"7/4"},0,null,null,null,null,null,null,null,{"$f":"IF(O97=\"\",\"\",INDEX(Odds!H:H,MATCH(O97,Odds!G:G,0)))","v":""},{"$f":"IF(J97=\"\",\"\",INDEX(Odds!K:K,MATCH(J97,Odds!G:G,0)))","v":1}]
[{"$f":"Results!B98","v":"Kei Lok Ma"},"Brighton draw",{"$f":"IF(J98=\"\",\"\",INDEX(Odds!C:C,MATCH(J98,Odds!G:G,0)))","v":"1900-01-07"},3.2,"x",{"$f":"IF(J98=\"\",-10,INDEX(Results!T:T,MATCH(A98,Results!V:V,0)))","v":-7},{"$f":"IF(J98=\"\",\"\",INDEX(Results!AI:AI,MATCH(A98,Results!V:V,0)))","v":41.481250000000003},{"$f":"IF(G98=\"\",0,1)","v":1},{"$f":"INDEX(Picks!AG:AG,MATCH(A98,Picks!AD:AD,0))","v":46},"Brighton draw",{"$f":"INDEX(Odds!H:H,MATCH(J98,Odds!G:G,0))","v":"11/5"},{"$f":"INDEX(Odds!I:I,MATCH(J98,Odds!G:G,0))","v":3.2},{"$f":"INDEX(Odds!J:J,MATCH(J98,Odds!G:G,0))","v":0},{"$f":"L98*M98","v":0},null,null,null,{"$f":"IF(Odds!G98=\"\",\"\",Odds!G98)","v":"Arsenal"},{"$f":"INDEX(Odds!H:H,MATCH(R98,Odds!G:G,0))","v":"11/1"},0,null,null,null,null,null,null,null,{"$f":"IF(O98=\"\",\"\",INDEX(Odds!H:H,MATCH(O98,Odds!G:G,0)))","v":""},{"$f":"IF(J98=\"\",\"\",INDEX(Odds!K:K,MATCH(J98,Odds!G:G,0)))","v":1}]
[{"$f":"A98","v":"Kei Lok Ma"},"Southampton",{"$f":"IF(J99=\"\",\"\",INDEX(Odds!C:C,MATCH(J99,Odds!G:G,0)))","v":"1900-01-07"},2.625,"x",null,null,null,null,"Southampton",{"$f":"INDEX(Odds!H:H,MATCH(J99,Odds!G:G,0))","v":"13/8"},{"$f":"INDEX(Odds!I:I,MATCH(J99,Odds!G:G,0))","v":2.625},{"$f":"INDEX(Odds!J:J,MATCH(J99,Odds!G:G,0))","v":0},0,null,null,null,{"$f":"IF(Odds!G99=\"\",\"\",Odds!G99)","v":"Southampton"},{"$f":"INDEX(Odds!H:H,MATCH(R99,Odds!G:G,0))","v":"13/8"},0,null,null,null,null,null,null,null,{"$f":"IF(O99=\"\",\"\",INDEX(Odds!H:H,MATCH(O99,Odds!G:G,0)))","v":""},{"$f":"IF(J99=\"\",\"\",INDEX(Odds!K:K,MATCH(J99,Odds!G:G,0)))","v":1}]
[{"$f":"A98","v":"Kei Lok Ma"},"Leeds",{"$f":"IF(J100=\"\",\"\",INDEX(Odds!C:C,MATCH(J100,Odds!G:G,0)))","v":"1900-01-01"},2.25,"x",null,null,null,null,"Leeds",{"$f":"INDEX(Odds!H:H,MATCH(J100,Odds!G:G,0))","v":"5/4"},{"$f":"INDEX(Odds!I:I,MATCH(J100,Odds!G:G,0))","v":2.25},{"$f":"INDEX(Odds!J:J,MATCH(J100,Odds!G:G,0))","v":0},0,null,null,null,{"$f":"IF(Odds!G100=\"\",\"\",Odds!G100)","v":"Leicester"},{"$f":"INDEX(Odds!H:H,MATCH(R100,Odds!G:G,0))","v":"8/11"},1,null,null,null,null,null,null,null,{"$f":"IF(O100=\"\",\"\",INDEX(Odds!H:H,MATCH(O100,Odds!G:G,0)))","v":""},{"$f":"IF(J100=\"\",\"\",INDEX(Odds!K:K,MATCH(J100,Odds!G:G,0)))","v":1}]
[{"$f":"Results!B101","v":"Kevin Carter"},"West Brom",{"$f":"IF(J101=\"\",\"\",INDEX(Odds!C:C,MATCH(J101,Odds!G:G,0)))","v":"1900-01-07"},1.85,"√",{"$f":"IF(J101=\"\",-10,INDEX(Results!T:T,MATCH(A101,Results!V:V,0)))","v":-0.22727272727272751},{"$f":"IF(J101=\"\",\"\",INDEX(Results!AI:AI,MATCH(A101,Results!V:V,0)))","v":12.209090909090911},{"$f":"IF(G101=\"\",0,1)","v":1},{"$f":"INDEX(Picks!AG:AG,MATCH(A101,Picks!AD:AD,0))","v":19},"West Brom",{"$f":"INDEX(Odds!H:H,MATCH(J101,Odds!G:G,0))","v":"17/20"},{"$f":"INDEX(Odds!I:I,MATCH(J101,Odds!G:G,0))","v":1.85},{"$f":"INDEX(Odds!J:J,MATCH(J101,Odds!G:G,0))","v":1},1.85,null,null,null,{"$f":"IF(Odds!G101=\"\",\"\",Odds!G101)","v":"Brentford"},{"$f":"INDEX(Odds!H:H,MATCH(R101,Odds!G:G,0))","v":"27/10"},0,null,null,null,null,null,null,null,{"$f":"IF(O101=\"\",\"\",INDEX(Odds!H:H,MATCH(O101,Odds!G:G,0)))","v":""},{"$f":"IF(J101=\"\",\"\",INDEX(Odds!K:K,MATCH(J101,Odds!G:G,0)))","v":1}]
[{"$f":"A101","v":"Kevin Carter"},"West Ham",{"$f":"IF(J102=\"\",\"\",INDEX(Odds!C:C,MATCH(J102,Odds!G:G,0)))","v":"1900-01-07"},1.6,"x",null,null,null,null,"West Ham",{"$f":"INDEX(Odds!H:H,MATCH(J102,Odds!G:G,0))","v":"6/10"},{"$f":"INDEX(Odds!I:I,MATCH(J102,Odds!G:G,0))","v":1.6},{"$f":"INDEX(Odds!J:J,MATCH(J102,Odds!G:G,0))","v":0},0,null,null,null,{"$f":"IF(Odds!G102=\"\",\"\",Odds!G102)","v":"Palace"},{"$f":"INDEX(Odds!H:H,MATCH(R102,Odds!G:G,0))","v":"24/5"},0,null,null,null,null,null,null,null,{"$f":"IF(O102=\"\",\"\",INDEX(Odds!H:H,MATCH(O102,Odds!G:G,0)))","v":""},{"$f":"IF(J102=\"\",\"\",INDEX(Odds!K:K,MATCH(J102,Odds!G:G,0)))","v":1}]
[{"$f":"A101","v":"Kevin Carter"},"Leicester",{"$f":"IF(J103=\"\",\"\",INDEX(Odds!C:C,MATCH(J103,Odds!G:G,0)))","v":"1900-01-07"},1.7272727272727273,"√",null,null,null,null,"Leicester",{"$f":"INDEX(Odds!H:H,MATCH(J103,Odds!G:G,0))","v":"8/11"},{"$f":"INDEX(Odds!I:I,MATCH(J103,Odds!G:G,0))","v":1.7272727272727273},{"$f":"INDEX(Odds!J:J,MATCH(J103,Odds!G:G,0))","v":1},1.7272727272727273,null,null,null,{"$f":"IF(Odds!G103=\"\",\"\",Odds!G103)","v":"Birmingham"},{"$f":"INDEX(Odds!H:H,MATCH(R103,Odds!G:G,0))","v":"27/10"},0,null,null,null,null,null,null,null,{"$f":"IF(O103=\"\",\"\",INDEX(Odds!H:H,MATCH(O103,Odds!G:G,0)))","v":""},{"$f":"IF(J103=\"\",\"\",INDEX(Odds!K:K,MATCH(J103,Odds!G:G,0)))","v":1}]
[{"$f":"Results!B104","v":"Lennie Bow"},"Oxford",{"$f":"IF(J104=\"\",\"\",INDEX(Odds!C:C,MATCH(J104,Odds!G:G,0)))","v":"1900-01-07"},2.1,"√",{"$f":"IF(J104=\"\",-10,INDEX(Results!T:T,MATCH(A104,Results!V:V,0)))","v":-4.9000000000000004},{"$f":"IF(J104=\"\",\"\",INDEX(Results!AI:AI,MATCH(A104,Results!V:V,0)))","v":27.153999999999996},{"$f":"IF(G104=\"\",0,1)","v":1},{"$f":"INDEX(Picks!AG:AG,MATCH(A104,Picks!AD:AD,0))","v":34},"Oxford",{"$f":"INDEX(Odds!H:H,MATCH(J104,Odds!G:G,0))","v":"11/10"},{"$f":"INDEX(Odds!I:I,MATCH(J104,Odds!G:G,0))","v":2.1},{"$f":"INDEX(Odds!J:J,MATCH(J104,Odds!G:G,0))","v":1},2.1,null,null,null,{"$f":"IF(Odds!G104=\"\",\"\",Odds!G104)","v":"Bristol C"},{"$f":"INDEX(Odds!H:H,MATCH(R104,Odds!G:G,0))","v":"16/5"},1,null,null,null,null,null,null,null,{"$f":"IF(O104=\"\",\"\",INDEX(Odds!H:H,MATCH(O104,Odds!G:G,0)))","v":""},{"$f":"IF(J104=\"\",\"\",INDEX(Odds!K:K,MATCH(J104,Odds!G:G,0)))","v":1}]
[{"$f":"A104","v":"Lennie Bow"},"Forest Green",{"$f":"IF(J105=\"\",\"\",INDEX(Odds!C:C,MATCH(J105,Odds!G:G,0)))","v":"1900-01-07"},2.15,"x",null,null,null,null,"Forest Green",{"$f":"INDEX(Odds!H:H,MATCH(J105,Odds!G:G,0))","v":"23/20"},{"$f":"INDEX(Odds!I:I,MATCH(J105,Odds!G:G,0))","v":2.15},{"$f":"INDEX(Odds!J:J,MATCH(J105,Odds!G:G,0))","v":0},0,null,null,null,{"$f":"IF(Odds!G105=\"\",\"\",Odds!G105)","v":"Forest"},{"$f":"INDEX(Odds!H:H,MATCH(R105,Odds!G:G,0))","v":"7/4"},0,null,null,null,null,null,null,null,{"$f":"IF(O105=\"\",\"\",INDEX(Odds!H:H,MATCH(O105,Odds!G:G,0)))","v":""},{"$f":"IF(J105=\"\",\"\",INDEX(Odds!K:K,MATCH(J105,Odds!G:G,0)))","v":1}]
[{"$f":"A104","v":"Lennie Bow"},"Harrogate",{"$f":"IF(J106=\"\",\"\",INDEX(Odds!C:C,MATCH(J106,Odds!G:G,0)))","v":"1900-01-07"},2.6,"x",null,null,null,null,"Harrogate",{"$f":"INDEX(Odds!H:H,MATCH(J106,Odds!G:G,0))","v":"8/5"},{"$f":"INDEX(Odds!I:I,MATCH(J106,Odds!G:G,0))","v":2.6},{"$f":"INDEX(Odds!J:J,MATCH(J106,Odds!G:G,0))","v":0},0,null,null,null,{"$f":"IF(Odds!G106=\"\",\"\",Odds!G106)","v":"Stoke"},{"$f":"INDEX(Odds!H:H,MATCH(R106,Odds!G:G,0))","v":"3/1"},0,null,null,null,null,null,null,null,{"$f":"IF(O106=\"\",\"\",INDEX(Odds!H:H,MATCH(O106,Odds!G:G,0)))","v":""},{"$f":"IF(J106=\"\",\"\",INDEX(Odds!K:K,MATCH(J106,Odds!G:G,0)))","v":1}]
[{"$f":"Results!B107","v":"Liam Wah"},"Burnley",{"$f":"IF(J107=\"\",\"\",INDEX(Odds!C:C,MATCH(J107,Odds!G:G,0)))","v":"1900-01-01"},3.1,"x",{"$f":"IF(J107=\"\",-10,INDEX(Results!T:T,MATCH(A107,Results!V:V,0)))","v":-1.2800000000000002},{"$f":"IF(J107=\"\",\"\",INDEX(Results!AI:AI,MATCH(A107,Results!V:V,0)))","v":19.552},{"$f":"IF(G107=\"\",0,1)","v":1},{"$f":"INDEX(Picks!AG:AG,MATCH(A107,Picks!AD:AD,0))","v":22},"Burnley",{"$f":"INDEX(Odds!H:H,MATCH(J107,Odds!G:G,0))","v":"21/10"},{"$f":"INDEX(Odds!I:I,MATCH(J107,Odds!G:G,0))","v":3.1},{"$f":"INDEX(Odds!J:J,MATCH(J107,Odds!G:G,0))","v":0},0,null,null,null,{"$f":"IF(Odds!G107=\"\",\"\",Odds!G107)","v":"Reading"},{"$f":"INDEX(Odds!H:H,MATCH(R107,Odds!G:G,0))","v":"2/1"},0,null,null,null,null,null,null,null,{"$f":"IF(O107=\"\",\"\",INDEX(Odds!H:H,MATCH(O107,Odds!G:G,0)))","v":""},{"$f":"IF(J107=\"\",\"\",INDEX(Odds!K:K,MATCH(J107,Odds!G:G,0)))","v":1}]
[{"$f":"A107","v":"Liam Wah"},"Spurs",{"$f":"IF(J108=\"\",\"\",INDEX(Odds!C:C,MATCH(J108,Odds!G:G,0)))","v":"1900-01-01"},1.4,"√",null,null,null,null,"Spurs",{"$f":"INDEX(Odds!H:H,MATCH(J108,Odds!G:G,0))","v":"2/5"},{"$f":"INDEX(Odds!I:I,MATCH(J108,Odds!G:G,0))","v":1.4},{"$f":"INDEX(Odds!J:J,MATCH(J108,Odds!G:G,0))","v":1},1.4,null,null,null,{"$f":"IF(Odds!G108=\"\",\"\",Odds!G108)","v":"Bournemouth"},{"$f":"INDEX(Odds!H:H,MATCH(R108,Odds!G:G,0))","v":"13/10"},0,null,null,null,null,null,null,null,{"$f":"IF(O108=\"\",\"\",INDEX(Odds!H:H,MATCH(O108,Odds!G:G,0)))","v":""},{"$f":"IF(J108=\"\",\"\",INDEX(Odds!K:K,MATCH(J108,Odds!G:G,0)))","v":1}]
[{"$f":"A107","v":"Liam Wah"},"Man U",{"$f":"IF(J109=\"\",\"\",INDEX(Odds!C:C,MATCH(J109,Odds!G:G,0)))","v":"1900-01-01"},1.8,"√",null,null,null,null,"Man U",{"$f":"INDEX(Odds!H:H,MATCH(J109,Odds!G:G,0))","v":"4/5"},{"$f":"INDEX(Odds!I:I,MATCH(J109,Odds!G:G,0))","v":1.8},{"$f":"INDEX(Odds!J:J,MATCH(J109,Odds!G:G,0))","v":1},1.8,null,null,null,{"$f":"IF(Odds!G109=\"\",\"\",Odds!G109)","v":"Sheff U"},{"$f":"INDEX(Odds!H:H,MATCH(R109,Odds!G:G,0))","v":"11/8"},0,null,null,null,null,null,null,null,{"$f":"IF(O109=\"\",\"\",INDEX(Odds!H:H,MATCH(O109,Odds!G:G,0)))","v":""},{"$f":"IF(J109=\"\",\"\",INDEX(Odds!K:K,MATCH(J109,Odds!G:G,0)))","v":1}]
[{"$f":"Results!B110","v":"Mal Stott"},{"$f":"IF(J110=\"\",\"\",J110)","v":"Plymouth"},{"$f":"IF(J110=\"\",\"\",INDEX(Odds!C:C,MATCH(J110,Odds!G:G,0)))","v":"1900-01-07"},{"$f":"IF(J110=\"\",\"\",L110)","v":2.4500000000000002},"x",{"$f":"IF(J110=\"\",-10,INDEX(Results!T:T,MATCH(A110,Results!V:V,0)))","v":-5.15},{"$f":"IF(J110=\"\",\"\",INDEX(Results!AI:AI,MATCH(A110,Results!V:V,0)))","v":22.972375},{"$f":"IF(G110=\"\",0,1)","v":1},{"$f":"INDEX(Picks!AG:AG,MATCH(A110,Picks!AD:AD,0))","v":39},"Plymouth",{"$f":"INDEX(Odds!H:H,MATCH(J110,Odds!G:G,0))","v":"29/20"},{"$f":"INDEX(Odds!I:I,MATCH(J110,Odds!G:G,0))","v":2.4500000000000002},{"$f":"INDEX(Odds!J:J,MATCH(J110,Odds!G:G,0))","v":0},0,null,null,null,{"$f":"IF(Odds!G110=\"\",\"\",Odds!G110)","v":"Blackburn"},{"$f":"INDEX(Odds!H:H,MATCH(R110,Odds!G:G,0))","v":"17/5"},0,null,null,null,null,null,null,null,{"$f":"IF(O110=\"\",\"\",INDEX(Odds!H:H,MATCH(O110,Odds!G:G,0)))","v":""},{"$f":"IF(J110=\"\",\"\",INDEX(Odds!K:K,MATCH(J110,Odds!G:G,0)))","v":1}]
[{"$f":"A110","v":"Mal Stott"},"Forest Green",{"$f":"IF(J111=\"\",\"\",INDEX(Odds!C:C,MATCH(J111,Odds!G:G,0)))","v":"1900-01-07"},2.15,"x",null,null,null,null,"Forest Green",{"$f":"INDEX(Odds!H:H,MATCH(J111,Odds!G:G,0))","v":"23/20"},{"$f":"INDEX(Odds!I:I,MATCH(J111,Odds!G:G,0))","v":2.15},{"$f":"INDEX(Odds!J:J,MATCH(J111,Odds!G:G,0))","v":0},0,null,null,null,{"$f":"IF(Odds!G111=\"\",\"\",Odds!G111)","v":"Blackpool"},{"$f":"INDEX(Odds!H:H,MATCH(R111,Odds!G:G,0))","v":"17/5"},0,null,null,null,null,null,null,null,{"$f":"IF(O111=\"\",\"\",INDEX(Odds!H:H,MATCH(O111,Odds!G:G,0)))","v":""},{"$f":"IF(J111=\"\",\"\",INDEX(Odds!K:K,MATCH(J111,Odds!G:G,0)))","v":1}]
[{"$f":"A110","v":"Mal Stott"},"West Brom",{"$f":"IF(J112=\"\",\"\",INDEX(Odds!C:C,MATCH(J112,Odds!G:G,0)))","v":"1900-01-07"},1.85,"√",null,null,null,null,"West Brom",{"$f":"INDEX(Odds!H:H,MATCH(J112,Odds!G:G,0))","v":"17/20"},{"$f":"INDEX(Odds!I:I,MATCH(J112,Odds!G:G,0))","v":1.85},{"$f":"INDEX(Odds!J:J,MATCH(J112,Odds!G:G,0))","v":1},1.85,null,null,null,{"$f":"IF(Odds!G112=\"\",\"\",Odds!G112)","v":"West Brom"},{"$f":"INDEX(Odds!H:H,MATCH(R112,Odds!G:G,0))","v":"17/20"},1,null,null,null,null,null,null,null,{"$f":"IF(O112=\"\",\"\",INDEX(Odds!H:H,MATCH(O112,Odds!G:G,0)))","v":""},{"$f":"IF(J112=\"\",\"\",INDEX(Odds!K:K,MATCH(J112,Odds!G:G,0)))","v":1}]
[{"$f":"Results!B113","v":"Mark Bunn"},"Everton",{"$f":"IF(J113=\"\",\"\",INDEX(Odds!C:C,MATCH(J113,Odds!G:G,0)))","v":"1900-01-07"},3.2,"√",{"$f":"IF(J113=\"\",-10,INDEX(Results!T:T,MATCH(A113,Results!V:V,0)))","v":-3.8},{"$f":"IF(J113=\"\",\"\",INDEX(Results!AI:AI,MATCH(A113,Results!V:V,0)))","v":39.628},{"$f":"IF(G113=\"\",0,1)","v":1},{"$f":"INDEX(Picks!AG:AG,MATCH(A113,Picks!AD:AD,0))","v":27},"Everton",{"$f":"INDEX(Odds!H:H,MATCH(J113,Odds!G:G,0))","v":"11/5"},{"$f":"INDEX(Odds!I:I,MATCH(J113,Odds!G:G,0))","v":3.2},{"$f":"INDEX(Odds!J:J,MATCH(J113,Odds!G:G,0))","v":1},3.2,null,null,null,{"$f":"IF(Odds!G113=\"\",\"\",Odds!G113)","v":"Swansea"},{"$f":"INDEX(Odds!H:H,MATCH(R113,Odds!G:G,0))","v":"9/5"},0,null,null,null,null,null,null,null,{"$f":"IF(O113=\"\",\"\",INDEX(Odds!H:H,MATCH(O113,Odds!G:G,0)))","v":""},{"$f":"IF(J113=\"\",\"\",INDEX(Odds!K:K,MATCH(J113,Odds!G:G,0)))","v":1}]
[{"$f":"A113","v":"Mark Bunn"},"Forest Green",{"$f":"IF(J114=\"\",\"\",INDEX(Odds!C:C,MATCH(J114,Odds!G:G,0)))","v":"1900-01-07"},2.15,"x",null,null,null,null,"Forest Green",{"$f":"INDEX(Odds!H:H,MATCH(J114,Odds!G:G,0))","v":"23/20"},{"$f":"INDEX(Odds!I:I,MATCH(J114,Odds!G:G,0))","v":2.15},{"$f":"INDEX(Odds!J:J,MATCH(J114,Odds!G:G,0))","v":0},0,null,null,null,{"$f":"IF(Odds!G114=\"\",\"\",Odds!G114)","v":"Coventry"},{"$f":"INDEX(Odds!H:H,MATCH(R114,Odds!G:G,0))","v":"13/5"},0,null,null,null,null,null,null,null,{"$f":"IF(O114=\"\",\"\",INDEX(Odds!H:H,MATCH(O114,Odds!G:G,0)))","v":""},{"$f":"IF(J114=\"\",\"\",INDEX(Odds!K:K,MATCH(J114,Odds!G:G,0)))","v":1}]
[{"$f":"A113","v":"Mark Bunn"},"Stevenage",{"$f":"IF(J115=\"\",\"\",INDEX(Odds!C:C,MATCH(J115,Odds!G:G,0)))","v":"1900-01-07"},2.6,"x",null,null,null,null,"Stevenage",{"$f":"INDEX(Odds!H:H,MATCH(J115,Odds!G:G,0))","v":"8/5"},{"$f":"INDEX(Odds!I:I,MATCH(J115,Odds!G:G,0))","v":2.6},{"$f":"INDEX(Odds!J:J,MATCH(J115,Odds!G:G,0))","v":0},0,null,null,null,{"$f":"IF(Odds!G115=\"\",\"\",Odds!G115)","v":"Bolton"},{"$f":"INDEX(Odds!H:H,MATCH(R115,Odds!G:G,0))","v":"13/10"},0,null,null,null,null,null,null,null,{"$f":"IF(O115=\"\",\"\",INDEX(Odds!H:H,MATCH(O115,Odds!G:G,0)))","v":""},{"$f":"IF(J115=\"\",\"\",INDEX(Odds!K:K,MATCH(J115,Odds!G:G,0)))","v":1}]
[{"$f":"Results!B116","v":"Mark Saunders"},"Liverpool draw",{"$f":"IF(J116=\"\",\"\",INDEX(Odds!C:C,MATCH(J116,Odds!G:G,0)))","v":"1900-01-07"},3.3,"√",{"$f":"IF(J116=\"\",-10,INDEX(Results!T:T,MATCH(A116,Results!V:V,0)))","v":4.8999999999999986},{"$f":"IF(J116=\"\",\"\",INDEX(Results!AI:AI,MATCH(A116,Results!V:V,0)))","v":30.700000000000003},{"$f":"IF(G116=\"\",0,1)","v":1},{"$f":"INDEX(Picks!AG:AG,MATCH(A116,Picks!AD:AD,0))","v":11},"Liverpool draw",{"$f":"INDEX(Odds!H:H,MATCH(J116,Odds!G:G,0))","v":"23/10"},{"$f":"INDEX(Odds!I:I,MATCH(J116,Odds!G:G,0))","v":3.3},{"$f":"INDEX(Odds!J:J,MATCH(J116,Odds!G:G,0))","v":1},3.3,null,null,null,{"$f":"IF(Odds!G116=\"\",\"\",Odds!G116)","v":"Crewe"},{"$f":"INDEX(Odds!H:H,MATCH(R116,Odds!G:G,0))","v":"16/5"},0,null,null,null,null,null,null,null,{"$f":"IF(O116=\"\",\"\",INDEX(Odds!H:H,MATCH(O116,Odds!G:G,0)))","v":""},{"$f":"IF(J116=\"\",\"\",INDEX(Odds!K:K,MATCH(J116,Odds!G:G,0)))","v":1}]
[{"$f":"A116","v":"Mark Saunders"},"Villa",{"$f":"IF(J117=\"\",\"\",INDEX(Odds!C:C,MATCH(J117,Odds!G:G,0)))","v":"1900-01-07"},2,"x",null,null,null,null,"Villa",{"$f":"INDEX(Odds!H:H,MATCH(J117,Odds!G:G,0))","v":"1/1"},{"$f":"INDEX(Odds!I:I,MATCH(J117,Odds!G:G,0))","v":2},{"$f":"INDEX(Odds!J:J,MATCH(J117,Odds!G:G,0))","v":0},0,null,null,null,{"$f":"IF(Odds!G117=\"\",\"\",Odds!G117)","v":"Wimbledon"},{"$f":"INDEX(Odds!H:H,MATCH(R117,Odds!G:G,0))","v":"29/10"},0,null,null,null,null,null,null,null,{"$f":"IF(O117=\"\",\"\",INDEX(Odds!H:H,MATCH(O117,Odds!G:G,0)))","v":""},{"$f":"IF(J117=\"\",\"\",INDEX(Odds!K:K,MATCH(J117,Odds!G:G,0)))","v":1}]
[{"$f":"A116","v":"Mark Saunders"},"Fulham",{"$f":"IF(J118=\"\",\"\",INDEX(Odds!C:C,MATCH(J118,Odds!G:G,0)))","v":"1900-01-07"},2,"√",null,null,null,null,"Fulham",{"$f":"INDEX(Odds!H:H,MATCH(J118,Odds!G:G,0))","v":"1/1"},{"$f":"INDEX(Odds!I:I,MATCH(J118,Odds!G:G,0))","v":2},{"$f":"INDEX(Odds!J:J,MATCH(J118,Odds!G:G,0))","v":1},2,null,null,null,{"$f":"IF(Odds!G118=\"\",\"\",Odds!G118)","v":"Accrington"},{"$f":"INDEX(Odds!H:H,MATCH(R118,Odds!G:G,0))","v":"12/5"},0,null,null,null,null,null,null,null,{"$f":"IF(O118=\"\",\"\",INDEX(Odds!H:H,MATCH(O118,Odds!G:G,0)))","v":""},{"$f":"IF(J118=\"\",\"\",INDEX(Odds!K:K,MATCH(J118,Odds!G:G,0)))","v":1}]
[{"$f":"Results!B119","v":"Martin Molyneux"},"Spurs",{"$f":"IF(J119=\"\",\"\",INDEX(Odds!C:C,MATCH(J119,Odds!G:G,0)))","v":"1900-01-01"},1.4,"√",{"$f":"IF(J119=\"\",-10,INDEX(Results!T:T,MATCH(A119,Results!V:V,0)))","v":15.219999999999999},{"$f":"IF(J119=\"\",\"\",INDEX(Results!AI:AI,MATCH(A119,Results!V:V,0)))","v":15.219999999999999},{"$f":"IF(G119=\"\",0,1)","v":1},{"$f":"INDEX(Picks!AG:AG,MATCH(A119,Picks!AD:AD,0))","v":4},"Spurs",{"$f":"INDEX(Odds!H:H,MATCH(J119,Odds!G:G,0))","v":"2/5"},{"$f":"INDEX(Odds!I:I,MATCH(J119,Odds!G:G,0))","v":1.4},{"$f":"INDEX(Odds!J:J,MATCH(J119,Odds!G:G,0))","v":1},1.4,null,null,null,{"$f":"IF(Odds!G119=\"\",\"\",Odds!G119)","v":"Sheff W"},{"$f":"INDEX(Odds!H:H,MATCH(R119,Odds!G:G,0))","v":"10/11"},0,null,null,null,null,null,null,null,{"$f":"IF(O119=\"\",\"\",INDEX(Odds!H:H,MATCH(O119,Odds!G:G,0)))","v":""},{"$f":"IF(J119=\"\",\"\",INDEX(Odds!K:K,MATCH(J119,Odds!G:G,0)))","v":1}]
[{"$f":"A119","v":"Martin Molyneux"},"Man C",{"$f":"IF(J120=\"\",\"\",INDEX(Odds!C:C,MATCH(J120,Odds!G:G,0)))","v":"1900-01-07"},1.25,"√",null,null,null,null,"Man C",{"$f":"INDEX(Odds!H:H,MATCH(J120,Odds!G:G,0))","v":"1/4"},{"$f":"INDEX(Odds!I:I,MATCH(J120,Odds!G:G,0))","v":1.25},{"$f":"INDEX(Odds!J:J,MATCH(J120,Odds!G:G,0))","v":1},1.25,null,null,null,{"$f":"IF(Odds!G120=\"\",\"\",Odds!G120)","v":"Lincoln"},{"$f":"INDEX(Odds!H:H,MATCH(R120,Odds!G:G,0))","v":"12/5"},0,null,null,null,null,null,null,null,{"$f":"IF(O120=\"\",\"\",INDEX(Odds!H:H,MATCH(O120,Odds!G:G,0)))","v":""},{"$f":"IF(J120=\"\",\"\",INDEX(Odds!K:K,MATCH(J120,Odds!G:G,0)))","v":1}]
[{"$f":"A119","v":"Martin Molyneux"},"Liverpool DRAW",{"$f":"IF(J121=\"\",\"\",INDEX(Odds!C:C,MATCH(J121,Odds!G:G,0)))","v":"1900-01-07"},3.3,"√",null,null,null,null,"Liverpool DRAW",{"$f":"INDEX(Odds!H:H,MATCH(J121,Odds!G:G,0))","v":"23/10"},{"$f":"INDEX(Odds!I:I,MATCH(J121,Odds!G:G,0))","v":3.3},{"$f":"INDEX(Odds!J:J,MATCH(J121,Odds!G:G,0))","v":1},3.3,null,null,null,{"$f":"IF(Odds!G121=\"\",\"\",Odds!G121)","v":"Fleetwood"},{"$f":"INDEX(Odds!H:H,MATCH(R121,Odds!G:G,0))","v":"19/10"},0,null,null,null,null,null,null,null,{"$f":"IF(O121=\"\",\"\",INDEX(Odds!H:H,MATCH(O121,Odds!G:G,0)))","v":""},{"$f":"IF(J121=\"\",\"\",INDEX(Odds!K:K,MATCH(J121,Odds!G:G,0)))","v":1}]
[{"$f":"Results!B122","v":"Martin Tarbuck"},"Sheff U",{"$f":"IF(J122=\"\",\"\",INDEX(Odds!C:C,MATCH(J122,Odds!G:G,0)))","v":"1900-01-07"},2.375,"x",{"$f":"IF(J122=\"\",-10,INDEX(Results!T:T,MATCH(A122,Results!V:V,0)))","v":-7},{"$f":"IF(J122=\"\",\"\",INDEX(Results!AI:AI,MATCH(A122,Results!V:V,0)))","v":25.344999999999999},{"$f":"IF(G122=\"\",0,1)","v":1},{"$f":"INDEX(Picks!AG:AG,MATCH(A122,Picks!AD:AD,0))","v":46},"Sheff U",{"$f":"INDEX(Odds!H:H,MATCH(J122,Odds!G:G,0))","v":"11/8"},{"$f":"INDEX(Odds!I:I,MATCH(J122,Odds!G:G,0))","v":2.375},{"$f":"INDEX(Odds!J:J,MATCH(J122,Odds!G:G,0))","v":0},0,null,null,null,{"$f":"IF(Odds!G122=\"\",\"\",Odds!G122)","v":"Doncaster"},{"$f":"INDEX(Odds!H:H,MATCH(R122,Odds!G:G,0))","v":"9/2"},0,null,null,null,null,null,null,null,{"$f":"IF(O122=\"\",\"\",INDEX(Odds!H:H,MATCH(O122,Odds!G:G,0)))","v":""},{"$f":"IF(J122=\"\",\"\",INDEX(Odds!K:K,MATCH(J122,Odds!G:G,0)))","v":1}]
[{"$f":"A122","v":"Martin Tarbuck"},"West Ham",{"$f":"IF(J123=\"\",\"\",INDEX(Odds!C:C,MATCH(J123,Odds!G:G,0)))","v":"1900-01-07"},1.6,"x",null,null,null,null,"West Ham",{"$f":"INDEX(Odds!H:H,MATCH(J123,Odds!G:G,0))","v":"6/10"},{"$f":"INDEX(Odds!I:I,MATCH(J123,Odds!G:G,0))","v":1.6},{"$f":"INDEX(Odds!J:J,MATCH(J123,Odds!G:G,0))","v":0},0,null,null,null,{"$f":"IF(Odds!G123=\"\",\"\",Odds!G123)","v":"Gillingham"},{"$f":"INDEX(Odds!H:H,MATCH(R123,Odds!G:G,0))","v":"15/8"},0,null,null,null,null,null,null,null,{"$f":"IF(O123=\"\",\"\",INDEX(Odds!H:H,MATCH(O123,Odds!G:G,0)))","v":""},{"$f":"IF(J123=\"\",\"\",INDEX(Odds!K:K,MATCH(J123,Odds!G:G,0)))","v":1}]
[{"$f":"A122","v":"Martin Tarbuck"},"Swansea",{"$f":"IF(J124=\"\",\"\",INDEX(Odds!C:C,MATCH(J124,Odds!G:G,0)))","v":"1900-01-07"},2.8,"x",null,null,null,null,"Swansea",{"$f":"INDEX(Odds!H:H,MATCH(J124,Odds!G:G,0))","v":"9/5"},{"$f":"INDEX(Odds!I:I,MATCH(J124,Odds!G:G,0))","v":2.8},{"$f":"INDEX(Odds!J:J,MATCH(J124,Odds!G:G,0))","v":0},0,null,null,null,{"$f":"IF(Odds!G124=\"\",\"\",Odds!G124)","v":"Wycombe"},{"$f":"INDEX(Odds!H:H,MATCH(R124,Odds!G:G,0))","v":"14/5"},0,null,null,null,null,null,null,null,{"$f":"IF(O124=\"\",\"\",INDEX(Odds!H:H,MATCH(O124,Odds!G:G,0)))","v":""},{"$f":"IF(J124=\"\",\"\",INDEX(Odds!K:K,MATCH(J124,Odds!G:G,0)))","v":1}]
[{"$f":"Results!B125","v":"Mike Penk"},"Leeds",{"$f":"IF(J125=\"\",\"\",INDEX(Odds!C:C,MATCH(J125,Odds!G:G,0)))","v":"1900-01-01"},2.25,"x",{"$f":"IF(J125=\"\",-10,INDEX(Results!T:T,MATCH(A125,Results!V:V,0)))","v":-7},{"$f":"IF(J125=\"\",\"\",INDEX(Results!AI:AI,MATCH(A125,Results!V:V,0)))","v":42.634999999999998},{"$f":"IF(G125=\"\",0,1)","v":1},{"$f":"INDEX(Picks!AG:AG,MATCH(A125,Picks!AD:AD,0))","v":46},"Leeds",{"$f":"INDEX(Odds!H:H,MATCH(J125,Odds!G:G,0))","v":"5/4"},{"$f":"INDEX(Odds!I:I,MATCH(J125,Odds!G:G,0))","v":2.25},{"$f":"INDEX(Odds!J:J,MATCH(J125,Odds!G:G,0))","v":0},0,null,null,null,{"$f":"IF(Odds!G125=\"\",\"\",Odds!G125)","v":"Portsmouth"},{"$f":"INDEX(Odds!H:H,MATCH(R125,Odds!G:G,0))","v":"15/8"},0,null,null,null,null,null,null,null,{"$f":"IF(O125=\"\",\"\",INDEX(Odds!H:H,MATCH(O125,Odds!G:G,0)))","v":""},{"$f":"IF(J125=\"\",\"\",INDEX(Odds!K:K,MATCH(J125,Odds!G:G,0)))","v":1}]
[{"$f":"A125","v":"Mike Penk"},"Swansea",{"$f":"IF(J126=\"\",\"\",INDEX(Odds!C:C,MATCH(J126,Odds!G:G,0)))","v":"1900-01-07"},2.8,"x",null,null,null,null,"Swansea",{"$f":"INDEX(Odds!H:H,MATCH(J126,Odds!G:G,0))","v":"9/5"},{"$f":"INDEX(Odds!I:I,MATCH(J126,Odds!G:G,0))","v":2.8},{"$f":"INDEX(Odds!J:J,MATCH(J126,Odds!G:G,0))","v":0},0,null,null,null,{"$f":"IF(Odds!G126=\"\",\"\",Odds!G126)","v":"Bristol R"},{"$f":"INDEX(Odds!H:H,MATCH(R126,Odds!G:G,0))","v":"2/1"},0,null,null,null,null,null,null,null,{"$f":"IF(O126=\"\",\"\",INDEX(Odds!H:H,MATCH(O126,Odds!G:G,0)))","v":""},{"$f":"IF(J126=\"\",\"\",INDEX(Odds!K:K,MATCH(J126,Odds!G:G,0)))","v":1}]
[{"$f":"A125","v":"Mike Penk"},"Wigan draw",{"$f":"IF(J127=\"\",\"\",INDEX(Odds!C:C,MATCH(J127,Odds!G:G,0)))","v":"1900-01-07"},3.1,"x",null,null,null,null,"Wigan draw",{"$f":"INDEX(Odds!H:H,MATCH(J127,Odds!G:G,0))","v":"21/10"},{"$f":"INDEX(Odds!I:I,MATCH(J127,Odds!G:G,0))","v":3.1},{"$f":"INDEX(Odds!J:J,MATCH(J127,Odds!G:G,0))","v":0},0,null,null,null,{"$f":"IF(Odds!G127=\"\",\"\",Odds!G127)","v":"Northampton"},{"$f":"INDEX(Odds!H:H,MATCH(R127,Odds!G:G,0))","v":"29/20"},0,null,null,null,null,null,null,null,{"$f":"IF(O127=\"\",\"\",INDEX(Odds!H:H,MATCH(O127,Odds!G:G,0)))","v":""},{"$f":"IF(J127=\"\",\"\",INDEX(Odds!K:K,MATCH(J127,Odds!G:G,0)))","v":1}]
[{"$f":"Results!B128","v":"Mo Sudell"},"Forest green",{"$f":"IF(J128=\"\",\"\",INDEX(Odds!C:C,MATCH(J128,Odds!G:G,0)))","v":"1900-01-07"},2.15,"x",{"$f":"IF(J128=\"\",-10,INDEX(Results!T:T,MATCH(A128,Results!V:V,0)))","v":-4.4000000000000004},{"$f":"IF(J128=\"\",\"\",INDEX(Results!AI:AI,MATCH(A128,Results!V:V,0)))","v":21.484000000000002},{"$f":"IF(G128=\"\",0,1)","v":1},{"$f":"INDEX(Picks!AG:AG,MATCH(A128,Picks!AD:AD,0))","v":31},"Forest green",{"$f":"INDEX(Odds!H:H,MATCH(J128,Odds!G:G,0))","v":"23/20"},{"$f":"INDEX(Odds!I:I,MATCH(J128,Odds!G:G,0))","v":2.15},{"$f":"INDEX(Odds!J:J,MATCH(J128,Odds!G:G,0))","v":0},0,null,null,null,{"$f":"IF(Odds!G128=\"\",\"\",Odds!G128)","v":"Port Vale"},{"$f":"INDEX(Odds!H:H,MATCH(R128,Odds!G:G,0))","v":"27/10"},1,null,null,null,null,null,null,null,{"$f":"IF(O128=\"\",\"\",INDEX(Odds!H:H,MATCH(O128,Odds!G:G,0)))","v":""},{"$f":"IF(J128=\"\",\"\",INDEX(Odds!K:K,MATCH(J128,Odds!G:G,0)))","v":1}]
[{"$f":"A128","v":"Mo Sudell"},"West Ham",{"$f":"IF(J129=\"\",\"\",INDEX(Odds!C:C,MATCH(J129,Odds!G:G,0)))","v":"1900-01-07"},1.6,"x",null,null,null,null,"West Ham",{"$f":"INDEX(Odds!H:H,MATCH(J129,Odds!G:G,0))","v":"6/10"},{"$f":"INDEX(Odds!I:I,MATCH(J129,Odds!G:G,0))","v":1.6},{"$f":"INDEX(Odds!J:J,MATCH(J129,Odds!G:G,0))","v":0},0,null,null,null,{"$f":"IF(Odds!G129=\"\",\"\",Odds!G129)","v":"Exeter"},{"$f":"INDEX(Odds!H:H,MATCH(R129,Odds!G:G,0))","v":"13/8"},0,null,null,null,null,null,null,null,{"$f":"IF(O129=\"\",\"\",INDEX(Odds!H:H,MATCH(O129,Odds!G:G,0)))","v":""},{"$f":"IF(J129=\"\",\"\",INDEX(Odds!K:K,MATCH(J129,Odds!G:G,0)))","v":1}]
[{"$f":"A128","v":"Mo Sudell"},"Wigan",{"$f":"IF(J130=\"\",\"\",INDEX(Odds!C:C,MATCH(J130,Odds!G:G,0)))","v":"1900-01-07"},2.6,"√",null,null,null,null,"Wigan",{"$f":"INDEX(Odds!H:H,MATCH(J130,Odds!G:G,0))","v":"8/5"},{"$f":"INDEX(Odds!I:I,MATCH(J130,Odds!G:G,0))","v":2.6},{"$f":"INDEX(Odds!J:J,MATCH(J130,Odds!G:G,0))","v":1},2.6,null,null,null,{"$f":"IF(Odds!G130=\"\",\"\",Odds!G130)","v":"Carlisle"},{"$f":"INDEX(Odds!H:H,MATCH(R130,Odds!G:G,0))","v":"6/4"},0,null,null,null,null,null,null,null,{"$f":"IF(O130=\"\",\"\",INDEX(Odds!H:H,MATCH(O130,Odds!G:G,0)))","v":""},{"$f":"IF(J130=\"\",\"\",INDEX(Odds!K:K,MATCH(J130,Odds!G:G,0)))","v":1}]
[{"$f":"Results!B131","v":"Nick Blocksidge"},"Burnley draw",{"$f":"IF(J131=\"\",\"\",INDEX(Odds!C:C,MATCH(J131,Odds!G:G,0)))","v":"1900-01-01"},3.5,{"$f":"IF(J131=\"\",\"\",IF(M131=1,\"√\",\"x\"))","v":"√"},{"$f":"IF(J131=\"\",-10,INDEX(Results!T:T,MATCH(A131,Results!V:V,0)))","v":22.24},{"$f":"IF(J131=\"\",\"\",INDEX(Results!AI:AI,MATCH(A131,Results!V:V,0)))","v":22.24},{"$f":"IF(G131=\"\",0,1)","v":1},{"$f":"INDEX(Picks!AG:AG,MATCH(A131,Picks!AD:AD,0))","v":3},"Burnley draw",{"$f":"INDEX(Odds!H:H,MATCH(J131,Odds!G:G,0))","v":"5/2"},{"$f":"INDEX(Odds!I:I,MATCH(J131,Odds!G:G,0))","v":3.5},{"$f":"INDEX(Odds!J:J,MATCH(J131,Odds!G:G,0))","v":1},3.5,null,null,null,{"$f":"IF(Odds!G131=\"\",\"\",Odds!G131)","v":"Bradford"},{"$f":"INDEX(Odds!H:H,MATCH(R131,Odds!G:G,0))","v":"21/10"},0,null,null,null,null,null,null,null,{"$f":"IF(O131=\"\",\"\",INDEX(Odds!H:H,MATCH(O131,Odds!G:G,0)))","v":""},{"$f":"IF(J131=\"\",\"\",INDEX(Odds!K:K,MATCH(J131,Odds!G:G,0)))","v":1}]
[{"$f":"A131","v":"Nick Blocksidge"},"Spurs",{"$f":"IF(J132=\"\",\"\",INDEX(Odds!C:C,MATCH(J132,Odds!G:G,0)))","v":"1900-01-01"},1.4,"√",null,null,null,null,"Spurs",{"$f":"INDEX(Odds!H:H,MATCH(J132,Odds!G:G,0))","v":"2/5"},{"$f":"INDEX(Odds!I:I,MATCH(J132,Odds!G:G,0))","v":1.4},{"$f":"INDEX(Odds!J:J,MATCH(J132,Odds!G:G,0))","v":1},1.4,null,null,null,{"$f":"IF(Odds!G132=\"\",\"\",Odds!G132)","v":"Newport"},{"$f":"INDEX(Odds!H:H,MATCH(R132,Odds!G:G,0))","v":"29/20"},0,null,null,null,null,null,null,null,{"$f":"IF(O132=\"\",\"\",INDEX(Odds!H:H,MATCH(O132,Odds!G:G,0)))","v":""},{"$f":"IF(J132=\"\",\"\",INDEX(Odds!K:K,MATCH(J132,Odds!G:G,0)))","v":1}]
[{"$f":"A131","v":"Nick Blocksidge"},"Man U",{"$f":"IF(J133=\"\",\"\",INDEX(Odds!C:C,MATCH(J133,Odds!G:G,0)))","v":"1900-01-01"},1.8,"√",null,null,null,null,"Man U",{"$f":"INDEX(Odds!H:H,MATCH(J133,Odds!G:G,0))","v":"4/5"},{"$f":"INDEX(Odds!I:I,MATCH(J133,Odds!G:G,0))","v":1.8},{"$f":"INDEX(Odds!J:J,MATCH(J133,Odds!G:G,0))","v":1},1.8,null,null,null,{"$f":"IF(Odds!G133=\"\",\"\",Odds!G133)","v":"Tranmere"},{"$f":"INDEX(Odds!H:H,MATCH(R133,Odds!G:G,0))","v":"11/10"},0,null,null,null,null,null,null,null,{"$f":"IF(O133=\"\",\"\",INDEX(Odds!H:H,MATCH(O133,Odds!G:G,0)))","v":""},{"$f":"IF(J133=\"\",\"\",INDEX(Odds!K:K,MATCH(J133,Odds!G:G,0)))","v":1}]
[{"$f":"Results!B134","v":"Nigel Heyes"},"Wigan",{"$f":"IF(J134=\"\",\"\",INDEX(Odds!C:C,MATCH(J134,Odds!G:G,0)))","v":"1900-01-07"},2.6,"√",{"$f":"IF(J134=\"\",-10,INDEX(Results!T:T,MATCH(A134,Results!V:V,0)))","v":3.16},{"$f":"IF(J134=\"\",\"\",INDEX(Results!AI:AI,MATCH(A134,Results!V:V,0)))","v":27.154000000000003},{"$f":"IF(G134=\"\",0,1)","v":1},{"$f":"INDEX(Picks!AG:AG,MATCH(A134,Picks!AD:AD,0))","v":14},"Wigan",{"$f":"INDEX(Odds!H:H,MATCH(J134,Odds!G:G,0))","v":"8/5"},{"$f":"INDEX(Odds!I:I,MATCH(J134,Odds!G:G,0))","v":2.6},{"$f":"INDEX(Odds!J:J,MATCH(J134,Odds!G:G,0))","v":1},2.6,null,null,null,{"$f":"IF(Odds!G134=\"\",\"\",Odds!G134)","v":"Oldham"},{"$f":"INDEX(Odds!H:H,MATCH(R134,Odds!G:G,0))","v":"13/5"},1,null,null,null,null,null,null,null,{"$f":"IF(O134=\"\",\"\",INDEX(Odds!H:H,MATCH(O134,Odds!G:G,0)))","v":""},{"$f":"IF(J134=\"\",\"\",INDEX(Odds!K:K,MATCH(J134,Odds!G:G,0)))","v":1}]
[{"$f":"A134","v":"Nigel Heyes"},"Oxford",{"$f":"IF(J135=\"\",\"\",INDEX(Odds!C:C,MATCH(J135,Odds!G:G,0)))","v":"1900-01-07"},2.1,"√",null,null,null,null,"Oxford",{"$f":"INDEX(Odds!H:H,MATCH(J135,Odds!G:G,0))","v":"11/10"},{"$f":"INDEX(Odds!I:I,MATCH(J135,Odds!G:G,0))","v":2.1},{"$f":"INDEX(Odds!J:J,MATCH(J135,Odds!G:G,0))","v":1},2.1,null,null,null,{"$f":"IF(Odds!G135=\"\",\"\",Odds!G135)","v":"Mansfield"},{"$f":"INDEX(Odds!H:H,MATCH(R135,Odds!G:G,0))","v":"13/10"},0,null,null,null,null,null,null,null,{"$f":"IF(O135=\"\",\"\",INDEX(Odds!H:H,MATCH(O135,Odds!G:G,0)))","v":""},{"$f":"IF(J135=\"\",\"\",INDEX(Odds!K:K,MATCH(J135,Odds!G:G,0)))","v":1}]
[{"$f":"A134","v":"Nigel Heyes"},"Forest Green",{"$f":"IF(J136=\"\",\"\",INDEX(Odds!C:C,MATCH(J136,Odds!G:G,0)))","v":"1900-01-07"},2.15,"x",null,null,null,null,"Forest Green",{"$f":"INDEX(Odds!H:H,MATCH(J136,Odds!G:G,0))","v":"23/20"},{"$f":"INDEX(Odds!I:I,MATCH(J136,Odds!G:G,0))","v":2.15},{"$f":"INDEX(Odds!J:J,MATCH(J136,Odds!G:G,0))","v":0},0,null,null,null,{"$f":"IF(Odds!G136=\"\",\"\",Odds!G136)","v":"Stevenage"},{"$f":"INDEX(Odds!H:H,MATCH(R136,Odds!G:G,0))","v":"8/5"},0,null,null,null,null,null,null,null,{"$f":"IF(O136=\"\",\"\",INDEX(Odds!H:H,MATCH(O136,Odds!G:G,0)))","v":""},{"$f":"IF(J136=\"\",\"\",INDEX(Odds!K:K,MATCH(J136,Odds!G:G,0)))","v":1}]
[{"$f":"Results!B137","v":"Oscar Jackson"},"Plymouth",{"$f":"IF(J137=\"\",\"\",INDEX(Odds!C:C,MATCH(J137,Odds!G:G,0)))","v":"1900-01-07"},2.4500000000000002,"x",{"$f":"IF(J137=\"\",-10,INDEX(Results!T:T,MATCH(A137,Results!V:V,0)))","v":-7},{"$f":"IF(J137=\"\",\"\",INDEX(Results!AI:AI,MATCH(A137,Results!V:V,0)))","v":25.689250000000001},{"$f":"IF(G137=\"\",0,1)","v":1},{"$f":"INDEX(Picks!AG:AG,MATCH(A137,Picks!AD:AD,0))","v":46},"Plymouth",{"$f":"INDEX(Odds!H:H,MATCH(J137,Odds!G:G,0))","v":"29/20"},{"$f":"INDEX(Odds!I:I,MATCH(J137,Odds!G:G,0))","v":2.4500000000000002},{"$f":"INDEX(Odds!J:J,MATCH(J137,Odds!G:G,0))","v":0},0,null,null,null,{"$f":"IF(Odds!G137=\"\",\"\",Odds!G137)","v":"Leeds"},{"$f":"INDEX(Odds!H:H,MATCH(R137,Odds!G:G,0))","v":"5/4"},0,null,null,null,null,null,null,null,{"$f":"IF(O137=\"\",\"\",INDEX(Odds!H:H,MATCH(O137,Odds!G:G,0)))","v":""},{"$f":"IF(J137=\"\",\"\",INDEX(Odds!K:K,MATCH(J137,Odds!G:G,0)))","v":1}]
[{"$f":"A137","v":"Oscar Jackson"},"Forest Green",{"$f":"IF(J138=\"\",\"\",INDEX(Odds!C:C,MATCH(J138,Odds!G:G,0)))","v":"1900-01-07"},2.15,"x",null,null,null,null,"Forest Green",{"$f":"INDEX(Odds!H:H,MATCH(J138,Odds!G:G,0))","v":"23/20"},{"$f":"INDEX(Odds!I:I,MATCH(J138,Odds!G:G,0))","v":2.15},{"$f":"INDEX(Odds!J:J,MATCH(J138,Odds!G:G,0))","v":0},0,null,null,null,{"$f":"IF(Odds!G138=\"\",\"\",Odds!G138)","v":"Watford"},{"$f":"INDEX(Odds!H:H,MATCH(R138,Odds!G:G,0))","v":"15/2"},0,null,null,null,null,null,null,null,{"$f":"IF(O138=\"\",\"\",INDEX(Odds!H:H,MATCH(O138,Odds!G:G,0)))","v":""},{"$f":"IF(J138=\"\",\"\",INDEX(Odds!K:K,MATCH(J138,Odds!G:G,0)))","v":1}]
[{"$f":"A137","v":"Oscar Jackson"},"Sutton",{"$f":"IF(J139=\"\",\"\",INDEX(Odds!C:C,MATCH(J139,Odds!G:G,0)))","v":"1900-01-07"},2.1,"x",null,null,null,null,"Sutton",{"$f":"INDEX(Odds!H:H,MATCH(J139,Odds!G:G,0))","v":"11/10"},{"$f":"INDEX(Odds!I:I,MATCH(J139,Odds!G:G,0))","v":2.1},{"$f":"INDEX(Odds!J:J,MATCH(J139,Odds!G:G,0))","v":0},0,null,null,null,{"$f":"IF(Odds!G139=\"\",\"\",Odds!G139)","v":"Man U"},{"$f":"INDEX(Odds!H:H,MATCH(R139,Odds!G:G,0))","v":"4/5"},1,null,null,null,null,null,null,null,{"$f":"IF(O139=\"\",\"\",INDEX(Odds!H:H,MATCH(O139,Odds!G:G,0)))","v":""},{"$f":"IF(J139=\"\",\"\",INDEX(Odds!K:K,MATCH(J139,Odds!G:G,0)))","v":1}]
[{"$f":"Results!B140","v":"Paul Adderley"},"Fulham",{"$f":"IF(J140=\"\",\"\",INDEX(Odds!C:C,MATCH(J140,Odds!G:G,0)))","v":"1900-01-07"},2,"√",{"$f":"IF(J140=\"\",-10,INDEX(Results!T:T,MATCH(A140,Results!V:V,0)))","v":1.4499999999999993},{"$f":"IF(J140=\"\",\"\",INDEX(Results!AI:AI,MATCH(A140,Results!V:V,0)))","v":22.240000000000002},{"$f":"IF(G140=\"\",0,1)","v":1},{"$f":"INDEX(Picks!AG:AG,MATCH(A140,Picks!AD:AD,0))","v":18},"Fulham",{"$f":"INDEX(Odds!H:H,MATCH(J140,Odds!G:G,0))","v":"1/1"},{"$f":"INDEX(Odds!I:I,MATCH(J140,Odds!G:G,0))","v":2},{"$f":"INDEX(Odds!J:J,MATCH(J140,Odds!G:G,0))","v":1},2,null,null,null,null,null,null,null,null,null,null,null,null,null,{"$f":"IF(O140=\"\",\"\",INDEX(Odds!H:H,MATCH(O140,Odds!G:G,0)))","v":""},{"$f":"IF(J140=\"\",\"\",INDEX(Odds!K:K,MATCH(J140,Odds!G:G,0)))","v":1}]
[{"$f":"A140","v":"Paul Adderley"},"Middlesbro",{"$f":"IF(J141=\"\",\"\",INDEX(Odds!C:C,MATCH(J141,Odds!G:G,0)))","v":"1900-01-07"},2.2000000000000002,"x",null,null,null,null,"Middlesbro",{"$f":"INDEX(Odds!H:H,MATCH(J141,Odds!G:G,0))","v":"6/5"},{"$f":"INDEX(Odds!I:I,MATCH(J141,Odds!G:G,0))","v":2.2000000000000002},{"$f":"INDEX(Odds!J:J,MATCH(J141,Odds!G:G,0))","v":0},0,null,null,null,null,null,null,null,null,null,null,null,null,null,{"$f":"IF(O141=\"\",\"\",INDEX(Odds!H:H,MATCH(O141,Odds!G:G,0)))","v":""},{"$f":"IF(J141=\"\",\"\",INDEX(Odds!K:K,MATCH(J141,Odds!G:G,0)))","v":1}]
[{"$f":"A140","v":"Paul Adderley"},"QPR",{"$f":"IF(J142=\"\",\"\",INDEX(Odds!C:C,MATCH(J142,Odds!G:G,0)))","v":"1900-01-07"},2.15,"√",null,null,null,null,"QPR",{"$f":"INDEX(Odds!H:H,MATCH(J142,Odds!G:G,0))","v":"23/20"},{"$f":"INDEX(Odds!I:I,MATCH(J142,Odds!G:G,0))","v":2.15},{"$f":"INDEX(Odds!J:J,MATCH(J142,Odds!G:G,0))","v":1},2.15,null,null,null,null,null,null,null,null,null,null,null,null,null,{"$f":"IF(O142=\"\",\"\",INDEX(Odds!H:H,MATCH(O142,Odds!G:G,0)))","v":""},{"$f":"IF(J142=\"\",\"\",INDEX(Odds!K:K,MATCH(J142,Odds!G:G,0)))","v":1}]
[{"$f":"Results!B143","v":"Paul Allen"},"Accrington",{"$f":"IF(J143=\"\",\"\",INDEX(Odds!C:C,MATCH(J143,Odds!G:G,0)))","v":"1900-01-07"},3.4,"x",{"$f":"IF(J143=\"\",-10,INDEX(Results!T:T,MATCH(A143,Results!V:V,0)))","v":-7},{"$f":"IF(J143=\"\",\"\",INDEX(Results!AI:AI,MATCH(A143,Results!V:V,0)))","v":84.927999999999997},{"$f":"IF(G143=\"\",0,1)","v":1},{"$f":"INDEX(Picks!AG:AG,MATCH(A143,Picks!AD:AD,0))","v":46},"Accrington",{"$f":"INDEX(Odds!H:H,MATCH(J143,Odds!G:G,0))","v":"12/5"},{"$f":"INDEX(Odds!I:I,MATCH(J143,Odds!G:G,0))","v":3.4},{"$f":"INDEX(Odds!J:J,MATCH(J143,Odds!G:G,0))","v":0},0,null,null,null,null,null,null,null,null,null,null,null,null,null,{"$f":"IF(O143=\"\",\"\",INDEX(Odds!H:H,MATCH(O143,Odds!G:G,0)))","v":""},{"$f":"IF(J143=\"\",\"\",INDEX(Odds!K:K,MATCH(J143,Odds!G:G,0)))","v":1}]
[{"$f":"A143","v":"Paul Allen"},"Lincoln",{"$f":"IF(J144=\"\",\"\",INDEX(Odds!C:C,MATCH(J144,Odds!G:G,0)))","v":"1900-01-07"},3.4,"x",null,null,null,null,"Lincoln",{"$f":"INDEX(Odds!H:H,MATCH(J144,Odds!G:G,0))","v":"12/5"},{"$f":"INDEX(Odds!I:I,MATCH(J144,Odds!G:G,0))","v":3.4},{"$f":"INDEX(Odds!J:J,MATCH(J144,Odds!G:G,0))","v":0},0,null,null,null,null,null,null,null,null,null,null,null,null,null,{"$f":"IF(O144=\"\",\"\",INDEX(Odds!H:H,MATCH(O144,Odds!G:G,0)))","v":""},{"$f":"IF(J144=\"\",\"\",INDEX(Odds!K:K,MATCH(J144,Odds!G:G,0)))","v":1}]
[{"$f":"A143","v":"Paul Allen"},"Wycombe",{"$f":"IF(J145=\"\",\"\",INDEX(Odds!C:C,MATCH(J145,Odds!G:G,0)))","v":"1900-01-07"},3.8,"x",null,null,null,null,"Wycombe",{"$f":"INDEX(Odds!H:H,MATCH(J145,Odds!G:G,0))","v":"14/5"},{"$f":"INDEX(Odds!I:I,MATCH(J145,Odds!G:G,0))","v":3.8},{"$f":"INDEX(Odds!J:J,MATCH(J145,Odds!G:G,0))","v":0},0,null,null,null,null,null,null,null,null,null,null,null,null,null,{"$f":"IF(O145=\"\",\"\",INDEX(Odds!H:H,MATCH(O145,Odds!G:G,0)))","v":""},{"$f":"IF(J145=\"\",\"\",INDEX(Odds!K:K,MATCH(J145,Odds!G:G,0)))","v":1}]
[{"$f":"Results!B146","v":"Paul Barnes"},"Liverpool draw",{"$f":"IF(J146=\"\",\"\",INDEX(Odds!C:C,MATCH(J146,Odds!G:G,0)))","v":"1900-01-07"},3.3,"√",{"$f":"IF(J146=\"\",-10,INDEX(Results!T:T,MATCH(A146,Results!V:V,0)))","v":4.8999999999999986},{"$f":"IF(J146=\"\",\"\",INDEX(Results!AI:AI,MATCH(A146,Results!V:V,0)))","v":79.72},{"$f":"IF(G146=\"\",0,1)","v":1},{"$f":"INDEX(Picks!AG:AG,MATCH(A146,Picks!AD:AD,0))","v":11},"Liverpool draw",{"$f":"INDEX(Odds!H:H,MATCH(J146,Odds!G:G,0))","v":"23/10"},{"$f":"INDEX(Odds!I:I,MATCH(J146,Odds!G:G,0))","v":3.3},{"$f":"INDEX(Odds!J:J,MATCH(J146,Odds!G:G,0))","v":1},3.3,null,null,null,null,null,null,null,null,null,null,null,null,null,{"$f":"IF(O146=\"\",\"\",INDEX(Odds!H:H,MATCH(O146,Odds!G:G,0)))","v":""},{"$f":"IF(J146=\"\",\"\",INDEX(Odds!K:K,MATCH(J146,Odds!G:G,0)))","v":1}]
[{"$f":"A146","v":"Paul Barnes"},"Man C draw",{"$f":"IF(J147=\"\",\"\",INDEX(Odds!C:C,MATCH(J147,Odds!G:G,0)))","v":"1900-01-07"},5.8,"x",null,null,null,null,"Man C draw",{"$f":"INDEX(Odds!H:H,MATCH(J147,Odds!G:G,0))","v":"24/5"},{"$f":"INDEX(Odds!I:I,MATCH(J147,Odds!G:G,0))","v":5.8},{"$f":"INDEX(Odds!J:J,MATCH(J147,Odds!G:G,0))","v":0},0,null,null,null,null,null,null,null,null,null,null,null,null,null,{"$f":"IF(O147=\"\",\"\",INDEX(Odds!H:H,MATCH(O147,Odds!G:G,0)))","v":""},{"$f":"IF(J147=\"\",\"\",INDEX(Odds!K:K,MATCH(J147,Odds!G:G,0)))","v":1}]
[{"$f":"A146","v":"Paul Barnes"},"Fulham",{"$f":"IF(J148=\"\",\"\",INDEX(Odds!C:C,MATCH(J148,Odds!G:G,0)))","v":"1900-01-07"},2,"√",null,null,null,null,"Fulham",{"$f":"INDEX(Odds!H:H,MATCH(J148,Odds!G:G,0))","v":"1/1"},{"$f":"INDEX(Odds!I:I,MATCH(J148,Odds!G:G,0))","v":2},{"$f":"INDEX(Odds!J:J,MATCH(J148,Odds!G:G,0))","v":1},2,null,null,null,null,null,null,null,null,null,null,null,null,null,{"$f":"IF(O148=\"\",\"\",INDEX(Odds!H:H,MATCH(O148,Odds!G:G,0)))","v":""},{"$f":"IF(J148=\"\",\"\",INDEX(Odds!K:K,MATCH(J148,Odds!G:G,0)))","v":1}]
[{"$f":"Results!B149","v":"Paul Fairhurst"},"Rotherham draw",{"$f":"IF(J149=\"\",\"\",INDEX(Odds!C:C,MATCH(J149,Odds!G:G,0)))","v":"1900-01-07"},3.75,"x",{"$f":"IF(J149=\"\",-10,INDEX(Results!T:T,MATCH(A149,Results!V:V,0)))","v":-7},{"$f":"IF(J149=\"\",\"\",INDEX(Results!AI:AI,MATCH(A149,Results!V:V,0)))","v":181.52500000000001},{"$f":"IF(G149=\"\",0,1)","v":1},{"$f":"INDEX(Picks!AG:AG,MATCH(A149,Picks!AD:AD,0))","v":46},"Rotherham draw",{"$f":"INDEX(Odds!H:H,MATCH(J149,Odds!G:G,0))","v":"11/4"},{"$f":"INDEX(Odds!I:I,MATCH(J149,Odds!G:G,0))","v":3.75},{"$f":"INDEX(Odds!J:J,MATCH(J149,Odds!G:G,0))","v":0},{"$f":"L149*M149","v":0},null,null,null,null,null,null,null,null,null,null,null,null,null,{"$f":"IF(O149=\"\",\"\",INDEX(Odds!H:H,MATCH(O149,Odds!G:G,0)))","v":""},{"$f":"IF(J149=\"\",\"\",INDEX(Odds!K:K,MATCH(J149,Odds!G:G,0)))","v":1}]
[{"$f":"A149","v":"Paul Fairhurst"},"Hartlepool draw",{"$f":"IF(J150=\"\",\"\",INDEX(Odds!C:C,MATCH(J150,Odds!G:G,0)))","v":"1900-01-07"},3.2,"x",null,null,null,null,"Hartlepool draw",{"$f":"INDEX(Odds!H:H,MATCH(J150,Odds!G:G,0))","v":"11/5"},{"$f":"INDEX(Odds!I:I,MATCH(J150,Odds!G:G,0))","v":3.2},{"$f":"INDEX(Odds!J:J,MATCH(J150,Odds!G:G,0))","v":0},0,null,null,null,null,null,null,null,null,null,null,null,null,null,{"$f":"IF(O150=\"\",\"\",INDEX(Odds!H:H,MATCH(O150,Odds!G:G,0)))","v":""},{"$f":"IF(J150=\"\",\"\",INDEX(Odds!K:K,MATCH(J150,Odds!G:G,0)))","v":1}]
[{"$f":"A149","v":"Paul Fairhurst"},"Watford",{"$f":"IF(J151=\"\",\"\",INDEX(Odds!C:C,MATCH(J151,Odds!G:G,0)))","v":"1900-01-01"},8.5,"x",null,null,null,null,"Watford",{"$f":"INDEX(Odds!H:H,MATCH(J151,Odds!G:G,0))","v":"15/2"},{"$f":"INDEX(Odds!I:I,MATCH(J151,Odds!G:G,0))","v":8.5},{"$f":"INDEX(Odds!J:J,MATCH(J151,Odds!G:G,0))","v":0},0,null,null,null,null,null,null,null,null,null,null,null,null,null,{"$f":"IF(O151=\"\",\"\",INDEX(Odds!H:H,MATCH(O151,Odds!G:G,0)))","v":""},{"$f":"IF(J151=\"\",\"\",INDEX(Odds!K:K,MATCH(J151,Odds!G:G,0)))","v":1}]
[{"$f":"Results!B152","v":"Paul Fiddler"},"Bolton",{"$f":"IF(J152=\"\",\"\",INDEX(Odds!C:C,MATCH(J152,Odds!G:G,0)))","v":"1900-01-07"},2.2999999999999998,"x",{"$f":"IF(J152=\"\",-10,INDEX(Results!T:T,MATCH(A152,Results!V:V,0)))","v":-5.15},{"$f":"IF(J152=\"\",\"\",INDEX(Results!AI:AI,MATCH(A152,Results!V:V,0)))","v":19.36},{"$f":"IF(G152=\"\",0,1)","v":1},{"$f":"INDEX(Picks!AG:AG,MATCH(A152,Picks!AD:AD,0))","v":39},"Bolton",{"$f":"INDEX(Odds!H:H,MATCH(J152,Odds!G:G,0))","v":"13/10"},{"$f":"INDEX(Odds!I:I,MATCH(J152,Odds!G:G,0))","v":2.2999999999999998},{"$f":"INDEX(Odds!J:J,MATCH(J152,Odds!G:G,0))","v":0},0,null,null,null,null,null,null,null,null,null,null,null,null,null,{"$f":"IF(O152=\"\",\"\",INDEX(Odds!H:H,MATCH(O152,Odds!G:G,0)))","v":""},{"$f":"IF(J152=\"\",\"\",INDEX(Odds!K:K,MATCH(J152,Odds!G:G,0)))","v":1}]
[{"$f":"A152","v":"Paul Fiddler"},"Charlton",{"$f":"IF(J153=\"\",\"\",INDEX(Odds!C:C,MATCH(J153,Odds!G:G,0)))","v":"1900-01-07"},1.85,"√",null,null,null,null,"Charlton",{"$f":"INDEX(Odds!H:H,MATCH(J153,Odds!G:G,0))","v":"17/20"},{"$f":"INDEX(Odds!I:I,MATCH(J153,Odds!G:G,0))","v":1.85},{"$f":"INDEX(Odds!J:J,MATCH(J153,Odds!G:G,0))","v":1},1.85,null,null,null,null,null,null,null,null,null,null,null,null,null,{"$f":"IF(O153=\"\",\"\",INDEX(Odds!H:H,MATCH(O153,Odds!G:G,0)))","v":""},{"$f":"IF(J153=\"\",\"\",INDEX(Odds!K:K,MATCH(J153,Odds!G:G,0)))","v":1}]
[{"$f":"A152","v":"Paul Fiddler"},{"$f":"IF(J154=\"\",\"\",J154)","v":"Sheff W"},{"$f":"IF(J154=\"\",\"\",INDEX(Odds!C:C,MATCH(J154,Odds!G:G,0)))","v":"1900-01-07"},1.9090909090909092,"x",null,null,null,null,"Sheff W",{"$f":"INDEX(Odds!H:H,MATCH(J154,Odds!G:G,0))","v":"10/11"},{"$f":"INDEX(Odds!I:I,MATCH(J154,Odds!G:G,0))","v":1.9090909090909092},{"$f":"INDEX(Odds!J:J,MATCH(J154,Odds!G:G,0))","v":0},0,null,null,null,null,null,null,null,null,null,null,null,null,null,{"$f":"IF(O154=\"\",\"\",INDEX(Odds!H:H,MATCH(O154,Odds!G:G,0)))","v":""},{"$f":"IF(J154=\"\",\"\",INDEX(Odds!K:K,MATCH(J154,Odds!G:G,0)))","v":1}]
[{"$f":"Results!B155","v":"Pete Baron"},"Brighton draw",{"$f":"IF(J155=\"\",\"\",INDEX(Odds!C:C,MATCH(J155,Odds!G:G,0)))","v":"1900-01-07"},3.2,"x",{"$f":"IF(J155=\"\",-10,INDEX(Results!T:T,MATCH(A155,Results!V:V,0)))","v":9.1999999999999993},{"$f":"IF(J155=\"\",\"\",INDEX(Results!AI:AI,MATCH(A155,Results!V:V,0)))","v":64.239999999999995},{"$f":"IF(G155=\"\",0,1)","v":1},{"$f":"INDEX(Picks!AG:AG,MATCH(A155,Picks!AD:AD,0))","v":8},"Brighton draw",{"$f":"INDEX(Odds!H:H,MATCH(J155,Odds!G:G,0))","v":"11/5"},{"$f":"INDEX(Odds!I:I,MATCH(J155,Odds!G:G,0))","v":3.2},{"$f":"INDEX(Odds!J:J,MATCH(J155,Odds!G:G,0))","v":0},0,null,null,null,null,null,null,null,null,null,null,null,null,null,{"$f":"IF(O155=\"\",\"\",INDEX(Odds!H:H,MATCH(O155,Odds!G:G,0)))","v":""},{"$f":"IF(J155=\"\",\"\",INDEX(Odds!K:K,MATCH(J155,Odds!G:G,0)))","v":1}]
[{"$f":"A155","v":"Pete Baron"},"Liverpool draw",{"$f":"IF(J156=\"\",\"\",INDEX(Odds!C:C,MATCH(J156,Odds!G:G,0)))","v":"1900-01-07"},3.3,"√",null,null,null,null,"Liverpool draw",{"$f":"INDEX(Odds!H:H,MATCH(J156,Odds!G:G,0))","v":"23/10"},{"$f":"INDEX(Odds!I:I,MATCH(J156,Odds!G:G,0))","v":3.3},{"$f":"INDEX(Odds!J:J,MATCH(J156,Odds!G:G,0))","v":1},3.3,null,null,null,null,null,null,null,null,null,null,null,null,null,{"$f":"IF(O156=\"\",\"\",INDEX(Odds!H:H,MATCH(O156,Odds!G:G,0)))","v":""},{"$f":"IF(J156=\"\",\"\",INDEX(Odds!K:K,MATCH(J156,Odds!G:G,0)))","v":1}]
[{"$f":"A155","v":"Pete Baron"},"Derby draw",{"$f":"IF(J157=\"\",\"\",INDEX(Odds!C:C,MATCH(J157,Odds!G:G,0)))","v":"1900-01-07"},3,"√",null,null,null,null,"Derby draw",{"$f":"INDEX(Odds!H:H,MATCH(J157,Odds!G:G,0))","v":"2/1"},{"$f":"INDEX(Odds!I:I,MATCH(J157,Odds!G:G,0))","v":3},{"$f":"INDEX(Odds!J:J,MATCH(J157,Odds!G:G,0))","v":1},3,null,null,null,null,null,null,null,null,null,null,null,null,null,{"$f":"IF(O157=\"\",\"\",INDEX(Odds!H:H,MATCH(O157,Odds!G:G,0)))","v":""},{"$f":"IF(J157=\"\",\"\",INDEX(Odds!K:K,MATCH(J157,Odds!G:G,0)))","v":1}]
[{"$f":"Results!B158","v":"Phil Miller"},"Everton",{"$f":"IF(J158=\"\",\"\",INDEX(Odds!C:C,MATCH(J158,Odds!G:G,0)))","v":"1900-01-07"},3.2,"√",{"$f":"IF(J158=\"\",-10,INDEX(Results!T:T,MATCH(A158,Results!V:V,0)))","v":37.81818181818182},{"$f":"IF(J158=\"\",\"\",INDEX(Results!AI:AI,MATCH(A158,Results!V:V,0)))","v":37.81818181818182},{"$f":"IF(G158=\"\",0,1)","v":1},{"$f":"INDEX(Picks!AG:AG,MATCH(A158,Picks!AD:AD,0))","v":1},"Everton",{"$f":"INDEX(Odds!H:H,MATCH(J158,Odds!G:G,0))","v":"11/5"},{"$f":"INDEX(Odds!I:I,MATCH(J158,Odds!G:G,0))","v":3.2},{"$f":"INDEX(Odds!J:J,MATCH(J158,Odds!G:G,0))","v":1},3.2,null,null,null,null,null,null,null,null,null,null,null,null,null,{"$f":"IF(O158=\"\",\"\",INDEX(Odds!H:H,MATCH(O158,Odds!G:G,0)))","v":""},{"$f":"IF(J158=\"\",\"\",INDEX(Odds!K:K,MATCH(J158,Odds!G:G,0)))","v":1}]
[{"$f":"A158","v":"Phil Miller"},"Leicester",{"$f":"IF(J159=\"\",\"\",INDEX(Odds!C:C,MATCH(J159,Odds!G:G,0)))","v":"1900-01-07"},1.7272727272727273,"√",null,null,null,null,"Leicester",{"$f":"INDEX(Odds!H:H,MATCH(J159,Odds!G:G,0))","v":"8/11"},{"$f":"INDEX(Odds!I:I,MATCH(J159,Odds!G:G,0))","v":1.7272727272727273},{"$f":"INDEX(Odds!J:J,MATCH(J159,Odds!G:G,0))","v":1},1.7272727272727273,null,null,null,null,null,null,null,null,null,null,null,null,null,{"$f":"IF(O159=\"\",\"\",INDEX(Odds!H:H,MATCH(O159,Odds!G:G,0)))","v":""},{"$f":"IF(J159=\"\",\"\",INDEX(Odds!K:K,MATCH(J159,Odds!G:G,0)))","v":1}]
[{"$f":"A158","v":"Phil Miller"},"Derby draw",{"$f":"IF(J160=\"\",\"\",INDEX(Odds!C:C,MATCH(J160,Odds!G:G,0)))","v":"1900-01-07"},3,"√",null,null,null,null,"Derby draw",{"$f":"INDEX(Odds!H:H,MATCH(J160,Odds!G:G,0))","v":"2/1"},{"$f":"INDEX(Odds!I:I,MATCH(J160,Odds!G:G,0))","v":3},{"$f":"INDEX(Odds!J:J,MATCH(J160,Odds!G:G,0))","v":1},3,null,null,null,null,null,null,null,null,null,null,null,null,null,{"$f":"IF(O160=\"\",\"\",INDEX(Odds!H:H,MATCH(O160,Odds!G:G,0)))","v":""},{"$f":"IF(J160=\"\",\"\",INDEX(Odds!K:K,MATCH(J160,Odds!G:G,0)))","v":1}]
[{"$f":"Results!B161","v":"Rob England"},"Rotherham",{"$f":"IF(J161=\"\",\"\",INDEX(Odds!C:C,MATCH(J161,Odds!G:G,0)))","v":"1900-01-07"},1.65,"√",{"$f":"IF(J161=\"\",-10,INDEX(Results!T:T,MATCH(A161,Results!V:V,0)))","v":-0.44749999999999979},{"$f":"IF(J161=\"\",\"\",INDEX(Results!AI:AI,MATCH(A161,Results!V:V,0)))","v":22.965249999999997},{"$f":"IF(G161=\"\",0,1)","v":1},{"$f":"INDEX(Picks!AG:AG,MATCH(A161,Picks!AD:AD,0))","v":21},"Rotherham",{"$f":"INDEX(Odds!H:H,MATCH(J161,Odds!G:G,0))","v":"13/20"},{"$f":"INDEX(Odds!I:I,MATCH(J161,Odds!G:G,0))","v":1.65},{"$f":"INDEX(Odds!J:J,MATCH(J161,Odds!G:G,0))","v":1},1.65,null,null,null,null,null,null,null,null,null,null,null,null,null,{"$f":"IF(O161=\"\",\"\",INDEX(Odds!H:H,MATCH(O161,Odds!G:G,0)))","v":""},{"$f":"IF(J161=\"\",\"\",INDEX(Odds!K:K,MATCH(J161,Odds!G:G,0)))","v":1}]
[{"$f":"A161","v":"Rob England"},"West Brom",{"$f":"IF(J162=\"\",\"\",INDEX(Odds!C:C,MATCH(J162,Odds!G:G,0)))","v":"1900-01-07"},1.85,"√",null,null,null,null,"West Brom",{"$f":"INDEX(Odds!H:H,MATCH(J162,Odds!G:G,0))","v":"17/20"},{"$f":"INDEX(Odds!I:I,MATCH(J162,Odds!G:G,0))","v":1.85},{"$f":"INDEX(Odds!J:J,MATCH(J162,Odds!G:G,0))","v":1},1.85,null,null,null,null,null,null,null,null,null,null,null,null,null,{"$f":"IF(O162=\"\",\"\",INDEX(Odds!H:H,MATCH(O162,Odds!G:G,0)))","v":""},{"$f":"IF(J162=\"\",\"\",INDEX(Odds!K:K,MATCH(J162,Odds!G:G,0)))","v":1}]
[{"$f":"A161","v":"Rob England"},"Bradford",{"$f":"IF(J163=\"\",\"\",INDEX(Odds!C:C,MATCH(J163,Odds!G:G,0)))","v":"1900-01-07"},3.1,"x",null,null,null,null,"Bradford",{"$f":"INDEX(Odds!H:H,MATCH(J163,Odds!G:G,0))","v":"21/10"},{"$f":"INDEX(Odds!I:I,MATCH(J163,Odds!G:G,0))","v":3.1},{"$f":"INDEX(Odds!J:J,MATCH(J163,Odds!G:G,0))","v":0},0,null,null,null,null,null,null,null,null,null,null,null,null,null,{"$f":"IF(O163=\"\",\"\",INDEX(Odds!H:H,MATCH(O163,Odds!G:G,0)))","v":""},{"$f":"IF(J163=\"\",\"\",INDEX(Odds!K:K,MATCH(J163,Odds!G:G,0)))","v":1}]
[{"$f":"Results!B164","v":"Sally Williams"},{"$f":"IF(J164=\"\",\"\",J164)","v":"Derby draw"},{"$f":"IF(J164=\"\",\"\",INDEX(Odds!C:C,MATCH(J164,Odds!G:G,0)))","v":"1900-01-07"},{"$f":"IF(J164=\"\",\"\",L164)","v":3},"√",{"$f":"IF(J164=\"\",-10,INDEX(Results!T:T,MATCH(A164,Results!V:V,0)))","v":8.8000000000000007},{"$f":"IF(J164=\"\",\"\",INDEX(Results!AI:AI,MATCH(A164,Results!V:V,0)))","v":62.56},{"$f":"IF(G164=\"\",0,1)","v":1},{"$f":"INDEX(Picks!AG:AG,MATCH(A164,Picks!AD:AD,0))","v":10},"Derby draw",{"$f":"INDEX(Odds!H:H,MATCH(J164,Odds!G:G,0))","v":"2/1"},{"$f":"INDEX(Odds!I:I,MATCH(J164,Odds!G:G,0))","v":3},{"$f":"INDEX(Odds!J:J,MATCH(J164,Odds!G:G,0))","v":1},3,null,null,null,null,null,null,null,null,null,null,null,null,null,{"$f":"IF(O164=\"\",\"\",INDEX(Odds!H:H,MATCH(O164,Odds!G:G,0)))","v":""},{"$f":"IF(J164=\"\",\"\",INDEX(Odds!K:K,MATCH(J164,Odds!G:G,0)))","v":1}]
[{"$f":"A164","v":"Sally Williams"},"Fulham draw",{"$f":"IF(J165=\"\",\"\",INDEX(Odds!C:C,MATCH(J165,Odds!G:G,0)))","v":"1900-01-07"},3.2,"x",null,null,null,null,"Fulham draw",{"$f":"INDEX(Odds!H:H,MATCH(J165,Odds!G:G,0))","v":"11/5"},{"$f":"INDEX(Odds!I:I,MATCH(J165,Odds!G:G,0))","v":3.2},{"$f":"INDEX(Odds!J:J,MATCH(J165,Odds!G:G,0))","v":0},0,null,null,null,null,null,null,null,null,null,null,null,null,null,{"$f":"IF(O165=\"\",\"\",INDEX(Odds!H:H,MATCH(O165,Odds!G:G,0)))","v":""},{"$f":"IF(J165=\"\",\"\",INDEX(Odds!K:K,MATCH(J165,Odds!G:G,0)))","v":1}]
[{"$f":"A164","v":"Sally Williams"},"Middlesbro draw",{"$f":"IF(J166=\"\",\"\",INDEX(Odds!C:C,MATCH(J166,Odds!G:G,0)))","v":"1900-01-07"},3.2,"√",null,null,null,null,"Middlesbro draw",{"$f":"INDEX(Odds!H:H,MATCH(J166,Odds!G:G,0))","v":"11/5"},{"$f":"INDEX(Odds!I:I,MATCH(J166,Odds!G:G,0))","v":3.2},{"$f":"INDEX(Odds!J:J,MATCH(J166,Odds!G:G,0))","v":1},3.2,null,null,null,null,null,null,null,null,null,null,null,null,null,{"$f":"IF(O166=\"\",\"\",INDEX(Odds!H:H,MATCH(O166,Odds!G:G,0)))","v":""},{"$f":"IF(J166=\"\",\"\",INDEX(Odds!K:K,MATCH(J166,Odds!G:G,0)))","v":1}]
[{"$f":"Results!B167","v":"Simon Greenhalgh"},"Villa",{"$f":"IF(J167=\"\",\"\",INDEX(Odds!C:C,MATCH(J167,Odds!G:G,0)))","v":"1900-01-07"},2,"x",{"$f":"IF(J167=\"\",-10,INDEX(Results!T:T,MATCH(A167,Results!V:V,0)))","v":-5},{"$f":"IF(J167=\"\",\"\",INDEX(Results!AI:AI,MATCH(A167,Results!V:V,0)))","v":29.799999999999997},{"$f":"IF(G167=\"\",0,1)","v":1},{"$f":"INDEX(Picks!AG:AG,MATCH(A167,Picks!AD:AD,0))","v":36},"Villa",{"$f":"INDEX(Odds!H:H,MATCH(J167,Odds!G:G,0))","v":"1/1"},{"$f":"INDEX(Odds!I:I,MATCH(J167,Odds!G:G,0))","v":2},{"$f":"INDEX(Odds!J:J,MATCH(J167,Odds!G:G,0))","v":0},0,null,null,null,null,null,null,null,null,null,null,null,null,null,{"$f":"IF(O167=\"\",\"\",INDEX(Odds!H:H,MATCH(O167,Odds!G:G,0)))","v":""},{"$f":"IF(J167=\"\",\"\",INDEX(Odds!K:K,MATCH(J167,Odds!G:G,0)))","v":1}]
[{"$f":"A167","v":"Simon Greenhalgh"},"Fulham",{"$f":"IF(J168=\"\",\"\",INDEX(Odds!C:C,MATCH(J168,Odds!G:G,0)))","v":"1900-01-07"},2,"√",null,null,null,null,"Fulham",{"$f":"INDEX(Odds!H:H,MATCH(J168,Odds!G:G,0))","v":"1/1"},{"$f":"INDEX(Odds!I:I,MATCH(J168,Odds!G:G,0))","v":2},{"$f":"INDEX(Odds!J:J,MATCH(J168,Odds!G:G,0))","v":1},2,null,null,null,null,null,null,null,null,null,null,null,null,null,{"$f":"IF(O168=\"\",\"\",INDEX(Odds!H:H,MATCH(O168,Odds!G:G,0)))","v":""},{"$f":"IF(J168=\"\",\"\",INDEX(Odds!K:K,MATCH(J168,Odds!G:G,0)))","v":1}]
[{"$f":"A167","v":"Simon Greenhalgh"},"Luton",{"$f":"IF(J169=\"\",\"\",INDEX(Odds!C:C,MATCH(J169,Odds!G:G,0)))","v":"1900-01-07"},3.2,"x",null,null,null,null,"Luton",{"$f":"INDEX(Odds!H:H,MATCH(J169,Odds!G:G,0))","v":"11/5"},{"$f":"INDEX(Odds!I:I,MATCH(J169,Odds!G:G,0))","v":3.2},{"$f":"INDEX(Odds!J:J,MATCH(J169,Odds!G:G,0))","v":0},0,null,null,null,null,null,null,null,null,null,null,null,null,null,{"$f":"IF(O169=\"\",\"\",INDEX(Odds!H:H,MATCH(O169,Odds!G:G,0)))","v":""},{"$f":"IF(J169=\"\",\"\",INDEX(Odds!K:K,MATCH(J169,Odds!G:G,0)))","v":1}]
[{"$f":"Results!B170","v":"Stephen Barr"},"Villa",{"$f":"IF(J170=\"\",\"\",INDEX(Odds!C:C,MATCH(J170,Odds!G:G,0)))","v":"1900-01-07"},2,"x",{"$f":"IF(J170=\"\",-10,INDEX(Results!T:T,MATCH(A170,Results!V:V,0)))","v":4},{"$f":"IF(J170=\"\",\"\",INDEX(Results!AI:AI,MATCH(A170,Results!V:V,0)))","v":28},{"$f":"IF(G170=\"\",0,1)","v":1},{"$f":"INDEX(Picks!AG:AG,MATCH(A170,Picks!AD:AD,0))","v":13},"Villa",{"$f":"INDEX(Odds!H:H,MATCH(J170,Odds!G:G,0))","v":"1/1"},{"$f":"INDEX(Odds!I:I,MATCH(J170,Odds!G:G,0))","v":2},{"$f":"INDEX(Odds!J:J,MATCH(J170,Odds!G:G,0))","v":0},0,null,null,null,null,null,null,null,null,null,null,null,null,null,{"$f":"IF(O170=\"\",\"\",INDEX(Odds!H:H,MATCH(O170,Odds!G:G,0)))","v":""},{"$f":"IF(J170=\"\",\"\",INDEX(Odds!K:K,MATCH(J170,Odds!G:G,0)))","v":1}]
[{"$f":"A170","v":"Stephen Barr"},"Fulham",{"$f":"IF(J171=\"\",\"\",INDEX(Odds!C:C,MATCH(J171,Odds!G:G,0)))","v":"1900-01-07"},2,"√",null,null,null,null,"Fulham",{"$f":"INDEX(Odds!H:H,MATCH(J171,Odds!G:G,0))","v":"1/1"},{"$f":"INDEX(Odds!I:I,MATCH(J171,Odds!G:G,0))","v":2},{"$f":"INDEX(Odds!J:J,MATCH(J171,Odds!G:G,0))","v":1},2,null,null,null,null,null,null,null,null,null,null,null,null,null,{"$f":"IF(O171=\"\",\"\",INDEX(Odds!H:H,MATCH(O171,Odds!G:G,0)))","v":""},{"$f":"IF(J171=\"\",\"\",INDEX(Odds!K:K,MATCH(J171,Odds!G:G,0)))","v":1}]
[{"$f":"A170","v":"Stephen Barr"},"Derby draw",{"$f":"IF(J172=\"\",\"\",INDEX(Odds!C:C,MATCH(J172,Odds!G:G,0)))","v":"1900-01-07"},3,"√",null,null,null,null,"Derby draw",{"$f":"INDEX(Odds!H:H,MATCH(J172,Odds!G:G,0))","v":"2/1"},{"$f":"INDEX(Odds!I:I,MATCH(J172,Odds!G:G,0))","v":3},{"$f":"INDEX(Odds!J:J,MATCH(J172,Odds!G:G,0))","v":1},3,null,null,null,null,null,null,null,null,null,null,null,null,null,{"$f":"IF(O172=\"\",\"\",INDEX(Odds!H:H,MATCH(O172,Odds!G:G,0)))","v":""},{"$f":"IF(J172=\"\",\"\",INDEX(Odds!K:K,MATCH(J172,Odds!G:G,0)))","v":1}]
[{"$f":"Results!B173","v":"Stephen Troop"},"Millwall",{"$f":"IF(J173=\"\",\"\",INDEX(Odds!C:C,MATCH(J173,Odds!G:G,0)))","v":"1900-01-07"},1.9090909090909092,"√",{"$f":"IF(J173=\"\",-10,INDEX(Results!T:T,MATCH(A173,Results!V:V,0)))","v":12.945454545454545},{"$f":"IF(J173=\"\",\"\",INDEX(Results!AI:AI,MATCH(A173,Results!V:V,0)))","v":12.945454545454545},{"$f":"IF(G173=\"\",0,1)","v":1},{"$f":"INDEX(Picks!AG:AG,MATCH(A173,Picks!AD:AD,0))","v":5},"Millwall",{"$f":"INDEX(Odds!H:H,MATCH(J173,Odds!G:G,0))","v":"10/11"},{"$f":"INDEX(Odds!I:I,MATCH(J173,Odds!G:G,0))","v":1.9090909090909092},{"$f":"INDEX(Odds!J:J,MATCH(J173,Odds!G:G,0))","v":1},1.9090909090909092,null,null,null,null,null,null,null,null,null,null,null,null,null,{"$f":"IF(O173=\"\",\"\",INDEX(Odds!H:H,MATCH(O173,Odds!G:G,0)))","v":""},{"$f":"IF(J173=\"\",\"\",INDEX(Odds!K:K,MATCH(J173,Odds!G:G,0)))","v":1}]
[{"$f":"A173","v":"Stephen Troop"},"Sunderland",{"$f":"IF(J174=\"\",\"\",INDEX(Odds!C:C,MATCH(J174,Odds!G:G,0)))","v":"1900-01-07"},2,"√",null,null,null,null,"Sunderland",{"$f":"INDEX(Odds!H:H,MATCH(J174,Odds!G:G,0))","v":"1/1"},{"$f":"INDEX(Odds!I:I,MATCH(J174,Odds!G:G,0))","v":2},{"$f":"INDEX(Odds!J:J,MATCH(J174,Odds!G:G,0))","v":1},2,null,null,null,null,null,null,null,null,null,null,null,null,null,{"$f":"IF(O174=\"\",\"\",INDEX(Odds!H:H,MATCH(O174,Odds!G:G,0)))","v":""},{"$f":"IF(J174=\"\",\"\",INDEX(Odds!K:K,MATCH(J174,Odds!G:G,0)))","v":1}]
[{"$f":"A173","v":"Stephen Troop"},"Spurs",{"$f":"IF(J175=\"\",\"\",INDEX(Odds!C:C,MATCH(J175,Odds!G:G,0)))","v":"1900-01-01"},1.4,"√",null,null,null,null,"Spurs",{"$f":"INDEX(Odds!H:H,MATCH(J175,Odds!G:G,0))","v":"2/5"},{"$f":"INDEX(Odds!I:I,MATCH(J175,Odds!G:G,0))","v":1.4},{"$f":"INDEX(Odds!J:J,MATCH(J175,Odds!G:G,0))","v":1},1.4,null,null,null,null,null,null,null,null,null,null,null,null,null,{"$f":"IF(O175=\"\",\"\",INDEX(Odds!H:H,MATCH(O175,Odds!G:G,0)))","v":""},{"$f":"IF(J175=\"\",\"\",INDEX(Odds!K:K,MATCH(J175,Odds!G:G,0)))","v":1}]
[{"$f":"Results!B176","v":"Steve Baxter"},{"$f":"IF(J176=\"\",\"\",J176)","v":"Man U"},{"$f":"IF(J176=\"\",\"\",INDEX(Odds!C:C,MATCH(J176,Odds!G:G,0)))","v":"1900-01-01"},{"$f":"IF(J176=\"\",\"\",L176)","v":1.8},{"$f":"IF(J176=\"\",\"\",IF(M176=1,\"√\",\"x\"))","v":"√"},{"$f":"IF(J176=\"\",-10,INDEX(Results!T:T,MATCH(A176,Results!V:V,0)))","v":-5.2},{"$f":"IF(J176=\"\",\"\",INDEX(Results!AI:AI,MATCH(A176,Results!V:V,0)))","v":18.207999999999998},{"$f":"IF(G176=\"\",0,1)","v":1},{"$f":"INDEX(Picks!AG:AG,MATCH(A176,Picks!AD:AD,0))","v":42},"Man U",{"$f":"INDEX(Odds!H:H,MATCH(J176,Odds!G:G,0))","v":"4/5"},{"$f":"INDEX(Odds!I:I,MATCH(J176,Odds!G:G,0))","v":1.8},{"$f":"INDEX(Odds!J:J,MATCH(J176,Odds!G:G,0))","v":1},{"$f":"L176*M176","v":1.8},null,null,null,null,null,null,null,null,null,null,null,null,null,{"$f":"IF(O176=\"\",\"\",INDEX(Odds!H:H,MATCH(O176,Odds!G:G,0)))","v":""},{"$f":"IF(J176=\"\",\"\",INDEX(Odds!K:K,MATCH(J176,Odds!G:G,0)))","v":1}]
[{"$f":"A176","v":"Steve Baxter"},"Liverpool",{"$f":"IF(J177=\"\",\"\",INDEX(Odds!C:C,MATCH(J177,Odds!G:G,0)))","v":"1900-01-07"},2.6,"x",null,null,null,null,"Liverpool",{"$f":"INDEX(Odds!H:H,MATCH(J177,Odds!G:G,0))","v":"8/5"},{"$f":"INDEX(Odds!I:I,MATCH(J177,Odds!G:G,0))","v":2.6},{"$f":"INDEX(Odds!J:J,MATCH(J177,Odds!G:G,0))","v":0},0,null,null,null,null,null,null,null,null,null,null,null,null,null,{"$f":"IF(O177=\"\",\"\",INDEX(Odds!H:H,MATCH(O177,Odds!G:G,0)))","v":""},{"$f":"IF(J177=\"\",\"\",INDEX(Odds!K:K,MATCH(J177,Odds!G:G,0)))","v":1}]
[{"$f":"A176","v":"Steve Baxter"},"West Ham",{"$f":"IF(J178=\"\",\"\",INDEX(Odds!C:C,MATCH(J178,Odds!G:G,0)))","v":"1900-01-07"},1.6,"x",null,null,null,null,"West Ham",{"$f":"INDEX(Odds!H:H,MATCH(J178,Odds!G:G,0))","v":"6/10"},{"$f":"INDEX(Odds!I:I,MATCH(J178,Odds!G:G,0))","v":1.6},{"$f":"INDEX(Odds!J:J,MATCH(J178,Odds!G:G,0))","v":0},0,null,null,null,null,null,null,null,null,null,null,null,null,null,{"$f":"IF(O178=\"\",\"\",INDEX(Odds!H:H,MATCH(O178,Odds!G:G,0)))","v":""},{"$f":"IF(J178=\"\",\"\",INDEX(Odds!K:K,MATCH(J178,Odds!G:G,0)))","v":1}]
[{"$f":"Results!B179","v":"Steve Carter"},"Brighton draw",{"$f":"IF(J179=\"\",\"\",INDEX(Odds!C:C,MATCH(J179,Odds!G:G,0)))","v":"1900-01-07"},3.2,"x",{"$f":"IF(J179=\"\",-10,INDEX(Results!T:T,MATCH(A179,Results!V:V,0)))","v":-3.7},{"$f":"IF(J179=\"\",\"\",INDEX(Results!AI:AI,MATCH(A179,Results!V:V,0)))","v":46.179999999999993},{"$f":"IF(G179=\"\",0,1)","v":1},{"$f":"INDEX(Picks!AG:AG,MATCH(A179,Picks!AD:AD,0))","v":25},"Brighton draw",{"$f":"INDEX(Odds!H:H,MATCH(J179,Odds!G:G,0))","v":"11/5"},{"$f":"INDEX(Odds!I:I,MATCH(J179,Odds!G:G,0))","v":3.2},{"$f":"INDEX(Odds!J:J,MATCH(J179,Odds!G:G,0))","v":0},0,null,null,null,null,null,null,null,null,null,null,null,null,null,{"$f":"IF(O179=\"\",\"\",INDEX(Odds!H:H,MATCH(O179,Odds!G:G,0)))","v":""},{"$f":"IF(J179=\"\",\"\",INDEX(Odds!K:K,MATCH(J179,Odds!G:G,0)))","v":1}]
[{"$f":"A179","v":"Steve Carter"},"Liverpool draw",{"$f":"IF(J180=\"\",\"\",INDEX(Odds!C:C,MATCH(J180,Odds!G:G,0)))","v":"1900-01-07"},3.3,"√",null,null,null,null,"Liverpool draw",{"$f":"INDEX(Odds!H:H,MATCH(J180,Odds!G:G,0))","v":"23/10"},{"$f":"INDEX(Odds!I:I,MATCH(J180,Odds!G:G,0))","v":3.3},{"$f":"INDEX(Odds!J:J,MATCH(J180,Odds!G:G,0))","v":1},3.3,null,null,null,null,null,null,null,null,null,null,null,null,null,{"$f":"IF(O180=\"\",\"\",INDEX(Odds!H:H,MATCH(O180,Odds!G:G,0)))","v":""},{"$f":"IF(J180=\"\",\"\",INDEX(Odds!K:K,MATCH(J180,Odds!G:G,0)))","v":1}]
[{"$f":"A179","v":"Steve Carter"},"Villa",{"$f":"IF(J181=\"\",\"\",INDEX(Odds!C:C,MATCH(J181,Odds!G:G,0)))","v":"1900-01-07"},2,"x",null,null,null,null,"Villa",{"$f":"INDEX(Odds!H:H,MATCH(J181,Odds!G:G,0))","v":"1/1"},{"$f":"INDEX(Odds!I:I,MATCH(J181,Odds!G:G,0))","v":2},{"$f":"INDEX(Odds!J:J,MATCH(J181,Odds!G:G,0))","v":0},0,null,null,null,null,null,null,null,null,null,null,null,null,null,{"$f":"IF(O181=\"\",\"\",INDEX(Odds!H:H,MATCH(O181,Odds!G:G,0)))","v":""},{"$f":"IF(J181=\"\",\"\",INDEX(Odds!K:K,MATCH(J181,Odds!G:G,0)))","v":1}]
[{"$f":"Results!B182","v":"Tom Robinson"},"Villa",{"$f":"IF(J182=\"\",\"\",INDEX(Odds!C:C,MATCH(J182,Odds!G:G,0)))","v":"1900-01-07"},2,"x",{"$f":"IF(J182=\"\",-10,INDEX(Results!T:T,MATCH(A182,Results!V:V,0)))","v":-7},{"$f":"IF(J182=\"\",\"\",INDEX(Results!AI:AI,MATCH(A182,Results!V:V,0)))","v":19.899999999999999},{"$f":"IF(G182=\"\",0,1)","v":1},{"$f":"INDEX(Picks!AG:AG,MATCH(A182,Picks!AD:AD,0))","v":46},"Villa",{"$f":"INDEX(Odds!H:H,MATCH(J182,Odds!G:G,0))","v":"1/1"},{"$f":"INDEX(Odds!I:I,MATCH(J182,Odds!G:G,0))","v":2},{"$f":"INDEX(Odds!J:J,MATCH(J182,Odds!G:G,0))","v":0},0,null,null,null,null,null,null,null,null,null,null,null,null,null,{"$f":"IF(O182=\"\",\"\",INDEX(Odds!H:H,MATCH(O182,Odds!G:G,0)))","v":""},{"$f":"IF(J182=\"\",\"\",INDEX(Odds!K:K,MATCH(J182,Odds!G:G,0)))","v":1}]
[{"$f":"A182","v":"Tom Robinson"},"Ipswich",{"$f":"IF(J183=\"\",\"\",INDEX(Odds!C:C,MATCH(J183,Odds!G:G,0)))","v":"1900-01-07"},2,"x",null,null,null,null,"Ipswich",{"$f":"INDEX(Odds!H:H,MATCH(J183,Odds!G:G,0))","v":"1/1"},{"$f":"INDEX(Odds!I:I,MATCH(J183,Odds!G:G,0))","v":2},{"$f":"INDEX(Odds!J:J,MATCH(J183,Odds!G:G,0))","v":0},0,null,null,null,null,null,null,null,null,null,null,null,null,null,{"$f":"IF(O183=\"\",\"\",INDEX(Odds!H:H,MATCH(O183,Odds!G:G,0)))","v":""},{"$f":"IF(J183=\"\",\"\",INDEX(Odds!K:K,MATCH(J183,Odds!G:G,0)))","v":1}]
[{"$f":"A182","v":"Tom Robinson"},"Tranmere",{"$f":"IF(J184=\"\",\"\",INDEX(Odds!C:C,MATCH(J184,Odds!G:G,0)))","v":"1900-01-07"},2.1,"x",null,null,null,null,"Tranmere",{"$f":"INDEX(Odds!H:H,MATCH(J184,Odds!G:G,0))","v":"11/10"},{"$f":"INDEX(Odds!I:I,MATCH(J184,Odds!G:G,0))","v":2.1},{"$f":"INDEX(Odds!J:J,MATCH(J184,Odds!G:G,0))","v":0},0,null,null,null,null,null,null,null,null,null,null,null,null,null,{"$f":"IF(O184=\"\",\"\",INDEX(Odds!H:H,MATCH(O184,Odds!G:G,0)))","v":""},{"$f":"IF(J184=\"\",\"\",INDEX(Odds!K:K,MATCH(J184,Odds!G:G,0)))","v":1}]
[{"$f":"Results!B185","v":"Vinny Topping"},"Brighton",{"$f":"IF(J185=\"\",\"\",INDEX(Odds!C:C,MATCH(J185,Odds!G:G,0)))","v":"1900-01-07"},2.375,"x",{"$f":"IF(J185=\"\",-10,INDEX(Results!T:T,MATCH(A185,Results!V:V,0)))","v":-7},{"$f":"IF(J185=\"\",\"\",INDEX(Results!AI:AI,MATCH(A185,Results!V:V,0)))","v":44.65},{"$f":"IF(G185=\"\",0,1)","v":1},{"$f":"INDEX(Picks!AG:AG,MATCH(A185,Picks!AD:AD,0))","v":46},"Brighton",{"$f":"INDEX(Odds!H:H,MATCH(J185,Odds!G:G,0))","v":"11/8"},{"$f":"INDEX(Odds!I:I,MATCH(J185,Odds!G:G,0))","v":2.375},{"$f":"INDEX(Odds!J:J,MATCH(J185,Odds!G:G,0))","v":0},0,null,null,null,null,null,null,null,null,null,null,null,null,null,{"$f":"IF(O185=\"\",\"\",INDEX(Odds!H:H,MATCH(O185,Odds!G:G,0)))","v":""},{"$f":"IF(J185=\"\",\"\",INDEX(Odds!K:K,MATCH(J185,Odds!G:G,0)))","v":1}]
[{"$f":"A185","v":"Vinny Topping"},"Norwich",{"$f":"IF(J186=\"\",\"\",INDEX(Odds!C:C,MATCH(J186,Odds!G:G,0)))","v":"1900-01-07"},5,"x",null,null,null,null,"Norwich",{"$f":"INDEX(Odds!H:H,MATCH(J186,Odds!G:G,0))","v":"4/1"},{"$f":"INDEX(Odds!I:I,MATCH(J186,Odds!G:G,0))","v":5},{"$f":"INDEX(Odds!J:J,MATCH(J186,Odds!G:G,0))","v":0},0,null,null,null,null,null,null,null,null,null,null,null,null,null,{"$f":"IF(O186=\"\",\"\",INDEX(Odds!H:H,MATCH(O186,Odds!G:G,0)))","v":""},{"$f":"IF(J186=\"\",\"\",INDEX(Odds!K:K,MATCH(J186,Odds!G:G,0)))","v":1}]
[{"$f":"A185","v":"Vinny Topping"},"West Ham",{"$f":"IF(J187=\"\",\"\",INDEX(Odds!C:C,MATCH(J187,Odds!G:G,0)))","v":"1900-01-07"},1.6,"x",null,null,null,null,"West Ham",{"$f":"INDEX(Odds!H:H,MATCH(J187,Odds!G:G,0))","v":"6/10"},{"$f":"INDEX(Odds!I:I,MATCH(J187,Odds!G:G,0))","v":1.6},{"$f":"INDEX(Odds!J:J,MATCH(J187,Odds!G:G,0))","v":0},0,null,null,null,null,null,null,null,null,null,null,null,null,null,{"$f":"IF(O187=\"\",\"\",INDEX(Odds!H:H,MATCH(O187,Odds!G:G,0)))","v":""},{"$f":"IF(J187=\"\",\"\",INDEX(Odds!K:K,MATCH(J187,Odds!G:G,0)))","v":1}]
[null,null,null,null,null,null,null,null,null,null,null,null,null,null,null,null,null,null,null,null,null,null,null,null,null,null,null,{"$f":"IF(O188=\"\",\"\",INDEX(Odds!H:H,MATCH(O188,Odds!G:G,0)))","v":""}]
[null,null,null,null,null,null,null,null,null,null,null,null,null,null,null,null,null,null,null,null,null,null,null,null,null,null,null,{"$f":"IF(O189=\"\",\"\",INDEX(Odds!H:H,MATCH(O189,Odds!G:G,0)))","v":""}]
[null,null,null,null,null,null,null,null,null,null,null,null,null,null,null,null,null,null,null,null,null,null,null,null,null,null,null,{"$f":"IF(O190=\"\",\"\",INDEX(Odds!H:H,MATCH(O190,Odds!G:G,0)))","v":""}]
[null,null,null,null,null,null,null,null,null,null,null,null,null,null,null,null,null,null,null,null,null,null,null,null,null,null,null,{"$f":"IF(O191=\"\",\"\",INDEX(Odds!H:H,MATCH(O191,Odds!G:G,0)))","v":""}]
[null,null,null,null,null,null,null,null,null,null,null,null,null,null,null,null,null,null,null,null,null,null,null,null,null,null,null,{"$f":"IF(O192=\"\",\"\",INDEX(Odds!H:H,MATCH(O192,Odds!G:G,0)))","v":""}]
[null,null,null,null,null,null,null,null,null,null,null,null,null,null,null,null,null,null,null,null,null,null,null,null,null,null,null,{"$f":"IF(O193=\"\",\"\",INDEX(Odds!H:H,MATCH(O193,Odds!G:G,0)))","v":""}]
[null,null,null,null,null,null,null,null,null,null,null,null,null,null,null,null,null,null,null,null,null,null,null,null,null,null,null,{"$f":"IF(O194=\"\",\"\",INDEX(Odds!H:H,MATCH(O194,Odds!G:G,0)))","v":""}]
[null,null,null,null,null,null,null,null,null,null,null,null,null,null,null,null,null,null,null,null,null,null,null,null,null,null,null,{"$f":"IF(O195=\"\",\"\",INDEX(Odds!H:H,MATCH(O195,Odds!G:G,0)))","v":""}]
[null,null,null,null,null,null,null,null,null,null,null,null,null,null,null,null,null,null,null,null,null,null,null,null,null,null,null,{"$f":"IF(O196=\"\",\"\",INDEX(Odds!H:H,MATCH(O196,Odds!G:G,0)))","v":""}]
[null,null,null,null,null,null,null,null,null,null,null,null,null,null,null,null,null,null,null,null,null,null,null,null,null,null,null,{"$f":"IF(O197=\"\",\"\",INDEX(Odds!H:H,MATCH(O197,Odds!G:G,0)))","v":""}]
[null,null,null,null,null,null,null,null,null,null,null,null,null,null,null,null,null,null,null,null,null,null,null,null,null,null,null,{"$f":"IF(O198=\"\",\"\",INDEX(Odds!H:H,MATCH(O198,Odds!G:G,0)))","v":""}]
[null,null,null,null,null,null,null,null,null,null,null,null,null,null,null,null,null,null,null,null,null,null,null,null,null,null,null,{"$f":"IF(O199=\"\",\"\",INDEX(Odds!H:H,MATCH(O199,Odds!G:G,0)))","v":""}]
[null,null,null,null,null,null,null,null,null,null,null,null,null,null,null,null,null,null,null,null,null,null,null,null,null,null,null,{"$f":"IF(O200=\"\",\"\",INDEX(Odds!H:H,MATCH(O200,Odds!G:G,0)))","v":""}]
[null,null,null,null,null,null,null,null,null,null,null,null,null,null,null,null,null,null,null,null,null,null,null,null,null,null,null,{"$f":"IF(O201=\"\",\"\",INDEX(Odds!H:H,MATCH(O201,Odds!G:G,0)))","v":""}]
[null,null,null,null,null,null,null,null,null,null,null,null,null,null,null,null,null,null,null,null,null,null,null,null,null,null,null,{"$f":"IF(O202=\"\",\"\",INDEX(Odds!H:H,MATCH(O202,Odds!G:G,0)))","v":""}]
[null,null,null,null,null,null,null,null,null,null,null,null,null,null,null,null,null,null,null,null,null,null,null,null,null,null,null,{"$f":"IF(O203=\"\",\"\",INDEX(Odds!H:H,MATCH(O203,Odds!G:G,0)))","v":""}]
[null,null,null,null,null,null,null,null,null,null,null,null,null,null,null,null,null,null,null,null,null,null,null,null,null,null,null,{"$f":"IF(O204=\"\",\"\",INDEX(Odds!H:H,MATCH(O204,Odds!G:G,0)))","v":""}]
[null,null,null,null,null,null,null,null,null,null,null,null,null,null,null,null,null,null,null,null,null,null,null,null,null,null,null,{"$f":"IF(O205=\"\",\"\",INDEX(Odds!H:H,MATCH(O205,Odds!G:G,0)))","v":""}]
[null,null,null,null,null,null,null,null,null,null,null,null,null,null,null,null,null,null,null,null,null,null,null,null,null,null,null,{"$f":"IF(O206=\"\",\"\",INDEX(Odds!H:H,MATCH(O206,Odds!G:G,0)))","v":""}]
[null,null,null,null,null,null,null,null,null,null,null,null,null,null,null,null,null,null,null,null,null,null,null,null,null,null,null,{"$f":"IF(O207=\"\",\"\",INDEX(Odds!H:H,MATCH(O207,Odds!G:G,0)))","v":""}]
[null,null,null,null,null,null,null,null,null,null,null,null,null,null,null,null,null,null,null,null,null,null,null,null,null,null,null,{"$f":"IF(O208=\"\",\"\",INDEX(Odds!H:H,MATCH(O208,Odds!G:G,0)))","v":""}]
[null,null,null,null,null,null,null,null,null,null,null,null,null,null,null,null,null,null,null,null,null,null,null,null,null,null,null,{"$f":"IF(O209=\"\",\"\",INDEX(Odds!H:H,MATCH(O209,Odds!G:G,0)))","v":""}]
[null,null,null,null,null,null,null,null,null,null,null,null,null,null,null,null,null,null,null,null,null,null,null,null,null,null,null,{"$f":"IF(O210=\"\",\"\",INDEX(Odds!H:H,MATCH(O210,Odds!G:G,0)))","v":""}]
[null,null,null,null,null,null,null,null,null,null,null,null,null,null,null,null,null,null,null,null,null,null,null,null,null,null,null,{"$f":"IF(O211=\"\",\"\",INDEX(Odds!H:H,MATCH(O211,Odds!G:G,0)))","v":""}]
[null,null,null,null,null,null,null,null,null,null,null,null,null,null,null,null,null,null,null,null,null,null,null,null,null,null,null,{"$f":"IF(O212=\"\",\"\",INDEX(Odds!H:H,MATCH(O212,Odds!G:G,0)))","v":""}]
[null,null,null,null,null,null,null,null,null,null,null,null,null,null,null,null,null,null,null,null,null,null,null,null,null,null,null,{"$f":"IF(O213=\"\",\"\",INDEX(Odds!H:H,MATCH(O213,Odds!G:G,0)))","v":""}]
[null,null,null,null,null,null,null,null,null,null,null,null,null,null,null,null,null,null,null,null,null,null,null,null,null,null,null,{"$f":"IF(O214=\"\",\"\",INDEX(Odds!H:H,MATCH(O214,Odds!G:G,0)))","v":""}]
[null,null,null,null,null,null,null,null,null,null,null,null,null,null,null,null,null,null,null,null,null,null,null,null,null,null,null,{"$f":"IF(O215=\"\",\"\",INDEX(Odds!H:H,MATCH(O215,Odds!G:G,0)))","v":""}]
[null,null,null,null,null,null,null,null,null,null,null,null,null,null,null,null,null,null,null,null,null,null,null,null,null,null,null,{"$f":"IF(O216=\"\",\"\",INDEX(Odds!H:H,MATCH(O216,Odds!G:G,0)))","v":""}]
[null,null,null,null,null,null,null,null,null,null,null,null,null,null,null,null,null,null,null,null,null,null,null,null,null,null,null,{"$f":"IF(O217=\"\",\"\",INDEX(Odds!H:H,MATCH(O217,Odds!G:G,0)))","v":""}]
[null,null,null,null,null,null,null,null,null,null,null,null,null,null,null,null,null,null,null,null,null,null,null,null,null,null,null,{"$f":"IF(O218=\"\",\"\",INDEX(Odds!H:H,MATCH(O218,Odds!G:G,0)))","v":""}]
[null,null,null,null,null,null,null,null,null,null,null,null,null,null,null,null,null,null,null,null,null,null,null,null,null,null,null,{"$f":"IF(O219=\"\",\"\",INDEX(Odds!H:H,MATCH(O219,Odds!G:G,0)))","v":""}]
[null,null,null,null,null,null,null,null,null,null,null,null,null,null,null,null,null,null,null,null,null,null,null,null,null,null,null,{"$f":"IF(O220=\"\",\"\",INDEX(Odds!H:H,MATCH(O220,Odds!G:G,0)))","v":""}]
[null,null,null,null,null,null,null,null,null,null,null,null,null,null,null,null,null,null,null,null,null,null,null,null,null,null,null,{"$f":"IF(O221=\"\",\"\",INDEX(Odds!H:H,MATCH(O221,Odds!G:G,0)))","v":""}]
[null,null,null,null,null,null,null,null,null,null,null,null,null,null,null,null,null,null,null,null,null,null,null,null,null,null,null,{"$f":"IF(O222=\"\",\"\",INDEX(Odds!H:H,MATCH(O222,Odds!G:G,0)))","v":""}]
[null,null,null,null,null,null,null,null,null,null,null,null,null,null,null,null,null,null,null,null,null,null,null,null,null,null,null,{"$f":"IF(O223=\"\",\"\",INDEX(Odds!H:H,MATCH(O223,Odds!G:G,0)))","v":""}]
[null,null,null,null,null,null,null,null,null,null,null,null,null,null,null,null,null,null,null,null,null,null,null,null,null,null,null,{"$f":"IF(O224=\"\",\"\",INDEX(Odds!H:H,MATCH(O224,Odds!G:G,0)))","v":""}]
[null,null,null,null,null,null,null,null,null,null,null,null,null,null,null,null,null,null,null,null,null,null,null,null,null,null,null,{"$f":"IF(O225=\"\",\"\",INDEX(Odds!H:H,MATCH(O225,Odds!G:G,0)))","v":""}]
[null,null,null,null,null,null,null,null,null,null,null,null,null,null,null,null,null,null,null,null,null,null,null,null,null,null,null,{"$f":"IF(O226=\"\",\"\",INDEX(Odds!H:H,MATCH(O226,Odds!G:G,0)))","v":""}]
[null,null,null,null,null,null,null,null,null,null,null,null,null,null,null,null,null,null,null,null,null,null,null,null,null,null,null,{"$f":"IF(O227=\"\",\"\",INDEX(Odds!H:H,MATCH(O227,Odds!G:G,0)))","v":""}]
[null,null,null,null,null,null,null,null,null,null,null,null,null,null,null,null,null,null,null,null,null,null,null,null,null,null,null,{"$f":"IF(O228=\"\",\"\",INDEX(Odds!H:H,MATCH(O228,Odds!G:G,0)))","v":""}]
[null,null,null,null,null,null,null,null,null,null,null,null,null,null,null,null,null,null,null,null,null,null,null,null,null,null,null,{"$f":"IF(O229=\"\",\"\",INDEX(Odds!H:H,MATCH(O229,Odds!G:G,0)))","v":""}]
[null,null,null,null,null,null,null,null,null,null,null,null,null,null,null,null,null,null,null,null,null,null,null,null,null,null,null,{"$f":"IF(O230=\"\",\"\",INDEX(Odds!H:H,MATCH(O230,Odds!G:G,0)))","v":""}]
[null,null,null,null,null,null,null,null,null,null,null,null,null,null,null,null,null,null,null,null,null,null,null,null,null,null,null,{"$f":"IF(O231=\"\",\"\",INDEX(Odds!H:H,MATCH(O231,Odds!G:G,0)))","v":""}]
[null,null,null,null,null,null,null,null,null,null,null,null,null,null,null,null,null,null,null,null,null,null,null,null,null,null,null,{"$f":"IF(O232=\"\",\"\",INDEX(Odds!H:H,MATCH(O232,Odds!G:G,0)))","v":""}]
[null,null,null,null,null,null,null,null,null,null,null,null,null,null,null,null,null,null,null,null,null,null,null,null,null,null,null,{"$f":"IF(O233=\"\",\"\",INDEX(Odds!H:H,MATCH(O233,Odds!G:G,0)))","v":""}]
[null,null,null,null,null,null,null,null,null,null,null,null,null,null,null,null,null,null,null,null,null,null,null,null,null,null,null,{"$f":"IF(O234=\"\",\"\",INDEX(Odds!H:H,MATCH(O234,Odds!G:G,0)))","v":""}]
[null,null,null,null,null,null,null,null,null,null,null,null,null,null,null,null,null,null,null,null,null,null,null,null,null,null,null,{"$f":"IF(O235=\"\",\"\",INDEX(Odds!H:H,MATCH(O235,Odds!G:G,0)))","v":""}]
[null,null,null,null,null,null,null,null,null,null,null,null,null,null,null,null,null,null,null,null,null,null,null,null,null,null,null,{"$f":"IF(O236=\"\",\"\",INDEX(Odds!H:H,MATCH(O236,Odds!G:G,0)))","v":""}]
[null,null,null,null,null,null,null,null,null,null,null,null,null,null,null,null,null,null,null,null,null,null,null,null,null,null,null,{"$f":"IF(O237=\"\",\"\",INDEX(Odds!H:H,MATCH(O237,Odds!G:G,0)))","v":""}]
[null,null,null,null,null,null,null,null,null,null,null,null,null,null,null,null,null,null,null,null,null,null,null,null,null,null,null,{"$f":"IF(O238=\"\",\"\",INDEX(Odds!H:H,MATCH(O238,Odds!G:G,0)))","v":""}]
[null,null,null,null,null,null,null,null,null,null,null,null,null,null,null,null,null,null,null,null,null,null,null,null,null,null,null,{"$f":"IF(O239=\"\",\"\",INDEX(Odds!H:H,MATCH(O239,Odds!G:G,0)))","v":""}]
[null,null,null,null,null,null,null,null,null,null,null,null,null,null,null,null,null,null,null,null,null,null,null,null,null,null,null,{"$f":"IF(O240=\"\",\"\",INDEX(Odds!H:H,MATCH(O240,Odds!G:G,0)))","v":""}]
[null,null,null,null,null,null,null,null,null,null,null,null,null,null,null,null,null,null,null,null,null,null,null,null,null,null,null,{"$f":"IF(O241=\"\",\"\",INDEX(Odds!H:H,MATCH(O241,Odds!G:G,0)))","v":""}]
[null,null,null,null,null,null,null,null,null,null,null,null,null,null,null,null,null,null,null,null,null,null,null,null,null,null,null,{"$f":"IF(O242=\"\",\"\",INDEX(Odds!H:H,MATCH(O242,Odds!G:G,0)))","v":""}]
[null,null,null,null,null,null,null,null,null,null,null,null,null,null,null,null,null,null,null,null,null,null,null,null,null,null,null,{"$f":"IF(O243=\"\",\"\",INDEX(Odds!H:H,MATCH(O243,Odds!G:G,0)))","v":""}]
[null,null,null,null,null,null,null,null,null,null,null,null,null,null,null,null,null,null,null,null,null,null,null,null,null,null,null,{"$f":"IF(O244=\"\",\"\",INDEX(Odds!H:H,MATCH(O244,Odds!G:G,0)))","v":""}]
[null,null,null,null,null,null,null,null,null,null,null,null,null,null,null,null,null,null,null,null,null,null,null,null,null,null,null,{"$f":"IF(O245=\"\",\"\",INDEX(Odds!H:H,MATCH(O245,Odds!G:G,0)))","v":""}]
[null,null,null,null,null,null,null,null,null,null,null,null,null,null,null,null,null,null,null,null,null,null,null,null,null,null,null,{"$f":"IF(O246=\"\",\"\",INDEX(Odds!H:H,MATCH(O246,Odds!G:G,0)))","v":""}]
[null,null,null,null,null,null,null,null,null,null,null,null,null,null,null,null,null,null,null,null,null,null,null,null,null,null,null,{"$f":"IF(O247=\"\",\"\",INDEX(Odds!H:H,MATCH(O247,Odds!G:G,0)))","v":""}]
[null,null,null,null,null,null,null,null,null,null,null,null,null,null,null,null,null,null,null,null,null,null,null,null,null,null,null,{"$f":"IF(O248=\"\",\"\",INDEX(Odds!H:H,MATCH(O248,Odds!G:G,0)))","v":""}]
[null,null,null,null,null,null,null,null,null,null,null,null,null,null,null,null,null,null,null,null,null,null,null,null,null,null,null,{"$f":"IF(O249=\"\",\"\",INDEX(Odds!H:H,MATCH(O249,Odds!G:G,0)))","v":""}]
[null,null,null,null,null,null,null,null,null,null,null,null,null,null,null,null,null,null,null,null,null,null,null,null,null,null,null,{"$f":"IF(O250=\"\",\"\",INDEX(Odds!H:H,MATCH(O250,Odds!G:G,0)))","v":""}]
[null,null,null,null,null,null,null,null,null,null,null,null,null,null,null,null,null,null,null,null,null,null,null,null,null,null,null,{"$f":"IF(O251=\"\",\"\",INDEX(Odds!H:H,MATCH(O251,Odds!G:G,0)))","v":""}]
[null,null,null,null,null,null,null,null,null,null,null,null,null,null,null,null,null,null,null,null,null,null,null,null,null,null,null,{"$f":"IF(O252=\"\",\"\",INDEX(Odds!H:H,MATCH(O252,Odds!G:G,0)))","v":""}]
[null,null,null,null,null,null,null,null,null,null,null,null,null,null,null,null,null,null,null,null,null,null,null,null,null,null,null,{"$f":"IF(O253=\"\",\"\",INDEX(Odds!H:H,MATCH(O253,Odds!G:G,0)))","v":""}]
[null,null,null,null,null,null,null,null,null,null,null,null,null,null,null,null,null,null,null,null,null,null,null,null,null,null,null,{"$f":"IF(O254=\"\",\"\",INDEX(Odds!H:H,MATCH(O254,Odds!G:G,0)))","v":""}]
[null,null,null,null,null,null,null,null,null,null,null,null,null,null,null,null,null,null,null,null,null,null,null,null,null,null,null,{"$f":"IF(O255=\"\",\"\",INDEX(Odds!H:H,MATCH(O255,Odds!G:G,0)))","v":""}]
[null,null,null,null,null,null,null,null,null,null,null,null,null,null,null,null,null,null,null,null,null,null,null,null,null,null,null,{"$f":"IF(O256=\"\",\"\",INDEX(Odds!H:H,MATCH(O256,Odds!G:G,0)))","v":""}]
[null,null,null,null,null,null,null,null,null,null,null,null,null,null,null,null,null,null,null,null,null,null,null,null,null,null,null,{"$f":"IF(O257=\"\",\"\",INDEX(Odds!H:H,MATCH(O257,Odds!G:G,0)))","v":""}]
[null,null,null,null,null,null,null,null,null,null,null,null,null,null,null,null,null,null,null,null,null,null,null,null,null,null,null,{"$f":"IF(O258=\"\",\"\",INDEX(Odds!H:H,MATCH(O258,Odds!G:G,0)))","v":""}]
[null,null,null,null,null,null,null,null,null,null,null,null,null,null,null,null,null,null,null,null,null,null,null,null,null,null,null,{"$f":"IF(O259=\"\",\"\",INDEX(Odds!H:H,MATCH(O259,Odds!G:G,0)))","v":""}]
[null,null,null,null,null,null,null,null,null,null,null,null,null,null,null,null,null,null,null,null,null,null,null,null,null,null,null,{"$f":"IF(O260=\"\",\"\",INDEX(Odds!H:H,MATCH(O260,Odds!G:G,0)))","v":""}]
[null,null,null,null,null,null,null,null,null,null,null,null,null,null,null,null,null,null,null,null,null,null,null,null,null,null,null,{"$f":"IF(O261=\"\",\"\",INDEX(Odds!H:H,MATCH(O261,Odds!G:G,0)))","v":""}]
[null,null,null,null,null,null,null,null,null,null,null,null,null,null,null,null,null,null,null,null,null,null,null,null,null,null,null,{"$f":"IF(O262=\"\",\"\",INDEX(Odds!H:H,MATCH(O262,Odds!G:G,0)))","v":""}]
[null,null,null,null,null,null,null,null,null,null,null,null,null,null,null,null,null,null,null,null,null,null,null,null,null,null,null,{"$f":"IF(O263=\"\",\"\",INDEX(Odds!H:H,MATCH(O263,Odds!G:G,0)))","v":""}]
[null,null,null,null,null,null,null,null,null,null,null,null,null,null,null,null,null,null,null,null,null,null,null,null,null,null,null,{"$f":"IF(O264=\"\",\"\",INDEX(Odds!H:H,MATCH(O264,Odds!G:G,0)))","v":""}]
[null,null,null,null,null,null,null,null,null,null,null,null,null,null,null,null,null,null,null,null,null,null,null,null,null,null,null,{"$f":"IF(O265=\"\",\"\",INDEX(Odds!H:H,MATCH(O265,Odds!G:G,0)))","v":""}]
[null,null,null,null,null,null,null,null,null,null,null,null,null,null,null,null,null,null,null,null,null,null,null,null,null,null,null,{"$f":"IF(O266=\"\",\"\",INDEX(Odds!H:H,MATCH(O266,Odds!G:G,0)))","v":""}]
[null,null,null,null,null,null,null,null,null,null,null,null,null,null,null,null,null,null,null,null,null,null,null,null,null,null,null,{"$f":"IF(O267=\"\",\"\",INDEX(Odds!H:H,MATCH(O267,Odds!G:G,0)))","v":""}]
[null,null,null,null,null,null,null,null,null,null,null,null,null,null,null,null,null,null,null,null,null,null,null,null,null,null,null,{"$f":"IF(O268=\"\",\"\",INDEX(Odds!H:H,MATCH(O268,Odds!G:G,0)))","v":""}]
[null,null,null,null,null,null,null,null,null,null,null,null,null,null,null,null,null,null,null,null,null,null,null,null,null,null,null,{"$f":"IF(O269=\"\",\"\",INDEX(Odds!H:H,MATCH(O269,Odds!G:G,0)))","v":""}]
[null,null,null,null,null,null,null,null,null,null,null,null,null,null,null,null,null,null,null,null,null,null,null,null,null,null,null,{"$f":"IF(O270=\"\",\"\",INDEX(Odds!H:H,MATCH(O270,Odds!G:G,0)))","v":""}]
[null,null,null,null,null,null,null,null,null,null,null,null,null,null,null,null,null,null,null,null,null,null,null,null,null,null,null,{"$f":"IF(O271=\"\",\"\",INDEX(Odds!H:H,MATCH(O271,Odds!G:G,0)))","v":""}]
[null,null,null,null,null,null,null,null,null,null,null,null,null,null,null,null,null,null,null,null,null,null,null,null,null,null,null,{"$f":"IF(O272=\"\",\"\",INDEX(Odds!H:H,MATCH(O272,Odds!G:G,0)))","v":""}]
[null,null,null,null,null,null,null,null,null,null,null,null,null,null,null,null,null,null,null,null,null,null,null,null,null,null,null,{"$f":"IF(O273=\"\",\"\",INDEX(Odds!H:H,MATCH(O273,Odds!G:G,0)))","v":""}]
[null,null,null,null,null,null,null,null,null,null,null,null,null,null,null,null,null,null,null,null,null,null,null,null,null,null,null,{"$f":"IF(O274=\"\",\"\",INDEX(Odds!H:H,MATCH(O274,Odds!G:G,0)))","v":""}]
[null,null,null,null,null,null,null,null,null,null,null,null,null,null,null,null,null,null,null,null,null,null,null,null,null,null,null,{"$f":"IF(O275=\"\",\"\",INDEX(Odds!H:H,MATCH(O275,Odds!G:G,0)))","v":""}]
[null,null,null,null,null,null,null,null,null,null,null,null,null,null,null,null,null,null,null,null,null,null,null,null,null,null,null,{"$f":"IF(O276=\"\",\"\",INDEX(Odds!H:H,MATCH(O276,Odds!G:G,0)))","v":""}]
[null,null,null,null,null,null,null,null,null,null,null,null,null,null,null,null,null,null,null,null,null,null,null,null,null,null,null,{"$f":"IF(O277=\"\",\"\",INDEX(Odds!H:H,MATCH(O277,Odds!G:G,0)))","v":""}]
[null,null,null,null,null,null,null,null,null,null,null,null,null,null,null,null,null,null,null,null,null,null,null,null,null,null,null,{"$f":"IF(O278=\"\",\"\",INDEX(Odds!H:H,MATCH(O278,Odds!G:G,0)))","v":""}]
[null,null,null,null,null,null,null,null,null,null,null,null,null,null,null,null,null,null,null,null,null,null,null,null,null,null,null,{"$f":"IF(O279=\"\",\"\",INDEX(Odds!H:H,MATCH(O279,Odds!G:G,0)))","v":""}]
[null,null,null,null,null,null,null,null,null,null,null,null,null,null,null,null,null,null,null,null,null,null,null,null,null,null,null,{"$f":"IF(O280=\"\",\"\",INDEX(Odds!H:H,MATCH(O280,Odds!G:G,0)))","v":""}]
[null,null,null,null,null,null,null,null,null,null,null,null,null,null,null,null,null,null,null,null,null,null,null,null,null,null,null,{"$f":"IF(O281=\"\",\"\",INDEX(Odds!H:H,MATCH(O281,Odds!G:G,0)))","v":""}]
[null,null,null,null,null,null,null,null,null,null,null,null,null,null,null,null,null,null,null,null,null,null,null,null,null,null,null,{"$f":"IF(O282=\"\",\"\",INDEX(Odds!H:H,MATCH(O282,Odds!G:G,0)))","v":""}]
[null,null,null,null,null,null,null,null,null,null,null,null,null,null,null,null,null,null,null,null,null,null,null,null,null,null,null,{"$f":"IF(O283=\"\",\"\",INDEX(Odds!H:H,MATCH(O283,Odds!G:G,0)))","v":""}]
[null,null,null,null,null,null,null,null,null,null,null,null,null,null,null,null,null,null,null,null,null,null,null,null,null,null,null,{"$f":"IF(O284=\"\",\"\",INDEX(Odds!H:H,MATCH(O284,Odds!G:G,0)))","v":""}]
[null,null,null,null,null,null,null,null,null,null,null,null,null,null,null,null,null,null,null,null,null,null,null,null,null,null,null,{"$f":"IF(O285=\"\",\"\",INDEX(Odds!H:H,MATCH(O285,Odds!G:G,0)))","v":""}]
[null,null,null,null,null,null,null,null,null,null,null,null,null,null,null,null,null,null,null,null,null,null,null,null,null,null,null,{"$f":"IF(O286=\"\",\"\",INDEX(Odds!H:H,MATCH(O286,Odds!G:G,0)))","v":""}]
[null,null,null,null,null,null,null,null,null,null,null,null,null,null,null,null,null,null,null,null,null,null,null,null,null,null,null,{"$f":"IF(O287=\"\",\"\",INDEX(Odds!H:H,MATCH(O287,Odds!G:G,0)))","v":""}]
[null,null,null,null,null,null,null,null,null,null,null,null,null,null,null,null,null,null,null,null,null,null,null,null,null,null,null,{"$f":"IF(O288=\"\",\"\",INDEX(Odds!H:H,MATCH(O288,Odds!G:G,0)))","v":""}]
[null,null,null,null,null,null,null,null,null,null,null,null,null,null,null,null,null,null,null,null,null,null,null,null,null,null,null,{"$f":"IF(O289=\"\",\"\",INDEX(Odds!H:H,MATCH(O289,Odds!G:G,0)))","v":""}]

{"sheet":"Results","index":11,"n_rows":189,"n_cols":37,"rows_kept":189,"cut":false,"hidden":false,"merged":[]}
["stake",null,"team","frac","dec","played","bet up","win","Entrants","Bet1","Bet2","Bet3","single 1","single 2","single 3","double 1","double 2","double 3","treble","total","bets in","Entrants","played","Max","Pred1","Pred2","Pred3","single 1","single 2","single 3","double 1","double 2","double 3","treble","total",null,"Deducts"]
[1,{"$f":"$V2","v":"Alan Bond"},{"$f":"Picks!B2","v":"Wigan"},{"$f":"Picks!C2","v":7},{"$f":"Picks!D2","v":2.6},{"$f":"IF(C2=\"\",\"\",INDEX(Odds!K:K,MATCH(C2,Odds!G:G,0)))","v":1},{"$f":"IF(C2=\"\",\"\",Picks!M2)","v":1},{"$f":"IF(C2=\"\",\"\",+((E2-1)*G2*F2*A$2))","v":1.6},{"$f":"IF(V2=\"\",\"\",V2)","v":"Alan Bond"},{"$f":"H2","v":1.6},{"$f":"H3","v":0},{"$f":"H4","v":0},{"$f":"IF(J2=0,0,1)+J2","v":2.6},{"$f":"IF(K2=0,0,1)+K2","v":0},{"$f":"IF(L2=0,0,1)+L2","v":0},{"$f":"IF(K2=0,0,(M2*K2)+M2)","v":0},{"$f":"IF(L2=0,0,(N2*L2)+N2)","v":0},{"$f":"IF(J2=0,0,(O2*J2)+O2)","v":0},{"$f":"IF(L2=0,0,(P2*L2)+P2)","v":0},{"$f":"SUM(M2:S2)-(IF(W2=1,A$2*1,0))-(IF(W2=2,A$2*3,0))-(IF(W2=3,A$2*7,0))","v":-4.4000000000000004},{"$f":"SUM(G2:G4)","v":1},"Alan Bond",{"$f":"SUM(F2:F4)","v":3},{"$f":"+((E2-1)*F2*A$2)","v":1.6},{"$f":"X2","v":1.6},{"$f":"X3","v":1.4500000000000002},{"$f":"X4","v":1.1000000000000001},{"$f":"IF(Y2=0,0,1)+Y2","v":2.6},{"$f":"IF(Z2=0,0,1)+Z2","v":2.4500000000000002},{"$f":"IF(AA2=0,0,1)+AA2","v":2.1},{"$f":"IF(Z2=0,0,(AB2*Z2)+AB2)","v":6.370000000000001},{"$f":"IF(AA2=0,0,(AC2*AA2)+AC2)","v":5.1450000000000005},{"$f":"IF(Y2=0,0,(AD2*Y2)+AD2)","v":5.4600000000000009},{"$f":"IF(AA2=0,0,(AE2*AA2)+AE2)","v":13.377000000000002},{"$f":"SUM(AB2:AH2)-AK2","v":30.50200000000001},{"$f":"$V2","v":"Alan Bond"},{"$f":"IF(W2=3,7,IF(W2=2,3,1))","v":7}]
[null,null,{"$f":"Picks!B3","v":"Barrow"},{"$f":"Picks!C3","v":7},{"$f":"Picks!D3","v":2.4500000000000002},{"$f":"IF(C3=\"\",\"\",INDEX(Odds!K:K,MATCH(C3,Odds!G:G,0)))","v":1},{"$f":"IF(C3=\"\",\"\",Picks!M3)","v":0},{"$f":"IF(C3=\"\",\"\",+((E3-1)*G3*F3*A$2))","v":0},{"$f":"IF(V3=\"\",\"\",V3)","v":"Alan Rogers"},{"$f":"H5","v":0},{"$f":"H6","v":0},{"$f":"H7","v":1.4},0,0,2.4,{"$f":"IF(K3=0,0,(M3*K3)+M3)","v":0},{"$f":"IF(L3=0,0,(N3*L3)+N3)","v":0},{"$f":"IF(J3=0,0,(O3*J3)+O3)","v":0},{"$f":"IF(L3=0,0,(P3*L3)+P3)","v":0},{"$f":"SUM(M3:S3)-(IF(W3=1,A$2*1,0))-(IF(W3=2,A$2*3,0))-(IF(W3=3,A$2*7,0))","v":-4.5999999999999996},{"$f":"SUM(G5:G7)","v":1},"Alan Rogers",{"$f":"SUM(F5:F7)","v":3},1.4500000000000002,{"$f":"X5","v":1.875},{"$f":"X6","v":2.1},{"$f":"X7","v":1.4},{"$f":"IF(Y3=0,0,1)+Y3","v":2.875},{"$f":"IF(Z3=0,0,1)+Z3","v":3.1},{"$f":"IF(AA3=0,0,1)+AA3","v":2.4},{"$f":"IF(Z3=0,0,(AB3*Z3)+AB3)","v":8.9125000000000014},{"$f":"IF(AA3=0,0,(AC3*AA3)+AC3)","v":7.4399999999999995},{"$f":"IF(Y3=0,0,(AD3*Y3)+AD3)","v":6.9},{"$f":"IF(AA3=0,0,(AE3*AA3)+AE3)","v":21.39},{"$f":"SUM(AB3:AH3)-AK3","v":46.017499999999998},{"$f":"$V3","v":"Alan Rogers"},{"$f":"IF(W3=3,7,IF(W3=2,3,1))","v":7}]
[null,null,{"$f":"Picks!B4","v":"Sutton"},{"$f":"Picks!C4","v":7},{"$f":"Picks!D4","v":2.1},{"$f":"IF(C4=\"\",\"\",INDEX(Odds!K:K,MATCH(C4,Odds!G:G,0)))","v":1},{"$f":"IF(C4=\"\",\"\",Picks!M4)","v":0},0,"Alan White",{"$f":"H8","v":0},{"$f":"H9","v":0},{"$f":"H10","v":0},0,0,0,0,0,0,{"$f":"IF(L4=0,0,(P4*L4)+P4)","v":0},-7,{"$f":"SUM(G8:G10)","v":0},"Alan White",{"$f":"SUM(F8:F10)","v":3},1.1000000000000001,{"$f":"X8","v":2.2000000000000002},{"$f":"X9","v":1.1499999999999999},{"$f":"X10","v":1.6},3.2,2.15,2.6,{"$f":"IF(Z4=0,0,(AB4*Z4)+AB4)","v":6.88},{"$f":"IF(AA4=0,0,(AC4*AA4)+AC4)","v":5.59},{"$f":"IF(Y4=0,0,(AD4*Y4)+AD4)","v":8.32},{"$f":"IF(AA4=0,0,(AE4*AA4)+AE4)","v":17.888000000000002},39.628,"Alan White",7]
[null,{"$f":"$V3","v":"Alan Rogers"},{"$f":"Picks!B5","v":"Crawley"},{"$f":"Picks!C5","v":7},{"$f":"Picks!D5","v":2.875},{"$f":"IF(C5=\"\",\"\",INDEX(Odds!K:K,MATCH(C5,Odds!G:G,0)))","v":1},{"$f":"IF(C5=\"\",\"\",Picks!M5)","v":0},0,"Alfie Davies",{"$f":"H11","v":0},{"$f":"H12","v":0},{"$f":"H13","v":0.85000000000000009},0,0,1.85,0,0,0,0,-5.15,{"$f":"SUM(G11:G13)","v":1},"Alfie Davies",{"$f":"SUM(F11:F13)","v":3},1.875,{"$f":"X11","v":3.4000000000000004},{"$f":"X12","v":1.7999999999999998},{"$f":"X13","v":0.85000000000000009},4.4000000000000004,2.8,1.85,12.32,5.18,8.14,22.792000000000002,50.481999999999999,"Alfie Davies",7]
[null,null,{"$f":"Picks!B6","v":"Orient draw"},{"$f":"Picks!C6","v":7},{"$f":"Picks!D6","v":3.1},{"$f":"IF(C6=\"\",\"\",INDEX(Odds!K:K,MATCH(C6,Odds!G:G,0)))","v":1},{"$f":"IF(C6=\"\",\"\",Picks!M6)","v":0},0,"Alick Rocca",{"$f":"H14","v":2.2999999999999998},{"$f":"H15","v":2},{"$f":"H16","v":0},3.3,3,0,9.8999999999999986,0,0,0,9.1999999999999993,{"$f":"SUM(G14:G16)","v":2},"Alick Rocca",{"$f":"SUM(F14:F16)","v":3},2.1,{"$f":"X14","v":2.2999999999999998},{"$f":"X15","v":2},{"$f":"X16","v":2.2000000000000002},3.3,3,3.2,9.8999999999999986,9.6000000000000014,10.559999999999999,31.679999999999996,64.239999999999995,"Alick Rocca",7]
[null,null,{"$f":"Picks!B7","v":"Salford"},{"$f":"Picks!C7","v":7},{"$f":"Picks!D7","v":2.4},{"$f":"IF(C7=\"\",\"\",INDEX(Odds!K:K,MATCH(C7,Odds!G:G,0)))","v":1},{"$f":"IF(C7=\"\",\"\",Picks!M7)","v":1},1.4,"Andy Charleston",{"$f":"H17","v":0},{"$f":"H18","v":0.39999999999999991},{"$f":"H19","v":0},0,1.4,0,0,0,0,0,-5.6,{"$f":"SUM(G17:G19)","v":1},"Andy Charleston",{"$f":"SUM(F17:F19)","v":3},1.4,{"$f":"X17","v":1.25},{"$f":"X18","v":0.39999999999999991},{"$f":"X19","v":4},2.25,1.4,5,3.15,7,11.25,15.75,38.799999999999997,"Andy Charleston",7]
[null,{"$f":"$V4","v":"Alan White"},{"$f":"Picks!B8","v":"Luton"},{"$f":"Picks!C8","v":7},{"$f":"Picks!D8","v":3.2},{"$f":"IF(C8=\"\",\"\",INDEX(Odds!K:K,MATCH(C8,Odds!G:G,0)))","v":1},{"$f":"IF(C8=\"\",\"\",Picks!M8)","v":0},0,"Andy Hargreaves",{"$f":"H20","v":""},{"$f":"H21","v":""},{"$f":"H22","v":""},{"$error":"#VALUE!"},{"$error":"#VALUE!"},{"$error":"#VALUE!"},{"$error":"#VALUE!"},{"$error":"#VALUE!"},{"$error":"#VALUE!"},{"$error":"#VALUE!"},{"$error":"#VALUE!"},{"$f":"SUM(G20:G22)","v":0},"Andy Hargreaves",{"$f":"SUM(F20:F22)","v":0},2.2000000000000002,{"$f":"X20","v":{"$error":"#VALUE!"}},{"$f":"X21","v":{"$error":"#VALUE!"}},{"$f":"X22","v":{"$error":"#VALUE!"}},{"$error":"#VALUE!"},{"$error":"#VALUE!"},{"$error":"#VALUE!"},{"$error":"#VALUE!"},{"$error":"#VALUE!"},{"$error":"#VALUE!"},{"$error":"#VALUE!"},{"$error":"#VALUE!"},"Andy Hargreaves",1]
[null,null,{"$f":"Picks!B9","v":"Forest Green"},{"$f":"Picks!C9","v":7},{"$f":"Picks!D9","v":2.15},{"$f":"IF(C9=\"\",\"\",INDEX(Odds!K:K,MATCH(C9,Odds!G:G,0)))","v":1},{"$f":"IF(C9=\"\",\"\",Picks!M9)","v":0},0,"Andy White",{"$f":"H23","v":0},{"$f":"H24","v":0.72727272727272729},{"$f":"H25","v":0},0,1.7272727272727273,0,0,0,0,0,-5.2727272727272725,{"$f":"SUM(G23:G25)","v":1},"Andy White",{"$f":"SUM(F23:F25)","v":3},1.1499999999999999,{"$f":"X23","v":1},{"$f":"X24","v":0.72727272727272729},{"$f":"X25","v":1.75},2,1.7272727272727273,2.75,3.4545454545454546,4.75,5.5,9.5,22.68181818181818,"Andy White",7]
[null,null,{"$f":"Picks!B10","v":"Harrogate"},{"$f":"Picks!C10","v":7},{"$f":"Picks!D10","v":2.6},{"$f":"IF(C10=\"\",\"\",INDEX(Odds!K:K,MATCH(C10,Odds!G:G,0)))","v":1},{"$f":"IF(C10=\"\",\"\",Picks!M10)","v":0},0,"Ashley Houghton",{"$f":"H26","v":0},{"$f":"H27","v":0.39999999999999991},{"$f":"H28","v":0.8},0,1.4,1.8,0,2.5199999999999996,0,0,-1.2800000000000002,{"$f":"SUM(G26:G28)","v":2},"Ashley Houghton",{"$f":"SUM(F26:F28)","v":3},1.6,{"$f":"X26","v":1.25},{"$f":"X27","v":0.39999999999999991},{"$f":"X28","v":0.8},2.25,1.4,1.8,3.15,2.5199999999999996,4.05,5.67,13.839999999999996,"Ashley Houghton",7]
[null,{"$f":"$V5","v":"Alfie Davies"},{"$f":"Picks!B11","v":"Blackpool"},{"$f":"Picks!C11","v":7},{"$f":"Picks!D11","v":4.4000000000000004},{"$f":"IF(C11=\"\",\"\",INDEX(Odds!K:K,MATCH(C11,Odds!G:G,0)))","v":1},{"$f":"IF(C11=\"\",\"\",Picks!M11)","v":0},0,"Barry Birchall",{"$f":"H29","v":0},{"$f":"H30","v":0.64999999999999991},{"$f":"H31","v":0},0,1.65,0,0,0,0,0,-5.35,{"$f":"SUM(G29:G31)","v":1},"Barry Birchall",{"$f":"SUM(F29:F31)","v":3},3.4000000000000004,{"$f":"X29","v":1},{"$f":"X30","v":0.64999999999999991},{"$f":"X31","v":2.1},2,1.65,3.1,3.3,5.1150000000000002,6.2,10.23,24.595000000000002,"Barry Birchall",7]
[null,null,{"$f":"Picks!B12","v":"Swansea"},{"$f":"Picks!C12","v":7},{"$f":"Picks!D12","v":2.8},{"$f":"IF(C12=\"\",\"\",INDEX(Odds!K:K,MATCH(C12,Odds!G:G,0)))","v":1},{"$f":"IF(C12=\"\",\"\",Picks!M12)","v":0},0,"Ben Rosser",{"$f":"H32","v":2.2000000000000002},{"$f":"H33","v":2.2999999999999998},{"$f":"H34","v":0},3.2,3.3,0,10.559999999999999,0,0,0,10.059999999999999,{"$f":"SUM(G32:G34)","v":2},"Ben Rosser",{"$f":"SUM(F32:F34)","v":3},1.7999999999999998,{"$f":"X32","v":2.2000000000000002},{"$f":"X33","v":2.2999999999999998},{"$f":"X34","v":1.625},3.2,3.3,2.625,10.559999999999999,8.6624999999999996,8.4,27.719999999999995,57.467499999999987,"Ben Rosser",7]
[null,null,{"$f":"Picks!B13","v":"West Brom"},{"$f":"Picks!C13","v":7},{"$f":"Picks!D13","v":1.85},{"$f":"IF(C13=\"\",\"\",INDEX(Odds!K:K,MATCH(C13,Odds!G:G,0)))","v":1},{"$f":"IF(C13=\"\",\"\",Picks!M13)","v":1},0.85000000000000009,"Bob Bailey",{"$f":"H35","v":0},{"$f":"H36","v":0},{"$f":"H37","v":0},0,0,0,0,0,0,0,-7,{"$f":"SUM(G35:G37)","v":0},"Bob Bailey",{"$f":"SUM(F35:F37)","v":3},0.85000000000000009,{"$f":"X35","v":4},{"$f":"X36","v":1.1499999999999999},{"$f":"X37","v":1.875},5,2.15,2.875,10.75,6.1812500000000004,14.375,30.90625,65.237499999999997,"Bob Bailey",7]
[null,{"$f":"$V6","v":"Alick Rocca"},{"$f":"Picks!B14","v":"Liverpool Draw"},{"$f":"Picks!C14","v":7},{"$f":"Picks!D14","v":3.3},{"$f":"IF(C14=\"\",\"\",INDEX(Odds!K:K,MATCH(C14,Odds!G:G,0)))","v":1},{"$f":"IF(C14=\"\",\"\",Picks!M14)","v":1},2.2999999999999998,"Charlie Griffiths",{"$f":"H38","v":0},{"$f":"H39","v":0},{"$f":"H40","v":0},0,0,0,0,0,0,0,-7,{"$f":"SUM(G38:G40)","v":0},"Charlie Griffiths",{"$f":"SUM(F38:F40)","v":3},2.2999999999999998,{"$f":"X38","v":1.875},{"$f":"X39","v":1.2999999999999998},{"$f":"X40","v":2.4},2.875,2.2999999999999998,3.4,6.6124999999999989,7.8199999999999994,9.7750000000000004,22.482499999999995,48.264999999999993,"Charlie Griffiths",7]
[null,null,{"$f":"Picks!B15","v":"Derby Draw"},{"$f":"Picks!C15","v":7},{"$f":"Picks!D15","v":3},{"$f":"IF(C15=\"\",\"\",INDEX(Odds!K:K,MATCH(C15,Odds!G:G,0)))","v":1},{"$f":"IF(C15=\"\",\"\",Picks!M15)","v":1},2,"Chris Bow",{"$f":"H41","v":0},{"$f":"H42","v":1},{"$f":"H43","v":1.6},0,2,2.6,0,5.2,0,0,2.8000000000000007,{"$f":"SUM(G41:G43)","v":2},"Chris Bow",{"$f":"SUM(F41:F43)","v":3},2,{"$f":"X41","v":2.2000000000000002},{"$f":"X42","v":1},{"$f":"X43","v":1.6},3.2,2,2.6,6.4,5.2,8.32,16.64,37.36,"Chris Bow",7]
[null,null,{"$f":"Picks!B16","v":"Brighton Draw"},{"$f":"Picks!C16","v":7},{"$f":"Picks!D16","v":3.2},{"$f":"IF(C16=\"\",\"\",INDEX(Odds!K:K,MATCH(C16,Odds!G:G,0)))","v":1},{"$f":"IF(C16=\"\",\"\",Picks!M16)","v":0},0,"Chris Griffin",{"$f":"H44","v":2.2999999999999998},{"$f":"H45","v":0},{"$f":"H46","v":0},3.3,0,0,0,0,0,0,-3.7,{"$f":"SUM(G44:G46)","v":1},"Chris Griffin",{"$f":"SUM(F44:F46)","v":3},2.2000000000000002,{"$f":"X44","v":2.2999999999999998},{"$f":"X45","v":1.75},{"$f":"X46","v":2.2000000000000002},3.3,2.75,3.2,9.0749999999999993,8.8000000000000007,10.559999999999999,29.04,59.724999999999994,"Chris Griffin",7]
[null,{"$f":"$V7","v":"Andy Charleston"},{"$f":"Picks!B17","v":"Leeds"},{"$f":"Picks!C17","v":1},{"$f":"Picks!D17","v":2.25},{"$f":"IF(C17=\"\",\"\",INDEX(Odds!K:K,MATCH(C17,Odds!G:G,0)))","v":1},{"$f":"IF(C17=\"\",\"\",Picks!M17)","v":0},0,"Chris Luck",{"$f":"H47","v":2.2000000000000002},{"$f":"H48","v":0},{"$f":"H49","v":0},3.2,0,0,0,0,0,0,-3.8,{"$f":"SUM(G47:G49)","v":1},"Chris Luck",{"$f":"SUM(F47:F49)","v":3},1.25,{"$f":"X47","v":2.2000000000000002},{"$f":"X48","v":1.75},{"$f":"X49","v":1.1499999999999999},3.2,2.75,2.15,8.8000000000000007,5.9124999999999996,6.8800000000000008,18.920000000000002,41.612500000000004,"Chris Luck",7]
[null,null,{"$f":"Picks!B18","v":"Spurs"},{"$f":"Picks!C18","v":1},{"$f":"Picks!D18","v":1.4},{"$f":"IF(C18=\"\",\"\",INDEX(Odds!K:K,MATCH(C18,Odds!G:G,0)))","v":1},{"$f":"IF(C18=\"\",\"\",Picks!M18)","v":1},0.39999999999999991,"Chris Townsend",{"$f":"H50","v":0},{"$f":"H51","v":0},{"$f":"H52","v":0},0,0,0,0,0,0,0,-7,{"$f":"SUM(G50:G52)","v":0},"Chris Townsend",{"$f":"SUM(F50:F52)","v":3},0.39999999999999991,{"$f":"X50","v":2.7},{"$f":"X51","v":4.8},{"$f":"X52","v":3},3.7,5.8,4,21.46,23.2,14.8,85.84,151.80000000000001,"Chris Townsend",7]
[null,null,{"$f":"Picks!B19","v":"Wolves"},{"$f":"Picks!C19","v":1},{"$f":"Picks!D19","v":5},{"$f":"IF(C19=\"\",\"\",INDEX(Odds!K:K,MATCH(C19,Odds!G:G,0)))","v":1},{"$f":"IF(C19=\"\",\"\",Picks!M19)","v":0},0,"Dan Gibbard",{"$f":"H53","v":2.2999999999999998},{"$f":"H54","v":0.25},{"$f":"H55","v":1.1499999999999999},3.3,1.25,2.15,4.125,2.6875,7.0949999999999989,8.8687499999999986,22.476249999999997,{"$f":"SUM(G53:G55)","v":3},"Dan Gibbard",{"$f":"SUM(F53:F55)","v":3},4,{"$f":"X53","v":2.2999999999999998},{"$f":"X54","v":0.25},{"$f":"X55","v":1.1499999999999999},3.3,1.25,2.15,4.125,2.6875,7.0949999999999989,8.8687499999999986,22.476249999999997,"Dan Gibbard",7]
[null,{"$f":"$V8","v":"Andy Hargreaves"},{"$f":"Picks!B20","v":""},{"$f":"Picks!C20","v":""},{"$f":"Picks!D20","v":""},{"$f":"IF(C20=\"\",\"\",INDEX(Odds!K:K,MATCH(C20,Odds!G:G,0)))","v":""},{"$f":"IF(C20=\"\",\"\",Picks!M20)","v":""},"","Dave Bell",{"$f":"H56","v":0},{"$f":"H57","v":0},{"$f":"H58","v":0},0,0,0,0,0,0,0,-7,{"$f":"SUM(G56:G58)","v":0},"Dave Bell",{"$f":"SUM(F56:F58)","v":3},{"$error":"#VALUE!"},{"$f":"X56","v":11},{"$f":"X57","v":7.5},{"$f":"X58","v":4.8},12,8.5,5.8,102,49.3,69.599999999999994,591.59999999999991,831.8,"Dave Bell",7]
[null,null,{"$f":"Picks!B21","v":""},{"$f":"Picks!C21","v":""},{"$f":"Picks!D21","v":""},{"$f":"IF(C21=\"\",\"\",INDEX(Odds!K:K,MATCH(C21,Odds!G:G,0)))","v":""},{"$f":"IF(C21=\"\",\"\",Picks!M21)","v":""},"","Dave Orrell",{"$f":"H59","v":1.1499999999999999},{"$f":"H60","v":0},{"$f":"H61","v":1.4},2.15,0,2.4,0,0,5.16,0,2.7100000000000009,{"$f":"SUM(G59:G61)","v":2},"Dave Orrell",{"$f":"SUM(F59:F61)","v":3},{"$error":"#VALUE!"},{"$f":"X59","v":1.1499999999999999},{"$f":"X60","v":1.5},{"$f":"X61","v":1.4},2.15,2.5,2.4,5.375,6,5.16,12.899999999999999,29.484999999999999,"Dave Orrell",7]
[null,null,{"$f":"Picks!B22","v":""},{"$f":"Picks!C22","v":""},{"$f":"Picks!D22","v":""},{"$f":"IF(C22=\"\",\"\",INDEX(Odds!K:K,MATCH(C22,Odds!G:G,0)))","v":""},{"$f":"IF(C22=\"\",\"\",Picks!M22)","v":""},"","David Dunn",{"$f":"H62","v":0},{"$f":"H63","v":0.25},{"$f":"H64","v":2.5},0,1.25,3.5,0,4.375,0,0,2.125,{"$f":"SUM(G62:G64)","v":2},"David Dunn",{"$f":"SUM(F62:F64)","v":3},{"$error":"#VALUE!"},{"$f":"X62","v":1.75},{"$f":"X63","v":0.25},{"$f":"X64","v":2.5},2.75,1.25,3.5,3.4375,4.375,9.625,12.03125,29.96875,"David Dunn",7]
[null,{"$f":"$V9","v":"Andy White"},{"$f":"Picks!B23","v":"Villa"},{"$f":"Picks!C23","v":7},{"$f":"Picks!D23","v":2},{"$f":"IF(C23=\"\",\"\",INDEX(Odds!K:K,MATCH(C23,Odds!G:G,0)))","v":1},{"$f":"IF(C23=\"\",\"\",Picks!M23)","v":0},0,"Frank Allen",{"$f":"H65","v":0},{"$f":"H66","v":0},{"$f":"H67","v":0.90909090909090917},0,0,1.9090909090909092,0,0,0,0,-5.0909090909090908,{"$f":"SUM(G65:G67)","v":1},"Frank Allen",{"$f":"SUM(F65:F67)","v":3},1,{"$f":"X65","v":1},{"$f":"X66","v":1.2999999999999998},{"$f":"X67","v":0.90909090909090917},2,2.2999999999999998,1.9090909090909092,4.5999999999999996,4.3909090909090907,3.8181818181818183,8.7818181818181813,20.799999999999997,"Frank Allen",7]
[null,null,{"$f":"Picks!B24","v":"Leicester"},{"$f":"Picks!C24","v":7},{"$f":"Picks!D24","v":1.7272727272727273},{"$f":"IF(C24=\"\",\"\",INDEX(Odds!K:K,MATCH(C24,Odds!G:G,0)))","v":1},{"$f":"IF(C24=\"\",\"\",Picks!M24)","v":1},0.72727272727272729,"Gareth McGuire",{"$f":"H68","v":1},{"$f":"H69","v":0},{"$f":"H70","v":0},2,0,0,0,0,0,0,-5,{"$f":"SUM(G68:G70)","v":1},"Gareth McGuire",{"$f":"SUM(F68:F70)","v":3},0.72727272727272729,{"$f":"X68","v":1},{"$f":"X69","v":1.2999999999999998},{"$f":"X70","v":0.90909090909090917},2,2.2999999999999998,1.9090909090909092,4.5999999999999996,4.3909090909090907,3.8181818181818183,8.7818181818181813,20.799999999999997,"Gareth McGuire",7]
[null,null,{"$f":"Picks!B25","v":"Chelsea"},{"$f":"Picks!C25","v":7},{"$f":"Picks!D25","v":2.75},{"$f":"IF(C25=\"\",\"\",INDEX(Odds!K:K,MATCH(C25,Odds!G:G,0)))","v":1},{"$f":"IF(C25=\"\",\"\",Picks!M25)","v":0},0,"Gareth Powell",{"$f":"H71","v":2.2999999999999998},{"$f":"H72","v":2.5},{"$f":"H73","v":0},3.3,3.5,0,11.55,0,0,0,11.350000000000001,{"$f":"SUM(G71:G73)","v":2},"Gareth Powell",{"$f":"SUM(F71:F73)","v":3},1.75,{"$f":"X71","v":2.2999999999999998},{"$f":"X72","v":2.5},{"$f":"X73","v":2.4},3.3,3.5,3.4,11.55,11.9,11.219999999999999,39.270000000000003,77.14,"Gareth Powell",7]
[null,{"$f":"$V10","v":"Ashley Houghton"},{"$f":"Picks!B26","v":"Leeds"},{"$f":"Picks!C26","v":1},{"$f":"Picks!D26","v":2.25},{"$f":"IF(C26=\"\",\"\",INDEX(Odds!K:K,MATCH(C26,Odds!G:G,0)))","v":1},{"$f":"IF(C26=\"\",\"\",Picks!M26)","v":0},0,"Gerard Ventom",{"$f":"H74","v":2.2000000000000002},{"$f":"H75","v":0},{"$f":"H76","v":0},3.2,0,0,0,0,0,0,-3.8,{"$f":"SUM(G74:G76)","v":1},"Gerard Ventom",{"$f":"SUM(F74:F76)","v":3},1.25,{"$f":"X74","v":2.2000000000000002},{"$f":"X75","v":1.625},{"$f":"X76","v":1.375},3.2,2.625,2.375,8.4,6.234375,7.6000000000000005,19.950000000000003,43.384375000000006,"Gerard Ventom",7]
[null,null,{"$f":"Picks!B27","v":"Spurs"},{"$f":"Picks!C27","v":1},{"$f":"Picks!D27","v":1.4},{"$f":"IF(C27=\"\",\"\",INDEX(Odds!K:K,MATCH(C27,Odds!G:G,0)))","v":1},{"$f":"IF(C27=\"\",\"\",Picks!M27)","v":1},0.39999999999999991,"Graham Miller",{"$f":"H77","v":1.625},{"$f":"H78","v":0},{"$f":"H79","v":0},2.625,0,0,0,0,0,0,-4.375,{"$f":"SUM(G77:G79)","v":1},"Graham Miller",{"$f":"SUM(F77:F79)","v":3},0.39999999999999991,{"$f":"X77","v":1.625},{"$f":"X78","v":2.2000000000000002},{"$f":"X79","v":1.2999999999999998},2.625,3.2,2.2999999999999998,8.4,7.3599999999999994,6.0374999999999996,19.32,42.2425,"Graham Miller",7]
[null,null,{"$f":"Picks!B28","v":"Man U"},{"$f":"Picks!C28","v":1},{"$f":"Picks!D28","v":1.8},{"$f":"IF(C28=\"\",\"\",INDEX(Odds!K:K,MATCH(C28,Odds!G:G,0)))","v":1},{"$f":"IF(C28=\"\",\"\",Picks!M28)","v":1},0.8,"Howard Bradley",{"$f":"H80","v":2.5},{"$f":"H81","v":0},{"$f":"H82","v":0},3.5,0,0,0,0,0,0,-3.5,{"$f":"SUM(G80:G82)","v":1},"Howard Bradley",{"$f":"SUM(F80:F82)","v":3},0.8,{"$f":"X80","v":2.5},{"$f":"X81","v":3.4000000000000004},{"$f":"X82","v":2.4},3.5,4.4000000000000004,3.4,15.400000000000002,14.96,11.9,52.36,98.92,"Howard Bradley",7]
[null,{"$f":"$V11","v":"Barry Birchall"},{"$f":"Picks!B29","v":"Burton"},{"$f":"Picks!C29","v":6},{"$f":"Picks!D29","v":2},{"$f":"IF(C29=\"\",\"\",INDEX(Odds!K:K,MATCH(C29,Odds!G:G,0)))","v":1},{"$f":"IF(C29=\"\",\"\",Picks!M29)","v":0},0,"Ian Davies",{"$f":"H83","v":0},{"$f":"H84","v":0},{"$f":"H85","v":0},0,0,0,0,0,0,0,-7,{"$f":"SUM(G83:G85)","v":0},"Ian Davies",{"$f":"SUM(F83:F85)","v":3},1,{"$f":"X83","v":2.4},{"$f":"X84","v":1.4500000000000002},{"$f":"X85","v":2.2000000000000002},3.4,2.4500000000000002,3.2,8.33,7.8400000000000007,10.879999999999999,26.655999999999999,55.756,"Ian Davies",7]
[null,null,{"$f":"Picks!B30","v":"Rotherham"},{"$f":"Picks!C30","v":7},{"$f":"Picks!D30","v":1.65},{"$f":"IF(C30=\"\",\"\",INDEX(Odds!K:K,MATCH(C30,Odds!G:G,0)))","v":1},{"$f":"IF(C30=\"\",\"\",Picks!M30)","v":1},0.64999999999999991,"Jack Walsh",{"$f":"H86","v":0},{"$f":"H87","v":0.72727272727272729},{"$f":"H88","v":0.8},0,1.7272727272727273,1.8,0,3.1090909090909093,0,0,-0.36363636363636331,{"$f":"SUM(G86:G88)","v":2},"Jack Walsh",{"$f":"SUM(F86:F88)","v":3},0.64999999999999991,{"$f":"X86","v":1.625},{"$f":"X87","v":0.72727272727272729},{"$f":"X88","v":0.8},2.625,1.7272727272727273,1.8,4.5340909090909092,3.1090909090909093,4.7250000000000005,8.161363636363637,19.681818181818187,"Jack Walsh",7]
[null,null,{"$f":"Picks!B31","v":"Bradford"},{"$f":"Picks!C31","v":7},{"$f":"Picks!D31","v":3.1},{"$f":"IF(C31=\"\",\"\",INDEX(Odds!K:K,MATCH(C31,Odds!G:G,0)))","v":1},{"$f":"IF(C31=\"\",\"\",Picks!M31)","v":0},0,"James Bell",{"$f":"H89","v":0},{"$f":"H90","v":0},{"$f":"H91","v":0},0,0,0,0,0,0,0,-7,{"$f":"SUM(G89:G91)","v":0},"James Bell",{"$f":"SUM(F89:F91)","v":3},2.1,{"$f":"X89","v":2.1},{"$f":"X90","v":2.1},{"$f":"X91","v":2.1},3.1,3.1,3.1,9.6100000000000012,9.6100000000000012,9.6100000000000012,29.791000000000004,60.921000000000006,"James Bell",7]
[null,{"$f":"$V12","v":"Ben Rosser"},{"$f":"Picks!B32","v":"Everton"},{"$f":"Picks!C32","v":7},{"$f":"Picks!D32","v":3.2},{"$f":"IF(C32=\"\",\"\",INDEX(Odds!K:K,MATCH(C32,Odds!G:G,0)))","v":1},{"$f":"IF(C32=\"\",\"\",Picks!M32)","v":1},2.2000000000000002,"John Murphy",{"$f":"H92","v":0},{"$f":"H93","v":0},{"$f":"H94","v":0},{"$f":"IF(J32=0,0,1)+J32","v":0},{"$f":"IF(K32=0,0,1)+K32","v":0},0,0,0,0,0,-7,{"$f":"SUM(G92:G94)","v":0},"John Murphy",{"$f":"SUM(F92:F94)","v":3},2.2000000000000002,{"$f":"X92","v":0.95},{"$f":"X93","v":1.375},{"$f":"X94","v":1.625},1.95,2.375,2.625,4.6312499999999996,6.234375,5.1187500000000004,12.157031249999999,28.091406250000006,"John Murphy",7]
[null,null,{"$f":"Picks!B33","v":"Liverpool draw"},{"$f":"Picks!C33","v":7},{"$f":"Picks!D33","v":3.3},{"$f":"IF(C33=\"\",\"\",INDEX(Odds!K:K,MATCH(C33,Odds!G:G,0)))","v":1},{"$f":"IF(C33=\"\",\"\",Picks!M33)","v":1},2.2999999999999998,"John Ronan",{"$f":"H95","v":0},{"$f":"H96","v":0},{"$f":"H97","v":1.1000000000000001},0,0,2.1,0,0,0,0,-4.9000000000000004,{"$f":"SUM(G95:G97)","v":1},"John Ronan",{"$f":"SUM(F95:F97)","v":3},2.2999999999999998,{"$f":"X95","v":1.6},{"$f":"X96","v":1.75},{"$f":"X97","v":1.1000000000000001},2.6,2.75,2.1,7.15,5.7750000000000004,5.4600000000000009,15.015000000000001,33.85,"John Ronan",7]
[null,null,{"$f":"Picks!B34","v":"Newcastle"},{"$f":"Picks!C34","v":7},{"$f":"Picks!D34","v":2.625},{"$f":"IF(C34=\"\",\"\",INDEX(Odds!K:K,MATCH(C34,Odds!G:G,0)))","v":1},{"$f":"IF(C34=\"\",\"\",Picks!M34)","v":0},0,"Kei Lok Ma",{"$f":"H98","v":0},{"$f":"H99","v":0},{"$f":"H100","v":0},0,0,0,0,0,0,0,-7,{"$f":"SUM(G98:G100)","v":0},"Kei Lok Ma",{"$f":"SUM(F98:F100)","v":3},{"$f":"+((E34-1)*F34*A$2)","v":1.625},{"$f":"X98","v":2.2000000000000002},{"$f":"X99","v":1.625},{"$f":"X100","v":1.25},3.2,2.625,2.25,8.4,5.90625,7.2,18.899999999999999,41.481250000000003,"Kei Lok Ma",7]
[null,{"$f":"$V13","v":"Bob Bailey"},{"$f":"Picks!B35","v":"Norwich"},{"$f":"Picks!C35","v":7},{"$f":"Picks!D35","v":5},{"$f":"IF(C35=\"\",\"\",INDEX(Odds!K:K,MATCH(C35,Odds!G:G,0)))","v":1},{"$f":"IF(C35=\"\",\"\",Picks!M35)","v":0},0,"Kevin Carter",{"$f":"H101","v":0.85000000000000009},{"$f":"H102","v":0},{"$f":"H103","v":0.72727272727272729},1.85,0,1.7272727272727273,0,0,3.1954545454545453,0,-0.22727272727272751,{"$f":"SUM(G101:G103)","v":2},"Kevin Carter",{"$f":"SUM(F101:F103)","v":3},4,{"$f":"X101","v":0.85000000000000009},{"$f":"X102","v":0.60000000000000009},{"$f":"X103","v":0.72727272727272729},1.85,1.6,1.7272727272727273,2.9600000000000004,2.7636363636363637,3.1954545454545453,5.1127272727272732,12.209090909090911,"Kevin Carter",7]
[null,null,{"$f":"Picks!B36","v":"Barnsley"},{"$f":"Picks!C36","v":7},{"$f":"Picks!D36","v":2.15},{"$f":"IF(C36=\"\",\"\",INDEX(Odds!K:K,MATCH(C36,Odds!G:G,0)))","v":1},{"$f":"IF(C36=\"\",\"\",Picks!M36)","v":0},0,"Lennie Bow",{"$f":"H104","v":1.1000000000000001},{"$f":"H105","v":0},{"$f":"H106","v":0},2.1,0,0,0,0,0,0,-4.9000000000000004,{"$f":"SUM(G104:G106)","v":1},"Lennie Bow",{"$f":"SUM(F104:F106)","v":3},1.1499999999999999,{"$f":"X104","v":1.1000000000000001},{"$f":"X105","v":1.1499999999999999},{"$f":"X106","v":1.6},2.1,2.15,2.6,4.5150000000000006,5.59,5.4600000000000009,11.739000000000001,27.153999999999996,"Lennie Bow",7]
[null,null,{"$f":"Picks!B37","v":"Portsmouth"},{"$f":"Picks!C37","v":7},{"$f":"Picks!D37","v":2.875},{"$f":"IF(C37=\"\",\"\",INDEX(Odds!K:K,MATCH(C37,Odds!G:G,0)))","v":1},{"$f":"IF(C37=\"\",\"\",Picks!M37)","v":0},0,"Liam Wah",{"$f":"H107","v":0},{"$f":"H108","v":0.39999999999999991},{"$f":"H109","v":0.8},0,1.4,1.8,0,2.5199999999999996,0,0,-1.2800000000000002,{"$f":"SUM(G107:G109)","v":2},"Liam Wah",{"$f":"SUM(F107:F109)","v":3},1.875,{"$f":"X107","v":2.1},{"$f":"X108","v":0.39999999999999991},{"$f":"X109","v":0.8},3.1,1.4,1.8,4.34,2.5199999999999996,5.58,7.8119999999999994,19.552,"Liam Wah",7]
[null,{"$f":"$V14","v":"Charlie Griffiths"},{"$f":"Picks!B38","v":"Portsmouth"},{"$f":"Picks!C38","v":7},{"$f":"Picks!D38","v":2.875},{"$f":"IF(C38=\"\",\"\",INDEX(Odds!K:K,MATCH(C38,Odds!G:G,0)))","v":1},{"$f":"IF(C38=\"\",\"\",Picks!M38)","v":0},0,"Mal Stott",{"$f":"H110","v":0},{"$f":"H111","v":0},{"$f":"H112","v":0.85000000000000009},0,0,1.85,0,0,0,0,-5.15,{"$f":"SUM(G110:G112)","v":1},"Mal Stott",{"$f":"SUM(F110:F112)","v":3},1.875,{"$f":"X110","v":1.4500000000000002},{"$f":"X111","v":1.1499999999999999},{"$f":"X112","v":0.85000000000000009},2.4500000000000002,2.15,1.85,5.2675000000000001,3.9775,4.5325000000000006,9.7448750000000004,22.972375,"Mal Stott",7]
[null,null,{"$f":"Picks!B39","v":"Bournemouth"},{"$f":"Picks!C39","v":7},{"$f":"Picks!D39","v":2.2999999999999998},{"$f":"IF(C39=\"\",\"\",INDEX(Odds!K:K,MATCH(C39,Odds!G:G,0)))","v":1},{"$f":"IF(C39=\"\",\"\",Picks!M39)","v":0},0,"Mark Bunn",{"$f":"H113","v":2.2000000000000002},{"$f":"H114","v":0},{"$f":"H115","v":0},3.2,0,0,0,0,0,0,-3.8,{"$f":"SUM(G113:G115)","v":1},"Mark Bunn",{"$f":"SUM(F113:F115)","v":3},1.2999999999999998,{"$f":"X113","v":2.2000000000000002},{"$f":"X114","v":1.1499999999999999},{"$f":"X115","v":1.6},3.2,2.15,2.6,6.88,5.59,8.32,17.888000000000002,39.628,"Mark Bunn",7]
[null,null,{"$f":"Picks!B40","v":"MK Dons draw"},{"$f":"Picks!C40","v":7},{"$f":"Picks!D40","v":3.4},{"$f":"IF(C40=\"\",\"\",INDEX(Odds!K:K,MATCH(C40,Odds!G:G,0)))","v":1},{"$f":"IF(C40=\"\",\"\",Picks!M40)","v":0},0,"Mark Saunders",{"$f":"H116","v":2.2999999999999998},{"$f":"H117","v":0},{"$f":"H118","v":1},3.3,0,2,0,0,6.6,0,4.8999999999999986,{"$f":"SUM(G116:G118)","v":2},"Mark Saunders",{"$f":"SUM(F116:F118)","v":3},2.4,{"$f":"X116","v":2.2999999999999998},{"$f":"X117","v":1},{"$f":"X118","v":1},3.3,2,2,6.6,4,6.6,13.2,30.700000000000003,"Mark Saunders",7]
[null,{"$f":"$V15","v":"Chris Bow"},{"$f":"Picks!B41","v":"Brighton draw"},{"$f":"Picks!C41","v":7},{"$f":"Picks!D41","v":3.2},{"$f":"IF(C41=\"\",\"\",INDEX(Odds!K:K,MATCH(C41,Odds!G:G,0)))","v":1},{"$f":"IF(C41=\"\",\"\",Picks!M41)","v":0},0,"Martin Molyneux",{"$f":"H119","v":0.39999999999999991},{"$f":"H120","v":0.25},{"$f":"H121","v":2.2999999999999998},1.4,1.25,3.3,1.75,4.125,4.6199999999999992,5.7749999999999995,15.219999999999999,{"$f":"SUM(G119:G121)","v":3},"Martin Molyneux",{"$f":"SUM(F119:F121)","v":3},2.2000000000000002,{"$f":"X119","v":0.39999999999999991},{"$f":"X120","v":0.25},{"$f":"X121","v":2.2999999999999998},1.4,1.25,3.3,1.75,4.125,4.6199999999999992,5.7749999999999995,15.219999999999999,"Martin Molyneux",7]
[null,null,{"$f":"Picks!B42","v":"Fulham"},{"$f":"Picks!C42","v":7},{"$f":"Picks!D42","v":2},{"$f":"IF(C42=\"\",\"\",INDEX(Odds!K:K,MATCH(C42,Odds!G:G,0)))","v":1},{"$f":"IF(C42=\"\",\"\",Picks!M42)","v":1},1,"Martin Tarbuck",{"$f":"H122","v":0},{"$f":"H123","v":0},{"$f":"H124","v":0},0,0,0,0,0,0,0,-7,{"$f":"SUM(G122:G124)","v":0},"Martin Tarbuck",{"$f":"SUM(F122:F124)","v":3},1,{"$f":"X122","v":1.375},{"$f":"X123","v":0.60000000000000009},{"$f":"X124","v":1.7999999999999998},2.375,1.6,2.8,3.8000000000000003,4.4800000000000004,6.6499999999999995,10.64,25.344999999999999,"Martin Tarbuck",7]
[null,null,{"$f":"Picks!B43","v":"Wigan"},{"$f":"Picks!C43","v":7},{"$f":"Picks!D43","v":2.6},{"$f":"IF(C43=\"\",\"\",INDEX(Odds!K:K,MATCH(C43,Odds!G:G,0)))","v":1},{"$f":"IF(C43=\"\",\"\",Picks!M43)","v":1},1.6,"Mike Penk",{"$f":"H125","v":0},{"$f":"H126","v":0},{"$f":"H127","v":0},0,0,0,0,0,0,0,-7,{"$f":"SUM(G125:G127)","v":0},"Mike Penk",{"$f":"SUM(F125:F127)","v":3},1.6,{"$f":"X125","v":1.25},{"$f":"X126","v":1.7999999999999998},{"$f":"X127","v":2.1},2.25,2.8,3.1,6.3,8.68,6.9749999999999996,19.53,42.634999999999998,"Mike Penk",7]
[null,{"$f":"$V16","v":"Chris Griffin"},{"$f":"Picks!B44","v":"Liverpool draw"},{"$f":"Picks!C44","v":7},{"$f":"Picks!D44","v":3.3},{"$f":"IF(C44=\"\",\"\",INDEX(Odds!K:K,MATCH(C44,Odds!G:G,0)))","v":1},{"$f":"IF(C44=\"\",\"\",Picks!M44)","v":1},2.2999999999999998,"Mo Sudell",{"$f":"H128","v":0},{"$f":"H129","v":0},{"$f":"H130","v":1.6},0,0,2.6,0,0,0,0,{"$f":"SUM(M44:S44)-(IF(W44=1,A$2*1,0))-(IF(W44=2,A$2*3,0))-(IF(W44=3,A$2*7,0))","v":-4.4000000000000004},{"$f":"SUM(G128:G130)","v":1},"Mo Sudell",{"$f":"SUM(F128:F130)","v":3},2.2999999999999998,{"$f":"X128","v":1.1499999999999999},{"$f":"X129","v":0.60000000000000009},{"$f":"X130","v":1.6},2.15,1.6,2.6,3.44,4.16,5.59,8.9440000000000008,21.484000000000002,"Mo Sudell",7]
[null,null,{"$f":"Picks!B45","v":"Derby"},{"$f":"Picks!C45","v":7},{"$f":"Picks!D45","v":2.75},{"$f":"IF(C45=\"\",\"\",INDEX(Odds!K:K,MATCH(C45,Odds!G:G,0)))","v":1},{"$f":"IF(C45=\"\",\"\",Picks!M45)","v":0},0,"Nick Blocksidge",{"$f":"H131","v":2.5},{"$f":"H132","v":0.39999999999999991},{"$f":"H133","v":0.8},3.5,1.4,1.8,4.8999999999999995,2.5199999999999996,6.3,8.82,22.24,{"$f":"SUM(G131:G133)","v":3},"Nick Blocksidge",{"$f":"SUM(F131:F133)","v":3},1.75,{"$f":"X131","v":2.5},{"$f":"X132","v":0.39999999999999991},{"$f":"X133","v":0.8},3.5,1.4,1.8,4.8999999999999995,2.5199999999999996,6.3,8.82,22.24,"Nick Blocksidge",7]
[null,null,{"$f":"Picks!B46","v":"Fulham draw"},{"$f":"Picks!C46","v":7},{"$f":"Picks!D46","v":3.2},{"$f":"IF(C46=\"\",\"\",INDEX(Odds!K:K,MATCH(C46,Odds!G:G,0)))","v":1},{"$f":"IF(C46=\"\",\"\",Picks!M46)","v":0},0,"Nigel Heyes",{"$f":"H134","v":1.6},{"$f":"H135","v":1.1000000000000001},{"$f":"H136","v":0},2.6,2.1,0,5.4600000000000009,0,0,0,3.16,{"$f":"SUM(G134:G136)","v":2},"Nigel Heyes",{"$f":"SUM(F134:F136)","v":3},2.2000000000000002,{"$f":"X134","v":1.6},{"$f":"X135","v":1.1000000000000001},{"$f":"X136","v":1.1499999999999999},2.6,2.1,2.15,5.4600000000000009,4.5150000000000006,5.59,11.739000000000001,27.154000000000003,"Nigel Heyes",7]
[null,{"$f":"$V17","v":"Chris Luck"},{"$f":"Picks!B47","v":"Everton"},{"$f":"Picks!C47","v":7},{"$f":"Picks!D47","v":3.2},{"$f":"IF(C47=\"\",\"\",INDEX(Odds!K:K,MATCH(C47,Odds!G:G,0)))","v":1},{"$f":"IF(C47=\"\",\"\",Picks!M47)","v":1},2.2000000000000002,"Oscar Jackson",{"$f":"H137","v":0},{"$f":"H138","v":0},{"$f":"H139","v":0},0,0,0,0,0,0,0,-7,{"$f":"SUM(G137:G139)","v":0},"Oscar Jackson",{"$f":"SUM(F137:F139)","v":3},2.2000000000000002,{"$f":"X137","v":1.4500000000000002},{"$f":"X138","v":1.1499999999999999},{"$f":"X139","v":1.1000000000000001},2.4500000000000002,2.15,2.1,5.2675000000000001,4.5150000000000006,5.1450000000000005,11.06175,25.689250000000001,"Oscar Jackson",7]
[null,null,{"$f":"Picks!B48","v":"Chelsea"},{"$f":"Picks!C48","v":7},{"$f":"Picks!D48","v":2.75},{"$f":"IF(C48=\"\",\"\",INDEX(Odds!K:K,MATCH(C48,Odds!G:G,0)))","v":1},{"$f":"IF(C48=\"\",\"\",Picks!M48)","v":0},0,"Paul Adderley",{"$f":"H140","v":1},{"$f":"H141","v":0},{"$f":"H142","v":1.1499999999999999},2,0,2.15,0,0,4.3,0,1.4499999999999993,{"$f":"SUM(G140:G142)","v":2},"Paul Adderley",{"$f":"SUM(F140:F142)","v":3},1.75,{"$f":"X140","v":1},{"$f":"X141","v":1.2000000000000002},{"$f":"X142","v":1.1499999999999999},2,2.2000000000000002,2.15,4.4000000000000004,4.7300000000000004,4.3,9.4600000000000009,22.240000000000002,"Paul Adderley",7]
[null,null,{"$f":"Picks!B49","v":"Barnsley"},{"$f":"Picks!C49","v":7},{"$f":"Picks!D49","v":2.15},{"$f":"IF(C49=\"\",\"\",INDEX(Odds!K:K,MATCH(C49,Odds!G:G,0)))","v":1},{"$f":"IF(C49=\"\",\"\",Picks!M49)","v":0},0,"Paul Allen",{"$f":"H143","v":0},{"$f":"H144","v":0},{"$f":"H145","v":0},0,0,0,0,0,0,0,-7,{"$f":"SUM(G143:G145)","v":0},"Paul Allen",{"$f":"SUM(F143:F145)","v":3},1.1499999999999999,{"$f":"X143","v":2.4},{"$f":"X144","v":2.4},{"$f":"X145","v":2.8},3.4,3.4,3.8,11.56,12.92,12.919999999999998,43.928000000000004,84.927999999999997,"Paul Allen",7]
[null,{"$f":"$V18","v":"Chris Townsend"},{"$f":"Picks!B50","v":"Birmingham"},{"$f":"Picks!C50","v":7},{"$f":"Picks!D50","v":3.7},{"$f":"IF(C50=\"\",\"\",INDEX(Odds!K:K,MATCH(C50,Odds!G:G,0)))","v":1},{"$f":"IF(C50=\"\",\"\",Picks!M50)","v":0},0,"Paul Barnes",{"$f":"H146","v":2.2999999999999998},{"$f":"H147","v":0},{"$f":"H148","v":1},3.3,0,2,0,0,6.6,0,4.8999999999999986,{"$f":"SUM(G146:G148)","v":2},"Paul Barnes",{"$f":"SUM(F146:F148)","v":3},2.7,{"$f":"X146","v":2.2999999999999998},{"$f":"X147","v":4.8},{"$f":"X148","v":1},3.3,5.8,2,19.139999999999997,11.6,6.6,38.279999999999994,79.72,"Paul Barnes",7]
[null,null,{"$f":"Picks!B51","v":"Palace"},{"$f":"Picks!C51","v":7},{"$f":"Picks!D51","v":5.8},{"$f":"IF(C51=\"\",\"\",INDEX(Odds!K:K,MATCH(C51,Odds!G:G,0)))","v":1},{"$f":"IF(C51=\"\",\"\",Picks!M51)","v":0},0,"Paul Fairhurst",{"$f":"H149","v":0},{"$f":"H150","v":0},{"$f":"H151","v":0},0,0,0,0,0,0,0,-7,{"$f":"SUM(G149:G151)","v":0},"Paul Fairhurst",{"$f":"SUM(F149:F151)","v":3},4.8,{"$f":"X149","v":2.75},{"$f":"X150","v":2.2000000000000002},{"$f":"X151","v":7.5},3.75,3.2,8.5,12,27.2,31.875,102,181.52500000000001,"Paul Fairhurst",7]
[null,null,{"$f":"Picks!B52","v":"Stoke"},{"$f":"Picks!C52","v":7},{"$f":"Picks!D52","v":4},{"$f":"IF(C52=\"\",\"\",INDEX(Odds!K:K,MATCH(C52,Odds!G:G,0)))","v":1},{"$f":"IF(C52=\"\",\"\",Picks!M52)","v":0},0,"Paul Fiddler",{"$f":"H152","v":0},{"$f":"H153","v":0.85000000000000009},{"$f":"H154","v":0},0,1.85,0,0,0,0,0,-5.15,{"$f":"SUM(G152:G154)","v":1},"Paul Fiddler",{"$f":"SUM(F152:F154)","v":3},3,{"$f":"X152","v":1.2999999999999998},{"$f":"X153","v":0.85000000000000009},{"$f":"X154","v":0.90909090909090917},2.2999999999999998,1.85,1.9090909090909092,4.2549999999999999,3.5318181818181822,4.3909090909090907,8.1231818181818181,19.36,"Paul Fiddler",7]
[null,{"$f":"$V19","v":"Dan Gibbard"},{"$f":"Picks!B53","v":"Liverpool Draw"},{"$f":"Picks!C53","v":7},{"$f":"Picks!D53","v":3.3},{"$f":"IF(C53=\"\",\"\",INDEX(Odds!K:K,MATCH(C53,Odds!G:G,0)))","v":1},{"$f":"IF(C53=\"\",\"\",Picks!M53)","v":1},2.2999999999999998,"Pete Baron",{"$f":"H155","v":0},{"$f":"H156","v":2.2999999999999998},{"$f":"H157","v":2},0,3.3,3,0,9.8999999999999986,0,0,9.1999999999999993,{"$f":"SUM(G155:G157)","v":2},"Pete Baron",{"$f":"SUM(F155:F157)","v":3},2.2999999999999998,{"$f":"X155","v":2.2000000000000002},{"$f":"X156","v":2.2999999999999998},{"$f":"X157","v":2},3.2,3.3,3,10.559999999999999,9.8999999999999986,9.6000000000000014,31.679999999999996,64.239999999999995,"Pete Baron",7]
[null,null,{"$f":"Picks!B54","v":"Man C"},{"$f":"Picks!C54","v":7},{"$f":"Picks!D54","v":1.25},{"$f":"IF(C54=\"\",\"\",INDEX(Odds!K:K,MATCH(C54,Odds!G:G,0)))","v":1},{"$f":"IF(C54=\"\",\"\",Picks!M54)","v":1},0.25,"Phil Miller",{"$f":"H158","v":2.2000000000000002},{"$f":"H159","v":0.72727272727272729},{"$f":"H160","v":2},3.2,1.7272727272727273,3,5.5272727272727273,5.1818181818181817,9.6000000000000014,16.581818181818182,37.81818181818182,{"$f":"SUM(G158:G160)","v":3},"Phil Miller",{"$f":"SUM(F158:F160)","v":3},0.25,{"$f":"X158","v":2.2000000000000002},{"$f":"X159","v":0.72727272727272729},{"$f":"X160","v":2},3.2,1.7272727272727273,3,5.5272727272727273,5.1818181818181817,9.6000000000000014,16.581818181818182,37.81818181818182,"Phil Miller",7]
[null,null,{"$f":"Picks!B55","v":"QPR"},{"$f":"Picks!C55","v":7},{"$f":"Picks!D55","v":2.15},{"$f":"IF(C55=\"\",\"\",INDEX(Odds!K:K,MATCH(C55,Odds!G:G,0)))","v":1},{"$f":"IF(C55=\"\",\"\",Picks!M55)","v":1},1.1499999999999999,"Rob England",{"$f":"H161","v":0.64999999999999991},{"$f":"H162","v":0.85000000000000009},{"$f":"H163","v":0},1.65,1.85,0,3.0525000000000002,0,0,0,-0.44749999999999979,{"$f":"SUM(G161:G163)","v":2},"Rob England",{"$f":"SUM(F161:F163)","v":3},1.1499999999999999,{"$f":"X161","v":0.64999999999999991},{"$f":"X162","v":0.85000000000000009},{"$f":"X163","v":2.1},1.65,1.85,3.1,3.0525000000000002,5.7350000000000003,5.1150000000000002,9.4627499999999998,22.965249999999997,"Rob England",7]
[null,{"$f":"$V20","v":"Dave Bell"},{"$f":"Picks!B56","v":"Arsenal"},{"$f":"Picks!C56","v":7},{"$f":"Picks!D56","v":12},{"$f":"IF(C56=\"\",\"\",INDEX(Odds!K:K,MATCH(C56,Odds!G:G,0)))","v":1},{"$f":"IF(C56=\"\",\"\",Picks!M56)","v":0},0,"Sally Williams",{"$f":"H164","v":2},{"$f":"H165","v":0},{"$f":"H166","v":2.2000000000000002},3,0,3.2,0,0,9.6000000000000014,0,8.8000000000000007,{"$f":"SUM(G164:G166)","v":2},"Sally Williams",{"$f":"SUM(F164:F166)","v":3},11,{"$f":"X164","v":2},{"$f":"X165","v":2.2000000000000002},{"$f":"X166","v":2.2000000000000002},3,3.2,3.2,9.6000000000000014,10.240000000000002,9.6000000000000014,30.720000000000006,62.56,"Sally Williams",7]
[null,null,{"$f":"Picks!B57","v":"Watford"},{"$f":"Picks!C57","v":1},{"$f":"Picks!D57","v":8.5},{"$f":"IF(C57=\"\",\"\",INDEX(Odds!K:K,MATCH(C57,Odds!G:G,0)))","v":1},{"$f":"IF(C57=\"\",\"\",Picks!M57)","v":0},0,"Simon Greenhalgh",{"$f":"H167","v":0},{"$f":"H168","v":1},{"$f":"H169","v":0},0,2,0,0,0,0,0,-5,{"$f":"SUM(G167:G169)","v":1},"Simon Greenhalgh",{"$f":"SUM(F167:F169)","v":3},7.5,{"$f":"X167","v":1},{"$f":"X168","v":1},{"$f":"X169","v":2.2000000000000002},2,2,3.2,4,6.4,6.4,12.8,29.799999999999997,"Simon Greenhalgh",7]
[null,null,{"$f":"Picks!B58","v":"Palace"},{"$f":"Picks!C58","v":7},{"$f":"Picks!D58","v":5.8},{"$f":"IF(C58=\"\",\"\",INDEX(Odds!K:K,MATCH(C58,Odds!G:G,0)))","v":1},{"$f":"IF(C58=\"\",\"\",Picks!M58)","v":0},0,"Stephen Barr",{"$f":"H170","v":0},{"$f":"H171","v":1},{"$f":"H172","v":2},0,2,3,0,6,0,0,4,{"$f":"SUM(G170:G172)","v":2},"Stephen Barr",{"$f":"SUM(F170:F172)","v":3},4.8,{"$f":"X170","v":1},{"$f":"X171","v":1},{"$f":"X172","v":2},2,2,3,4,6,6,12,28,"Stephen Barr",7]
[null,{"$f":"$V21","v":"Dave Orrell"},{"$f":"Picks!B59","v":"QPR"},{"$f":"Picks!C59","v":7},{"$f":"Picks!D59","v":2.15},{"$f":"IF(C59=\"\",\"\",INDEX(Odds!K:K,MATCH(C59,Odds!G:G,0)))","v":1},{"$f":"IF(C59=\"\",\"\",Picks!M59)","v":1},1.1499999999999999,"Stephen Troop",{"$f":"H173","v":0.90909090909090917},{"$f":"H174","v":1},{"$f":"H175","v":0.39999999999999991},1.9090909090909092,2,1.4,3.8181818181818183,2.8,2.6727272727272728,5.3454545454545457,12.945454545454545,{"$f":"SUM(G173:G175)","v":3},"Stephen Troop",{"$f":"SUM(F173:F175)","v":3},1.1499999999999999,{"$f":"X173","v":0.90909090909090917},{"$f":"X174","v":1},{"$f":"X175","v":0.39999999999999991},1.9090909090909092,2,1.4,3.8181818181818183,2.8,2.6727272727272728,5.3454545454545457,12.945454545454545,"Stephen Troop",7]
[null,null,{"$f":"Picks!B60","v":"Carlisle"},{"$f":"Picks!C60","v":7},{"$f":"Picks!D60","v":2.5},{"$f":"IF(C60=\"\",\"\",INDEX(Odds!K:K,MATCH(C60,Odds!G:G,0)))","v":1},{"$f":"IF(C60=\"\",\"\",Picks!M60)","v":0},0,{"$f":"IF(V60=\"\",\"\",V60)","v":"Steve Baxter"},{"$f":"H176","v":0.8},{"$f":"H177","v":0},{"$f":"H178","v":0},{"$f":"IF(J60=0,0,1)+J60","v":1.8},{"$f":"IF(K60=0,0,1)+K60","v":0},{"$f":"IF(L60=0,0,1)+L60","v":0},{"$f":"IF(K60=0,0,(M60*K60)+M60)","v":0},{"$f":"IF(L60=0,0,(N60*L60)+N60)","v":0},{"$f":"IF(J60=0,0,(O60*J60)+O60)","v":0},{"$f":"IF(L60=0,0,(P60*L60)+P60)","v":0},{"$f":"SUM(M60:S60)-(IF(W60=1,A$2*1,0))-(IF(W60=2,A$2*3,0))-(IF(W60=3,A$2*7,0))","v":-5.2},{"$f":"SUM(G176:G178)","v":1},"Steve Baxter",{"$f":"SUM(F174:F176)","v":3},1.5,{"$f":"X176","v":0.8},{"$f":"X177","v":1.6},{"$f":"X178","v":0.60000000000000009},{"$f":"IF(Y60=0,0,1)+Y60","v":1.8},{"$f":"IF(Z60=0,0,1)+Z60","v":2.6},{"$f":"IF(AA60=0,0,1)+AA60","v":1.6},{"$f":"IF(Z60=0,0,(AB60*Z60)+AB60)","v":4.6800000000000006},{"$f":"IF(AA60=0,0,(AC60*AA60)+AC60)","v":4.16},{"$f":"IF(Y60=0,0,(AD60*Y60)+AD60)","v":2.8800000000000003},{"$f":"IF(AA60=0,0,(AE60*AA60)+AE60)","v":7.4880000000000013},{"$f":"SUM(AB60:AH60)-AK60","v":18.207999999999998},"Steve Baxter",7]
[null,null,{"$f":"Picks!B61","v":"Salford"},{"$f":"Picks!C61","v":7},{"$f":"Picks!D61","v":2.4},{"$f":"IF(C61=\"\",\"\",INDEX(Odds!K:K,MATCH(C61,Odds!G:G,0)))","v":1},{"$f":"IF(C61=\"\",\"\",Picks!M61)","v":1},1.4,"Steve Carter",{"$f":"H179","v":0},{"$f":"H180","v":2.2999999999999998},{"$f":"H181","v":0},{"$f":"IF(J61=0,0,1)+J61","v":0},{"$f":"IF(K61=0,0,1)+K61","v":3.3},{"$f":"IF(L61=0,0,1)+L61","v":0},{"$f":"IF(K61=0,0,(M61*K61)+M61)","v":0},{"$f":"IF(L61=0,0,(N61*L61)+N61)","v":0},{"$f":"IF(J61=0,0,(O61*J61)+O61)","v":0},{"$f":"IF(L61=0,0,(P61*L61)+P61)","v":0},{"$f":"SUM(M61:S61)-(IF(W61=1,A$2*1,0))-(IF(W61=2,A$2*3,0))-(IF(W61=3,A$2*7,0))","v":-3.7},{"$f":"SUM(G179:G181)","v":1},"Steve Carter",3,1.4,{"$f":"X179","v":2.2000000000000002},{"$f":"X180","v":2.2999999999999998},{"$f":"X181","v":1},{"$f":"IF(Y61=0,0,1)+Y61","v":3.2},{"$f":"IF(Z61=0,0,1)+Z61","v":3.3},{"$f":"IF(AA61=0,0,1)+AA61","v":2},{"$f":"IF(Z61=0,0,(AB61*Z61)+AB61)","v":10.559999999999999},{"$f":"IF(AA61=0,0,(AC61*AA61)+AC61)","v":6.6},{"$f":"IF(Y61=0,0,(AD61*Y61)+AD61)","v":6.4},{"$f":"IF(AA61=0,0,(AE61*AA61)+AE61)","v":21.119999999999997},{"$f":"SUM(AB61:AH61)-AK61","v":46.179999999999993},"Steve Carter",7]
[null,{"$f":"$V22","v":"David Dunn"},{"$f":"Picks!B62","v":"Chelsea"},{"$f":"Picks!C62","v":7},{"$f":"Picks!D62","v":2.75},{"$f":"IF(C62=\"\",\"\",INDEX(Odds!K:K,MATCH(C62,Odds!G:G,0)))","v":1},{"$f":"IF(C62=\"\",\"\",Picks!M62)","v":0},0,"Tom Robinson",{"$f":"H182","v":0},{"$f":"H183","v":0},{"$f":"H184","v":0},{"$f":"IF(J62=0,0,1)+J62","v":0},{"$f":"IF(K62=0,0,1)+K62","v":0},{"$f":"IF(L62=0,0,1)+L62","v":0},{"$f":"IF(K62=0,0,(M62*K62)+M62)","v":0},{"$f":"IF(L62=0,0,(N62*L62)+N62)","v":0},{"$f":"IF(J62=0,0,(O62*J62)+O62)","v":0},{"$f":"IF(L62=0,0,(P62*L62)+P62)","v":0},{"$f":"SUM(M62:S62)-(IF(W62=1,A$2*1,0))-(IF(W62=2,A$2*3,0))-(IF(W62=3,A$2*7,0))","v":-7},{"$f":"SUM(G182:G184)","v":0},"Tom Robinson",3,1.75,{"$f":"X182","v":1},{"$f":"X183","v":1},{"$f":"X184","v":1.1000000000000001},{"$f":"IF(Y62=0,0,1)+Y62","v":2},{"$f":"IF(Z62=0,0,1)+Z62","v":2},{"$f":"IF(AA62=0,0,1)+AA62","v":2.1},{"$f":"IF(Z62=0,0,(AB62*Z62)+AB62)","v":4},{"$f":"IF(AA62=0,0,(AC62*AA62)+AC62)","v":4.2},{"$f":"IF(Y62=0,0,(AD62*Y62)+AD62)","v":4.2},{"$f":"IF(AA62=0,0,(AE62*AA62)+AE62)","v":8.4},{"$f":"SUM(AB62:AH62)-AK62","v":19.899999999999999},"Tom Robinson",7]
[null,null,{"$f":"Picks!B63","v":"Man C"},{"$f":"Picks!C63","v":7},{"$f":"Picks!D63","v":1.25},{"$f":"IF(C63=\"\",\"\",INDEX(Odds!K:K,MATCH(C63,Odds!G:G,0)))","v":1},{"$f":"IF(C63=\"\",\"\",Picks!M63)","v":1},0.25,"Vinny Topping",{"$f":"H185","v":0},{"$f":"H185","v":0},{"$f":"H186","v":0},{"$f":"IF(J63=0,0,1)+J63","v":0},{"$f":"IF(K63=0,0,1)+K63","v":0},{"$f":"IF(L63=0,0,1)+L63","v":0},{"$f":"IF(K63=0,0,(M63*K63)+M63)","v":0},{"$f":"IF(L63=0,0,(N63*L63)+N63)","v":0},{"$f":"IF(J63=0,0,(O63*J63)+O63)","v":0},{"$f":"IF(L63=0,0,(P63*L63)+P63)","v":0},{"$f":"SUM(M63:S63)-(IF(W63=1,A$2*1,0))-(IF(W63=2,A$2*3,0))-(IF(W63=3,A$2*7,0))","v":-7},{"$f":"SUM(G185:G187)","v":0},"Vinny Topping",3,0.25,{"$f":"X185","v":1.375},{"$f":"X186","v":4},{"$f":"X187","v":0.60000000000000009},{"$f":"IF(Y63=0,0,1)+Y63","v":2.375},{"$f":"IF(Z63=0,0,1)+Z63","v":5},{"$f":"IF(AA63=0,0,1)+AA63","v":1.6},{"$f":"IF(Z63=0,0,(AB63*Z63)+AB63)","v":11.875},{"$f":"IF(AA63=0,0,(AC63*AA63)+AC63)","v":8},{"$f":"IF(Y63=0,0,(AD63*Y63)+AD63)","v":3.8000000000000003},{"$f":"IF(AA63=0,0,(AE63*AA63)+AE63)","v":19},{"$f":"SUM(AB63:AH63)-AK63","v":44.65},"Vinny Topping",7]
[null,null,{"$f":"Picks!B64","v":"Newcastle Draw"},{"$f":"Picks!C64","v":7},{"$f":"Picks!D64","v":3.5},{"$f":"IF(C64=\"\",\"\",INDEX(Odds!K:K,MATCH(C64,Odds!G:G,0)))","v":1},{"$f":"IF(C64=\"\",\"\",Picks!M64)","v":1},2.5,"",null,null,null,null,null,null,null,null,null,null,null,null,null,null,2.5]
[null,{"$f":"$V23","v":"Frank Allen"},{"$f":"Picks!B65","v":"Villa"},{"$f":"Picks!C65","v":7},{"$f":"Picks!D65","v":2},{"$f":"IF(C65=\"\",\"\",INDEX(Odds!K:K,MATCH(C65,Odds!G:G,0)))","v":1},{"$f":"IF(C65=\"\",\"\",Picks!M65)","v":0},0,"",null,null,null,null,null,null,null,null,null,null,null,null,null,null,1]
[null,null,{"$f":"Picks!B66","v":"Bournemouth"},{"$f":"Picks!C66","v":7},{"$f":"Picks!D66","v":2.2999999999999998},{"$f":"IF(C66=\"\",\"\",INDEX(Odds!K:K,MATCH(C66,Odds!G:G,0)))","v":1},{"$f":"IF(C66=\"\",\"\",Picks!M66)","v":0},0,"",null,null,null,null,null,null,null,null,null,null,null,null,null,null,{"$f":"+((E66-1)*F66*A$2)","v":1.2999999999999998}]
[null,null,{"$f":"Picks!B67","v":"Millwall"},{"$f":"Picks!C67","v":7},{"$f":"Picks!D67","v":1.9090909090909092},{"$f":"IF(C67=\"\",\"\",INDEX(Odds!K:K,MATCH(C67,Odds!G:G,0)))","v":1},{"$f":"IF(C67=\"\",\"\",Picks!M67)","v":1},{"$f":"IF(C67=\"\",\"\",+((E67-1)*G67*F67*A$2))","v":0.90909090909090917},"",null,null,null,null,null,null,null,null,null,null,null,null,null,null,0.90909090909090917]
[null,{"$f":"$V24","v":"Gareth McGuire"},{"$f":"Picks!B68","v":"Fulham"},{"$f":"Picks!C68","v":7},{"$f":"Picks!D68","v":2},{"$f":"IF(C68=\"\",\"\",INDEX(Odds!K:K,MATCH(C68,Odds!G:G,0)))","v":1},{"$f":"IF(C68=\"\",\"\",Picks!M68)","v":1},1,"",null,null,null,null,null,null,null,null,null,null,null,null,null,null,1]
[null,null,{"$f":"Picks!B69","v":"Bournemouth"},{"$f":"Picks!C69","v":7},{"$f":"Picks!D69","v":2.2999999999999998},{"$f":"IF(C69=\"\",\"\",INDEX(Odds!K:K,MATCH(C69,Odds!G:G,0)))","v":1},{"$f":"IF(C69=\"\",\"\",Picks!M69)","v":0},0,"",null,null,null,null,null,null,null,null,null,null,null,null,null,null,1.2999999999999998]
[null,null,{"$f":"Picks!B70","v":"Sheff W"},{"$f":"Picks!C70","v":7},{"$f":"Picks!D70","v":1.9090909090909092},{"$f":"IF(C70=\"\",\"\",INDEX(Odds!K:K,MATCH(C70,Odds!G:G,0)))","v":1},{"$f":"IF(C70=\"\",\"\",Picks!M70)","v":0},0,"",null,null,null,null,null,null,null,null,null,null,null,null,null,null,0.90909090909090917]
[null,{"$f":"$V25","v":"Gareth Powell"},{"$f":"Picks!B71","v":"Liverpool draw"},{"$f":"Picks!C71","v":7},{"$f":"Picks!D71","v":3.3},{"$f":"IF(C71=\"\",\"\",INDEX(Odds!K:K,MATCH(C71,Odds!G:G,0)))","v":1},{"$f":"IF(C71=\"\",\"\",Picks!M71)","v":1},2.2999999999999998,"",null,null,null,null,null,null,null,null,null,null,null,null,null,null,2.2999999999999998]
[null,null,{"$f":"Picks!B72","v":"Newcastle draw"},{"$f":"Picks!C72","v":7},{"$f":"Picks!D72","v":3.5},{"$f":"IF(C72=\"\",\"\",INDEX(Odds!K:K,MATCH(C72,Odds!G:G,0)))","v":1},{"$f":"IF(C72=\"\",\"\",Picks!M72)","v":1},2.5,"",null,null,null,null,null,null,null,null,null,null,null,null,null,null,2.5]
[null,null,{"$f":"Picks!B73","v":"Huddersfield draw"},{"$f":"Picks!C73","v":7},{"$f":"Picks!D73","v":3.4},{"$f":"IF(C73=\"\",\"\",INDEX(Odds!K:K,MATCH(C73,Odds!G:G,0)))","v":1},{"$f":"IF(C73=\"\",\"\",Picks!M73)","v":0},0,"",null,null,null,null,null,null,null,null,null,null,null,null,null,null,2.4]
[null,{"$f":"$V26","v":"Gerard Ventom"},{"$f":"Picks!B74","v":"Everton"},{"$f":"Picks!C74","v":7},{"$f":"Picks!D74","v":3.2},{"$f":"IF(C74=\"\",\"\",INDEX(Odds!K:K,MATCH(C74,Odds!G:G,0)))","v":1},{"$f":"IF(C74=\"\",\"\",Picks!M74)","v":1},2.2000000000000002,"",null,null,null,null,null,null,null,null,null,null,null,null,null,null,2.2000000000000002]
[null,null,{"$f":"Picks!B75","v":"Southampton"},{"$f":"Picks!C75","v":7},{"$f":"Picks!D75","v":2.625},{"$f":"IF(C75=\"\",\"\",INDEX(Odds!K:K,MATCH(C75,Odds!G:G,0)))","v":1},{"$f":"IF(C75=\"\",\"\",Picks!M75)","v":0},0,"",null,null,null,null,null,null,null,null,null,null,null,null,null,null,1.625]
[null,null,{"$f":"Picks!B76","v":"Sheff U"},{"$f":"Picks!C76","v":7},{"$f":"Picks!D76","v":2.375},{"$f":"IF(C76=\"\",\"\",INDEX(Odds!K:K,MATCH(C76,Odds!G:G,0)))","v":1},{"$f":"IF(C76=\"\",\"\",Picks!M76)","v":0},0,"",null,null,null,null,null,null,null,null,null,null,null,null,null,null,1.375]
[null,{"$f":"$V27","v":"Graham Miller"},{"$f":"Picks!B77","v":"Huddersfield"},{"$f":"Picks!C77","v":7},{"$f":"Picks!D77","v":2.625},{"$f":"IF(C77=\"\",\"\",INDEX(Odds!K:K,MATCH(C77,Odds!G:G,0)))","v":1},{"$f":"IF(C77=\"\",\"\",Picks!M77)","v":1},1.625,"",null,null,null,null,null,null,null,null,null,null,null,null,null,null,1.625]
[null,null,{"$f":"Picks!B78","v":"Luton"},{"$f":"Picks!C78","v":7},{"$f":"Picks!D78","v":3.2},{"$f":"IF(C78=\"\",\"\",INDEX(Odds!K:K,MATCH(C78,Odds!G:G,0)))","v":1},{"$f":"IF(C78=\"\",\"\",Picks!M78)","v":0},0,"",null,null,null,null,null,null,null,null,null,null,null,null,null,null,2.2000000000000002]
[null,null,{"$f":"Picks!B79","v":"Bournemouth"},{"$f":"Picks!C79","v":7},{"$f":"Picks!D79","v":2.2999999999999998},{"$f":"IF(C79=\"\",\"\",INDEX(Odds!K:K,MATCH(C79,Odds!G:G,0)))","v":1},{"$f":"IF(C79=\"\",\"\",Picks!M79)","v":0},0,"",null,null,null,null,null,null,null,null,null,null,null,null,null,null,1.2999999999999998]
[null,{"$f":"$V28","v":"Howard Bradley"},{"$f":"Picks!B80","v":"Burnley draw"},{"$f":"Picks!C80","v":1},{"$f":"Picks!D80","v":3.5},{"$f":"IF(C80=\"\",\"\",INDEX(Odds!K:K,MATCH(C80,Odds!G:G,0)))","v":1},{"$f":"IF(C80=\"\",\"\",Picks!M80)","v":1},2.5,"",null,null,null,null,null,null,null,null,null,null,null,null,null,null,2.5]
[null,null,{"$f":"Picks!B81","v":"Spurs draw"},{"$f":"Picks!C81","v":1},{"$f":"Picks!D81","v":4.4000000000000004},{"$f":"IF(C81=\"\",\"\",INDEX(Odds!K:K,MATCH(C81,Odds!G:G,0)))","v":1},{"$f":"IF(C81=\"\",\"\",Picks!M81)","v":0},0,"",null,null,null,null,null,null,null,null,null,null,null,null,null,null,3.4000000000000004]
[null,null,{"$f":"Picks!B82","v":"Wolves draw"},{"$f":"Picks!C82","v":1},{"$f":"Picks!D82","v":3.4},{"$f":"IF(C82=\"\",\"\",INDEX(Odds!K:K,MATCH(C82,Odds!G:G,0)))","v":1},{"$f":"IF(C82=\"\",\"\",Picks!M82)","v":0},0,"",null,null,null,null,null,null,null,null,null,null,null,null,null,null,2.4]
[null,{"$f":"$V29","v":"Ian Davies"},{"$f":"Picks!B83","v":"Accrington"},{"$f":"Picks!C83","v":7},{"$f":"Picks!D83","v":3.4},{"$f":"IF(C83=\"\",\"\",INDEX(Odds!K:K,MATCH(C83,Odds!G:G,0)))","v":1},{"$f":"IF(C83=\"\",\"\",Picks!M83)","v":0},0,"",null,null,null,null,null,null,null,null,null,null,null,null,null,null,2.4]
[null,null,{"$f":"Picks!B84","v":"Plymouth"},{"$f":"Picks!C84","v":7},{"$f":"Picks!D84","v":2.4500000000000002},{"$f":"IF(C84=\"\",\"\",INDEX(Odds!K:K,MATCH(C84,Odds!G:G,0)))","v":1},{"$f":"IF(C84=\"\",\"\",Picks!M84)","v":0},0,"",null,null,null,null,null,null,null,null,null,null,null,null,null,null,1.4500000000000002]
[null,null,{"$f":"Picks!B85","v":"QPR draw"},{"$f":"Picks!C85","v":7},{"$f":"Picks!D85","v":3.2},{"$f":"IF(C85=\"\",\"\",INDEX(Odds!K:K,MATCH(C85,Odds!G:G,0)))","v":1},{"$f":"IF(C85=\"\",\"\",Picks!M85)","v":0},0,"",null,null,null,null,null,null,null,null,null,null,null,null,null,null,2.2000000000000002]
[null,{"$f":"$V30","v":"Jack Walsh"},{"$f":"Picks!B86","v":"Newcastle"},{"$f":"Picks!C86","v":7},{"$f":"Picks!D86","v":2.625},{"$f":"IF(C86=\"\",\"\",INDEX(Odds!K:K,MATCH(C86,Odds!G:G,0)))","v":1},{"$f":"IF(C86=\"\",\"\",Picks!M86)","v":0},0,"",null,null,null,null,null,null,null,null,null,null,null,null,null,null,1.625]
[null,null,{"$f":"Picks!B87","v":"Leicester"},{"$f":"Picks!C87","v":7},{"$f":"Picks!D87","v":1.7272727272727273},{"$f":"IF(C87=\"\",\"\",INDEX(Odds!K:K,MATCH(C87,Odds!G:G,0)))","v":1},{"$f":"IF(C87=\"\",\"\",Picks!M87)","v":1},0.72727272727272729,"",null,null,null,null,null,null,null,null,null,null,null,null,null,null,0.72727272727272729]
[null,null,{"$f":"Picks!B88","v":"Man U"},{"$f":"Picks!C88","v":1},{"$f":"Picks!D88","v":1.8},{"$f":"IF(C88=\"\",\"\",INDEX(Odds!K:K,MATCH(C88,Odds!G:G,0)))","v":1},{"$f":"IF(C88=\"\",\"\",Picks!M88)","v":1},0.8,"",null,null,null,null,null,null,null,null,null,null,null,null,null,null,0.8]
[null,{"$f":"$V31","v":"James Bell"},{"$f":"Picks!B89","v":"Preston draw"},{"$f":"Picks!C89","v":7},{"$f":"Picks!D89","v":3.1},{"$f":"IF(C89=\"\",\"\",INDEX(Odds!K:K,MATCH(C89,Odds!G:G,0)))","v":1},{"$f":"IF(C89=\"\",\"\",Picks!M89)","v":0},0,"",null,null,null,null,null,null,null,null,null,null,null,null,null,null,2.1]
[null,null,{"$f":"Picks!B90","v":"Orient draw"},{"$f":"Picks!C90","v":7},{"$f":"Picks!D90","v":3.1},{"$f":"IF(C90=\"\",\"\",INDEX(Odds!K:K,MATCH(C90,Odds!G:G,0)))","v":1},{"$f":"IF(C90=\"\",\"\",Picks!M90)","v":0},0,"",null,null,null,null,null,null,null,null,null,null,null,null,null,null,2.1]
[null,null,{"$f":"Picks!B91","v":"Forest Green draw"},{"$f":"Picks!C91","v":7},{"$f":"Picks!D91","v":3.1},{"$f":"IF(C91=\"\",\"\",INDEX(Odds!K:K,MATCH(C91,Odds!G:G,0)))","v":1},{"$f":"IF(C91=\"\",\"\",Picks!M91)","v":0},0,"",null,null,null,null,null,null,null,null,null,null,null,null,null,null,2.1]
[null,{"$f":"$V32","v":"John Murphy"},{"$f":"Picks!B92","v":"Cardiff"},{"$f":"Picks!C92","v":7},{"$f":"Picks!D92","v":1.95},{"$f":"IF(C92=\"\",\"\",INDEX(Odds!K:K,MATCH(C92,Odds!G:G,0)))","v":1},{"$f":"IF(C92=\"\",\"\",Picks!M92)","v":0},0,"",null,null,null,null,null,null,null,null,null,null,null,null,null,null,0.95]
[null,null,{"$f":"Picks!B93","v":"Sheff U"},{"$f":"Picks!C93","v":7},{"$f":"Picks!D93","v":2.375},{"$f":"IF(C93=\"\",\"\",INDEX(Odds!K:K,MATCH(C93,Odds!G:G,0)))","v":1},{"$f":"IF(C93=\"\",\"\",Picks!M93)","v":0},0,"",null,null,null,null,null,null,null,null,null,null,null,null,null,null,1.375]
[null,null,{"$f":"Picks!B94","v":"Exeter"},{"$f":"Picks!C94","v":7},{"$f":"Picks!D94","v":2.625},{"$f":"IF(C94=\"\",\"\",INDEX(Odds!K:K,MATCH(C94,Odds!G:G,0)))","v":1},{"$f":"IF(C94=\"\",\"\",Picks!M94)","v":0},0,"",null,null,null,null,null,null,null,null,null,null,null,null,null,null,1.625]
[null,{"$f":"$V33","v":"John Ronan"},{"$f":"Picks!B95","v":"Liverpool"},{"$f":"Picks!C95","v":7},{"$f":"Picks!D95","v":2.6},{"$f":"IF(C95=\"\",\"\",INDEX(Odds!K:K,MATCH(C95,Odds!G:G,0)))","v":1},{"$f":"IF(C95=\"\",\"\",Picks!M95)","v":0},0,"",null,null,null,null,null,null,null,null,null,null,null,null,null,null,1.6]
[null,null,{"$f":"Picks!B96","v":"Derby"},{"$f":"Picks!C96","v":7},{"$f":"Picks!D96","v":2.75},{"$f":"IF(C96=\"\",\"\",INDEX(Odds!K:K,MATCH(C96,Odds!G:G,0)))","v":1},{"$f":"IF(C96=\"\",\"\",Picks!M96)","v":0},0,"",null,null,null,null,null,null,null,null,null,null,null,null,null,null,1.75]
[null,null,{"$f":"Picks!B97","v":"MK Dons"},{"$f":"Picks!C97","v":7},{"$f":"Picks!D97","v":2.1},{"$f":"IF(C97=\"\",\"\",INDEX(Odds!K:K,MATCH(C97,Odds!G:G,0)))","v":1},{"$f":"IF(C97=\"\",\"\",Picks!M97)","v":1},1.1000000000000001,"",null,null,null,null,null,null,null,null,null,null,null,null,null,null,1.1000000000000001]
[null,{"$f":"$V34","v":"Kei Lok Ma"},{"$f":"Picks!B98","v":"Brighton draw"},{"$f":"Picks!C98","v":7},{"$f":"Picks!D98","v":3.2},{"$f":"IF(C98=\"\",\"\",INDEX(Odds!K:K,MATCH(C98,Odds!G:G,0)))","v":1},{"$f":"IF(C98=\"\",\"\",Picks!M98)","v":0},0,"",null,null,null,null,null,null,null,null,null,null,null,null,null,null,{"$f":"+((E98-1)*F98*A$2)","v":2.2000000000000002}]
[null,null,{"$f":"Picks!B99","v":"Southampton"},{"$f":"Picks!C99","v":7},{"$f":"Picks!D99","v":2.625},{"$f":"IF(C99=\"\",\"\",INDEX(Odds!K:K,MATCH(C99,Odds!G:G,0)))","v":1},{"$f":"IF(C99=\"\",\"\",Picks!M99)","v":0},0,"",null,null,null,null,null,null,null,null,null,null,null,null,null,null,1.625]
[null,null,{"$f":"Picks!B100","v":"Leeds"},{"$f":"Picks!C100","v":1},{"$f":"Picks!D100","v":2.25},{"$f":"IF(C100=\"\",\"\",INDEX(Odds!K:K,MATCH(C100,Odds!G:G,0)))","v":1},{"$f":"IF(C100=\"\",\"\",Picks!M100)","v":0},0,"",null,null,null,null,null,null,null,null,null,null,null,null,null,null,1.25]
[null,{"$f":"$V35","v":"Kevin Carter"},{"$f":"Picks!B101","v":"West Brom"},{"$f":"Picks!C101","v":7},{"$f":"Picks!D101","v":1.85},{"$f":"IF(C101=\"\",\"\",INDEX(Odds!K:K,MATCH(C101,Odds!G:G,0)))","v":1},{"$f":"IF(C101=\"\",\"\",Picks!M101)","v":1},0.85000000000000009,"",null,null,null,null,null,null,null,null,null,null,null,null,null,null,0.85000000000000009]
[null,null,{"$f":"Picks!B102","v":"West Ham"},{"$f":"Picks!C102","v":7},{"$f":"Picks!D102","v":1.6},{"$f":"IF(C102=\"\",\"\",INDEX(Odds!K:K,MATCH(C102,Odds!G:G,0)))","v":1},{"$f":"IF(C102=\"\",\"\",Picks!M102)","v":0},0,"",null,null,null,null,null,null,null,null,null,null,null,null,null,null,0.60000000000000009]
[null,null,{"$f":"Picks!B103","v":"Leicester"},{"$f":"Picks!C103","v":7},{"$f":"Picks!D103","v":1.7272727272727273},{"$f":"IF(C103=\"\",\"\",INDEX(Odds!K:K,MATCH(C103,Odds!G:G,0)))","v":1},{"$f":"IF(C103=\"\",\"\",Picks!M103)","v":1},0.72727272727272729,"",null,null,null,null,null,null,null,null,null,null,null,null,null,null,0.72727272727272729]
[null,{"$f":"$V36","v":"Lennie Bow"},{"$f":"Picks!B104","v":"Oxford"},{"$f":"Picks!C104","v":7},{"$f":"Picks!D104","v":2.1},{"$f":"IF(C104=\"\",\"\",INDEX(Odds!K:K,MATCH(C104,Odds!G:G,0)))","v":1},{"$f":"IF(C104=\"\",\"\",Picks!M104)","v":1},1.1000000000000001,"",null,null,null,null,null,null,null,null,null,null,null,null,null,null,1.1000000000000001]
[null,null,{"$f":"Picks!B105","v":"Forest Green"},{"$f":"Picks!C105","v":7},{"$f":"Picks!D105","v":2.15},{"$f":"IF(C105=\"\",\"\",INDEX(Odds!K:K,MATCH(C105,Odds!G:G,0)))","v":1},{"$f":"IF(C105=\"\",\"\",Picks!M105)","v":0},0,"",null,null,null,null,null,null,null,null,null,null,null,null,null,null,1.1499999999999999]
[null,null,{"$f":"Picks!B106","v":"Harrogate"},{"$f":"Picks!C106","v":7},{"$f":"Picks!D106","v":2.6},{"$f":"IF(C106=\"\",\"\",INDEX(Odds!K:K,MATCH(C106,Odds!G:G,0)))","v":1},{"$f":"IF(C106=\"\",\"\",Picks!M106)","v":0},0,"",null,null,null,null,null,null,null,null,null,null,null,null,null,null,1.6]
[null,{"$f":"$V37","v":"Liam Wah"},{"$f":"Picks!B107","v":"Burnley"},{"$f":"Picks!C107","v":1},{"$f":"Picks!D107","v":3.1},{"$f":"IF(C107=\"\",\"\",INDEX(Odds!K:K,MATCH(C107,Odds!G:G,0)))","v":1},{"$f":"IF(C107=\"\",\"\",Picks!M107)","v":0},0,"",null,null,null,null,null,null,null,null,null,null,null,null,null,null,2.1]
[null,null,{"$f":"Picks!B108","v":"Spurs"},{"$f":"Picks!C108","v":1},{"$f":"Picks!D108","v":1.4},{"$f":"IF(C108=\"\",\"\",INDEX(Odds!K:K,MATCH(C108,Odds!G:G,0)))","v":1},{"$f":"IF(C108=\"\",\"\",Picks!M108)","v":1},0.39999999999999991,"",null,null,null,null,null,null,null,null,null,null,null,null,null,null,0.39999999999999991]
[null,null,{"$f":"Picks!B109","v":"Man U"},{"$f":"Picks!C109","v":1},{"$f":"Picks!D109","v":1.8},{"$f":"IF(C109=\"\",\"\",INDEX(Odds!K:K,MATCH(C109,Odds!G:G,0)))","v":1},{"$f":"IF(C109=\"\",\"\",Picks!M109)","v":1},0.8,"",null,null,null,null,null,null,null,null,null,null,null,null,null,null,0.8]
[null,{"$f":"$V38","v":"Mal Stott"},{"$f":"Picks!B110","v":"Plymouth"},{"$f":"Picks!C110","v":7},{"$f":"Picks!D110","v":2.4500000000000002},{"$f":"IF(C110=\"\",\"\",INDEX(Odds!K:K,MATCH(C110,Odds!G:G,0)))","v":1},{"$f":"IF(C110=\"\",\"\",Picks!M110)","v":0},0,"",null,null,null,null,null,null,null,null,null,null,null,null,null,null,1.4500000000000002]
[null,null,{"$f":"Picks!B111","v":"Forest Green"},{"$f":"Picks!C111","v":7},{"$f":"Picks!D111","v":2.15},{"$f":"IF(C111=\"\",\"\",INDEX(Odds!K:K,MATCH(C111,Odds!G:G,0)))","v":1},{"$f":"IF(C111=\"\",\"\",Picks!M111)","v":0},0,"",null,null,null,null,null,null,null,null,null,null,null,null,null,null,1.1499999999999999]
[null,null,{"$f":"Picks!B112","v":"West Brom"},{"$f":"Picks!C112","v":7},{"$f":"Picks!D112","v":1.85},{"$f":"IF(C112=\"\",\"\",INDEX(Odds!K:K,MATCH(C112,Odds!G:G,0)))","v":1},{"$f":"IF(C112=\"\",\"\",Picks!M112)","v":1},0.85000000000000009,"",null,null,null,null,null,null,null,null,null,null,null,null,null,null,0.85000000000000009]
[null,{"$f":"$V39","v":"Mark Bunn"},{"$f":"Picks!B113","v":"Everton"},{"$f":"Picks!C113","v":7},{"$f":"Picks!D113","v":3.2},{"$f":"IF(C113=\"\",\"\",INDEX(Odds!K:K,MATCH(C113,Odds!G:G,0)))","v":1},{"$f":"IF(C113=\"\",\"\",Picks!M113)","v":1},2.2000000000000002,"",null,null,null,null,null,null,null,null,null,null,null,null,null,null,2.2000000000000002]
[null,null,{"$f":"Picks!B114","v":"Forest Green"},{"$f":"Picks!C114","v":7},{"$f":"Picks!D114","v":2.15},{"$f":"IF(C114=\"\",\"\",INDEX(Odds!K:K,MATCH(C114,Odds!G:G,0)))","v":1},{"$f":"IF(C114=\"\",\"\",Picks!M114)","v":0},0,"",null,null,null,null,null,null,null,null,null,null,null,null,null,null,1.1499999999999999]
[null,null,{"$f":"Picks!B115","v":"Stevenage"},{"$f":"Picks!C115","v":7},{"$f":"Picks!D115","v":2.6},{"$f":"IF(C115=\"\",\"\",INDEX(Odds!K:K,MATCH(C115,Odds!G:G,0)))","v":1},{"$f":"IF(C115=\"\",\"\",Picks!M115)","v":0},0,"",null,null,null,null,null,null,null,null,null,null,null,null,null,null,1.6]
[null,{"$f":"$V40","v":"Mark Saunders"},{"$f":"Picks!B116","v":"Liverpool draw"},{"$f":"Picks!C116","v":7},{"$f":"Picks!D116","v":3.3},{"$f":"IF(C116=\"\",\"\",INDEX(Odds!K:K,MATCH(C116,Odds!G:G,0)))","v":1},{"$f":"IF(C116=\"\",\"\",Picks!M116)","v":1},2.2999999999999998,"",null,null,null,null,null,null,null,null,null,null,null,null,null,null,2.2999999999999998]
[null,null,{"$f":"Picks!B117","v":"Villa"},{"$f":"Picks!C117","v":7},{"$f":"Picks!D117","v":2},{"$f":"IF(C117=\"\",\"\",INDEX(Odds!K:K,MATCH(C117,Odds!G:G,0)))","v":1},{"$f":"IF(C117=\"\",\"\",Picks!M117)","v":0},0,"",null,null,null,null,null,null,null,null,null,null,null,null,null,null,1]
[null,null,{"$f":"Picks!B118","v":"Fulham"},{"$f":"Picks!C118","v":7},{"$f":"Picks!D118","v":2},{"$f":"IF(C118=\"\",\"\",INDEX(Odds!K:K,MATCH(C118,Odds!G:G,0)))","v":1},{"$f":"IF(C118=\"\",\"\",Picks!M118)","v":1},1,{"$f":"IF(V118=\"\",\"\",V118)","v":""},null,null,null,null,null,null,null,null,null,null,null,null,null,null,1]
[null,{"$f":"$V41","v":"Martin Molyneux"},{"$f":"Picks!B119","v":"Spurs"},{"$f":"Picks!C119","v":1},{"$f":"Picks!D119","v":1.4},{"$f":"IF(C119=\"\",\"\",INDEX(Odds!K:K,MATCH(C119,Odds!G:G,0)))","v":1},{"$f":"IF(C119=\"\",\"\",Picks!M119)","v":1},0.39999999999999991,"",null,null,null,null,null,null,null,null,null,null,null,null,null,null,0.39999999999999991]
[null,null,{"$f":"Picks!B120","v":"Man C"},{"$f":"Picks!C120","v":7},{"$f":"Picks!D120","v":1.25},{"$f":"IF(C120=\"\",\"\",INDEX(Odds!K:K,MATCH(C120,Odds!G:G,0)))","v":1},{"$f":"IF(C120=\"\",\"\",Picks!M120)","v":1},0.25,"",null,null,null,null,null,null,null,null,null,null,null,null,null,null,0.25]
[null,null,{"$f":"Picks!B121","v":"Liverpool DRAW"},{"$f":"Picks!C121","v":7},{"$f":"Picks!D121","v":3.3},{"$f":"IF(C121=\"\",\"\",INDEX(Odds!K:K,MATCH(C121,Odds!G:G,0)))","v":1},{"$f":"IF(C121=\"\",\"\",Picks!M121)","v":1},2.2999999999999998,"",null,null,null,null,null,null,null,null,null,null,null,null,null,null,2.2999999999999998]
[null,{"$f":"$V42","v":"Martin Tarbuck"},{"$f":"Picks!B122","v":"Sheff U"},{"$f":"Picks!C122","v":7},{"$f":"Picks!D122","v":2.375},{"$f":"IF(C122=\"\",\"\",INDEX(Odds!K:K,MATCH(C122,Odds!G:G,0)))","v":1},{"$f":"IF(C122=\"\",\"\",Picks!M122)","v":0},0,"",null,null,null,null,null,null,null,null,null,null,null,null,null,null,1.375]
[null,null,{"$f":"Picks!B123","v":"West Ham"},{"$f":"Picks!C123","v":7},{"$f":"Picks!D123","v":1.6},{"$f":"IF(C123=\"\",\"\",INDEX(Odds!K:K,MATCH(C123,Odds!G:G,0)))","v":1},{"$f":"IF(C123=\"\",\"\",Picks!M123)","v":0},0,"",null,null,null,null,null,null,null,null,null,null,null,null,null,null,0.60000000000000009]
[null,null,{"$f":"Picks!B124","v":"Swansea"},{"$f":"Picks!C124","v":7},{"$f":"Picks!D124","v":2.8},{"$f":"IF(C124=\"\",\"\",INDEX(Odds!K:K,MATCH(C124,Odds!G:G,0)))","v":1},{"$f":"IF(C124=\"\",\"\",Picks!M124)","v":0},0,"",null,null,null,null,null,null,null,null,null,null,null,null,null,null,1.7999999999999998]
[null,{"$f":"$V43","v":"Mike Penk"},{"$f":"Picks!B125","v":"Leeds"},{"$f":"Picks!C125","v":1},{"$f":"Picks!D125","v":2.25},{"$f":"IF(C125=\"\",\"\",INDEX(Odds!K:K,MATCH(C125,Odds!G:G,0)))","v":1},{"$f":"IF(C125=\"\",\"\",Picks!M125)","v":0},0,"",null,null,null,null,null,null,null,null,null,null,null,null,null,null,1.25]
[null,null,{"$f":"Picks!B126","v":"Swansea"},{"$f":"Picks!C126","v":7},{"$f":"Picks!D126","v":2.8},{"$f":"IF(C126=\"\",\"\",INDEX(Odds!K:K,MATCH(C126,Odds!G:G,0)))","v":1},{"$f":"IF(C126=\"\",\"\",Picks!M126)","v":0},0,"",null,null,null,null,null,null,null,null,null,null,null,null,null,null,1.7999999999999998]
[null,null,{"$f":"Picks!B127","v":"Wigan draw"},{"$f":"Picks!C127","v":7},{"$f":"Picks!D127","v":3.1},{"$f":"IF(C127=\"\",\"\",INDEX(Odds!K:K,MATCH(C127,Odds!G:G,0)))","v":1},{"$f":"IF(C127=\"\",\"\",Picks!M127)","v":0},0,"",null,null,null,null,null,null,null,null,null,null,null,null,null,null,2.1]
[null,{"$f":"$V44","v":"Mo Sudell"},{"$f":"Picks!B128","v":"Forest green"},{"$f":"Picks!C128","v":7},{"$f":"Picks!D128","v":2.15},{"$f":"IF(C128=\"\",\"\",INDEX(Odds!K:K,MATCH(C128,Odds!G:G,0)))","v":1},{"$f":"IF(C128=\"\",\"\",Picks!M128)","v":0},0,"",null,null,null,null,null,null,null,null,null,null,null,null,null,null,1.1499999999999999]
[null,null,{"$f":"Picks!B129","v":"West Ham"},{"$f":"Picks!C129","v":7},{"$f":"Picks!D129","v":1.6},{"$f":"IF(C129=\"\",\"\",INDEX(Odds!K:K,MATCH(C129,Odds!G:G,0)))","v":1},{"$f":"IF(C129=\"\",\"\",Picks!M129)","v":0},0,"",null,null,null,null,null,null,null,null,null,null,null,null,null,null,0.60000000000000009]
[null,null,{"$f":"Picks!B130","v":"Wigan"},{"$f":"Picks!C130","v":7},{"$f":"Picks!D130","v":2.6},{"$f":"IF(C130=\"\",\"\",INDEX(Odds!K:K,MATCH(C130,Odds!G:G,0)))","v":1},{"$f":"IF(C130=\"\",\"\",Picks!M130)","v":1},1.6,"",null,null,null,null,null,null,null,null,null,null,null,null,null,null,1.6]
[null,{"$f":"$V45","v":"Nick Blocksidge"},{"$f":"Picks!B131","v":"Burnley draw"},{"$f":"Picks!C131","v":1},{"$f":"Picks!D131","v":3.5},{"$f":"IF(C131=\"\",\"\",INDEX(Odds!K:K,MATCH(C131,Odds!G:G,0)))","v":1},{"$f":"IF(C131=\"\",\"\",Picks!M131)","v":1},{"$f":"IF(C131=\"\",\"\",+((E131-1)*G131*F131*A$2))","v":2.5},"",null,null,null,null,null,null,null,null,null,null,null,null,null,null,{"$f":"+((E131-1)*F131*A$2)","v":2.5}]
[null,null,{"$f":"Picks!B132","v":"Spurs"},{"$f":"Picks!C132","v":1},{"$f":"Picks!D132","v":1.4},{"$f":"IF(C132=\"\",\"\",INDEX(Odds!K:K,MATCH(C132,Odds!G:G,0)))","v":1},{"$f":"IF(C132=\"\",\"\",Picks!M132)","v":1},0.39999999999999991,"",null,null,null,null,null,null,null,null,null,null,null,null,null,null,0.39999999999999991]
[null,null,{"$f":"Picks!B133","v":"Man U"},{"$f":"Picks!C133","v":1},{"$f":"Picks!D133","v":1.8},{"$f":"IF(C133=\"\",\"\",INDEX(Odds!K:K,MATCH(C133,Odds!G:G,0)))","v":1},{"$f":"IF(C133=\"\",\"\",Picks!M133)","v":1},0.8,"",null,null,null,null,null,null,null,null,null,null,null,null,null,null,0.8]
[null,{"$f":"$V46","v":"Nigel Heyes"},{"$f":"Picks!B134","v":"Wigan"},{"$f":"Picks!C134","v":7},{"$f":"Picks!D134","v":2.6},{"$f":"IF(C134=\"\",\"\",INDEX(Odds!K:K,MATCH(C134,Odds!G:G,0)))","v":1},{"$f":"IF(C134=\"\",\"\",Picks!M134)","v":1},1.6,"",null,null,null,null,null,null,null,null,null,null,null,null,null,null,1.6]
[null,null,{"$f":"Picks!B135","v":"Oxford"},{"$f":"Picks!C135","v":7},{"$f":"Picks!D135","v":2.1},{"$f":"IF(C135=\"\",\"\",INDEX(Odds!K:K,MATCH(C135,Odds!G:G,0)))","v":1},{"$f":"IF(C135=\"\",\"\",Picks!M135)","v":1},1.1000000000000001,"",null,null,null,null,null,null,null,null,null,null,null,null,null,null,1.1000000000000001]
[null,null,{"$f":"Picks!B136","v":"Forest Green"},{"$f":"Picks!C136","v":7},{"$f":"Picks!D136","v":2.15},{"$f":"IF(C136=\"\",\"\",INDEX(Odds!K:K,MATCH(C136,Odds!G:G,0)))","v":1},{"$f":"IF(C136=\"\",\"\",Picks!M136)","v":0},0,"",null,null,null,null,null,null,null,null,null,null,null,null,null,null,1.1499999999999999]
[null,{"$f":"$V47","v":"Oscar Jackson"},{"$f":"Picks!B137","v":"Plymouth"},{"$f":"Picks!C137","v":7},{"$f":"Picks!D137","v":2.4500000000000002},{"$f":"IF(C137=\"\",\"\",INDEX(Odds!K:K,MATCH(C137,Odds!G:G,0)))","v":1},{"$f":"IF(C137=\"\",\"\",Picks!M137)","v":0},0,"",null,null,null,null,null,null,null,null,null,null,null,null,null,null,1.4500000000000002]
[null,null,{"$f":"Picks!B138","v":"Forest Green"},{"$f":"Picks!C138","v":7},{"$f":"Picks!D138","v":2.15},{"$f":"IF(C138=\"\",\"\",INDEX(Odds!K:K,MATCH(C138,Odds!G:G,0)))","v":1},{"$f":"IF(C138=\"\",\"\",Picks!M138)","v":0},0,"",null,null,null,null,null,null,null,null,null,null,null,null,null,null,1.1499999999999999]
[null,null,{"$f":"Picks!B139","v":"Sutton"},{"$f":"Picks!C139","v":7},{"$f":"Picks!D139","v":2.1},{"$f":"IF(C139=\"\",\"\",INDEX(Odds!K:K,MATCH(C139,Odds!G:G,0)))","v":1},{"$f":"IF(C139=\"\",\"\",Picks!M139)","v":0},0,"",null,null,null,null,null,null,null,null,null,null,null,null,null,null,1.1000000000000001]
[null,{"$f":"$V48","v":"Paul Adderley"},{"$f":"Picks!B140","v":"Fulham"},{"$f":"Picks!C140","v":7},{"$f":"Picks!D140","v":2},{"$f":"IF(C140=\"\",\"\",INDEX(Odds!K:K,MATCH(C140,Odds!G:G,0)))","v":1},{"$f":"IF(C140=\"\",\"\",Picks!M140)","v":1},1,"",null,null,null,null,null,null,null,null,null,null,null,null,null,null,1]
[null,null,{"$f":"Picks!B141","v":"Middlesbro"},{"$f":"Picks!C141","v":7},{"$f":"Picks!D141","v":2.2000000000000002},{"$f":"IF(C141=\"\",\"\",INDEX(Odds!K:K,MATCH(C141,Odds!G:G,0)))","v":1},{"$f":"IF(C141=\"\",\"\",Picks!M141)","v":0},0,"",null,null,null,null,null,null,null,null,null,null,null,null,null,null,1.2000000000000002]
[null,null,{"$f":"Picks!B142","v":"QPR"},{"$f":"Picks!C142","v":7},{"$f":"Picks!D142","v":2.15},{"$f":"IF(C142=\"\",\"\",INDEX(Odds!K:K,MATCH(C142,Odds!G:G,0)))","v":1},{"$f":"IF(C142=\"\",\"\",Picks!M142)","v":1},1.1499999999999999,"",null,null,null,null,null,null,null,null,null,null,null,null,null,null,1.1499999999999999]
[null,{"$f":"$V49","v":"Paul Allen"},{"$f":"Picks!B143","v":"Accrington"},{"$f":"Picks!C143","v":7},{"$f":"Picks!D143","v":3.4},{"$f":"IF(C143=\"\",\"\",INDEX(Odds!K:K,MATCH(C143,Odds!G:G,0)))","v":1},{"$f":"IF(C143=\"\",\"\",Picks!M143)","v":0},0,"",null,null,null,null,null,null,null,null,null,null,null,null,null,null,2.4]
[null,null,{"$f":"Picks!B144","v":"Lincoln"},{"$f":"Picks!C144","v":7},{"$f":"Picks!D144","v":3.4},{"$f":"IF(C144=\"\",\"\",INDEX(Odds!K:K,MATCH(C144,Odds!G:G,0)))","v":1},{"$f":"IF(C144=\"\",\"\",Picks!M144)","v":0},0,"",null,null,null,null,null,null,null,null,null,null,null,null,null,null,2.4]
[null,null,{"$f":"Picks!B145","v":"Wycombe"},{"$f":"Picks!C145","v":7},{"$f":"Picks!D145","v":3.8},{"$f":"IF(C145=\"\",\"\",INDEX(Odds!K:K,MATCH(C145,Odds!G:G,0)))","v":1},{"$f":"IF(C145=\"\",\"\",Picks!M145)","v":0},0,"",null,null,null,null,null,null,null,null,null,null,null,null,null,null,2.8]
[null,{"$f":"$V50","v":"Paul Barnes"},{"$f":"Picks!B146","v":"Liverpool draw"},{"$f":"Picks!C146","v":7},{"$f":"Picks!D146","v":3.3},{"$f":"IF(C146=\"\",\"\",INDEX(Odds!K:K,MATCH(C146,Odds!G:G,0)))","v":1},{"$f":"IF(C146=\"\",\"\",Picks!M146)","v":1},2.2999999999999998,"",null,null,null,null,null,null,null,null,null,null,null,null,null,null,2.2999999999999998]
[null,null,{"$f":"Picks!B147","v":"Man C draw"},{"$f":"Picks!C147","v":7},{"$f":"Picks!D147","v":5.8},{"$f":"IF(C147=\"\",\"\",INDEX(Odds!K:K,MATCH(C147,Odds!G:G,0)))","v":1},{"$f":"IF(C147=\"\",\"\",Picks!M147)","v":0},0,"",null,null,null,null,null,null,null,null,null,null,null,null,null,null,4.8]
[null,null,{"$f":"Picks!B148","v":"Fulham"},{"$f":"Picks!C148","v":7},{"$f":"Picks!D148","v":2},{"$f":"IF(C148=\"\",\"\",INDEX(Odds!K:K,MATCH(C148,Odds!G:G,0)))","v":1},{"$f":"IF(C148=\"\",\"\",Picks!M148)","v":1},1,"",null,null,null,null,null,null,null,null,null,null,null,null,null,null,1]
[null,{"$f":"$V51","v":"Paul Fairhurst"},{"$f":"Picks!B149","v":"Rotherham draw"},{"$f":"Picks!C149","v":7},{"$f":"Picks!D149","v":3.75},{"$f":"IF(C149=\"\",\"\",INDEX(Odds!K:K,MATCH(C149,Odds!G:G,0)))","v":1},{"$f":"IF(C149=\"\",\"\",Picks!M149)","v":0},0,"",null,null,null,null,null,null,null,null,null,null,null,null,null,null,2.75]
[null,null,{"$f":"Picks!B150","v":"Hartlepool draw"},{"$f":"Picks!C150","v":7},{"$f":"Picks!D150","v":3.2},{"$f":"IF(C150=\"\",\"\",INDEX(Odds!K:K,MATCH(C150,Odds!G:G,0)))","v":1},{"$f":"IF(C150=\"\",\"\",Picks!M150)","v":0},0,"",null,null,null,null,null,null,null,null,null,null,null,null,null,null,2.2000000000000002]
[null,null,{"$f":"Picks!B151","v":"Watford"},{"$f":"Picks!C151","v":1},{"$f":"Picks!D151","v":8.5},{"$f":"IF(C151=\"\",\"\",INDEX(Odds!K:K,MATCH(C151,Odds!G:G,0)))","v":1},{"$f":"IF(C151=\"\",\"\",Picks!M151)","v":0},0,"",null,null,null,null,null,null,null,null,null,null,null,null,null,null,7.5]
[null,{"$f":"$V52","v":"Paul Fiddler"},{"$f":"Picks!B152","v":"Bolton"},{"$f":"Picks!C152","v":7},{"$f":"Picks!D152","v":2.2999999999999998},{"$f":"IF(C152=\"\",\"\",INDEX(Odds!K:K,MATCH(C152,Odds!G:G,0)))","v":1},{"$f":"IF(C152=\"\",\"\",Picks!M152)","v":0},0,"",null,null,null,null,null,null,null,null,null,null,null,null,null,null,1.2999999999999998]
[null,null,{"$f":"Picks!B153","v":"Charlton"},{"$f":"Picks!C153","v":7},{"$f":"Picks!D153","v":1.85},{"$f":"IF(C153=\"\",\"\",INDEX(Odds!K:K,MATCH(C153,Odds!G:G,0)))","v":1},{"$f":"IF(C153=\"\",\"\",Picks!M153)","v":1},0.85000000000000009,"",null,null,null,null,null,null,null,null,null,null,null,null,null,null,0.85000000000000009]
[null,null,{"$f":"Picks!B154","v":"Sheff W"},{"$f":"Picks!C154","v":7},{"$f":"Picks!D154","v":1.9090909090909092},{"$f":"IF(C154=\"\",\"\",INDEX(Odds!K:K,MATCH(C154,Odds!G:G,0)))","v":1},{"$f":"IF(C154=\"\",\"\",Picks!M154)","v":0},0,"",null,null,null,null,null,null,null,null,null,null,null,null,null,null,0.90909090909090917]
[null,{"$f":"$V53","v":"Pete Baron"},{"$f":"Picks!B155","v":"Brighton draw"},{"$f":"Picks!C155","v":7},{"$f":"Picks!D155","v":3.2},{"$f":"IF(C155=\"\",\"\",INDEX(Odds!K:K,MATCH(C155,Odds!G:G,0)))","v":1},{"$f":"IF(C155=\"\",\"\",Picks!M155)","v":0},0,"",null,null,null,null,null,null,null,null,null,null,null,null,null,null,2.2000000000000002]
[null,null,{"$f":"Picks!B156","v":"Liverpool draw"},{"$f":"Picks!C156","v":7},{"$f":"Picks!D156","v":3.3},{"$f":"IF(C156=\"\",\"\",INDEX(Odds!K:K,MATCH(C156,Odds!G:G,0)))","v":1},{"$f":"IF(C156=\"\",\"\",Picks!M156)","v":1},2.2999999999999998,"",null,null,null,null,null,null,null,null,null,null,null,null,null,null,2.2999999999999998]
[null,null,{"$f":"Picks!B157","v":"Derby draw"},{"$f":"Picks!C157","v":7},{"$f":"Picks!D157","v":3},{"$f":"IF(C157=\"\",\"\",INDEX(Odds!K:K,MATCH(C157,Odds!G:G,0)))","v":1},{"$f":"IF(C157=\"\",\"\",Picks!M157)","v":1},2,"",null,null,null,null,null,null,null,null,null,null,null,null,null,null,2]
[null,{"$f":"$V54","v":"Phil Miller"},{"$f":"Picks!B158","v":"Everton"},{"$f":"Picks!C158","v":7},{"$f":"Picks!D158","v":3.2},{"$f":"IF(C158=\"\",\"\",INDEX(Odds!K:K,MATCH(C158,Odds!G:G,0)))","v":1},{"$f":"IF(C158=\"\",\"\",Picks!M158)","v":1},2.2000000000000002,"",null,null,null,null,null,null,null,null,null,null,null,null,null,null,2.2000000000000002]
[null,null,{"$f":"Picks!B159","v":"Leicester"},{"$f":"Picks!C159","v":7},{"$f":"Picks!D159","v":1.7272727272727273},{"$f":"IF(C159=\"\",\"\",INDEX(Odds!K:K,MATCH(C159,Odds!G:G,0)))","v":1},{"$f":"IF(C159=\"\",\"\",Picks!M159)","v":1},0.72727272727272729,"",null,null,null,null,null,null,null,null,null,null,null,null,null,null,0.72727272727272729]
[null,null,{"$f":"Picks!B160","v":"Derby draw"},{"$f":"Picks!C160","v":7},{"$f":"Picks!D160","v":3},{"$f":"IF(C160=\"\",\"\",INDEX(Odds!K:K,MATCH(C160,Odds!G:G,0)))","v":1},{"$f":"IF(C160=\"\",\"\",Picks!M160)","v":1},2,"",null,null,null,null,null,null,null,null,null,null,null,null,null,null,2]
[null,{"$f":"$V55","v":"Rob England"},{"$f":"Picks!B161","v":"Rotherham"},{"$f":"Picks!C161","v":7},{"$f":"Picks!D161","v":1.65},{"$f":"IF(C161=\"\",\"\",INDEX(Odds!K:K,MATCH(C161,Odds!G:G,0)))","v":1},{"$f":"IF(C161=\"\",\"\",Picks!M161)","v":1},0.64999999999999991,"",null,null,null,null,null,null,null,null,null,null,null,null,null,null,0.64999999999999991]
[null,null,{"$f":"Picks!B162","v":"West Brom"},{"$f":"Picks!C162","v":7},{"$f":"Picks!D162","v":1.85},{"$f":"IF(C162=\"\",\"\",INDEX(Odds!K:K,MATCH(C162,Odds!G:G,0)))","v":1},{"$f":"IF(C162=\"\",\"\",Picks!M162)","v":1},0.85000000000000009,"",null,null,null,null,null,null,null,null,null,null,null,null,null,null,0.85000000000000009]
[null,null,{"$f":"Picks!B163","v":"Bradford"},{"$f":"Picks!C163","v":7},{"$f":"Picks!D163","v":3.1},{"$f":"IF(C163=\"\",\"\",INDEX(Odds!K:K,MATCH(C163,Odds!G:G,0)))","v":1},{"$f":"IF(C163=\"\",\"\",Picks!M163)","v":0},0,"",null,null,null,null,null,null,null,null,null,null,null,null,null,null,2.1]
[null,{"$f":"$V56","v":"Sally Williams"},{"$f":"Picks!B164","v":"Derby draw"},{"$f":"Picks!C164","v":7},{"$f":"Picks!D164","v":3},{"$f":"IF(C164=\"\",\"\",INDEX(Odds!K:K,MATCH(C164,Odds!G:G,0)))","v":1},{"$f":"IF(C164=\"\",\"\",Picks!M164)","v":1},2,"",null,null,null,null,null,null,null,null,null,null,null,null,null,null,2]
[null,null,{"$f":"Picks!B165","v":"Fulham draw"},{"$f":"Picks!C165","v":7},{"$f":"Picks!D165","v":3.2},{"$f":"IF(C165=\"\",\"\",INDEX(Odds!K:K,MATCH(C165,Odds!G:G,0)))","v":1},{"$f":"IF(C165=\"\",\"\",Picks!M165)","v":0},0,"",null,null,null,null,null,null,null,null,null,null,null,null,null,null,2.2000000000000002]
[null,null,{"$f":"Picks!B166","v":"Middlesbro draw"},{"$f":"Picks!C166","v":7},{"$f":"Picks!D166","v":3.2},{"$f":"IF(C166=\"\",\"\",INDEX(Odds!K:K,MATCH(C166,Odds!G:G,0)))","v":1},{"$f":"IF(C166=\"\",\"\",Picks!M166)","v":1},2.2000000000000002,"",null,null,null,null,null,null,null,null,null,null,null,null,null,null,2.2000000000000002]
[null,{"$f":"$V57","v":"Simon Greenhalgh"},{"$f":"Picks!B167","v":"Villa"},{"$f":"Picks!C167","v":7},{"$f":"Picks!D167","v":2},{"$f":"IF(C167=\"\",\"\",INDEX(Odds!K:K,MATCH(C167,Odds!G:G,0)))","v":1},{"$f":"IF(C167=\"\",\"\",Picks!M167)","v":0},0,"",null,null,null,null,null,null,null,null,null,null,null,null,null,null,1]
[null,null,{"$f":"Picks!B168","v":"Fulham"},{"$f":"Picks!C168","v":7},{"$f":"Picks!D168","v":2},{"$f":"IF(C168=\"\",\"\",INDEX(Odds!K:K,MATCH(C168,Odds!G:G,0)))","v":1},{"$f":"IF(C168=\"\",\"\",Picks!M168)","v":1},1,"",null,null,null,null,null,null,null,null,null,null,null,null,null,null,1]
[null,null,{"$f":"Picks!B169","v":"Luton"},{"$f":"Picks!C169","v":7},{"$f":"Picks!D169","v":3.2},{"$f":"IF(C169=\"\",\"\",INDEX(Odds!K:K,MATCH(C169,Odds!G:G,0)))","v":1},{"$f":"IF(C169=\"\",\"\",Picks!M169)","v":0},0,"",null,null,null,null,null,null,null,null,null,null,null,null,null,null,2.2000000000000002]
[null,{"$f":"$V58","v":"Stephen Barr"},{"$f":"Picks!B170","v":"Villa"},{"$f":"Picks!C170","v":7},{"$f":"Picks!D170","v":2},{"$f":"IF(C170=\"\",\"\",INDEX(Odds!K:K,MATCH(C170,Odds!G:G,0)))","v":1},{"$f":"IF(C170=\"\",\"\",Picks!M170)","v":0},0,"",null,null,null,null,null,null,null,null,null,null,null,null,null,null,1]
[null,null,{"$f":"Picks!B171","v":"Fulham"},{"$f":"Picks!C171","v":7},{"$f":"Picks!D171","v":2},{"$f":"IF(C171=\"\",\"\",INDEX(Odds!K:K,MATCH(C171,Odds!G:G,0)))","v":1},{"$f":"IF(C171=\"\",\"\",Picks!M171)","v":1},1,"",null,null,null,null,null,null,null,null,null,null,null,null,null,null,1]
[null,null,{"$f":"Picks!B172","v":"Derby draw"},{"$f":"Picks!C172","v":7},{"$f":"Picks!D172","v":3},{"$f":"IF(C172=\"\",\"\",INDEX(Odds!K:K,MATCH(C172,Odds!G:G,0)))","v":1},{"$f":"IF(C172=\"\",\"\",Picks!M172)","v":1},2,"",null,null,null,null,null,null,null,null,null,null,null,null,null,null,2]
[null,{"$f":"$V59","v":"Stephen Troop"},{"$f":"Picks!B173","v":"Millwall"},{"$f":"Picks!C173","v":7},{"$f":"Picks!D173","v":1.9090909090909092},{"$f":"IF(C173=\"\",\"\",INDEX(Odds!K:K,MATCH(C173,Odds!G:G,0)))","v":1},{"$f":"IF(C173=\"\",\"\",Picks!M173)","v":1},0.90909090909090917,"",null,null,null,null,null,null,null,null,null,null,null,null,null,null,0.90909090909090917]
[null,null,{"$f":"Picks!B174","v":"Sunderland"},{"$f":"Picks!C174","v":7},{"$f":"Picks!D174","v":2},{"$f":"IF(C174=\"\",\"\",INDEX(Odds!K:K,MATCH(C174,Odds!G:G,0)))","v":1},{"$f":"IF(C174=\"\",\"\",Picks!M174)","v":1},1,"",null,null,null,null,null,null,null,null,null,null,null,null,null,null,1]
[null,null,{"$f":"Picks!B175","v":"Spurs"},{"$f":"Picks!C175","v":1},{"$f":"Picks!D175","v":1.4},{"$f":"IF(C175=\"\",\"\",INDEX(Odds!K:K,MATCH(C175,Odds!G:G,0)))","v":1},{"$f":"IF(C175=\"\",\"\",Picks!M175)","v":1},0.39999999999999991,"",null,null,null,null,null,null,null,null,null,null,null,null,null,null,0.39999999999999991]
[null,{"$f":"$V60","v":"Steve Baxter"},{"$f":"Picks!B176","v":"Man U"},{"$f":"Picks!C176","v":1},{"$f":"Picks!D176","v":1.8},{"$f":"IF(C176=\"\",\"\",INDEX(Odds!K:K,MATCH(C176,Odds!G:G,0)))","v":1},{"$f":"IF(C176=\"\",\"\",Picks!M176)","v":1},{"$f":"IF(C176=\"\",\"\",+((E176-1)*G176*F176*A$2))","v":0.8},"",null,null,null,null,null,null,null,null,null,null,null,null,null,null,0.8]
[null,null,{"$f":"Picks!B177","v":"Liverpool"},{"$f":"Picks!C177","v":7},{"$f":"Picks!D177","v":2.6},{"$f":"IF(C177=\"\",\"\",INDEX(Odds!K:K,MATCH(C177,Odds!G:G,0)))","v":1},{"$f":"IF(C177=\"\",\"\",Picks!M177)","v":0},0,"",null,null,null,null,null,null,null,null,null,null,null,null,null,null,1.6]
[null,null,{"$f":"Picks!B178","v":"West Ham"},{"$f":"Picks!C178","v":7},{"$f":"Picks!D178","v":1.6},{"$f":"IF(C178=\"\",\"\",INDEX(Odds!K:K,MATCH(C178,Odds!G:G,0)))","v":1},{"$f":"IF(C178=\"\",\"\",Picks!M178)","v":0},0,"",null,null,null,null,null,null,null,null,null,null,null,null,null,null,0.60000000000000009]
[null,{"$f":"$V61","v":"Steve Carter"},{"$f":"Picks!B179","v":"Brighton draw"},{"$f":"Picks!C179","v":7},{"$f":"Picks!D179","v":3.2},{"$f":"IF(C179=\"\",\"\",INDEX(Odds!K:K,MATCH(C179,Odds!G:G,0)))","v":1},{"$f":"IF(C179=\"\",\"\",Picks!M179)","v":0},0,"",null,null,null,null,null,null,null,null,null,null,null,null,null,null,2.2000000000000002]
[null,null,{"$f":"Picks!B180","v":"Liverpool draw"},{"$f":"Picks!C180","v":7},{"$f":"Picks!D180","v":3.3},{"$f":"IF(C180=\"\",\"\",INDEX(Odds!K:K,MATCH(C180,Odds!G:G,0)))","v":1},{"$f":"IF(C180=\"\",\"\",Picks!M180)","v":1},2.2999999999999998,"",null,null,null,null,null,null,null,null,null,null,null,null,null,null,2.2999999999999998]
[null,null,{"$f":"Picks!B181","v":"Villa"},{"$f":"Picks!C181","v":7},{"$f":"Picks!D181","v":2},{"$f":"IF(C181=\"\",\"\",INDEX(Odds!K:K,MATCH(C181,Odds!G:G,0)))","v":1},{"$f":"IF(C181=\"\",\"\",Picks!M181)","v":0},0,"",null,null,null,null,null,null,null,null,null,null,null,null,null,null,1]
[null,{"$f":"$V62","v":"Tom Robinson"},{"$f":"Picks!B182","v":"Villa"},{"$f":"Picks!C182","v":7},{"$f":"Picks!D182","v":2},{"$f":"IF(C182=\"\",\"\",INDEX(Odds!K:K,MATCH(C182,Odds!G:G,0)))","v":1},{"$f":"IF(C182=\"\",\"\",Picks!M182)","v":0},{"$f":"IF(C182=\"\",\"\",+((E182-1)*G182*F182*A$2))","v":0},{"$f":"IF(V182=\"\",\"\",V182)","v":""},null,null,null,null,null,null,null,null,null,null,null,null,null,null,1]
[null,null,{"$f":"Picks!B183","v":"Ipswich"},{"$f":"Picks!C183","v":7},{"$f":"Picks!D183","v":2},{"$f":"IF(C183=\"\",\"\",INDEX(Odds!K:K,MATCH(C183,Odds!G:G,0)))","v":1},{"$f":"IF(C183=\"\",\"\",Picks!M183)","v":0},0,"",null,null,null,null,null,null,null,null,null,null,null,null,null,null,1]
[null,null,{"$f":"Picks!B184","v":"Tranmere"},{"$f":"Picks!C184","v":7},{"$f":"Picks!D184","v":2.1},{"$f":"IF(C184=\"\",\"\",INDEX(Odds!K:K,MATCH(C184,Odds!G:G,0)))","v":1},{"$f":"IF(C184=\"\",\"\",Picks!M184)","v":0},0,"",null,null,null,null,null,null,null,null,null,null,null,null,null,null,1.1000000000000001]
[null,{"$f":"$V63","v":"Vinny Topping"},{"$f":"Picks!B185","v":"Brighton"},{"$f":"Picks!C185","v":7},{"$f":"Picks!D185","v":2.375},{"$f":"IF(C185=\"\",\"\",INDEX(Odds!K:K,MATCH(C185,Odds!G:G,0)))","v":1},{"$f":"IF(C185=\"\",\"\",Picks!M185)","v":0},{"$f":"IF(C185=\"\",\"\",+((E185-1)*G185*F185*A$2))","v":0},"",null,null,null,null,null,null,null,null,null,null,null,null,null,null,1.375]
[null,null,{"$f":"Picks!B186","v":"Norwich"},{"$f":"Picks!C186","v":7},{"$f":"Picks!D186","v":5},{"$f":"IF(C186=\"\",\"\",INDEX(Odds!K:K,MATCH(C186,Odds!G:G,0)))","v":1},{"$f":"IF(C186=\"\",\"\",Picks!M186)","v":0},0,"",null,null,null,null,null,null,null,null,null,null,null,null,null,null,4]
[null,null,{"$f":"Picks!B187","v":"West Ham"},{"$f":"Picks!C187","v":7},{"$f":"Picks!D187","v":1.6},{"$f":"IF(C187=\"\",\"\",INDEX(Odds!K:K,MATCH(C187,Odds!G:G,0)))","v":1},{"$f":"IF(C187=\"\",\"\",Picks!M187)","v":0},0,"",null,null,null,null,null,null,null,null,null,null,null,null,null,null,0.60000000000000009]
[null,null,null,null,null,null,null,null,""]
[null,null,null,null,null,null,null,null,"",null,null,null,null,null,null,null,null,null,null,null,null,null,null,null,"`"]

{"sheet":"What-If","index":12,"n_rows":27,"n_cols":17,"rows_kept":27,"cut":false,"hidden":false,"merged":[]}
["Menu!A1",{"$f":"\"Round \"&CurrentWeek","v":"Round 3"}]
[null,null,null,null,null,"Prediction",null,null,null,null,"Single 1","Single 2","Single 3","Double 1","Double 2","Double 3","Treble"]
[null,{"$f":"COUNTIF($B4:$B6,\"\")","v":0},null,"Fraction","Decimal","Correct",null,{"$f":"E4","v":8.5},{"$f":"E5","v":2.25},{"$f":"E6","v":2.6},{"$f":"IF(B3<>0,\"\",H3)","v":8.5},{"$f":"IF(B3<>0,\"\",I3)","v":2.25},{"$f":"IF(B3<>0,\"\",J3)","v":2.6},{"$f":"IF(B3<>0,\"\",H3*I3)","v":19.125},{"$f":"IF(B3<>0,\"\",I3*J3)","v":5.8500000000000005},{"$f":"IF(B3<>0,\"\",H3*J3)","v":22.1},{"$f":"IF(B3<>0,\"\",N3*J3)","v":49.725000000000001}]
[1,"Watford","√",{"$f":"IF(B3<>0,\"\",INDEX(Odds!H:H,MATCH(B4,Odds!G:G,0)))","v":"15/2"},{"$f":"IF(B3<>0,\"\",INDEX(Odds!I:I,MATCH(B4,Odds!G:G,0)))","v":8.5},1,null,null,null,null,null,null,null,"H,I","I,J","H,J","H,I,J"]
[2,"Leeds","√",{"$f":"IF(B3<>0,\"\",INDEX(Odds!H:H,MATCH(B5,Odds!G:G,0)))","v":"5/4"},{"$f":"IF(B3<>0,\"\",INDEX(Odds!I:I,MATCH(B5,Odds!G:G,0)))","v":2.25},1,null,null,null,null,"Correct","Score"]
[3,"Wigan","√",{"$f":"IF(B3<>0,\"\",INDEX(Odds!H:H,MATCH(B6,Odds!G:G,0)))","v":"8/5"},{"$f":"IF(B3<>0,\"\",INDEX(Odds!I:I,MATCH(B6,Odds!G:G,0)))","v":2.6},1,null,null,null,null,{"$f":"IF(B3<>0,\"\",SUM(F4:F6))","v":3},{"$f":"IF(B3<>0,\"\",SUM(K3:Q3)-7)","v":103.15}]
[]
[]
[null,null,"Prediction","Odds - ","Odds - ","Prediction",null,null,null,null,"Single 1","Single 2","Single 3","Double 1","Double 2","Double 3","Treble"]
[null,null,"Correct?","fractional","decimal","Correct",null,{"$f":"E11","v":{"$error":"#REF!"}},{"$f":"E12","v":{"$error":"#REF!"}},{"$f":"E13","v":{"$error":"#REF!"}},{"$f":"IF(H10=0,0,1)+H10","v":{"$error":"#REF!"}},{"$f":"IF(I10=0,0,1)+I10","v":{"$error":"#REF!"}},{"$f":"IF(J10=0,0,1)+J10","v":{"$error":"#REF!"}},{"$f":"IF(I10=0,0,(K10*I10)+K10)","v":{"$error":"#REF!"}},{"$f":"IF(J10=0,0,(L10*J10)+L10)","v":{"$error":"#REF!"}},{"$f":"IF(H10=0,0,(M10*H10)+M10)","v":{"$error":"#REF!"}},{"$f":"IF(J10=0,0,(N10*J10)+N10)","v":{"$error":"#REF!"}}]
[null,"Bristol City Draw","x","9/4",{"$f":"+((#REF!-1)*F11)","v":{"$error":"#REF!"}},0]
[null,"Tottenham","√","6/4",{"$f":"+((#REF!-1)*F12)","v":{"$error":"#REF!"}},1,null,null,null,null,"Correct","Score"]
[null,"Sunderland","√","21/10",{"$f":"+((#REF!-1)*F13)","v":{"$error":"#REF!"}},1,null,null,null,null,{"$f":"SUM(F11:F13)","v":2},{"$f":"SUM(K10:Q10)-7","v":{"$error":"#REF!"}}]
[]
[]
[null,null,"Prediction","Odds - ","Odds - ","Prediction",null,null,null,null,"Single 1","Single 2","Single 3","Double 1","Double 2","Double 3","Treble"]
[null,null,"Correct?","fractional","decimal","Correct",null,{"$f":"E18","v":{"$error":"#REF!"}},{"$f":"E19","v":{"$error":"#REF!"}},{"$f":"E20","v":{"$error":"#REF!"}},{"$f":"IF(H17=0,0,1)+H17","v":{"$error":"#REF!"}},{"$f":"IF(I17=0,0,1)+I17","v":{"$error":"#REF!"}},{"$f":"IF(J17=0,0,1)+J17","v":{"$error":"#REF!"}},{"$f":"IF(I17=0,0,(K17*I17)+K17)","v":{"$error":"#REF!"}},{"$f":"IF(J17=0,0,(L17*J17)+L17)","v":{"$error":"#REF!"}},{"$f":"IF(H17=0,0,(M17*H17)+M17)","v":{"$error":"#REF!"}},{"$f":"IF(J17=0,0,(N17*J17)+N17)","v":{"$error":"#REF!"}}]
[null,"Bristol City Draw","x","9/4",{"$f":"+((#REF!-1)*F18)","v":{"$error":"#REF!"}},0]
[null,"Tottenham","x","6/4",{"$f":"+((#REF!-1)*F19)","v":{"$error":"#REF!"}},0,null,null,null,null,"Correct","Score"]
[null,"Sunderland","√","21/10",{"$f":"+((#REF!-1)*F20)","v":{"$error":"#REF!"}},1,null,null,null,null,{"$f":"SUM(F18:F20)","v":1},{"$f":"SUM(K17:Q17)-7","v":{"$error":"#REF!"}}]
[]
[]
[null,null,"Prediction","Odds - ","Odds - ","Prediction",null,null,null,null,"Single 1","Single 2","Single 3","Double 1","Double 2","Double 3","Treble"]
[null,null,"Correct?","fractional","decimal","Correct",null,{"$f":"E25","v":{"$error":"#REF!"}},{"$f":"E26","v":{"$error":"#REF!"}},{"$f":"E27","v":{"$error":"#REF!"}},{"$f":"IF(H24=0,0,1)+H24","v":{"$error":"#REF!"}},{"$f":"IF(I24=0,0,1)+I24","v":{"$error":"#REF!"}},{"$f":"IF(J24=0,0,1)+J24","v":{"$error":"#REF!"}},{"$f":"IF(I24=0,0,(K24*I24)+K24)","v":{"$error":"#REF!"}},{"$f":"IF(J24=0,0,(L24*J24)+L24)","v":{"$error":"#REF!"}},{"$f":"IF(H24=0,0,(M24*H24)+M24)","v":{"$error":"#REF!"}},{"$f":"IF(J24=0,0,(N24*J24)+N24)","v":{"$error":"#REF!"}}]
[null,"Bristol City Draw","x","9/4",{"$f":"+((#REF!-1)*F25)","v":{"$error":"#REF!"}},0]
[null,"Tottenham","x","6/4",{"$f":"+((#REF!-1)*F26)","v":{"$error":"#REF!"}},0,null,null,null,null,"Correct","Score"]
[null,"Sunderland","x","21/10",{"$f":"+((#REF!-1)*F27)","v":{"$error":"#REF!"}},0,null,null,null,null,{"$f":"SUM(F25:F27)","v":0},{"$f":"SUM(K24:Q24)-7","v":{"$error":"#REF!"}}]

{"sheet":"3of3","index":13,"n_rows":9,"n_cols":2,"rows_kept":9,"cut":false,"hidden":false,"merged":[]}
["Menu!A1"]
[]
["Count of Player"]
["Week\nCorrect","Total"]
[3,5]
[2,18]
[1,22]
[0,17]
["Grand Total",62]

{"sheet":"TopPicks","index":14,"n_rows":83,"n_cols":12,"rows_kept":83,"cut":false,"hidden":false,"merged":[]}
[]
[]
["Count of Points","Bet up "]
["Wk1",0,1,"#N/A","Grand Total",null,null,null,"Team","Down","Up"]
["Arsenal",1,null,null,1,null,null,null,"Forest Green",7]
["Bournemouth",4,null,null,4,null,null,null,"Villa",5]
["Brighton Draw",4,null,null,4,null,null,null,"Bournemouth",4]
["Cardiff",1,null,null,1,null,null,null,"Brighton Draw",4]
["Chelsea",3,null,null,3,null,null,null,"Leeds",4]
["Derby",2,null,null,2,null,null,null,"Chelsea",3]
["Everton",null,5,null,5,null,null,null,"Sheff U",3]
["Fulham",null,7,null,7,null,null,null,"West Ham",3]
["Fulham draw",2,null,null,2,null,null,null,"Swansea",3]
["Leeds",4,null,null,4,null,null,null,"Luton",3]
["Leicester",null,4,null,4,null,null,null,"Plymouth",3]
["Liverpool",1,null,null,1,null,null,null,"Derby",2]
["Man U",null,4,null,4,null,null,null,"Fulham draw",2]
["Middlesbro draw",null,1,null,1,null,null,null,"Newcastle",2]
["Millwall",null,2,null,2,null,null,null,"Palace",2]
["Newcastle",2,null,null,2,null,null,null,"Sheff W",2]
["Newcastle Draw",null,2,null,2,null,null,null,"Southampton",2]
["Norwich",1,null,null,1,null,null,null,"Watford",2]
["Palace",2,null,null,2,null,null,null,"Barnsley",2]
["QPR",null,3,null,3,null,null,null,"Portsmouth",2]
["Sheff U",3,null,null,3,null,null,null,"Bradford",2]
["Sheff W",2,null,null,2,null,null,null,"Accrington",2]
["Southampton",2,null,null,2,null,null,null,"Harrogate",2]
["Spurs",null,6,null,6,null,null,null,"Orient draw",2]
["Spurs draw",1,null,null,1,null,null,null,"Sutton",2]
["Stoke",1,null,null,1,null,null,null,"Arsenal",1]
["Villa",5,null,null,5,null,null,null,"Cardiff",1]
["Watford",2,null,null,2,null,null,null,"Liverpool",1]
["West Brom",null,4,null,4,null,null,null,"Norwich",1]
["West Ham",3,null,null,3,null,null,null,"Spurs draw",1]
["Wigan",null,4,null,4,null,null,null,"Stoke",1,null,12]
["Wolves",1,null,null,1,null,null,null,"Wolves",1]
["(blank)",null,null,3,3,null,null,null,"Burnley",1]
["Burnley draw",null,2,null,2,null,null,null,"Wolves draw",1]
["Burnley",1,null,null,1,null,null,null,"Exeter",1]
["Man C",null,3,null,3,null,null,null,"Birmingham",1]
["Liverpool Draw",null,9,null,9,null,null,null,"Middlesbro",1]
["Wolves draw",1,null,null,1,null,null,null,"Wigan draw",1]
["Derby Draw",null,5,null,5,null,null,null,"Preston draw",1]
["Exeter",1,null,null,1,null,null,null,"QPR draw",1]
["Barnsley",2,null,null,2,null,null,null,"Man C draw",1]
["Swansea",3,null,null,3,null,null,null,"Huddersfield draw",1]
["Birmingham",1,null,null,1,null,null,null,"Bolton",1]
["Middlesbro",1,null,null,1,null,null,null,"Wycombe",1]
["Luton",3,null,null,3,null,null,null,"Barrow",1]
["Wigan draw",1,null,null,1,null,null,null,"Lincoln",1]
["Charlton",null,1,null,1,null,null,null,"Blackpool",1]
["Preston draw",1,null,null,1,null,null,null,"Crawley",1]
["QPR draw",1,null,null,1,null,null,null,"Carlisle",1]
["Man C draw",1,null,null,1,null,null,null,"Burton",1]
["Huddersfield draw",1,null,null,1,null,null,null,"Rotherham draw",1]
["Huddersfield",null,1,null,1,null,null,null,"Stevenage",1]
["Portsmouth",2,null,null,2,null,null,null,"Forest Green draw",1]
["Forest Green",7,null,null,7,null,null,null,"MK Dons draw",1]
["Sunderland",null,1,null,1,null,null,null,"Hartlepool draw",1]
["Bradford",2,null,null,2,null,null,null,"Liverpool Draw",null,9]
["Accrington",2,null,null,2,null,null,null,"Fulham",null,7]
["Bolton",1,null,null,1,null,null,null,"Spurs",null,6]
["Wycombe",1,null,null,1,null,null,null,"Everton",null,5]
["Barrow",1,null,null,1,null,null,null,"Derby Draw",null,5]
["Harrogate",2,null,null,2,null,null,null,"Leicester",null,4]
["Lincoln",1,null,null,1,null,null,null,"Man U",null,4]
["Salford",null,2,null,2,null,null,null,"West Brom",null,4]
["MK Dons",null,1,null,1,null,null,null,"Wigan",null,4]
["Blackpool",1,null,null,1,null,null,null,"QPR",null,3]
["Plymouth",3,null,null,3,null,null,null,"Man C",null,3]
["Oxford",null,2,null,2,null,null,null,"Millwall",null,2]
["Crawley",1,null,null,1,null,null,null,"Newcastle Draw",null,2]
["Carlisle",1,null,null,1,null,null,null,"Burnley draw",null,2]
["Burton",1,null,null,1,null,null,null,"Salford",null,2]
["Rotherham draw",1,null,null,1,null,null,null,"Oxford",null,2]
["Stevenage",1,null,null,1,null,null,null,"Rotherham",null,2]
["Forest Green draw",1,null,null,1,null,null,null,"Middlesbro draw",null,1]
["Orient draw",2,null,null,2,null,null,null,"Charlton",null,1]
["Rotherham",null,2,null,2,null,null,null,"Huddersfield",null,1]
["MK Dons draw",1,null,null,1,null,null,null,"Sunderland",null,1]
["Sutton",2,null,null,2,null,null,null,"MK Dons",null,1]
["Hartlepool draw",1,null,null,1,null,null,null,"(blank)"]
["Grand Total",100,71,3,174]

{"sheet":"Images","index":15,"n_rows":40,"n_cols":38,"rows_kept":40,"cut":false,"hidden":false,"merged":[[30,10,30,11],[30,13,30,15],[30,16,30,18],[29,10,29,11],[17,12,17,13],[29,13,29,15],[29,16,29,18],[24,16,24,18],[25,16,25,18],[20,17,20,18],[28,10,28,11],[25,12,25,13],[27,12,27,18],[28,13,28,15],[28,16,28,18],[21,14,21,16],[24,12,24,13],[2,27,2,37],[3,27,3,28],[3,30,3,31],[3,33,3,34],[3,36,3,37],[21,17,21,18],[8,11,8,12],[20,12,20,13],[20,14,20,16],[19,14,19,16],[13,11,13,12],[14,11,14,12],[15,11,15,12],[2,10,2,18],[17,14,17,16],[22,1,27,1],[2,3,2,7],[4,1,9,1],[10,1,15,1],[16,1,21,1],[12,11,12,12],[3,11,3,12],[18,14,18,16],[9,11,9,12],[10,11,10,12],[11,11,11,12],[4,11,4,12],[5,11,5,12],[6,11,6,12],[7,11,7,12]]}
[null,"Season:","PL38"]
[null,"Round",3]
[null,null,null,{"$f":"CONCATENATE(\"Promotion/Prize Places (Top 6) In Division after Round \",$C$2)","v":"Promotion/Prize Places (Top 6) In Division after Round 3"},null,null,null,null,null,null,{"$f":"CONCATENATE(\"Weekly Top 12 for Round \",$C$2)","v":"Weekly Top 12 for Round 3"},null,null,null,null,null,null,null,null,null,null,null,null,null,null,null,null,{"$f":"CONCATENATE(\"League Standings after Round \",$C$2)","v":"League Standings after Round 3"}]
[null,null,"Pos","Season\nPoints","Season\nCorrect","Name","Week\nPoints","Week\nCorrect",null,null,"Prize","Name",null,"Rank #\nof 62","Div","Div\nPos","Season\nTotal","Wk in","Wk Pts",null,null,"Division","Name","Correct","Points",null,null,"Division A",null,null,"Division B",null,null,"Division C",null,null,"Division D"]
["A1","Division A",1,{"$f":"INDEX(Table!I:I,MATCH($A5,Table!$B:$B,0))","v":43.295454545454547},{"$f":"INDEX(Table!J:J,MATCH($A5,Table!$B:$B,0))","v":7},{"$f":"INDEX(Table!F:F,MATCH($A5,Table!$B:$B,0))","v":"Phil Miller"},{"$f":"INDEX(Table!K:K,MATCH($A5,Table!$B:$B,0))","v":37.81818181818182},{"$f":"INDEX(Table!L:L,MATCH($A5,Table!$B:$B,0))","v":3},null,1,10,{"$f":"INDEX(Weekly!E:E,MATCH($J5,Weekly!$B:$B,0))","v":"Phil Miller"},null,{"$f":"INDEX(Weekly!A:A,MATCH($L5,Weekly!$E:$E,0))","v":2},{"$f":"INDEX(Weekly!D:D,MATCH($L5,Weekly!$E:$E,0))","v":"A"},{"$f":"INDEX(Table!D:D,MATCH($L5,Table!$F:$F,0))","v":1},{"$f":"INDEX(Weekly!F:F,MATCH($L5,Weekly!$E:$E,0))","v":43.295454545454547},{"$f":"INDEX(Weekly!I:I,MATCH($L5,Weekly!$E:$E,0))","v":3},{"$f":"INDEX(Weekly!H:H,MATCH($L5,Weekly!$E:$E,0))","v":37.81818181818182},null,1,null,null,null,null,null,"A1",{"$f":"INDEX(Table!$F:$F,MATCH(AA5,Table!$B:$B,0))","v":"Phil Miller"},{"$f":"INDEX(Table!$I:$I,MATCH(AA5,Table!$B:$B,0))","v":43.295454545454547},"B1",{"$f":"INDEX(Table!$F:$F,MATCH(AD5,Table!$B:$B,0))","v":"Dave Orrell"},{"$f":"INDEX(Table!$I:$I,MATCH(AD5,Table!$B:$B,0))","v":30.54},"C1",{"$f":"INDEX(Table!$F:$F,MATCH(AG5,Table!$B:$B,0))","v":"Gareth McGuire"},{"$f":"INDEX(Table!$I:$I,MATCH(AG5,Table!$B:$B,0))","v":14.025454545454544},"D1",{"$f":"INDEX(Table!$F:$F,MATCH(AJ5,Table!$B:$B,0))","v":"Martin Molyneux"},{"$f":"INDEX(Table!$I:$I,MATCH(AJ5,Table!$B:$B,0))","v":53.165454545454551}]
["A2",null,2,{"$f":"INDEX(Table!I:I,MATCH($A6,Table!$B:$B,0))","v":16.744999999999997},{"$f":"INDEX(Table!J:J,MATCH($A6,Table!$B:$B,0))","v":6},{"$f":"INDEX(Table!F:F,MATCH($A6,Table!$B:$B,0))","v":"Barry Birchall"},{"$f":"INDEX(Table!K:K,MATCH($A6,Table!$B:$B,0))","v":-5.35},{"$f":"INDEX(Table!L:L,MATCH($A6,Table!$B:$B,0))","v":1},null,2,5,{"$f":"INDEX(Weekly!E:E,MATCH($J6,Weekly!$B:$B,0))","v":"Dan Gibbard"},null,{"$f":"INDEX(Weekly!A:A,MATCH($L6,Weekly!$E:$E,0))","v":7},{"$f":"INDEX(Weekly!D:D,MATCH($L6,Weekly!$E:$E,0))","v":"D"},{"$f":"INDEX(Table!D:D,MATCH($L6,Table!$F:$F,0))","v":2},{"$f":"INDEX(Weekly!F:F,MATCH($L6,Weekly!$E:$E,0))","v":22.083068181818181},{"$f":"INDEX(Weekly!I:I,MATCH($L6,Weekly!$E:$E,0))","v":3},{"$f":"INDEX(Weekly!H:H,MATCH($L6,Weekly!$E:$E,0))","v":22.476249999999997},null,2,null,null,null,null,null,"A2",{"$f":"INDEX(Table!F:F,MATCH(AA6,Table!$B:$B,0))","v":"Barry Birchall"},{"$f":"INDEX(Table!I:I,MATCH(AA6,Table!$B:$B,0))","v":16.744999999999997},"B2",{"$f":"INDEX(Table!$F:$F,MATCH(AD6,Table!$B:$B,0))","v":"Stephen Troop"},{"$f":"INDEX(Table!$I:$I,MATCH(AD6,Table!$B:$B,0))","v":26.381351981351983},"C2",{"$f":"INDEX(Table!$F:$F,MATCH(AG6,Table!$B:$B,0))","v":"Chris Griffin"},{"$f":"INDEX(Table!$I:$I,MATCH(AG6,Table!$B:$B,0))","v":13.709790209790214},"D2",{"$f":"INDEX(Table!$F:$F,MATCH(AJ6,Table!$B:$B,0))","v":"Dan Gibbard"},{"$f":"INDEX(Table!$I:$I,MATCH(AJ6,Table!$B:$B,0))","v":22.083068181818181}]
["A3",null,3,{"$f":"INDEX(Table!I:I,MATCH($A7,Table!$B:$B,0))","v":9.6199999999999992},{"$f":"INDEX(Table!J:J,MATCH($A7,Table!$B:$B,0))","v":5},{"$f":"INDEX(Table!F:F,MATCH($A7,Table!$B:$B,0))","v":"Chris Bow"},{"$f":"INDEX(Table!K:K,MATCH($A7,Table!$B:$B,0))","v":2.8000000000000007},{"$f":"INDEX(Table!L:L,MATCH($A7,Table!$B:$B,0))","v":2},null,3,5,{"$f":"INDEX(Weekly!E:E,MATCH($J7,Weekly!$B:$B,0))","v":"Nick Blocksidge"},null,{"$f":"INDEX(Weekly!A:A,MATCH($L7,Weekly!$E:$E,0))","v":13},{"$f":"INDEX(Weekly!D:D,MATCH($L7,Weekly!$E:$E,0))","v":"C"},{"$f":"INDEX(Table!D:D,MATCH($L7,Table!$F:$F,0))","v":3},{"$f":"INDEX(Weekly!F:F,MATCH($L7,Weekly!$E:$E,0))","v":12.073333333333331},{"$f":"INDEX(Weekly!I:I,MATCH($L7,Weekly!$E:$E,0))","v":3},{"$f":"INDEX(Weekly!H:H,MATCH($L7,Weekly!$E:$E,0))","v":22.24},null,3,null,null,null,null,null,"A3",{"$f":"INDEX(Table!F:F,MATCH(AA7,Table!$B:$B,0))","v":"Chris Bow"},{"$f":"INDEX(Table!I:I,MATCH(AA7,Table!$B:$B,0))","v":9.6199999999999992},"B3",{"$f":"INDEX(Table!$F:$F,MATCH(AD7,Table!$B:$B,0))","v":"John Ronan"},{"$f":"INDEX(Table!$I:$I,MATCH(AD7,Table!$B:$B,0))","v":24.719499999999996},"C3",{"$f":"INDEX(Table!$F:$F,MATCH(AG7,Table!$B:$B,0))","v":"Nick Blocksidge"},{"$f":"INDEX(Table!$I:$I,MATCH(AG7,Table!$B:$B,0))","v":12.073333333333331},"D3",{"$f":"INDEX(Table!$F:$F,MATCH(AJ7,Table!$B:$B,0))","v":"Alan Bond"},{"$f":"INDEX(Table!$I:$I,MATCH(AJ7,Table!$B:$B,0))","v":20.803636363636365}]
["A4",null,4,{"$f":"INDEX(Table!I:I,MATCH($A8,Table!$B:$B,0))","v":6.6454545454545437},{"$f":"INDEX(Table!J:J,MATCH($A8,Table!$B:$B,0))","v":6},{"$f":"INDEX(Table!F:F,MATCH($A8,Table!$B:$B,0))","v":"Mark Saunders"},{"$f":"INDEX(Table!K:K,MATCH($A8,Table!$B:$B,0))","v":4.8999999999999986},{"$f":"INDEX(Table!L:L,MATCH($A8,Table!$B:$B,0))","v":2},null,4,5,{"$f":"INDEX(Weekly!E:E,MATCH($J8,Weekly!$B:$B,0))","v":"Martin Molyneux"},null,{"$f":"INDEX(Weekly!A:A,MATCH($L8,Weekly!$E:$E,0))","v":1},{"$f":"INDEX(Weekly!D:D,MATCH($L8,Weekly!$E:$E,0))","v":"D"},{"$f":"INDEX(Table!D:D,MATCH($L8,Table!$F:$F,0))","v":1},{"$f":"INDEX(Weekly!F:F,MATCH($L8,Weekly!$E:$E,0))","v":53.165454545454551},{"$f":"INDEX(Weekly!I:I,MATCH($L8,Weekly!$E:$E,0))","v":3},{"$f":"INDEX(Weekly!H:H,MATCH($L8,Weekly!$E:$E,0))","v":15.219999999999999},null,4,null,null,null,null,null,"A4",{"$f":"INDEX(Table!F:F,MATCH(AA8,Table!$B:$B,0))","v":"Mark Saunders"},{"$f":"INDEX(Table!I:I,MATCH(AA8,Table!$B:$B,0))","v":6.6454545454545437},"B4",{"$f":"INDEX(Table!$F:$F,MATCH(AD8,Table!$B:$B,0))","v":"Howard Bradley"},{"$f":"INDEX(Table!$I:$I,MATCH(AD8,Table!$B:$B,0))","v":22.254000000000005},"C4",{"$f":"INDEX(Table!$F:$F,MATCH(AG8,Table!$B:$B,0))","v":"Rob England"},{"$f":"INDEX(Table!$I:$I,MATCH(AG8,Table!$B:$B,0))","v":12.02795454545455},"D4",{"$f":"INDEX(Table!$F:$F,MATCH(AJ8,Table!$B:$B,0))","v":"Paul Barnes"},{"$f":"INDEX(Table!$I:$I,MATCH(AJ8,Table!$B:$B,0))","v":10.84125874125874}]
["A5",null,5,{"$f":"INDEX(Table!I:I,MATCH($A9,Table!$B:$B,0))","v":5.7293939393939395},{"$f":"INDEX(Table!J:J,MATCH($A9,Table!$B:$B,0))","v":7},{"$f":"INDEX(Table!F:F,MATCH($A9,Table!$B:$B,0))","v":"Kevin Carter"},{"$f":"INDEX(Table!K:K,MATCH($A9,Table!$B:$B,0))","v":-0.22727272727272751},{"$f":"INDEX(Table!L:L,MATCH($A9,Table!$B:$B,0))","v":2},null,5,null,{"$f":"INDEX(Weekly!E:E,MATCH($J9,Weekly!$B:$B,0))","v":"Stephen Troop"},null,{"$f":"INDEX(Weekly!A:A,MATCH($L9,Weekly!$E:$E,0))","v":4},{"$f":"INDEX(Weekly!D:D,MATCH($L9,Weekly!$E:$E,0))","v":"B"},{"$f":"INDEX(Table!D:D,MATCH($L9,Table!$F:$F,0))","v":2},{"$f":"INDEX(Weekly!F:F,MATCH($L9,Weekly!$E:$E,0))","v":26.381351981351983},{"$f":"INDEX(Weekly!I:I,MATCH($L9,Weekly!$E:$E,0))","v":3},{"$f":"INDEX(Weekly!H:H,MATCH($L9,Weekly!$E:$E,0))","v":12.945454545454545},null,5,null,null,null,null,null,"A5",{"$f":"INDEX(Table!F:F,MATCH(AA9,Table!$B:$B,0))","v":"Kevin Carter"},{"$f":"INDEX(Table!I:I,MATCH(AA9,Table!$B:$B,0))","v":5.7293939393939395},"B5",{"$f":"INDEX(Table!$F:$F,MATCH(AD9,Table!$B:$B,0))","v":"Charlie Griffiths"},{"$f":"INDEX(Table!$I:$I,MATCH(AD9,Table!$B:$B,0))","v":13.556875000000005},"C5",{"$f":"INDEX(Table!$F:$F,MATCH(AG9,Table!$B:$B,0))","v":"Ben Rosser"},{"$f":"INDEX(Table!$I:$I,MATCH(AG9,Table!$B:$B,0))","v":10.187272727272727},"D5",{"$f":"INDEX(Table!$F:$F,MATCH(AJ9,Table!$B:$B,0))","v":"Gareth Powell"},{"$f":"INDEX(Table!$I:$I,MATCH(AJ9,Table!$B:$B,0))","v":4.3500000000000014}]
["A6",null,6,{"$f":"INDEX(Table!I:I,MATCH($A10,Table!$B:$B,0))","v":0.9081818181818182},{"$f":"INDEX(Table!J:J,MATCH($A10,Table!$B:$B,0))","v":5},{"$f":"INDEX(Table!F:F,MATCH($A10,Table!$B:$B,0))","v":"Mal Stott"},{"$f":"INDEX(Table!K:K,MATCH($A10,Table!$B:$B,0))","v":-5.15},{"$f":"INDEX(Table!L:L,MATCH($A10,Table!$B:$B,0))","v":1},null,6,null,{"$f":"INDEX(Weekly!E:E,MATCH($J10,Weekly!$B:$B,0))","v":"Gareth Powell"},null,{"$f":"INDEX(Weekly!A:A,MATCH($L10,Weekly!$E:$E,0))","v":23},{"$f":"INDEX(Weekly!D:D,MATCH($L10,Weekly!$E:$E,0))","v":"D"},{"$f":"INDEX(Table!D:D,MATCH($L10,Table!$F:$F,0))","v":5},{"$f":"INDEX(Weekly!F:F,MATCH($L10,Weekly!$E:$E,0))","v":4.3500000000000014},{"$f":"INDEX(Weekly!I:I,MATCH($L10,Weekly!$E:$E,0))","v":2},{"$f":"INDEX(Weekly!H:H,MATCH($L10,Weekly!$E:$E,0))","v":11.350000000000001},null,6,null,null,null,null,null,"A6",{"$f":"INDEX(Table!F:F,MATCH(AA10,Table!$B:$B,0))","v":"Mal Stott"},{"$f":"INDEX(Table!I:I,MATCH(AA10,Table!$B:$B,0))","v":0.9081818181818182},"B6",{"$f":"INDEX(Table!$F:$F,MATCH(AD10,Table!$B:$B,0))","v":"Alick Rocca"},{"$f":"INDEX(Table!$I:$I,MATCH(AD10,Table!$B:$B,0))","v":8.023076923076923},"C6",{"$f":"INDEX(Table!$F:$F,MATCH(AG10,Table!$B:$B,0))","v":"Chris Townsend"},{"$f":"INDEX(Table!$I:$I,MATCH(AG10,Table!$B:$B,0))","v":10},"D6",{"$f":"INDEX(Table!$F:$F,MATCH(AJ10,Table!$B:$B,0))","v":"John Murphy"},{"$f":"INDEX(Table!$I:$I,MATCH(AJ10,Table!$B:$B,0))","v":-1.8500000000000014}]
["B1","Division B",1,{"$f":"INDEX(Table!I:I,MATCH($A11,Table!$B:$B,0))","v":30.54},{"$f":"INDEX(Table!J:J,MATCH($A11,Table!$B:$B,0))","v":6},{"$f":"INDEX(Table!F:F,MATCH($A11,Table!$B:$B,0))","v":"Dave Orrell"},{"$f":"INDEX(Table!K:K,MATCH($A11,Table!$B:$B,0))","v":2.7100000000000009},{"$f":"INDEX(Table!L:L,MATCH($A11,Table!$B:$B,0))","v":2},null,7,null,{"$f":"INDEX(Weekly!E:E,MATCH($J11,Weekly!$B:$B,0))","v":"Ben Rosser"},null,{"$f":"INDEX(Weekly!A:A,MATCH($L11,Weekly!$E:$E,0))","v":16},{"$f":"INDEX(Weekly!D:D,MATCH($L11,Weekly!$E:$E,0))","v":"C"},{"$f":"INDEX(Table!D:D,MATCH($L11,Table!$F:$F,0))","v":5},{"$f":"INDEX(Weekly!F:F,MATCH($L11,Weekly!$E:$E,0))","v":10.187272727272727},{"$f":"INDEX(Weekly!I:I,MATCH($L11,Weekly!$E:$E,0))","v":2},{"$f":"INDEX(Weekly!H:H,MATCH($L11,Weekly!$E:$E,0))","v":10.059999999999999},null,7,null,null,null,null,null,"A7",{"$f":"INDEX(Table!F:F,MATCH(AA11,Table!$B:$B,0))","v":"Lennie Bow"},{"$f":"INDEX(Table!I:I,MATCH(AA11,Table!$B:$B,0))","v":0.27613636363636296},"B7",{"$f":"INDEX(Table!$F:$F,MATCH(AD11,Table!$B:$B,0))","v":"Stephen Barr"},{"$f":"INDEX(Table!$I:$I,MATCH(AD11,Table!$B:$B,0))","v":4.1939393939393943},"C7",{"$f":"INDEX(Table!$F:$F,MATCH(AG11,Table!$B:$B,0))","v":"Paul Allen"},{"$f":"INDEX(Table!$I:$I,MATCH(AG11,Table!$B:$B,0))","v":4.9700000000000042},"D7",{"$f":"INDEX(Table!$F:$F,MATCH(AJ11,Table!$B:$B,0))","v":"Ian Davies"},{"$f":"INDEX(Table!$I:$I,MATCH(AJ11,Table!$B:$B,0))","v":-3.9600000000000009}]
["B2",null,2,{"$f":"INDEX(Table!I:I,MATCH($A12,Table!$B:$B,0))","v":26.381351981351983},{"$f":"INDEX(Table!J:J,MATCH($A12,Table!$B:$B,0))","v":8},{"$f":"INDEX(Table!F:F,MATCH($A12,Table!$B:$B,0))","v":"Stephen Troop"},{"$f":"INDEX(Table!K:K,MATCH($A12,Table!$B:$B,0))","v":12.945454545454545},{"$f":"INDEX(Table!L:L,MATCH($A12,Table!$B:$B,0))","v":3},null,8,null,{"$f":"INDEX(Weekly!E:E,MATCH($J12,Weekly!$B:$B,0))","v":"Alick Rocca"},null,{"$f":"INDEX(Weekly!A:A,MATCH($L12,Weekly!$E:$E,0))","v":19},{"$f":"INDEX(Weekly!D:D,MATCH($L12,Weekly!$E:$E,0))","v":"B"},{"$f":"INDEX(Table!D:D,MATCH($L12,Table!$F:$F,0))","v":6},{"$f":"INDEX(Weekly!F:F,MATCH($L12,Weekly!$E:$E,0))","v":8.023076923076923},{"$f":"INDEX(Weekly!I:I,MATCH($L12,Weekly!$E:$E,0))","v":2},{"$f":"INDEX(Weekly!H:H,MATCH($L12,Weekly!$E:$E,0))","v":9.1999999999999993},null,8,null,null,null,null,null,"A8",{"$f":"INDEX(Table!F:F,MATCH(AA12,Table!$B:$B,0))","v":"Nigel Heyes"},{"$f":"INDEX(Table!I:I,MATCH(AA12,Table!$B:$B,0))","v":-0.23545454545454447},"B8",{"$f":"INDEX(Table!$F:$F,MATCH(AD12,Table!$B:$B,0))","v":"Pete Baron"},{"$f":"INDEX(Table!$I:$I,MATCH(AD12,Table!$B:$B,0))","v":-0.60000000000000142},"C8",{"$f":"INDEX(Table!$F:$F,MATCH(AG12,Table!$B:$B,0))","v":"Alan White"},{"$f":"INDEX(Table!$I:$I,MATCH(AG12,Table!$B:$B,0))","v":3.9499999999999975},"D8",{"$f":"INDEX(Table!$F:$F,MATCH(AJ12,Table!$B:$B,0))","v":"Frank Allen"},{"$f":"INDEX(Table!$I:$I,MATCH(AJ12,Table!$B:$B,0))","v":-5.5209090909090905}]
["B3",null,3,{"$f":"INDEX(Table!I:I,MATCH($A13,Table!$B:$B,0))","v":24.719499999999996},{"$f":"INDEX(Table!J:J,MATCH($A13,Table!$B:$B,0))","v":5},{"$f":"INDEX(Table!F:F,MATCH($A13,Table!$B:$B,0))","v":"John Ronan"},{"$f":"INDEX(Table!K:K,MATCH($A13,Table!$B:$B,0))","v":-4.9000000000000004},{"$f":"INDEX(Table!L:L,MATCH($A13,Table!$B:$B,0))","v":1},null,9,null,"Pete Baron",null,{"$f":"INDEX(Weekly!A:A,MATCH($L13,Weekly!$E:$E,0))","v":31},{"$f":"INDEX(Weekly!D:D,MATCH($L13,Weekly!$E:$E,0))","v":"B"},{"$f":"INDEX(Table!D:D,MATCH($L13,Table!$F:$F,0))","v":8},{"$f":"INDEX(Weekly!F:F,MATCH($L13,Weekly!$E:$E,0))","v":-0.60000000000000142},{"$f":"INDEX(Weekly!I:I,MATCH($L13,Weekly!$E:$E,0))","v":2},{"$f":"INDEX(Weekly!H:H,MATCH($L13,Weekly!$E:$E,0))","v":9.1999999999999993},null,9,null,null,null,null,null,"A9",{"$f":"INDEX(Table!F:F,MATCH(AA13,Table!$B:$B,0))","v":"Steve Baxter"},{"$f":"INDEX(Table!I:I,MATCH(AA13,Table!$B:$B,0))","v":-1.9809090909090914},"B9",{"$f":"INDEX(Table!$F:$F,MATCH(AD13,Table!$B:$B,0))","v":"Chris Luck"},{"$f":"INDEX(Table!$I:$I,MATCH(AD13,Table!$B:$B,0))","v":-5.4499999999999993},"C9",{"$f":"INDEX(Table!$F:$F,MATCH(AG13,Table!$B:$B,0))","v":"Tom Robinson"},{"$f":"INDEX(Table!$I:$I,MATCH(AG13,Table!$B:$B,0))","v":1.4216666666666633},"D9",{"$f":"INDEX(Table!$F:$F,MATCH(AJ13,Table!$B:$B,0))","v":"Bob Bailey"},{"$f":"INDEX(Table!$I:$I,MATCH(AJ13,Table!$B:$B,0))","v":-9.7249999999999996}]
["B4",null,4,{"$f":"INDEX(Table!I:I,MATCH($A14,Table!$B:$B,0))","v":22.254000000000005},{"$f":"INDEX(Table!J:J,MATCH($A14,Table!$B:$B,0))","v":6},{"$f":"INDEX(Table!F:F,MATCH($A14,Table!$B:$B,0))","v":"Howard Bradley"},{"$f":"INDEX(Table!K:K,MATCH($A14,Table!$B:$B,0))","v":-3.5},{"$f":"INDEX(Table!L:L,MATCH($A14,Table!$B:$B,0))","v":1},null,10,null,{"$f":"INDEX(Weekly!E:E,MATCH($J14,Weekly!$B:$B,0))","v":"Sally Williams"},null,{"$f":"INDEX(Weekly!A:A,MATCH($L14,Weekly!$E:$E,0))","v":35},{"$f":"INDEX(Weekly!D:D,MATCH($L14,Weekly!$E:$E,0))","v":"A"},{"$f":"INDEX(Table!D:D,MATCH($L14,Table!$F:$F,0))","v":10},{"$f":"INDEX(Weekly!F:F,MATCH($L14,Weekly!$E:$E,0))","v":-2.0999999999999996},{"$f":"INDEX(Weekly!I:I,MATCH($L14,Weekly!$E:$E,0))","v":2},{"$f":"INDEX(Weekly!H:H,MATCH($L14,Weekly!$E:$E,0))","v":8.8000000000000007},null,10,null,null,null,null,null,"A10",{"$f":"INDEX(Table!F:F,MATCH(AA14,Table!$B:$B,0))","v":"Sally Williams"},{"$f":"INDEX(Table!I:I,MATCH(AA14,Table!$B:$B,0))","v":-2.0999999999999996},"B10",{"$f":"INDEX(Table!$F:$F,MATCH(AD14,Table!$B:$B,0))","v":"Simon Greenhalgh"},{"$f":"INDEX(Table!$I:$I,MATCH(AD14,Table!$B:$B,0))","v":-7.2650000000000006},"C10",{"$f":"INDEX(Table!$F:$F,MATCH(AG14,Table!$B:$B,0))","v":"David Dunn"},{"$f":"INDEX(Table!$I:$I,MATCH(AG14,Table!$B:$B,0))","v":-0.5113636363636358},"D10",{"$f":"INDEX(Table!$F:$F,MATCH(AJ14,Table!$B:$B,0))","v":"Liam Wah"},{"$f":"INDEX(Table!$I:$I,MATCH(AJ14,Table!$B:$B,0))","v":-13.48}]
["B5",null,5,{"$f":"INDEX(Table!I:I,MATCH($A15,Table!$B:$B,0))","v":13.556875000000005},{"$f":"INDEX(Table!J:J,MATCH($A15,Table!$B:$B,0))","v":4},{"$f":"INDEX(Table!F:F,MATCH($A15,Table!$B:$B,0))","v":"Charlie Griffiths"},{"$f":"INDEX(Table!K:K,MATCH($A15,Table!$B:$B,0))","v":-7},{"$f":"INDEX(Table!L:L,MATCH($A15,Table!$B:$B,0))","v":0},null,11,null,{"$f":"INDEX(Weekly!E:E,MATCH($J15,Weekly!$B:$B,0))","v":"Mark Saunders"},null,{"$f":"INDEX(Weekly!A:A,MATCH($L15,Weekly!$E:$E,0))","v":20},{"$f":"INDEX(Weekly!D:D,MATCH($L15,Weekly!$E:$E,0))","v":"A"},{"$f":"INDEX(Table!D:D,MATCH($L15,Table!$F:$F,0))","v":4},{"$f":"INDEX(Weekly!F:F,MATCH($L15,Weekly!$E:$E,0))","v":6.6454545454545437},{"$f":"INDEX(Weekly!I:I,MATCH($L15,Weekly!$E:$E,0))","v":2},{"$f":"INDEX(Weekly!H:H,MATCH($L15,Weekly!$E:$E,0))","v":4.8999999999999986},null,11,null,null,null,null,null,"A11",{"$f":"INDEX(Table!F:F,MATCH(AA15,Table!$B:$B,0))","v":"Gerard Ventom"},{"$f":"INDEX(Table!I:I,MATCH(AA15,Table!$B:$B,0))","v":-2.1499999999999995},"B11",{"$f":"INDEX(Table!$F:$F,MATCH(AD15,Table!$B:$B,0))","v":"Andy White"},{"$f":"INDEX(Table!$I:$I,MATCH(AD15,Table!$B:$B,0))","v":-9.0181818181818176},"C11",{"$f":"INDEX(Table!$F:$F,MATCH(AG15,Table!$B:$B,0))","v":"Graham Miller"},{"$f":"INDEX(Table!$I:$I,MATCH(AG15,Table!$B:$B,0))","v":-1.1049999999999986},"D11",{"$f":"INDEX(Table!$F:$F,MATCH(AJ15,Table!$B:$B,0))","v":"Ashley Houghton"},{"$f":"INDEX(Table!$I:$I,MATCH(AJ15,Table!$B:$B,0))","v":-15.280000000000001}]
["B6",null,6,{"$f":"INDEX(Table!I:I,MATCH($A16,Table!$B:$B,0))","v":8.023076923076923},{"$f":"INDEX(Table!J:J,MATCH($A16,Table!$B:$B,0))","v":5},{"$f":"INDEX(Table!F:F,MATCH($A16,Table!$B:$B,0))","v":"Alick Rocca"},{"$f":"INDEX(Table!K:K,MATCH($A16,Table!$B:$B,0))","v":9.1999999999999993},{"$f":"INDEX(Table!L:L,MATCH($A16,Table!$B:$B,0))","v":2},null,12,null,"Paul Barnes",null,{"$f":"INDEX(Weekly!A:A,MATCH($L16,Weekly!$E:$E,0))","v":15},{"$f":"INDEX(Weekly!D:D,MATCH($L16,Weekly!$E:$E,0))","v":"D"},{"$f":"INDEX(Table!D:D,MATCH($L16,Table!$F:$F,0))","v":4},{"$f":"INDEX(Weekly!F:F,MATCH($L16,Weekly!$E:$E,0))","v":10.84125874125874},{"$f":"INDEX(Weekly!I:I,MATCH($L16,Weekly!$E:$E,0))","v":2},{"$f":"INDEX(Weekly!H:H,MATCH($L16,Weekly!$E:$E,0))","v":4.8999999999999986},null,12,null,null,null,null,null,"A12",{"$f":"INDEX(Table!F:F,MATCH(AA16,Table!$B:$B,0))","v":"Alfie Davies"},{"$f":"INDEX(Table!I:I,MATCH(AA16,Table!$B:$B,0))","v":-14.25},"B12",{"$f":"INDEX(Table!$F:$F,MATCH(AD16,Table!$B:$B,0))","v":"Mo Sudell"},{"$f":"INDEX(Table!$I:$I,MATCH(AD16,Table!$B:$B,0))","v":-10.160000000000002},"C12",{"$f":"INDEX(Table!$F:$F,MATCH(AG16,Table!$B:$B,0))","v":"Paul Fiddler"},{"$f":"INDEX(Table!$I:$I,MATCH(AG16,Table!$B:$B,0))","v":-4.2012820512820515},"D12",{"$f":"INDEX(Table!$F:$F,MATCH(AJ16,Table!$B:$B,0))","v":"Martin Tarbuck"},{"$f":"INDEX(Table!$I:$I,MATCH(AJ16,Table!$B:$B,0))","v":-16.149999999999999}]
["C1","Division C",1,{"$f":"INDEX(Table!I:I,MATCH($A17,Table!$B:$B,0))","v":14.025454545454544},{"$f":"INDEX(Table!J:J,MATCH($A17,Table!$B:$B,0))","v":6},{"$f":"INDEX(Table!F:F,MATCH($A17,Table!$B:$B,0))","v":"Gareth McGuire"},{"$f":"INDEX(Table!K:K,MATCH($A17,Table!$B:$B,0))","v":-5},{"$f":"INDEX(Table!L:L,MATCH($A17,Table!$B:$B,0))","v":1},null,null,null,null,null,null,null,null,null,null,null,null,13,null,null,null,null,null,"A13",{"$f":"INDEX(Table!F:F,MATCH(AA17,Table!$B:$B,0))","v":"Steve Carter"},{"$f":"INDEX(Table!I:I,MATCH(AA17,Table!$B:$B,0))","v":-15.399999999999999},"B13",{"$f":"INDEX(Table!$F:$F,MATCH(AD17,Table!$B:$B,0))","v":"Vinny Topping"},{"$f":"INDEX(Table!$I:$I,MATCH(AD17,Table!$B:$B,0))","v":-10.609375},"C13",{"$f":"INDEX(Table!$F:$F,MATCH(AG17,Table!$B:$B,0))","v":"Paul Adderley"},{"$f":"INDEX(Table!$I:$I,MATCH(AG17,Table!$B:$B,0))","v":-5.3833333333333346},"D13",{"$f":"INDEX(Table!$F:$F,MATCH(AJ17,Table!$B:$B,0))","v":"Dave Bell"},{"$f":"INDEX(Table!$I:$I,MATCH(AJ17,Table!$B:$B,0))","v":-21}]
["C2",null,2,{"$f":"INDEX(Table!I:I,MATCH($A18,Table!$B:$B,0))","v":13.709790209790214},{"$f":"INDEX(Table!J:J,MATCH($A18,Table!$B:$B,0))","v":7},{"$f":"INDEX(Table!F:F,MATCH($A18,Table!$B:$B,0))","v":"Chris Griffin"},{"$f":"INDEX(Table!K:K,MATCH($A18,Table!$B:$B,0))","v":-3.7},{"$f":"INDEX(Table!L:L,MATCH($A18,Table!$B:$B,0))","v":1},null,null,"Up & Down",null,"Result & Odds #1 ",null,"Result & Odds #2",null,null,"+","Picks",null,14,null,null,null,null,null,"A14",{"$f":"INDEX(Table!F:F,MATCH(AA18,Table!$B:$B,0))","v":"Mark Bunn"},{"$f":"INDEX(Table!I:I,MATCH(AA18,Table!$B:$B,0))","v":-15.649999999999999},"B14",{"$f":"INDEX(Table!$F:$F,MATCH(AD18,Table!$B:$B,0))","v":"Alan Rogers"},{"$f":"INDEX(Table!$I:$I,MATCH(AD18,Table!$B:$B,0))","v":-14.9},"C14",{"$f":"INDEX(Table!$F:$F,MATCH(AG18,Table!$B:$B,0))","v":"Jack Walsh"},{"$f":"INDEX(Table!$I:$I,MATCH(AG18,Table!$B:$B,0))","v":-10.654545454545454},"D14",{"$f":"INDEX(Table!$F:$F,MATCH(AJ18,Table!$B:$B,0))","v":"Andy Hargreaves"},{"$f":"INDEX(Table!$I:$I,MATCH(AJ18,Table!$B:$B,0))","v":-21}]
["C3",null,3,{"$f":"INDEX(Table!I:I,MATCH($A19,Table!$B:$B,0))","v":12.073333333333331},{"$f":"INDEX(Table!J:J,MATCH($A19,Table!$B:$B,0))","v":5},{"$f":"INDEX(Table!F:F,MATCH($A19,Table!$B:$B,0))","v":"Nick Blocksidge"},{"$f":"INDEX(Table!K:K,MATCH($A19,Table!$B:$B,0))","v":22.24},{"$f":"INDEX(Table!L:L,MATCH($A19,Table!$B:$B,0))","v":3},null,null,"Top Nap ↑",null,"Liverpool draw",{"$f":"IF(M19=\"\",\"\",INDEX(Picks!K:K,MATCH(M19,Picks!J:J,0)))","v":"23/10"},null,null,null,{"$f":"IF(O19=\"\",\"\",INDEX(Picks!K:K,MATCH(O19,Picks!J:J,0)))","v":""},{"$f":"IF(M19=\"\",\"\",INDEX(TopPicks!K:K,MATCH(M19,TopPicks!I:I,0)))","v":9},null,15,null,null,null,null,null,"A15",{"$f":"INDEX(Table!F:F,MATCH(AA19,Table!$B:$B,0))","v":"Kei Lok Ma"},{"$f":"INDEX(Table!I:I,MATCH(AA19,Table!$B:$B,0))","v":-18.75},"B15",{"$f":"INDEX(Table!$F:$F,MATCH(AD19,Table!$B:$B,0))","v":"Mike Penk"},{"$f":"INDEX(Table!$I:$I,MATCH(AD19,Table!$B:$B,0))","v":-17.100000000000001},"C15",{"$f":"INDEX(Table!$F:$F,MATCH(AG19,Table!$B:$B,0))","v":"Oscar Jackson"},{"$f":"INDEX(Table!$I:$I,MATCH(AG19,Table!$B:$B,0))","v":-11.8},"D15"]
["C4",null,4,{"$f":"INDEX(Table!I:I,MATCH($A20,Table!$B:$B,0))","v":12.02795454545455},{"$f":"INDEX(Table!J:J,MATCH($A20,Table!$B:$B,0))","v":6},{"$f":"INDEX(Table!F:F,MATCH($A20,Table!$B:$B,0))","v":"Rob England"},{"$f":"INDEX(Table!K:K,MATCH($A20,Table!$B:$B,0))","v":-0.44749999999999979},{"$f":"INDEX(Table!L:L,MATCH($A20,Table!$B:$B,0))","v":2},null,null,"Coupon-Buster ↓",null,"Forest Green",{"$f":"IF(M20=\"\",\"\",INDEX(Picks!K:K,MATCH(M20,Picks!J:J,0)))","v":"23/20"},null,null,null,{"$f":"IF(O20=\"\",\"\",INDEX(Picks!K:K,MATCH(O20,Picks!J:J,0)))","v":""},{"$f":"IF(M20=\"\",\"\",INDEX(TopPicks!J:J,MATCH(M20,TopPicks!I:I,0)))","v":7},null,16,null,null,null,null,null,"A16",{"$f":"INDEX(Table!F:F,MATCH(AA20,Table!$B:$B,0))","v":"Paul Fairhurst"},{"$f":"INDEX(Table!I:I,MATCH(AA20,Table!$B:$B,0))","v":-18.95},"B16",{"$f":"INDEX(Table!$F:$F,MATCH(AD20,Table!$B:$B,0))","v":"James Bell"},{"$f":"INDEX(Table!$I:$I,MATCH(AD20,Table!$B:$B,0))","v":-18.625},"C16",{"$f":"INDEX(Table!$F:$F,MATCH(AG20,Table!$B:$B,0))","v":"Andy Charleston"},{"$f":"INDEX(Table!$I:$I,MATCH(AG20,Table!$B:$B,0))","v":-18.299999999999997},"D16"]
["C5",null,5,{"$f":"INDEX(Table!I:I,MATCH($A21,Table!$B:$B,0))","v":10.187272727272727},{"$f":"INDEX(Table!J:J,MATCH($A21,Table!$B:$B,0))","v":4},{"$f":"INDEX(Table!F:F,MATCH($A21,Table!$B:$B,0))","v":"Ben Rosser"},{"$f":"INDEX(Table!K:K,MATCH($A21,Table!$B:$B,0))","v":10.059999999999999},{"$f":"INDEX(Table!L:L,MATCH($A21,Table!$B:$B,0))","v":2},null,null,"Long Shot 🤞",null,"Result & Odds #1 ",null,"First \"Long-Odder\"",null,null,"+ other(s)",null,null,17,null,null,null,null,null,null,null,null,null,null,null,null,null,null,"D17"]
["C6",null,6,{"$f":"INDEX(Table!I:I,MATCH($A22,Table!$B:$B,0))","v":10},{"$f":"INDEX(Table!J:J,MATCH($A22,Table!$B:$B,0))","v":3},{"$f":"INDEX(Table!F:F,MATCH($A22,Table!$B:$B,0))","v":"Chris Townsend"},{"$f":"INDEX(Table!K:K,MATCH($A22,Table!$B:$B,0))","v":-7},{"$f":"INDEX(Table!L:L,MATCH($A22,Table!$B:$B,0))","v":0},null,null,"Longest odds in",null,"Newcastle draw",{"$f":"IF(M22=\"\",\"\",INDEX(Picks!K:K,MATCH(M22,Picks!J:J,0)))","v":"5/2"},{"$f":"IF($M$22=\"\",\"\",INDEX(Picks!$A:$A,MATCH($M$22,Picks!$J:$J,0)))","v":"David Dunn"},null,null,"Burnley draw x 3",null,null,18,null,null,null,null,null,null,null,null,null,null,null,null,null,null,"D18"]
["D1","Division D",1,{"$f":"INDEX(Table!I:I,MATCH($A23,Table!$B:$B,0))","v":53.165454545454551},{"$f":"INDEX(Table!J:J,MATCH($A23,Table!$B:$B,0))","v":6},{"$f":"INDEX(Table!F:F,MATCH($A23,Table!$B:$B,0))","v":"Martin Molyneux"},{"$f":"INDEX(Table!K:K,MATCH($A23,Table!$B:$B,0))","v":15.219999999999999},{"$f":"INDEX(Table!L:L,MATCH($A23,Table!$B:$B,0))","v":3},null,null,null,null,null,null,null,null,null,null,null,null,19,null,null,null,null,null,null,null,null,null,null,null,null,null,null,"D19"]
["D2",null,2,{"$f":"INDEX(Table!I:I,MATCH($A24,Table!$B:$B,0))","v":22.083068181818181},{"$f":"INDEX(Table!J:J,MATCH($A24,Table!$B:$B,0))","v":7},{"$f":"INDEX(Table!F:F,MATCH($A24,Table!$B:$B,0))","v":"Dan Gibbard"},{"$f":"INDEX(Table!K:K,MATCH($A24,Table!$B:$B,0))","v":22.476249999999997},{"$f":"INDEX(Table!L:L,MATCH($A24,Table!$B:$B,0))","v":3},null,null,"Man or mouse?",null,null,null,null,null,null,null,null,null,20,null,null,null,null,null,null,null,null,null,null,null,null,null,null,"D20"]
["D3",null,3,{"$f":"INDEX(Table!I:I,MATCH($A25,Table!$B:$B,0))","v":20.803636363636365},{"$f":"INDEX(Table!J:J,MATCH($A25,Table!$B:$B,0))","v":6},{"$f":"INDEX(Table!F:F,MATCH($A25,Table!$B:$B,0))","v":"Alan Bond"},{"$f":"INDEX(Table!K:K,MATCH($A25,Table!$B:$B,0))","v":-4.4000000000000004},{"$f":"INDEX(Table!L:L,MATCH($A25,Table!$B:$B,0))","v":1},null,null,"Bravest Max! 👊 ",null,{"$f":"INDEX(Picks!AI:AI,MATCH(O25,Picks!AJ:AJ,0))","v":"Dave Bell"},null,{"$f":"MAX(Picks!AJ:AJ)","v":831.8},{"$f":"IF(O25=\"\",\"\",(INDEX(Picks!AK:AK,MATCH(O25,Picks!AJ:AJ,0)))&\" in\")","v":"0 in"}]
["D4",null,4,{"$f":"INDEX(Table!I:I,MATCH($A26,Table!$B:$B,0))","v":10.84125874125874},{"$f":"INDEX(Table!J:J,MATCH($A26,Table!$B:$B,0))","v":6},{"$f":"INDEX(Table!F:F,MATCH($A26,Table!$B:$B,0))","v":"Paul Barnes"},{"$f":"INDEX(Table!K:K,MATCH($A26,Table!$B:$B,0))","v":4.8999999999999986},{"$f":"INDEX(Table!L:L,MATCH($A26,Table!$B:$B,0))","v":2},null,null,"Mardest Max! 👶",null,{"$f":"INDEX(Picks!AI:AI,MATCH(O26,Picks!AJ:AJ,0))","v":"Kevin Carter"},null,{"$f":"MIN(Picks!AJ:AJ)","v":12.209090909090911},{"$f":"IF(O26=\"\",\"\",(INDEX(Picks!AK:AK,MATCH(O26,Picks!AJ:AJ,0)))&\" in\")","v":"2 in"}]
["D5",null,5,{"$f":"INDEX(Table!I:I,MATCH($A27,Table!$B:$B,0))","v":4.3500000000000014},{"$f":"INDEX(Table!J:J,MATCH($A27,Table!$B:$B,0))","v":4},{"$f":"INDEX(Table!F:F,MATCH($A27,Table!$B:$B,0))","v":"Gareth Powell"},{"$f":"INDEX(Table!K:K,MATCH($A27,Table!$B:$B,0))","v":11.350000000000001},{"$f":"INDEX(Table!L:L,MATCH($A27,Table!$B:$B,0))","v":2}]
["D6",null,6,{"$f":"INDEX(Table!I:I,MATCH($A28,Table!$B:$B,0))","v":-1.8500000000000014},{"$f":"INDEX(Table!J:J,MATCH($A28,Table!$B:$B,0))","v":2},{"$f":"INDEX(Table!F:F,MATCH($A28,Table!$B:$B,0))","v":"John Murphy"},{"$f":"INDEX(Table!K:K,MATCH($A28,Table!$B:$B,0))","v":-7},{"$f":"INDEX(Table!L:L,MATCH($A28,Table!$B:$B,0))","v":0},null,"`","How did we all do?",null,{"$f":"\"No submission = \"&Picks!$AN1","v":"No submission = 1"}]
[null,null,null,null,null,null,null,null,null,null,"3 in",null,"2 in","1 in",null,null,"0 in"]
[null,null,null,null,null,null,null,null,null,null,{"$f":"IF($J$31=\"Y\",K31,'3of3'!$B$5)","v":5},{"$f":"'3of3'!$B$5","v":5},{"$f":"IF(J31=\"Y\",M31,'3of3'!$B$6)","v":18},{"$f":"IF(J31=\"Y\",N31,'3of3'!$B$7)","v":22},{"$f":"'3of3'!$B$6","v":18},{"$f":"'3of3'!$B$6","v":18},{"$f":"IF(J31=\"Y\",Q31,'3of3'!$B$8)","v":17},{"$f":"'3of3'!$B$6","v":18},{"$f":"'3of3'!$B$6","v":18}]
[null,null,null,null,null,null,null,null,null,"N",99,null,99,99,null,null,99,null,null,null,null,null,null,null,null,null,null,null,{"$f":"'3of3'!$B$5","v":5},null,"K30"]
[null,null,null,null,null,null,null,null,null,null,null,null,null,null,null,null,null,null,null,null,null,null,null,null,null,null,null,null,{"$f":"'3of3'!$B$6","v":18},null,"M30"]
[null,null,null,null,null,null,null,null,null,null,null,null,null,null,null,null,null,null,"Put back to M25",null,null,null,null,null,null,null,null,null,{"$f":"'3of3'!$B$7","v":22},null,"O30"]
[null,null,null,null,null,null,null,null,null,null,null,null,null,null,null,null,null,null,{"$f":"MIN(Picks!AJ:AJ)","v":12.209090909090911},null,null,null,null,null,null,null,null,null,{"$f":"'3of3'!$B$8","v":17},null,"Q30"]
[]
[null,null,null,null,null,null,null,null,null,null,null,null,null,null,null,null,null,null,"Put back to M22"]
[null,null,null,null,null,null,null,null,null,null,null,null,null,null,null,null,null,null,{"$f":"MAX(Picks!AJ:AJ)","v":831.8}]
[]
[null,null,null,null,null,null,null,null,null,null,null,null,null,null,null,null,null,null,"Put back to O21"]
[null,null,null,null,null,null,null,null,null,null,null,null,null,null,null,null,null,null,{"$f":"IF($M$22=\"\",\"\",INDEX(Picks!$A:$A,MATCH($M$22,Picks!$J:$J,0)))","v":"David Dunn"}]

{"sheet":"PizzaRace","index":16,"n_rows":30,"n_cols":12,"rows_kept":30,"cut":false,"hidden":false,"merged":[]}
[null,"Total\nScore","Total\nCorrect","Max Score\nThis Week","Act Score\nThis Week","Week\nCorrect","Week\nRank",null,null,"Max Score\nThis Week","Act Score\nThis Week","Season\nSo Far"]
["John Evans",{"$f":"IF(A2=\"\",\"\",INDEX(Table!I:I,MATCH(A2,Table!$F:$F,0)))","v":{"$error":"#N/A"}},{"$f":"IF(A2=\"\",\"\",INDEX(Table!J:J,MATCH(A2,Table!$F:$F,0)))","v":{"$error":"#N/A"}},{"$f":"IF(A2=\"\",\"\",IF(ISERROR(INDEX(Results!AI:AI,MATCH(A2,Results!$V:$V,0))),\"TBC\",INDEX(Results!AI:AI,MATCH(A2,Results!$V:$V,0))))","v":"TBC"},{"$f":"IF(A2=\"\",\"\",INDEX(Table!K:K,MATCH(A2,Table!$F:$F,0)))","v":{"$error":"#N/A"}},{"$f":"IF(A2=\"\",\"\",INDEX(Table!L:L,MATCH(A2,Table!$F:$F,0)))","v":{"$error":"#N/A"}},{"$f":"IF(A2=\"\",\"\",INDEX(Picks!AG:AG,MATCH(A2,Picks!$AD:$AD,0)))","v":{"$error":"#N/A"}},null,"Chris Griffin",{"$f":"IF(I2=\"\",\"\",IF(ISERROR(INDEX(Results!AI:AI,MATCH(I2,Results!$V:$V,0))),\"TBC\",INDEX(Results!AI:AI,MATCH(I2,Results!$V:$V,0))))","v":59.724999999999994},{"$f":"IF(I2=\"\",\"\",IF(ISERROR(INDEX(Results!T:T,MATCH(I2,Results!$V:$V,0))),\"TBC\",INDEX(Results!T:T,MATCH(I2,Results!$V:$V,0))))","v":-3.7},{"$f":"IF(I2=\"\",\"\",INDEX(Table!I:I,MATCH(I2,Table!$F:$F,0)))","v":13.709790209790214}]
["Mo Sudell",{"$f":"IF(A3=\"\",\"\",INDEX(Table!I:I,MATCH(A3,Table!$F:$F,0)))","v":-10.160000000000002},{"$f":"IF(A3=\"\",\"\",INDEX(Table!J:J,MATCH(A3,Table!$F:$F,0)))","v":3},{"$f":"IF(A3=\"\",\"\",IF(ISERROR(INDEX(Results!AI:AI,MATCH(A3,Results!$V:$V,0))),\"TBC\",INDEX(Results!AI:AI,MATCH(A3,Results!$V:$V,0))))","v":21.484000000000002},{"$f":"IF(A3=\"\",\"\",INDEX(Table!K:K,MATCH(A3,Table!$F:$F,0)))","v":-4.4000000000000004},{"$f":"IF(A3=\"\",\"\",INDEX(Table!L:L,MATCH(A3,Table!$F:$F,0)))","v":1},{"$f":"IF(A3=\"\",\"\",INDEX(Picks!AG:AG,MATCH(A3,Picks!$AD:$AD,0)))","v":31},null,"Mo Sudell",{"$f":"IF(I3=\"\",\"\",IF(ISERROR(INDEX(Results!AI:AI,MATCH(I3,Results!$V:$V,0))),\"TBC\",INDEX(Results!AI:AI,MATCH(I3,Results!$V:$V,0))))","v":21.484000000000002},{"$f":"IF(I3=\"\",\"\",IF(ISERROR(INDEX(Results!T:T,MATCH(I3,Results!$V:$V,0))),\"TBC\",INDEX(Results!T:T,MATCH(I3,Results!$V:$V,0))))","v":-4.4000000000000004},{"$f":"IF(I3=\"\",\"\",INDEX(Table!I:I,MATCH(I3,Table!$F:$F,0)))","v":-10.160000000000002}]
["Paul Fiddler",{"$f":"IF(A4=\"\",\"\",INDEX(Table!I:I,MATCH(A4,Table!$F:$F,0)))","v":-4.2012820512820515},{"$f":"IF(A4=\"\",\"\",INDEX(Table!J:J,MATCH(A4,Table!$F:$F,0)))","v":5},{"$f":"IF(A4=\"\",\"\",IF(ISERROR(INDEX(Results!AI:AI,MATCH(A4,Results!$V:$V,0))),\"TBC\",INDEX(Results!AI:AI,MATCH(A4,Results!$V:$V,0))))","v":19.36},{"$f":"IF(A4=\"\",\"\",INDEX(Table!K:K,MATCH(A4,Table!$F:$F,0)))","v":-5.15},{"$f":"IF(A4=\"\",\"\",INDEX(Table!L:L,MATCH(A4,Table!$F:$F,0)))","v":1},{"$f":"IF(A4=\"\",\"\",INDEX(Picks!AG:AG,MATCH(A4,Picks!$AD:$AD,0)))","v":39},null,"Andy Charleston",{"$f":"IF(I4=\"\",\"\",IF(ISERROR(INDEX(Results!AI:AI,MATCH(I4,Results!$V:$V,0))),\"TBC\",INDEX(Results!AI:AI,MATCH(I4,Results!$V:$V,0))))","v":38.799999999999997},{"$f":"IF(I4=\"\",\"\",IF(ISERROR(INDEX(Results!T:T,MATCH(I4,Results!$V:$V,0))),\"TBC\",INDEX(Results!T:T,MATCH(I4,Results!$V:$V,0))))","v":-5.6},{"$f":"IF(I4=\"\",\"\",INDEX(Table!I:I,MATCH(I4,Table!$F:$F,0)))","v":-18.299999999999997}]
["Chris Griffin",{"$f":"IF(A5=\"\",\"\",INDEX(Table!I:I,MATCH(A5,Table!$F:$F,0)))","v":13.709790209790214},{"$f":"IF(A5=\"\",\"\",INDEX(Table!J:J,MATCH(A5,Table!$F:$F,0)))","v":7},{"$f":"IF(A5=\"\",\"\",IF(ISERROR(INDEX(Results!AI:AI,MATCH(A5,Results!$V:$V,0))),\"TBC\",INDEX(Results!AI:AI,MATCH(A5,Results!$V:$V,0))))","v":59.724999999999994},{"$f":"IF(A5=\"\",\"\",INDEX(Table!K:K,MATCH(A5,Table!$F:$F,0)))","v":-3.7},{"$f":"IF(A5=\"\",\"\",INDEX(Table!L:L,MATCH(A5,Table!$F:$F,0)))","v":1},{"$f":"IF(A5=\"\",\"\",INDEX(Picks!AG:AG,MATCH(A5,Picks!$AD:$AD,0)))","v":25},null,"Paul Fiddler",{"$f":"IF(I5=\"\",\"\",IF(ISERROR(INDEX(Results!AI:AI,MATCH(I5,Results!$V:$V,0))),\"TBC\",INDEX(Results!AI:AI,MATCH(I5,Results!$V:$V,0))))","v":19.36},{"$f":"IF(I5=\"\",\"\",IF(ISERROR(INDEX(Results!T:T,MATCH(I5,Results!$V:$V,0))),\"TBC\",INDEX(Results!T:T,MATCH(I5,Results!$V:$V,0))))","v":-5.15},{"$f":"IF(I5=\"\",\"\",INDEX(Table!I:I,MATCH(I5,Table!$F:$F,0)))","v":-4.2012820512820515}]
["Andy Charleston",{"$f":"IF(A6=\"\",\"\",INDEX(Table!I:I,MATCH(A6,Table!$F:$F,0)))","v":-18.299999999999997},{"$f":"IF(A6=\"\",\"\",INDEX(Table!J:J,MATCH(A6,Table!$F:$F,0)))","v":2},{"$f":"IF(A6=\"\",\"\",IF(ISERROR(INDEX(Results!AI:AI,MATCH(A6,Results!$V:$V,0))),\"TBC\",INDEX(Results!AI:AI,MATCH(A6,Results!$V:$V,0))))","v":38.799999999999997},{"$f":"IF(A6=\"\",\"\",INDEX(Table!K:K,MATCH(A6,Table!$F:$F,0)))","v":-5.6},{"$f":"IF(A6=\"\",\"\",INDEX(Table!L:L,MATCH(A6,Table!$F:$F,0)))","v":1},{"$f":"IF(A6=\"\",\"\",INDEX(Picks!AG:AG,MATCH(A6,Picks!$AD:$AD,0)))","v":45},null,"John Evans",{"$f":"IF(I6=\"\",\"\",IF(ISERROR(INDEX(Results!AI:AI,MATCH(I6,Results!$V:$V,0))),\"TBC\",INDEX(Results!AI:AI,MATCH(I6,Results!$V:$V,0))))","v":"TBC"},{"$f":"IF(I6=\"\",\"\",IF(ISERROR(INDEX(Results!T:T,MATCH(I6,Results!$V:$V,0))),\"TBC\",INDEX(Results!T:T,MATCH(I6,Results!$V:$V,0))))","v":"TBC"},{"$f":"IF(I6=\"\",\"\",INDEX(Table!I:I,MATCH(I6,Table!$F:$F,0)))","v":{"$error":"#N/A"}}]
[null,null,{"$f":"IF(A7=\"\",\"\",INDEX(Table!J:J,MATCH(A7,Table!$F:$F,0)))","v":""}]
[null,null,{"$f":"IF(A8=\"\",\"\",INDEX(Table!J:J,MATCH(A8,Table!$F:$F,0)))","v":""}]
[null,null,{"$f":"IF(A9=\"\",\"\",INDEX(Table!J:J,MATCH(A9,Table!$F:$F,0)))","v":""}]
[null,null,{"$f":"IF(A10=\"\",\"\",INDEX(Table!J:J,MATCH(A10,Table!$F:$F,0)))","v":""}]
[null,null,{"$f":"IF(A11=\"\",\"\",INDEX(Table!J:J,MATCH(A11,Table!$F:$F,0)))","v":""}]
[null,null,{"$f":"IF(A12=\"\",\"\",INDEX(Table!J:J,MATCH(A12,Table!$F:$F,0)))","v":""}]
[null,null,{"$f":"IF(A13=\"\",\"\",INDEX(Table!J:J,MATCH(A13,Table!$F:$F,0)))","v":""}]
[null,null,{"$f":"IF(A14=\"\",\"\",INDEX(Table!J:J,MATCH(A14,Table!$F:$F,0)))","v":""}]
[null,null,{"$f":"IF(A15=\"\",\"\",INDEX(Table!J:J,MATCH(A15,Table!$F:$F,0)))","v":""}]
[null,null,{"$f":"IF(A16=\"\",\"\",INDEX(Table!J:J,MATCH(A16,Table!$F:$F,0)))","v":""}]
[null,null,{"$f":"IF(A17=\"\",\"\",INDEX(Table!J:J,MATCH(A17,Table!$F:$F,0)))","v":""}]
[null,null,{"$f":"IF(A18=\"\",\"\",INDEX(Table!J:J,MATCH(A18,Table!$F:$F,0)))","v":""}]
[null,null,{"$f":"IF(A19=\"\",\"\",INDEX(Table!J:J,MATCH(A19,Table!$F:$F,0)))","v":""}]
[null,null,{"$f":"IF(A20=\"\",\"\",INDEX(Table!J:J,MATCH(A20,Table!$F:$F,0)))","v":""}]
[null,null,{"$f":"IF(A21=\"\",\"\",INDEX(Table!J:J,MATCH(A21,Table!$F:$F,0)))","v":""}]
[null,null,{"$f":"IF(A22=\"\",\"\",INDEX(Table!J:J,MATCH(A22,Table!$F:$F,0)))","v":""}]
[null,null,{"$f":"IF(A23=\"\",\"\",INDEX(Table!J:J,MATCH(A23,Table!$F:$F,0)))","v":""}]
[null,null,{"$f":"IF(A24=\"\",\"\",INDEX(Table!J:J,MATCH(A24,Table!$F:$F,0)))","v":""}]
[null,null,{"$f":"IF(A25=\"\",\"\",INDEX(Table!J:J,MATCH(A25,Table!$F:$F,0)))","v":""}]
[null,null,{"$f":"IF(A26=\"\",\"\",INDEX(Table!J:J,MATCH(A26,Table!$F:$F,0)))","v":""}]
[null,null,{"$f":"IF(A27=\"\",\"\",INDEX(Table!J:J,MATCH(A27,Table!$F:$F,0)))","v":""}]
[null,null,{"$f":"IF(A28=\"\",\"\",INDEX(Table!J:J,MATCH(A28,Table!$F:$F,0)))","v":""}]
[null,null,{"$f":"IF(A29=\"\",\"\",INDEX(Table!J:J,MATCH(A29,Table!$F:$F,0)))","v":""}]
[null,null,{"$f":"IF(A30=\"\",\"\",INDEX(Table!J:J,MATCH(A30,Table!$F:$F,0)))","v":""}]

{"sheet":"CupDraw","index":17,"n_rows":93,"n_cols":49,"rows_kept":93,"cut":false,"hidden":false,"merged":[[86,8,87,8],[90,8,91,8],[1,14,2,14],[6,44,7,44],[84,14,85,14],[88,14,89,14],[7,38,8,38],[76,14,77,14],[80,14,81,14]]}
["Number of Entrants",62,null,null,null,"Draw #","Entrants",null,"Prelim",{"$f":"$C$14","v":""},null,null,"Score",null,"R1 (64)","2021-01-16",null,null,"Score",null,"R2 (32)","2021-02-06",null,null,"Score",null,"R3 (16)","2021-02-20",null,null,"Score",null,"R4 (QF)","2021-03-13",null,null,null,null,"R5 (SF)","2021-04-03",null,null,null,null,"Final","2021-04-24"]
["Number of rounds (7 if > 64 total)",6,null,null,null,1,"Alan Bond",null,1,null,null,{"$f":"IF(K2=\"\",\"\",IF(K2=K3,\"R\",\"\"))","v":""},{"$f":"INDEX(Results!T:T,MATCH(J2,Results!V:V,0))","v":{"$error":"#N/A"}},null,1,"Mal Stott",2.0649999999999995,{"$f":"IF(Q2=\"\",\"\",IF(Q2=Q3,\"R\",\"\"))","v":""},{"$f":"INDEX(Results!T:T,MATCH(P2,Results!V:V,0))","v":-5.15},null,1,{"$f":"IF(Q2=Q3,\"Await earlier tie\",IF(Q2<Q3,P3,P2))","v":"Mal Stott"},0.72727272727272751,{"$f":"IF(W2=\"\",\"\",IF(W2=W3,\"R\",\"\"))","v":""},{"$f":"INDEX(Results!T:T,MATCH(V2,Results!V:V,0))","v":-5.15},null,1,{"$f":"IF(W2=W3,\"Await earlier tie\",IF(W2<W3,V3,V2))","v":"Mal Stott"},-0.84999999999999964,{"$f":"IF(AC2=\"\",\"\",IF(AC2=AC3,\"R\",\"\"))","v":""},{"$f":"INDEX(Results!T:T,MATCH(AB2,Results!V:V,0))","v":-5.15},null,1,{"$f":"IF(AC2=AC3,\"Await earlier tie\",IF(AC2<AC3,AB3,AB2))","v":"Vinny Topping"},-3.3,{"$f":"IF(AI2=\"\",\"\",IF(AI2=AI3,\"R\",\"\"))","v":""},{"$f":"INDEX(Results!T:T,MATCH(AH2,Results!V:V,0))","v":-7},null,1,{"$f":"IF(AI2=AI3,\"Await earlier tie\",IF(AI2<AI3,AH3,AH2))","v":"Vinny Topping"},31.308750000000003,{"$f":"IF(AO2=\"\",\"\",IF(AO2=AO3,\"R\",\"\"))","v":""},{"$f":"INDEX(Results!T:T,MATCH(AN2,Results!V:V,0))","v":-7},null,1,{"$f":"IF(AO2=AO3,\"Await earlier tie\",IF(AO2<AO3,AN3,AN2))","v":"Vinny Topping"},-4.8,{"$f":"IF(AU2=\"\",\"\",IF(AU2=AU3,\"R\",\"\"))","v":""},{"$f":"INDEX(Results!T:T,MATCH(AT2,Results!V:V,0))","v":-7}]
[null,null,null,null,null,2,"Alan Rogers",null,null,null,null,null,{"$f":"INDEX(Results!T:T,MATCH(J3,Results!V:V,0))","v":{"$error":"#N/A"}},null,null,"Alfie Davies",-4.3,null,{"$f":"INDEX(Results!T:T,MATCH(P3,Results!V:V,0))","v":-5.15},null,null,{"$f":"IF(Q4=Q5,\"Await earlier tie\",IF(Q4<Q5,P5,P4))","v":"Stephen Troop"},-2.0466666666666669,null,{"$f":"INDEX(Results!T:T,MATCH(V3,Results!V:V,0))","v":12.945454545454545},null,null,{"$f":"IF(W4=W5,\"Await earlier tie\",IF(W4<W5,V5,V4))","v":"Vinny Topping"},0.41499999999999915,null,{"$f":"INDEX(Results!T:T,MATCH(AB3,Results!V:V,0))","v":-7},null,null,{"$f":"IF(AC4=AC5,\"Await earlier tie\",IF(AC4<AC5,AB5,AB4))","v":"John Ronan"},-7,null,{"$f":"INDEX(Results!T:T,MATCH(AH3,Results!V:V,0))","v":-4.9000000000000004},null,null,{"$f":"IF(AI4=AI5,\"Await earlier tie\",IF(AI4<AI5,AH5,AH4))","v":"Dave Orrell"},-5.5,null,{"$f":"INDEX(Results!T:T,MATCH(AN3,Results!V:V,0))","v":2.7100000000000009},null,null,{"$f":"IF(AO4=AO5,\"Await earlier tie\",IF(AO4<AO5,AN5,AN4))","v":"Nick Blocksidge"},-5.454545454545455,null,{"$f":"INDEX(Results!T:T,MATCH(AT3,Results!V:V,0))","v":22.24}]
["Byes into round 1",{"$f":"(POWER(2,B2)-B1)","v":2},null,null,null,3,"Alan White",null,2,null,null,{"$f":"IF(K4=\"\",\"\",IF(K4=K5,\"R\",\"\"))","v":""},{"$f":"INDEX(Results!T:T,MATCH(J4,Results!V:V,0))","v":{"$error":"#N/A"}},null,2,"Stephen Troop",1.0999999999999996,{"$f":"IF(Q4=\"\",\"\",IF(Q4=Q5,\"R\",\"\"))","v":""},{"$f":"INDEX(Results!T:T,MATCH(P4,Results!V:V,0))","v":12.945454545454545},null,2,{"$f":"IF(Q6=Q7,\"Await earlier tie\",IF(Q6<Q7,P7,P6))","v":"Vinny Topping"},9.9399999999999977,{"$f":"IF(W4=\"\",\"\",IF(W4=W5,\"R\",\"\"))","v":""},{"$f":"INDEX(Results!T:T,MATCH(V4,Results!V:V,0))","v":-7},null,2,{"$f":"IF(W6=W7,\"Await earlier tie\",IF(W6<W7,V7,V6))","v":"John Ronan"},26.560000000000002,{"$f":"IF(AC4=\"\",\"\",IF(AC4=AC5,\"R\",\"\"))","v":""},{"$f":"INDEX(Results!T:T,MATCH(AB4,Results!V:V,0))","v":-4.9000000000000004},null,2,{"$f":"IF(AC6=AC7,\"Await earlier tie\",IF(AC6<AC7,AB7,AB6))","v":"Dave Orrell"},33.536000000000001,{"$f":"IF(AI4=\"\",\"\",IF(AI4=AI5,\"R\",\"\"))","v":""},{"$f":"INDEX(Results!T:T,MATCH(AH4,Results!V:V,0))","v":2.7100000000000009},null,2,{"$f":"IF(AI6=AI7,\"Await earlier tie\",IF(AI6<AI7,AH7,AH6))","v":"Alick Rocca"},-7,{"$f":"IF(AO4=\"\",\"\",IF(AO4=AO5,\"R\",\"\"))","v":""},{"$f":"INDEX(Results!T:T,MATCH(AN4,Results!V:V,0))","v":9.1999999999999993}]
[null,null,null,null,null,4,"Alfie Davies",null,null,null,null,null,{"$f":"INDEX(Results!T:T,MATCH(J5,Results!V:V,0))","v":{"$error":"#N/A"}},null,null,"Mark Saunders",-1.3333333333333339,null,{"$f":"INDEX(Results!T:T,MATCH(P5,Results!V:V,0))","v":4.8999999999999986},null,null,{"$f":"IF(Q9=Q8,\"Await earlier tie\",IF(Q8<Q9,P9,P8))","v":"Charlie Griffiths"},-1,null,{"$f":"INDEX(Results!T:T,MATCH(V5,Results!V:V,0))","v":-7},null,null,{"$f":"IF(W8=W9,\"Await earlier tie\",IF(W8<W9,V9,V8))","v":"Chris Bow"},-7,null,{"$f":"INDEX(Results!T:T,MATCH(AB5,Results!V:V,0))","v":2.8000000000000007},null,null,{"$f":"IF(AC8=AC9,\"Await earlier tie\",IF(AC8<AC9,AB9,AB8))","v":"James Bell"},-7,null,{"$f":"INDEX(Results!T:T,MATCH(AH5,Results!V:V,0))","v":-7},null,null,{"$f":"IF(AI8=AI9,\"Await earlier tie\",IF(AI8<AI9,AH9,AH8))","v":"Nick Blocksidge"},-5.4666666666666668,null,{"$f":"INDEX(Results!T:T,MATCH(AN5,Results!V:V,0))","v":22.24}]
["Fixtures in PreliminaryRound/Round 1",{"$f":"(B1-B4)/2","v":30},null,null,null,5,"Alick Rocca",null,3,null,null,{"$f":"IF(K6=\"\",\"\",IF(K6=K7,\"R\",\"\"))","v":""},{"$f":"INDEX(Results!T:T,MATCH(J6,Results!V:V,0))","v":{"$error":"#N/A"}},null,3,"Liam Wah",-5.0909090909090908,{"$f":"IF(Q6=\"\",\"\",IF(Q6=Q7,\"R\",\"\"))","v":""},{"$f":"INDEX(Results!T:T,MATCH(P6,Results!V:V,0))","v":-1.2800000000000002},null,3,{"$f":"IF(Q10=Q11,\"Await earlier tie\",IF(Q10<Q11,P11,P10))","v":"John Ronan"},-4.0999999999999996,{"$f":"IF(W6=\"\",\"\",IF(W6=W7,\"R\",\"\"))","v":""},{"$f":"INDEX(Results!T:T,MATCH(V6,Results!V:V,0))","v":-4.9000000000000004},null,3,{"$f":"IF(W10=W11,\"Await earlier tie\",IF(W10<W11,V11,V10))","v":"Barry Birchall"},-5.4,{"$f":"IF(AC6=\"\",\"\",IF(AC6=AC7,\"R\",\"\"))","v":""},{"$f":"INDEX(Results!T:T,MATCH(AB6,Results!V:V,0))","v":-5.35},null,3,{"$f":"IF(AC10=AC11,\"Await earlier tie\",IF(AC10<AC11,AB11,AB10))","v":"Rob England"},-5.25,{"$f":"IF(AI6=\"\",\"\",IF(AI6=AI7,\"R\",\"\"))","v":""},{"$f":"INDEX(Results!T:T,MATCH(AH6,Results!V:V,0))","v":-0.44749999999999979},null,null,null,null,null,null,null,"Earlier ties"]
[null,null,null,null,null,6,"Andy Charleston",null,null,null,null,null,{"$f":"INDEX(Results!T:T,MATCH(J7,Results!V:V,0))","v":{"$error":"#N/A"}},null,null,"Vinny Topping",-4.95,null,{"$f":"INDEX(Results!T:T,MATCH(P7,Results!V:V,0))","v":-7},null,null,{"$f":"IF(Q12=Q13,\"Await earlier tie\",IF(Q12<Q13,P13,P12))","v":"Paul Ridgeway"},-5.4666666666666668,null,{"$f":"INDEX(Results!T:T,MATCH(V7,Results!V:V,0))","v":{"$error":"#N/A"}},null,null,{"$f":"IF(W12=W13,\"Await earlier tie\",IF(W12<W13,V13,V12))","v":"Dave Orrell"},0,null,{"$f":"INDEX(Results!T:T,MATCH(AB7,Results!V:V,0))","v":2.7100000000000009},null,null,{"$f":"IF(AC12=AC13,\"Await earlier tie\",IF(AC12<AC13,AB13,AB12))","v":"Alick Rocca"},-3.8,null,{"$f":"INDEX(Results!T:T,MATCH(AH7,Results!V:V,0))","v":9.1999999999999993},null,"Earlier ties",null,null,null,null,null,null,null,null,{"$f":"IF(AU7=\"\",\"\",IF(AU7=AU8,\"R\",\"\"))","v":""}]
["Current Round","Prelim",null,null,null,7,"Andy Hargreaves",null,4,null,null,{"$f":"IF(K8=\"\",\"\",IF(K8=K9,\"R\",\"\"))","v":""},{"$f":"INDEX(Results!T:T,MATCH(J8,Results!V:V,0))","v":{"$error":"#N/A"}},null,4,"Paul Allen",-4.625,{"$f":"IF(Q8=\"\",\"\",IF(Q8=Q9,\"R\",\"\"))","v":""},{"$f":"INDEX(Results!T:T,MATCH(P8,Results!V:V,0))","v":-7},null,4,{"$f":"IF(Q14=Q15,\"Await earlier tie\",IF(Q14<Q15,P15,P14))","v":"Chris Townsend"},-7,{"$f":"IF(W8=\"\",\"\",IF(W8=W9,\"R\",\"\"))","v":""},{"$f":"INDEX(Results!T:T,MATCH(V8,Results!V:V,0))","v":-7},null,4,{"$f":"IF(W14=W15,\"Await earlier tie\",IF(W14<W15,V15,V14))","v":"Gerard Ventom"},-7,{"$f":"IF(AC8=\"\",\"\",IF(AC8=AC9,\"R\",\"\"))","v":""},{"$f":"INDEX(Results!T:T,MATCH(AB8,Results!V:V,0))","v":-3.8},null,4,{"$f":"IF(AC14=AC15,\"Await earlier tie\",IF(AC14<AC15,AB15,AB14))","v":"Gareth McGuire"},-10,{"$f":"IF(AI8=\"\",\"\",IF(AI8=AI9,\"R\",\"\"))","v":""},-10,null,null,null,null,{"$f":"IF(AO8=\"\",\"\",IF(AO8=AO9,\"R\",\"\"))","v":""}]
[null,null,null,null,null,8,"Andy White",null,null,null,null,null,{"$f":"INDEX(Results!T:T,MATCH(J9,Results!V:V,0))","v":{"$error":"#N/A"}},null,null,"Charlie Griffiths",1.9124999999999996,null,{"$f":"INDEX(Results!T:T,MATCH(P9,Results!V:V,0))","v":-7},null,null,{"$f":"IF(Q16=Q17,\"Await earlier tie\",IF(Q16<Q17,P17,P16))","v":"Chris Bow"},-3.8,null,{"$f":"INDEX(Results!T:T,MATCH(V9,Results!V:V,0))","v":2.8000000000000007},null,null,{"$f":"IF(W16=W17,\"Await earlier tie\",IF(W16<W17,V17,V16))","v":"James Bell"},10.919999999999998,null,{"$f":"INDEX(Results!T:T,MATCH(AB9,Results!V:V,0))","v":-7},null,null,{"$f":"IF(AC16=AC17,\"Await earlier tie\",IF(AC16<AC17,AB17,AB16))","v":"Nick Blocksidge"},15.527777777777779,null,{"$f":"INDEX(Results!T:T,MATCH(AH9,Results!V:V,0))","v":22.24},null,null,null,null,null,null,null,null,null,null,{"$f":"IF(AU9=\"\",\"\",IF(AU9=AU10,\"R\",\"\"))","v":""}]
[null,null,null,null,null,9,"Ashley Houghton",null,5,null,null,{"$f":"IF(K10=\"\",\"\",IF(K10=K11,\"R\",\"\"))","v":""},{"$f":"INDEX(Results!T:T,MATCH(J10,Results!V:V,0))","v":{"$error":"#N/A"}},null,5,"John Ronan",0.87272727272727213,{"$f":"IF(Q10=\"\",\"\",IF(Q10=Q11,\"R\",\"\"))","v":""},{"$f":"INDEX(Results!T:T,MATCH(P10,Results!V:V,0))","v":-4.9000000000000004},null,5,{"$f":"IF(Q18=Q19,\"Await earlier tie\",IF(Q18<Q19,P19,P18))","v":"Tom Robinson"},1.2925000000000004,{"$f":"IF(W10=\"\",\"\",IF(W10=W11,\"R\",\"\"))","v":""},{"$f":"INDEX(Results!T:T,MATCH(V10,Results!V:V,0))","v":-7},null,5,{"$f":"IF(W18=W19,\"Await earlier tie\",IF(W18<W19,V19,V18))","v":"Rob England"},-1.7142857142857144,{"$f":"IF(AC10=\"\",\"\",IF(AC10=AC11,\"R\",\"\"))","v":""},{"$f":"INDEX(Results!T:T,MATCH(AB10,Results!V:V,0))","v":-0.44749999999999979},null,null,null,null,null,null,null,null,null,null,{"$f":"IF(AO10=\"\",\"\",IF(AO10=AO11,\"R\",\"\"))","v":""}]
["Random number generator",null,null,null,null,10,"Barry Birchall",null,null,null,null,null,{"$f":"INDEX(Results!T:T,MATCH(J11,Results!V:V,0))","v":{"$error":"#N/A"}},null,null,"Kei Lok Ma",-5.0909090909090908,null,{"$f":"INDEX(Results!T:T,MATCH(P11,Results!V:V,0))","v":-7},null,null,{"$f":"IF(Q20=Q21,\"Await earlier tie\",IF(Q20<Q21,P21,P20))","v":"Barry Birchall"},1.7349999999999994,null,{"$f":"INDEX(Results!T:T,MATCH(V11,Results!V:V,0))","v":-5.35},null,null,{"$f":"IF(W20=W21,\"Await earlier tie\",IF(W20<W21,V21,V20))","v":"Howard Bradley"},-5.5555555555555554,null,{"$f":"INDEX(Results!T:T,MATCH(AB11,Results!V:V,0))","v":-3.5}]
[null,null,null,null,null,11,"Ben Rosser",null,6,null,null,{"$f":"IF(K12=\"\",\"\",IF(K12=K13,\"R\",\"\"))","v":""},{"$f":"INDEX(Results!T:T,MATCH(J12,Results!V:V,0))","v":{"$error":"#N/A"}},null,6,"Paul Ridgeway",4.5,{"$f":"IF(Q12=\"\",\"\",IF(Q12=Q13,\"R\",\"\"))","v":""},{"$f":"INDEX(Results!T:T,MATCH(P12,Results!V:V,0))","v":{"$error":"#N/A"}},null,6,{"$f":"IF(Q22=Q23,\"Await earlier tie\",IF(Q22<Q23,P23,P22))","v":"Dave Orrell"},-4.625,{"$f":"IF(W12=\"\",\"\",IF(W12=W13,\"R\",\"\"))","v":""},{"$f":"INDEX(Results!T:T,MATCH(V12,Results!V:V,0))","v":2.7100000000000009},null,6,{"$f":"IF(W22=W23,\"Await earlier tie\",IF(W22<W23,V23,V22))","v":"Chris Luck"},-4.8,{"$f":"IF(AC12=\"\",\"\",IF(AC12=AC13,\"R\",\"\"))","v":""},{"$f":"INDEX(Results!T:T,MATCH(AB12,Results!V:V,0))","v":-3.8},null,"Earlier Ties"]
[null,"Week","Saturday","D/W?",null,12,"Bob Bailey",null,null,null,null,null,{"$f":"INDEX(Results!T:T,MATCH(J13,Results!V:V,0))","v":{"$error":"#N/A"}},null,null,"Paul Fairhurst",-4.75,null,{"$f":"INDEX(Results!T:T,MATCH(P13,Results!V:V,0))","v":-7},null,null,{"$f":"IF(Q24=Q25,\"Await earlier tie\",IF(Q24<Q25,P25,P24))","v":"Chris Griffin"},-5.384615384615385,null,{"$f":"INDEX(Results!T:T,MATCH(V13,Results!V:V,0))","v":-3.7},null,null,{"$f":"IF(W24=W25,\"Await earlier tie\",IF(W24<W25,V25,V24))","v":"Alick Rocca"},-3.9,null,{"$f":"INDEX(Results!T:T,MATCH(AB13,Results!V:V,0))","v":9.1999999999999993},null,null,null,null,{"$f":"IF(AI13=\"\",\"\",IF(AI13=AI14,\"R\",\"\"))","v":""}]
["Preliminary Round",null,{"$f":"IF(ISERROR(INDEX(Diary!B:B,MATCH(B14,Diary!C:C,0))),\"\",INDEX(Diary!B:B,MATCH(B14,Diary!C:C,0)))","v":""},{"$f":"IF(C14=\"\",\"\",IF(INDEX(Diary!D:D,MATCH(B14,Diary!C:C,0))=\"*\",\"*\",\" \"))","v":""},null,13,"Charlie Griffiths",null,7,null,null,{"$f":"IF(K14=\"\",\"\",IF(K14=K15,\"R\",\"\"))","v":""},{"$f":"INDEX(Results!T:T,MATCH(J14,Results!V:V,0))","v":{"$error":"#N/A"}},null,7,"Chris Townsend",32.5,{"$f":"IF(Q14=\"\",\"\",IF(Q14=Q15,\"R\",\"\"))","v":""},{"$f":"INDEX(Results!T:T,MATCH(P14,Results!V:V,0))","v":-7},null,7,{"$f":"IF(Q26=Q27,\"Await earlier tie\",IF(Q26<Q27,P27,P26))","v":"Ian Davies"},-3.7,{"$f":"IF(W14=\"\",\"\",IF(W14=W15,\"R\",\"\"))","v":""},{"$f":"INDEX(Results!T:T,MATCH(V14,Results!V:V,0))","v":-7},null,7,{"$f":"IF(W26=W27,\"Await earlier tie\",IF(W26<W27,V27,V26))","v":"Gareth McGuire"},-5.2727272727272725,{"$f":"IF(AC14=\"\",\"\",IF(AC14=AC15,\"R\",\"\"))","v":""},{"$f":"INDEX(Results!T:T,MATCH(AB14,Results!V:V,0))","v":-5}]
["Round 1",4,{"$f":"IF(ISERROR(INDEX(Diary!B:B,MATCH(B15,Diary!C:C,0))),\"\",INDEX(Diary!B:B,MATCH(B15,Diary!C:C,0)))","v":"2021-09-04"},{"$f":"IF(INDEX(Diary!D:D,MATCH(B15,Diary!C:C,0))=\"D\",\"*\",\" \")","v":" "},null,14,"Chris Bow",null,null,null,null,null,{"$f":"INDEX(Results!T:T,MATCH(J15,Results!V:V,0))","v":{"$error":"#N/A"}},null,null,"Graham Miller",-5.3333333333333339,null,{"$f":"INDEX(Results!T:T,MATCH(P15,Results!V:V,0))","v":-4.375},null,null,{"$f":"IF(Q28=Q29,\"Await earlier tie\",IF(Q28<Q29,P29,P28))","v":"Gerard Ventom"},6.5124999999999993,null,{"$f":"INDEX(Results!T:T,MATCH(V15,Results!V:V,0))","v":-3.8},null,null,{"$f":"IF(W28=W29,\"Await earlier tie\",IF(W28<W29,V29,V28))","v":"Paul Adderley"},-5.45,null,{"$f":"INDEX(Results!T:T,MATCH(AB15,Results!V:V,0))","v":1.4499999999999993},null,null,null,null,{"$f":"IF(AI15=\"\",\"\",IF(AI15=AI16,\"R\",\"\"))","v":""}]
["Round 2",7,{"$f":"IF(ISERROR(INDEX(Diary!B:B,MATCH(B16,Diary!C:C,0))),\"\",INDEX(Diary!B:B,MATCH(B16,Diary!C:C,0)))","v":"2021-09-25"},{"$f":"IF(INDEX(Diary!D:D,MATCH(B16,Diary!C:C,0))=\"D\",\"*\",\" \")","v":" "},null,15,"Chris Griffin",null,8,null,null,{"$f":"IF(K16=\"\",\"\",IF(K16=K17,\"R\",\"\"))","v":""},{"$f":"INDEX(Results!T:T,MATCH(J16,Results!V:V,0))","v":{"$error":"#N/A"}},null,8,"Chris Bow",-3.7,{"$f":"IF(Q16=\"\",\"\",IF(Q16=Q17,\"R\",\"\"))","v":""},{"$f":"INDEX(Results!T:T,MATCH(P16,Results!V:V,0))","v":2.8000000000000007},null,8,{"$f":"IF(Q30=Q31,\"Await earlier tie\",IF(Q30<Q31,P31,P30))","v":"Simon Greenhalgh"},-4.625,{"$f":"IF(W16=\"\",\"\",IF(W16=W17,\"R\",\"\"))","v":""},{"$f":"INDEX(Results!T:T,MATCH(V16,Results!V:V,0))","v":-5},null,8,{"$f":"IF(W30=W31,\"Await earlier tie\",IF(W30<W31,V31,V30))","v":"Sally Williams"},-4,{"$f":"IF(AC16=\"\",\"\",IF(AC16=AC17,\"R\",\"\"))","v":""},{"$f":"INDEX(Results!T:T,MATCH(AB16,Results!V:V,0))","v":8.8000000000000007}]
["Round 3",10,{"$f":"IF(ISERROR(INDEX(Diary!B:B,MATCH(B17,Diary!C:C,0))),\"\",INDEX(Diary!B:B,MATCH(B17,Diary!C:C,0)))","v":""},{"$f":"IF(INDEX(Diary!D:D,MATCH(B17,Diary!C:C,0))=\"D\",\"*\",\" \")","v":{"$error":"#N/A"}},null,16,"Chris Luck",null,null,null,null,null,{"$f":"INDEX(Results!T:T,MATCH(J17,Results!V:V,0))","v":{"$error":"#N/A"}},null,null,"Jack Walsh",-10,null,{"$f":"INDEX(Results!T:T,MATCH(P17,Results!V:V,0))","v":-0.36363636363636331},null,null,{"$f":"IF(Q32=Q33,\"Await earlier tie\",IF(Q32<Q33,P33,P32))","v":"James Bell"},-0.60000000000000009,null,{"$f":"INDEX(Results!T:T,MATCH(V17,Results!V:V,0))","v":-7},null,null,{"$f":"IF(W32=W33,\"Await earlier tie\",IF(W32<W33,V33,V32))","v":"Nick Blocksidge"},-3.9,null,{"$f":"INDEX(Results!T:T,MATCH(AB17,Results!V:V,0))","v":22.24},null,null,null,null,{"$f":"IF(AI17=\"\",\"\",IF(AI17=AI18,\"R\",\"\"))","v":""}]
["Quarter Final",13,{"$f":"IF(ISERROR(INDEX(Diary!B:B,MATCH(B18,Diary!C:C,0))),\"\",INDEX(Diary!B:B,MATCH(B18,Diary!C:C,0)))","v":""},{"$f":"IF(INDEX(Diary!D:D,MATCH(B18,Diary!C:C,0))=\"D\",\"*\",\" \")","v":{"$error":"#N/A"}},null,17,"Chris Townsend",null,9,null,null,{"$f":"IF(K18=\"\",\"\",IF(K18=K19,\"R\",\"\"))","v":""},{"$f":"INDEX(Results!T:T,MATCH(J18,Results!V:V,0))","v":{"$error":"#N/A"}},null,9,"Tom Robinson",2.1230769230769226,{"$f":"IF(Q18=\"\",\"\",IF(Q18=Q19,\"R\",\"\"))","v":""},{"$f":"INDEX(Results!T:T,MATCH(P18,Results!V:V,0))","v":-7},null,9,{"$f":"IF(Q34=Q35,\"Await earlier tie\",IF(Q34<Q35,P35,P34))","v":"Rob England"},-2.0466666666666669,{"$f":"IF(W18=\"\",\"\",IF(W18=W19,\"R\",\"\"))","v":""},{"$f":"INDEX(Results!T:T,MATCH(V18,Results!V:V,0))","v":-0.44749999999999979}]
["Semi-Final",16,{"$f":"IF(ISERROR(INDEX(Diary!B:B,MATCH(B19,Diary!C:C,0))),\"\",INDEX(Diary!B:B,MATCH(B19,Diary!C:C,0)))","v":""},{"$f":"IF(INDEX(Diary!D:D,MATCH(B19,Diary!C:C,0))=\"D\",\"*\",\" \")","v":{"$error":"#N/A"}},null,18,"Dan Gibbard",null,null,null,null,null,{"$f":"INDEX(Results!T:T,MATCH(J19,Results!V:V,0))","v":{"$error":"#N/A"}},null,null,"Phil Miller",-4.75,null,{"$f":"INDEX(Results!T:T,MATCH(P19,Results!V:V,0))","v":37.81818181818182},null,null,{"$f":"IF(Q36=Q37,\"Await earlier tie\",IF(Q36<Q37,P37,P36))","v":"Mark Bunn"},-4.25,null,{"$f":"INDEX(Results!T:T,MATCH(V19,Results!V:V,0))","v":-3.8},null,null,null,null,null,null,null,null,null,null,{"$f":"IF(AI19=\"\",\"\",IF(AI19=AI20,\"R\",\"\"))","v":""}]
["Final",18,{"$f":"IF(ISERROR(INDEX(Diary!B:B,MATCH(B20,Diary!C:C,0))),\"\",INDEX(Diary!B:B,MATCH(B20,Diary!C:C,0)))","v":""},{"$f":"IF(INDEX(Diary!D:D,MATCH(B20,Diary!C:C,0))=\"D\",\"*\",\" \")","v":{"$error":"#N/A"}},null,19,"Dave Bell",null,10,null,null,{"$f":"IF(K20=\"\",\"\",IF(K20=K21,\"R\",\"\"))","v":""},{"$f":"INDEX(Results!T:T,MATCH(J20,Results!V:V,0))","v":{"$error":"#N/A"}},null,10,"Barry Birchall",5.1149999999999984,{"$f":"IF(Q20=\"\",\"\",IF(Q20=Q21,\"R\",\"\"))","v":""},{"$f":"INDEX(Results!T:T,MATCH(P20,Results!V:V,0))","v":-5.35},null,10,{"$f":"IF(Q38=Q39,\"Await earlier tie\",IF(Q38<Q39,P39,P38))","v":"Howard Bradley"},-4.7,{"$f":"IF(W20=\"\",\"\",IF(W20=W21,\"R\",\"\"))","v":""},{"$f":"INDEX(Results!T:T,MATCH(V20,Results!V:V,0))","v":-3.5}]
[null,null,null,null,null,20,"Dave Orrell",null,null,null,null,null,{"$f":"INDEX(Results!T:T,MATCH(J21,Results!V:V,0))","v":{"$error":"#N/A"}},null,null,"Andy White",0.46280991735537214,null,{"$f":"INDEX(Results!T:T,MATCH(P21,Results!V:V,0))","v":-5.2727272727272725},null,null,{"$f":"IF(Q40=Q41,\"Await earlier tie\",IF(Q40<Q41,P41,P40))","v":"Kevin Carter"},-5.4666666666666668,null,{"$f":"INDEX(Results!T:T,MATCH(V21,Results!V:V,0))","v":-0.22727272727272751},null,"Earlier Ties"]
[null,null,null,null,null,21,"David Dunn",null,11,null,null,{"$f":"IF(K22=\"\",\"\",IF(K22=K23,\"R\",\"\"))","v":""},{"$f":"INDEX(Results!T:T,MATCH(J22,Results!V:V,0))","v":{"$error":"#N/A"}},null,11,"Ashley Houghton",1.3024999999999984,{"$f":"IF(Q22=\"\",\"\",IF(Q22=Q23,\"R\",\"\"))","v":""},{"$f":"INDEX(Results!T:T,MATCH(P22,Results!V:V,0))","v":-1.2800000000000002},null,11,{"$f":"IF(Q42=Q43,\"Await earlier tie\",IF(Q42<Q43,P43,P42))","v":"Chris Luck"},-4.7,{"$f":"IF(W22=\"\",\"\",IF(W22=W23,\"R\",\"\"))","v":""},{"$f":"INDEX(Results!T:T,MATCH(V22,Results!V:V,0))","v":-3.8},null,5,"Rob England",-0.98749999999999982,"R"]
[null,null,null,null,null,22,"Frank Allen",null,null,null,null,null,{"$f":"INDEX(Results!T:T,MATCH(J23,Results!V:V,0))","v":{"$error":"#N/A"}},null,null,"Dave Orrell",2.2300000000000004,null,{"$f":"INDEX(Results!T:T,MATCH(P23,Results!V:V,0))","v":2.7100000000000009},null,null,{"$f":"IF(Q44=Q45,\"Await earlier tie\",IF(Q44<Q45,P45,P44))","v":"Joel Bent"},-7,null,{"$f":"INDEX(Results!T:T,MATCH(V23,Results!V:V,0))","v":{"$error":"#N/A"}},null,null,"Howard Bradley",-0.98749999999999982]
[null,null,null,null,null,23,"Gareth McGuire",null,12,null,null,{"$f":"IF(K24=\"\",\"\",IF(K24=K25,\"R\",\"\"))","v":""},{"$f":"INDEX(Results!T:T,MATCH(J24,Results!V:V,0))","v":{"$error":"#N/A"}},null,12,"Chris Griffin",-4.95,{"$f":"IF(Q24=\"\",\"\",IF(Q24=Q25,\"R\",\"\"))","v":""},{"$f":"INDEX(Results!T:T,MATCH(P24,Results!V:V,0))","v":-3.7},null,12,{"$f":"IF(Q46=Q47,\"Await earlier tie\",IF(Q46<Q47,P47,P46))","v":"Paul Fiddler"},-7,{"$f":"IF(W24=\"\",\"\",IF(W24=W25,\"R\",\"\"))","v":""},{"$f":"INDEX(Results!T:T,MATCH(V24,Results!V:V,0))","v":-5.15},null,8,"Sally Williams",-7,"R"]
[null,null,null,null,null,24,"Gareth Powell",null,null,null,null,null,{"$f":"INDEX(Results!T:T,MATCH(J25,Results!V:V,0))","v":{"$error":"#N/A"}},null,null,"Ben Rosser",-7,null,{"$f":"INDEX(Results!T:T,MATCH(P25,Results!V:V,0))","v":10.059999999999999},null,null,{"$f":"IF(Q48=Q49,\"Await earlier tie\",IF(Q48<Q49,P49,P48))","v":"Alick Rocca"},-3.75,null,{"$f":"INDEX(Results!T:T,MATCH(V25,Results!V:V,0))","v":9.1999999999999993},null,null,"Nick Blocksidge",-7]
[null,null,null,null,null,25,"Gerard Ventom",null,13,null,null,{"$f":"IF(K26=\"\",\"\",IF(K26=K27,\"R\",\"\"))","v":""},{"$f":"INDEX(Results!T:T,MATCH(J26,Results!V:V,0))","v":{"$error":"#N/A"}},null,13,"Andy Charleston",-7,{"$f":"IF(Q26=\"\",\"\",IF(Q26=Q27,\"R\",\"\"))","v":""},{"$f":"INDEX(Results!T:T,MATCH(P26,Results!V:V,0))","v":-5.6},null,13,{"$f":"IF(Q50=Q51,\"Await earlier tie\",IF(Q50<Q51,P51,P50))","v":"Gareth McGuire"},0.82692307692307665,{"$f":"IF(W26=\"\",\"\",IF(W26=W27,\"R\",\"\"))","v":""},{"$f":"INDEX(Results!T:T,MATCH(V26,Results!V:V,0))","v":-5},null,null,null,null,{"$f":"IF(AC26=\"\",\"\",IF(AC26=AC27,\"R\",\"\"))","v":""}]
[null,null,null,null,null,26,"Graham Miller",null,null,null,null,null,{"$f":"INDEX(Results!T:T,MATCH(J27,Results!V:V,0))","v":{"$error":"#N/A"}},null,null,"Ian Davies",-1,null,{"$f":"INDEX(Results!T:T,MATCH(P27,Results!V:V,0))","v":-7},null,null,{"$f":"IF(Q52=Q53,\"Await earlier tie\",IF(Q52<Q53,P53,P52))","v":"Steve Baxter"},-5.4666666666666668,null,{"$f":"INDEX(Results!T:T,MATCH(V27,Results!V:V,0))","v":-5.2}]
[null,null,null,null,null,27,"Howard Bradley",null,14,null,null,{"$f":"IF(K28=\"\",\"\",IF(K28=K29,\"R\",\"\"))","v":""},{"$f":"INDEX(Results!T:T,MATCH(J28,Results!V:V,0))","v":{"$error":"#N/A"}},null,14,"Gerard Ventom",-4.625,{"$f":"IF(Q28=\"\",\"\",IF(Q28=Q29,\"R\",\"\"))","v":""},{"$f":"INDEX(Results!T:T,MATCH(P28,Results!V:V,0))","v":-3.8},null,14,{"$f":"IF(Q54=Q55,\"Await earlier tie\",IF(Q54<Q55,P55,P54))","v":"Paul Adderley"},22.599999999999998,{"$f":"IF(W28=\"\",\"\",IF(W28=W29,\"R\",\"\"))","v":""},{"$f":"INDEX(Results!T:T,MATCH(V28,Results!V:V,0))","v":1.4499999999999993},null,null,null,null,{"$f":"IF(AC28=\"\",\"\",IF(AC28=AC29,\"R\",\"\"))","v":""}]
[null,null,null,null,null,28,"Ian Davies",null,null,null,null,null,{"$f":"INDEX(Results!T:T,MATCH(J29,Results!V:V,0))","v":{"$error":"#N/A"}},null,null,"Oscar Jackson",-4.95,null,{"$f":"INDEX(Results!T:T,MATCH(P29,Results!V:V,0))","v":-7},null,null,{"$f":"IF(Q56=Q57,\"Await earlier tie\",IF(Q56<Q57,P57,P56))","v":"Nigel Heyes"},-4.625,null,{"$f":"INDEX(Results!T:T,MATCH(V29,Results!V:V,0))","v":3.16}]
[null,null,null,null,null,29,"Jack Walsh",null,15,null,null,{"$f":"IF(K30=\"\",\"\",IF(K30=K31,\"R\",\"\"))","v":""},{"$f":"INDEX(Results!T:T,MATCH(J30,Results!V:V,0))","v":{"$error":"#N/A"}},null,15,"Alan Rogers",-4.9000000000000004,{"$f":"IF(Q30=\"\",\"\",IF(Q30=Q31,\"R\",\"\"))","v":""},{"$f":"INDEX(Results!T:T,MATCH(P30,Results!V:V,0))","v":-4.5999999999999996},null,15,{"$f":"IF(Q58=Q59,\"Await earlier tie\",IF(Q58<Q59,P59,P58))","v":"Stephen Barr"},-4.625,{"$f":"IF(W30=\"\",\"\",IF(W30=W31,\"R\",\"\"))","v":""},{"$f":"INDEX(Results!T:T,MATCH(V30,Results!V:V,0))","v":4}]
[null,null,null,null,null,30,"James Bell",null,null,null,null,null,{"$f":"INDEX(Results!T:T,MATCH(J31,Results!V:V,0))","v":{"$error":"#N/A"}},null,null,"Simon Greenhalgh",-4.625,null,{"$f":"INDEX(Results!T:T,MATCH(P31,Results!V:V,0))","v":-5},null,null,{"$f":"IF(Q60=Q61,\"Await earlier tie\",IF(Q60<Q61,P61,P60))","v":"Sally Williams"},-3.4,null,{"$f":"INDEX(Results!T:T,MATCH(V31,Results!V:V,0))","v":8.8000000000000007}]
[null,null,null,null,null,31,"John Murphy",null,16,null,null,{"$f":"IF(K32=\"\",\"\",IF(K32=K33,\"R\",\"\"))","v":""},{"$f":"INDEX(Results!T:T,MATCH(J32,Results!V:V,0))","v":{"$error":"#N/A"}},null,16,"Dave Bell",-7,{"$f":"IF(Q32=\"\",\"\",IF(Q32=Q33,\"R\",\"\"))","v":""},{"$f":"INDEX(Results!T:T,MATCH(P32,Results!V:V,0))","v":-7},null,16,{"$f":"IF(Q62=Q63,\"Await earlier tie\",IF(Q62<Q63,P63,P62))","v":"Mike Penk"},-4.7,{"$f":"IF(W32=\"\",\"\",IF(W32=W33,\"R\",\"\"))","v":""},{"$f":"INDEX(Results!T:T,MATCH(V32,Results!V:V,0))","v":-7}]
[null,null,null,null,null,32,"John Ronan",null,null,null,null,null,{"$f":"INDEX(Results!T:T,MATCH(J33,Results!V:V,0))","v":{"$error":"#N/A"}},null,null,"James Bell",-4.8499999999999996,null,{"$f":"INDEX(Results!T:T,MATCH(P33,Results!V:V,0))","v":-7},null,null,{"$f":"IF(Q64=Q65,\"Await earlier tie\",IF(Q64<Q65,P65,P64))","v":"Nick Blocksidge"},7.5250000000000004,null,{"$f":"INDEX(Results!T:T,MATCH(V33,Results!V:V,0))","v":22.24}]
[null,null,null,null,null,33,"Kei Lok Ma",null,17,null,null,{"$f":"IF(K34=\"\",\"\",IF(K34=K35,\"R\",\"\"))","v":""},{"$f":"INDEX(Results!T:T,MATCH(J34,Results!V:V,0))","v":{"$error":"#N/A"}},null,17,"Paul Barnes",-7,{"$f":"IF(Q34=\"\",\"\",IF(Q34=Q35,\"R\",\"\"))","v":""},{"$f":"INDEX(Results!T:T,MATCH(P34,Results!V:V,0))","v":4.8999999999999986}]
[null,null,null,null,null,34,"Kevin Carter",null,null,null,null,null,{"$f":"INDEX(Results!T:T,MATCH(J35,Results!V:V,0))","v":{"$error":"#N/A"}},null,null,"Rob England",-5.8461538461538467,null,{"$f":"INDEX(Results!T:T,MATCH(P35,Results!V:V,0))","v":-0.44749999999999979}]
[null,null,null,null,null,35,"Lennie Bow",null,18,null,null,{"$f":"IF(K36=\"\",\"\",IF(K36=K37,\"R\",\"\"))","v":""},{"$f":"INDEX(Results!T:T,MATCH(J36,Results!V:V,0))","v":{"$error":"#N/A"}},null,18,"Martin Tarbuck",1.25,{"$f":"IF(Q36=\"\",\"\",IF(Q36=Q37,\"R\",\"\"))","v":""},{"$f":"INDEX(Results!T:T,MATCH(P36,Results!V:V,0))","v":-7}]
[null,null,null,null,null,36,"Liam Wah",null,null,null,null,null,{"$f":"INDEX(Results!T:T,MATCH(J37,Results!V:V,0))","v":{"$error":"#N/A"}},null,null,"Mark Bunn",32.584375000000001,null,{"$f":"INDEX(Results!T:T,MATCH(P37,Results!V:V,0))","v":-3.8},null,"Replay"]
[null,null,null,null,null,37,"Mal Stott",null,19,null,null,{"$f":"IF(K38=\"\",\"\",IF(K38=K39,\"R\",\"\"))","v":""},{"$f":"INDEX(Results!T:T,MATCH(J38,Results!V:V,0))","v":{"$error":"#N/A"}},null,19,"Howard Bradley",0.53999999999999915,{"$f":"IF(Q38=\"\",\"\",IF(Q38=Q39,\"R\",\"\"))","v":""},{"$f":"INDEX(Results!T:T,MATCH(P38,Results!V:V,0))","v":-3.5},null,null,null,null,{"$f":"IF(W38=\"\",\"\",IF(W38=W39,\"R\",\"\"))","v":""},{"$f":"INDEX(Results!T:T,MATCH(V38,Results!V:V,0))","v":{"$error":"#N/A"}}]
[null,null,null,null,null,38,"Mark Bunn",null,null,null,null,null,{"$f":"INDEX(Results!T:T,MATCH(J39,Results!V:V,0))","v":{"$error":"#N/A"}},null,null,"Martin Molyneux",-3.3,null,{"$f":"INDEX(Results!T:T,MATCH(P39,Results!V:V,0))","v":15.219999999999999},null,null,null,null,null,{"$f":"INDEX(Results!T:T,MATCH(V39,Results!V:V,0))","v":{"$error":"#N/A"}}]
[null,null,null,null,null,39,"Mark Saunders",null,20,null,null,{"$f":"IF(K40=\"\",\"\",IF(K40=K41,\"R\",\"\"))","v":""},{"$f":"INDEX(Results!T:T,MATCH(J40,Results!V:V,0))","v":{"$error":"#N/A"}},null,20,"Mo Sudell",-5.8461538461538467,{"$f":"IF(Q40=\"\",\"\",IF(Q40=Q41,\"R\",\"\"))","v":""},{"$f":"INDEX(Results!T:T,MATCH(P40,Results!V:V,0))","v":-4.4000000000000004},null,null,null,null,{"$f":"IF(W40=\"\",\"\",IF(W40=W41,\"R\",\"\"))","v":""},{"$f":"INDEX(Results!T:T,MATCH(V40,Results!V:V,0))","v":{"$error":"#N/A"}}]
[null,null,null,null,null,40,"Martin Molyneux",null,null,null,null,null,{"$f":"INDEX(Results!T:T,MATCH(J41,Results!V:V,0))","v":{"$error":"#N/A"}},null,null,"Kevin Carter",2.2937499999999993,null,{"$f":"INDEX(Results!T:T,MATCH(P41,Results!V:V,0))","v":-0.22727272727272751},null,null,null,null,null,{"$f":"INDEX(Results!T:T,MATCH(V41,Results!V:V,0))","v":{"$error":"#N/A"}}]
[null,null,null,null,null,41,"Martin Tarbuck",null,21,null,null,{"$f":"IF(K42=\"\",\"\",IF(K42=K43,\"R\",\"\"))","v":""},{"$f":"INDEX(Results!T:T,MATCH(J42,Results!V:V,0))","v":{"$error":"#N/A"}},null,21,"David Dunn",5.6727272727272737,{"$f":"IF(Q42=\"\",\"\",IF(Q42=Q43,\"R\",\"\"))","v":""},{"$f":"INDEX(Results!T:T,MATCH(P42,Results!V:V,0))","v":2.125},null,null,null,null,{"$f":"IF(W42=\"\",\"\",IF(W42=W43,\"R\",\"\"))","v":""},{"$f":"INDEX(Results!T:T,MATCH(V42,Results!V:V,0))","v":{"$error":"#N/A"}}]
[null,null,null,null,null,42,"Mike Penk",null,null,null,null,null,{"$f":"INDEX(Results!T:T,MATCH(J43,Results!V:V,0))","v":{"$error":"#N/A"}},null,null,"Chris Luck",35.706250000000011,null,{"$f":"INDEX(Results!T:T,MATCH(P43,Results!V:V,0))","v":-3.8},null,null,null,null,null,{"$f":"INDEX(Results!T:T,MATCH(V43,Results!V:V,0))","v":{"$error":"#N/A"}}]
[null,null,null,null,null,43,"Mo Sudell",null,22,null,null,{"$f":"IF(K44=\"\",\"\",IF(K44=K45,\"R\",\"\"))","v":""},{"$f":"INDEX(Results!T:T,MATCH(J44,Results!V:V,0))","v":{"$error":"#N/A"}},null,22,"Joel Bent",-3,{"$f":"IF(Q44=\"\",\"\",IF(Q44=Q45,\"R\",\"\"))","v":""},{"$f":"INDEX(Results!T:T,MATCH(P44,Results!V:V,0))","v":{"$error":"#N/A"}},null,null,null,null,{"$f":"IF(W44=\"\",\"\",IF(W44=W45,\"R\",\"\"))","v":""},{"$f":"INDEX(Results!T:T,MATCH(V44,Results!V:V,0))","v":{"$error":"#N/A"}}]
[null,null,null,null,null,44,"Nick Blocksidge",null,null,null,null,null,{"$f":"INDEX(Results!T:T,MATCH(J45,Results!V:V,0))","v":{"$error":"#N/A"}},null,null,"Pete Baron",-7,null,{"$f":"INDEX(Results!T:T,MATCH(P45,Results!V:V,0))","v":9.1999999999999993},null,null,null,null,null,{"$f":"INDEX(Results!T:T,MATCH(V45,Results!V:V,0))","v":{"$error":"#N/A"}}]
[null,null,null,null,null,45,"Nigel Heyes",null,23,null,null,"",{"$f":"INDEX(Results!T:T,MATCH(J46,Results!V:V,0))","v":{"$error":"#N/A"}},null,23,"Paul Fiddler",9.2266666666666666,{"$f":"IF(Q46=\"\",\"\",IF(Q46=Q47,\"R\",\"\"))","v":""},{"$f":"INDEX(Results!T:T,MATCH(P46,Results!V:V,0))","v":-5.15},null,null,null,null,{"$f":"IF(W46=\"\",\"\",IF(W46=W47,\"R\",\"\"))","v":""},{"$f":"INDEX(Results!T:T,MATCH(V46,Results!V:V,0))","v":{"$error":"#N/A"}}]
[null,null,null,null,null,46,"Oscar Jackson",null,null,null,null,null,{"$f":"INDEX(Results!T:T,MATCH(J47,Results!V:V,0))","v":{"$error":"#N/A"}},null,null,"Steve Carter",3.4800000000000004,null,{"$f":"INDEX(Results!T:T,MATCH(P47,Results!V:V,0))","v":-3.7},null,null,null,null,null,{"$f":"INDEX(Results!T:T,MATCH(V47,Results!V:V,0))","v":{"$error":"#N/A"}}]
[null,null,null,null,null,47,"Paul Adderley",null,24,null,null,"",{"$f":"INDEX(Results!T:T,MATCH(J48,Results!V:V,0))","v":{"$error":"#N/A"}},null,24,"Gareth Powell",9.39,{"$f":"IF(Q48=\"\",\"\",IF(Q48=Q49,\"R\",\"\"))","v":""},{"$f":"INDEX(Results!T:T,MATCH(P48,Results!V:V,0))","v":11.350000000000001},null,null,null,null,{"$f":"IF(W48=\"\",\"\",IF(W48=W49,\"R\",\"\"))","v":""},{"$f":"INDEX(Results!T:T,MATCH(V48,Results!V:V,0))","v":{"$error":"#N/A"}}]
[null,null,null,null,null,48,"Paul Allen",null,null,null,null,null,{"$f":"INDEX(Results!T:T,MATCH(J49,Results!V:V,0))","v":{"$error":"#N/A"}},null,null,"Alick Rocca",14.919999999999998,null,{"$f":"INDEX(Results!T:T,MATCH(P49,Results!V:V,0))","v":9.1999999999999993},null,null,null,null,null,{"$f":"INDEX(Results!T:T,MATCH(V49,Results!V:V,0))","v":{"$error":"#N/A"}}]
[null,null,null,null,null,49,"Paul Barnes",null,25,null,null,"",{"$f":"INDEX(Results!T:T,MATCH(J50,Results!V:V,0))","v":{"$error":"#N/A"}},null,25,"Lennie Bow",-5.3333333333333339,{"$f":"IF(Q50=\"\",\"\",IF(Q50=Q51,\"R\",\"\"))","v":""},{"$f":"INDEX(Results!T:T,MATCH(P50,Results!V:V,0))","v":-4.9000000000000004},null,null,null,null,{"$f":"IF(W50=\"\",\"\",IF(W50=W51,\"R\",\"\"))","v":""},{"$f":"INDEX(Results!T:T,MATCH(V50,Results!V:V,0))","v":{"$error":"#N/A"}}]
[null,null,null,null,null,50,"Paul Fairhurst",null,null,null,null,null,{"$f":"INDEX(Results!T:T,MATCH(J51,Results!V:V,0))","v":{"$error":"#N/A"}},null,null,"Gareth McGuire",-1.3333333333333335,null,{"$f":"INDEX(Results!T:T,MATCH(P51,Results!V:V,0))","v":-5},null,null,null,null,null,{"$f":"INDEX(Results!T:T,MATCH(V51,Results!V:V,0))","v":{"$error":"#N/A"}}]
[null,null,null,null,null,51,"Paul Fiddler",null,26,null,null,"",{"$f":"INDEX(Results!T:T,MATCH(J52,Results!V:V,0))","v":{"$error":"#N/A"}},null,26,"Alan White",-5.0909090909090908,{"$f":"IF(Q52=\"\",\"\",IF(Q52=Q53,\"R\",\"\"))","v":""},{"$f":"INDEX(Results!T:T,MATCH(P52,Results!V:V,0))","v":-7},null,null,null,null,{"$f":"IF(W52=\"\",\"\",IF(W52=W53,\"R\",\"\"))","v":""},{"$f":"INDEX(Results!T:T,MATCH(V52,Results!V:V,0))","v":{"$error":"#N/A"}}]
[null,null,null,null,null,52,"Pete Baron",null,null,null,null,null,{"$f":"INDEX(Results!T:T,MATCH(J53,Results!V:V,0))","v":{"$error":"#N/A"}},null,null,"Steve Baxter",-0.72727272727272663,null,{"$f":"INDEX(Results!T:T,MATCH(P53,Results!V:V,0))","v":-5.2},null,null,null,null,null,{"$f":"INDEX(Results!T:T,MATCH(V53,Results!V:V,0))","v":{"$error":"#N/A"}}]
[null,null,null,null,null,53,"Phil Miller",null,27,null,null,"",{"$f":"INDEX(Results!T:T,MATCH(J54,Results!V:V,0))","v":{"$error":"#N/A"}},null,27,"Paul Adderley",-5.0909090909090908,{"$f":"IF(Q54=\"\",\"\",IF(Q54=Q55,\"R\",\"\"))","v":""},{"$f":"INDEX(Results!T:T,MATCH(P54,Results!V:V,0))","v":1.4499999999999993}]
[null,null,null,null,null,54,"Rob England",null,null,null,null,null,{"$f":"INDEX(Results!T:T,MATCH(J55,Results!V:V,0))","v":{"$error":"#N/A"}},null,null,"Bye",-10,null,{"$f":"INDEX(Results!T:T,MATCH(P55,Results!V:V,0))","v":{"$error":"#N/A"}}]
[null,null,null,null,null,55,"Sally Williams",null,28,null,null,"",{"$f":"INDEX(Results!T:T,MATCH(J56,Results!V:V,0))","v":{"$error":"#N/A"}},null,28,"Nigel Heyes",0.46280991735537214,{"$f":"IF(Q56=\"\",\"\",IF(Q56=Q57,\"R\",\"\"))","v":""},{"$f":"INDEX(Results!T:T,MATCH(P56,Results!V:V,0))","v":3.16}]
[null,null,null,null,null,56,"Simon Greenhalgh",null,null,null,null,null,{"$f":"INDEX(Results!T:T,MATCH(J57,Results!V:V,0))","v":{"$error":"#N/A"}},null,null,"Bye",-10,null,{"$f":"INDEX(Results!T:T,MATCH(P57,Results!V:V,0))","v":{"$error":"#N/A"}}]
[null,null,null,null,null,57,"Stephen Barr",null,29,null,null,"",{"$f":"INDEX(Results!T:T,MATCH(J58,Results!V:V,0))","v":{"$error":"#N/A"}},null,29,"Stephen Barr",-5.3333333333333339,{"$f":"IF(Q58=\"\",\"\",IF(Q58=Q59,\"R\",\"\"))","v":""},{"$f":"INDEX(Results!T:T,MATCH(P58,Results!V:V,0))","v":4}]
[null,null,null,null,null,58,"Stephen Troop",null,null,null,null,null,{"$f":"INDEX(Results!T:T,MATCH(J59,Results!V:V,0))","v":{"$error":"#N/A"}},null,null,"Bye",-10,null,{"$f":"INDEX(Results!T:T,MATCH(P59,Results!V:V,0))","v":{"$error":"#N/A"}}]
[null,null,null,null,null,null,"Steve Baxter",null,30,null,null,"",{"$f":"INDEX(Results!T:T,MATCH(J60,Results!V:V,0))","v":{"$error":"#N/A"}},null,30,"Sally Williams",-7,{"$f":"IF(Q60=\"\",\"\",IF(Q60=Q61,\"R\",\"\"))","v":""},{"$f":"INDEX(Results!T:T,MATCH(P60,Results!V:V,0))","v":8.8000000000000007}]
[null,null,null,null,null,null,"Steve Carter",null,null,null,null,null,{"$f":"INDEX(Results!T:T,MATCH(J61,Results!V:V,0))","v":{"$error":"#N/A"}},null,null,"Bye",-10,null,{"$f":"INDEX(Results!T:T,MATCH(P61,Results!V:V,0))","v":{"$error":"#N/A"}}]
[null,null,null,null,null,null,"Tom Robinson",null,31,null,null,"",{"$f":"INDEX(Results!T:T,MATCH(J62,Results!V:V,0))","v":{"$error":"#N/A"}},null,31,"Mike Penk",-7,{"$f":"IF(Q62=\"\",\"\",IF(Q62=Q63,\"R\",\"\"))","v":""},{"$f":"INDEX(Results!T:T,MATCH(P62,Results!V:V,0))","v":-7}]
[null,null,null,null,null,null,"Vinny Topping",null,null,null,null,null,{"$f":"INDEX(Results!T:T,MATCH(J63,Results!V:V,0))","v":{"$error":"#N/A"}},null,null,"Bye",-10,null,{"$f":"INDEX(Results!T:T,MATCH(P63,Results!V:V,0))","v":{"$error":"#N/A"}}]
[null,null,null,null,null,null,null,null,32,null,null,"",{"$f":"INDEX(Results!T:T,MATCH(J64,Results!V:V,0))","v":{"$error":"#N/A"}},null,32,"Nick Blocksidge",-1.0909090909090908,{"$f":"IF(Q64=\"\",\"\",IF(Q64=Q65,\"R\",\"\"))","v":""},{"$f":"INDEX(Results!T:T,MATCH(P64,Results!V:V,0))","v":22.24}]
[null,null,null,null,null,null,null,null,null,null,null,null,{"$f":"INDEX(Results!T:T,MATCH(J65,Results!V:V,0))","v":{"$error":"#N/A"}},null,null,"Bye",-10,null,{"$f":"INDEX(Results!T:T,MATCH(P65,Results!V:V,0))","v":{"$error":"#N/A"}}]
[null,null,null,null,null,null,null,null,33,null,null,"",{"$f":"INDEX(Results!T:T,MATCH(J66,Results!V:V,0))","v":{"$error":"#N/A"}}]
[null,null,null,null,null,null,null,null,null,null,null,null,{"$f":"INDEX(Results!T:T,MATCH(J67,Results!V:V,0))","v":{"$error":"#N/A"}}]
[null,null,null,null,null,null,null,null,34,null,null,"",{"$f":"INDEX(Results!T:T,MATCH(J68,Results!V:V,0))","v":{"$error":"#N/A"}},null,"Earlier ties"]
[null,null,null,null,null,null,null,null,null,null,null,null,{"$f":"INDEX(Results!T:T,MATCH(J69,Results!V:V,0))","v":{"$error":"#N/A"}},null,16,"Dave Bell",-7,"R"]
[null,null,null,null,null,null,null,null,35,null,null,"",{"$f":"INDEX(Results!T:T,MATCH(J70,Results!V:V,0))","v":{"$error":"#N/A"}},null,null,"James Bell",-7]
[null,null,null,null,null,null,null,null,null,null,null,null,{"$f":"INDEX(Results!T:T,MATCH(J71,Results!V:V,0))","v":{"$error":"#N/A"}},null,23,"Paul Fiddler",-5.0909090909090908,"R"]
[null,null,null,null,null,null,null,null,36,null,null,"",{"$f":"INDEX(Results!T:T,MATCH(J72,Results!V:V,0))","v":{"$error":"#N/A"}},null,null,"Steve Carter",-5.0909090909090908]
[null,null,null,null,null,null,null,null,null,null,null,null,{"$f":"INDEX(Results!T:T,MATCH(J73,Results!V:V,0))","v":{"$error":"#N/A"}},null,null,null,null,{"$f":"IF(Q73=\"\",\"\",IF(Q73=Q74,\"R\",\"\"))","v":""}]
[]
[null,null,null,null,null,null,null,null,null,null,null,null,null,null,null,null,null,{"$f":"IF(Q75=\"\",\"\",IF(Q75=Q76,\"R\",\"\"))","v":""}]
[]
[null,null,null,null,null,null,null,null,null,null,null,null,null,null,null,null,null,{"$f":"IF(Q77=\"\",\"\",IF(Q77=Q78,\"R\",\"\"))","v":""}]
[null,null,null,null,null,null,null,null,"Earlier ties"]
[null,null,null,null,null,null,null,null,1,null,null,null,null,null,null,null,null,{"$f":"IF(Q79=\"\",\"\",IF(Q79=Q80,\"R\",\"\"))","v":""}]
[]
[null,null,null,null,null,null,null,null,null,null,null,{"$f":"IF(K81=\"\",\"\",IF(K81=K82,\"R\",\"\"))","v":""},null,null,null,null,null,{"$f":"IF(Q81=\"\",\"\",IF(Q81=Q82,\"R\",\"\"))","v":""}]
[]
[null,null,null,null,null,null,null,null,null,null,null,{"$f":"IF(K83=\"\",\"\",IF(K83=K84,\"R\",\"\"))","v":""},null,null,null,null,null,{"$f":"IF(Q83=\"\",\"\",IF(Q83=Q84,\"R\",\"\"))","v":""}]
[]
[null,null,null,null,null,null,null,null,null,null,null,{"$f":"IF(K85=\"\",\"\",IF(K85=K86,\"R\",\"\"))","v":""},null,null,null,null,null,{"$f":"IF(Q85=\"\",\"\",IF(Q85=Q86,\"R\",\"\"))","v":""}]
[]
[null,null,null,null,null,null,null,null,null,null,null,{"$f":"IF(K87=\"\",\"\",IF(K87=K88,\"R\",\"\"))","v":""},null,null,null,null,null,{"$f":"IF(Q87=\"\",\"\",IF(Q87=Q88,\"R\",\"\"))","v":""}]
[]
[null,null,null,null,null,null,null,null,null,null,null,{"$f":"IF(K89=\"\",\"\",IF(K89=K90,\"R\",\"\"))","v":""},null,null,null,null,null,{"$f":"IF(Q89=\"\",\"\",IF(Q89=Q90,\"R\",\"\"))","v":""}]
[]
[null,null,null,null,null,null,null,null,null,null,null,{"$f":"IF(K91=\"\",\"\",IF(K91=K92,\"R\",\"\"))","v":""},null,null,null,null,null,{"$f":"IF(Q91=\"\",\"\",IF(Q91=Q92,\"R\",\"\"))","v":""}]
[]
[null,null,null,null,null,null,null,null,null,null,null,{"$f":"IF(K93=\"\",\"\",IF(K93=K94,\"R\",\"\"))","v":""}]

{"sheet":"Prizelist","index":18,"n_rows":26,"n_cols":2,"rows_kept":26,"cut":false,"hidden":false,"merged":[]}
["No of Entrants:",62]
["Fee pp per season",20]
["Fees collected:",{"$f":"B1*B2","v":1240}]
[]
["Number of weeks",20]
["Number of £10 highest weekly score prize",1]
["Number of £5 weekly prizes",3]
["Weekly payouts",{"$f":"(B7*5*B5)+(B6*10*B5)","v":500}]
[]
["Cup winner",25]
["Cup runner-up",15]
["Cup semi-finalists (2 * £5)",10]
["Cup payouts",{"$f":"SUM(B10:B12)","v":50}]
[]
["Div A top 6 places (35%/25/18/12/7/3) - 45% of pot",{"$f":"Prizes!I2","v":310.5}]
["Div B top 6 places (35%/25/18/12/7/3) - 30% of pot",{"$f":"Prizes!I3","v":207}]
["Div C top 6 places (35%/25/18/12/7/3) - 15% of pot",{"$f":"Prizes!I4","v":103.5}]
["Div D top 6 places (35%/25/18/12/7/3) - 10% of pot",{"$f":"Prizes!I5","v":69}]
[]
["End of season place prize pot",{"$f":"SUM(B15:B19)","v":690}]
[]
["Fund deductions (eg, non-payers)",0]
[]
["Nett place prize pot",{"$f":"B20-B22","v":690}]
[]
["Balance",{"$f":"B3-B8-B13-B20-B22","v":0}]

{"sheet":"Prizes","index":19,"n_rows":101,"n_cols":13,"rows_kept":101,"cut":false,"hidden":false,"merged":[]}
["Menu!A1","Division","Position","Division Pot %","Position%","Div Pot",null,"Total",{"$f":"M2-550","v":690},null,"Division","% of pot","Fees"]
[{"$f":"CONCATENATE(B2,C2)","v":"A1"},"A",1,45,35,{"$f":"PotA*E2/100","v":108.675},null,"Div A",{"$f":"pot*0.45","v":310.5},null,1,45,{"$f":"entrants*20","v":1240}]
[{"$f":"CONCATENATE(B3,C3)","v":"A2"},"A",2,null,25,77.625,null,"Div B",{"$f":"pot*0.3","v":207},null,2,30]
["A3","A",3,null,18,55.89,null,"Div C",{"$f":"pot*0.15","v":103.5},null,3,15]
["A4","A",4,null,12,37.26,null,"Div D",{"$f":"pot*0.1","v":69},null,4,10]
["A5","A",5,null,7,21.734999999999999,null,null,null,null,null,{"$f":"SUM(L2:L5)","v":100}]
["A6","A",6,null,3,9.3149999999999995]
["A7","A",7,null,null,0]
["A8","A",8,null,null,0]
["A9","A",9,null,null,0]
["A10","A",10,null,null,0]
["A11","A",11,null,null,0]
["A12","A",12,null,null,0]
["A13","A",13,null,null,0]
["A14","A",14,null,null,0]
["A15","A",15,null,null,0]
["A16","A",16,null,null,0]
["B1","B",1,30,35,{"$f":"PotB*E18/100","v":72.45}]
["B2","B",2,null,25,51.75]
["B3","B",3,null,18,37.26]
["B4","B",4,null,12,24.84]
["B5","B",5,null,7,14.49]
["B6","B",6,null,3,6.21]
["B7","B",7,null,null,0]
["B8","B",8,null,null,0]
["B9","B",9,null,null,0]
["B10","B",10,null,null,0]
["B11","B",11,null,null,0]
["B12","B",12,null,null,0]
["B13","B",13,null,null,0]
["B14","B",14,null,null,0]
["B15","B",15,null,null,0]
["B16","B",16,null,null,0]
["C1","C",1,15,35,{"$f":"PotC*E34/100","v":36.225000000000001}]
["C2","C",2,null,25,25.875]
["C3","C",3,null,18,18.63]
["C4","C",4,null,12,12.42]
["C5","C",5,null,7,7.2450000000000001]
["C6","C",6,null,3,3.105]
["C7","C",7,null,null,0]
["C8","C",8,null,null,0]
["C9","C",9,null,null,0]
["C10","C",10,null,null,0]
["C11","C",11,null,null,0]
["C12","C",12,null,null,0]
["C13","C",13,null,null,0]
["C14","C",14,null,null,0]
["C15","C",15,null,null,0]
["C16","C",16,null,null,0]
["D1","D",1,10,35,{"$f":"PotD*E50/100","v":24.15}]
["D2","D",2,null,25,17.25]
["D3","D",3,null,18,12.42]
["D4","D",4,null,12,8.2799999999999994]
["D5","D",5,null,7,4.83]
["D6","D",6,null,3,2.0699999999999998]
["D7","D",7,null,null,0]
["D8","D",8,null,null,0]
["D9","D",9,null,null,0]
["D10","D",10,null,null,0]
["D11","D",11,null,null,0]
["D12","D",12,null,null,0]
["D13","D",13,null,null,0]
["D14","D",14,null,null,0]
[{"$f":"CONCATENATE(B64,C64)","v":"D15"},"D",15,null,null,0]
["D16","D",16,null,null,0]
["D17","D",17,null,null,0]
["D18","D",18,null,null,0]
["D19","D",19,null,null,0]
["D20","D",20,null,null,0]
["D21","D",21,null,null,0]
["D22","D",22,null,null,0]
["D23","D",23,null,null,0]
["D24","D",24,null,null,0]
["D25","D",25,null,null,0]
["D26","D",26,null,null,0]
["D27","D",27,null,null,0]
["D28","D",28,null,null,0]
["D29","D",29,null,null,0]
["D30","D",30,null,null,0]
["D31","D",31,null,null,0]
["D32","D",32,null,null,0]
["D33","D",33,null,null,0]
["D34","D",34,null,null,0]
["D35","D",35,null,null,0]
["D36","D",36,null,null,0]
["D37","D",37,null,null,0]
["D38","D",38,null,null,0]
["D39","D",39,null,null,0]
["D40","D",40,null,null,0]
["D41","D",41,null,null,0]
["D42","D",42,null,null,0]
["D43","D",43,null,null,0]
["D44","D",44,null,null,0]
["D45","D",45,null,null,0]
["D46","D",46,null,null,0]
["D47","D",47,null,null,0]
["D48","D",48,null,null,0]
["D49","D",49,null,null,0]
["D50","D",50,null,null,0]
["D51","D",51,null,null,0]
["D52","D",52,null,null,0]

{"sheet":"Perms","index":20,"n_rows":50,"n_cols":23,"rows_kept":50,"cut":false,"hidden":false,"merged":[]}
[]
[null,null,null,null,null,null,null,null,null,null,null,null,null,null,"-7.00"]
[null,"Paul Fiddler",null,null,null,null,null,null,null,null,null,"Wk 19: ",{"$f":"INDEX(Table!I:I,MATCH(B3,Table!F:F,0))","v":-4.2012820512820515},null,{"$f":"M3-7","v":-11.201282051282051}]
[null,null,"Prediction","Odds -","Odds - ","Odds - ","Prediction",null,null,null,null,"Single 1","Single 2",null,{"$f":"IF(K4=0,0,1)+K4","v":0},null,null,null,null,null,null,"Andy Charleston","Portsmouth"]
[null,null,"Correct?","Fraction","decimal","decimal","Correct",null,{"$f":"F6","v":0.39999999999999991},{"$f":"F7","v":1},{"$f":"F8","v":1.375},{"$f":"IF(I5=0,0,1)+I5","v":1.4},{"$f":"IF(J5=0,0,1)+J5","v":2},null,{"$f":"IF(K5=0,0,1)+K5","v":2.375},{"$f":"IF(J5=0,0,(L5*J5)+L5)","v":2.8},{"$f":"IF(K5=0,0,(M5*K5)+M5)","v":4.75},{"$f":"IF(I5=0,0,(O5*I5)+O5)","v":3.3249999999999997},{"$f":"IF(K5=0,0,(P5*K5)+P5)","v":6.6499999999999995},null,null,"Andy Charleston","Doncaster"]
[null,"Spurs","√",{"$f":"INDEX(Picks!C:C,MATCH(B6,Picks!B:B,0))","v":1},{"$f":"INDEX(Picks!D:D,MATCH(B6,Picks!B:B,0))","v":1.4},{"$f":"+((E6-1)*G6)","v":0.39999999999999991},1,null,null,null,null,null,null,null,null,null,null,null,null,null,null,"Andy Charleston","Wigan"]
[null,"Sunderland","√",{"$f":"INDEX(Picks!C:C,MATCH(B7,Picks!B:B,0))","v":7},{"$f":"INDEX(Picks!D:D,MATCH(B7,Picks!B:B,0))","v":2},{"$f":"+((E7-1)*G7)","v":1},1,null,null,null,null,"Correct","Score",null,"Final",null,null,null,null,null,null,"Chris Griffin","Wigan"]
[null,"Sheff U","√",{"$f":"INDEX(Picks!C:C,MATCH(B8,Picks!B:B,0))","v":7},{"$f":"INDEX(Picks!D:D,MATCH(B8,Picks!B:B,0))","v":2.375},{"$f":"+((E8-1)*G8)","v":1.375},1,null,null,null,null,{"$f":"SUM(G6:G8)","v":3},{"$f":"SUM(L5:S5)-7","v":16.299999999999997},null,{"$f":"$M$3+M8","v":12.098717948717946},null,null,null,null,null,null,"Chris Griffin","Sunderland"]
[null,null,null,null,null,null,null,null,null,null,null,null,null,null,null,null,null,null,null,null,null,"Chris Griffin","Reading draw"]
[null,null,null,null,null,null,null,null,null,null,null,null,null,null,null,null,null,null,null,null,null,"John Evans","West Ham"]
[null,null,"Prediction","Odds -","Odds - ","Odds - ","Prediction",null,null,null,null,"Single 1","Single 2",null,"Single 3","Double 1","Double 2","Double 3","Treble",null,null,"John Evans","Wycombe"]
[null,null,"Correct?","Fraction","decimal","decimal","Correct",null,{"$f":"F13","v":0.39999999999999991},{"$f":"F14","v":1},{"$f":"F15","v":0},{"$f":"IF(I12=0,0,1)+I12","v":1.4},{"$f":"IF(J12=0,0,1)+J12","v":2},null,{"$f":"IF(K12=0,0,1)+K12","v":0},{"$f":"IF(J12=0,0,(L12*J12)+L12)","v":2.8},{"$f":"IF(K12=0,0,(M12*K12)+M12)","v":0},{"$f":"IF(I12=0,0,(O12*I12)+O12)","v":0},{"$f":"IF(K12=0,0,(P12*K12)+P12)","v":0},null,null,"John Evans","Wigan"]
[null,{"$f":"game1","v":"Spurs"},"√",{"$f":"INDEX(Picks!C:C,MATCH(B13,Picks!B:B,0))","v":1},{"$f":"INDEX(Picks!D:D,MATCH(B13,Picks!B:B,0))","v":1.4},{"$f":"+((E13-1)*G13)","v":0.39999999999999991},1,null,null,null,null,null,null,null,null,null,null,null,null,null,null,"Mo Sudell","Villa"]
[null,{"$f":"game2","v":"Sunderland"},"√",{"$f":"INDEX(Picks!C:C,MATCH(B14,Picks!B:B,0))","v":7},{"$f":"INDEX(Picks!D:D,MATCH(B14,Picks!B:B,0))","v":2},{"$f":"+((E14-1)*G14)","v":1},1,null,null,null,null,"Correct","Score",null,"Final",null,null,null,null,null,null,"Mo Sudell","Wigan"]
[null,{"$f":"game3","v":"Sheff U"},"x",{"$f":"INDEX(Picks!C:C,MATCH(B15,Picks!B:B,0))","v":7},{"$f":"INDEX(Picks!D:D,MATCH(B15,Picks!B:B,0))","v":2.375},{"$f":"+((E15-1)*G15)","v":0},0,null,null,null,null,{"$f":"SUM(G13:G15)","v":2},{"$f":"SUM(L12:S12)-7","v":-0.80000000000000071},null,{"$f":"$M$3+M15","v":-5.0012820512820522},null,null,null,null,null,null,"Mo Sudell","Sheff U"]
[null,null,null,null,null,null,null,null,null,null,null,null,null,null,null,null,null,null,null,null,null,"Paul Fiddler","Spurs"]
[null,null,null,"`",null,null,null,null,null,null,null,null,null,null,null,null,null,null,null,null,null,"Paul Fiddler","Sunderland"]
[null,null,"Prediction","Odds -","Odds - ","Odds - ","Prediction",null,null,null,null,"Single 1","Single 2",null,"Single 3","Double 1","Double 2","Double 3","Treble",null,null,"Paul Fiddler","Sheff U"]
[null,null,"Correct?","Fraction","decimal","decimal","Correct",null,{"$f":"F20","v":0},{"$f":"F21","v":1},{"$f":"F22","v":1.375},{"$f":"IF(I19=0,0,1)+I19","v":0},{"$f":"IF(J19=0,0,1)+J19","v":2},null,{"$f":"IF(K19=0,0,1)+K19","v":2.375},{"$f":"IF(J19=0,0,(L19*J19)+L19)","v":0},{"$f":"IF(K19=0,0,(M19*K19)+M19)","v":4.75},{"$f":"IF(I19=0,0,(O19*I19)+O19)","v":0},{"$f":"IF(K19=0,0,(P19*K19)+P19)","v":0}]
[null,{"$f":"game1","v":"Spurs"},"x",{"$f":"INDEX(Picks!C:C,MATCH(B20,Picks!B:B,0))","v":1},{"$f":"INDEX(Picks!D:D,MATCH(B20,Picks!B:B,0))","v":1.4},{"$f":"+((E20-1)*G20)","v":0},0]
[null,{"$f":"game2","v":"Sunderland"},"√",{"$f":"INDEX(Picks!C:C,MATCH(B21,Picks!B:B,0))","v":7},{"$f":"INDEX(Picks!D:D,MATCH(B21,Picks!B:B,0))","v":2},{"$f":"+((E21-1)*G21)","v":1},1,null,null,null,null,"Correct","Score",null,"Final"]
[null,{"$f":"game3","v":"Sheff U"},"√",{"$f":"INDEX(Picks!C:C,MATCH(B22,Picks!B:B,0))","v":7},{"$f":"INDEX(Picks!D:D,MATCH(B22,Picks!B:B,0))","v":2.375},{"$f":"+((E22-1)*G22)","v":1.375},1,null,null,null,null,{"$f":"SUM(G20:G22)","v":2},{"$f":"SUM(L19:S19)-7","v":2.125},null,{"$f":"$M$3+M22","v":-2.0762820512820515}]
[]
[]
[null,null,"Prediction","Odds -","Odds - ","Odds - ","Prediction",null,null,null,null,"Single 1","Single 2",null,"Single 3","Double 1","Double 2","Double 3","Treble"]
[null,null,"Correct?","Fraction","decimal","decimal","Correct",null,{"$f":"F27","v":0.39999999999999991},{"$f":"F28","v":0},{"$f":"F29","v":1.375},{"$f":"IF(I26=0,0,1)+I26","v":1.4},{"$f":"IF(J26=0,0,1)+J26","v":0},null,{"$f":"IF(K26=0,0,1)+K26","v":2.375},{"$f":"IF(J26=0,0,(L26*J26)+L26)","v":0},{"$f":"IF(K26=0,0,(M26*K26)+M26)","v":0},{"$f":"IF(I26=0,0,(O26*I26)+O26)","v":3.3249999999999997},{"$f":"IF(K26=0,0,(P26*K26)+P26)","v":0}]
[null,{"$f":"game1","v":"Spurs"},"√",{"$f":"INDEX(Picks!C:C,MATCH(B27,Picks!B:B,0))","v":1},{"$f":"INDEX(Picks!D:D,MATCH(B27,Picks!B:B,0))","v":1.4},{"$f":"+((E27-1)*G27)","v":0.39999999999999991},1]
[null,{"$f":"game2","v":"Sunderland"},"x",{"$f":"INDEX(Picks!C:C,MATCH(B28,Picks!B:B,0))","v":7},{"$f":"INDEX(Picks!D:D,MATCH(B28,Picks!B:B,0))","v":2},{"$f":"+((E28-1)*G28)","v":0},0,null,null,null,null,"Correct","Score",null,"Final"]
[null,{"$f":"game3","v":"Sheff U"},"√",{"$f":"INDEX(Picks!C:C,MATCH(B29,Picks!B:B,0))","v":7},{"$f":"INDEX(Picks!D:D,MATCH(B29,Picks!B:B,0))","v":2.375},{"$f":"+((E29-1)*G29)","v":1.375},1,null,null,null,null,{"$f":"SUM(G27:G29)","v":2},{"$f":"SUM(L26:S26)-7","v":9.9999999999999645E-2},null,{"$f":"$M$3+M29","v":-4.1012820512820518}]
[]
[]
[null,null,"Prediction","Odds -","Odds - ","Odds - ","Prediction",null,null,null,null,"Single 1","Single 2",null,"Single 3","Double 1","Double 2","Double 3","Treble"]
[null,null,"Correct?","Fraction","decimal","decimal","Correct",null,{"$f":"F34","v":0.39999999999999991},{"$f":"F35","v":0},{"$f":"F36","v":0},{"$f":"IF(I33=0,0,1)+I33","v":1.4},{"$f":"IF(J33=0,0,1)+J33","v":0},null,{"$f":"IF(K33=0,0,1)+K33","v":0},{"$f":"IF(J33=0,0,(L33*J33)+L33)","v":0},{"$f":"IF(K33=0,0,(M33*K33)+M33)","v":0},{"$f":"IF(I33=0,0,(O33*I33)+O33)","v":0},{"$f":"IF(K33=0,0,(P33*K33)+P33)","v":0}]
[null,{"$f":"game1","v":"Spurs"},"√",{"$f":"INDEX(Picks!C:C,MATCH(B34,Picks!B:B,0))","v":1},{"$f":"INDEX(Picks!D:D,MATCH(B34,Picks!B:B,0))","v":1.4},{"$f":"+((E34-1)*G34)","v":0.39999999999999991},1]
[null,{"$f":"game2","v":"Sunderland"},"x",{"$f":"INDEX(Picks!C:C,MATCH(B35,Picks!B:B,0))","v":7},{"$f":"INDEX(Picks!D:D,MATCH(B35,Picks!B:B,0))","v":2},{"$f":"+((E35-1)*G35)","v":0},0,null,null,null,null,"Correct","Score",null,"Final"]
[null,{"$f":"game3","v":"Sheff U"},"x",{"$f":"INDEX(Picks!C:C,MATCH(B36,Picks!B:B,0))","v":7},{"$f":"INDEX(Picks!D:D,MATCH(B36,Picks!B:B,0))","v":2.375},{"$f":"+((E36-1)*G36)","v":0},0,null,null,null,null,{"$f":"SUM(G34:G36)","v":1},{"$f":"SUM(L33:S33)-7","v":-5.6},null,{"$f":"$M$3+M36","v":-9.8012820512820511}]
[]
[]
[null,null,"Prediction","Odds -","Odds - ","Odds - ","Prediction",null,null,null,null,"Single 1","Single 2",null,"Single 3","Double 1","Double 2","Double 3","Treble"]
[null,null,"Correct?","Fraction","decimal","decimal","Correct",null,{"$f":"F41","v":0},{"$f":"F42","v":1},{"$f":"F43","v":0},{"$f":"IF(I40=0,0,1)+I40","v":0},{"$f":"IF(J40=0,0,1)+J40","v":2},null,{"$f":"IF(K40=0,0,1)+K40","v":0},{"$f":"IF(J40=0,0,(L40*J40)+L40)","v":0},{"$f":"IF(K40=0,0,(M40*K40)+M40)","v":0},{"$f":"IF(I40=0,0,(O40*I40)+O40)","v":0},{"$f":"IF(K40=0,0,(P40*K40)+P40)","v":0}]
[null,{"$f":"game1","v":"Spurs"},"x",{"$f":"INDEX(Picks!C:C,MATCH(B41,Picks!B:B,0))","v":1},{"$f":"INDEX(Picks!D:D,MATCH(B41,Picks!B:B,0))","v":1.4},{"$f":"+((E41-1)*G41)","v":0},0]
[null,{"$f":"game2","v":"Sunderland"},"√",{"$f":"INDEX(Picks!C:C,MATCH(B42,Picks!B:B,0))","v":7},{"$f":"INDEX(Picks!D:D,MATCH(B42,Picks!B:B,0))","v":2},{"$f":"+((E42-1)*G42)","v":1},1,null,null,null,null,"Correct","Score",null,"Final"]
[null,{"$f":"game3","v":"Sheff U"},"x",{"$f":"INDEX(Picks!C:C,MATCH(B43,Picks!B:B,0))","v":7},{"$f":"INDEX(Picks!D:D,MATCH(B43,Picks!B:B,0))","v":2.375},{"$f":"+((E43-1)*G43)","v":0},0,null,null,null,null,{"$f":"SUM(G41:G43)","v":1},{"$f":"SUM(L40:S40)-7","v":-5},null,{"$f":"$M$3+M43","v":-9.2012820512820515}]
[]
[]
[null,null,"Prediction","Odds -","Odds - ","Odds - ","Prediction",null,null,null,null,"Single 1","Single 2",null,"Single 3","Double 1","Double 2","Double 3","Treble"]
[null,null,"Correct?","Fraction","decimal","decimal","Correct",null,{"$f":"F48","v":0},{"$f":"F49","v":0},{"$f":"F50","v":1.375},{"$f":"IF(I47=0,0,1)+I47","v":0},{"$f":"IF(J47=0,0,1)+J47","v":0},null,{"$f":"IF(K47=0,0,1)+K47","v":2.375},{"$f":"IF(J47=0,0,(L47*J47)+L47)","v":0},{"$f":"IF(K47=0,0,(M47*K47)+M47)","v":0},{"$f":"IF(I47=0,0,(O47*I47)+O47)","v":0},{"$f":"IF(K47=0,0,(P47*K47)+P47)","v":0}]
[null,{"$f":"game1","v":"Spurs"},"x",{"$f":"INDEX(Picks!C:C,MATCH(B48,Picks!B:B,0))","v":1},{"$f":"INDEX(Picks!D:D,MATCH(B48,Picks!B:B,0))","v":1.4},{"$f":"+((E48-1)*G48)","v":0},0]
[null,{"$f":"game2","v":"Sunderland"},"x",{"$f":"INDEX(Picks!C:C,MATCH(B49,Picks!B:B,0))","v":7},{"$f":"INDEX(Picks!D:D,MATCH(B49,Picks!B:B,0))","v":2},{"$f":"+((E49-1)*G49)","v":0},0,null,null,null,null,"Correct","Score",null,"Final"]
[null,{"$f":"game3","v":"Sheff U"},"√",{"$f":"INDEX(Picks!C:C,MATCH(B50,Picks!B:B,0))","v":7},{"$f":"INDEX(Picks!D:D,MATCH(B50,Picks!B:B,0))","v":2.375},{"$f":"+((E50-1)*G50)","v":1.375},1,null,null,null,null,{"$f":"SUM(G48:G50)","v":1},{"$f":"SUM(L47:S47)-7","v":-4.625},null,{"$f":"$M$3+M50","v":-8.8262820512820515}]

{"sheet":"FAQ","index":21,"n_rows":76,"n_cols":2,"rows_kept":76,"cut":false,"hidden":false,"merged":[]}
["Menu!A1"]
[null,"So, what is the 3in! Prediction League? Basically, each player in the league chooses just three matches from the weekend’s fixture list and predicts whether they will be a home win, an away win or a draw. You score points based on how correct your three predictions turn out to be and the match odds published by William Hills."]
[]
[null,"How does the scoring actually work? Your three predictions are entered as a Patent bet, which means you get three singles, three doubles, and a treble. So, you have seven bets in total.  (If you went into a bookies and placed a £1 patent bet it would cost you £7, £1 for each bet). What you would stake and win with a real bookie with this bet, we convert to virtual money, or points, in the Prediction League."]
[]
[null,"Then what? Basically, you total the decimal odds of all your winning bets and that becomes your points score for the week. The more of your three predictions you get right, the higher your win will be and so will your score. Also, if you pick matches with higher odds and predict the correct result, you will score more points."]
[]
[null,"Hmmm, I’m still not really getting it! Right, here’s an example below. The fractional odds are converted to decimal – for example, the 9/4 for a Bristol City draw becomes 2.25 to which you add your virtual £1 stake, so 3.25. Do the same with the other two bets to calculate the three single bet values. The bookie calculates the odds for the three doubles and the treble but I am not sufficiently geeky to know how they do that."]
[]
[null,"The table below shows what you would score if you predicted all three matches correctly; add up the 7 bet scores – 59.99 – and subtract the £7 stake to arrive at 52.99."]
[]
[]
[]
[]
[]
[]
[]
[]
[null,"Here’s what happens if you get the Bristol City prediction wrong…"]
[]
[]
[]
[]
[]
[]
[]
[]
[null,"… and if you get you only get the Sunderland one right, your score gets even lower, into negative numbers…"]
[]
[]
[]
[]
[]
[]
[]
[]
[null,"… and if, like me in most weeks, you get all three wrong, then you score a big fat -7.00… "]
[]
[]
[]
[]
[]
[]
[]
[]
[null,"OK, got it. So, when does it start and how long does it last? The 3in! season lasts for 20 weeks.  We have two PL seasons in one regular football season, one before Christmas and one after. The weekly schedule is published on the website."]
[]
[null,"Which fixtures can I choose from? Each week you will receive an email listing the fixture list. This will normally be the fixtures from the top four English leagues played on Friday, Saturday and Sunday. Sometimes, there list may also include international matches or FA Cup matches. There will be between 40 and 46 matches to choose from."]
[]
[null,"How do I submit predictions? If you are predicting a win, I just need the team name exactly as it appears in the fixture list. If you are predicting a draw, I just need the home team name exactly as it appears in the fixture list plus the word “draw”. In fact, just as you can see in the examples above, with each of the three predictions on a separate line."]
[]
[null,"Why do you need the team name to be exactly as it appears in the fixture list? Because, it helps me to cut and paste them directly into my system and if you give me anything different I have to start typing things manually. With almost 100 sets of predictions to deal with each week, that becomes a pain in the arse. So, just do it right, please! Do not get creative with the names of the teams or the format of the predictions submission.  If it says “Tottenham” that’s what I want to see – not “Tottenham Hotspur” or “Spurs” or “Tott’ham” or “Tottenham H”. Just plain old “Tottenham” please."]
[]
[null,"Can I send them via text instead? Only in an emergency, please don’t make a habit of it! There is more chance of me not missing your entry if you reply to the original email fixtures list.  If you lose the email, the fixtures are always on the Next Odds page of the website."]
[]
[null,"Is there a deadline by which I have to submit each week? No, not specifically. You have up until a match kicks off to predict its result so you could miss all of Saturday’s main fixture list and rely on the Sunday games. You just have to hope that there are at least three games on the Sunday or your chances of scoring big are reduced accordingly."]
[]
[null,"What if a cup game goes to extra time and penalties? Bookies odds are generally based on the score at 90 minutes so we go with that."]
[]
[null,"What if a game is postponed? If one or more of your three selections is postponed then your Patent bet permutations are again reduced accordingly. Again, I don’t pretend to understand exactly how the bookies calculate this but I have a formula that does it for me. Basically it means that your maximum win or loss will be reduced. If all three of your selections are postponed, you should give serious consideration to packing it all in."]
[]
[null,"Can I change my predictions after I have submitted them? It’s a brave man (or woman) that does so but yes, provided the new matches you select haven’t yet kicked off you can change your mind. I will always take your latest submission – you’ll be amazed how many people send in three pcks, completely forget that have done so and the send in three completey different new ones. I never ask questions, I just take your most recent predictions in good faith."]
[]
[null,"Will I receive a confirmation that you have received my predictions? Definitely not! With 90 sets of predictions to process I don’t have the time. But, if you reply to the official fixture list email and you don’t receive a failure, you can safely assume I have got it."]
[]
[null,"Will you send me a reminder if I haven’t sent you any predictions? Er, what do you think? No, I won’t. You’re a grown adult, sort your life out."]
[]
[null,"How much does it cost to enter? It’s £1 per week, so £20 for the season. Then we start again in January if you’re still with us."]
[]
[null,"How much can I win? There are weekly prizes of £25 to the highest four score of the week – £10 to the highest scorer and three times £5 to the next three highest. The top 25 players at the end of the 20 weeks share the rest of the fund between them. 100% of entry fees are re-distributed as prizes. The breakdown of the prize fund is listed on the Diary page of the website."]
[]
[null,"Do I have to pay my £20 before I can join? No. You will start £20 in debt and, at the end of the year, we will nett off any prizes and collect/pay out the balance. Except if you are brand new to the League in which case we ask you to pay your £20 by Week 3 of your first season. As a gesture of goodwill, more than anything else."]
[]
[null,"How can I find out how I am doing as the season progresses? Update tables and stats are published on a weekly basis on the News section of the website and you will receive an email notifying you when the updates have been made."]
[]
[null,"Can I change the email address you send the updates to? Yes, you can unsubscribe your existing email address or add a new one here."]