Workbook
Name all_scores: Weekly!#REF!
Name all_scores: Weekly!#REF!
Name choices: Odds!$G$2:$G$140
Name CurrentSeason: Images!$C$1
Name CurrentWeek: Images!$C$2
Name entrants: Prizelist!$B$1
Name game1: Perms!$B$6
Name game2: Perms!$B$7
Name game3: Perms!$B$8
Name groups: #REF!
Name Inactive: Table!$T$1
Name nonentrants: Prizelist!$B$22
Name placefund: Prizelist!#REF!
Name positionpot: Prizelist!#REF!
Name pot: Prizes!$I$1
Name PotA: Prizes!$I$2
Name PotB: Prizes!$I$3
Name PotC: Prizes!$I$4
Name PotD: Prizes!$I$5
Name SeasonTitle: Images!$D$1
Name TableWeeklyActual: Table!$R$54
Name TableWeeklyMax: Table!$Q$54
Name thisweekscore: Weekly!$H$2:$H$51
Name TopMaxScores: Picks!$AM$2:$AM$51
Name TopScores: Picks!$AH$2:$AH$51
Name totalscores: Weekly!$F$2:$F$51
Name twentysixth: Prizelist!#REF!

Sheet Home
B1: Click the top left cell in any tab to return Home
B2: Weekly Reports | C2: Useful Info | D2: Admin (Weekly) | E2: Admin (Other)
B3: League Table | C3: Pics for Publication | D3: Add Matches | E3: Calculations
B4: Weekly Results | C4: Prizes - Summary | D4: Add Predictions | E4: Entrants
B5: Cup Draw | C5: Prizes - Divisional Splits | D5: Add Predictions (double-week) | E5: Last Season Places
B6: Season Diary | C6: FAQ | D6: 1-2-3 Pivot | E6: Brought Forward
B7: Current Week Fixtures | C7: Sample Bets | D7: Top Picks | E7: End of Season Finance
B8: Current Week Predictions | D8: Cup Draw Raw | E8: Mini Leagues

Sheet Players
A1: Players | B1: Div
A2: Alan Bond | B2: C | D2: Row Labels | E2: Count of Players
A3: Alan Rogers | B3: A | D3: A | E3: 16
A4: Alan White | B4: A | D4: B | E4: 16
A5: Alex Griffin | B5: C | D5: C | E5: 18
A6: Alick Rocca | B6: C | D6: (blank)
A7: Andy White | B7: C | D7: Grand Total | E7: 50
A8: Barry Birchall | B8: A
A9: Ben Rosser | B9: B
A10: Bob Bailey | B10: C
A11: Charlie Griffiths | B11: C
A12: Chris Bow | B12: C
A13: Chris Griffin | B13: B
A14: Chris Luck | B14: B
A15: Dan Gibbard | B15: C
A16: Dave Bell | B16: B
A17: David Dunn | B17: C
A18: Dot Bow | B18: C
A19: Frank Allen | B19: B
... A51: Vinny Topping | B51: B

Sheet Weekly
A1: Rank Seas | B1: Rank Wk | C1: Pos L/W | D1: Div | E1: Player | F1: Season Score | G1: Season Correct | H1: Week Score | I1: Week ? of 3 | J1: Weekly Prizes | K1: Cup Prize | L1: League Place Prize | M1: Total Prize | N1: W1 | O1: W1Q | P1: W1P | Q1: W2 | R1: W2Q | S1: W2P | T1: W3 | U1: W3Q | V1: W3P | W1: W4 | X1: W4Q | Y1: W4P | Z1: W5 | AA1: W5Q | AB1: W5P | AC1: W6 | AD1: W6Q | AE1: W6P | AF1: W7 | AG1: W7Q | AH1: W7P | AI1: W8 | AJ1: W8Q | AK1: W8P | AL1: W9 | AM1: W9Q | AN1: W9P | AO1: W10 | AP1: W10Q | AQ1: W10P | AR1: W11 | AS1: W11Q | AT1: W11P | AU1: W12 | AV1: W12Q | AW1: W12P | AX1: W13 | AY1: W13Q | AZ1: W13P | BA1: W14 | BB1: W14Q | BC1: W14P | BD1: W15 | BE1: W15Q | BF1: W15P | BG1: W16 | BH1: W16Q | BI1: W16P | BJ1: W17 | BK1: W17Q | BL1: W17P | BM1: W18 | BN1: W18Q | BO1: W18P | BP1: W19 | BQ1: W19Q | BR1: W19P | BS1: W20 | BT1: W20Q | BU1: W20P | BV1: Seas | BW1: SeasQ | BX1: SeasP
A2: =_xlfn.RANK.EQ(F2,totalscores,0) -> 15 | B2: =_xlfn.RANK.EQ(H2,thisweekscore,0) -> 19 | D2: =INDEX(Table!E:E,MATCH(E2,Table!F:F,0)) -> C | E2: Alan Bond | F2: =+N2+Q2+T2+W2+Z2+AC2+AF2+AI2+AL2+AO2+AR2+AU2+AX2+BA2+BD2+BG2+BJ2+BM2+BP2+BS2 -> -10.73 | G2: =+O2+R2+U2+X2+AA2+AD2+AG2+AJ2+AM2+AP2+AS2+AV2+AY2+BB2+BE2+BH2+BK2+BN2+BQ2+BT2 -> 6 | H2: -3.9 | I2: 1 | J2: =P2+S2+V2+Y2+AB2+AE2+AH2+AK2+AN2+AQ2+AT2+AW2+AZ2+BC2+BF2+BI2+BL2+BO2+BR2+BU2 -> 5 | L2: =INDEX(Table!M:M,MATCH(E2,Table!F:F,0)) -> 2.025 | M2: =K2+J2+L2 -> 7.025 | N2: -3.7 | O2: 1 | Q2: -7 | R2: 0 | T2: -3.7 | U2: 1 | W2: -3.7 | X2: 1 | Z2: 11.27 | AA2: 2 | AB2: 5 | AC2: -3.9 | AD2: 1 | BV2: =BS2+BP2+BM2+BJ2+BG2+BD2+BA2+AX2+AU2+AR2+AO2+AL2+AI2+AF2+AC2+Z2+W2+T2+Q2+N2 -> -10.73 | BW2: =BT2+BQ2+BN2+BK2+BH2+BE2+BB2+AY2+AV2+AS2+AP2+AM2+AJ2+AG2+AD2+AA2+X2+U2+R2+O2 -> 6 | BX2: =BU2+BR2+BO2+BL2+BI2+BF2+BC2+AZ2+AW2+AT2+AQ2+AN2+AK2+AH2+AE2+AB2+Y2+V2+S2+P2 -> 5
A3: =_xlfn.RANK.EQ(F3,totalscores,0) -> 19 | B3: =_xlfn.RANK.EQ(H3,thisweekscore,0) -> 6 | D3: =INDEX(Table!E:E,MATCH(E3,Table!F:F,0)) -> A | E3: Alan Rogers | F3: =+N3+Q3+T3+W3+Z3+AC3+AF3+AI3+AL3+AO3+AR3+AU3+AX3+BA3+BD3+BG3+BJ3+BM3+BP3+BS3 -> -14.09 | G3: =+O3+R3+U3+X3+AA3+AD3+AG3+AJ3+AM3+AP3+AS3+AV3+AY3+BB3+BE3+BH3+BK3+BN3+BQ3+BT3 -> 6 | H3: 9.16 | I3: 2 | J3: =P3+S3+V3+Y3+AB3+AE3+AH3+AK3+AN3+AQ3+AT3+AW3+AZ3+BC3+BF3+BI3+BL3+BO3+BR3+BU3 -> 0 | L3: =INDEX(Table!M:M,MATCH(E3,Table!F:F,0)) -> 6.75 | M3: =K3+J3+L3 -> 6.75 | N3: -7 | O3: 0 | Q3: -4.7 | R3: 1 | T3: -3.7 | U3: 1 | W3: -4.25 | X3: 1 | Z3: -3.6 | AA3: 1 | AC3: 9.16 | AD3: 2 | BV3: =BS3+BP3+BM3+BJ3+BG3+BD3+BA3+AX3+AU3+AR3+AO3+AL3+AI3+AF3+AC3+Z3+W3+T3+Q3+N3 -> -14.09 | BW3: =BT3+BQ3+BN3+BK3+BH3+BE3+BB3+AY3+AV3+AS3+AP3+AM3+AJ3+AG3+AD3+AA3+X3+U3+R3+O3 -> 6 | BX3: =BU3+BR3+BO3+BL3+BI3+BF3+BC3+AZ3+AW3+AT3+AQ3+AN3+AK3+AH3+AE3+AB3+Y3+V3+S3+P3 -> 0
A4: =_xlfn.RANK.EQ(F4,totalscores,0) -> 44 | B4: =_xlfn.RANK.EQ(H4,thisweekscore,0) -> 35 | D4: =INDEX(Table!E:E,MATCH(E4,Table!F:F,0)) -> A | E4: Alan White | F4: =+N4+Q4+T4+W4+Z4+AC4+AF4+AI4+AL4+AO4+AR4+AU4+AX4+BA4+BD4+BG4+BJ4+BM4+BP4+BS4 -> -29.356364 | G4: =+O4+R4+U4+X4+AA4+AD4+AG4+AJ4+AM4+AP4+AS4+AV4+AY4+BB4+BE4+BH4+BK4+BN4+BQ4+BT4 -> 4 | H4: -5.6363636 | I4: 1 | J4: =P4+S4+V4+Y4+AB4+AE4+AH4+AK4+AN4+AQ4+AT4+AW4+AZ4+BC4+BF4+BI4+BL4+BO4+BR4+BU4 -> 0 | L4: =INDEX(Table!M:M,MATCH(E4,Table!F:F,0)) -> 0 | M4: =K4+J4+L4 -> 0 | N4: 2.08 | O4: 2 | Q4: -4.8 | R4: 1 | T4: -7 | U4: 0 | W4: -7 | X4: 0 | Z4: -7 | AA4: 0 | AC4: -5.6363636 | AD4: 1 | BV4: =BS4+BP4+BM4+BJ4+BG4+BD4+BA4+AX4+AU4+AR4+AO4+AL4+AI4+AF4+AC4+Z4+W4+T4+Q4+N4 -> -29.356364 | BW4: =BT4+BQ4+BN4+BK4+BH4+BE4+BB4+AY4+AV4+AS4+AP4+AM4+AJ4+AG4+AD4+AA4+X4+U4+R4+O4 -> 4 | BX4: =BU4+BR4+BO4+BL4+BI4+BF4+BC4+AZ4+AW4+AT4+AQ4+AN4+AK4+AH4+AE4+AB4+Y4+V4+S4+P4 -> 0
A5: =_xlfn.RANK.EQ(F5,totalscores,0) -> 12 | B5: =_xlfn.RANK.EQ(H5,thisweekscore,0) -> 23 | D5: =INDEX(Table!E:E,MATCH(E5,Table!F:F,0)) -> C | E5: Alex Griffin | F5: =+N5+Q5+T5+W5+Z5+AC5+AF5+AI5+AL5+AO5+AR5+AU5+AX5+BA5+BD5+BG5+BJ5+BM5+BP5+BS5 -> -9.3671901 | G5: =+O5+R5+U5+X5+AA5+AD5+AG5+AJ5+AM5+AP5+AS5+AV5+AY5+BB5+BE5+BH5+BK5+BN5+BQ5+BT5 -> 8 | H5: -4.8 | I5: 1 | J5: =P5+S5+V5+Y5+AB5+AE5+AH5+AK5+AN5+AQ5+AT5+AW5+AZ5+BC5+BF5+BI5+BL5+BO5+BR5+BU5 -> 0 | L5: =INDEX(Table!M:M,MATCH(E5,Table!F:F,0)) -> 4.725 | M5: =K5+J5+L5 -> 4.725 | N5: 2.71 | O5: 2 | Q5: 0.46280992 | R5: 2 | T5: -4.95 | U5: 1 | W5: -7 | X5: 0 | Z5: 4.21 | AA5: 2 | AC5: -4.8 | AD5: 1 | BV5: =BS5+BP5+BM5+BJ5+BG5+BD5+BA5+AX5+AU5+AR5+AO5+AL5+AI5+AF5+AC5+Z5+W5+T5+Q5+N5 -> -9.3671901 | BW5: =BT5+BQ5+BN5+BK5+BH5+BE5+BB5+AY5+AV5+AS5+AP5+AM5+AJ5+AG5+AD5+AA5+X5+U5+R5+O5 -> 8 | BX5: =BU5+BR5+BO5+BL5+BI5+BF5+BC5+AZ5+AW5+AT5+AQ5+AN5+AK5+AH5+AE5+AB5+Y5+V5+S5+P5 -> 0
A6: =_xlfn.RANK.EQ(F6,totalscores,0) -> 9 | B6: =_xlfn.RANK.EQ(H6,thisweekscore,0) -> 4 | D6: =INDEX(Table!E:E,MATCH(E6,Table!F:F,0)) -> C | E6: Alick Rocca | F6: =+N6+Q6+T6+W6+Z6+AC6+AF6+AI6+AL6+AO6+AR6+AU6+AX6+BA6+BD6+BG6+BJ6+BM6+BP6+BS6 -> -4.825 | G6: =+O6+R6+U6+X6+AA6+AD6+AG6+AJ6+AM6+AP6+AS6+AV6+AY6+BB6+BE6+BH6+BK6+BN6+BQ6+BT6 -> 5 | H6: 9.6 | I6: 2 | J6: =P6+S6+V6+Y6+AB6+AE6+AH6+AK6+AN6+AQ6+AT6+AW6+AZ6+BC6+BF6+BI6+BL6+BO6+BR6+BU6 -> 7.5 | L6: =INDEX(Table!M:M,MATCH(E6,Table!F:F,0)) -> 12.15 | M6: =K6+J6+L6 -> 19.65 | N6: -7 | O6: 0 | Q6: -3.7 | R6: 1 | T6: 10.275 | U6: 2 | V6: 5 | W6: -7 | X6: 0 | Z6: -7 | AA6: 0 | AC6: 9.6 | AD6: 2 | AE6: 2.5 | BV6: =BS6+BP6+BM6+BJ6+BG6+BD6+BA6+AX6+AU6+AR6+AO6+AL6+AI6+AF6+AC6+Z6+W6+T6+Q6+N6 -> -4.825 | BW6: =BT6+BQ6+BN6+BK6+BH6+BE6+BB6+AY6+AV6+AS6+AP6+AM6+AJ6+AG6+AD6+AA6+X6+U6+R6+O6 -> 5 | BX6: =BU6+BR6+BO6+BL6+BI6+BF6+BC6+AZ6+AW6+AT6+AQ6+AN6+AK6+AH6+AE6+AB6+Y6+V6+S6+P6 -> 7.5
A7: =_xlfn.RANK.EQ(F7,totalscores,0) -> 45 | B7: =_xlfn.RANK.EQ(H7,thisweekscore,0) -> 20 | D7: =INDEX(Table!E:E,MATCH(E7,Table!F:F,0)) -> C | E7: Andy White | F7: =+N7+Q7+T7+W7+Z7+AC7+AF7+AI7+AL7+AO7+AR7+AU7+AX7+BA7+BD7+BG7+BJ7+BM7+BP7+BS7 -> -31.590909 | G7: =+O7+R7+U7+X7+AA7+AD7+AG7+AJ7+AM7+AP7+AS7+AV7+AY7+BB7+BE7+BH7+BK7+BN7+BQ7+BT7 -> 4 | H7: -4.6 | I7: 1 | J7: =P7+S7+V7+Y7+AB7+AE7+AH7+AK7+AN7+AQ7+AT7+AW7+AZ7+BC7+BF7+BI7+BL7+BO7+BR7+BU7 -> 0 | L7: =INDEX(Table!M:M,MATCH(E7,Table!F:F,0)) -> 0 | M7: =K7+J7+L7 -> 0 | N7: -4.3 | O7: 1 | Q7: -5.0909091 | R7: 1 | T7: -7 | U7: 0 | W7: -3.6 | X7: 1 | Z7: -7 | AA7: 0 | AC7: -4.6 | AD7: 1 | BV7: =BS7+BP7+BM7+BJ7+BG7+BD7+BA7+AX7+AU7+AR7+AO7+AL7+AI7+AF7+AC7+Z7+W7+T7+Q7+N7 -> -31.590909 | BW7: =BT7+BQ7+BN7+BK7+BH7+BE7+BB7+AY7+AV7+AS7+AP7+AM7+AJ7+AG7+AD7+AA7+X7+U7+R7+O7 -> 4 | BX7: =BU7+BR7+BO7+BL7+BI7+BF7+BC7+AZ7+AW7+AT7+AQ7+AN7+AK7+AH7+AE7+AB7+Y7+V7+S7+P7 -> 0
A8: =_xlfn.RANK.EQ(F8,totalscores,0) -> 39 | B8: =_xlfn.RANK.EQ(H8,thisweekscore,0) -> 35 | D8: =INDEX(Table!E:E,MATCH(E8,Table!F:F,0)) -> A | E8: Barry Birchall | F8: =+N8+Q8+T8+W8+Z8+AC8+AF8+AI8+AL8+AO8+AR8+AU8+AX8+BA8+BD8+BG8+BJ8+BM8+BP8+BS8 -> -25.903182 | G8: =+O8+R8+U8+X8+AA8+AD8+AG8+AJ8+AM8+AP8+AS8+AV8+AY8+BB8+BE8+BH8+BK8+BN8+BQ8+BT8 -> 6 | H8: -5.6363636 | I8: 1 | J8: =P8+S8+V8+Y8+AB8+AE8+AH8+AK8+AN8+AQ8+AT8+AW8+AZ8+BC8+BF8+BI8+BL8+BO8+BR8+BU8 -> 0 | L8: =INDEX(Table!M:M,MATCH(E8,Table!F:F,0)) -> 0 | M8: =K8+J8+L8 -> 0 | N8: -7 | O8: 0 | Q8: -5.0909091 | R8: 1 | T8: -5.0909091 | U8: 1 | W8: -4.4 | X8: 1 | Z8: 1.315 | AA8: 2 | AC8: -5.6363636 | AD8: 1 | BV8: =BS8+BP8+BM8+BJ8+BG8+BD8+BA8+AX8+AU8+AR8+AO8+AL8+AI8+AF8+AC8+Z8+W8+T8+Q8+N8 -> -25.903182 | BW8: =BT8+BQ8+BN8+BK8+BH8+BE8+BB8+AY8+AV8+AS8+AP8+AM8+AJ8+AG8+AD8+AA8+X8+U8+R8+O8 -> 6 | BX8: =BU8+BR8+BO8+BL8+BI8+BF8+BC8+AZ8+AW8+AT8+AQ8+AN8+AK8+AH8+AE8+AB8+Y8+V8+S8+P8 -> 0
A9: =_xlfn.RANK.EQ(F9,totalscores,0) -> 22 | B9: =_xlfn.RANK.EQ(H9,thisweekscore,0) -> 8 | D9: =INDEX(Table!E:E,MATCH(E9,Table!F:F,0)) -> B | E9: Ben Rosser | F9: =+N9+Q9+T9+W9+Z9+AC9+AF9+AI9+AL9+AO9+AR9+AU9+AX9+BA9+BD9+BG9+BJ9+BM9+BP9+BS9 -> -15.61 | G9: =+O9+R9+U9+X9+AA9+AD9+AG9+AJ9+AM9+AP9+AS9+AV9+AY9+BB9+BE9+BH9+BK9+BN9+BQ9+BT9 -> 5 | H9: 5.94 | I9: 2 | J9: =P9+S9+V9+Y9+AB9+AE9+AH9+AK9+AN9+AQ9+AT9+AW9+AZ9+BC9+BF9+BI9+BL9+BO9+BR9+BU9 -> 0 | L9: =INDEX(Table!M:M,MATCH(E9,Table!F:F,0)) -> 0 | M9: =K9+J9+L9 -> 0 | N9: 3.05 | O9: 2 | Q9: -7 | R9: 0 | T9: -7 | U9: 0 | W9: -3.6 | X9: 1 | Z9: -7 | AA9: 0 | AC9: 5.94 | AD9: 2 | BV9: =BS9+BP9+BM9+BJ9+BG9+BD9+BA9+AX9+AU9+AR9+AO9+AL9+AI9+AF9+AC9+Z9+W9+T9+Q9+N9 -> -15.61 | BW9: =BT9+BQ9+BN9+BK9+BH9+BE9+BB9+AY9+AV9+AS9+AP9+AM9+AJ9+AG9+AD9+AA9+X9+U9+R9+O9 -> 5 | BX9: =BU9+BR9+BO9+BL9+BI9+BF9+BC9+AZ9+AW9+AT9+AQ9+AN9+AK9+AH9+AE9+AB9+Y9+V9+S9+P9 -> 0
A10: =_xlfn.RANK.EQ(F10,totalscores,0) -> 35 | B10: =_xlfn.RANK.EQ(H10,thisweekscore,0) -> 20 | D10: =INDEX(Table!E:E,MATCH(E10,Table!F:F,0)) -> C | E10: Bob Bailey | F10: =+N10+Q10+T10+W10+Z10+AC10+AF10+AI10+AL10+AO10+AR10+AU10+AX10+BA10+BD10+BG10+BJ10+BM10+BP10+BS10 -> -22.25 | G10: =+O10+R10+U10+X10+AA10+AD10+AG10+AJ10+AM10+AP10+AS10+AV10+AY10+BB10+BE10+BH10+BK10+BN10+BQ10+BT10 -> 7 | H10: -4.6 | I10: 1 | J10: =P10+S10+V10+Y10+AB10+AE10+AH10+AK10+AN10+AQ10+AT10+AW10+AZ10+BC10+BF10+BI10+BL10+BO10+BR10+BU10 -> 0 | L10: =INDEX(Table!M:M,MATCH(E10,Table!F:F,0)) -> 0 | M10: =K10+J10+L10 -> 0 | N10: 0.4 | O10: 2 | Q10: -3.7 | R10: 1 | T10: -3.7 | U10: 1 | W10: -5.4 | X10: 1 | Z10: -5.25 | AA10: 1 | AC10: -4.6 | AD10: 1 | BV10: =BS10+BP10+BM10+BJ10+BG10+BD10+BA10+AX10+AU10+AR10+AO10+AL10+AI10+AF10+AC10+Z10+W10+T10+Q10+N10 -> -22.25 | BW10: =BT10+BQ10+BN10+BK10+BH10+BE10+BB10+AY10+AV10+AS10+AP10+AM10+AJ10+AG10+AD10+AA10+X10+U10+R10+O10 -> 7 | BX10: =BU10+BR10+BO10+BL10+BI10+BF10+BC10+AZ10+AW10+AT10+AQ10+AN10+AK10+AH10+AE10+AB10+Y10+V10+S10+P10 -> 0
A11: =_xlfn.RANK.EQ(F11,totalscores,0) -> 37 | B11: =_xlfn.RANK.EQ(H11,thisweekscore,0) -> 40 | D11: =INDEX(Table!E:E,MATCH(E11,Table!F:F,0)) -> C | E11: Charlie Griffiths | F11: =+N11+Q11+T11+W11+Z11+AC11+AF11+AI11+AL11+AO11+AR11+AU11+AX11+BA11+BD11+BG11+BJ11+BM11+BP11+BS11 -> -25.735 | G11: =+O11+R11+U11+X11+AA11+AD11+AG11+AJ11+AM11+AP11+AS11+AV11+AY11+BB11+BE11+BH11+BK11+BN11+BQ11+BT11 -> 3 | H11: -7 | I11: 0 | J11: =P11+S11+V11+Y11+AB11+AE11+AH11+AK11+AN11+AQ11+AT11+AW11+AZ11+BC11+BF11+BI11+BL11+BO11+BR11+BU11 -> 0 | L11: =INDEX(Table!M:M,MATCH(E11,Table!F:F,0)) -> 0 | M11: =K11+J11+L11 -> 0 | N11: 0.5 | O11: 1 | Q11: -7 | R11: 0 | T11: 1.765 | U11: 2 | W11: -7 | X11: 0 | Z11: -7 | AA11: 0 | AC11: -7 | AD11: 0 | BV11: =BS11+BP11+BM11+BJ11+BG11+BD11+BA11+AX11+AU11+AR11+AO11+AL11+AI11+AF11+AC11+Z11+W11+T11+Q11+N11 -> -25.735 | BW11: =BT11+BQ11+BN11+BK11+BH11+BE11+BB11+AY11+AV11+AS11+AP11+AM11+AJ11+AG11+AD11+AA11+X11+U11+R11+O11 -> 3 | BX11: =BU11+BR11+BO11+BL11+BI11+BF11+BC11+AZ11+AW11+AT11+AQ11+AN11+AK11+AH11+AE11+AB11+Y11+V11+S11+P11 -> 0
A12: =_xlfn.RANK.EQ(F12,totalscores,0) -> 41 | B12: =_xlfn.RANK.EQ(H12,thisweekscore,0) -> 27 | D12: =INDEX(Table!E:E,MATCH(E12,Table!F:F,0)) -> C | E12: Chris Bow | F12: =+N12+Q12+T12+W12+Z12+AC12+AF12+AI12+AL12+AO12+AR12+AU12+AX12+BA12+BD12+BG12+BJ12+BM12+BP12+BS12 -> -27.1875 | G12: =+O12+R12+U12+X12+AA12+AD12+AG12+AJ12+AM12+AP12+AS12+AV12+AY12+BB12+BE12+BH12+BK12+BN12+BQ12+BT12 -> 5 | H12: -4.85 | I12: 1 | J12: =P12+S12+V12+Y12+AB12+AE12+AH12+AK12+AN12+AQ12+AT12+AW12+AZ12+BC12+BF12+BI12+BL12+BO12+BR12+BU12 -> 0 | L12: =INDEX(Table!M:M,MATCH(E12,Table!F:F,0)) -> 0 | M12: =K12+J12+L12 -> 0 | N12: -4.8 | O12: 1 | Q12: -7 | R12: 0 | T12: -7 | U12: 0 | W12: 0.6625 | X12: 2 | Z12: -4.2 | AA12: 1 | AC12: -4.85 | AD12: 1 | BV12: =BS12+BP12+BM12+BJ12+BG12+BD12+BA12+AX12+AU12+AR12+AO12+AL12+AI12+AF12+AC12+Z12+W12+T12+Q12+N12 -> -27.1875 | BW12: =BT12+BQ12+BN12+BK12+BH12+BE12+BB12+AY12+AV12+AS12+AP12+AM12+AJ12+AG12+AD12+AA12+X12+U12+R12+O12 -> 5 | BX12: =BU12+BR12+BO12+BL12+BI12+BF12+BC12+AZ12+AW12+AT12+AQ12+AN12+AK12+AH12+AE12+AB12+Y12+V12+S12+P12 -> 0
A13: =_xlfn.RANK.EQ(F13,totalscores,0) -> 49 | B13: =_xlfn.RANK.EQ(H13,thisweekscore,0) -> 40 | D13: =INDEX(Table!E:E,MATCH(E13,Table!F:F,0)) -> B | E13: Chris Griffin | F13: =+N13+Q13+T13+W13+Z13+AC13+AF13+AI13+AL13+AO13+AR13+AU13+AX13+BA13+BD13+BG13+BJ13+BM13+BP13+BS13 -> -36.518182 | G13: =+O13+R13+U13+X13+AA13+AD13+AG13+AJ13+AM13+AP13+AS13+AV13+AY13+BB13+BE13+BH13+BK13+BN13+BQ13+BT13 -> 3 | H13: -7 | I13: 0 | J13: =P13+S13+V13+Y13+AB13+AE13+AH13+AK13+AN13+AQ13+AT13+AW13+AZ13+BC13+BF13+BI13+BL13+BO13+BR13+BU13 -> 0 | L13: =INDEX(Table!M:M,MATCH(E13,Table!F:F,0)) -> 0 | M13: =K13+J13+L13 -> 0 | N13: -5.8181818 | O13: 1 | Q13: -4.8 | R13: 1 | T13: -7 | U13: 0 | W13: -4.9 | X13: 1 | Z13: -7 | AA13: 0 | AC13: -7 | AD13: 0 | BV13: =BS13+BP13+BM13+BJ13+BG13+BD13+BA13+AX13+AU13+AR13+AO13+AL13+AI13+AF13+AC13+Z13+W13+T13+Q13+N13 -> -36.518182 | BW13: =BT13+BQ13+BN13+BK13+BH13+BE13+BB13+AY13+AV13+AS13+AP13+AM13+AJ13+AG13+AD13+AA13+X13+U13+R13+O13 -> 3 | BX13: =BU13+BR13+BO13+BL13+BI13+BF13+BC13+AZ13+AW13+AT13+AQ13+AN13+AK13+AH13+AE13+AB13+Y13+V13+S13+P13 -> 0
A14: =_xlfn.RANK.EQ(F14,totalscores,0) -> 34 | B14: =_xlfn.RANK.EQ(H14,thisweekscore,0) -> 40 | D14: =INDEX(Table!E:E,MATCH(E14,Table!F:F,0)) -> B | E14: Chris Luck | F14: =+N14+Q14+T14+W14+Z14+AC14+AF14+AI14+AL14+AO14+AR14+AU14+AX14+BA14+BD14+BG14+BJ14+BM14+BP14+BS14 -> -20.5 | G14: =+O14+R14+U14+X14+AA14+AD14+AG14+AJ14+AM14+AP14+AS14+AV14+AY14+BB14+BE14+BH14+BK14+BN14+BQ14+BT14 -> 3 | H14: -7 | I14: 0 | J14: =P14+S14+V14+Y14+AB14+AE14+AH14+AK14+AN14+AQ14+AT14+AW14+AZ14+BC14+BF14+BI14+BL14+BO14+BR14+BU14 -> 5 | L14: =INDEX(Table!M:M,MATCH(E14,Table!F:F,0)) -> 0 | M14: =K14+J14+L14 -> 5 | N14: -7 | O14: 0 | Q14: 12 | R14: 2 | S14: 5 | T14: -4.5 | U14: 1 | W14: -7 | X14: 0 | Z14: -7 | AA14: 0 | AC14: -7 | AD14: 0 | BV14: =BS14+BP14+BM14+BJ14+BG14+BD14+BA14+AX14+AU14+AR14+AO14+AL14+AI14+AF14+AC14+Z14+W14+T14+Q14+N14 -> -20.5 | BW14: =BT14+BQ14+BN14+BK14+BH14+BE14+BB14+AY14+AV14+AS14+AP14+AM14+AJ14+AG14+AD14+AA14+X14+U14+R14+O14 -> 3 | BX14: =BU14+BR14+BO14+BL14+BI14+BF14+BC14+AZ14+AW14+AT14+AQ14+AN14+AK14+AH14+AE14+AB14+Y14+V14+S14+P14 -> 5
A15: =_xlfn.RANK.EQ(F15,totalscores,0) -> 42 | B15: =_xlfn.RANK.EQ(H15,thisweekscore,0) -> 15 | D15: =INDEX(Table!E:E,MATCH(E15,Table!F:F,0)) -> C | E15: Dan Gibbard | F15: =+N15+Q15+T15+W15+Z15+AC15+AF15+AI15+AL15+AO15+AR15+AU15+AX15+BA15+BD15+BG15+BJ15+BM15+BP15+BS15 -> -27.266538 | G15: =+O15+R15+U15+X15+AA15+AD15+AG15+AJ15+AM15+AP15+AS15+AV15+AY15+BB15+BE15+BH15+BK15+BN15+BQ15+BT15 -> 6 | H15: -1.4615385 | I15: 2 | J15: =P15+S15+V15+Y15+AB15+AE15+AH15+AK15+AN15+AQ15+AT15+AW15+AZ15+BC15+BF15+BI15+BL15+BO15+BR15+BU15 -> 0 | L15: =INDEX(Table!M:M,MATCH(E15,Table!F:F,0)) -> 0 | M15: =K15+J15+L15 -> 0 | N15: -7 | O15: 0 | Q15: -7 | R15: 0 | T15: -1.655 | U15: 2 | W15: -4.9 | X15: 1 | Z15: -5.25 | AA15: 1 | AC15: -1.4615385 | AD15: 2 | BV15: =BS15+BP15+BM15+BJ15+BG15+BD15+BA15+AX15+AU15+AR15+AO15+AL15+AI15+AF15+AC15+Z15+W15+T15+Q15+N15 -> -27.266538 | BW15: =BT15+BQ15+BN15+BK15+BH15+BE15+BB15+AY15+AV15+AS15+AP15+AM15+AJ15+AG15+AD15+AA15+X15+U15+R15+O15 -> 6 | BX15: =BU15+BR15+BO15+BL15+BI15+BF15+BC15+AZ15+AW15+AT15+AQ15+AN15+AK15+AH15+AE15+AB15+Y15+V15+S15+P15 -> 0
A16: =_xlfn.RANK.EQ(F16,totalscores,0) -> 30 | B16: =_xlfn.RANK.EQ(H16,thisweekscore,0) -> 7 | D16: =INDEX(Table!E:E,MATCH(E16,Table!F:F,0)) -> B | E16: Dave Bell | F16: =+N16+Q16+T16+W16+Z16+AC16+AF16+AI16+AL16+AO16+AR16+AU16+AX16+BA16+BD16+BG16+BJ16+BM16+BP16+BS16 -> -17.65 | G16: =+O16+R16+U16+X16+AA16+AD16+AG16+AJ16+AM16+AP16+AS16+AV16+AY16+BB16+BE16+BH16+BK16+BN16+BQ16+BT16 -> 4 | H16: 6.35 | I16: 2 | J16: =P16+S16+V16+Y16+AB16+AE16+AH16+AK16+AN16+AQ16+AT16+AW16+AZ16+BC16+BF16+BI16+BL16+BO16+BR16+BU16 -> 0 | L16: =INDEX(Table!M:M,MATCH(E16,Table!F:F,0)) -> 0 | M16: =K16+J16+L16 -> 0 | N16: 0.5 | O16: 1 | Q16: -7 | R16: 0 | T16: -7 | U16: 0 | W16: -7 | X16: 0 | Z16: -3.5 | AA16: 1 | AC16: 6.35 | AD16: 2 | BV16: =BS16+BP16+BM16+BJ16+BG16+BD16+BA16+AX16+AU16+AR16+AO16+AL16+AI16+AF16+AC16+Z16+W16+T16+Q16+N16 -> -17.65 | BW16: =BT16+BQ16+BN16+BK16+BH16+BE16+BB16+AY16+AV16+AS16+AP16+AM16+AJ16+AG16+AD16+AA16+X16+U16+R16+O16 -> 4 | BX16: =BU16+BR16+BO16+BL16+BI16+BF16+BC16+AZ16+AW16+AT16+AQ16+AN16+AK16+AH16+AE16+AB16+Y16+V16+S16+P16 -> 0
A17: =_xlfn.RANK.EQ(F17,totalscores,0) -> 29 | B17: =_xlfn.RANK.EQ(H17,thisweekscore,0) -> 12 | D17: =INDEX(Table!E:E,MATCH(E17,Table!F:F,0)) -> C | E17: David Dunn | F17: =+N17+Q17+T17+W17+Z17+AC17+AF17+AI17+AL17+AO17+AR17+AU17+AX17+BA17+BD17+BG17+BJ17+BM17+BP17+BS17 -> -17.364545 | G17: =+O17+R17+U17+X17+AA17+AD17+AG17+AJ17+AM17+AP17+AS17+AV17+AY17+BB17+BE17+BH17+BK17+BN17+BQ17+BT17 -> 6 | H17: -0.55454545 | I17: 2 | J17: =P17+S17+V17+Y17+AB17+AE17+AH17+AK17+AN17+AQ17+AT17+AW17+AZ17+BC17+BF17+BI17+BL17+BO17+BR17+BU17 -> 5 | L17: =INDEX(Table!M:M,MATCH(E17,Table!F:F,0)) -> 0 | M17: =K17+J17+L17 -> 5 | N17: 5.94 | O17: 2 | P17: 5 | Q17: -7 | R17: 0 | T17: -3.5 | U17: 1 | W17: -7 | X17: 0 | Z17: -5.25 | AA17: 1 | AC17: -0.55454545 | AD17: 2 | BV17: =BS17+BP17+BM17+BJ17+BG17+BD17+BA17+AX17+AU17+AR17+AO17+AL17+AI17+AF17+AC17+Z17+W17+T17+Q17+N17 -> -17.364545 | BW17: =BT17+BQ17+BN17+BK17+BH17+BE17+BB17+AY17+AV17+AS17+AP17+AM17+AJ17+AG17+AD17+AA17+X17+U17+R17+O17 -> 6 | BX17: =BU17+BR17+BO17+BL17+BI17+BF17+BC17+AZ17+AW17+AT17+AQ17+AN17+AK17+AH17+AE17+AB17+Y17+V17+S17+P17 -> 5
A18: =_xlfn.RANK.EQ(F18,totalscores,0) -> 10 | B18: =_xlfn.RANK.EQ(H18,thisweekscore,0) -> 28 | D18: =INDEX(Table!E:E,MATCH(E18,Table!F:F,0)) -> C | E18: Dot Bow | F18: =+N18+Q18+T18+W18+Z18+AC18+AF18+AI18+AL18+AO18+AR18+AU18+AX18+BA18+BD18+BG18+BJ18+BM18+BP18+BS18 -> -8.6601282 | G18: =+O18+R18+U18+X18+AA18+AD18+AG18+AJ18+AM18+AP18+AS18+AV18+AY18+BB18+BE18+BH18+BK18+BN18+BQ18+BT18 -> 7 | H18: -5.15 | I18: 1 | J18: =P18+S18+V18+Y18+AB18+AE18+AH18+AK18+AN18+AQ18+AT18+AW18+AZ18+BC18+BF18+BI18+BL18+BO18+BR18+BU18 -> 0 | L18: =INDEX(Table!M:M,MATCH(E18,Table!F:F,0)) -> 8.1 | M18: =K18+J18+L18 -> 8.1 | N18: 2.4833333 | O18: 2 | Q18: 2.4615385 | R18: 2 | T18: -7 | U18: 0 | W18: 5.545 | X18: 2 | Z18: -7 | AA18: 0 | AC18: -5.15 | AD18: 1 | BV18: =BS18+BP18+BM18+BJ18+BG18+BD18+BA18+AX18+AU18+AR18+AO18+AL18+AI18+AF18+AC18+Z18+W18+T18+Q18+N18 -> -8.6601282 | BW18: =BT18+BQ18+BN18+BK18+BH18+BE18+BB18+AY18+AV18+AS18+AP18+AM18+AJ18+AG18+AD18+AA18+X18+U18+R18+O18 -> 7 | BX18: =BU18+BR18+BO18+BL18+BI18+BF18+BC18+AZ18+AW18+AT18+AQ18+AN18+AK18+AH18+AE18+AB18+Y18+V18+S18+P18 -> 0
A19: =_xlfn.RANK.EQ(F19,totalscores,0) -> 5 | B19: =_xlfn.RANK.EQ(H19,thisweekscore,0) -> 11 | D19: =INDEX(Table!E:E,MATCH(E19,Table!F:F,0)) -> B | E19: Frank Allen | F19: =+N19+Q19+T19+W19+Z19+AC19+AF19+AI19+AL19+AO19+AR19+AU19+AX19+BA19+BD19+BG19+BJ19+BM19+BP19+BS19 -> 6.2209091 | G19: =+O19+R19+U19+X19+AA19+AD19+AG19+AJ19+AM19+AP19+AS19+AV19+AY19+BB19+BE19+BH19+BK19+BN19+BQ19+BT19 -> 10 | H19: 0.59090909 | I19: 2 | J19: =P19+S19+V19+Y19+AB19+AE19+AH19+AK19+AN19+AQ19+AT19+AW19+AZ19+BC19+BF19+BI19+BL19+BO19+BR19+BU19 -> 5 | L19: =INDEX(Table!M:M,MATCH(E19,Table!F:F,0)) -> 28.35 | M19: =K19+J19+L19 -> 33.35 | N19: 2.2375 | O19: 2 | Q19: 14.0875 | R19: 3 | S19: 5 | T19: 1.455 | U19: 2 | W19: -5.15 | X19: 1 | Z19: -7 | AA19: 0 | AC19: 0.59090909 | AD19: 2 | BV19: =BS19+BP19+BM19+BJ19+BG19+BD19+BA19+AX19+AU19+AR19+AO19+AL19+AI19+AF19+AC19+Z19+W19+T19+Q19+N19 -> 6.2209091 | BW19: =BT19+BQ19+BN19+BK19+BH19+BE19+BB19+AY19+AV19+AS19+AP19+AM19+AJ19+AG19+AD19+AA19+X19+U19+R19+O19 -> 10 | BX19: =BU19+BR19+BO19+BL19+BI19+BF19+BC19+AZ19+AW19+AT19+AQ19+AN19+AK19+AH19+AE19+AB19+Y19+V19+S19+P19 -> 5
A20: =_xlfn.RANK.EQ(F20,totalscores,0) -> 46 | B20: =_xlfn.RANK.EQ(H20,thisweekscore,0) -> 40 | D20: =INDEX(Table!E:E,MATCH(E20,Table!F:F,0)) -> A | E20: Gareth Powell | F20: =+N20+Q20+T20+W20+Z20+AC20+AF20+AI20+AL20+AO20+AR20+AU20+AX20+BA20+BD20+BG20+BJ20+BM20+BP20+BS20 -> -32.25 | G20: =+O20+R20+U20+X20+AA20+AD20+AG20+AJ20+AM20+AP20+AS20+AV20+AY20+BB20+BE20+BH20+BK20+BN20+BQ20+BT20 -> 4 | H20: -7 | I20: 0 | J20: =P20+S20+V20+Y20+AB20+AE20+AH20+AK20+AN20+AQ20+AT20+AW20+AZ20+BC20+BF20+BI20+BL20+BO20+BR20+BU20 -> 0 | L20: =INDEX(Table!M:M,MATCH(E20,Table!F:F,0)) -> 0 | M20: =K20+J20+L20 -> 0 | N20: -7 | O20: 0 | Q20: -4.8 | R20: 1 | T20: -4.9 | U20: 1 | W20: -3.6 | X20: 1 | Z20: -4.95 | AA20: 1 | AC20: -7 | AD20: 0 | BV20: =BS20+BP20+BM20+BJ20+BG20+BD20+BA20+AX20+AU20+AR20+AO20+AL20+AI20+AF20+AC20+Z20+W20+T20+Q20+N20 -> -32.25 | BW20: =BT20+BQ20+BN20+BK20+BH20+BE20+BB20+AY20+AV20+AS20+AP20+AM20+AJ20+AG20+AD20+AA20+X20+U20+R20+O20 -> 4 | BX20: =BU20+BR20+BO20+BL20+BI20+BF20+BC20+AZ20+AW20+AT20+AQ20+AN20+AK20+AH20+AE20+AB20+Y20+V20+S20+P20 -> 0
A21: =_xlfn.RANK.EQ(F21,totalscores,0) -> 8 | B21: =_xlfn.RANK.EQ(H21,thisweekscore,0) -> 4 | D21: =INDEX(Table!E:E,MATCH(E21,Table!F:F,0)) -> B | E21: Gerard Ventom | F21: =+N21+Q21+T21+W21+Z21+AC21+AF21+AI21+AL21+AO21+AR21+AU21+AX21+BA21+BD21+BG21+BJ21+BM21+BP21+BS21 -> 0.775 | G21: =+O21+R21+U21+X21+AA21+AD21+AG21+AJ21+AM21+AP21+AS21+AV21+AY21+BB21+BE21+BH21+BK21+BN21+BQ21+BT21 -> 6 | H21: 9.6 | I21: 2 | J21: =P21+S21+V21+Y21+AB21+AE21+AH21+AK21+AN21+AQ21+AT21+AW21+AZ21+BC21+BF21+BI21+BL21+BO21+BR21+BU21 -> 12.5 | L21: =INDEX(Table!M:M,MATCH(E21,Table!F:F,0)) -> 18.9 | M21: =K21+J21+L21 -> 31.4 | N21: -7 | O21: 0 | Q21: -4.8 | R21: 1 | T21: -3.4 | U21: 1 | W21: -7 | X21: 0 | Z21: 13.375 | AA21: 2 | AB21: 10 | AC21: 9.6 | AD21: 2 | AE21: 2.5 | BV21: =BS21+BP21+BM21+BJ21+BG21+BD21+BA21+AX21+AU21+AR21+AO21+AL21+AI21+AF21+AC21+Z21+W21+T21+Q21+N21 -> 0.775 | BW21: =BT21+BQ21+BN21+BK21+BH21+BE21+BB21+AY21+AV21+AS21+AP21+AM21+AJ21+AG21+AD21+AA21+X21+U21+R21+O21 -> 6 | BX21: =BU21+BR21+BO21+BL21+BI21+BF21+BC21+AZ21+AW21+AT21+AQ21+AN21+AK21+AH21+AE21+AB21+Y21+V21+S21+P21 -> 12.5
A22: =_xlfn.RANK.EQ(F22,totalscores,0) -> 48 | B22: =_xlfn.RANK.EQ(H22,thisweekscore,0) -> 33 | D22: =INDEX(Table!E:E,MATCH(E22,Table!F:F,0)) -> B | E22: Graham Miller | F22: =+N22+Q22+T22+W22+Z22+AC22+AF22+AI22+AL22+AO22+AR22+AU22+AX22+BA22+BD22+BG22+BJ22+BM22+BP22+BS22 -> -36.05 | G22: =+O22+R22+U22+X22+AA22+AD22+AG22+AJ22+AM22+AP22+AS22+AV22+AY22+BB22+BE22+BH22+BK22+BN22+BQ22+BT22 -> 3 | H22: -5.5 | I22: 1 | J22: =P22+S22+V22+Y22+AB22+AE22+AH22+AK22+AN22+AQ22+AT22+AW22+AZ22+BC22+BF22+BI22+BL22+BO22+BR22+BU22 -> 0 | L22: =INDEX(Table!M:M,MATCH(E22,Table!F:F,0)) -> 0 | M22: =K22+J22+L22 -> 0 | N22: -7 | O22: 0 | Q22: -4.6 | R22: 1 | T22: -7 | U22: 0 | W22: -7 | X22: 0 | Z22: -4.95 | AA22: 1 | AC22: -5.5 | AD22: 1 | BV22: =BS22+BP22+BM22+BJ22+BG22+BD22+BA22+AX22+AU22+AR22+AO22+AL22+AI22+AF22+AC22+Z22+W22+T22+Q22+N22 -> -36.05 | BW22: =BT22+BQ22+BN22+BK22+BH22+BE22+BB22+AY22+AV22+AS22+AP22+AM22+AJ22+AG22+AD22+AA22+X22+U22+R22+O22 -> 3 | BX22: =BU22+BR22+BO22+BL22+BI22+BF22+BC22+AZ22+AW22+AT22+AQ22+AN22+AK22+AH22+AE22+AB22+Y22+V22+S22+P22 -> 0
A23: =_xlfn.RANK.EQ(F23,totalscores,0) -> 7 | B23: =_xlfn.RANK.EQ(H23,thisweekscore,0) -> 18 | D23: =INDEX(Table!E:E,MATCH(E23,Table!F:F,0)) -> A | E23: Howard Bradley | F23: =+N23+Q23+T23+W23+Z23+AC23+AF23+AI23+AL23+AO23+AR23+AU23+AX23+BA23+BD23+BG23+BJ23+BM23+BP23+BS23 -> 1.9 | G23: =+O23+R23+U23+X23+AA23+AD23+AG23+AJ23+AM23+AP23+AS23+AV23+AY23+BB23+BE23+BH23+BK23+BN23+BQ23+BT23 -> 10 | H23: -2.375 | I23: 2 | J23: =P23+S23+V23+Y23+AB23+AE23+AH23+AK23+AN23+AQ23+AT23+AW23+AZ23+BC23+BF23+BI23+BL23+BO23+BR23+BU23 -> 5 | L23: =INDEX(Table!M:M,MATCH(E23,Table!F:F,0)) -> 56.25 | M23: =K23+J23+L23 -> 61.25 | N23: 8 | O23: 2 | P23: 5 | Q23: 2 | R23: 2 | T23: -7 | U23: 0 | W23: 2.4 | X23: 2 | Z23: -1.125 | AA23: 2 | AC23: -2.375 | AD23: 2 | BV23: =BS23+BP23+BM23+BJ23+BG23+BD23+BA23+AX23+AU23+AR23+AO23+AL23+AI23+AF23+AC23+Z23+W23+T23+Q23+N23 -> 1.9 | BW23: =BT23+BQ23+BN23+BK23+BH23+BE23+BB23+AY23+AV23+AS23+AP23+AM23+AJ23+AG23+AD23+AA23+X23+U23+R23+O23 -> 10 | BX23: =BU23+BR23+BO23+BL23+BI23+BF23+BC23+AZ23+AW23+AT23+AQ23+AN23+AK23+AH23+AE23+AB23+Y23+V23+S23+P23 -> 5
A24: =_xlfn.RANK.EQ(F24,totalscores,0) -> 23 | B24: =_xlfn.RANK.EQ(H24,thisweekscore,0) -> 23 | D24: =INDEX(Table!E:E,MATCH(E24,Table!F:F,0)) -> B | E24: Jack Walsh | F24: =+N24+Q24+T24+W24+Z24+AC24+AF24+AI24+AL24+AO24+AR24+AU24+AX24+BA24+BD24+BG24+BJ24+BM24+BP24+BS24 -> -15.649091 | G24: =+O24+R24+U24+X24+AA24+AD24+AG24+AJ24+AM24+AP24+AS24+AV24+AY24+BB24+BE24+BH24+BK24+BN24+BQ24+BT24 -> 8 | H24: -4.8 | I24: 1 | J24: =P24+S24+V24+Y24+AB24+AE24+AH24+AK24+AN24+AQ24+AT24+AW24+AZ24+BC24+BF24+BI24+BL24+BO24+BR24+BU24 -> 0 | L24: =INDEX(Table!M:M,MATCH(E24,Table!F:F,0)) -> 0 | M24: =K24+J24+L24 -> 0 | N24: 2.71 | O24: 2 | Q24: 1.8909091 | R24: 2 | T24: -4.85 | U24: 1 | W24: -5.35 | X24: 1 | Z24: -5.25 | AA24: 1 | AC24: -4.8 | AD24: 1 | BV24: =BS24+BP24+BM24+BJ24+BG24+BD24+BA24+AX24+AU24+AR24+AO24+AL24+AI24+AF24+AC24+Z24+W24+T24+Q24+N24 -> -15.649091 | BW24: =BT24+BQ24+BN24+BK24+BH24+BE24+BB24+AY24+AV24+AS24+AP24+AM24+AJ24+AG24+AD24+AA24+X24+U24+R24+O24 -> 8 | BX24: =BU24+BR24+BO24+BL24+BI24+BF24+BC24+AZ24+AW24+AT24+AQ24+AN24+AK24+AH24+AE24+AB24+Y24+V24+S24+P24 -> 0
A25: =_xlfn.RANK.EQ(F25,totalscores,0) -> 18 | B25: =_xlfn.RANK.EQ(H25,thisweekscore,0) -> 35 | D25: =INDEX(Table!E:E,MATCH(E25,Table!F:F,0)) -> C | E25: Julie Dodd | F25: =+N25+Q25+T25+W25+Z25+AC25+AF25+AI25+AL25+AO25+AR25+AU25+AX25+BA25+BD25+BG25+BJ25+BM25+BP25+BS25 -> -12.266477 | G25: =+O25+R25+U25+X25+AA25+AD25+AG25+AJ25+AM25+AP25+AS25+AV25+AY25+BB25+BE25+BH25+BK25+BN25+BQ25+BT25 -> 9 | H25: -5.6363636 | I25: 1 | J25: =P25+S25+V25+Y25+AB25+AE25+AH25+AK25+AN25+AQ25+AT25+AW25+AZ25+BC25+BF25+BI25+BL25+BO25+BR25+BU25 -> 0 | L25: =INDEX(Table!M:M,MATCH(E25,Table!F:F,0)) -> 0 | M25: =K25+J25+L25 -> 0 | N25: -5.05 | O25: 1 | Q25: -0.4 | R25: 2 | T25: 1.1636364 | U25: 2 | W25: -5.4 | X25: 1 | Z25: 3.05625 | AA25: 2 | AC25: -5.6363636 | AD25: 1 | BV25: =BS25+BP25+BM25+BJ25+BG25+BD25+BA25+AX25+AU25+AR25+AO25+AL25+AI25+AF25+AC25+Z25+W25+T25+Q25+N25 -> -12.266477 | BW25: =BT25+BQ25+BN25+BK25+BH25+BE25+BB25+AY25+AV25+AS25+AP25+AM25+AJ25+AG25+AD25+AA25+X25+U25+R25+O25 -> 9 | BX25: =BU25+BR25+BO25+BL25+BI25+BF25+BC25+AZ25+AW25+AT25+AQ25+AN25+AK25+AH25+AE25+AB25+Y25+V25+S25+P25 -> 0
A26: =_xlfn.RANK.EQ(F26,totalscores,0) -> 40 | B26: =_xlfn.RANK.EQ(H26,thisweekscore,0) -> 40 | D26: =INDEX(Table!E:E,MATCH(E26,Table!F:F,0)) -> B | E26: Katy Savory | F26: =+N26+Q26+T26+W26+Z26+AC26+AF26+AI26+AL26+AO26+AR26+AU26+AX26+BA26+BD26+BG26+BJ26+BM26+BP26+BS26 -> -26.416667 | G26: =+O26+R26+U26+X26+AA26+AD26+AG26+AJ26+AM26+AP26+AS26+AV26+AY26+BB26+BE26+BH26+BK26+BN26+BQ26+BT26 -> 4 | H26: -7 | I26: 0 | J26: =P26+S26+V26+Y26+AB26+AE26+AH26+AK26+AN26+AQ26+AT26+AW26+AZ26+BC26+BF26+BI26+BL26+BO26+BR26+BU26 -> 0 | L26: =INDEX(Table!M:M,MATCH(E26,Table!F:F,0)) -> 0 | M26: =K26+J26+L26 -> 0 | N26: -7 | O26: 0 | Q26: 4.6 | R26: 2 | T26: -7 | U26: 0 | W26: -4.85 | X26: 1 | Z26: -5.1666667 | AA26: 1 | AC26: -7 | AD26: 0 | BV26: =BS26+BP26+BM26+BJ26+BG26+BD26+BA26+AX26+AU26+AR26+AO26+AL26+AI26+AF26+AC26+Z26+W26+T26+Q26+N26 -> -26.416667 | BW26: =BT26+BQ26+BN26+BK26+BH26+BE26+BB26+AY26+AV26+AS26+AP26+AM26+AJ26+AG26+AD26+AA26+X26+U26+R26+O26 -> 4 | BX26: =BU26+BR26+BO26+BL26+BI26+BF26+BC26+AZ26+AW26+AT26+AQ26+AN26+AK26+AH26+AE26+AB26+Y26+V26+S26+P26 -> 0
A27: =_xlfn.RANK.EQ(F27,totalscores,0) -> 28 | B27: =_xlfn.RANK.EQ(H27,thisweekscore,0) -> 32 | D27: =INDEX(Table!E:E,MATCH(E27,Table!F:F,0)) -> A | E27: Kevin Carter | F27: =+N27+Q27+T27+W27+Z27+AC27+AF27+AI27+AL27+AO27+AR27+AU27+AX27+BA27+BD27+BG27+BJ27+BM27+BP27+BS27 -> -16.982063 | G27: =+O27+R27+U27+X27+AA27+AD27+AG27+AJ27+AM27+AP27+AS27+AV27+AY27+BB27+BE27+BH27+BK27+BN27+BQ27+BT27 -> 8 | H27: -5.35 | I27: 1 | J27: =P27+S27+V27+Y27+AB27+AE27+AH27+AK27+AN27+AQ27+AT27+AW27+AZ27+BC27+BF27+BI27+BL27+BO27+BR27+BU27 -> 0 | L27: =INDEX(Table!M:M,MATCH(E27,Table!F:F,0)) -> 0 | M27: =K27+J27+L27 -> 0 | N27: -0.17777778 | O27: 2 | Q27: 2.56 | R27: 2 | T27: -2.8 | U27: 1 | W27: -5.5 | X27: 1 | Z27: -5.7142857 | AA27: 1 | AC27: -5.35 | AD27: 1 | BV27: =BS27+BP27+BM27+BJ27+BG27+BD27+BA27+AX27+AU27+AR27+AO27+AL27+AI27+AF27+AC27+Z27+W27+T27+Q27+N27 -> -16.982063 | BW27: =BT27+BQ27+BN27+BK27+BH27+BE27+BB27+AY27+AV27+AS27+AP27+AM27+AJ27+AG27+AD27+AA27+X27+U27+R27+O27 -> 8 | BX27: =BU27+BR27+BO27+BL27+BI27+BF27+BC27+AZ27+AW27+AT27+AQ27+AN27+AK27+AH27+AE27+AB27+Y27+V27+S27+P27 -> 0
A28: =_xlfn.RANK.EQ(F28,totalscores,0) -> 33 | B28: =_xlfn.RANK.EQ(H28,thisweekscore,0) -> 40 | D28: =INDEX(Table!E:E,MATCH(E28,Table!F:F,0)) -> A | E28: Lennie Bow | F28: =+N28+Q28+T28+W28+Z28+AC28+AF28+AI28+AL28+AO28+AR28+AU28+AX28+BA28+BD28+BG28+BJ28+BM28+BP28+BS28 -> -20.414797 | G28: =+O28+R28+U28+X28+AA28+AD28+AG28+AJ28+AM28+AP28+AS28+AV28+AY28+BB28+BE28+BH28+BK28+BN28+BQ28+BT28 -> 8 | H28: -7 | I28: 0 | J28: =P28+S28+V28+Y28+AB28+AE28+AH28+AK28+AN28+AQ28+AT28+AW28+AZ28+BC28+BF28+BI28+BL28+BO28+BR28+BU28 -> 0 | L28: =INDEX(Table!M:M,MATCH(E28,Table!F:F,0)) -> 0 | M28: =K28+J28+L28 -> 0 | N28: -5.3333333 | O28: 1 | Q28: 0 | R28: 2 | T28: -1.6528926 | U28: 2 | W28: -0.92857143 | X28: 2 | Z28: -5.5 | AA28: 1 | AC28: -7 | AD28: 0 | BV28: =BS28+BP28+BM28+BJ28+BG28+BD28+BA28+AX28+AU28+AR28+AO28+AL28+AI28+AF28+AC28+Z28+W28+T28+Q28+N28 -> -20.414797 | BW28: =BT28+BQ28+BN28+BK28+BH28+BE28+BB28+AY28+AV28+AS28+AP28+AM28+AJ28+AG28+AD28+AA28+X28+U28+R28+O28 -> 8 | BX28: =BU28+BR28+BO28+BL28+BI28+BF28+BC28+AZ28+AW28+AT28+AQ28+AN28+AK28+AH28+AE28+AB28+Y28+V28+S28+P28 -> 0
A29: =_xlfn.RANK.EQ(F29,totalscores,0) -> 47 | B29: =_xlfn.RANK.EQ(H29,thisweekscore,0) -> 20 | D29: =INDEX(Table!E:E,MATCH(E29,Table!F:F,0)) -> A | E29: Mark Bunn | F29: =+N29+Q29+T29+W29+Z29+AC29+AF29+AI29+AL29+AO29+AR29+AU29+AX29+BA29+BD29+BG29+BJ29+BM29+BP29+BS29 -> -32.55 | G29: =+O29+R29+U29+X29+AA29+AD29+AG29+AJ29+AM29+AP29+AS29+AV29+AY29+BB29+BE29+BH29+BK29+BN29+BQ29+BT29 -> 4 | H29: -4.6 | I29: 1 | J29: =P29+S29+V29+Y29+AB29+AE29+AH29+AK29+AN29+AQ29+AT29+AW29+AZ29+BC29+BF29+BI29+BL29+BO29+BR29+BU29 -> 0 | L29: =INDEX(Table!M:M,MATCH(E29,Table!F:F,0)) -> 0 | M29: =K29+J29+L29 -> 0 | N29: -4.3 | O29: 1 | Q29: -4.8 | R29: 1 | T29: -7 | U29: 0 | W29: -4.85 | X29: 1 | Z29: -7 | AA29: 0 | AC29: -4.6 | AD29: 1 | BV29: =BS29+BP29+BM29+BJ29+BG29+BD29+BA29+AX29+AU29+AR29+AO29+AL29+AI29+AF29+AC29+Z29+W29+T29+Q29+N29 -> -32.55 | BW29: =BT29+BQ29+BN29+BK29+BH29+BE29+BB29+AY29+AV29+AS29+AP29+AM29+AJ29+AG29+AD29+AA29+X29+U29+R29+O29 -> 4 | BX29: =BU29+BR29+BO29+BL29+BI29+BF29+BC29+AZ29+AW29+AT29+AQ29+AN29+AK29+AH29+AE29+AB29+Y29+V29+S29+P29 -> 0
A30: =_xlfn.RANK.EQ(F30,totalscores,0) -> 13 | B30: =_xlfn.RANK.EQ(H30,thisweekscore,0) -> 3 | D30: =INDEX(Table!E:E,MATCH(E30,Table!F:F,0)) -> B | E30: Mark Saunders | F30: =+N30+Q30+T30+W30+Z30+AC30+AF30+AI30+AL30+AO30+AR30+AU30+AX30+BA30+BD30+BG30+BJ30+BM30+BP30+BS30 -> -9.7723214 | G30: =+O30+R30+U30+X30+AA30+AD30+AG30+AJ30+AM30+AP30+AS30+AV30+AY30+BB30+BE30+BH30+BK30+BN30+BQ30+BT30 -> 7 | H30: 14.65625 | I30: 3 | J30: =P30+S30+V30+Y30+AB30+AE30+AH30+AK30+AN30+AQ30+AT30+AW30+AZ30+BC30+BF30+BI30+BL30+BO30+BR30+BU30 -> 5 | L30: =INDEX(Table!M:M,MATCH(E30,Table!F:F,0)) -> 11.025 | M30: =K30+J30+L30 -> 16.025 | N30: -7 | O30: 0 | Q30: -5.5 | R30: 1 | T30: -4 | U30: 1 | W30: -7 | X30: 0 | Z30: -0.92857143 | AA30: 2 | AC30: 14.65625 | AD30: 3 | AE30: 5 | BV30: =BS30+BP30+BM30+BJ30+BG30+BD30+BA30+AX30+AU30+AR30+AO30+AL30+AI30+AF30+AC30+Z30+W30+T30+Q30+N30 -> -9.7723214 | BW30: =BT30+BQ30+BN30+BK30+BH30+BE30+BB30+AY30+AV30+AS30+AP30+AM30+AJ30+AG30+AD30+AA30+X30+U30+R30+O30 -> 7 | BX30: =BU30+BR30+BO30+BL30+BI30+BF30+BC30+AZ30+AW30+AT30+AQ30+AN30+AK30+AH30+AE30+AB30+Y30+V30+S30+P30 -> 5
A31: =_xlfn.RANK.EQ(F31,totalscores,0) -> 32 | B31: =_xlfn.RANK.EQ(H31,thisweekscore,0) -> 40 | D31: =INDEX(Table!E:E,MATCH(E31,Table!F:F,0)) -> C | E31: Martin Molyneux | F31: =+N31+Q31+T31+W31+Z31+AC31+AF31+AI31+AL31+AO31+AR31+AU31+AX31+BA31+BD31+BG31+BJ31+BM31+BP31+BS31 -> -19.4025 | G31: =+O31+R31+U31+X31+AA31+AD31+AG31+AJ31+AM31+AP31+AS31+AV31+AY31+BB31+BE31+BH31+BK31+BN31+BQ31+BT31 -> 6 | H31: -7 | I31: 0 | J31: =P31+S31+V31+Y31+AB31+AE31+AH31+AK31+AN31+AQ31+AT31+AW31+AZ31+BC31+BF31+BI31+BL31+BO31+BR31+BU31 -> 0 | L31: =INDEX(Table!M:M,MATCH(E31,Table!F:F,0)) -> 0 | M31: =K31+J31+L31 -> 0 | N31: 2.2375 | O31: 2 | Q31: 2.56 | R31: 2 | T31: -4.95 | U31: 1 | W31: -7 | X31: 0 | Z31: -5.25 | AA31: 1 | AC31: -7 | AD31: 0 | BV31: =BS31+BP31+BM31+BJ31+BG31+BD31+BA31+AX31+AU31+AR31+AO31+AL31+AI31+AF31+AC31+Z31+W31+T31+Q31+N31 -> -19.4025 | BW31: =BT31+BQ31+BN31+BK31+BH31+BE31+BB31+AY31+AV31+AS31+AP31+AM31+AJ31+AG31+AD31+AA31+X31+U31+R31+O31 -> 6 | BX31: =BU31+BR31+BO31+BL31+BI31+BF31+BC31+AZ31+AW31+AT31+AQ31+AN31+AK31+AH31+AE31+AB31+Y31+V31+S31+P31 -> 0
A32: =_xlfn.RANK.EQ(F32,totalscores,0) -> 38 | B32: =_xlfn.RANK.EQ(H32,thisweekscore,0) -> 40 | D32: =INDEX(Table!E:E,MATCH(E32,Table!F:F,0)) -> B | E32: Martin Tarbuck | F32: =+N32+Q32+T32+W32+Z32+AC32+AF32+AI32+AL32+AO32+AR32+AU32+AX32+BA32+BD32+BG32+BJ32+BM32+BP32+BS32 -> -25.856364 | G32: =+O32+R32+U32+X32+AA32+AD32+AG32+AJ32+AM32+AP32+AS32+AV32+AY32+BB32+BE32+BH32+BK32+BN32+BQ32+BT32 -> 5 | H32: -7 | I32: 0 | J32: =P32+S32+V32+Y32+AB32+AE32+AH32+AK32+AN32+AQ32+AT32+AW32+AZ32+BC32+BF32+BI32+BL32+BO32+BR32+BU32 -> 5 | L32: =INDEX(Table!M:M,MATCH(E32,Table!F:F,0)) -> 0 | M32: =K32+J32+L32 -> 5 | N32: -5.2 | O32: 1 | Q32: -5.5 | R32: 1 | T32: 5.8436364 | U32: 3 | V32: 5 | W32: -7 | X32: 0 | Z32: -7 | AA32: 0 | AC32: -7 | AD32: 0 | BV32: =BS32+BP32+BM32+BJ32+BG32+BD32+BA32+AX32+AU32+AR32+AO32+AL32+AI32+AF32+AC32+Z32+W32+T32+Q32+N32 -> -25.856364 | BW32: =BT32+BQ32+BN32+BK32+BH32+BE32+BB32+AY32+AV32+AS32+AP32+AM32+AJ32+AG32+AD32+AA32+X32+U32+R32+O32 -> 5 | BX32: =BU32+BR32+BO32+BL32+BI32+BF32+BC32+AZ32+AW32+AT32+AQ32+AN32+AK32+AH32+AE32+AB32+Y32+V32+S32+P32 -> 5
A33: =_xlfn.RANK.EQ(F33,totalscores,0) -> 31 | B33: =_xlfn.RANK.EQ(H33,thisweekscore,0) -> 23 | D33: =INDEX(Table!E:E,MATCH(E33,Table!F:F,0)) -> A | E33: Mike Penk | F33: =+N33+Q33+T33+W33+Z33+AC33+AF33+AI33+AL33+AO33+AR33+AU33+AX33+BA33+BD33+BG33+BJ33+BM33+BP33+BS33 -> -18.336364 | G33: =+O33+R33+U33+X33+AA33+AD33+AG33+AJ33+AM33+AP33+AS33+AV33+AY33+BB33+BE33+BH33+BK33+BN33+BQ33+BT33 -> 6 | H33: -4.8 | I33: 1 | J33: =P33+S33+V33+Y33+AB33+AE33+AH33+AK33+AN33+AQ33+AT33+AW33+AZ33+BC33+BF33+BI33+BL33+BO33+BR33+BU33 -> 0 | L33: =INDEX(Table!M:M,MATCH(E33,Table!F:F,0)) -> 0 | M33: =K33+J33+L33 -> 0 | N33: -3.9 | O33: 1 | Q33: 3.3454545 | R33: 2 | T33: 1.0181818 | U33: 2 | W33: -7 | X33: 0 | Z33: -7 | AA33: 0 | AC33: -4.8 | AD33: 1 | BV33: =BS33+BP33+BM33+BJ33+BG33+BD33+BA33+AX33+AU33+AR33+AO33+AL33+AI33+AF33+AC33+Z33+W33+T33+Q33+N33 -> -18.336364 | BW33: =BT33+BQ33+BN33+BK33+BH33+BE33+BB33+AY33+AV33+AS33+AP33+AM33+AJ33+AG33+AD33+AA33+X33+U33+R33+O33 -> 6 | BX33: =BU33+BR33+BO33+BL33+BI33+BF33+BC33+AZ33+AW33+AT33+AQ33+AN33+AK33+AH33+AE33+AB33+Y33+V33+S33+P33 -> 0
A34: =_xlfn.RANK.EQ(F34,totalscores,0) -> 21 | B34: =_xlfn.RANK.EQ(H34,thisweekscore,0) -> 33 | D34: =INDEX(Table!E:E,MATCH(E34,Table!F:F,0)) -> C | E34: Naaman Boyd | F34: =+N34+Q34+T34+W34+Z34+AC34+AF34+AI34+AL34+AO34+AR34+AU34+AX34+BA34+BD34+BG34+BJ34+BM34+BP34+BS34 -> -15.487619 | G34: =+O34+R34+U34+X34+AA34+AD34+AG34+AJ34+AM34+AP34+AS34+AV34+AY34+BB34+BE34+BH34+BK34+BN34+BQ34+BT34 -> 9 | H34: -5.5 | I34: 1 | J34: =P34+S34+V34+Y34+AB34+AE34+AH34+AK34+AN34+AQ34+AT34+AW34+AZ34+BC34+BF34+BI34+BL34+BO34+BR34+BU34 -> 0 | L34: =INDEX(Table!M:M,MATCH(E34,Table!F:F,0)) -> 0 | M34: =K34+J34+L34 -> 0 | N34: -4.25 | O34: 1 | Q34: -1.3333333 | R34: 2 | T34: 0.46 | U34: 2 | W34: -5.35 | X34: 1 | Z34: 0.48571429 | AA34: 2 | AC34: -5.5 | AD34: 1 | BV34: =BS34+BP34+BM34+BJ34+BG34+BD34+BA34+AX34+AU34+AR34+AO34+AL34+AI34+AF34+AC34+Z34+W34+T34+Q34+N34 -> -15.487619 | BW34: =BT34+BQ34+BN34+BK34+BH34+BE34+BB34+AY34+AV34+AS34+AP34+AM34+AJ34+AG34+AD34+AA34+X34+U34+R34+O34 -> 9 | BX34: =BU34+BR34+BO34+BL34+BI34+BF34+BC34+AZ34+AW34+AT34+AQ34+AN34+AK34+AH34+AE34+AB34+Y34+V34+S34+P34 -> 0
A35: =_xlfn.RANK.EQ(F35,totalscores,0) -> 17 | B35: =_xlfn.RANK.EQ(H35,thisweekscore,0) -> 17 | D35: =INDEX(Table!E:E,MATCH(E35,Table!F:F,0)) -> A | E35: Nick Blocksidge | F35: =+N35+Q35+T35+W35+Z35+AC35+AF35+AI35+AL35+AO35+AR35+AU35+AX35+BA35+BD35+BG35+BJ35+BM35+BP35+BS35 -> -12.149351 | G35: =+O35+R35+U35+X35+AA35+AD35+AG35+AJ35+AM35+AP35+AS35+AV35+AY35+BB35+BE35+BH35+BK35+BN35+BQ35+BT35 -> 10 | H35: -2.0909091 | I35: 2 | J35: =P35+S35+V35+Y35+AB35+AE35+AH35+AK35+AN35+AQ35+AT35+AW35+AZ35+BC35+BF35+BI35+BL35+BO35+BR35+BU35 -> 0 | L35: =INDEX(Table!M:M,MATCH(E35,Table!F:F,0)) -> 15.75 | M35: =K35+J35+L35 -> 15.75 | N35: -4.3 | O35: 1 | Q35: 3 | R35: 2 | T35: -2.8727273 | U35: 2 | W35: -3.6 | X35: 1 | Z35: -2.2857143 | AA35: 2 | AC35: -2.0909091 | AD35: 2 | BV35: =BS35+BP35+BM35+BJ35+BG35+BD35+BA35+AX35+AU35+AR35+AO35+AL35+AI35+AF35+AC35+Z35+W35+T35+Q35+N35 -> -12.149351 | BW35: =BT35+BQ35+BN35+BK35+BH35+BE35+BB35+AY35+AV35+AS35+AP35+AM35+AJ35+AG35+AD35+AA35+X35+U35+R35+O35 -> 10 | BX35: =BU35+BR35+BO35+BL35+BI35+BF35+BC35+AZ35+AW35+AT35+AQ35+AN35+AK35+AH35+AE35+AB35+Y35+V35+S35+P35 -> 0
A36: =_xlfn.RANK.EQ(F36,totalscores,0) -> 14 | B36: =_xlfn.RANK.EQ(H36,thisweekscore,0) -> 40 | D36: =INDEX(Table!E:E,MATCH(E36,Table!F:F,0)) -> A | E36: Nigel Heyes | F36: =+N36+Q36+T36+W36+Z36+AC36+AF36+AI36+AL36+AO36+AR36+AU36+AX36+BA36+BD36+BG36+BJ36+BM36+BP36+BS36 -> -10.369008 | G36: =+O36+R36+U36+X36+AA36+AD36+AG36+AJ36+AM36+AP36+AS36+AV36+AY36+BB36+BE36+BH36+BK36+BN36+BQ36+BT36 -> 6 | H36: -7 | I36: 0 | J36: =P36+S36+V36+Y36+AB36+AE36+AH36+AK36+AN36+AQ36+AT36+AW36+AZ36+BC36+BF36+BI36+BL36+BO36+BR36+BU36 -> 10 | L36: =INDEX(Table!M:M,MATCH(E36,Table!F:F,0)) -> 27 | M36: =K36+J36+L36 -> 37 | N36: -5.05 | O36: 1 | Q36: 19.080992 | R36: 3 | S36: 10 | T36: -4.9 | U36: 1 | W36: -7 | X36: 0 | Z36: -5.5 | AA36: 1 | AC36: -7 | AD36: 0 | BV36: =BS36+BP36+BM36+BJ36+BG36+BD36+BA36+AX36+AU36+AR36+AO36+AL36+AI36+AF36+AC36+Z36+W36+T36+Q36+N36 -> -10.369008 | BW36: =BT36+BQ36+BN36+BK36+BH36+BE36+BB36+AY36+AV36+AS36+AP36+AM36+AJ36+AG36+AD36+AA36+X36+U36+R36+O36 -> 6 | BX36: =BU36+BR36+BO36+BL36+BI36+BF36+BC36+AZ36+AW36+AT36+AQ36+AN36+AK36+AH36+AE36+AB36+Y36+V36+S36+P36 -> 10
A37: =_xlfn.RANK.EQ(F37,totalscores,0) -> 26 | B37: =_xlfn.RANK.EQ(H37,thisweekscore,0) -> 29 | D37: =INDEX(Table!E:E,MATCH(E37,Table!F:F,0)) -> C | E37: Paul Adderley | F37: =+N37+Q37+T37+W37+Z37+AC37+AF37+AI37+AL37+AO37+AR37+AU37+AX37+BA37+BD37+BG37+BJ37+BM37+BP37+BS37 -> -16.026616 | G37: =+O37+R37+U37+X37+AA37+AD37+AG37+AJ37+AM37+AP37+AS37+AV37+AY37+BB37+BE37+BH37+BK37+BN37+BQ37+BT37 -> 8 | H37: -5.2727273 | I37: 1 | J37: =P37+S37+V37+Y37+AB37+AE37+AH37+AK37+AN37+AQ37+AT37+AW37+AZ37+BC37+BF37+BI37+BL37+BO37+BR37+BU37 -> 0 | L37: =INDEX(Table!M:M,MATCH(E37,Table!F:F,0)) -> 0 | M37: =K37+J37+L37 -> 0 | N37: -7 | O37: 0 | Q37: -0.88888889 | R37: 2 | T37: -1.89 | U37: 2 | W37: 1.625 | X37: 2 | Z37: -2.6 | AA37: 1 | AC37: -5.2727273 | AD37: 1 | BV37: =BS37+BP37+BM37+BJ37+BG37+BD37+BA37+AX37+AU37+AR37+AO37+AL37+AI37+AF37+AC37+Z37+W37+T37+Q37+N37 -> -16.026616 | BW37: =BT37+BQ37+BN37+BK37+BH37+BE37+BB37+AY37+AV37+AS37+AP37+AM37+AJ37+AG37+AD37+AA37+X37+U37+R37+O37 -> 8 | BX37: =BU37+BR37+BO37+BL37+BI37+BF37+BC37+AZ37+AW37+AT37+AQ37+AN37+AK37+AH37+AE37+AB37+Y37+V37+S37+P37 -> 0
A38: =_xlfn.RANK.EQ(F38,totalscores,0) -> 50 | B38: =_xlfn.RANK.EQ(H38,thisweekscore,0) -> 40 | D38: =INDEX(Table!E:E,MATCH(E38,Table!F:F,0)) -> A | E38: Paul Allen | F38: =+N38+Q38+T38+W38+Z38+AC38+AF38+AI38+AL38+AO38+AR38+AU38+AX38+BA38+BD38+BG38+BJ38+BM38+BP38+BS38 -> -38.678571 | G38: =+O38+R38+U38+X38+AA38+AD38+AG38+AJ38+AM38+AP38+AS38+AV38+AY38+BB38+BE38+BH38+BK38+BN38+BQ38+BT38 -> 2 | H38: -7 | I38: 0 | J38: =P38+S38+V38+Y38+AB38+AE38+AH38+AK38+AN38+AQ38+AT38+AW38+AZ38+BC38+BF38+BI38+BL38+BO38+BR38+BU38 -> 0 | L38: =INDEX(Table!M:M,MATCH(E38,Table!F:F,0)) -> 0 | M38: =K38+J38+L38 -> 0 | N38: -7 | O38: 0 | Q38: -7 | R38: 0 | T38: -5.4285714 | U38: 1 | W38: -7 | X38: 0 | Z38: -5.25 | AA38: 1 | AC38: -7 | AD38: 0 | BV38: =BS38+BP38+BM38+BJ38+BG38+BD38+BA38+AX38+AU38+AR38+AO38+AL38+AI38+AF38+AC38+Z38+W38+T38+Q38+N38 -> -38.678571 | BW38: =BT38+BQ38+BN38+BK38+BH38+BE38+BB38+AY38+AV38+AS38+AP38+AM38+AJ38+AG38+AD38+AA38+X38+U38+R38+O38 -> 2 | BX38: =BU38+BR38+BO38+BL38+BI38+BF38+BC38+AZ38+AW38+AT38+AQ38+AN38+AK38+AH38+AE38+AB38+Y38+V38+S38+P38 -> 0
A39: =_xlfn.RANK.EQ(F39,totalscores,0) -> 6 | B39: =_xlfn.RANK.EQ(H39,thisweekscore,0) -> 2 | D39: =INDEX(Table!E:E,MATCH(E39,Table!F:F,0)) -> A | E39: Paul Barnes | F39: =+N39+Q39+T39+W39+Z39+AC39+AF39+AI39+AL39+AO39+AR39+AU39+AX39+BA39+BD39+BG39+BJ39+BM39+BP39+BS39 -> 3.8594444 | G39: =+O39+R39+U39+X39+AA39+AD39+AG39+AJ39+AM39+AP39+AS39+AV39+AY39+BB39+BE39+BH39+BK39+BN39+BQ39+BT39 -> 9 | H39: 15.625 | I39: 3 | J39: =P39+S39+V39+Y39+AB39+AE39+AH39+AK39+AN39+AQ39+AT39+AW39+AZ39+BC39+BF39+BI39+BL39+BO39+BR39+BU39 -> 5 | L39: =INDEX(Table!M:M,MATCH(E39,Table!F:F,0)) -> 78.75 | M39: =K39+J39+L39 -> 83.75 | N39: -4.75 | O39: 1 | Q39: -5.5555556 | R39: 1 | T39: 1.165 | U39: 2 | W39: -7 | X39: 0 | Z39: 4.375 | AA39: 2 | AC39: 15.625 | AD39: 3 | AE39: 5 | BV39: =BS39+BP39+BM39+BJ39+BG39+BD39+BA39+AX39+AU39+AR39+AO39+AL39+AI39+AF39+AC39+Z39+W39+T39+Q39+N39 -> 3.8594444 | BW39: =BT39+BQ39+BN39+BK39+BH39+BE39+BB39+AY39+AV39+AS39+AP39+AM39+AJ39+AG39+AD39+AA39+X39+U39+R39+O39 -> 9 | BX39: =BU39+BR39+BO39+BL39+BI39+BF39+BC39+AZ39+AW39+AT39+AQ39+AN39+AK39+AH39+AE39+AB39+Y39+V39+S39+P39 -> 5
A40: =_xlfn.RANK.EQ(F40,totalscores,0) -> 1 | B40: =_xlfn.RANK.EQ(H40,thisweekscore,0) -> 1 | D40: =INDEX(Table!E:E,MATCH(E40,Table!F:F,0)) -> B | E40: Paul Fairhurst | F40: =+N40+Q40+T40+W40+Z40+AC40+AF40+AI40+AL40+AO40+AR40+AU40+AX40+BA40+BD40+BG40+BJ40+BM40+BP40+BS40 -> 36.95 | G40: =+O40+R40+U40+X40+AA40+AD40+AG40+AJ40+AM40+AP40+AS40+AV40+AY40+BB40+BE40+BH40+BK40+BN40+BQ40+BT40 -> 11 | H40: 16.99 | I40: 3 | J40: =P40+S40+V40+Y40+AB40+AE40+AH40+AK40+AN40+AQ40+AT40+AW40+AZ40+BC40+BF40+BI40+BL40+BO40+BR40+BU40 -> 25 | L40: =INDEX(Table!M:M,MATCH(E40,Table!F:F,0)) -> 55.125 | M40: =K40+J40+L40 -> 80.125 | N40: 3.05 | O40: 2 | Q40: 5.26 | R40: 2 | S40: 5 | T40: -7 | U40: 0 | W40: 6.7 | X40: 2 | Y40: 5 | Z40: 11.95 | AA40: 2 | AB40: 5 | AC40: 16.99 | AD40: 3 | AE40: 10 | BV40: =BS40+BP40+BM40+BJ40+BG40+BD40+BA40+AX40+AU40+AR40+AO40+AL40+AI40+AF40+AC40+Z40+W40+T40+Q40+N40 -> 36.95 | BW40: =BT40+BQ40+BN40+BK40+BH40+BE40+BB40+AY40+AV40+AS40+AP40+AM40+AJ40+AG40+AD40+AA40+X40+U40+R40+O40 -> 11 | BX40: =BU40+BR40+BO40+BL40+BI40+BF40+BC40+AZ40+AW40+AT40+AQ40+AN40+AK40+AH40+AE40+AB40+Y40+V40+S40+P40 -> 25
...

Sheet Table
A1: =CONCATENATE(CurrentSeason,"/Week ",CurrentWeek) -> PL48/Week 06 | B1: Place Prize | C1: Promotion/ Relegation | D1: Pos | E1: PL48 Div | F1: Player | G1: PL49 Div | H1: ↓ | I1: Total Score | J1: Total correct | K1: Week Score | L1: Week Correct | M1: League Place Prize | N1: Weekly Prizes | O1: Cup Prize | P1: Total Prize | Q1: This Week Max | R1: This Week Actual | S1: Inactive This Season: | T1: =COUNTIF(S:S,"N") -> 0
A2: Division A | B2: =CONCATENATE(E2,D2) -> A1 | C2: ↔ | D2: 1 | E2: A | F2: Paul Barnes | G2: A | I2: =INDEX(Weekly!F:F,MATCH($F2,Weekly!$E:$E,0)) -> 3.8594444 | J2: =INDEX(Weekly!G:G,MATCH($F2,Weekly!$E:$E,0)) -> 9 | K2: =INDEX(Weekly!H:H,MATCH($F2,Weekly!$E:$E,0)) -> 15.625 | L2: =INDEX(Weekly!I:I,MATCH($F2,Weekly!$E:$E,0)) -> 3 | M2: =INDEX(Prizes!F:F,MATCH($B2,Prizes!A:A,0)) -> 78.75 | N2: =INDEX(Weekly!J:J,MATCH($F2,Weekly!$E:$E,0)) -> 5 | O2: =INDEX(Weekly!K:K,MATCH($F2,Weekly!$E:$E,0)) -> 0 | P2: =INDEX(Weekly!M:M,MATCH($F2,Weekly!$E:$E,0)) -> 83.75 | Q2: =INDEX(Picks!J:J,MATCH(F2,Picks!A:A,0)) -> 15.625 | R2: =INDEX(Picks!I:I,MATCH(F2,Picks!A:A,0)) -> 15.625
B3: =CONCATENATE(E3,D3) -> A2 | C3: ↔ | D3: 2 | E3: A | F3: Howard Bradley | G3: A | I3: =INDEX(Weekly!F:F,MATCH($F3,Weekly!$E:$E,0)) -> 1.9 | J3: =INDEX(Weekly!G:G,MATCH($F3,Weekly!$E:$E,0)) -> 10 | K3: =INDEX(Weekly!H:H,MATCH($F3,Weekly!$E:$E,0)) -> -2.375 | L3: =INDEX(Weekly!I:I,MATCH($F3,Weekly!$E:$E,0)) -> 2 | M3: =INDEX(Prizes!F:F,MATCH($B3,Prizes!A:A,0)) -> 56.25 | N3: =INDEX(Weekly!J:J,MATCH($F3,Weekly!$E:$E,0)) -> 5 | O3: =INDEX(Weekly!K:K,MATCH($F3,Weekly!$E:$E,0)) -> 0 | P3: =INDEX(Weekly!M:M,MATCH($F3,Weekly!$E:$E,0)) -> 61.25 | Q3: =INDEX(Picks!J:J,MATCH(F3,Picks!A:A,0)) -> 5.2954545 | R3: =INDEX(Picks!I:I,MATCH(F3,Picks!A:A,0)) -> -2.375
B4: =CONCATENATE(E4,D4) -> A3 | C4: ↔ | D4: 3 | E4: A | F4: Rob England | G4: A | I4: =INDEX(Weekly!F:F,MATCH($F4,Weekly!$E:$E,0)) -> -8.6989177 | J4: =INDEX(Weekly!G:G,MATCH($F4,Weekly!$E:$E,0)) -> 11 | K4: =INDEX(Weekly!H:H,MATCH($F4,Weekly!$E:$E,0)) -> -5.6363636 | L4: =INDEX(Weekly!I:I,MATCH($F4,Weekly!$E:$E,0)) -> 1 | M4: =INDEX(Prizes!F:F,MATCH($B4,Prizes!A:A,0)) -> 40.5 | N4: =INDEX(Weekly!J:J,MATCH($F4,Weekly!$E:$E,0)) -> 0 | O4: =INDEX(Weekly!K:K,MATCH($F4,Weekly!$E:$E,0)) -> 0 | P4: =INDEX(Weekly!M:M,MATCH($F4,Weekly!$E:$E,0)) -> 40.5 | Q4: =INDEX(Picks!J:J,MATCH(F4,Picks!A:A,0)) -> 9.3090909 | R4: =INDEX(Picks!I:I,MATCH(F4,Picks!A:A,0)) -> -5.6363636 | U4: Promotion and Relegation Key
B5: =CONCATENATE(E5,D5) -> A4 | C5: ↔ | D5: 4 | E5: A | F5: Nigel Heyes | G5: A | I5: =INDEX(Weekly!F:F,MATCH($F5,Weekly!$E:$E,0)) -> -10.369008 | J5: =INDEX(Weekly!G:G,MATCH($F5,Weekly!$E:$E,0)) -> 6 | K5: =INDEX(Weekly!H:H,MATCH($F5,Weekly!$E:$E,0)) -> -7 | L5: =INDEX(Weekly!I:I,MATCH($F5,Weekly!$E:$E,0)) -> 0 | M5: =INDEX(Prizes!F:F,MATCH($B5,Prizes!A:A,0)) -> 27 | N5: =INDEX(Weekly!J:J,MATCH($F5,Weekly!$E:$E,0)) -> 10 | O5: =INDEX(Weekly!K:K,MATCH($F5,Weekly!$E:$E,0)) -> 0 | P5: =INDEX(Weekly!M:M,MATCH($F5,Weekly!$E:$E,0)) -> 37 | Q5: =INDEX(Picks!J:J,MATCH(F5,Picks!A:A,0)) -> 21.78325 | R5: =INDEX(Picks!I:I,MATCH(F5,Picks!A:A,0)) -> -7 | U5: No change
B6: =CONCATENATE(E6,D6) -> A5 | C6: ↔ | D6: 5 | E6: A | F6: Nick Blocksidge | G6: A | I6: =INDEX(Weekly!F:F,MATCH($F6,Weekly!$E:$E,0)) -> -12.149351 | J6: =INDEX(Weekly!G:G,MATCH($F6,Weekly!$E:$E,0)) -> 10 | K6: =INDEX(Weekly!H:H,MATCH($F6,Weekly!$E:$E,0)) -> -2.0909091 | L6: =INDEX(Weekly!I:I,MATCH($F6,Weekly!$E:$E,0)) -> 2 | M6: =INDEX(Prizes!F:F,MATCH($B6,Prizes!A:A,0)) -> 15.75 | N6: =INDEX(Weekly!J:J,MATCH($F6,Weekly!$E:$E,0)) -> 0 | O6: =INDEX(Weekly!K:K,MATCH($F6,Weekly!$E:$E,0)) -> 0 | P6: =INDEX(Weekly!M:M,MATCH($F6,Weekly!$E:$E,0)) -> 15.75 | Q6: =INDEX(Picks!J:J,MATCH(F6,Picks!A:A,0)) -> 18 | R6: =INDEX(Picks!I:I,MATCH(F6,Picks!A:A,0)) -> -2.0909091 | U6: Promoted to Division above
B7: =CONCATENATE(E7,D7) -> A6 | C7: ↔ | D7: 6 | E7: A | F7: Alan Rogers | G7: A | I7: =INDEX(Weekly!F:F,MATCH($F7,Weekly!$E:$E,0)) -> -14.09 | J7: =INDEX(Weekly!G:G,MATCH($F7,Weekly!$E:$E,0)) -> 6 | K7: =INDEX(Weekly!H:H,MATCH($F7,Weekly!$E:$E,0)) -> 9.16 | L7: =INDEX(Weekly!I:I,MATCH($F7,Weekly!$E:$E,0)) -> 2 | M7: =INDEX(Prizes!F:F,MATCH($B7,Prizes!A:A,0)) -> 6.75 | N7: =INDEX(Weekly!J:J,MATCH($F7,Weekly!$E:$E,0)) -> 0 | O7: =INDEX(Weekly!K:K,MATCH($F7,Weekly!$E:$E,0)) -> 0 | P7: =INDEX(Weekly!M:M,MATCH($F7,Weekly!$E:$E,0)) -> 6.75 | Q7: =INDEX(Picks!J:J,MATCH(F7,Picks!A:A,0)) -> 44.338 | R7: =INDEX(Picks!I:I,MATCH(F7,Picks!A:A,0)) -> 9.16 | U7: Relegated to Division below
B8: =CONCATENATE(E8,D8) -> A7 | C8: ↔ | D8: 7 | E8: A | F8: Steve Carter | G8: A | I8: =INDEX(Weekly!F:F,MATCH($F8,Weekly!$E:$E,0)) -> -15.678889 | J8: =INDEX(Weekly!G:G,MATCH($F8,Weekly!$E:$E,0)) -> 8 | K8: =INDEX(Weekly!H:H,MATCH($F8,Weekly!$E:$E,0)) -> 2.71 | L8: =INDEX(Weekly!I:I,MATCH($F8,Weekly!$E:$E,0)) -> 2 | M8: =INDEX(Prizes!F:F,MATCH($B8,Prizes!A:A,0)) -> 0 | N8: =INDEX(Weekly!J:J,MATCH($F8,Weekly!$E:$E,0)) -> 0 | O8: =INDEX(Weekly!K:K,MATCH($F8,Weekly!$E:$E,0)) -> 0 | P8: =INDEX(Weekly!M:M,MATCH($F8,Weekly!$E:$E,0)) -> 0 | Q8: =INDEX(Picks!J:J,MATCH(F8,Picks!A:A,0)) -> 40.195 | R8: =INDEX(Picks!I:I,MATCH(F8,Picks!A:A,0)) -> 2.71 | U8: Best two up to Div A, Worst two down to Div B
B9: =CONCATENATE(E9,D9) -> A8 | C9: ↔ | D9: 8 | E9: A | F9: Kevin Carter | G9: A | I9: =INDEX(Weekly!F:F,MATCH($F9,Weekly!$E:$E,0)) -> -16.982063 | J9: =INDEX(Weekly!G:G,MATCH($F9,Weekly!$E:$E,0)) -> 8 | K9: =INDEX(Weekly!H:H,MATCH($F9,Weekly!$E:$E,0)) -> -5.35 | L9: =INDEX(Weekly!I:I,MATCH($F9,Weekly!$E:$E,0)) -> 1 | M9: =INDEX(Prizes!F:F,MATCH($B9,Prizes!A:A,0)) -> 0 | N9: =INDEX(Weekly!J:J,MATCH($F9,Weekly!$E:$E,0)) -> 0 | O9: =INDEX(Weekly!K:K,MATCH($F9,Weekly!$E:$E,0)) -> 0 | P9: =INDEX(Weekly!M:M,MATCH($F9,Weekly!$E:$E,0)) -> 0 | Q9: =INDEX(Picks!J:J,MATCH(F9,Picks!A:A,0)) -> 11.059615 | R9: =INDEX(Picks!I:I,MATCH(F9,Picks!A:A,0)) -> -5.35 | U9: Best two up to Div B, Worst two down to Div C
B10: =CONCATENATE(E10,D10) -> A9 | C10: Play-off | D10: 9 | E10: A | F10: Mike Penk | G10: A | I10: =INDEX(Weekly!F:F,MATCH($F10,Weekly!$E:$E,0)) -> -18.336364 | J10: =INDEX(Weekly!G:G,MATCH($F10,Weekly!$E:$E,0)) -> 6 | K10: =INDEX(Weekly!H:H,MATCH($F10,Weekly!$E:$E,0)) -> -4.8 | L10: =INDEX(Weekly!I:I,MATCH($F10,Weekly!$E:$E,0)) -> 1 | M10: =INDEX(Prizes!F:F,MATCH($B10,Prizes!A:A,0)) -> 0 | N10: =INDEX(Weekly!J:J,MATCH($F10,Weekly!$E:$E,0)) -> 0 | O10: =INDEX(Weekly!K:K,MATCH($F10,Weekly!$E:$E,0)) -> 0 | P10: =INDEX(Weekly!M:M,MATCH($F10,Weekly!$E:$E,0)) -> 0 | Q10: =INDEX(Picks!J:J,MATCH(F10,Picks!A:A,0)) -> 20.672 | R10: =INDEX(Picks!I:I,MATCH(F10,Picks!A:A,0)) -> -4.8 | U10: Best two up to Div C, Worst two down to Div D
B11: =CONCATENATE(E11,D11) -> A10 | C11: Play-off | D11: 10 | E11: A | F11: Lennie Bow | G11: A | I11: =INDEX(Weekly!F:F,MATCH($F11,Weekly!$E:$E,0)) -> -20.414797 | J11: =INDEX(Weekly!G:G,MATCH($F11,Weekly!$E:$E,0)) -> 8 | K11: =INDEX(Weekly!H:H,MATCH($F11,Weekly!$E:$E,0)) -> -7 | L11: =INDEX(Weekly!I:I,MATCH($F11,Weekly!$E:$E,0)) -> 0 | M11: =INDEX(Prizes!F:F,MATCH($B11,Prizes!A:A,0)) -> 0 | N11: =INDEX(Weekly!J:J,MATCH($F11,Weekly!$E:$E,0)) -> 0 | O11: =INDEX(Weekly!K:K,MATCH($F11,Weekly!$E:$E,0)) -> 0 | P11: =INDEX(Weekly!M:M,MATCH($F11,Weekly!$E:$E,0)) -> 0 | Q11: =INDEX(Picks!J:J,MATCH(F11,Picks!A:A,0)) -> 12.498077 | R11: =INDEX(Picks!I:I,MATCH(F11,Picks!A:A,0)) -> -7
B12: =CONCATENATE(E12,D12) -> A11 | C12: ↓ | D12: 11 | E12: A | F12: Barry Birchall | G12: A | I12: =INDEX(Weekly!F:F,MATCH($F12,Weekly!$E:$E,0)) -> -25.903182 | J12: =INDEX(Weekly!G:G,MATCH($F12,Weekly!$E:$E,0)) -> 6 | K12: =INDEX(Weekly!H:H,MATCH($F12,Weekly!$E:$E,0)) -> -5.6363636 | L12: =INDEX(Weekly!I:I,MATCH($F12,Weekly!$E:$E,0)) -> 1 | M12: =INDEX(Prizes!F:F,MATCH($B12,Prizes!A:A,0)) -> 0 | N12: =INDEX(Weekly!J:J,MATCH($F12,Weekly!$E:$E,0)) -> 0 | O12: =INDEX(Weekly!K:K,MATCH($F12,Weekly!$E:$E,0)) -> 0 | P12: =INDEX(Weekly!M:M,MATCH($F12,Weekly!$E:$E,0)) -> 0 | Q12: =INDEX(Picks!J:J,MATCH(F12,Picks!A:A,0)) -> 10.854545 | R12: =INDEX(Picks!I:I,MATCH(F12,Picks!A:A,0)) -> -5.6363636
B13: =CONCATENATE(E13,D13) -> A12 | C13: ↓ | D13: 12 | E13: A | F13: Simon Greenhalgh | G13: A | I13: =INDEX(Weekly!F:F,MATCH($F13,Weekly!$E:$E,0)) -> -27.5 | J13: =INDEX(Weekly!G:G,MATCH($F13,Weekly!$E:$E,0)) -> 6 | K13: =INDEX(Weekly!H:H,MATCH($F13,Weekly!$E:$E,0)) -> -1.75 | L13: =INDEX(Weekly!I:I,MATCH($F13,Weekly!$E:$E,0)) -> 2 | M13: =INDEX(Prizes!F:F,MATCH($B13,Prizes!A:A,0)) -> 0 | N13: =INDEX(Weekly!J:J,MATCH($F13,Weekly!$E:$E,0)) -> 0 | O13: =INDEX(Weekly!K:K,MATCH($F13,Weekly!$E:$E,0)) -> 0 | P13: =INDEX(Weekly!M:M,MATCH($F13,Weekly!$E:$E,0)) -> 0 | Q13: =INDEX(Picks!J:J,MATCH(F13,Picks!A:A,0)) -> 8.3461538 | R13: =INDEX(Picks!I:I,MATCH(F13,Picks!A:A,0)) -> -1.75
B14: =CONCATENATE(E14,D14) -> A13 | C14: ↓ | D14: 13 | E14: A | F14: Alan White | G14: A | I14: =INDEX(Weekly!F:F,MATCH($F14,Weekly!$E:$E,0)) -> -29.356364 | J14: =INDEX(Weekly!G:G,MATCH($F14,Weekly!$E:$E,0)) -> 4 | K14: =INDEX(Weekly!H:H,MATCH($F14,Weekly!$E:$E,0)) -> -5.6363636 | L14: =INDEX(Weekly!I:I,MATCH($F14,Weekly!$E:$E,0)) -> 1 | M14: =INDEX(Prizes!F:F,MATCH($B14,Prizes!A:A,0)) -> 0 | N14: =INDEX(Weekly!J:J,MATCH($F14,Weekly!$E:$E,0)) -> 0 | O14: =INDEX(Weekly!K:K,MATCH($F14,Weekly!$E:$E,0)) -> 0 | P14: =INDEX(Weekly!M:M,MATCH($F14,Weekly!$E:$E,0)) -> 0 | Q14: =INDEX(Picks!J:J,MATCH(F14,Picks!A:A,0)) -> 10.854545 | R14: =INDEX(Picks!I:I,MATCH(F14,Picks!A:A,0)) -> -5.6363636
B15: =CONCATENATE(E15,D15) -> A14 | C15: ↓ | D15: 14 | E15: A | F15: Gareth Powell | G15: A | I15: =INDEX(Weekly!F:F,MATCH($F15,Weekly!$E:$E,0)) -> -32.25 | J15: =INDEX(Weekly!G:G,MATCH($F15,Weekly!$E:$E,0)) -> 4 | K15: =INDEX(Weekly!H:H,MATCH($F15,Weekly!$E:$E,0)) -> -7 | L15: =INDEX(Weekly!I:I,MATCH($F15,Weekly!$E:$E,0)) -> 0 | M15: =INDEX(Prizes!F:F,MATCH($B15,Prizes!A:A,0)) -> 0 | N15: =INDEX(Weekly!J:J,MATCH($F15,Weekly!$E:$E,0)) -> 0 | O15: =INDEX(Weekly!K:K,MATCH($F15,Weekly!$E:$E,0)) -> 0 | P15: =INDEX(Weekly!M:M,MATCH($F15,Weekly!$E:$E,0)) -> 0 | Q15: =INDEX(Picks!J:J,MATCH(F15,Picks!A:A,0)) -> 65.5 | R15: =INDEX(Picks!I:I,MATCH(F15,Picks!A:A,0)) -> -7
B16: =CONCATENATE(E16,D16) -> A15 | C16: ↓ | D16: 15 | E16: A | F16: Mark Bunn | G16: A | I16: =INDEX(Weekly!F:F,MATCH($F16,Weekly!$E:$E,0)) -> -32.55 | J16: =INDEX(Weekly!G:G,MATCH($F16,Weekly!$E:$E,0)) -> 4 | K16: =INDEX(Weekly!H:H,MATCH($F16,Weekly!$E:$E,0)) -> -4.6 | L16: =INDEX(Weekly!I:I,MATCH($F16,Weekly!$E:$E,0)) -> 1 | M16: =INDEX(Prizes!F:F,MATCH($B16,Prizes!A:A,0)) -> 0 | N16: =INDEX(Weekly!J:J,MATCH($F16,Weekly!$E:$E,0)) -> 0 | O16: =INDEX(Weekly!K:K,MATCH($F16,Weekly!$E:$E,0)) -> 0 | P16: =INDEX(Weekly!M:M,MATCH($F16,Weekly!$E:$E,0)) -> 0 | Q16: =INDEX(Picks!J:J,MATCH(F16,Picks!A:A,0)) -> 34.517 | R16: =INDEX(Picks!I:I,MATCH(F16,Picks!A:A,0)) -> -4.6
B17: =CONCATENATE(E17,D17) -> A16 | C17: ↓ | D17: 16 | E17: A | F17: Paul Allen | G17: A | I17: =INDEX(Weekly!F:F,MATCH($F17,Weekly!$E:$E,0)) -> -38.678571 | J17: =INDEX(Weekly!G:G,MATCH($F17,Weekly!$E:$E,0)) -> 2 | K17: =INDEX(Weekly!H:H,MATCH($F17,Weekly!$E:$E,0)) -> -7 | L17: =INDEX(Weekly!I:I,MATCH($F17,Weekly!$E:$E,0)) -> 0 | M17: =INDEX(Prizes!F:F,MATCH($B17,Prizes!A:A,0)) -> 0 | N17: =INDEX(Weekly!J:J,MATCH($F17,Weekly!$E:$E,0)) -> 0 | O17: =INDEX(Weekly!K:K,MATCH($F17,Weekly!$E:$E,0)) -> 0 | P17: =INDEX(Weekly!M:M,MATCH($F17,Weekly!$E:$E,0)) -> 0 | Q17: =INDEX(Picks!J:J,MATCH(F17,Picks!A:A,0)) -> 69.572 | R17: =INDEX(Picks!I:I,MATCH(F17,Picks!A:A,0)) -> -7
A18: Division B | B18: =CONCATENATE(E18,D18) -> B1 | C18: ↑ | D18: 1 | E18: B | F18: Paul Fairhurst | G18: B | I18: =INDEX(Weekly!F:F,MATCH($F18,Weekly!$E:$E,0)) -> 36.95 | J18: =INDEX(Weekly!G:G,MATCH($F18,Weekly!$E:$E,0)) -> 11 | K18: =INDEX(Weekly!H:H,MATCH($F18,Weekly!$E:$E,0)) -> 16.99 | L18: =INDEX(Weekly!I:I,MATCH($F18,Weekly!$E:$E,0)) -> 3 | M18: =INDEX(Prizes!F:F,MATCH($B18,Prizes!A:A,0)) -> 55.125 | N18: =INDEX(Weekly!J:J,MATCH($F18,Weekly!$E:$E,0)) -> 25 | O18: =INDEX(Weekly!K:K,MATCH($F18,Weekly!$E:$E,0)) -> 0 | P18: =INDEX(Weekly!M:M,MATCH($F18,Weekly!$E:$E,0)) -> 80.125 | Q18: =INDEX(Picks!J:J,MATCH(F18,Picks!A:A,0)) -> 16.99 | R18: =INDEX(Picks!I:I,MATCH(F18,Picks!A:A,0)) -> 16.99
B19: =CONCATENATE(E19,D19) -> B2 | C19: ↑ | D19: 2 | E19: B | F19: Phil Miller | G19: B | I19: =INDEX(Weekly!F:F,MATCH($F19,Weekly!$E:$E,0)) -> 22.785086 | J19: =INDEX(Weekly!G:G,MATCH($F19,Weekly!$E:$E,0)) -> 10 | K19: =INDEX(Weekly!H:H,MATCH($F19,Weekly!$E:$E,0)) -> -1.4 | L19: =INDEX(Weekly!I:I,MATCH($F19,Weekly!$E:$E,0)) -> 2 | M19: =INDEX(Prizes!F:F,MATCH($B19,Prizes!A:A,0)) -> 39.375 | N19: =INDEX(Weekly!J:J,MATCH($F19,Weekly!$E:$E,0)) -> 15 | O19: =INDEX(Weekly!K:K,MATCH($F19,Weekly!$E:$E,0)) -> 0 | P19: =INDEX(Weekly!M:M,MATCH($F19,Weekly!$E:$E,0)) -> 54.375 | Q19: =INDEX(Picks!J:J,MATCH(F19,Picks!A:A,0)) -> 7.0857143 | R19: =INDEX(Picks!I:I,MATCH(F19,Picks!A:A,0)) -> -1.4
B20: =CONCATENATE(E20,D20) -> B3 | C20: ↑ | D20: 3 | E20: B | F20: Frank Allen | G20: B | I20: =INDEX(Weekly!F:F,MATCH($F20,Weekly!$E:$E,0)) -> 6.2209091 | J20: =INDEX(Weekly!G:G,MATCH($F20,Weekly!$E:$E,0)) -> 10 | K20: =INDEX(Weekly!H:H,MATCH($F20,Weekly!$E:$E,0)) -> 0.59090909 | L20: =INDEX(Weekly!I:I,MATCH($F20,Weekly!$E:$E,0)) -> 2 | M20: =INDEX(Prizes!F:F,MATCH($B20,Prizes!A:A,0)) -> 28.35 | N20: =INDEX(Weekly!J:J,MATCH($F20,Weekly!$E:$E,0)) -> 5 | O20: =INDEX(Weekly!K:K,MATCH($F20,Weekly!$E:$E,0)) -> 0 | P20: =INDEX(Weekly!M:M,MATCH($F20,Weekly!$E:$E,0)) -> 33.35 | Q20: =INDEX(Picks!J:J,MATCH(F20,Picks!A:A,0)) -> 29.8 | R20: =INDEX(Picks!I:I,MATCH(F20,Picks!A:A,0)) -> 0.59090909
B21: =CONCATENATE(E21,D21) -> B4 | C21: ↑ | D21: 4 | E21: B | F21: Gerard Ventom | G21: B | I21: =INDEX(Weekly!F:F,MATCH($F21,Weekly!$E:$E,0)) -> 0.775 | J21: =INDEX(Weekly!G:G,MATCH($F21,Weekly!$E:$E,0)) -> 6 | K21: =INDEX(Weekly!H:H,MATCH($F21,Weekly!$E:$E,0)) -> 9.6 | L21: =INDEX(Weekly!I:I,MATCH($F21,Weekly!$E:$E,0)) -> 2 | M21: =INDEX(Prizes!F:F,MATCH($B21,Prizes!A:A,0)) -> 18.9 | N21: =INDEX(Weekly!J:J,MATCH($F21,Weekly!$E:$E,0)) -> 12.5 | O21: =INDEX(Weekly!K:K,MATCH($F21,Weekly!$E:$E,0)) -> 0 | P21: =INDEX(Weekly!M:M,MATCH($F21,Weekly!$E:$E,0)) -> 31.4 | Q21: =INDEX(Picks!J:J,MATCH(F21,Picks!A:A,0)) -> 53.6 | R21: =INDEX(Picks!I:I,MATCH(F21,Picks!A:A,0)) -> 9.6
B22: =CONCATENATE(E22,D22) -> B5 | C22: ↑ | D22: 5 | E22: B | F22: Mark Saunders | G22: B | I22: =INDEX(Weekly!F:F,MATCH($F22,Weekly!$E:$E,0)) -> -9.7723214 | J22: =INDEX(Weekly!G:G,MATCH($F22,Weekly!$E:$E,0)) -> 7 | K22: =INDEX(Weekly!H:H,MATCH($F22,Weekly!$E:$E,0)) -> 14.65625 | L22: =INDEX(Weekly!I:I,MATCH($F22,Weekly!$E:$E,0)) -> 3 | M22: =INDEX(Prizes!F:F,MATCH($B22,Prizes!A:A,0)) -> 11.025 | N22: =INDEX(Weekly!J:J,MATCH($F22,Weekly!$E:$E,0)) -> 5 | O22: =INDEX(Weekly!K:K,MATCH($F22,Weekly!$E:$E,0)) -> 0 | P22: =INDEX(Weekly!M:M,MATCH($F22,Weekly!$E:$E,0)) -> 16.025 | Q22: =INDEX(Picks!J:J,MATCH(F22,Picks!A:A,0)) -> 14.65625 | R22: =INDEX(Picks!I:I,MATCH(F22,Picks!A:A,0)) -> 14.65625
B23: =CONCATENATE(E23,D23) -> B6 | C23: ↑ | D23: 6 | E23: B | F23: Vinny Topping | G23: B | I23: =INDEX(Weekly!F:F,MATCH($F23,Weekly!$E:$E,0)) -> -11.387727 | J23: =INDEX(Weekly!G:G,MATCH($F23,Weekly!$E:$E,0)) -> 7 | K23: =INDEX(Weekly!H:H,MATCH($F23,Weekly!$E:$E,0)) -> -5.2727273 | L23: =INDEX(Weekly!I:I,MATCH($F23,Weekly!$E:$E,0)) -> 1 | M23: =INDEX(Prizes!F:F,MATCH($B23,Prizes!A:A,0)) -> 4.725 | N23: =INDEX(Weekly!J:J,MATCH($F23,Weekly!$E:$E,0)) -> 5 | O23: =INDEX(Weekly!K:K,MATCH($F23,Weekly!$E:$E,0)) -> 0 | P23: =INDEX(Weekly!M:M,MATCH($F23,Weekly!$E:$E,0)) -> 9.725 | Q23: =INDEX(Picks!J:J,MATCH(F23,Picks!A:A,0)) -> 15.706818 | R23: =INDEX(Picks!I:I,MATCH(F23,Picks!A:A,0)) -> -5.2727273
